Workbook

Sheet Modulo1_Remuneração
B2: MÓDULO 1 - REMUNERAÇÃO
B4: Grupo | C4: Descrição | D4: Unidade de Medida | E4: Quantidade | F4: Piso Salarial | G4: Insalubridade | H4: Periculosidade | I4: Total da Remuneração | J4: Custo Total Mês
B5: I | C5: Auxiliar de pedreiro | D5: Posto de Serviço | E5: 3 | I5: =F5+(F5*G5)+(F5*H5) -> 0 | J5: =I5*E5 -> 0 | K5: RN000083/2024
B6: I | C6: Auxiliar manutenção geral | D6: Posto de Serviço | E6: 40 | I6: =F6+(F6*G6)+(F6*H6) -> 0 | J6: =I6*E6 -> 0 | K6: RN000083/2024
B7: I | C7: Auxiliar serviços gerais | D7: Posto de Serviço | E7: 2 | I7: =F7+(F7*G7)+(F7*H7) -> 0 | J7: =I7*E7 -> 0 | K7: RN000083/2024
B8: I | C8: Leiturista | D8: Posto de Serviço | E8: 30 | I8: =F8+(F8*G8)+(F8*H8) -> 0 | J8: =I8*E8 -> 0 | K8: RN000083/2024
B9: II | C9: Auxiliar eletricista | D9: Posto de Serviço | E9: 2 | I9: =F9+(F9*G9)+(F9*H9) -> 0 | J9: =I9*E9 -> 0 | K9: RN000083/2024
B10: III | C10: Copeiro | D10: Posto de Serviço | E10: 1 | I10: =F10+(F10*G10)+(F10*H10) -> 0 | J10: =I10*E10 -> 0 | K10: RN000083/2024
B11: III | C11: Mecânico em manutenção | D11: Posto de Serviço | E11: 1 | I11: =F11+(F11*G11)+(F11*H11) -> 0 | J11: =I11*E11 -> 0 | K11: RN000083/2024
B12: III | C12: Porteiro desarmado | D12: Posto de Serviço | E12: 1 | I12: =F12+(F12*G12)+(F12*H12) -> 0 | J12: =I12*E12 -> 0 | K12: RN000083/2024
B13: IV | C13: Assistente Técnico de Secretariado | D13: Posto de Serviço | E13: 1 | I13: =F13+(F13*G13)+(F13*H13) -> 0 | J13: =I13*E13 -> 0 | K13: RN000083/2024
B14: IV | C14: Auxiliar manutenção predial | D14: Posto de Serviço | E14: 2 | I14: =F14+(F14*G14)+(F14*H14) -> 0 | J14: =I14*E14 -> 0 | K14: RN000083/2024
B15: IV | C15: Eletricista | D15: Posto de Serviço | E15: 2 | I15: =F15+(F15*G15)+(F15*H15) -> 0 | J15: =I15*E15 -> 0 | K15: RN000083/2024
B16: IV | C16: Pedreiro | D16: Posto de Serviço | E16: 3 | I16: =F16+(F16*G16)+(F16*H16) -> 0 | J16: =I16*E16 -> 0 | K16: RN000083/2024
... B18: IV | C18: Técnico de saneamento | D18: Posto de Serviço | E18: 1 | I18: =F18+(F18*G18)+(F18*H18) -> 0 | J18: =I18*E18 -> 0 | K18: RN000083/2024
C19: Técnico de informatica | D19: Posto de Serviço | E19: 1 | I19: =F19+(F19*G19)+(F19*H19) -> 0 | J19: =I19*E19 -> 0 | K19: RN000175/2024
C20: Total | E20: =SUM(E5:E19) -> 91 | I20: =SUM(I5:I19) -> 0 | J20: =SUM(J5:J19) -> 0
B21: Fonte Piso Salarial: NÚMERO DE REGISTRO NO MTE: RN000083/2024. RN000175/2024.
B22: Modelo de planilha - Ministério da Economia - SEGES - Caderno Técnico - Limpeza - Rio Grande do Norte - 2019

Sheet Modulo2.1_Encargos
B2: Submódulo 2.1 – 13º Salário, Férias e Adicional de Férias
B4: 13º SALÁRIO
B5: Grupo | C5: Descrição | D5: Unidade de Medida | E5: Quantidade | F5: Base de Cálculo | G5: Provisionamento Mensal | H5: Valor | I5: Custo Total
B6: I | C6: Auxiliar de pedreiro | D6: Posto de Serviço | E6: 3 | F6: =Modulo1_Remuneração!I5 -> 0 | G6: 0.0833 | H6: =F6*G6 -> 0 | I6: =H6*E6 -> 0
B7: I | C7: Auxiliar manutenção geral | D7: Posto de Serviço | E7: 40 | F7: =Modulo1_Remuneração!I6 -> 0 | G7: 0.0833 | H7: =F7*G7 -> 0 | I7: =H7*E7 -> 0
B8: I | C8: Auxiliar serviços gerais | D8: Posto de Serviço | E8: 2 | F8: =Modulo1_Remuneração!I7 -> 0 | G8: 0.0833 | H8: =F8*G8 -> 0 | I8: =H8*E8 -> 0
B9: I | C9: Leiturista | D9: Posto de Serviço | E9: 30 | F9: =Modulo1_Remuneração!I8 -> 0 | G9: 0.0833 | H9: =F9*G9 -> 0 | I9: =H9*E9 -> 0
B10: II | C10: Auxiliar eletricista | D10: Posto de Serviço | E10: 2 | F10: =Modulo1_Remuneração!I9 -> 0 | G10: 0.0833 | H10: =F10*G10 -> 0 | I10: =H10*E10 -> 0
B11: III | C11: Copeiro | D11: Posto de Serviço | E11: 1 | F11: =Modulo1_Remuneração!I10 -> 0 | G11: 0.0833 | H11: =F11*G11 -> 0 | I11: =H11*E11 -> 0
B12: III | C12: Mecânico em manutenção | D12: Posto de Serviço | E12: 1 | F12: =Modulo1_Remuneração!I11 -> 0 | G12: 0.0833 | H12: =F12*G12 -> 0 | I12: =H12*E12 -> 0
B13: III | C13: Porteiro desarmado | D13: Posto de Serviço | E13: 1 | F13: =Modulo1_Remuneração!I12 -> 0 | G13: 0.0833 | H13: =F13*G13 -> 0 | I13: =H13*E13 -> 0
B14: IV | C14: Assistente Técnico de Secretariado | D14: Posto de Serviço | E14: 1 | F14: =Modulo1_Remuneração!I13 -> 0 | G14: 0.0833 | H14: =F14*G14 -> 0 | I14: =H14*E14 -> 0
B15: IV | C15: Auxiliar manutenção predial | D15: Posto de Serviço | E15: 2 | F15: =Modulo1_Remuneração!I14 -> 0 | G15: 0.0833 | H15: =F15*G15 -> 0 | I15: =H15*E15 -> 0
B16: IV | C16: Eletricista | D16: Posto de Serviço | E16: 2 | F16: =Modulo1_Remuneração!I15 -> 0 | G16: 0.0833 | H16: =F16*G16 -> 0 | I16: =H16*E16 -> 0
B17: IV | C17: Pedreiro | D17: Posto de Serviço | E17: 3 | F17: =Modulo1_Remuneração!I16 -> 0 | G17: 0.0833 | H17: =F17*G17 -> 0 | I17: =H17*E17 -> 0
... B19: IV | C19: Técnico de saneamento | D19: Posto de Serviço | E19: 1 | F19: =Modulo1_Remuneração!I18 -> 0 | G19: 0.0833 | H19: =F19*G19 -> 0 | I19: =H19*E19 -> 0
C20: Técnico de informatica | D20: Posto de Serviço | E20: 1 | F20: =Modulo1_Remuneração!I19 -> 0 | G20: 0.0833 | H20: =F20*G20 -> 0 | I20: =H20*E20 -> 0
C21: Total | E21: =SUM(E6:E20) -> 91 | I21: =SUM(I6:I20) -> 0
B23: FÉRIAS
B24: Grupo | C24: Descrição | D24: Unidade de Medida | E24: Quantidade | F24: Base de Cálculo | G24: Provisionamento Mensal | H24: Valor | I24: Custo Total
B25: I | C25: Auxiliar de pedreiro | D25: Posto de Serviço | E25: 3 | F25: =Modulo1_Remuneração!I5 -> 0 | G25: 0.0833 | H25: =F25*G25 -> 0 | I25: =H25*E25 -> 0
B26: I | C26: Auxiliar manutenção geral | D26: Posto de Serviço | E26: 40 | F26: =Modulo1_Remuneração!I6 -> 0 | G26: 0.0833 | H26: =F26*G26 -> 0 | I26: =H26*E26 -> 0
B27: I | C27: Auxiliar serviços gerais | D27: Posto de Serviço | E27: 2 | F27: =Modulo1_Remuneração!I7 -> 0 | G27: 0.0833 | H27: =F27*G27 -> 0 | I27: =H27*E27 -> 0
B28: I | C28: Leiturista | D28: Posto de Serviço | E28: 30 | F28: =Modulo1_Remuneração!I8 -> 0 | G28: 0.0833 | H28: =F28*G28 -> 0 | I28: =H28*E28 -> 0
B29: II | C29: Auxiliar eletricista | D29: Posto de Serviço | E29: 2 | F29: =Modulo1_Remuneração!I9 -> 0 | G29: 0.0833 | H29: =F29*G29 -> 0 | I29: =H29*E29 -> 0
B30: III | C30: Copeiro | D30: Posto de Serviço | E30: 1 | F30: =Modulo1_Remuneração!I10 -> 0 | G30: 0.0833 | H30: =F30*G30 -> 0 | I30: =H30*E30 -> 0
B31: III | C31: Mecânico em manutenção | D31: Posto de Serviço | E31: 1 | F31: =Modulo1_Remuneração!I11 -> 0 | G31: 0.0833 | H31: =F31*G31 -> 0 | I31: =H31*E31 -> 0
B32: III | C32: Porteiro desarmado | D32: Posto de Serviço | E32: 1 | F32: =Modulo1_Remuneração!I12 -> 0 | G32: 0.0833 | H32: =F32*G32 -> 0 | I32: =H32*E32 -> 0
B33: IV | C33: Assistente Técnico de Secretariado | D33: Posto de Serviço | E33: 1 | F33: =Modulo1_Remuneração!I13 -> 0 | G33: 0.0833 | H33: =F33*G33 -> 0 | I33: =H33*E33 -> 0
B34: IV | C34: Auxiliar manutenção predial | D34: Posto de Serviço | E34: 2 | F34: =Modulo1_Remuneração!I14 -> 0 | G34: 0.0833 | H34: =F34*G34 -> 0 | I34: =H34*E34 -> 0
B35: IV | C35: Eletricista | D35: Posto de Serviço | E35: 2 | F35: =Modulo1_Remuneração!I15 -> 0 | G35: 0.0833 | H35: =F35*G35 -> 0 | I35: =H35*E35 -> 0
B36: IV | C36: Pedreiro | D36: Posto de Serviço | E36: 3 | F36: =Modulo1_Remuneração!I16 -> 0 | G36: 0.0833 | H36: =F36*G36 -> 0 | I36: =H36*E36 -> 0
... B38: IV | C38: Técnico de saneamento | D38: Posto de Serviço | E38: 1 | F38: =Modulo1_Remuneração!I18 -> 0 | G38: 0.0833 | H38: =F38*G38 -> 0 | I38: =H38*E38 -> 0
C39: Técnico de informatica | D39: Posto de Serviço | E39: 1 | F39: =Modulo1_Remuneração!I19 -> 0 | G39: 0.0833 | H39: =F39*G39 -> 0 | I39: =H39*E39 -> 0
C40: Total | E40: =SUM(E25:E39) -> 91 | I40: =SUM(I25:I39) -> 0
B42: ADICIONAL DE FÉRIAS
B43: Grupo | C43: Descrição | D43: Unidade de Medida | E43: Quantidade | F43: Base de Cálculo | G43: Alíquota do Adicional | H43: Provisionamento Mensal | I43: Valor | J43: Custo Total
B44: I | C44: Auxiliar de pedreiro | D44: Posto de Serviço | E44: 3 | F44: =Modulo1_Remuneração!I5 -> 0 | G44: 0.3333 | H44: 0.0833 | I44: =F44*G44*H44 -> 0 | J44: =I44*E44 -> 0
B45: I | C45: Auxiliar manutenção geral | D45: Posto de Serviço | E45: 40 | F45: =Modulo1_Remuneração!I6 -> 0 | G45: 0.3333 | H45: 0.0833 | I45: =F45*G45*H45 -> 0 | J45: =I45*E45 -> 0
B46: I | C46: Auxiliar serviços gerais | D46: Posto de Serviço | E46: 2 | F46: =Modulo1_Remuneração!I7 -> 0 | G46: 0.3333 | H46: 0.0833 | I46: =F46*G46*H46 -> 0 | J46: =I46*E46 -> 0
...

Sheet Modulo2.2_Encargos
B2: Submódulo 2.2 – Guia da Previdência Social – GPS e Fundo de Garantia por Tempo de Serviço – FGTS
B4: GPS
B5: Grupo | C5: Descrição | D5: Unidade de Medida | E5: Quantidade | F5: Base de Cálculo | G5: Provisionamento Mensal | H5: Valor | I5: Custo Total | L5: Encargos | M5: Percentual
B6: I | C6: Auxiliar de pedreiro | D6: Posto de Serviço | E6: 3 | F6: =Modulo1_Remuneração!I5+Modulo2.1_Encargos!I63 -> 0 | G6: =$M$13 -> 0.288 | H6: =F6*G6 -> 0 | I6: =H6*E6 -> 0 | L6: INSS - empregador | M6: 0.2
B7: I | C7: Auxiliar manutenção geral | D7: Posto de Serviço | E7: 40 | F7: =Modulo1_Remuneração!I6+Modulo2.1_Encargos!I64 -> 0 | G7: =$M$13 -> 0.288 | H7: =F7*G7 -> 0 | I7: =H7*E7 -> 0 | L7: Salário-Educação | M7: 0.025
B8: I | C8: Auxiliar serviços gerais | D8: Posto de Serviço | E8: 2 | F8: =Modulo1_Remuneração!I7+Modulo2.1_Encargos!I65 -> 0 | G8: =$M$13 -> 0.288 | H8: =F8*G8 -> 0 | I8: =H8*E8 -> 0 | L8: SAT- GIL/RAT | M8: 0.03
B9: I | C9: Leiturista | D9: Posto de Serviço | E9: 30 | F9: =Modulo1_Remuneração!I8+Modulo2.1_Encargos!I66 -> 0 | G9: =$M$13 -> 0.288 | H9: =F9*G9 -> 0 | I9: =H9*E9 -> 0 | L9: SESC | M9: 0.015
B10: II | C10: Auxiliar eletricista | D10: Posto de Serviço | E10: 2 | F10: =Modulo1_Remuneração!I9+Modulo2.1_Encargos!I67 -> 0 | G10: =$M$13 -> 0.288 | H10: =F10*G10 -> 0 | I10: =H10*E10 -> 0 | L10: SENAC | M10: 0.01
B11: III | C11: Copeiro | D11: Posto de Serviço | E11: 1 | F11: =Modulo1_Remuneração!I10+Modulo2.1_Encargos!I68 -> 0 | G11: =$M$13 -> 0.288 | H11: =F11*G11 -> 0 | I11: =H11*E11 -> 0 | L11: SEBRAE | M11: 0.006
B12: III | C12: Mecânico em manutenção | D12: Posto de Serviço | E12: 1 | F12: =Modulo1_Remuneração!I11+Modulo2.1_Encargos!I69 -> 0 | G12: =$M$13 -> 0.288 | H12: =F12*G12 -> 0 | I12: =H12*E12 -> 0 | L12: INCRA | M12: 0.002
B13: III | C13: Porteiro desarmado | D13: Posto de Serviço | E13: 1 | F13: =Modulo1_Remuneração!I12+Modulo2.1_Encargos!I70 -> 0 | G13: =$M$13 -> 0.288 | H13: =F13*G13 -> 0 | I13: =H13*E13 -> 0 | L13: Total | M13: =SUM(M6:M12) -> 0.288
B14: IV | C14: Assistente Técnico de Secretariado | D14: Posto de Serviço | E14: 1 | F14: =Modulo1_Remuneração!I13+Modulo2.1_Encargos!I71 -> 0 | G14: =$M$13 -> 0.288 | H14: =F14*G14 -> 0 | I14: =H14*E14 -> 0
B15: IV | C15: Auxiliar manutenção predial | D15: Posto de Serviço | E15: 2 | F15: =Modulo1_Remuneração!I14+Modulo2.1_Encargos!I72 -> 0 | G15: =$M$13 -> 0.288 | H15: =F15*G15 -> 0 | I15: =H15*E15 -> 0
B16: IV | C16: Eletricista | D16: Posto de Serviço | E16: 2 | F16: =Modulo1_Remuneração!I15+Modulo2.1_Encargos!I73 -> 0 | G16: =$M$13 -> 0.288 | H16: =F16*G16 -> 0 | I16: =H16*E16 -> 0
B17: IV | C17: Pedreiro | D17: Posto de Serviço | E17: 3 | F17: =Modulo1_Remuneração!I16+Modulo2.1_Encargos!I74 -> 0 | G17: =$M$13 -> 0.288 | H17: =F17*G17 -> 0 | I17: =H17*E17 -> 0
B18: IV | C18: Supervisor | D18: Posto de Serviço | E18: 1 | F18: =Modulo1_Remuneração!I17+Modulo2.1_Encargos!I75 -> 0 | G18: =$M$13 -> 0.288 | H18: =F18*G18 -> 0 | I18: =H18*E18 -> 0
B19: IV | C19: Técnico de saneamento | D19: Posto de Serviço | E19: 1 | F19: =Modulo1_Remuneração!I18+Modulo2.1_Encargos!I76 -> 0 | G19: =$M$13 -> 0.288 | H19: =F19*G19 -> 0 | I19: =H19*E19 -> 0
C20: Técnico de informatica | D20: Posto de Serviço | E20: 1 | F20: =Modulo1_Remuneração!I19+Modulo2.1_Encargos!I77 -> 0 | G20: =$M$13 -> 0.288 | H20: =F20*G20 -> 0 | I20: =H20*E20 -> 0
C21: Total | E21: =SUM(E6:E20) -> 91 | H21: =SUM(H6:H20) -> 0 | I21: =SUM(I6:I20) -> 0
B23: FGTS
B24: Grupo | C24: Descrição | D24: Unidade de Medida | E24: Quantidade | F24: Base de Cálculo | G24: Provisionamento Mensal | H24: Valor | I24: Custo Total
B25: I | C25: Auxiliar de pedreiro | D25: Posto de Serviço | E25: 3 | F25: =Modulo1_Remuneração!I5+Modulo2.1_Encargos!I63 -> 0 | G25: 0.08 | H25: =F25*G25 -> 0 | I25: =H25*E25 -> 0
B26: I | C26: Auxiliar manutenção geral | D26: Posto de Serviço | E26: 40 | F26: =Modulo1_Remuneração!I6+Modulo2.1_Encargos!I64 -> 0 | G26: 0.08 | H26: =F26*G26 -> 0 | I26: =H26*E26 -> 0
B27: I | C27: Auxiliar serviços gerais | D27: Posto de Serviço | E27: 2 | F27: =Modulo1_Remuneração!I7+Modulo2.1_Encargos!I65 -> 0 | G27: 0.08 | H27: =F27*G27 -> 0 | I27: =H27*E27 -> 0
B28: I | C28: Leiturista | D28: Posto de Serviço | E28: 30 | F28: =Modulo1_Remuneração!I8+Modulo2.1_Encargos!I66 -> 0 | G28: 0.08 | H28: =F28*G28 -> 0 | I28: =H28*E28 -> 0
B29: II | C29: Auxiliar eletricista | D29: Posto de Serviço | E29: 2 | F29: =Modulo1_Remuneração!I9+Modulo2.1_Encargos!I67 -> 0 | G29: 0.08 | H29: =F29*G29 -> 0 | I29: =H29*E29 -> 0
B30: III | C30: Copeiro | D30: Posto de Serviço | E30: 1 | F30: =Modulo1_Remuneração!I10+Modulo2.1_Encargos!I68 -> 0 | G30: 0.08 | H30: =F30*G30 -> 0 | I30: =H30*E30 -> 0
B31: III | C31: Mecânico em manutenção | D31: Posto de Serviço | E31: 1 | F31: =Modulo1_Remuneração!I11+Modulo2.1_Encargos!I69 -> 0 | G31: 0.08 | H31: =F31*G31 -> 0 | I31: =H31*E31 -> 0
B32: III | C32: Porteiro desarmado | D32: Posto de Serviço | E32: 1 | F32: =Modulo1_Remuneração!I12+Modulo2.1_Encargos!I70 -> 0 | G32: 0.08 | H32: =F32*G32 -> 0 | I32: =H32*E32 -> 0
B33: IV | C33: Assistente Técnico de Secretariado | D33: Posto de Serviço | E33: 1 | F33: =Modulo1_Remuneração!I13+Modulo2.1_Encargos!I71 -> 0 | G33: 0.08 | H33: =F33*G33 -> 0 | I33: =H33*E33 -> 0
B34: IV | C34: Auxiliar manutenção predial | D34: Posto de Serviço | E34: 2 | F34: =Modulo1_Remuneração!I14+Modulo2.1_Encargos!I72 -> 0 | G34: 0.08 | H34: =F34*G34 -> 0 | I34: =H34*E34 -> 0
B35: IV | C35: Eletricista | D35: Posto de Serviço | E35: 2 | F35: =Modulo1_Remuneração!I15+Modulo2.1_Encargos!I73 -> 0 | G35: 0.08 | H35: =F35*G35 -> 0 | I35: =H35*E35 -> 0
B36: IV | C36: Pedreiro | D36: Posto de Serviço | E36: 3 | F36: =Modulo1_Remuneração!I16+Modulo2.1_Encargos!I74 -> 0 | G36: 0.08 | H36: =F36*G36 -> 0 | I36: =H36*E36 -> 0
... B38: IV | C38: Técnico de saneamento | D38: Posto de Serviço | E38: 1 | F38: =Modulo1_Remuneração!I18+Modulo2.1_Encargos!I76 -> 0 | G38: 0.08 | H38: =F38*G38 -> 0 | I38: =H38*E38 -> 0
C39: Técnico de informatica | D39: Posto de Serviço | E39: 1 | F39: =Modulo1_Remuneração!I19+Modulo2.1_Encargos!I77 -> 0 | G39: 0.08 | H39: =F39*G39 -> 0 | I39: =H39*E39 -> 0
C40: Total | E40: =SUM(E25:E39) -> 91 | H40: =SUM(H25:H39) -> 0 | I40: =SUM(I25:I39) -> 0
B42: RESUMO DO MÓDULO 2.2
B43: Grupo | C43: Descrição | D43: Unidade de Medida | E43: Quantidade | F43: GPS | G43: FGTS | H43: Total Previdência e FGTS | I43: Custo Total
B44: I | C44: Auxiliar de pedreiro | D44: Posto de Serviço | E44: 3 | F44: =H6 -> 0 | G44: =H25 -> 0 | H44: =F44+G44 -> 0 | I44: =H44*E44 -> 0
B45: I | C45: Auxiliar manutenção geral | D45: Posto de Serviço | E45: 40 | F45: =H7 -> 0 | G45: =H26 -> 0 | H45: =F45+G45 -> 0 | I45: =H45*E45 -> 0
...

Sheet Modulo2.3_Encargos
B2: Submódulo 2.3 – Benefícios mensais e diários
B4: VALE TRANSPORTE
B6: Custo da Passagem
B7: Grupo | C7: Descrição | D7: Unidade de Medida | E7: Quantidade | F7: Valor Unitário* | G7: Vales por Mês | H7: Valor | I7: Custo Total
B8: I | C8: Auxiliar de pedreiro | D8: Posto de Serviço | E8: 3 | G8: 52 | H8: =F8*G8 -> 0 | I8: =H8*E8 -> 0
B9: I | C9: Auxiliar manutenção geral | D9: Posto de Serviço | E9: 40 | G9: 52 | H9: =F9*G9 -> 0 | I9: =H9*E9 -> 0
B10: I | C10: Auxiliar serviços gerais | D10: Posto de Serviço | E10: 2 | G10: 52 | H10: =F10*G10 -> 0 | I10: =H10*E10 -> 0
B11: I | C11: Leiturista | D11: Posto de Serviço | E11: 30 | G11: 52 | H11: =F11*G11 -> 0 | I11: =H11*E11 -> 0
B12: II | C12: Auxiliar eletricista | D12: Posto de Serviço | E12: 2 | G12: 52 | H12: =F12*G12 -> 0 | I12: =H12*E12 -> 0
B13: III | C13: Copeiro | D13: Posto de Serviço | E13: 1 | G13: 52 | H13: =F13*G13 -> 0 | I13: =H13*E13 -> 0
B14: III | C14: Mecânico em manutenção | D14: Posto de Serviço | E14: 1 | G14: 52 | H14: =F14*G14 -> 0 | I14: =H14*E14 -> 0
B15: III | C15: Porteiro desarmado | D15: Posto de Serviço | E15: 1 | G15: 52 | H15: =F15*G15 -> 0 | I15: =H15*E15 -> 0
B16: IV | C16: Assistente Técnico de Secretariado | D16: Posto de Serviço | E16: 1 | G16: 52 | H16: =F16*G16 -> 0 | I16: =H16*E16 -> 0
B17: IV | C17: Auxiliar manutenção predial | D17: Posto de Serviço | E17: 2 | G17: 52 | H17: =F17*G17 -> 0 | I17: =H17*E17 -> 0
B18: IV | C18: Eletricista | D18: Posto de Serviço | E18: 2 | G18: 52 | H18: =F18*G18 -> 0 | I18: =H18*E18 -> 0
B19: IV | C19: Pedreiro | D19: Posto de Serviço | E19: 3 | G19: 52 | H19: =F19*G19 -> 0 | I19: =H19*E19 -> 0
... B21: IV | C21: Técnico de saneamento | D21: Posto de Serviço | E21: 1 | G21: 52 | H21: =F21*G21 -> 0 | I21: =H21*E21 -> 0
C22: Técnico de informatica | D22: Posto de Serviço | E22: 1 | G22: 52 | H22: =F22*G22 -> 0 | I22: =H22*E22 -> 0
C23: Total | E23: =SUM(E8:E22) -> 91 | H23: =SUM(H8:H22) -> 0 | I23: =SUM(I8:I22) -> 0
B24: *Valor do vale transporte - Portaria nº 7/2024-DER, publicada no DOE nº 15605 em 10/02/2024
B25: Desconto de Vale Transporte
B26: Grupo | C26: Descrição | D26: Unidade de Medida | E26: Quantidade | F26: Piso Salarial | G26: Percentual | H26: Desconto | I26: Custo Total
B27: I | C27: Auxiliar de pedreiro | D27: Posto de Serviço | E27: 3 | F27: =Modulo1_Remuneração!F5 -> 0 | G27: 0.06 | H27: =F27*G27 -> 0 | I27: =H27*E27 -> 0
B28: I | C28: Auxiliar manutenção geral | D28: Posto de Serviço | E28: 40 | F28: =Modulo1_Remuneração!F6 -> 0 | G28: 0.06 | H28: =F28*G28 -> 0 | I28: =H28*E28 -> 0
B29: I | C29: Auxiliar serviços gerais | D29: Posto de Serviço | E29: 2 | F29: =Modulo1_Remuneração!F7 -> 0 | G29: 0.06 | H29: =F29*G29 -> 0 | I29: =H29*E29 -> 0
B30: I | C30: Leiturista | D30: Posto de Serviço | E30: 30 | F30: =Modulo1_Remuneração!F8 -> 0 | G30: 0.06 | H30: =F30*G30 -> 0 | I30: =H30*E30 -> 0
B31: II | C31: Auxiliar eletricista | D31: Posto de Serviço | E31: 2 | F31: =Modulo1_Remuneração!F9 -> 0 | G31: 0.06 | H31: =F31*G31 -> 0 | I31: =H31*E31 -> 0
B32: III | C32: Copeiro | D32: Posto de Serviço | E32: 1 | F32: =Modulo1_Remuneração!F10 -> 0 | G32: 0.06 | H32: =F32*G32 -> 0 | I32: =H32*E32 -> 0
B33: III | C33: Mecânico em manutenção | D33: Posto de Serviço | E33: 1 | F33: =Modulo1_Remuneração!F11 -> 0 | G33: 0.06 | H33: =F33*G33 -> 0 | I33: =H33*E33 -> 0
B34: III | C34: Porteiro desarmado | D34: Posto de Serviço | E34: 1 | F34: =Modulo1_Remuneração!F12 -> 0 | G34: 0.06 | H34: =F34*G34 -> 0 | I34: =H34*E34 -> 0
B35: IV | C35: Assistente Técnico de Secretariado | D35: Posto de Serviço | E35: 1 | F35: =Modulo1_Remuneração!F13 -> 0 | G35: 0.06 | H35: =F35*G35 -> 0 | I35: =H35*E35 -> 0
B36: IV | C36: Auxiliar manutenção predial | D36: Posto de Serviço | E36: 2 | F36: =Modulo1_Remuneração!F14 -> 0 | G36: 0.06 | H36: =F36*G36 -> 0 | I36: =H36*E36 -> 0
B37: IV | C37: Eletricista | D37: Posto de Serviço | E37: 2 | F37: =Modulo1_Remuneração!F15 -> 0 | G37: 0.06 | H37: =F37*G37 -> 0 | I37: =H37*E37 -> 0
B38: IV | C38: Pedreiro | D38: Posto de Serviço | E38: 3 | F38: =Modulo1_Remuneração!F16 -> 0 | G38: 0.06 | H38: =F38*G38 -> 0 | I38: =H38*E38 -> 0
... B40: IV | C40: Técnico de saneamento | D40: Posto de Serviço | E40: 1 | F40: =Modulo1_Remuneração!F18 -> 0 | G40: 0.06 | H40: =F40*G40 -> 0 | I40: =H40*E40 -> 0
C41: Técnico de informatica | D41: Posto de Serviço | E41: 1 | F41: =Modulo1_Remuneração!F19 -> 0 | G41: 0.06 | H41: =F41*G41 -> 0 | I41: =H41*E41 -> 0
C42: Total | E42: =SUM(E27:E41) -> 91 | H42: =SUM(H27:H41) -> 0 | I42: =SUM(I27:I41) -> 0
B44: Custo Efetivo do Vale Transporte
B45: Grupo | C45: Descrição | D45: Unidade de Medida | E45: Quantidade | F45: Custo da Passagem | G45: Desconto | H45: Custo Efetivo | I45: Custo Total
B46: I | C46: Auxiliar de pedreiro | D46: Posto de Serviço | E46: 3 | F46: =H8 -> 0 | G46: =H27 -> 0 | H46: =F46-G46 -> 0 | I46: =H46*E46 -> 0
...

Sheet Modulo3.1_Rescisão
B2: Submódulo 3.1 – Aviso Prévio Indenizado
B4: Aviso Prévio Indenizado
B5: Grupo | C5: Descrição | D5: Unidade de Medida | E5: Quantidade | F5: Base de Cálculo | G5: Provisionamento Mensal | H5: Valor | I5: Custo Total
B6: I | C6: Auxiliar de pedreiro | D6: Posto de Serviço | E6: 3 | F6: =(Modulo1_Remuneração!I5+Modulo2.3_Encargos!I143)-Modulo2.2_Encargos!H6 -> 0 | G6: 12 | H6: =F6/G6 -> 0 | I6: =H6*E6 -> 0
B7: I | C7: Auxiliar manutenção geral | D7: Posto de Serviço | E7: 40 | F7: =(Modulo1_Remuneração!I6+Modulo2.3_Encargos!I144)-Modulo2.2_Encargos!H7 -> 0 | G7: 12 | H7: =F7/G7 -> 0 | I7: =H7*E7 -> 0
B8: I | C8: Auxiliar serviços gerais | D8: Posto de Serviço | E8: 2 | F8: =(Modulo1_Remuneração!I7+Modulo2.3_Encargos!I145)-Modulo2.2_Encargos!H8 -> 0 | G8: 12 | H8: =F8/G8 -> 0 | I8: =H8*E8 -> 0
B9: I | C9: Leiturista | D9: Posto de Serviço | E9: 30 | F9: =(Modulo1_Remuneração!I8+Modulo2.3_Encargos!I146)-Modulo2.2_Encargos!H9 -> 0 | G9: 12 | H9: =F9/G9 -> 0 | I9: =H9*E9 -> 0
B10: II | C10: Auxiliar eletricista | D10: Posto de Serviço | E10: 2 | F10: =(Modulo1_Remuneração!I9+Modulo2.3_Encargos!I147)-Modulo2.2_Encargos!H10 -> 0 | G10: 12 | H10: =F10/G10 -> 0 | I10: =H10*E10 -> 0
B11: III | C11: Copeiro | D11: Posto de Serviço | E11: 1 | F11: =(Modulo1_Remuneração!I10+Modulo2.3_Encargos!I148)-Modulo2.2_Encargos!H11 -> 0 | G11: 12 | H11: =F11/G11 -> 0 | I11: =H11*E11 -> 0
B12: III | C12: Mecânico em manutenção | D12: Posto de Serviço | E12: 1 | F12: =(Modulo1_Remuneração!I11+Modulo2.3_Encargos!I149)-Modulo2.2_Encargos!H12 -> 0 | G12: 12 | H12: =F12/G12 -> 0 | I12: =H12*E12 -> 0
B13: III | C13: Porteiro desarmado | D13: Posto de Serviço | E13: 1 | F13: =(Modulo1_Remuneração!I12+Modulo2.3_Encargos!I150)-Modulo2.2_Encargos!H13 -> 0 | G13: 12 | H13: =F13/G13 -> 0 | I13: =H13*E13 -> 0
B14: IV | C14: Assistente Técnico de Secretariado | D14: Posto de Serviço | E14: 1 | F14: =(Modulo1_Remuneração!I13+Modulo2.3_Encargos!I151)-Modulo2.2_Encargos!H14 -> 0 | G14: 12 | H14: =F14/G14 -> 0 | I14: =H14*E14 -> 0
B15: IV | C15: Auxiliar manutenção predial | D15: Posto de Serviço | E15: 2 | F15: =(Modulo1_Remuneração!I14+Modulo2.3_Encargos!I152)-Modulo2.2_Encargos!H15 -> 0 | G15: 12 | H15: =F15/G15 -> 0 | I15: =H15*E15 -> 0
B16: IV | C16: Eletricista | D16: Posto de Serviço | E16: 2 | F16: =(Modulo1_Remuneração!I15+Modulo2.3_Encargos!I153)-Modulo2.2_Encargos!H16 -> 0 | G16: 12 | H16: =F16/G16 -> 0 | I16: =H16*E16 -> 0
B17: IV | C17: Pedreiro | D17: Posto de Serviço | E17: 3 | F17: =(Modulo1_Remuneração!I16+Modulo2.3_Encargos!I154)-Modulo2.2_Encargos!H17 -> 0 | G17: 12 | H17: =F17/G17 -> 0 | I17: =H17*E17 -> 0
... B19: IV | C19: Técnico de saneamento | D19: Posto de Serviço | E19: 1 | F19: =(Modulo1_Remuneração!I18+Modulo2.3_Encargos!I156)-Modulo2.2_Encargos!H19 -> 0 | G19: 12 | H19: =F19/G19 -> 0 | I19: =H19*E19 -> 0
C20: Técnico de informatica | D20: Posto de Serviço | E20: 1 | F20: =(Modulo1_Remuneração!I19+Modulo2.3_Encargos!I157)-Modulo2.2_Encargos!H20 -> 0 | G20: 12 | H20: =F20/G20 -> 0 | I20: =H20*E20 -> 0
C21: Total | E21: =SUM(E6:E20) -> 91 | H21: =SUM(H6:H20) -> 0 | I21: =SUM(I6:I20) -> 0
B23: Incidência do FGTS sobre o Aviso Prévio Indenizado
B24: Grupo | C24: Descrição | D24: Unidade de Medida | E24: Quantidade | F24: Base de Cálculo | G24: Percentual da Multa | H24: Valor | I24: Custo Total
B25: I | C25: Auxiliar de pedreiro | D25: Posto de Serviço | E25: 3 | F25: =H6 -> 0 | G25: =0.08/12 -> 0.0066666667 | H25: =F25*G25 -> 0 | I25: =H25*E25 -> 0
B26: I | C26: Auxiliar manutenção geral | D26: Posto de Serviço | E26: 40 | F26: =H7 -> 0 | G26: =0.08/12 -> 0.0066666667 | H26: =F26*G26 -> 0 | I26: =H26*E26 -> 0
B27: I | C27: Auxiliar serviços gerais | D27: Posto de Serviço | E27: 2 | F27: =H8 -> 0 | G27: =0.08/12 -> 0.0066666667 | H27: =F27*G27 -> 0 | I27: =H27*E27 -> 0
B28: I | C28: Leiturista | D28: Posto de Serviço | E28: 30 | F28: =H9 -> 0 | G28: =0.08/12 -> 0.0066666667 | H28: =F28*G28 -> 0 | I28: =H28*E28 -> 0
B29: II | C29: Auxiliar eletricista | D29: Posto de Serviço | E29: 2 | F29: =H10 -> 0 | G29: =0.08/12 -> 0.0066666667 | H29: =F29*G29 -> 0 | I29: =H29*E29 -> 0
B30: III | C30: Copeiro | D30: Posto de Serviço | E30: 1 | F30: =H11 -> 0 | G30: =0.08/12 -> 0.0066666667 | H30: =F30*G30 -> 0 | I30: =H30*E30 -> 0
B31: III | C31: Mecânico em manutenção | D31: Posto de Serviço | E31: 1 | F31: =H12 -> 0 | G31: =0.08/12 -> 0.0066666667 | H31: =F31*G31 -> 0 | I31: =H31*E31 -> 0
B32: III | C32: Porteiro desarmado | D32: Posto de Serviço | E32: 1 | F32: =H13 -> 0 | G32: =0.08/12 -> 0.0066666667 | H32: =F32*G32 -> 0 | I32: =H32*E32 -> 0
B33: IV | C33: Assistente Técnico de Secretariado | D33: Posto de Serviço | E33: 1 | F33: =H14 -> 0 | G33: =0.08/12 -> 0.0066666667 | H33: =F33*G33 -> 0 | I33: =H33*E33 -> 0
B34: IV | C34: Auxiliar manutenção predial | D34: Posto de Serviço | E34: 2 | F34: =H15 -> 0 | G34: =0.08/12 -> 0.0066666667 | H34: =F34*G34 -> 0 | I34: =H34*E34 -> 0
B35: IV | C35: Eletricista | D35: Posto de Serviço | E35: 2 | F35: =H16 -> 0 | G35: =0.08/12 -> 0.0066666667 | H35: =F35*G35 -> 0 | I35: =H35*E35 -> 0
B36: IV | C36: Pedreiro | D36: Posto de Serviço | E36: 3 | F36: =H17 -> 0 | G36: =0.08/12 -> 0.0066666667 | H36: =F36*G36 -> 0 | I36: =H36*E36 -> 0
... B38: IV | C38: Técnico de saneamento | D38: Posto de Serviço | E38: 1 | F38: =H19 -> 0 | G38: =0.08/12 -> 0.0066666667 | H38: =F38*G38 -> 0 | I38: =H38*E38 -> 0
C39: Técnico de informatica | D39: Posto de Serviço | E39: 1 | F39: =H20 -> 0 | G39: =0.08/12 -> 0.0066666667 | H39: =F39*G39 -> 0 | I39: =H39*E39 -> 0
C40: Total | E40: =SUM(E25:E39) -> 91 | H40: =SUM(H25:H39) -> 0 | I40: =SUM(I25:I39) -> 0
B42: Multa do FGTS e Contribuição Social sobre o Aviso Prévio Indenizado
B43: Grupo | C43: Descrição | D43: Unidade de Medida | E43: Quantidade | F43: Base de Cálculo | G43: Percentual da Multa | H43: Valor | I43: Custo Total
B44: I | C44: Auxiliar de pedreiro | D44: Posto de Serviço | E44: 3 | F44: =Modulo2.2_Encargos!H25 -> 0 | G44: 0.5 | H44: =F44*G44 -> 0 | I44: =H44*E44 -> 0
B45: I | C45: Auxiliar manutenção geral | D45: Posto de Serviço | E45: 40 | F45: =Modulo2.2_Encargos!H26 -> 0 | G45: 0.5 | H45: =F45*G45 -> 0 | I45: =H45*E45 -> 0
B46: I | C46: Auxiliar serviços gerais | D46: Posto de Serviço | E46: 2 | F46: =Modulo2.2_Encargos!H27 -> 0 | G46: 0.5 | H46: =F46*G46 -> 0 | I46: =H46*E46 -> 0
...

Sheet Modulo3.2_Rescisão
B2: Submódulo 3.2 – Aviso Prévio Trabalhado
B4: Aviso Prévio Trabalhado
B5: Grupo | C5: Descrição | D5: Unidade de Medida | E5: Quantidade | F5: Base de Cálculo | G5: Provisionamento Mensal | H5: Valor | I5: Custo Total
B6: I | C6: Auxiliar de pedreiro | D6: Posto de Serviço | E6: 3 | F6: =(Modulo1_Remuneração!I5+Modulo2.3_Encargos!I143) -> 0 | G6: 12 | H6: =F6/G6 -> 0 | I6: =H6*E6 -> 0
B7: I | C7: Auxiliar manutenção geral | D7: Posto de Serviço | E7: 40 | F7: =(Modulo1_Remuneração!I6+Modulo2.3_Encargos!I144) -> 0 | G7: 12 | H7: =F7/G7 -> 0 | I7: =H7*E7 -> 0
B8: I | C8: Auxiliar serviços gerais | D8: Posto de Serviço | E8: 2 | F8: =(Modulo1_Remuneração!I7+Modulo2.3_Encargos!I145) -> 0 | G8: 12 | H8: =F8/G8 -> 0 | I8: =H8*E8 -> 0
B9: I | C9: Leiturista | D9: Posto de Serviço | E9: 30 | F9: =(Modulo1_Remuneração!I8+Modulo2.3_Encargos!I146) -> 0 | G9: 12 | H9: =F9/G9 -> 0 | I9: =H9*E9 -> 0
B10: II | C10: Auxiliar eletricista | D10: Posto de Serviço | E10: 2 | F10: =(Modulo1_Remuneração!I9+Modulo2.3_Encargos!I147) -> 0 | G10: 12 | H10: =F10/G10 -> 0 | I10: =H10*E10 -> 0
B11: III | C11: Copeiro | D11: Posto de Serviço | E11: 1 | F11: =(Modulo1_Remuneração!I10+Modulo2.3_Encargos!I148) -> 0 | G11: 12 | H11: =F11/G11 -> 0 | I11: =H11*E11 -> 0
B12: III | C12: Mecânico em manutenção | D12: Posto de Serviço | E12: 1 | F12: =(Modulo1_Remuneração!I11+Modulo2.3_Encargos!I149) -> 0 | G12: 12 | H12: =F12/G12 -> 0 | I12: =H12*E12 -> 0
B13: III | C13: Porteiro desarmado | D13: Posto de Serviço | E13: 1 | F13: =(Modulo1_Remuneração!I12+Modulo2.3_Encargos!I150) -> 0 | G13: 12 | H13: =F13/G13 -> 0 | I13: =H13*E13 -> 0
B14: IV | C14: Assistente Técnico de Secretariado | D14: Posto de Serviço | E14: 1 | F14: =(Modulo1_Remuneração!I13+Modulo2.3_Encargos!I151) -> 0 | G14: 12 | H14: =F14/G14 -> 0 | I14: =H14*E14 -> 0
B15: IV | C15: Auxiliar manutenção predial | D15: Posto de Serviço | E15: 2 | F15: =(Modulo1_Remuneração!I14+Modulo2.3_Encargos!I152) -> 0 | G15: 12 | H15: =F15/G15 -> 0 | I15: =H15*E15 -> 0
B16: IV | C16: Eletricista | D16: Posto de Serviço | E16: 2 | F16: =(Modulo1_Remuneração!I15+Modulo2.3_Encargos!I153) -> 0 | G16: 12 | H16: =F16/G16 -> 0 | I16: =H16*E16 -> 0
B17: IV | C17: Pedreiro | D17: Posto de Serviço | E17: 3 | F17: =(Modulo1_Remuneração!I16+Modulo2.3_Encargos!I154) -> 0 | G17: 12 | H17: =F17/G17 -> 0 | I17: =H17*E17 -> 0
... B19: IV | C19: Técnico de saneamento | D19: Posto de Serviço | E19: 1 | F19: =(Modulo1_Remuneração!I18+Modulo2.3_Encargos!I156) -> 0 | G19: 12 | H19: =F19/G19 -> 0 | I19: =H19*E19 -> 0
C20: Técnico de informatica | D20: Posto de Serviço | E20: 1 | F20: =(Modulo1_Remuneração!I19+Modulo2.3_Encargos!I157) -> 0 | G20: 12 | H20: =F20/G20 -> 0 | I20: =H20*E20 -> 0
C21: Total | E21: =SUM(E6:E20) -> 91 | H21: =SUM(H6:H20) -> 0 | I21: =SUM(I6:I20) -> 0
B23: Incidência de GPS, FGTS e outra contribuições sobre o Aviso Prévio Trabalhado
B24: Grupo | C24: Descrição | D24: Unidade de Medida | E24: Quantidade | F24: Base de Cálculo | G24: Percentual da Multa | H24: Valor | I24: Custo Total
B25: I | C25: Auxiliar de pedreiro | D25: Posto de Serviço | E25: 3 | F25: =H6 -> 0 | G25: =$M$27/12 -> 0.030666667 | H25: =F25*G25 -> 0 | I25: =H25*E25 -> 0 | L25: GPS | M25: =Modulo2.2_Encargos!M13 -> 0.288
B26: I | C26: Auxiliar manutenção geral | D26: Posto de Serviço | E26: 40 | F26: =H7 -> 0 | G26: =$M$27/12 -> 0.030666667 | H26: =F26*G26 -> 0 | I26: =H26*E26 -> 0 | L26: FGTS | M26: =Modulo2.2_Encargos!G25 -> 0.08
B27: I | C27: Auxiliar serviços gerais | D27: Posto de Serviço | E27: 2 | F27: =H8 -> 0 | G27: =$M$27/12 -> 0.030666667 | H27: =F27*G27 -> 0 | I27: =H27*E27 -> 0 | M27: =SUM(M25:M26) -> 0.368
B28: I | C28: Leiturista | D28: Posto de Serviço | E28: 30 | F28: =H9 -> 0 | G28: =$M$27/12 -> 0.030666667 | H28: =F28*G28 -> 0 | I28: =H28*E28 -> 0 | M28: =M27/12 -> 0.030666667
B29: II | C29: Auxiliar eletricista | D29: Posto de Serviço | E29: 2 | F29: =H10 -> 0 | G29: =$M$27/12 -> 0.030666667 | H29: =F29*G29 -> 0 | I29: =H29*E29 -> 0
B30: III | C30: Copeiro | D30: Posto de Serviço | E30: 1 | F30: =H11 -> 0 | G30: =$M$27/12 -> 0.030666667 | H30: =F30*G30 -> 0 | I30: =H30*E30 -> 0
B31: III | C31: Mecânico em manutenção | D31: Posto de Serviço | E31: 1 | F31: =H12 -> 0 | G31: =$M$27/12 -> 0.030666667 | H31: =F31*G31 -> 0 | I31: =H31*E31 -> 0
B32: III | C32: Porteiro desarmado | D32: Posto de Serviço | E32: 1 | F32: =H13 -> 0 | G32: =$M$27/12 -> 0.030666667 | H32: =F32*G32 -> 0 | I32: =H32*E32 -> 0
B33: IV | C33: Assistente Técnico de Secretariado | D33: Posto de Serviço | E33: 1 | F33: =H14 -> 0 | G33: =$M$27/12 -> 0.030666667 | H33: =F33*G33 -> 0 | I33: =H33*E33 -> 0
B34: IV | C34: Auxiliar manutenção predial | D34: Posto de Serviço | E34: 2 | F34: =H15 -> 0 | G34: =$M$27/12 -> 0.030666667 | H34: =F34*G34 -> 0 | I34: =H34*E34 -> 0
B35: IV | C35: Eletricista | D35: Posto de Serviço | E35: 2 | F35: =H16 -> 0 | G35: =$M$27/12 -> 0.030666667 | H35: =F35*G35 -> 0 | I35: =H35*E35 -> 0
B36: IV | C36: Pedreiro | D36: Posto de Serviço | E36: 3 | F36: =H17 -> 0 | G36: =$M$27/12 -> 0.030666667 | H36: =F36*G36 -> 0 | I36: =H36*E36 -> 0
B37: IV | C37: Supervisor | D37: Posto de Serviço | E37: 1 | F37: =H18 -> 0 | G37: =$M$27/12 -> 0.030666667 | H37: =F37*G37 -> 0 | I37: =H37*E37 -> 0
B38: IV | C38: Técnico de saneamento | D38: Posto de Serviço | E38: 1 | F38: =H19 -> 0 | G38: =$M$27/12 -> 0.030666667 | H38: =F38*G38 -> 0 | I38: =H38*E38 -> 0
C39: Técnico de informatica | D39: Posto de Serviço | E39: 1 | F39: =H20 -> 0 | G39: =$M$27/12 -> 0.030666667 | H39: =F39*G39 -> 0 | I39: =H39*E39 -> 0
C40: Total | E40: =SUM(E25:E39) -> 91 | H40: =SUM(H25:H39) -> 0 | I40: =SUM(I25:I39) -> 0
B42: Multa do FGTS e Contribuição Social sobre o Aviso Prévio Indenizado
B43: Grupo | C43: Descrição | D43: Unidade de Medida | E43: Quantidade | F43: Base de Cálculo | G43: Percentual da Multa | H43: Valor | I43: Custo Total
B44: I | C44: Auxiliar de pedreiro | D44: Posto de Serviço | E44: 3 | F44: =Modulo2.2_Encargos!H25 -> 0 | G44: 0.5 | H44: =F44*G44 -> 0 | I44: =H44*E44 -> 0
B45: I | C45: Auxiliar manutenção geral | D45: Posto de Serviço | E45: 40 | F45: =Modulo2.2_Encargos!H26 -> 0 | G45: 0.5 | H45: =F45*G45 -> 0 | I45: =H45*E45 -> 0
...

Sheet Modulo4_Reposicao
B2: Módulo 4 - Custo de Reposição do Profissional Ausente
B4: Custo Diário para o Repositor
B5: Grupo | C5: Descrição | D5: Unidade de Medida | E5: Quantidade | F5: Base de Cálculo | G5: Divisor do Dia | H5: Valor | I5: Custo Total
B6: I | C6: Auxiliar de pedreiro | D6: Posto de Serviço | E6: 3 | F6: =Modulo1_Remuneração!I5+Modulo2.3_Encargos!I143+Modulo3.2_Rescisão!H101 -> 0 | G6: 30 | H6: =F6/G6 -> 0 | I6: =H6*E6 -> 0
B7: I | C7: Auxiliar manutenção geral | D7: Posto de Serviço | E7: 40 | F7: =Modulo1_Remuneração!I6+Modulo2.3_Encargos!I144+Modulo3.2_Rescisão!H102 -> 0 | G7: 30 | H7: =F7/G7 -> 0 | I7: =H7*E7 -> 0
B8: I | C8: Auxiliar serviços gerais | D8: Posto de Serviço | E8: 2 | F8: =Modulo1_Remuneração!I7+Modulo2.3_Encargos!I145+Modulo3.2_Rescisão!H103 -> 0 | G8: 30 | H8: =F8/G8 -> 0 | I8: =H8*E8 -> 0
B9: I | C9: Leiturista | D9: Posto de Serviço | E9: 30 | F9: =Modulo1_Remuneração!I8+Modulo2.3_Encargos!I146+Modulo3.2_Rescisão!H104 -> 0 | G9: 30 | H9: =F9/G9 -> 0 | I9: =H9*E9 -> 0
B10: II | C10: Auxiliar eletricista | D10: Posto de Serviço | E10: 2 | F10: =Modulo1_Remuneração!I9+Modulo2.3_Encargos!I147+Modulo3.2_Rescisão!H105 -> 0 | G10: 30 | H10: =F10/G10 -> 0 | I10: =H10*E10 -> 0
B11: III | C11: Copeiro | D11: Posto de Serviço | E11: 1 | F11: =Modulo1_Remuneração!I10+Modulo2.3_Encargos!I148+Modulo3.2_Rescisão!H106 -> 0 | G11: 30 | H11: =F11/G11 -> 0 | I11: =H11*E11 -> 0
B12: III | C12: Mecânico em manutenção | D12: Posto de Serviço | E12: 1 | F12: =Modulo1_Remuneração!I11+Modulo2.3_Encargos!I149+Modulo3.2_Rescisão!H107 -> 0 | G12: 30 | H12: =F12/G12 -> 0 | I12: =H12*E12 -> 0
B13: III | C13: Porteiro desarmado | D13: Posto de Serviço | E13: 1 | F13: =Modulo1_Remuneração!I12+Modulo2.3_Encargos!I150+Modulo3.2_Rescisão!H108 -> 0 | G13: 30 | H13: =F13/G13 -> 0 | I13: =H13*E13 -> 0
B14: IV | C14: Assistente Técnico de Secretariado | D14: Posto de Serviço | E14: 1 | F14: =Modulo1_Remuneração!I13+Modulo2.3_Encargos!I151+Modulo3.2_Rescisão!H109 -> 0 | G14: 30 | H14: =F14/G14 -> 0 | I14: =H14*E14 -> 0
B15: IV | C15: Auxiliar manutenção predial | D15: Posto de Serviço | E15: 2 | F15: =Modulo1_Remuneração!I14+Modulo2.3_Encargos!I152+Modulo3.2_Rescisão!H110 -> 0 | G15: 30 | H15: =F15/G15 -> 0 | I15: =H15*E15 -> 0
B16: IV | C16: Eletricista | D16: Posto de Serviço | E16: 2 | F16: =Modulo1_Remuneração!I15+Modulo2.3_Encargos!I153+Modulo3.2_Rescisão!H111 -> 0 | G16: 30 | H16: =F16/G16 -> 0 | I16: =H16*E16 -> 0
B17: IV | C17: Pedreiro | D17: Posto de Serviço | E17: 3 | F17: =Modulo1_Remuneração!I16+Modulo2.3_Encargos!I154+Modulo3.2_Rescisão!H112 -> 0 | G17: 30 | H17: =F17/G17 -> 0 | I17: =H17*E17 -> 0
... B19: IV | C19: Técnico de saneamento | D19: Posto de Serviço | E19: 1 | F19: =Modulo1_Remuneração!I18+Modulo2.3_Encargos!I156+Modulo3.2_Rescisão!H114 -> 0 | G19: 30 | H19: =F19/G19 -> 0 | I19: =H19*E19 -> 0
C20: Técnico de informatica | D20: Posto de Serviço | E20: 1 | F20: =Modulo1_Remuneração!I19+Modulo2.3_Encargos!I157+Modulo3.2_Rescisão!H115 -> 0 | G20: 30 | H20: =F20/G20 -> 0 | I20: =H20*E20 -> 0
C21: Total | E21: =SUM(E6:E20) -> 91 | F21: =SUM(F6:F20) -> 0 | H21: =SUM(H6:H20) -> 0 | I21: =SUM(I6:I20) -> 0
B23: Resumo do Módulo 4 - Custo de Reposição do Profissional Ausente
B24: Grupo | C24: Descrição | D24: Unidade de Medida | E24: Quantidade | F24: Custo diário | G24: Necessidade de Reposição | H24: Custo anual | I24: Custo mensal
B25: I | C25: Auxiliar de pedreiro | D25: Posto de Serviço | E25: 3 | F25: =H6 -> 0 | G25: 29.4737 | H25: =F25*G25 -> 0 | I25: =H25/12 -> 0
B26: I | C26: Auxiliar manutenção geral | D26: Posto de Serviço | E26: 40 | F26: =H7 -> 0 | G26: 29.4737 | H26: =F26*G26 -> 0 | I26: =H26/12 -> 0
B27: I | C27: Auxiliar serviços gerais | D27: Posto de Serviço | E27: 2 | F27: =H8 -> 0 | G27: 29.4737 | H27: =F27*G27 -> 0 | I27: =H27/12 -> 0
B28: I | C28: Leiturista | D28: Posto de Serviço | E28: 30 | F28: =H9 -> 0 | G28: 29.4737 | H28: =F28*G28 -> 0 | I28: =H28/12 -> 0
B29: II | C29: Auxiliar eletricista | D29: Posto de Serviço | E29: 2 | F29: =H10 -> 0 | G29: 29.4737 | H29: =F29*G29 -> 0 | I29: =H29/12 -> 0
B30: III | C30: Copeiro | D30: Posto de Serviço | E30: 1 | F30: =H11 -> 0 | G30: 29.4737 | H30: =F30*G30 -> 0 | I30: =H30/12 -> 0
B31: III | C31: Mecânico em manutenção | D31: Posto de Serviço | E31: 1 | F31: =H12 -> 0 | G31: 29.4737 | H31: =F31*G31 -> 0 | I31: =H31/12 -> 0
B32: III | C32: Porteiro desarmado | D32: Posto de Serviço | E32: 1 | F32: =H13 -> 0 | G32: 29.4737 | H32: =F32*G32 -> 0 | I32: =H32/12 -> 0
B33: IV | C33: Assistente Técnico de Secretariado | D33: Posto de Serviço | E33: 1 | F33: =H14 -> 0 | G33: 29.4737 | H33: =F33*G33 -> 0 | I33: =H33/12 -> 0
B34: IV | C34: Auxiliar manutenção predial | D34: Posto de Serviço | E34: 2 | F34: =H15 -> 0 | G34: 29.4737 | H34: =F34*G34 -> 0 | I34: =H34/12 -> 0
B35: IV | C35: Eletricista | D35: Posto de Serviço | E35: 2 | F35: =H16 -> 0 | G35: 29.4737 | H35: =F35*G35 -> 0 | I35: =H35/12 -> 0
B36: IV | C36: Pedreiro | D36: Posto de Serviço | E36: 3 | F36: =H17 -> 0 | G36: 29.4737 | H36: =F36*G36 -> 0 | I36: =H36/12 -> 0
... B38: IV | C38: Técnico de saneamento | D38: Posto de Serviço | E38: 1 | F38: =H19 -> 0 | G38: 29.4737 | H38: =F38*G38 -> 0 | I38: =H38/12 -> 0
C39: Técnico de informatica | D39: Posto de Serviço | E39: 1 | F39: =H20 -> 0 | G39: 29.4737 | H39: =F39*G39 -> 0 | I39: =H39/12 -> 0
C40: Total | E40: =SUM(E25:E39) -> 91 | H40: =SUM(H25:H39) -> 0 | I40: =SUM(I25:I39) -> 0

Sheet Modulo5_Insumos de Mao de Obra
B2: Módulo 5 - INSUMOS DE MÃO DE OBRA
B4: Submódulo 5.1 - Insumos dos Uniformes
B5: Grupo | C5: Descrição | D5: Unidade de Medida | E5: Quantidade | F5: Base de Cálculo | G5: Pescentual | H5: Valor | I5: Custo Total
B6: I | C6: Auxiliar de pedreiro | D6: Posto de Serviço | E6: 3 | F6: =Modulo1_Remuneração!I5+Modulo2.3_Encargos!I143+Modulo3.2_Rescisão!H101+Modulo4_Reposicao!I25 -> 0 | G6: 0.0145 | H6: =F6*G6 -> 0 | I6: =H6*E6 -> 0
B7: I | C7: Auxiliar manutenção geral | D7: Posto de Serviço | E7: 40 | F7: =Modulo1_Remuneração!I6+Modulo2.3_Encargos!I144+Modulo3.2_Rescisão!H102+Modulo4_Reposicao!I26 -> 0 | G7: 0.0145 | H7: =F7*G7 -> 0 | I7: =H7*E7 -> 0
B8: I | C8: Auxiliar serviços gerais | D8: Posto de Serviço | E8: 2 | F8: =Modulo1_Remuneração!I7+Modulo2.3_Encargos!I145+Modulo3.2_Rescisão!H103+Modulo4_Reposicao!I27 -> 0 | G8: 0.0145 | H8: =F8*G8 -> 0 | I8: =H8*E8 -> 0
B9: I | C9: Leiturista | D9: Posto de Serviço | E9: 30 | F9: =Modulo1_Remuneração!I8+Modulo2.3_Encargos!I146+Modulo3.2_Rescisão!H104+Modulo4_Reposicao!I28 -> 0 | G9: 0.0145 | H9: =F9*G9 -> 0 | I9: =H9*E9 -> 0
B10: II | C10: Auxiliar eletricista | D10: Posto de Serviço | E10: 2 | F10: =Modulo1_Remuneração!I9+Modulo2.3_Encargos!I147+Modulo3.2_Rescisão!H105+Modulo4_Reposicao!I29 -> 0 | G10: 0.0145 | H10: =F10*G10 -> 0 | I10: =H10*E10 -> 0
B11: III | C11: Copeiro | D11: Posto de Serviço | E11: 1 | F11: =Modulo1_Remuneração!I10+Modulo2.3_Encargos!I148+Modulo3.2_Rescisão!H106+Modulo4_Reposicao!I30 -> 0 | G11: 0.0145 | H11: =F11*G11 -> 0 | I11: =H11*E11 -> 0
B12: III | C12: Mecânico em manutenção | D12: Posto de Serviço | E12: 1 | F12: =Modulo1_Remuneração!I11+Modulo2.3_Encargos!I149+Modulo3.2_Rescisão!H107+Modulo4_Reposicao!I31 -> 0 | G12: 0.0145 | H12: =F12*G12 -> 0 | I12: =H12*E12 -> 0
B13: III | C13: Porteiro desarmado | D13: Posto de Serviço | E13: 1 | F13: =Modulo1_Remuneração!I12+Modulo2.3_Encargos!I150+Modulo3.2_Rescisão!H108+Modulo4_Reposicao!I32 -> 0 | G13: 0.0145 | H13: =F13*G13 -> 0 | I13: =H13*E13 -> 0
B14: IV | C14: Assistente Técnico de Secretariado | D14: Posto de Serviço | E14: 1 | F14: =Modulo1_Remuneração!I13+Modulo2.3_Encargos!I151+Modulo3.2_Rescisão!H109+Modulo4_Reposicao!I33 -> 0 | G14: 0.0145 | H14: =F14*G14 -> 0 | I14: =H14*E14 -> 0
B15: IV | C15: Auxiliar manutenção predial | D15: Posto de Serviço | E15: 2 | F15: =Modulo1_Remuneração!I14+Modulo2.3_Encargos!I152+Modulo3.2_Rescisão!H110+Modulo4_Reposicao!I34 -> 0 | G15: 0.0145 | H15: =F15*G15 -> 0 | I15: =H15*E15 -> 0
B16: IV | C16: Eletricista | D16: Posto de Serviço | E16: 2 | F16: =Modulo1_Remuneração!I15+Modulo2.3_Encargos!I153+Modulo3.2_Rescisão!H111+Modulo4_Reposicao!I35 -> 0 | G16: 0.0145 | H16: =F16*G16 -> 0 | I16: =H16*E16 -> 0
B17: IV | C17: Pedreiro | D17: Posto de Serviço | E17: 3 | F17: =Modulo1_Remuneração!I16+Modulo2.3_Encargos!I154+Modulo3.2_Rescisão!H112+Modulo4_Reposicao!I36 -> 0 | G17: 0.0145 | H17: =F17*G17 -> 0 | I17: =H17*E17 -> 0
... B19: IV | C19: Técnico de saneamento | D19: Posto de Serviço | E19: 1 | F19: =Modulo1_Remuneração!I18+Modulo2.3_Encargos!I156+Modulo3.2_Rescisão!H114+Modulo4_Reposicao!I38 -> 0 | G19: 0.0145 | H19: =F19*G19 -> 0 | I19: =H19*E19 -> 0
C20: Técnico de informatica | D20: Posto de Serviço | E20: 1 | F20: =Modulo1_Remuneração!I19+Modulo2.3_Encargos!I157+Modulo3.2_Rescisão!H115+Modulo4_Reposicao!I39 -> 0 | G20: 0.0145 | H20: =F20*G20 -> 0 | I20: =H20*E20 -> 0
C21: Total | E21: =SUM(E6:E20) -> 91 | F21: =SUM(F6:F20) -> 0 | H21: =SUM(H6:H20) -> 0 | I21: =SUM(I6:I20) -> 0

Sheet Modulo6_Custos Indiretos
B2: Módulo 6 - CUSTOS INDIRETOS
B4: Custos Indiretos, Tributos e Lucro
B5: Grupo | C5: Descrição | D5: Unidade de Medida | E5: Quantidade | F5: Base de Cálculo | G5: Pescentual | H5: Valor | I5: Custo Total
B6: I | C6: Auxiliar de pedreiro | D6: Posto de Serviço | E6: 3 | F6: =Modulo1_Remuneração!I5+Modulo2.3_Encargos!I143+Modulo3.2_Rescisão!H101+Modulo4_Reposicao!I25+'Modulo5_Insumos de Mao de Obra'!H6 -> 0 | G6: =$D$30 -> 0.30445795 | H6: =F6*G6 -> 0 | I6: =H6*E6 -> 0
B7: I | C7: Auxiliar manutenção geral | D7: Posto de Serviço | E7: 40 | F7: =Modulo1_Remuneração!I6+Modulo2.3_Encargos!I144+Modulo3.2_Rescisão!H102+Modulo4_Reposicao!I26+'Modulo5_Insumos de Mao de Obra'!H7 -> 0 | G7: =$D$30 -> 0.30445795 | H7: =F7*G7 -> 0 | I7: =H7*E7 -> 0
B8: I | C8: Auxiliar serviços gerais | D8: Posto de Serviço | E8: 2 | F8: =Modulo1_Remuneração!I7+Modulo2.3_Encargos!I145+Modulo3.2_Rescisão!H103+Modulo4_Reposicao!I27+'Modulo5_Insumos de Mao de Obra'!H8 -> 0 | G8: =$D$30 -> 0.30445795 | H8: =F8*G8 -> 0 | I8: =H8*E8 -> 0
B9: I | C9: Leiturista | D9: Posto de Serviço | E9: 30 | F9: =Modulo1_Remuneração!I8+Modulo2.3_Encargos!I146+Modulo3.2_Rescisão!H104+Modulo4_Reposicao!I28+'Modulo5_Insumos de Mao de Obra'!H9 -> 0 | G9: =$D$30 -> 0.30445795 | H9: =F9*G9 -> 0 | I9: =H9*E9 -> 0
B10: II | C10: Auxiliar eletricista | D10: Posto de Serviço | E10: 2 | F10: =Modulo1_Remuneração!I9+Modulo2.3_Encargos!I147+Modulo3.2_Rescisão!H105+Modulo4_Reposicao!I29+'Modulo5_Insumos de Mao de Obra'!H10 -> 0 | G10: =$D$30 -> 0.30445795 | H10: =F10*G10 -> 0 | I10: =H10*E10 -> 0
B11: III | C11: Copeiro | D11: Posto de Serviço | E11: 1 | F11: =Modulo1_Remuneração!I10+Modulo2.3_Encargos!I148+Modulo3.2_Rescisão!H106+Modulo4_Reposicao!I30+'Modulo5_Insumos de Mao de Obra'!H11 -> 0 | G11: =$D$30 -> 0.30445795 | H11: =F11*G11 -> 0 | I11: =H11*E11 -> 0
B12: III | C12: Mecânico em manutenção | D12: Posto de Serviço | E12: 1 | F12: =Modulo1_Remuneração!I11+Modulo2.3_Encargos!I149+Modulo3.2_Rescisão!H107+Modulo4_Reposicao!I31+'Modulo5_Insumos de Mao de Obra'!H12 -> 0 | G12: =$D$30 -> 0.30445795 | H12: =F12*G12 -> 0 | I12: =H12*E12 -> 0
B13: III | C13: Porteiro desarmado | D13: Posto de Serviço | E13: 1 | F13: =Modulo1_Remuneração!I12+Modulo2.3_Encargos!I150+Modulo3.2_Rescisão!H108+Modulo4_Reposicao!I32+'Modulo5_Insumos de Mao de Obra'!H13 -> 0 | G13: =$D$30 -> 0.30445795 | H13: =F13*G13 -> 0 | I13: =H13*E13 -> 0
B14: IV | C14: Assistente Técnico de Secretariado | D14: Posto de Serviço | E14: 1 | F14: =Modulo1_Remuneração!I13+Modulo2.3_Encargos!I151+Modulo3.2_Rescisão!H109+Modulo4_Reposicao!I33+'Modulo5_Insumos de Mao de Obra'!H14 -> 0 | G14: =$D$30 -> 0.30445795 | H14: =F14*G14 -> 0 | I14: =H14*E14 -> 0
B15: IV | C15: Auxiliar manutenção predial | D15: Posto de Serviço | E15: 2 | F15: =Modulo1_Remuneração!I14+Modulo2.3_Encargos!I152+Modulo3.2_Rescisão!H110+Modulo4_Reposicao!I34+'Modulo5_Insumos de Mao de Obra'!H15 -> 0 | G15: =$D$30 -> 0.30445795 | H15: =F15*G15 -> 0 | I15: =H15*E15 -> 0
B16: IV | C16: Eletricista | D16: Posto de Serviço | E16: 2 | F16: =Modulo1_Remuneração!I15+Modulo2.3_Encargos!I153+Modulo3.2_Rescisão!H111+Modulo4_Reposicao!I35+'Modulo5_Insumos de Mao de Obra'!H16 -> 0 | G16: =$D$30 -> 0.30445795 | H16: =F16*G16 -> 0 | I16: =H16*E16 -> 0
B17: IV | C17: Pedreiro | D17: Posto de Serviço | E17: 3 | F17: =Modulo1_Remuneração!I16+Modulo2.3_Encargos!I154+Modulo3.2_Rescisão!H112+Modulo4_Reposicao!I36+'Modulo5_Insumos de Mao de Obra'!H17 -> 0 | G17: =$D$30 -> 0.30445795 | H17: =F17*G17 -> 0 | I17: =H17*E17 -> 0
... B19: IV | C19: Técnico de saneamento | D19: Posto de Serviço | E19: 1 | F19: =Modulo1_Remuneração!I18+Modulo2.3_Encargos!I156+Modulo3.2_Rescisão!H114+Modulo4_Reposicao!I38+'Modulo5_Insumos de Mao de Obra'!H19 -> 0 | G19: =$D$30 -> 0.30445795 | H19: =F19*G19 -> 0 | I19: =H19*E19 -> 0
C20: Técnico de informatica | D20: Posto de Serviço | E20: 1 | F20: =Modulo1_Remuneração!I19+Modulo2.3_Encargos!I157+Modulo3.2_Rescisão!H115+Modulo4_Reposicao!I39+'Modulo5_Insumos de Mao de Obra'!H20 -> 0 | G20: =$D$30 -> 0.30445795 | H20: =F20*G20 -> 0 | I20: =H20*E20 -> 0
C21: Total | E21: =SUM(E6:E20) -> 91 | F21: =SUM(F6:F20) -> 0 | H21: =SUM(H6:H20) -> 0 | I21: =SUM(I6:I20) -> 0
C23: Rubrica | D23: Lucro Presumido | E23: Lucro Real
C24: Custos Indiretos | D24: 0.03 | E24: 0.03
C25: Lucro | D25: 0.0679 | E25: 0.0679
C26: Tributos | D26: =D27+D28+D29 -> 0.1425 | E26: =E27+E28+E29 -> 0.0865
C27: PIS | D27: 0.0165 | E27: 0.0065
C28: COFINS | D28: 0.076 | E28: 0.03
C29: ISS | D29: 0.05 | E29: 0.05
C30: Total | D30: =(1+D24)/(1-D26-D25)-1 -> 0.30445795 | E30: =(1+E24)/(1-E26-E25)-1 -> 0.21807001

Sheet Resumo Geral
B2: RESUMO GERAL
B3: Grupo | C3: Descrição | D3: Unidade de Medida | E3: Quantidade | F3: Custo por Homem | G3: Custo do Posto Mês | H3: Custo Anual
B4: I | C4: Auxiliar de pedreiro | D4: Posto de Serviço | E4: 3 | F4: ='Modulo6_Custos Indiretos'!F6+'Modulo6_Custos Indiretos'!H6 -> 0 | G4: =F4*E4 -> 0 | H4: =G4*12 -> 0
B5: I | C5: Auxiliar manutenção geral | D5: Posto de Serviço | E5: 40 | F5: ='Modulo6_Custos Indiretos'!F7+'Modulo6_Custos Indiretos'!H7 -> 0 | G5: =F5*E5 -> 0 | H5: =G5*12 -> 0
B6: I | C6: Auxiliar serviços gerais | D6: Posto de Serviço | E6: 2 | F6: ='Modulo6_Custos Indiretos'!F8+'Modulo6_Custos Indiretos'!H8 -> 0 | G6: =F6*E6 -> 0 | H6: =G6*12 -> 0
B7: I | C7: Leiturista | D7: Posto de Serviço | E7: 30 | F7: ='Modulo6_Custos Indiretos'!F9+'Modulo6_Custos Indiretos'!H9 -> 0 | G7: =F7*E7 -> 0 | H7: =G7*12 -> 0
B8: II | C8: Auxiliar eletricista | D8: Posto de Serviço | E8: 2 | F8: ='Modulo6_Custos Indiretos'!F10+'Modulo6_Custos Indiretos'!H10 -> 0 | G8: =F8*E8 -> 0 | H8: =G8*12 -> 0
B9: III | C9: Copeiro | D9: Posto de Serviço | E9: 1 | F9: ='Modulo6_Custos Indiretos'!F11+'Modulo6_Custos Indiretos'!H11 -> 0 | G9: =F9*E9 -> 0 | H9: =G9*12 -> 0
B10: III | C10: Mecânico em manutenção | D10: Posto de Serviço | E10: 1 | F10: ='Modulo6_Custos Indiretos'!F12+'Modulo6_Custos Indiretos'!H12 -> 0 | G10: =F10*E10 -> 0 | H10: =G10*12 -> 0
B11: III | C11: Porteiro desarmado | D11: Posto de Serviço | E11: 1 | F11: ='Modulo6_Custos Indiretos'!F13+'Modulo6_Custos Indiretos'!H13 -> 0 | G11: =F11*E11 -> 0 | H11: =G11*12 -> 0
B12: IV | C12: Assistente Técnico de Secretariado | D12: Posto de Serviço | E12: 1 | F12: ='Modulo6_Custos Indiretos'!F14+'Modulo6_Custos Indiretos'!H14 -> 0 | G12: =F12*E12 -> 0 | H12: =G12*12 -> 0
B13: IV | C13: Auxiliar manutenção predial | D13: Posto de Serviço | E13: 2 | F13: ='Modulo6_Custos Indiretos'!F15+'Modulo6_Custos Indiretos'!H15 -> 0 | G13: =F13*E13 -> 0 | H13: =G13*12 -> 0
B14: IV | C14: Eletricista | D14: Posto de Serviço | E14: 2 | F14: ='Modulo6_Custos Indiretos'!F16+'Modulo6_Custos Indiretos'!H16 -> 0 | G14: =F14*E14 -> 0 | H14: =G14*12 -> 0
B15: IV | C15: Pedreiro | D15: Posto de Serviço | E15: 3 | F15: ='Modulo6_Custos Indiretos'!F17+'Modulo6_Custos Indiretos'!H17 -> 0 | G15: =F15*E15 -> 0 | H15: =G15*12 -> 0
... B17: IV | C17: Técnico de saneamento | D17: Posto de Serviço | E17: 1 | F17: ='Modulo6_Custos Indiretos'!F19+'Modulo6_Custos Indiretos'!H19 -> 0 | G17: =F17*E17 -> 0 | H17: =G17*12 -> 0
C18: Técnico de informatica | D18: Posto de Serviço | E18: 1 | F18: ='Modulo6_Custos Indiretos'!F20+'Modulo6_Custos Indiretos'!H20 -> 0 | G18: =F18*E18 -> 0 | H18: =G18*12 -> 0
C19: Total | E19: =SUM(E4:E18) -> 91 | G19: =SUM(G4:G18) -> 0 | H19: =SUM(H4:H18) -> 0
B22: RESUMO GERAL (SEM CASAS DECIMAIS)
B23: Grupo | C23: Descrição | D23: Unidade de Medida | E23: Quantidade | F23: Custo por Homem | G23: Custo do Posto Mês | H23: Custo Anual
B24: I | C24: Auxiliar de pedreiro | D24: Posto de Serviço | E24: 3 | G24: =F24*E24 -> 0 | H24: =G24*12 -> 0
B25: I | C25: Auxiliar manutenção geral | D25: Posto de Serviço | E25: 40 | G25: =F25*E25 -> 0 | H25: =G25*12 -> 0
B26: I | C26: Auxiliar serviços gerais | D26: Posto de Serviço | E26: 2 | G26: =F26*E26 -> 0 | H26: =G26*12 -> 0
B27: I | C27: Leiturista | D27: Posto de Serviço | E27: 30 | G27: =F27*E27 -> 0 | H27: =G27*12 -> 0
B28: II | C28: Auxiliar eletricista | D28: Posto de Serviço | E28: 2 | G28: =F28*E28 -> 0 | H28: =G28*12 -> 0
B29: III | C29: Copeiro | D29: Posto de Serviço | E29: 1 | G29: =F29*E29 -> 0 | H29: =G29*12 -> 0
B30: III | C30: Mecânico em manutenção | D30: Posto de Serviço | E30: 1 | G30: =F30*E30 -> 0 | H30: =G30*12 -> 0
B31: III | C31: Porteiro desarmado | D31: Posto de Serviço | E31: 1 | G31: =F31*E31 -> 0 | H31: =G31*12 -> 0
B32: IV | C32: Assistente Técnico de Secretariado | D32: Posto de Serviço | E32: 1 | G32: =F32*E32 -> 0 | H32: =G32*12 -> 0
B33: IV | C33: Auxiliar manutenção predial | D33: Posto de Serviço | E33: 2 | G33: =F33*E33 -> 0 | H33: =G33*12 -> 0
B34: IV | C34: Eletricista | D34: Posto de Serviço | E34: 2 | G34: =F34*E34 -> 0 | H34: =G34*12 -> 0
B35: IV | C35: Pedreiro | D35: Posto de Serviço | E35: 3 | G35: =F35*E35 -> 0 | H35: =G35*12 -> 0
... B37: IV | C37: Técnico de saneamento | D37: Posto de Serviço | E37: 1 | G37: =F37*E37 -> 0 | H37: =G37*12 -> 0
C38: Técnico de informatica | D38: Posto de Serviço | E38: 1 | G38: =F38*E38 -> 0 | H38: =G38*12 -> 0
C39: Total | E39: =SUM(E24:E38) -> 91 | G39: =SUM(G24:G38) -> 0 | H39: =SUM(H24:H38) -> 0
