Workbook

Sheet Orçamento Sintético
D1: Obra | E1: Bancos | H1: B.D.I. | I1: Encargos Sociais
D2: PAVIMENTAÇÃO EM PARALELEPÍPEDO E DRENAGEM DAS RUAS SENADOR RUI CARNEIRO E JOSÉ NUNES MACHADO | E2: SINAPI - 05/2025 - Paraíba DER/PB ABR - JUN 2025 | H2: 19,45% | I2: Não Desonerado: embutido nos preços unitário dos insumos de mão de obra, de acordo com as bases.
A3: Orçamento Sintético
A4: Item | B4: Código | C4: Banco | D4: Descrição | E4: Und | F4: Quant. | G4: Valor Unit | H4: Valor Unit com BDI | I4: Total | J4: Peso (%)
D5: RUA SENADOR RUI CARNEIRO
A6: 1 | D6: SERVIÇOS PRELIMINARES | I6: =SUM(I7:I8) -> 1384.42 | J6: =I6/$H$37 -> 0.0025275757 | P6: 443.36 | Q6: =P6+I6 -> 1827.78 | R6: =SUM(Q7:Q8) -> 1642.94
B7: 99064 | C7: SINAPI | D7: LOCAÇÃO DE PAVIMENTAÇÃO. AF_10/2018 | E7: M | F7: 276.83 | G7: 0.43 | H7: =TRUNC(G7*1.1945,2) -> 0.51 | I7: =TRUNC(H7*F7,2) -> 141.18 | J7: =I7/$H$37 -> 0.00025775641 | L7: 258 | M7: =L7+F7 -> 534.83 | N7: =TRUNC(M7*H7,2) -> 272.76 | P7: 258.52 | Q7: =P7+I7 -> 399.7
A8: 1.2 | B8: 2 | C8: COMPOSIÇÃO | D8: PLACA DE OBRA EM CHAPA DE ACO GALVANIZADO | E8: m² | F8: 2 | G8: 520.41 | H8: =TRUNC(G8*1.1945,2) -> 621.62 | I8: =TRUNC(H8*F8,2) -> 1243.24 | J8: =I8/$H$37 -> 0.0022698193 | M8: =L8+F8 -> 2 | N8: =TRUNC(M8*H8,2) -> 1243.24 | Q8: =P8+I8 -> 1243.24
A9: 2 | D9: PAVIMENTAÇÃO | I9: =SUM(I10:I12) -> 220403.28 | J9: =I9/$H$37 -> 0.40239665 | M9: =L9+F9 -> 0 | N9: =TRUNC(M9*H9,2) -> 0 | P9: 268711.34 | Q9: =P9+I9 -> 489114.62 | R9: =SUM(Q10:Q19) -> 523358.9
A10: 2.1 | B10: 100576 | C10: SINAPI | D10: REGULARIZACAO E COMPACTACAO DE SUBLEITO DE SOLO PREDOMINANTEMENTE ARGILOSO. AF 11/2019 | E10: m² | F10: 1937.81 | G10: 2.29 | H10: =TRUNC(G10*1.1945,2) -> 2.73 | I10: =TRUNC(H10*F10,2) -> 5290.22 | J10: =I10/$H$37 -> 0.0096585078 | L10: 1806 | M10: =L10+F10 -> 3743.81 | N10: =TRUNC(M10*H10,2) -> 10220.6 | P10: 5392.59 | Q10: =P10+I10 -> 10682.81
A11: 2.2 | B11: 101169 | C11: SINAPI | D11: EXECUÇÃO DE PAVIMENTO EM PARALELEPIPEDO, REJUNTAMENTO COM ARGAMASSA TRAÇO 1:3 (CIMENTO E AREIA). AF_05/2020 | E11: m² | F11: 1937.81 | G11: 82.79 | H11: =TRUNC(G11*1.1945,2) -> 98.89 | I11: =TRUNC(H11*F11,2) -> 191630.03 | J11: =I11/$H$37 -> 0.34986449 | L11: 1806 | M11: =L11+F11 -> 3743.81 | N11: =TRUNC(M11*H11,2) -> 370225.37 | P11: 187306.97 | Q11: =P11+I11 -> 378937
A12: 2.3 | B12: 04.910.02 | C12: DER/PB JUL-SET 2022 | D12: FORN. E APLICACAO DE MEIO FIO EM PEDRA GRANITICA | E12: m | F12: 530.69 | G12: 37.05 | H12: =TRUNC(G12*1.1945,2) -> 44.25 | I12: =TRUNC(H12*F12,2) -> 23483.03 | J12: =I12/$H$37 -> 0.042873648 | L12: 516 | M12: =L12+F12 -> 1046.69 | N12: =TRUNC(M12*H12,2) -> 46316.03 | P12: 27960.72 | Q12: =P12+I12 -> 51443.75
A13: 3 | D13: PASSEIO | I13: =SUM(I14:I15) -> 30446.92 | J13: =I13/$H$37 -> 0.055587823
A14: 3.1 | B14: 3 | C14: COMPOSIÇÃO | D14: EXECUÇÃO DE PASSEIO (CALÇADA) EM CONCRETO 12 MPA, TRAÇO 1:3:5 (CIMENTO/AREIA/BRITA), PREPARO MECÂNICO, ESPESSURA 7CM, COM JUNTA DE DILATAÇÃO EM MADEIRA, INCLUSO LANÇAMENTO E ADENSAMENTO | E14: m² | F14: 493.19 | G14: 49.51 | H14: =TRUNC(G14*1.1945,2) -> 59.13 | I14: =TRUNC(H14*F14,2) -> 29162.32 | J14: =I14/$H$37 -> 0.053242492 | L14: 774 | M14: =L14+F14 -> 1267.19 | N14: =TRUNC(M14*H14,2) -> 74928.94 | P14: 42617.42 | Q14: =P14+I14 -> 71779.74
A15: 3.2 | B15: 4 | C15: COMPOSIÇÃO | D15: Rampa padrão para acesso de deficientes a passeio público, em concreto simples Fck=25MPa, desempolada, com pintura indicativa em novacor, 02 demãos | E15: un | F15: 5 | G15: 215.09 | H15: =TRUNC(G15*1.1945,2) -> 256.92 | I15: =TRUNC(H15*F15,2) -> 1284.6 | J15: =I15/$H$37 -> 0.0023453314 | L15: 5 | M15: =L15+F15 -> 10 | N15: =TRUNC(M15*H15,2) -> 2569.2 | P15: 1147 | Q15: =P15+I15 -> 2431.6
A16: 4 | D16: SINALIZAÇÃO | I16: =SUM(I17:I19) -> 3964.9 | J16: =I16/$H$37 -> 0.0072388327
A17: 4.1 | B17: 1 | C17: COMPOSIÇÃO | D17: PLACA ESMALTADA PARA IDENTIFICAÇÃO NR DE RUA, DIMENSÕES 45X25CM | E17: UN | F17: 1 | G17: 140.26 | H17: =TRUNC(G17*1.1945,2) -> 167.54 | I17: =TRUNC(H17*F17,2) -> 167.54 | J17: =I17/$H$37 -> 0.00030588263
A18: 4.2 | B18: 102498 | C18: SINAPI | D18: PINTURA DE MEIO-FIO COM TINTA BRANCA A BASE DE CAL (CAIAÇÃO). AF_05/2021 | E18: M | F18: 553.66 | G18: 1.38 | H18: =TRUNC(G18*1.1945,2) -> 1.64 | I18: =TRUNC(H18*F18,2) -> 908 | J18: =I18/$H$37 -> 0.0016577619 | L18: 516 | M18: =L18+F18 -> 1069.66 | N18: =TRUNC(M18*H18,2) -> 1754.24 | P18: 1211.82 | Q18: =P18+I18 -> 2119.82
A19: 4.3 | B19: 5 | C19: COMPOSIÇÃO | D19: Sinalização permanente, vertical, com placa de aço (60x60cm) com poste de madeira 3,50m fixado com base de concreto 40x40x50 | E19: un | F19: 6 | G19: 403.15 | H19: =TRUNC(G19*1.1945,2) -> 481.56 | I19: =TRUNC(H19*F19,2) -> 2889.36 | J19: =I19/$H$37 -> 0.0052751882 | L19: 6 | M19: =L19+F19 -> 12 | N19: =TRUNC(M19*H19,2) -> 5778.72 | P19: 3074.82 | Q19: =P19+I19 -> 5964.18
D20: RUA JOSÉ NUNES MACHADO
A21: 1 | D21: SERVIÇOS PRELIMINARES | I21: =SUM(I22) -> 206 | J21: =I21/$H$37 -> 0.00037610016
A22: 1.2 | B22: 99064 | C22: SINAPI | D22: LOCAÇÃO DE PAVIMENTAÇÃO. AF_10/2018 | E22: M | F22: 403.94 | G22: 0.43 | H22: =TRUNC(G22*1.1945,2) -> 0.51 | I22: =TRUNC(H22*F22,2) -> 206 | J22: =I22/$H$37 -> 0.00037610016
A23: 2 | D23: PAVIMENTAÇÃO | I23: =SUM(I24:I26) -> 240101.93 | J23: =I23/$H$37 -> 0.43836104
A24: 2.1 | B24: 100576 | C24: SINAPI | D24: REGULARIZACAO E COMPACTACAO DE SUBLEITO DE SOLO PREDOMINANTIMENTE ARGILOSO. AF 11/2019 | E24: m² | F24: 2019.7 | G24: 1.92 | H24: =TRUNC(G24*1.1945,2) -> 2.29 | I24: =TRUNC(H24*F24,2) -> 4625.11 | J24: =I24/$H$37 -> 0.0084441972
A25: 2.2 | B25: 101169 | C25: SINAPI | D25: EXECUÇÃO DE PAVIMENTO EM PARALELEPIPEDO, REJUNTAMENTO COM ARGAMASSA TRAÇO 1:3 (CIMENTO E AREIA). AF_05/2020 | E25: m² | F25: 2019.7 | G25: 82.79 | H25: =TRUNC(G25*1.1945,2) -> 98.89 | I25: =TRUNC(H25*F25,2) -> 199728.13 | J25: =I25/$H$37 -> 0.36464943
A26: 2.3 | B26: 04.910.02 | C26: DER/PB JUL-SET 2022 | D26: FORN. E APLICACAO DE MEIO FIO EM PEDRA GRANITICA | E26: m | F26: 807.88 | G26: 37.05 | H26: =TRUNC(G26*1.1945,2) -> 44.25 | I26: =TRUNC(H26*F26,2) -> 35748.69 | J26: =I26/$H$37 -> 0.065267418
A27: 3 | D27: PASSEIO | I27: =SUM(I28:I29) -> 46837.16 | J27: =I27/$H$37 -> 0.085511959
A28: 3.1 | B28: 3 | C28: COMPOSIÇÃO | D28: EXECUÇÃO DE PASSEIO (CALÇADA) EM CONCRETO 12 MPA, TRAÇO 1:3:5 (CIMENTO/AREIA/BRITA), PREPARO MECÂNICO, ESPESSURA 7CM, COM JUNTA DE DILATAÇÃO EM MADEIRA, INCLUSO LANÇAMENTO E ADENSAMENTO | E28: m² | F28: 770.38 | G28: 49.51 | H28: =TRUNC(G28*1.1945,2) -> 59.13 | I28: =TRUNC(H28*F28,2) -> 45552.56 | J28: =I28/$H$37 -> 0.083166628
A29: 3.2 | B29: 4 | C29: COMPOSIÇÃO | D29: Rampa padrão para acesso de deficientes a passeio público, em concreto simples Fck=25MPa, desempolada, com pintura indicativa em novacor, 02 demãos | E29: un | F29: 5 | G29: 215.09 | H29: =TRUNC(G29*1.1945,2) -> 256.92 | I29: =TRUNC(H29*F29,2) -> 1284.6 | J29: =I29/$H$37 -> 0.0023453314
A30: 4 | D30: SINALIZAÇÃO | I30: =SUM(I31:I33) -> 4381.82 | J30: =I30/$H$37 -> 0.0080000156
A31: 4.1 | B31: 1 | C31: COMPOSIÇÃO | D31: PLACA ESMALTADA PARA IDENTIFICAÇÃO NR DE RUA, DIMENSÕES 45X25CM | E31: UN | F31: 1 | G31: 140.26 | H31: =TRUNC(G31*1.1945,2) -> 167.54 | I31: =TRUNC(H31*F31,2) -> 167.54 | J31: =I31/$H$37 -> 0.00030588263
A32: 4.2 | B32: 102498 | C32: SINAPI | D32: PINTURA DE MEIO-FIO COM TINTA BRANCA A BASE DE CAL (CAIAÇÃO). AF_05/2021 | E32: M | F32: 807.88 | G32: 1.38 | H32: =TRUNC(G32*1.1945,2) -> 1.64 | I32: =TRUNC(H32*F32,2) -> 1324.92 | J32: =I32/$H$37 -> 0.0024189448
A33: 4.3 | B33: 5 | C33: COMPOSIÇÃO | D33: Sinalização permanente, vertical, com placa de aço (60x60cm) com poste de madeira 3,50m fixado com base de concreto 40x40x50 | E33: un | F33: 6 | G33: 403.15 | H33: =TRUNC(G33*1.1945,2) -> 481.56 | I33: =TRUNC(H33*F33,2) -> 2889.36 | J33: =I33/$H$37 -> 0.0052751882
A35: Tipo de Licitação | D35: TOMADA DE PREÇOS | F35: Total sem BDI | H35: =((SUM(I6:I33)/2)/1.1945) -> 458540.33
A36: Abertura da Licitação | F36: Total do BDI | H36: =H37-H35 -> 89186.095
A37: Número do Processo Licitatório | F37: Total Geral | H37: =SUM(I6:I33)/2 -> 547726.43
A39: _______________________________________________________________

Sheet PERDE GANHA
B2: Obra | H2: Bancos | L2: B.D.I. | M2: Encargos Sociais
B3: PAVIMENTAÇÃO EM PARALELEPÍPEDO E DRENAGEM DAS RUAS SENADOR RUI CARNEIRO E JOSÉ NUNES MACHADO | H3: SINAPI - 05/2025 - Paraíba DER/PB ABR - JUN 2025 | L3: 19,45% | M3: Não Desonerado: embutido nos preços unitário dos insumos de mão de obra, de acordo com as bases.
A4: Orçamento Sintético
A5: Item | B5: Código | C5: Banco | D5: Descrição | E5: Und | F5: Quant. | G5: Valor unit. c/ BDI SINAPI 08/2022 PB N. DES. | H5: Valor unit. SINAPI 05/2025 PB N. DES. | I5: Valor Unit com BDI | J5: QUANTITATIVO | M5: FINANCEIRO | P5: Peso (%) | R5: FINANCEIRO
J6: PREVISTO | K6: EXECUTATO | L6: RESTANTE | M6: PREVISTO | N6: EXECUTATO | O6: RESTANTE
D7: RUA SENADOR RUI CARNEIRO
A8: 1 | D8: SERVIÇOS PRELIMINARES | M8: =SUM(M9:M10) -> 1260.93 | N8: =SUM(N9:N10) -> 1260.93 | O8: =SUM(O9:O10) -> 0 | P8: 0
A9: 1.1 | B9: 99064 | C9: SINAPI | D9: LOCAÇÃO DE PAVIMENTAÇÃO. AF_10/2018 | E9: M | F9: 276.83 | G9: =S9 -> 0.62 | H9: 0.47 | I9: =TRUNC(H9*1.1945,2) -> 0.56 | J9: 276.83 | K9: 276.83 | L9: =J9-K9 -> 0 | M9: =O9+N9 -> 171.63 | N9: =TRUNC(K9*G9,2) -> 171.63 | O9: =TRUNC(I9*L9,2) -> 0 | P9: =O9/$P$41 -> 0 | S9: 0.62
A10: 1.2 | B10: 2 | C10: COMPOSIÇÃO | D10: PLACA DE OBRA EM CHAPA DE ACO GALVANIZADO | E10: m² | F10: 2 | G10: =S10 -> 544.65 | H10: 525.74 | I10: =TRUNC(H10*1.1945,2) -> 627.99 | J10: 2 | K10: 2 | L10: =J10-K10 -> 0 | M10: =O10+N10 -> 1089.3 | N10: =TRUNC(K10*G10,2) -> 1089.3 | O10: =TRUNC(I10*L10,2) -> 0 | P10: =O10/$P$41 -> 0 | S10: 544.65
A11: 2 | D11: PAVIMENTAÇÃO | M11: =SUM(M12:M14) -> 192195.85 | N11: =SUM(N12:N14) -> 95019.79 | O11: =SUM(O12:O14) -> 97176.06 | P11: =O11/$P$41 -> 0.32620381 | S11: 0
A12: 2.1 | B12: 100576 | C12: SINAPI | D12: REGULARIZACAO E COMPACTACAO DE SUBLEITO DE SOLO PREDOMINANTEMENTE ARGILOSO. AF 11/2019 | E12: m² | F12: 1937.81 | G12: =S12 -> 2.25 | H12: 1.96 | I12: =TRUNC(H12*1.1945,2) -> 2.34 | J12: 1937.81 | K12: 1092 | L12: =J12-K12 -> 845.81 | M12: =O12+N12 -> 4436.19 | N12: =TRUNC(K12*G12,2) -> 2457 | O12: =TRUNC(I12*L12,2) -> 1979.19 | P12: =O12/$P$41 -> 0.0066438104 | S12: 2.25
A13: 2.2 | B13: 101169 | C13: SINAPI | D13: EXECUÇÃO DE PAVIMENTO EM PARALELEPIPEDO, REJUNTAMENTO COM ARGAMASSA TRAÇO 1:3 (CIMENTO E AREIA). AF_05/2020 | E13: m² | F13: 1937.81 | G13: =S13 -> 76.99 | H13: 84.65 | I13: =TRUNC(H13*1.1945,2) -> 101.11 | J13: 1937.81 | K13: 1092 | L13: =J13-K13 -> 845.81 | M13: =O13+N13 -> 169593.11 | N13: 84073.27 | O13: =TRUNC(I13*L13,2) -> 85519.84 | P13: =O13/$P$41 -> 0.28707583 | S13: 76.99
A14: 2.3 | B14: 04.910.02 | C14: DER/PB ABRIL-JUNHO 2025 | D14: FORN. E APLICACAO DE MEIO FIO EM PEDRA GRANITICA | E14: m | F14: 530.69 | G14: =S14 -> 27.21 | H14: 37.05 | I14: =TRUNC(H14*1.1945,2) -> 44.25 | J14: 530.69 | K14: 312 | L14: =J14-K14 -> 218.69 | M14: =O14+N14 -> 18166.55 | N14: =TRUNC(K14*G14,2) -> 8489.52 | O14: =TRUNC(I14*L14,2) -> 9677.03 | P14: =O14/$P$41 -> 0.032484174 | S14: 27.21
A15: 3 | D15: PASSEIO | M15: =SUM(M16:M17) -> 31572.14 | N15: =SUM(N16:N17) -> 0 | O15: =SUM(O16:O17) -> 31572.14 | P15: =O15/$P$41 -> 0.1059824 | S15: 0
A16: 3.1 | B16: 3 | C16: COMPOSIÇÃO | D16: EXECUÇÃO DE PASSEIO (CALÇADA) EM CONCRETO 12 MPA, TRAÇO 1:3:5 (CIMENTO/AREIA/BRITA), PREPARO MECÂNICO, ESPESSURA 7CM, COM JUNTA DE DILATAÇÃO EM MADEIRA, INCLUSO LANÇAMENTO E ADENSAMENTO | E16: m² | F16: 493.19 | G16: =S16 -> 43.49 | H16: 51.35 | I16: =TRUNC(H16*1.1945,2) -> 61.33 | J16: 493.19 | L16: =J16-K16 -> 493.19 | M16: =O16+N16 -> 30247.34 | N16: =TRUNC(K16*G16,2) -> 0 | O16: =TRUNC(I16*L16,2) -> 30247.34 | P16: =O16/$P$41 -> 0.10153527 | S16: 43.49
A17: 3.2 | B17: 4 | C17: COMPOSIÇÃO | D17: Rampa padrão para acesso de deficientes a passeio público, em concreto simples Fck=25MPa, desempolada, com pintura indicativa em novacor, 02 demãos | E17: un | F17: 5 | G17: =S17 -> 180.33 | H17: 221.82 | I17: =TRUNC(H17*1.1945,2) -> 264.96 | J17: 5 | L17: =J17-K17 -> 5 | M17: =O17+N17 -> 1324.8 | N17: =TRUNC(K17*G17,2) -> 0 | O17: =TRUNC(I17*L17,2) -> 1324.8 | P17: =O17/$P$41 -> 0.0044471324 | S17: 180.33
A18: 4 | D18: SINALIZAÇÃO | M18: =SUM(M19:M21) -> 4051.55 | N18: =SUM(N19:N21) -> 0 | O18: =SUM(O19:O21) -> 4051.55 | P18: =O18/$P$41 -> 0.013600377 | S18: 0
A19: 4.1 | B19: 1 | C19: COMPOSIÇÃO | D19: PLACA ESMALTADA PARA IDENTIFICAÇÃO NR DE RUA, DIMENSÕES 45X25CM | E19: UN | F19: 1 | G19: =S19 -> 145.32 | H19: 140.9 | I19: =TRUNC(H19*1.1945,2) -> 168.3 | J19: 1 | L19: =J19-K19 -> 1 | M19: =O19+N19 -> 168.3 | N19: =TRUNC(K19*G19,2) -> 0 | O19: =TRUNC(I19*L19,2) -> 168.3 | P19: =O19/$P$41 -> 0.00056495501 | S19: 145.32
A20: 4.2 | B20: 102498 | C20: SINAPI | D20: PINTURA DE MEIO-FIO COM TINTA BRANCA A BASE DE CAL (CAIAÇÃO). AF_05/2021 | E20: M | F20: 553.66 | G20: =S20 -> 1.4 | H20: 1.49 | I20: =TRUNC(H20*1.1945,2) -> 1.77 | J20: 553.66 | L20: =J20-K20 -> 553.66 | M20: =O20+N20 -> 979.97 | N20: =TRUNC(K20*G20,2) -> 0 | O20: =TRUNC(I20*L20,2) -> 979.97 | P20: =O20/$P$41 -> 0.0032895957 | S20: 1.4
A21: 4.3 | B21: 5 | C21: COMPOSIÇÃO | D21: Sinalização permanente, vertical, com placa de aço (60x60cm) com poste de madeira 3,50m fixado com base de concreto 40x40x50 | E21: un | F21: 6 | G21: =S21 -> 402.84 | H21: 405.09 | I21: =TRUNC(H21*1.1945,2) -> 483.88 | J21: 6 | L21: =J21-K21 -> 6 | M21: =O21+N21 -> 2903.28 | N21: =TRUNC(K21*G21,2) -> 0 | O21: =TRUNC(I21*L21,2) -> 2903.28 | P21: =O21/$P$41 -> 0.0097458263 | S21: 402.84
D22: RUA JOSÉ NUNES MACHADO | S22: 0
A23: 1 | D23: SERVIÇOS PRELIMINARES | M23: =SUM(M24) -> 250.44 | N23: =SUM(N24) -> 250.44 | O23: =SUM(O24) -> 0 | P23: =O23/$P$41 -> 0 | S23: 0
A24: 1.2 | B24: 99064 | C24: SINAPI | D24: LOCAÇÃO DE PAVIMENTAÇÃO. AF_10/2018 | E24: M | F24: 403.94 | G24: =S24 -> 0.62 | H24: 0.47 | I24: =TRUNC(H24*1.1945,2) -> 0.56 | J24: 403.94 | K24: 403.94 | L24: =J24-K24 -> 0 | M24: =O24+N24 -> 250.44 | N24: =TRUNC(K24*G24,2) -> 250.44 | O24: =TRUNC(I24*L24,2) -> 0 | P24: =O24/$P$41 -> 0 | S24: 0.62
A25: 2 | D25: PAVIMENTAÇÃO | M25: =SUM(M26:M28) -> 210712.53 | N25: =SUM(N26:N28) -> 98686.17 | O25: =SUM(O26:O28) -> 112026.36 | P25: =O25/$P$41 -> 0.37605379 | S25: 0
A26: 2.1 | B26: 100576 | C26: SINAPI | D26: REGULARIZACAO E COMPACTACAO DE SUBLEITO DE SOLO PREDOMINANTIMENTE ARGILOSO. AF 11/2019 | E26: m² | F26: 2019.7 | G26: =S26 -> 2.25 | H26: 1.96 | I26: =TRUNC(H26*1.1945,2) -> 2.34 | J26: 2019.7 | K26: 1095.01 | L26: =J26-K26 -> 924.69 | M26: =O26+N26 -> 4627.53 | N26: 2463.76 | O26: =TRUNC(I26*L26,2) -> 2163.77 | P26: =O26/$P$41 -> 0.0072634147 | S26: 2.25
A27: 2.2 | B27: 101169 | C27: SINAPI | D27: EXECUÇÃO DE PAVIMENTO EM PARALELEPIPEDO, REJUNTAMENTO COM ARGAMASSA TRAÇO 1:3 (CIMENTO E AREIA). AF_05/2020 | E27: m² | F27: 2019.7 | G27: =S27 -> 76.99 | H27: 84.65 | I27: =TRUNC(H27*1.1945,2) -> 101.11 | J27: 2019.7 | K27: 1095.01 | L27: =J27-K27 -> 924.69 | M27: =O27+N27 -> 177799.83 | N27: 84304.43 | O27: =TRUNC(I27*L27,2) -> 93495.4 | P27: =O27/$P$41 -> 0.31384845 | S27: 76.99
A28: 2.3 | B28: 04.910.02 | C28: DER/PB JUL-SET 2022 | D28: FORN. E APLICACAO DE MEIO FIO EM PEDRA GRANITICA | E28: m | F28: 807.88 | G28: =S28 -> 27.21 | H28: 37.05 | I28: =TRUNC(H28*1.1945,2) -> 44.25 | J28: 807.88 | K28: 438 | L28: =J28-K28 -> 369.88 | M28: =O28+N28 -> 28285.17 | N28: =TRUNC(K28*G28,2) -> 11917.98 | O28: =TRUNC(I28*L28,2) -> 16367.19 | P28: =O28/$P$41 -> 0.054941925 | S28: 27.21
A29: 3 | D29: PASSEIO | M29: =SUM(M30:M31) -> 48572.2 | N29: =SUM(N30:N31) -> 0 | O29: =SUM(O30:O31) -> 48572.2 | P29: =O29/$P$41 -> 0.16304877 | S29: 0
A30: 3.1 | B30: 3 | C30: COMPOSIÇÃO | D30: EXECUÇÃO DE PASSEIO (CALÇADA) EM CONCRETO 12 MPA, TRAÇO 1:3:5 (CIMENTO/AREIA/BRITA), PREPARO MECÂNICO, ESPESSURA 7CM, COM JUNTA DE DILATAÇÃO EM MADEIRA, INCLUSO LANÇAMENTO E ADENSAMENTO | E30: m² | F30: 770.38 | G30: =S30 -> 43.49 | H30: 51.35 | I30: =TRUNC(H30*1.1945,2) -> 61.33 | J30: 770.38 | L30: =J30-K30 -> 770.38 | M30: =O30+N30 -> 47247.4 | N30: =TRUNC(K30*G30,2) -> 0 | O30: =TRUNC(I30*L30,2) -> 47247.4 | P30: =O30/$P$41 -> 0.15860163 | S30: 43.49
A31: 3.2 | B31: 4 | C31: COMPOSIÇÃO | D31: Rampa padrão para acesso de deficientes a passeio público, em concreto simples Fck=25MPa, desempolada, com pintura indicativa em novacor, 02 demãos | E31: un | F31: 5 | G31: =S31 -> 180.33 | H31: 221.82 | I31: =TRUNC(H31*1.1945,2) -> 264.96 | J31: 5 | L31: =J31-K31 -> 5 | M31: =O31+N31 -> 1324.8 | N31: =TRUNC(K31*G31,2) -> 0 | O31: =TRUNC(I31*L31,2) -> 1324.8 | P31: =O31/$P$41 -> 0.0044471324 | S31: 180.33
A32: 4 | D32: SINALIZAÇÃO | M32: =SUM(M33:M35) -> 4501.52 | N32: =SUM(N33:N35) -> 0 | O32: =SUM(O33:O35) -> 4501.52 | P32: =O32/$P$41 -> 0.015110851 | S32: 0
A33: 4.1 | B33: 1 | C33: COMPOSIÇÃO | D33: PLACA ESMALTADA PARA IDENTIFICAÇÃO NR DE RUA, DIMENSÕES 45X25CM | E33: UN | F33: 1 | G33: =S33 -> 145.32 | H33: 140.9 | I33: =TRUNC(H33*1.1945,2) -> 168.3 | J33: 1 | L33: =J33-K33 -> 1 | M33: =O33+N33 -> 168.3 | N33: =TRUNC(K33*G33,2) -> 0 | O33: =TRUNC(I33*L33,2) -> 168.3 | P33: =O33/$P$41 -> 0.00056495501 | S33: 145.32
A34: 4.2 | B34: 102498 | C34: SINAPI | D34: PINTURA DE MEIO-FIO COM TINTA BRANCA A BASE DE CAL (CAIAÇÃO). AF_05/2021 | E34: M | F34: 807.88 | G34: =S34 -> 1.4 | H34: 1.49 | I34: =TRUNC(H34*1.1945,2) -> 1.77 | J34: 807.88 | L34: =J34-K34 -> 807.88 | M34: =O34+N34 -> 1429.94 | N34: =TRUNC(K34*G34,2) -> 0 | O34: =TRUNC(I34*L34,2) -> 1429.94 | P34: =O34/$P$41 -> 0.0048000699 | S34: 1.4
A35: 4.3 | B35: 5 | C35: COMPOSIÇÃO | D35: Sinalização permanente, vertical, com placa de aço (60x60cm) com poste de madeira 3,50m fixado com base de concreto 40x40x50 | E35: un | F35: 6 | G35: =S35 -> 402.84 | H35: 405.09 | I35: =TRUNC(H35*1.1945,2) -> 483.88 | J35: 6 | L35: =J35-K35 -> 6 | M35: =O35+N35 -> 2903.28 | N35: =TRUNC(K35*G35,2) -> 0 | O35: =TRUNC(I35*L35,2) -> 2903.28 | P35: =O35/$P$41 -> 0.0097458263 | S35: 402.84
N37: Total s/ BDI: | P37: =((SUM(M8:M35)/2)/1.1945) -> 412823.07
N38: Total do BDI: | P38: =P39-P37 -> 80294.088
N39: Total c/ BDI: | P39: =SUM(M8:M35)/2 -> 493117.16
N40: Total executado: | P40: =SUM(N8:N35)/2 -> 195217.33
N41: Total restante: | P41: =SUM(O8:O35)/2 -> 297899.83

Sheet cronograma
B2: Obra | C2: Bancos | F2: B.D.I. | H2: Encargos Sociais
B3: PAVIMENTAÇÃO EM PARALELEPÍPEDO E DRENAGEM DAS RUAS SENADOR RUI CARNEIRO E JOSÉ NUNES MACHADO | C3: SINAPI - 05/2025 - Paraíba DER/PB ABR - JUN 2025 | F3: 19,45% | H3: Não Desonerado: embutido nos preços unitário dos insumos de mão de obra, de acordo com as bases.
A4: Cronograma Físico e Financeiro
A5: Item | B5: Descrição | C5: Total Por Etapa | D5: 30 DIAS | E5: 60 DIAS | F5: 90 DIAS | G5: 120 DIAS | H5: 150 DIAS | I5: 180 DIAS
B6: ='PERDE GANHA'!D7 -> RUA SENADOR RUI CARNEIRO
A7: 1 | B7: ='PERDE GANHA'!D8 -> SERVIÇOS PRELIMINARES | C7: 0
C8: ='PERDE GANHA'!O8 -> 0
A9: 2 | B9: ='PERDE GANHA'!D11 -> PAVIMENTAÇÃO | C9: 1 | D9: 0.25 | E9: 0.25 | F9: 0.25 | G9: 0.25
C10: ='PERDE GANHA'!O11 -> 97176.06 | D10: =D9*$C10 -> 24294.015 | E10: =E9*$C10 -> 24294.015 | F10: =F9*$C10 -> 24294.015 | G10: =G9*$C10 -> 24294.015
A11: 3 | B11: ='PERDE GANHA'!D15 -> PASSEIO | C11: 1 | H11: 0.5 | I11: 0.5
C12: ='PERDE GANHA'!O15 -> 31572.14 | H12: =H11*$C12 -> 15786.07 | I12: =I11*$C12 -> 15786.07
A13: 4 | B13: ='PERDE GANHA'!D18 -> SINALIZAÇÃO | C13: 1 | I13: 1
C14: ='PERDE GANHA'!O18 -> 4051.55 | I14: =I13*$C14 -> 4051.55
B15: ='PERDE GANHA'!D22 -> RUA JOSÉ NUNES MACHADO
A16: 1 | B16: ='PERDE GANHA'!D23 -> SERVIÇOS PRELIMINARES | C16: 0
C17: ='PERDE GANHA'!O23 -> 0
A18: 2 | B18: ='PERDE GANHA'!D25 -> PAVIMENTAÇÃO | C18: 1 | D18: 0.25 | E18: 0.25 | F18: 0.25 | G18: 0.25
C19: ='PERDE GANHA'!O25 -> 112026.36 | D19: =D18*$C19 -> 28006.59 | E19: =E18*$C19 -> 28006.59 | F19: =F18*$C19 -> 28006.59 | G19: =G18*$C19 -> 28006.59
A20: 3 | B20: ='PERDE GANHA'!D29 -> PASSEIO | C20: 1 | H20: 0.5 | I20: 0.5
C21: ='PERDE GANHA'!O29 -> 48572.2 | H21: =H20*$C21 -> 24286.1 | I21: =I20*$C21 -> 24286.1
A22: 4 | B22: ='PERDE GANHA'!D32 -> SINALIZAÇÃO | C22: 1 | I22: 1
C23: ='PERDE GANHA'!O32 -> 4501.52 | I23: =I22*$C23 -> 4501.52
A24: Porcentagem | C24: 1 | D24: =D25/$C$25 -> 0.1755644 | E24: =E25/$C$25 -> 0.1755644 | F24: =F25/$C$25 -> 0.1755644 | G24: =G25/$C$25 -> 0.1755644 | H24: =H25/$C$25 -> 0.13451559 | I24: =I25/$C$25 -> 0.16322681
A25: Custo | C25: =SUM(C8,C10,C12,C14,C17,C19,C21,C23) -> 297899.83 | D25: =SUM(D8,D10,D12,D14,D17,D19,D21,D23) -> 52300.605 | E25: =SUM(E8,E10,E12,E14,E17,E19,E21,E23) -> 52300.605 | F25: =SUM(F8,F10,F12,F14,F17,F19,F21,F23) -> 52300.605 | G25: =SUM(G8,G10,G12,G14,G17,G19,G21,G23) -> 52300.605 | H25: =SUM(H8,H10,H12,H14,H17,H19,H21,H23) -> 40072.17 | I25: =SUM(I8,I10,I12,I14,I17,I19,I21,I23) -> 48625.24
A26: Porcentagem Acumulado | C26: 1 | D26: =D27/$C$27 -> 0.1755644 | E26: =E27/$C$27 -> 0.3511288 | F26: =F27/$C$27 -> 0.5266932 | G26: =G27/$C$27 -> 0.7022576 | H26: =H27/$C$27 -> 0.83677319 | I26: =I27/$C$27 -> 1
A27: Custo Acumulado | C27: =SUM(C8,C10,C12,C14,C17,C19,C21,C23) -> 297899.83 | D27: =D25 -> 52300.605 | E27: =E25+D27 -> 104601.21 | F27: =F25+E27 -> 156901.82 | G27: =G25+F27 -> 209202.42 | H27: =H25+G27 -> 249274.59 | I27: =I25+H27 -> 297899.83

Sheet MEM DE CÁL.
B2: Obra
B3: PAVIMENTAÇÃO EM PARALELEPÍPEDO E DRENAGEM DAS RUAS SENADOR RUI CARNEIRO E JOSÉ NUNES MACHADO
A4: Memorial de Cálculo
A5: Item | B5: Código | C5: Banco | D5: Descrição | E5: Und | F5: Quant. | G5: Repetição | H5: COMPRIMENTO | I5: LARGURA | J5: ALTURA | K5: TOTAL
D7: RUA SENADOR RUI CARNEIRO
A8: 1 | D8: SERVIÇOS PRELIMINARES
A9: 1.1 | B9: 99064 | C9: SINAPI | D9: LOCAÇÃO DE PAVIMENTAÇÃO. AF_10/2018 | E9: M | F9: 276.83 | K9: =K10 -> 276.83
H10: =F9 -> 276.83 | K10: =TRUNC(PRODUCT(G10:J10),2) -> 276.83
A11: 1.2 | B11: 2 | C11: COMPOSIÇÃO | D11: PLACA DE OBRA EM CHAPA DE ACO GALVANIZADO | E11: m² | F11: 2 | K11: =K12 -> 2
H12: 2 | K12: =TRUNC(PRODUCT(G12:J12),2) -> 2
A13: 2 | D13: PAVIMENTAÇÃO
A14: 2.1 | B14: 100576 | C14: SINAPI | D14: REGULARIZACAO E COMPACTACAO DE SUBLEITO DE SOLO PREDOMINANTEMENTE ARGILOSO. AF 11/2019 | E14: m² | F14: 1937.81 | K14: =K15 -> 1937.81
H15: =F9 -> 276.83 | I15: =F14/H15 -> 7 | K15: =TRUNC(PRODUCT(G15:J15),2) -> 1937.81
A16: 2.2 | B16: 101169 | C16: SINAPI | D16: EXECUÇÃO DE PAVIMENTO EM PARALELEPIPEDO, REJUNTAMENTO COM ARGAMASSA TRAÇO 1:3 (CIMENTO E AREIA). AF_05/2020 | E16: m² | F16: 1937.81 | K16: =K17 -> 1937.81
H17: =F9 -> 276.83 | I17: =F16/H17 -> 7 | K17: =TRUNC(PRODUCT(G17:J17),2) -> 1937.81
A18: 2.3 | B18: 04.910.02 | C18: DER/PB ABRIL-JUNHO 2025 | D18: FORN. E APLICACAO DE MEIO FIO EM PEDRA GRANITICA | E18: m | F18: 530.69 | K18: =K19 -> 530.69
G19: 2 | H19: =F18/2 -> 265.345 | K19: =TRUNC(PRODUCT(G19:J19),2) -> 530.69
A20: 3 | D20: PASSEIO
A21: 3.1 | B21: 3 | C21: COMPOSIÇÃO | D21: EXECUÇÃO DE PASSEIO (CALÇADA) EM CONCRETO 12 MPA, TRAÇO 1:3:5 (CIMENTO/AREIA/BRITA), PREPARO MECÂNICO, ESPESSURA 7CM, COM JUNTA DE DILATAÇÃO EM MADEIRA, INCLUSO LANÇAMENTO E ADENSAMENTO | E21: m² | F21: 493.19 | K21: =K22 -> 493.19
H22: =F21 -> 493.19 | I22: 1 | K22: =TRUNC(PRODUCT(G22:J22),2) -> 493.19
A23: 3.2 | B23: 4 | C23: COMPOSIÇÃO | D23: Rampa padrão para acesso de deficientes a passeio público, em concreto simples Fck=25MPa, desempolada, com pintura indicativa em novacor, 02 demãos | E23: un | F23: 5 | K23: =K24 -> 5
G24: =F23 -> 5 | K24: =TRUNC(PRODUCT(G24:J24),2) -> 5
A25: 4 | D25: SINALIZAÇÃO
A26: 4.1 | B26: 1 | C26: COMPOSIÇÃO | D26: PLACA ESMALTADA PARA IDENTIFICAÇÃO NR DE RUA, DIMENSÕES 45X25CM | E26: UN | F26: 1 | K26: =K27 -> 1
G27: =F26 -> 1 | K27: =TRUNC(PRODUCT(G27:J27),2) -> 1
A28: 4.2 | B28: 102498 | C28: SINAPI | D28: PINTURA DE MEIO-FIO COM TINTA BRANCA A BASE DE CAL (CAIAÇÃO). AF_05/2021 | E28: M | F28: 553.66 | K28: =K29 -> 553.66
G29: 2 | H29: =F28/2 -> 276.83 | K29: =TRUNC(PRODUCT(G29:J29),2) -> 553.66
A30: 4.3 | B30: 5 | C30: COMPOSIÇÃO | D30: Sinalização permanente, vertical, com placa de aço (60x60cm) com poste de madeira 3,50m fixado com base de concreto 40x40x50 | E30: un | F30: 6 | K30: =K31 -> 6
G31: =F30 -> 6 | K31: =TRUNC(PRODUCT(G31:J31),2) -> 6
D32: RUA JOSÉ NUNES MACHADO
A33: 1 | D33: SERVIÇOS PRELIMINARES
A34: 1.2 | B34: 99064 | C34: SINAPI | D34: LOCAÇÃO DE PAVIMENTAÇÃO. AF_10/2018 | E34: M | F34: 403.94 | K34: =K35 -> 403.94
H35: =F34 -> 403.94 | K35: =TRUNC(PRODUCT(G35:J35),2) -> 403.94
A36: 2 | D36: PAVIMENTAÇÃO
A37: 2.1 | B37: 100576 | C37: SINAPI | D37: REGULARIZACAO E COMPACTACAO DE SUBLEITO DE SOLO PREDOMINANTIMENTE ARGILOSO. AF 11/2019 | E37: m² | F37: 2019.7 | K37: =K38 -> 2019.7
H38: =F41/2 -> 403.94 | I38: =F37/H38 -> 5 | K38: =TRUNC(PRODUCT(G38:J38),2) -> 2019.7
A39: 2.2 | B39: 101169 | C39: SINAPI | D39: EXECUÇÃO DE PAVIMENTO EM PARALELEPIPEDO, REJUNTAMENTO COM ARGAMASSA TRAÇO 1:3 (CIMENTO E AREIA). AF_05/2020 | E39: m² | F39: 2019.7 | K39: =K40 -> 2019.7
H40: =F41/2 -> 403.94 | I40: =F39/H40 -> 5 | K40: =TRUNC(PRODUCT(G40:J40),2) -> 2019.7
A41: 2.3 | B41: 04.910.02 | C41: DER/PB JUL-SET 2022 | D41: FORN. E APLICACAO DE MEIO FIO EM PEDRA GRANITICA | E41: m | F41: 807.88 | K41: =K42 -> 807.88
G42: 2 | H42: =F41/2 -> 403.94 | K42: =TRUNC(PRODUCT(G42:J42),2) -> 807.88
A43: 3 | D43: PASSEIO
A44: 3.1 | B44: 3 | C44: COMPOSIÇÃO | D44: EXECUÇÃO DE PASSEIO (CALÇADA) EM CONCRETO 12 MPA, TRAÇO 1:3:5 (CIMENTO/AREIA/BRITA), PREPARO MECÂNICO, ESPESSURA 7CM, COM JUNTA DE DILATAÇÃO EM MADEIRA, INCLUSO LANÇAMENTO E ADENSAMENTO | E44: m² | F44: 770.38 | K44: =K45 -> 770.38
H45: =F44 -> 770.38 | I45: 1 | K45: =TRUNC(PRODUCT(G45:J45),2) -> 770.38
A46: 3.2 | B46: 4 | C46: COMPOSIÇÃO | D46: Rampa padrão para acesso de deficientes a passeio público, em concreto simples Fck=25MPa, desempolada, com pintura indicativa em novacor, 02 demãos | E46: un | F46: 5 | K46: =K47 -> 5
G47: 5 | K47: =TRUNC(PRODUCT(G47:J47),2) -> 5
A48: 4 | D48: SINALIZAÇÃO
A49: 4.1 | B49: 1 | C49: COMPOSIÇÃO | D49: PLACA ESMALTADA PARA IDENTIFICAÇÃO NR DE RUA, DIMENSÕES 45X25CM | E49: UN | F49: 1 | K49: =K50 -> 1
G50: 1 | K50: =TRUNC(PRODUCT(G50:J50),2) -> 1
A51: 4.2 | B51: 102498 | C51: SINAPI | D51: PINTURA DE MEIO-FIO COM TINTA BRANCA A BASE DE CAL (CAIAÇÃO). AF_05/2021 | E51: M | F51: 807.88 | K51: =K52 -> 807.88
G52: 2 | H52: =F51/2 -> 403.94 | K52: =TRUNC(PRODUCT(G52:J52),2) -> 807.88
A53: 4.3 | B53: 5 | C53: COMPOSIÇÃO | D53: Sinalização permanente, vertical, com placa de aço (60x60cm) com poste de madeira 3,50m fixado com base de concreto 40x40x50 | E53: un | F53: 6 | K53: =K54 -> 6
G54: 6 | K54: =TRUNC(PRODUCT(G54:J54),2) -> 6
