Workbook

Sheet Plan1
B3: OBRA: Passagem molhada no Sítio Barra
B4: LOCAL: Sítio Barra, Juripiranga-PB.
B5: CONSTRUÇÃO DE EDIFÍCIOS (TAMBÉM PARA REFORMAS)
B6: NÃO DESONERADA
G7: N. DES. | I7: DES.
B8: ITENS | D8: SIGLAS | E8: VALORES | G8: MIN. | H8: MAX | I8: MIN | J8: MAX
B9: TAXA DE RATEIO DA ADMINISTRAÇÃO CENTRAL | D9: AC | E9: =IF($B$6=CAT.!$D$4,Plan1!G9,Plan1!I9) -> 0.03 | F9: ' | G9: =IF($B$5=CAT.!$B$3,'N. DES.'!E4,IF($B$5=CAT.!$B$4,'N. DES.'!E16,IF($B$5=CAT.!$B$5,'N. DES.'!E28,IF($B$5=CAT.!$B$6,'N. DES.'!E40,IF($B$5=CAT.!$B$7,'N. DES.'!E52,IF($B$5=CAT.!$B$8,'N. DES.'!E64,IF($B$5=CAT.!$B$9,'N. DES.'!E76,))))))) -> 0.03 | H9: =IF($B$5=CAT.!$B$3,'N. DES.'!F4,IF($B$5=CAT.!$B$4,'N. DES.'!F16,IF($B$5=CAT.!$B$5,'N. DES.'!F28,IF($B$5=CAT.!$B$6,'N. DES.'!F40,IF($B$5=CAT.!$B$7,'N. DES.'!F52,IF($B$5=CAT.!$B$8,'N. DES.'!F64,IF($B$5=CAT.!$B$9,'N. DES.'!F76,))))))) -> 0.055 | I9: =IF($B$5=CAT.!$B$3,DES.!E4,IF($B$5=CAT.!$B$4,DES.!E16,IF($B$5=CAT.!$B$5,DES.!E28,IF($B$5=CAT.!$B$6,DES.!E40,IF($B$5=CAT.!$B$7,DES.!E52,IF($B$5=CAT.!$B$8,DES.!E64,IF($B$5=CAT.!$B$9,DES.!E76,))))))) -> 0.03 | J9: =IF($B$5=CAT.!$B$3,DES.!F4,IF($B$5=CAT.!$B$4,DES.!F16,IF($B$5=CAT.!$B$5,DES.!F28,IF($B$5=CAT.!$B$6,DES.!F40,IF($B$5=CAT.!$B$7,DES.!F52,IF($B$5=CAT.!$B$8,DES.!F64,IF($B$5=CAT.!$B$9,DES.!F76,))))))) -> 0.055
B10: TAXA DE SEGURO E GARANTIA DO EMPREENDIMENTO | D10: S+G | E10: =IF($B$6=CAT.!$D$4,Plan1!G10,Plan1!I10) -> 0.008 | G10: =IF($B$5=CAT.!$B$3,'N. DES.'!E5,IF($B$5=CAT.!$B$4,'N. DES.'!E17,IF($B$5=CAT.!$B$5,'N. DES.'!E29,IF($B$5=CAT.!$B$6,'N. DES.'!E41,IF($B$5=CAT.!$B$7,'N. DES.'!E53,IF($B$5=CAT.!$B$8,'N. DES.'!E65,IF($B$5=CAT.!$B$9,'N. DES.'!E77,))))))) -> 0.008 | H10: =IF($B$5=CAT.!$B$3,'N. DES.'!F5,IF($B$5=CAT.!$B$4,'N. DES.'!F17,IF($B$5=CAT.!$B$5,'N. DES.'!F29,IF($B$5=CAT.!$B$6,'N. DES.'!F41,IF($B$5=CAT.!$B$7,'N. DES.'!F53,IF($B$5=CAT.!$B$8,'N. DES.'!F65,IF($B$5=CAT.!$B$9,'N. DES.'!F77,))))))) -> 0.01 | I10: =IF($B$5=CAT.!$B$3,DES.!E5,IF($B$5=CAT.!$B$4,DES.!E17,IF($B$5=CAT.!$B$5,DES.!E29,IF($B$5=CAT.!$B$6,DES.!E41,IF($B$5=CAT.!$B$7,DES.!E53,IF($B$5=CAT.!$B$8,DES.!E65,IF($B$5=CAT.!$B$9,DES.!E77,))))))) -> 0.008 | J10: =IF($B$5=CAT.!$B$3,DES.!F5,IF($B$5=CAT.!$B$4,DES.!F17,IF($B$5=CAT.!$B$5,DES.!F29,IF($B$5=CAT.!$B$6,DES.!F41,IF($B$5=CAT.!$B$7,DES.!F53,IF($B$5=CAT.!$B$8,DES.!F65,IF($B$5=CAT.!$B$9,DES.!F77,))))))) -> 0.01
B11: TAXA DE RISCO | D11: R | E11: =IF($B$6=CAT.!$D$4,Plan1!G11,Plan1!I11) -> 0.0097 | G11: =IF($B$5=CAT.!$B$3,'N. DES.'!E6,IF($B$5=CAT.!$B$4,'N. DES.'!E18,IF($B$5=CAT.!$B$5,'N. DES.'!E30,IF($B$5=CAT.!$B$6,'N. DES.'!E42,IF($B$5=CAT.!$B$7,'N. DES.'!E54,IF($B$5=CAT.!$B$8,'N. DES.'!E66,IF($B$5=CAT.!$B$9,'N. DES.'!E78,))))))) -> 0.0097 | H11: =IF($B$5=CAT.!$B$3,'N. DES.'!F6,IF($B$5=CAT.!$B$4,'N. DES.'!F18,IF($B$5=CAT.!$B$5,'N. DES.'!F30,IF($B$5=CAT.!$B$6,'N. DES.'!F42,IF($B$5=CAT.!$B$7,'N. DES.'!F54,IF($B$5=CAT.!$B$8,'N. DES.'!F66,IF($B$5=CAT.!$B$9,'N. DES.'!F78,))))))) -> 0.0127 | I11: =IF($B$5=CAT.!$B$3,DES.!E6,IF($B$5=CAT.!$B$4,DES.!E18,IF($B$5=CAT.!$B$5,DES.!E30,IF($B$5=CAT.!$B$6,DES.!E42,IF($B$5=CAT.!$B$7,DES.!E54,IF($B$5=CAT.!$B$8,DES.!E66,IF($B$5=CAT.!$B$9,DES.!E78,))))))) -> 0.0097 | J11: =IF($B$5=CAT.!$B$3,DES.!F6,IF($B$5=CAT.!$B$4,DES.!F18,IF($B$5=CAT.!$B$5,DES.!F30,IF($B$5=CAT.!$B$6,DES.!F42,IF($B$5=CAT.!$B$7,DES.!F54,IF($B$5=CAT.!$B$8,DES.!F66,IF($B$5=CAT.!$B$9,DES.!F78,))))))) -> 0.0127
B12: TAXA DE DESPESAS FINANCEIRAS | D12: DF | E12: =IF($B$6=CAT.!$D$4,Plan1!G12,Plan1!I12) -> 0.0059 | G12: =IF($B$5=CAT.!$B$3,'N. DES.'!E7,IF($B$5=CAT.!$B$4,'N. DES.'!E19,IF($B$5=CAT.!$B$5,'N. DES.'!E31,IF($B$5=CAT.!$B$6,'N. DES.'!E43,IF($B$5=CAT.!$B$7,'N. DES.'!E55,IF($B$5=CAT.!$B$8,'N. DES.'!E67,IF($B$5=CAT.!$B$9,'N. DES.'!E79,))))))) -> 0.0059 | H12: =IF($B$5=CAT.!$B$3,'N. DES.'!F7,IF($B$5=CAT.!$B$4,'N. DES.'!F19,IF($B$5=CAT.!$B$5,'N. DES.'!F31,IF($B$5=CAT.!$B$6,'N. DES.'!F43,IF($B$5=CAT.!$B$7,'N. DES.'!F55,IF($B$5=CAT.!$B$8,'N. DES.'!F67,IF($B$5=CAT.!$B$9,'N. DES.'!F79,))))))) -> 0.0139 | I12: =IF($B$5=CAT.!$B$3,DES.!E7,IF($B$5=CAT.!$B$4,DES.!E19,IF($B$5=CAT.!$B$5,DES.!E31,IF($B$5=CAT.!$B$6,DES.!E43,IF($B$5=CAT.!$B$7,DES.!E55,IF($B$5=CAT.!$B$8,DES.!E67,IF($B$5=CAT.!$B$9,DES.!E79,))))))) -> 0.0059 | J12: =IF($B$5=CAT.!$B$3,DES.!F7,IF($B$5=CAT.!$B$4,DES.!F19,IF($B$5=CAT.!$B$5,DES.!F31,IF($B$5=CAT.!$B$6,DES.!F43,IF($B$5=CAT.!$B$7,DES.!F55,IF($B$5=CAT.!$B$8,DES.!F67,IF($B$5=CAT.!$B$9,DES.!F79,))))))) -> 0.0139
B13: TAXA DE LUCRO | D13: L | E13: =IF($B$6=CAT.!$D$4,Plan1!G13,Plan1!I13) -> 0.0616 | G13: =IF($B$5=CAT.!$B$3,'N. DES.'!E8,IF($B$5=CAT.!$B$4,'N. DES.'!E20,IF($B$5=CAT.!$B$5,'N. DES.'!E32,IF($B$5=CAT.!$B$6,'N. DES.'!E44,IF($B$5=CAT.!$B$7,'N. DES.'!E56,IF($B$5=CAT.!$B$8,'N. DES.'!E68,IF($B$5=CAT.!$B$9,'N. DES.'!E80,))))))) -> 0.0616 | H13: =IF($B$5=CAT.!$B$3,'N. DES.'!F8,IF($B$5=CAT.!$B$4,'N. DES.'!F20,IF($B$5=CAT.!$B$5,'N. DES.'!F32,IF($B$5=CAT.!$B$6,'N. DES.'!F44,IF($B$5=CAT.!$B$7,'N. DES.'!F56,IF($B$5=CAT.!$B$8,'N. DES.'!F68,IF($B$5=CAT.!$B$9,'N. DES.'!F80,))))))) -> 0.0896 | I13: =IF($B$5=CAT.!$B$3,DES.!E8,IF($B$5=CAT.!$B$4,DES.!E20,IF($B$5=CAT.!$B$5,DES.!E32,IF($B$5=CAT.!$B$6,DES.!E44,IF($B$5=CAT.!$B$7,DES.!E56,IF($B$5=CAT.!$B$8,DES.!E68,IF($B$5=CAT.!$B$9,DES.!E80,))))))) -> 0.0616 | J13: =IF($B$5=CAT.!$B$3,DES.!F8,IF($B$5=CAT.!$B$4,DES.!F20,IF($B$5=CAT.!$B$5,DES.!F32,IF($B$5=CAT.!$B$6,DES.!F44,IF($B$5=CAT.!$B$7,DES.!F56,IF($B$5=CAT.!$B$8,DES.!F68,IF($B$5=CAT.!$B$9,DES.!F80,))))))) -> 0.0896
B14: TAXA DE TRIBUTOS | C14: PIS (geralmente 0,65%) | D14: I | E14: =IF($B$6=CAT.!$D$4,Plan1!G14,Plan1!I14) -> 0.0065 | G14: =IF($B$5=CAT.!$B$3,'N. DES.'!E9,IF($B$5=CAT.!$B$4,'N. DES.'!E21,IF($B$5=CAT.!$B$5,'N. DES.'!E33,IF($B$5=CAT.!$B$6,'N. DES.'!E45,IF($B$5=CAT.!$B$7,'N. DES.'!E57,IF($B$5=CAT.!$B$8,'N. DES.'!E69,IF($B$5=CAT.!$B$9,'N. DES.'!E81,))))))) -> 0.0065 | H14: =IF($B$5=CAT.!$B$3,'N. DES.'!F9,IF($B$5=CAT.!$B$4,'N. DES.'!F21,IF($B$5=CAT.!$B$5,'N. DES.'!F33,IF($B$5=CAT.!$B$6,'N. DES.'!F45,IF($B$5=CAT.!$B$7,'N. DES.'!F57,IF($B$5=CAT.!$B$8,'N. DES.'!F69,IF($B$5=CAT.!$B$9,'N. DES.'!F81,))))))) -> 0.0065 | I14: =IF($B$5=CAT.!$B$3,DES.!E9,IF($B$5=CAT.!$B$4,DES.!E21,IF($B$5=CAT.!$B$5,DES.!E33,IF($B$5=CAT.!$B$6,DES.!E45,IF($B$5=CAT.!$B$7,DES.!E57,IF($B$5=CAT.!$B$8,DES.!E69,IF($B$5=CAT.!$B$9,DES.!E81,))))))) -> 0.0065 | J14: =IF($B$5=CAT.!$B$3,DES.!F9,IF($B$5=CAT.!$B$4,DES.!F21,IF($B$5=CAT.!$B$5,DES.!F33,IF($B$5=CAT.!$B$6,DES.!F45,IF($B$5=CAT.!$B$7,DES.!F57,IF($B$5=CAT.!$B$8,DES.!F69,IF($B$5=CAT.!$B$9,DES.!F81,))))))) -> 0.0065
C15: CONFINS (geralmente 3,00%) | E15: =IF($B$6=CAT.!$D$4,Plan1!G15,Plan1!I15) -> 0.03 | G15: =IF($B$5=CAT.!$B$3,'N. DES.'!E10,IF($B$5=CAT.!$B$4,'N. DES.'!E22,IF($B$5=CAT.!$B$5,'N. DES.'!E34,IF($B$5=CAT.!$B$6,'N. DES.'!E46,IF($B$5=CAT.!$B$7,'N. DES.'!E58,IF($B$5=CAT.!$B$8,'N. DES.'!E70,IF($B$5=CAT.!$B$9,'N. DES.'!E82,))))))) -> 0.03 | H15: =IF($B$5=CAT.!$B$3,'N. DES.'!F10,IF($B$5=CAT.!$B$4,'N. DES.'!F22,IF($B$5=CAT.!$B$5,'N. DES.'!F34,IF($B$5=CAT.!$B$6,'N. DES.'!F46,IF($B$5=CAT.!$B$7,'N. DES.'!F58,IF($B$5=CAT.!$B$8,'N. DES.'!F70,IF($B$5=CAT.!$B$9,'N. DES.'!F82,))))))) -> 0.03 | I15: =IF($B$5=CAT.!$B$3,DES.!E10,IF($B$5=CAT.!$B$4,DES.!E22,IF($B$5=CAT.!$B$5,DES.!E34,IF($B$5=CAT.!$B$6,DES.!E46,IF($B$5=CAT.!$B$7,DES.!E58,IF($B$5=CAT.!$B$8,DES.!E70,IF($B$5=CAT.!$B$9,DES.!E82,))))))) -> 0.03 | J15: =IF($B$5=CAT.!$B$3,DES.!F10,IF($B$5=CAT.!$B$4,DES.!F22,IF($B$5=CAT.!$B$5,DES.!F34,IF($B$5=CAT.!$B$6,DES.!F46,IF($B$5=CAT.!$B$7,DES.!F58,IF($B$5=CAT.!$B$8,DES.!F70,IF($B$5=CAT.!$B$9,DES.!F82,))))))) -> 0.03
C16: ISS (legislação municipal) | E16: =5*0.004 -> 0.02 | G16: =IF($B$5=CAT.!$B$3,'N. DES.'!E11,IF($B$5=CAT.!$B$4,'N. DES.'!E23,IF($B$5=CAT.!$B$5,'N. DES.'!E35,IF($B$5=CAT.!$B$6,'N. DES.'!E47,IF($B$5=CAT.!$B$7,'N. DES.'!E59,IF($B$5=CAT.!$B$8,'N. DES.'!E71,IF($B$5=CAT.!$B$9,'N. DES.'!E83,))))))) -> 0.03 | H16: =IF($B$5=CAT.!$B$3,'N. DES.'!F11,IF($B$5=CAT.!$B$4,'N. DES.'!F23,IF($B$5=CAT.!$B$5,'N. DES.'!F35,IF($B$5=CAT.!$B$6,'N. DES.'!F47,IF($B$5=CAT.!$B$7,'N. DES.'!F59,IF($B$5=CAT.!$B$8,'N. DES.'!F71,IF($B$5=CAT.!$B$9,'N. DES.'!F83,))))))) -> 0.03 | I16: =IF($B$5=CAT.!$B$3,DES.!E11,IF($B$5=CAT.!$B$4,DES.!E23,IF($B$5=CAT.!$B$5,DES.!E35,IF($B$5=CAT.!$B$6,DES.!E47,IF($B$5=CAT.!$B$7,DES.!E59,IF($B$5=CAT.!$B$8,DES.!E71,IF($B$5=CAT.!$B$9,DES.!E83,))))))) -> 0.03 | J16: =IF($B$5=CAT.!$B$3,DES.!F11,IF($B$5=CAT.!$B$4,DES.!F23,IF($B$5=CAT.!$B$5,DES.!F35,IF($B$5=CAT.!$B$6,DES.!F47,IF($B$5=CAT.!$B$7,DES.!F59,IF($B$5=CAT.!$B$8,DES.!F71,IF($B$5=CAT.!$B$9,DES.!F83,))))))) -> 0.03
C17: CPRB (INSS) | E17: =IF($B$6=CAT.!$D$4,Plan1!G17,Plan1!I17) -> 0 | G17: =IF($B$5=CAT.!$B$3,'N. DES.'!E12,IF($B$5=CAT.!$B$4,'N. DES.'!E24,IF($B$5=CAT.!$B$5,'N. DES.'!E36,IF($B$5=CAT.!$B$6,'N. DES.'!E48,IF($B$5=CAT.!$B$7,'N. DES.'!E60,IF($B$5=CAT.!$B$8,'N. DES.'!E72,IF($B$5=CAT.!$B$9,'N. DES.'!E84,))))))) -> 0 | H17: =IF($B$5=CAT.!$B$3,'N. DES.'!F12,IF($B$5=CAT.!$B$4,'N. DES.'!F24,IF($B$5=CAT.!$B$5,'N. DES.'!F36,IF($B$5=CAT.!$B$6,'N. DES.'!F48,IF($B$5=CAT.!$B$7,'N. DES.'!F60,IF($B$5=CAT.!$B$8,'N. DES.'!F72,IF($B$5=CAT.!$B$9,'N. DES.'!F84,))))))) -> 0 | I17: =IF($B$5=CAT.!$B$3,DES.!E12,IF($B$5=CAT.!$B$4,DES.!E24,IF($B$5=CAT.!$B$5,DES.!E36,IF($B$5=CAT.!$B$6,DES.!E48,IF($B$5=CAT.!$B$7,DES.!E60,IF($B$5=CAT.!$B$8,DES.!E72,IF($B$5=CAT.!$B$9,DES.!E84,))))))) -> 0.045 | J17: =IF($B$5=CAT.!$B$3,DES.!F12,IF($B$5=CAT.!$B$4,DES.!F24,IF($B$5=CAT.!$B$5,DES.!F36,IF($B$5=CAT.!$B$6,DES.!F48,IF($B$5=CAT.!$B$7,DES.!F60,IF($B$5=CAT.!$B$8,DES.!F72,IF($B$5=CAT.!$B$9,DES.!F84,))))))) -> 0.045
B19: BDI RESULTANTE | E19: =(((1+E9+E10+E11)*(1+E12)*(1+E13))/(1-SUM(E14:E17))-1) -> 0.18579812
B21: FORMULA UTILIZADA:

Sheet N. DES.
B2: =CAT.!B3 -> CONSTRUÇÃO DE EDIFÍCIOS (TAMBÉM PARA REFORMAS)
B3: ITENS | D3: SIGLAS | E3: INFERIOR | F3: SUPERIOR
B4: TAXA DE RATEIO DA ADMINISTRAÇÃO CENTRAL | D4: AC | E4: 0.03 | F4: 0.055
B5: TAXA DE SEGURO E GARANTIA DO EMPREENDIMENTO | D5: S+G | E5: 0.008 | F5: 0.01
B6: TAXA DE RISCO | D6: R | E6: 0.0097 | F6: 0.0127
B7: TAXA DE DESPESAS FINANCEIRAS | D7: DF | E7: 0.0059 | F7: 0.0139
B8: TAXA DE LUCRO | D8: L | E8: 0.0616 | F8: 0.0896
B9: TAXA DE TRIBUTOS | C9: PIS (geralmente 0,65%) | D9: I | E9: 0.0065 | F9: 0.0065
C10: CONFINS (geralmente 3,00%) | E10: 0.03 | F10: 0.03
C11: ISS (legislação municipal) | E11: 0.03 | F11: 0.03
C12: CPRB (INSS) | E12: 0 | F12: 0
B14: =CAT.!B4 -> CONSTRUÇÃO DE RODOVIAS E FERROVIAS (TAMBÉM PARA RECAPEAMENTO, PAVIMENTAÇÃO E PRAÇAS)
B15: ITENS | D15: SIGLAS | E15: INFERIOR | F15: SUPERIOR
B16: TAXA DE RATEIO DA ADMINISTRAÇÃO CENTRAL | D16: AC | E16: 0.038 | F16: 0.0467
B17: TAXA DE SEGURO E GARANTIA DO EMPREENDIMENTO | D17: S+G | E17: 0.0032 | F17: 0.0074
B18: TAXA DE RISCO | D18: R | E18: 0.005 | F18: 0.0097
B19: TAXA DE DESPESAS FINANCEIRAS | D19: DF | E19: 0.0102 | F19: 0.0121
B20: TAXA DE LUCRO | D20: L | E20: 0.0664 | F20: 0.0869
B21: TAXA DE TRIBUTOS | C21: PIS (geralmente 0,65%) | D21: I | E21: 0.0065 | F21: 0.0065
C22: CONFINS (geralmente 3,00%) | E22: 0.03 | F22: 0.03
C23: ISS (legislação municipal) | E23: 0.03 | F23: 0.03
C24: CPRB (INSS) | E24: 0 | F24: 0
B26: =CAT.!B5 -> CONSTRUÇÃO DE REDES DE ABASTECIMENTO DE ÁGUA, COLETA DE ESGOTO E CONSTRUÇÕES CORRELATAS
B27: ITENS | D27: SIGLAS | E27: INFERIOR | F27: SUPERIOR
B28: TAXA DE RATEIO DA ADMINISTRAÇÃO CENTRAL | D28: AC | E28: 0.0343 | F28: 0.0671
B29: TAXA DE SEGURO E GARANTIA DO EMPREENDIMENTO | D29: S+G | E29: 0.0028 | F29: 0.0075
B30: TAXA DE RISCO | D30: R | E30: 0.01 | F30: 0.0174
B31: TAXA DE DESPESAS FINANCEIRAS | D31: DF | E31: 0.0094 | F31: 0.0117
B32: TAXA DE LUCRO | D32: L | E32: 0.0674 | F32: 0.094
B33: TAXA DE TRIBUTOS | C33: PIS (geralmente 0,65%) | D33: I | E33: 0.0065 | F33: 0.0065
C34: CONFINS (geralmente 3,00%) | E34: 0.03 | F34: 0.03
C35: ISS (legislação municipal) | E35: 0.03 | F35: 0.03
C36: CPRB (INSS) | E36: 0 | F36: 0
B38: =CAT.!B6 -> CONSTRUÇÃO E MANUTENÇÃO DE ESTAÇÕES DE REDES DE DISTRIBUIÇÃO DE ENERGIA ELÉTRICA
B39: ITENS | D39: SIGLAS | E39: INFERIOR | F39: SUPERIOR
B40: TAXA DE RATEIO DA ADMINISTRAÇÃO CENTRAL | D40: AC | E40: 0.0529 | F40: 0.0793
B41: TAXA DE SEGURO E GARANTIA DO EMPREENDIMENTO | D41: S+G | E41: 0.0025 | F41: 0.0056
B42: TAXA DE RISCO | D42: R | E42: 0.01 | F42: 0.0197
B43: TAXA DE DESPESAS FINANCEIRAS | D43: DF | E43: 0.0101 | F43: 0.0111
B44: TAXA DE LUCRO | D44: L | E44: 0.08 | F44: 0.0951
...

Sheet DES.
B2: =CAT.!B3 -> CONSTRUÇÃO DE EDIFÍCIOS (TAMBÉM PARA REFORMAS)
B3: ITENS | D3: SIGLAS | E3: INFERIOR | F3: SUPERIOR
B4: TAXA DE RATEIO DA ADMINISTRAÇÃO CENTRAL | D4: AC | E4: 0.03 | F4: 0.055
B5: TAXA DE SEGURO E GARANTIA DO EMPREENDIMENTO | D5: S+G | E5: 0.008 | F5: 0.01
B6: TAXA DE RISCO | D6: R | E6: 0.0097 | F6: 0.0127
B7: TAXA DE DESPESAS FINANCEIRAS | D7: DF | E7: 0.0059 | F7: 0.0139
B8: TAXA DE LUCRO | D8: L | E8: 0.0616 | F8: 0.0896
B9: TAXA DE TRIBUTOS | C9: PIS (geralmente 0,65%) | D9: I | E9: 0.0065 | F9: 0.0065
C10: CONFINS (geralmente 3,00%) | E10: 0.03 | F10: 0.03
C11: ISS (legislação municipal) | E11: 0.03 | F11: 0.03
C12: CPRB (INSS) | E12: 0.045 | F12: 0.045
B14: =CAT.!B4 -> CONSTRUÇÃO DE RODOVIAS E FERROVIAS (TAMBÉM PARA RECAPEAMENTO, PAVIMENTAÇÃO E PRAÇAS)
B15: ITENS | D15: SIGLAS | E15: INFERIOR | F15: SUPERIOR
B16: TAXA DE RATEIO DA ADMINISTRAÇÃO CENTRAL | D16: AC | E16: 0.038 | F16: 0.0467
B17: TAXA DE SEGURO E GARANTIA DO EMPREENDIMENTO | D17: S+G | E17: 0.0032 | F17: 0.0074
B18: TAXA DE RISCO | D18: R | E18: 0.005 | F18: 0.0097
B19: TAXA DE DESPESAS FINANCEIRAS | D19: DF | E19: 0.0102 | F19: 0.0121
B20: TAXA DE LUCRO | D20: L | E20: 0.0664 | F20: 0.0869
B21: TAXA DE TRIBUTOS | C21: PIS (geralmente 0,65%) | D21: I | E21: 0.0065 | F21: 0.0065
C22: CONFINS (geralmente 3,00%) | E22: 0.03 | F22: 0.03
C23: ISS (legislação municipal) | E23: 0.03 | F23: 0.03
C24: CPRB (INSS) | E24: 0.045 | F24: 0.045
B26: =CAT.!B5 -> CONSTRUÇÃO DE REDES DE ABASTECIMENTO DE ÁGUA, COLETA DE ESGOTO E CONSTRUÇÕES CORRELATAS
B27: ITENS | D27: SIGLAS | E27: INFERIOR | F27: SUPERIOR
B28: TAXA DE RATEIO DA ADMINISTRAÇÃO CENTRAL | D28: AC | E28: 0.0343 | F28: 0.0671
B29: TAXA DE SEGURO E GARANTIA DO EMPREENDIMENTO | D29: S+G | E29: 0.0028 | F29: 0.0075
B30: TAXA DE RISCO | D30: R | E30: 0.01 | F30: 0.0174
B31: TAXA DE DESPESAS FINANCEIRAS | D31: DF | E31: 0.0094 | F31: 0.0117
B32: TAXA DE LUCRO | D32: L | E32: 0.0674 | F32: 0.094
B33: TAXA DE TRIBUTOS | C33: PIS (geralmente 0,65%) | D33: I | E33: 0.0065 | F33: 0.0065
C34: CONFINS (geralmente 3,00%) | E34: 0.03 | F34: 0.03
C35: ISS (legislação municipal) | E35: 0.03 | F35: 0.03
C36: CPRB (INSS) | E36: 0.045 | F36: 0.045
B38: =CAT.!B6 -> CONSTRUÇÃO E MANUTENÇÃO DE ESTAÇÕES DE REDES DE DISTRIBUIÇÃO DE ENERGIA ELÉTRICA
B39: ITENS | D39: SIGLAS | E39: INFERIOR | F39: SUPERIOR
B40: TAXA DE RATEIO DA ADMINISTRAÇÃO CENTRAL | D40: AC | E40: 0.0529 | F40: 0.0793
B41: TAXA DE SEGURO E GARANTIA DO EMPREENDIMENTO | D41: S+G | E41: 0.0025 | F41: 0.0056
B42: TAXA DE RISCO | D42: R | E42: 0.01 | F42: 0.0197
B43: TAXA DE DESPESAS FINANCEIRAS | D43: DF | E43: 0.0101 | F43: 0.0111
B44: TAXA DE LUCRO | D44: L | E44: 0.08 | F44: 0.0951
...

Sheet CAT.
B2: TIPO DE OBRA (CONFORME ACÓRDÃO 2622/2013 - TCU):
B3: CONSTRUÇÃO DE EDIFÍCIOS (TAMBÉM PARA REFORMAS) | D3: DESONERADA
B4: CONSTRUÇÃO DE RODOVIAS E FERROVIAS (TAMBÉM PARA RECAPEAMENTO, PAVIMENTAÇÃO E PRAÇAS) | D4: NÃO DESONERADA
B5: CONSTRUÇÃO DE REDES DE ABASTECIMENTO DE ÁGUA, COLETA DE ESGOTO E CONSTRUÇÕES CORRELATAS
B6: CONSTRUÇÃO E MANUTENÇÃO DE ESTAÇÕES DE REDES DE DISTRIBUIÇÃO DE ENERGIA ELÉTRICA
B7: OBRAS PORTUÁRIAS, MARÍTIMAS E FLUVIAIS
B8: FORNECIMENTO DE MATERIAIS E EQUIPAMENTOS (AQUISIÇÃO INDIRETA, EM CONJUNTO COM OBRAS)
B9: FORNECIMENTO DE MATERIAIS E EQUIPAMENTOS (AQUISIÇÃO DIRETA)
