Workbook
Name _GoBack: 'Plan 1'!#REF!

Sheet Plan 1
Q2: CONDIÇÃO | R2: Nº | S2: %
Q3: OK | R3: =COUNTIF($K$16:$K$55,Q3) -> 29 | S3: =R3/$R$6 -> 0.725
Q4: DILIGÊNCIA | R4: =COUNTIF($K$16:$K$55,Q4) -> 11 | S4: =R4/$R$6 -> 0.275
Q5: NEGOCIAR | R5: =COUNTIF($K$16:$K$55,Q5) -> 0 | S5: =R5/$R$6 -> 0
A6: ESTADO DA PARAÍBA | Q6: TOTAL | R6: =SUM(R3:R5) -> 40 | S6: =SUM(S3:S5) -> 1
A7: PREFEITURA MUNICIPAL DE MAMANGUAPE
A10: ITENS COM PREÇOS ABAIXO DOS 50% DO PREÇO BASE
A14: ITEM | B14: ESPECIFICAÇÃO | C14: UND | D14: QTE | E14: PLANILHA BASE BANCO DE PREÇOS | G14: PREÇO OFERTADO | I14: VLR. DE ECONOMIA | J14: 0.5001 | K14: CONDIÇÃO | L14: EMPRESA | M14: VLR. REF. NFs
E15: P.UNITÁRIO | F15: P. TOTAL | G15: P.UNITÁRIO | H15: P. TOTAL | M15: P.UNITÁRIO | N15: VARIAÇÂO % | O15: CONDIÇÂO
A16: 1 | B16: ABAIXADOR DE LÍNGUA MADEIRA C/100 UND | C16: PC | D16: 1000 | E16: R$ 7,99 | F16: =E16*D16 -> 7990 | G16: 5 | H16: =D16*G16 -> 5000 | I16: =F16-H16 -> 2990 | J16: =(E16-G16)/E16% -> 37.421777 | K16: =IF(J16<0,"NEGOCIAR",IF(J16>50.01,"DILIGÊNCIA","OK")) -> OK | L16: =VLOOKUP(A16,Planilha1!$A$2:$I$294,9,FALSE) -> NEWMED PRODUTOS PARA SAUDE LTDA | M16: 7.37 | N16: =(G16-M16)/G16 -> -0.474 | O16: =IF(M16>0,IF(N16>0,"Aprovado","Revisar"),"") -> Revisar
A17: 2 | B17: ABRIDOR DE BOCA ABRITEC | C17: UN | D17: 1 | E17: R$ 23,82 | F17: =E17*D17 -> 23.82 | G17: 10 | H17: =D17*G17 -> 10 | I17: =F17-H17 -> 13.82 | J17: =(E17-G17)/E17% -> 58.018472 | K17: =IF(J17<0,"NEGOCIAR",IF(J17>50.01,"DILIGÊNCIA","OK")) -> DILIGÊNCIA | L17: =VLOOKUP(A17,Planilha1!$A$2:$I$294,9,FALSE) -> ODONTOMED COMERCIO DE PRODUTOS MEDICO HOSPITALARES LTDA - ME | M17: 21.83 | N17: =(G17-M17)/G17 -> -1.183 | O17: =IF(M17>0,IF(N17>0,"Aprovado","Revisar"),"") -> Revisar
A18: 3 | B18: ABRIDOR DE BOCA ADULTO E INFANTIL | C18: KIT | D18: 50 | E18: R$ 10,29 | F18: =E18*D18 -> 514.5 | G18: 7.2 | H18: =D18*G18 -> 360 | I18: =F18-H18 -> 154.5 | J18: =(E18-G18)/E18% -> 30.029155 | K18: =IF(J18<0,"NEGOCIAR",IF(J18>50.01,"DILIGÊNCIA","OK")) -> OK | L18: =VLOOKUP(A18,Planilha1!$A$2:$I$294,9,FALSE) -> ORTOSHOP COMERCIO LTDA-ME | M18: 7.62 | N18: =(G18-M18)/G18 -> -0.058333333 | O18: =IF(M18>0,IF(N18>0,"Aprovado","Revisar"),"") -> Revisar
A19: 4 | B19: ÁCIDO FOSFÓRICO 37% PARA CONDICIONAMENTO DE ESMALTE E DENTINA (SERINGA COM 2,5 ML) | C19: UN | D19: 400 | E19: R$ 6,37 | F19: =E19*D19 -> 2548 | G19: 1.3 | H19: =D19*G19 -> 520 | I19: =F19-H19 -> 2028 | J19: =(E19-G19)/E19% -> 79.591837 | K19: =IF(J19<0,"NEGOCIAR",IF(J19>50.01,"DILIGÊNCIA","OK")) -> DILIGÊNCIA | L19: APOGEU CENTER COMERCIAL DE PRODUTOS HOSPITALARES E MEDICAMEN | M19: 10.59 | N19: =(G19-M19)/G19 -> -7.1461538 | O19: =IF(M19>0,IF(N19>0,"Aprovado","Revisar"),"") -> Revisar
A20: 5 | B20: ADESIVO EMBALAGEM COM 4ML. ADESIVO MONOCOMPONENTE. | C20: UN | D20: 200 | E20: R$ 24,02 | F20: =E20*D20 -> 4804 | G20: 11.2 | H20: =D20*G20 -> 2240 | I20: =F20-H20 -> 2564 | J20: =(E20-G20)/E20% -> 53.37219 | K20: =IF(J20<0,"NEGOCIAR",IF(J20>50.01,"DILIGÊNCIA","OK")) -> DILIGÊNCIA | L20: BIO LOGICA DISTRIBUIDORA LTDA | M20: 4.3 | N20: =(G20-M20)/G20 -> 0.61607143 | O20: =IF(M20>0,IF(N20>0,"Aprovado","Revisar"),"") -> Aprovado
A21: 6 | B21: AFASTADOR DE LINGUA | C21: UN | D21: 20 | E21: R$ 25,07 | F21: =E21*D21 -> 501.4 | G21: 17.54 | H21: =D21*G21 -> 350.8 | I21: =F21-H21 -> 150.6 | J21: =(E21-G21)/E21% -> 30.035899 | K21: =IF(J21<0,"NEGOCIAR",IF(J21>50.01,"DILIGÊNCIA","OK")) -> OK | L21: =VLOOKUP(A21,Planilha1!$A$2:$I$294,9,FALSE) -> ODONTOMED COMERCIO DE PRODUTOS MEDICO HOSPITALARES LTDA - ME | M21: 4.96 | N21: =(G21-M21)/G21 -> 0.71721779 | O21: =IF(M21>0,IF(N21>0,"Aprovado","Revisar"),"") -> Aprovado
A22: 7 | B22: AFASTADOR DE MINESSOTA | C22: UN | D22: 20 | E22: R$ 11,67 | F22: =E22*D22 -> 233.4 | G22: 11.67 | H22: =D22*G22 -> 233.4 | I22: =F22-H22 -> 0 | J22: =(E22-G22)/E22% -> 0 | K22: =IF(J22<0,"NEGOCIAR",IF(J22>50.01,"DILIGÊNCIA","OK")) -> OK | L22: =VLOOKUP(A22,Planilha1!$A$2:$I$294,9,FALSE) -> ORTOSHOP COMERCIO LTDA-ME | M22: 1.84 | N22: =(G22-M22)/G22 -> 0.84233076 | O22: =IF(M22>0,IF(N22>0,"Aprovado","Revisar"),"") -> Aprovado
A23: 8 | B23: AFASTADOR FARABELT | C23: UN | D23: 10 | E23: R$ 25,91 | F23: =E23*D23 -> 259.1 | G23: 18.13 | H23: =D23*G23 -> 181.3 | I23: =F23-H23 -> 77.8 | J23: =(E23-G23)/E23% -> 30.027017 | K23: =IF(J23<0,"NEGOCIAR",IF(J23>50.01,"DILIGÊNCIA","OK")) -> OK | L23: =VLOOKUP(A23,Planilha1!$A$2:$I$294,9,FALSE) -> ODONTOMED COMERCIO DE PRODUTOS MEDICO HOSPITALARES LTDA - ME | M23: 3.25 | N23: =(G23-M23)/G23 -> 0.82073911 | O23: =IF(M23>0,IF(N23>0,"Aprovado","Revisar"),"") -> Aprovado
A24: 9 | B24: AFASTADOR LABIAL EXPANDEX ADULTO | C24: UN | D24: 50 | E24: R$ 25,47 | F24: =E24*D24 -> 1273.5 | G24: 10.65 | H24: =D24*G24 -> 532.5 | I24: =F24-H24 -> 741 | J24: =(E24-G24)/E24% -> 58.186101 | K24: =IF(J24<0,"NEGOCIAR",IF(J24>50.01,"DILIGÊNCIA","OK")) -> DILIGÊNCIA | L24: =VLOOKUP(A24,Planilha1!$A$2:$I$294,9,FALSE) -> ODONTOMED COMERCIO DE PRODUTOS MEDICO HOSPITALARES LTDA - ME | M24: 5.49 | N24: =(G24-M24)/G24 -> 0.48450704 | O24: =IF(M24>0,IF(N24>0,"Aprovado","Revisar"),"") -> Aprovado
A25: 10 | B25: AFASTADOR LABIAL EXPANDEX INFANTIL | C25: UN | D25: 20 | E25: R$ 24,58 | F25: =E25*D25 -> 491.6 | G25: 10.65 | H25: =D25*G25 -> 213 | I25: =F25-H25 -> 278.6 | J25: =(E25-G25)/E25% -> 56.672091 | K25: =IF(J25<0,"NEGOCIAR",IF(J25>50.01,"DILIGÊNCIA","OK")) -> DILIGÊNCIA | L25: =VLOOKUP(A25,Planilha1!$A$2:$I$294,9,FALSE) -> ODONTOMED COMERCIO DE PRODUTOS MEDICO HOSPITALARES LTDA - ME | M25: 2.95 | N25: =(G25-M25)/G25 -> 0.72300469 | O25: =IF(M25>0,IF(N25>0,"Aprovado","Revisar"),"") -> Aprovado
A26: 11 | B26: ÁGUA DESTILADA 5000ML | C26: CX | D26: 2400 | E26: R$ 21,67 | F26: =E26*D26 -> 52008 | G26: 7.99 | H26: =D26*G26 -> 19176 | I26: =F26-H26 -> 32832 | J26: =(E26-G26)/E26% -> 63.128749 | K26: =IF(J26<0,"NEGOCIAR",IF(J26>50.01,"DILIGÊNCIA","OK")) -> DILIGÊNCIA | L26: =VLOOKUP(A26,Planilha1!$A$2:$I$294,9,FALSE) -> ODONTOMED COMERCIO DE PRODUTOS MEDICO HOSPITALARES LTDA - ME | M26: 5.47 | N26: =(G26-M26)/G26 -> 0.31539424 | O26: =IF(M26>0,IF(N26>0,"Aprovado","Revisar"),"") -> Aprovado
A27: 12 | B27: AGULHA GENGIVAL 27 G LONGA 31 MM DESCARTÁVEL E ESTÉRIL C/100 | C27: CX | D27: 250 | E27: R$ 132,74 | F27: =E27*D27 -> 33185 | G27: 27.01 | H27: =D27*G27 -> 6752.5 | I27: =F27-H27 -> 26432.5 | J27: =(E27-G27)/E27% -> 79.651951 | K27: =IF(J27<0,"NEGOCIAR",IF(J27>50.01,"DILIGÊNCIA","OK")) -> DILIGÊNCIA | L27: =VLOOKUP(A27,Planilha1!$A$2:$I$294,9,FALSE) -> ODONTOMASTER COMERCIO DE PRODUTOS PARA SAUDE EIRELI | M27: 3.84 | N27: =(G27-M27)/G27 -> 0.85783043 | O27: =IF(M27>0,IF(N27>0,"Aprovado","Revisar"),"") -> Aprovado
A28: 13 | B28: AGULHA GENGIVAL 30 G CURTA 21 MM DESCARTÁVEL E ESTÉRIL C/100 | C28: CX | D28: 250 | E28: R$ 51,01 | F28: =E28*D28 -> 12752.5 | G28: 27.17 | H28: =D28*G28 -> 6792.5 | I28: =F28-H28 -> 5960 | J28: =(E28-G28)/E28% -> 46.735934 | K28: =IF(J28<0,"NEGOCIAR",IF(J28>50.01,"DILIGÊNCIA","OK")) -> OK | L28: =VLOOKUP(A28,Planilha1!$A$2:$I$294,9,FALSE) -> ODONTOMASTER COMERCIO DE PRODUTOS PARA SAUDE EIRELI | M28: 4.97 | N28: =(G28-M28)/G28 -> 0.81707766 | O28: =IF(M28>0,IF(N28>0,"Aprovado","Revisar"),"") -> Aprovado
A29: 14 | B29: AGULHA PARA IRRIGAÇÃO COM SAIDA LATERAL (ENDO-EZE) | C29: UN | D29: 200 | E29: R$ 47,47 | F29: =E29*D29 -> 9494 | G29: 23.25 | H29: =D29*G29 -> 4650 | I29: =F29-H29 -> 4844 | J29: =(E29-G29)/E29% -> 51.021698 | K29: =IF(J29<0,"NEGOCIAR",IF(J29>50.01,"DILIGÊNCIA","OK")) -> DILIGÊNCIA | L29: =VLOOKUP(A29,Planilha1!$A$2:$I$294,9,FALSE) -> DENTAL IPO LTDA | M29: 6.37 | N29: =(G29-M29)/G29 -> 0.72602151 | O29: =IF(M29>0,IF(N29>0,"Aprovado","Revisar"),"") -> Aprovado
A30: 15 | B30: ÁLCOOL 70% 1000ML | C30: UN | D30: 1000 | E30: R$ 10,73 | F30: =E30*D30 -> 10730 | G30: 6.25 | H30: =D30*G30 -> 6250 | I30: =F30-H30 -> 4480 | J30: =(E30-G30)/E30% -> 41.752097 | K30: =IF(J30<0,"NEGOCIAR",IF(J30>50.01,"DILIGÊNCIA","OK")) -> OK | L30: =VLOOKUP(A30,Planilha1!$A$2:$I$294,9,FALSE) -> YUMED COMERCIO LTDA | M30: 1.06 | N30: =(G30-M30)/G30 -> 0.8304 | O30: =IF(M30>0,IF(N30>0,"Aprovado","Revisar"),"") -> Aprovado
A31: 16 | B31: ALGINATO TIPO II | C31: PC | D31: 50 | E31: R$ 27,59 | F31: =E31*D31 -> 1379.5 | G31: 19.31 | H31: =D31*G31 -> 965.5 | I31: =F31-H31 -> 414 | J31: =(E31-G31)/E31% -> 30.010874 | K31: =IF(J31<0,"NEGOCIAR",IF(J31>50.01,"DILIGÊNCIA","OK")) -> OK | L31: =VLOOKUP(A31,Planilha1!$A$2:$I$294,9,FALSE) -> ORTOSHOP COMERCIO LTDA-ME | M31: 0.97 | N31: =(G31-M31)/G31 -> 0.94976696 | O31: =IF(M31>0,IF(N31>0,"Aprovado","Revisar"),"") -> Aprovado
A32: 17 | B32: ALGODÃO HIDRÓFILO 500G | C32: UN | D32: 600 | E32: R$ 25,00 | F32: =E32*D32 -> 15000 | G32: 14.16 | H32: =D32*G32 -> 8496 | I32: =F32-H32 -> 6504 | J32: =(E32-G32)/E32% -> 43.36 | K32: =IF(J32<0,"NEGOCIAR",IF(J32>50.01,"DILIGÊNCIA","OK")) -> OK | L32: =VLOOKUP(A32,Planilha1!$A$2:$I$294,9,FALSE) -> MEDICAL CENTER DISTRIBUIDORA DE MEDICAMENTOS LTDA | M32: 3.07 | N32: =(G32-M32)/G32 -> 0.78319209 | O32: =IF(M32>0,IF(N32>0,"Aprovado","Revisar"),"") -> Aprovado
... A42: 27 | B42: ARCO DE OSTBY AUTOCLAVAVEL DOBRAVEL INFANTIL | C42: UN | D42: 50 | E42: R$ 14,40 | F42: =E42*D42 -> 720 | G42: 9.39 | H42: =D42*G42 -> 469.5 | I42: =F42-H42 -> 250.5 | J42: =(E42-G42)/E42% -> 34.791667 | K42: =IF(J42<0,"NEGOCIAR",IF(J42>50.01,"DILIGÊNCIA","OK")) -> OK | L42: =VLOOKUP(A42,Planilha1!$A$2:$I$294,9,FALSE) -> VITORIA TEIXEIRA DE OLIVEIRA | M42: 1.17 | N42: =(G42-M42)/G42 -> 0.87539936 | O42: =IF(M42>0,IF(N42>0,"Aprovado","Revisar"),"") -> Aprovado
A43: 28 | B43: ARCO DE YOUNG AUTOCLAVAVEL | C43: UN | D43: 50 | E43: R$ 22,93 | F43: =E43*D43 -> 1146.5 | G43: 8.61 | H43: =D43*G43 -> 430.5 | I43: =F43-H43 -> 716 | J43: =(E43-G43)/E43% -> 62.450938 | K43: =IF(J43<0,"NEGOCIAR",IF(J43>50.01,"DILIGÊNCIA","OK")) -> DILIGÊNCIA | L43: ODONTOMASTER COMERCIO DE PRODUTOS PARA SAUDE EIRELI | M43: 3.09 | N43: =(G43-M43)/G43 -> 0.64111498 | O43: =IF(M43>0,IF(N43>0,"Aprovado","Revisar"),"") -> Aprovado
A44: 29 | B44: ARTICULADOR SEMI-AJUSTAVEL | C44: UN | D44: 1 | E44: R$ 1.091,51 | F44: =E44*D44 -> 1091.51 | G44: 899.99 | H44: =D44*G44 -> 899.99 | I44: =F44-H44 -> 191.52 | J44: =(E44-G44)/E44% -> 17.546335 | K44: =IF(J44<0,"NEGOCIAR",IF(J44>50.01,"DILIGÊNCIA","OK")) -> OK | L44: =VLOOKUP(A44,Planilha1!$A$2:$I$294,9,FALSE) -> VITORIA TEIXEIRA DE OLIVEIRA | M44: 16.67 | N44: =(G44-M44)/G44 -> 0.98147757 | O44: =IF(M44>0,IF(N44>0,"Aprovado","Revisar"),"") -> Aprovado
A45: 30 | B45: AVENTAL TNT C/ 10UND | C45: PC | D45: 100 | E45: R$ 21,13 | F45: =E45*D45 -> 2113 | G45: 11.96 | H45: =D45*G45 -> 1196 | I45: =F45-H45 -> 917 | J45: =(E45-G45)/E45% -> 43.398012 | K45: =IF(J45<0,"NEGOCIAR",IF(J45>50.01,"DILIGÊNCIA","OK")) -> OK | L45: =VLOOKUP(A45,Planilha1!$A$2:$I$294,9,FALSE) -> CIRURGICA FAMED DISTRIBUIDORA DE PRODUTOS HOSPITALARES LTDA | M45: 8.5 | N45: =(G45-M45)/G45 -> 0.28929766 | O45: =IF(M45>0,IF(N45>0,"Aprovado","Revisar"),"") -> Aprovado
A46: 31 | B46: BABADOR IMPERMEÁVEL DESCARTAVEL | C46: PC | D46: 500 | E46: R$ 18,88 | F46: =E46*D46 -> 9440 | G46: 13.22 | H46: =D46*G46 -> 6610 | I46: =F46-H46 -> 2830 | J46: =(E46-G46)/E46% -> 29.978814 | K46: =IF(J46<0,"NEGOCIAR",IF(J46>50.01,"DILIGÊNCIA","OK")) -> OK | L46: =VLOOKUP(A46,Planilha1!$A$2:$I$294,9,FALSE) -> ORTOSHOP COMERCIO LTDA-ME | M46: 5.75 | N46: =(G46-M46)/G46 -> 0.56505295 | O46: =IF(M46>0,IF(N46>0,"Aprovado","Revisar"),"") -> Aprovado
A47: 32 | B47: BANDEJA CLÍNICA P | C47: UN | D47: 40 | E47: R$ 55,68 | F47: =E47*D47 -> 2227.2 | G47: 19 | H47: =D47*G47 -> 760 | I47: =F47-H47 -> 1467.2 | J47: =(E47-G47)/E47% -> 65.876437 | K47: =IF(J47<0,"NEGOCIAR",IF(J47>50.01,"DILIGÊNCIA","OK")) -> DILIGÊNCIA | L47: =VLOOKUP(A47,Planilha1!$A$2:$I$294,9,FALSE) -> JM COMERCIO E REPRESENTAÇÃO EIRELI | M47: 1.15 | N47: =(G47-M47)/G47 -> 0.93947368 | O47: =IF(M47>0,IF(N47>0,"Aprovado","Revisar"),"") -> Aprovado
A48: 33 | B48: BISTURI DE ORBAN | C48: UN | D48: 2 | E48: R$ 25,47 | F48: =E48*D48 -> 50.94 | G48: 25.4 | H48: =D48*G48 -> 50.8 | I48: =F48-H48 -> 0.14 | J48: =(E48-G48)/E48% -> 0.27483314 | K48: =IF(J48<0,"NEGOCIAR",IF(J48>50.01,"DILIGÊNCIA","OK")) -> OK | L48: =VLOOKUP(A48,Planilha1!$A$2:$I$294,9,FALSE) -> APOGEU CENTER COMERCIAL DE PRODUTOS HOSPITALARES E MEDICAMEN | M48: 1.87 | N48: =(G48-M48)/G48 -> 0.92637795 | O48: =IF(M48>0,IF(N48>0,"Aprovado","Revisar"),"") -> Aprovado
A49: 34 | B49: BROCA CARBIDE CIRURGICA ESFERICA Nº 4 – BAIXA ROTAÇÃO | C49: UN | D49: 50 | E49: R$ 24,50 | F49: =E49*D49 -> 1225 | G49: 13.23 | H49: =D49*G49 -> 661.5 | I49: =F49-H49 -> 563.5 | J49: =(E49-G49)/E49% -> 46 | K49: =IF(J49<0,"NEGOCIAR",IF(J49>50.01,"DILIGÊNCIA","OK")) -> OK | L49: =VLOOKUP(A49,Planilha1!$A$2:$I$294,9,FALSE) -> BIO LOGICA DISTRIBUIDORA LTDA | M49: 1.84 | N49: =(G49-M49)/G49 -> 0.86092215 | O49: =IF(M49>0,IF(N49>0,"Aprovado","Revisar"),"") -> Aprovado
A50: 35 | B50: BROCA CARBIDE CIRURGICA ESFERICA Nº 6 – ALTA ROTAÇÃO | C50: UN | D50: 50 | E50: R$ 15,19 | F50: =E50*D50 -> 759.5 | G50: 13.23 | H50: =D50*G50 -> 661.5 | I50: =F50-H50 -> 98 | J50: =(E50-G50)/E50% -> 12.903226 | K50: =IF(J50<0,"NEGOCIAR",IF(J50>50.01,"DILIGÊNCIA","OK")) -> OK | L50: =VLOOKUP(A50,Planilha1!$A$2:$I$294,9,FALSE) -> BIO LOGICA DISTRIBUIDORA LTDA | M50: 1.87 | N50: =(G50-M50)/G50 -> 0.85865457 | O50: =IF(M50>0,IF(N50>0,"Aprovado","Revisar"),"") -> Aprovado
A51: 36 | B51: BROCA CARBIDE CIRURGICA ESFERICA Nº 6 – BAIXA ROTAÇÃO | C51: UN | D51: 50 | E51: R$ 16,96 | F51: =E51*D51 -> 848 | G51: 13.23 | H51: =D51*G51 -> 661.5 | I51: =F51-H51 -> 186.5 | J51: =(E51-G51)/E51% -> 21.992925 | K51: =IF(J51<0,"NEGOCIAR",IF(J51>50.01,"DILIGÊNCIA","OK")) -> OK | L51: =VLOOKUP(A51,Planilha1!$A$2:$I$294,9,FALSE) -> BIO LOGICA DISTRIBUIDORA LTDA | M51: 0.88 | N51: =(G51-M51)/G51 -> 0.9334845 | O51: =IF(M51>0,IF(N51>0,"Aprovado","Revisar"),"") -> Aprovado
A52: 37 | B52: BROCA CARBIDE CIRURGICA ESFERICA Nº 6 – PEÇA DE MÃO | C52: UN | D52: 50 | E52: R$ 16,96 | F52: =E52*D52 -> 848 | G52: 15.7 | H52: =D52*G52 -> 785 | I52: =F52-H52 -> 63 | J52: =(E52-G52)/E52% -> 7.4292453 | K52: =IF(J52<0,"NEGOCIAR",IF(J52>50.01,"DILIGÊNCIA","OK")) -> OK | L52: =VLOOKUP(A52,Planilha1!$A$2:$I$294,9,FALSE) -> JM COMERCIO E REPRESENTAÇÃO EIRELI | M52: 1.86 | N52: =(G52-M52)/G52 -> 0.88152866 | O52: =IF(M52>0,IF(N52>0,"Aprovado","Revisar"),"") -> Aprovado
A53: 38 | B53: BROCA CARBIDE CIRURGICA Nº 701 (HASTE LONGA) – ALTA ROTAÇÃO | C53: UN | D53: 50 | E53: R$ 23,24 | F53: =E53*D53 -> 1162 | G53: 13.23 | H53: =D53*G53 -> 661.5 | I53: =F53-H53 -> 500.5 | J53: =(E53-G53)/E53% -> 43.072289 | K53: =IF(J53<0,"NEGOCIAR",IF(J53>50.01,"DILIGÊNCIA","OK")) -> OK | L53: =VLOOKUP(A53,Planilha1!$A$2:$I$294,9,FALSE) -> BIO LOGICA DISTRIBUIDORA LTDA | M53: 1.88 | N53: =(G53-M53)/G53 -> 0.85789872 | O53: =IF(M53>0,IF(N53>0,"Aprovado","Revisar"),"") -> Aprovado
A54: 39 | B54: BROCA CARBIDE CIRURGICA Nº 702 (HASTE LONGA) – ALTA ROTAÇÃO | C54: UN | D54: 50 | E54: R$ 19,59 | F54: =E54*D54 -> 979.5 | G54: 13.23 | H54: =D54*G54 -> 661.5 | I54: =F54-H54 -> 318 | J54: =(E54-G54)/E54% -> 32.465544 | K54: =IF(J54<0,"NEGOCIAR",IF(J54>50.01,"DILIGÊNCIA","OK")) -> OK | L54: =VLOOKUP(A54,Planilha1!$A$2:$I$294,9,FALSE) -> BIO LOGICA DISTRIBUIDORA LTDA | M54: 3.27 | N54: =(G54-M54)/G54 -> 0.75283447 | O54: =IF(M54>0,IF(N54>0,"Aprovado","Revisar"),"") -> Aprovado
A55: 40 | B55: BROCA CARBIDE CIRURGICA Nº 702 (HASTE LONGA) – PEÇA DE MÃO | C55: UN | D55: 50 | E55: R$ 19,45 | F55: =E55*D55 -> 972.5 | G55: 12 | H55: =D55*G55 -> 600 | I55: =F55-H55 -> 372.5 | J55: =(E55-G55)/E55% -> 38.303342 | K55: =IF(J55<0,"NEGOCIAR",IF(J55>50.01,"DILIGÊNCIA","OK")) -> OK | L55: =VLOOKUP(A55,Planilha1!$A$2:$I$294,9,FALSE) -> DENTALMED PRODUTOS PARA SAUDE LTDA | M55: 0.78 | N55: =(G55-M55)/G55 -> 0.935 | O55: =IF(M55>0,IF(N55>0,"Aprovado","Revisar"),"") -> Aprovado
... A89: 74 | B89: CIMENTO CIRURGICO PÓ 50G | C89: UN | D89: 25 | E89: R$ 42,38 | F89: =E89*D89 -> 1059.5 | G89: 20.9 | H89: =D89*G89 -> 522.5 | I89: =F89-H89 -> 537 | J89: =(E89-G89)/E89% -> 50.684285 | K89: =IF(J89<0,"NEGOCIAR",IF(J89>50.01,"DILIGÊNCIA","OK")) -> DILIGÊNCIA | L89: =VLOOKUP(A89,Planilha1!$A$2:$I$294,9,FALSE) -> BIO LOGICA DISTRIBUIDORA LTDA | M89: 0.78 | N89: =(G89-M89)/G89 -> 0.96267943 | O89: =IF(M89>0,IF(N89>0,"Aprovado","Revisar"),"") -> Aprovado
A90: 75 | B90: CIMENTO DE HIDROXIDO DE CALCIO (PASTA/PASTA) | C90: CX | D90: 100 | E90: R$ 45,81 | F90: =E90*D90 -> 4581 | G90: 19.1 | H90: =D90*G90 -> 1910 | I90: =F90-H90 -> 2671 | J90: =(E90-G90)/E90% -> 58.306047 | K90: =IF(J90<0,"NEGOCIAR",IF(J90>50.01,"DILIGÊNCIA","OK")) -> DILIGÊNCIA | L90: JM COMERCIO E REPRESENTAÇÃO EIRELI | M90: 0.78 | N90: =(G90-M90)/G90 -> 0.9591623 | O90: =IF(M90>0,IF(N90>0,"Aprovado","Revisar"),"") -> Aprovado
A91: 76 | B91: CIMENTO DE IONOMERO DE VIDRO RESTAURADOR COR A2 (PÓ+LÍQUIDO) | C91: CX | D91: 100 | E91: R$ 85,40 | F91: =E91*D91 -> 8540 | G91: 25.01 | H91: =D91*G91 -> 2501 | I91: =F91-H91 -> 6039 | J91: =(E91-G91)/E91% -> 70.714286 | K91: =IF(J91<0,"NEGOCIAR",IF(J91>50.01,"DILIGÊNCIA","OK")) -> DILIGÊNCIA | L91: =VLOOKUP(A91,Planilha1!$A$2:$I$294,9,FALSE) -> BIO LOGICA DISTRIBUIDORA LTDA | M91: 0.78 | N91: =(G91-M91)/G91 -> 0.96881248 | O91: =IF(M91>0,IF(N91>0,"Aprovado","Revisar"),"") -> Aprovado
A92: 77 | B92: CIMENTO DE IONOMERO DE VIDRO RESTAURADOR COR A3 (PÓ+LÍQUIDO) | C92: CX | D92: 100 | E92: R$ 77,93 | F92: =E92*D92 -> 7793 | G92: 25.01 | H92: =D92*G92 -> 2501 | I92: =F92-H92 -> 5292 | J92: =(E92-G92)/E92% -> 67.907096 | K92: =IF(J92<0,"NEGOCIAR",IF(J92>50.01,"DILIGÊNCIA","OK")) -> DILIGÊNCIA | L92: =VLOOKUP(A92,Planilha1!$A$2:$I$294,9,FALSE) -> BIO LOGICA DISTRIBUIDORA LTDA | M92: 0.78 | N92: =(G92-M92)/G92 -> 0.96881248 | O92: =IF(M92>0,IF(N92>0,"Aprovado","Revisar"),"") -> Aprovado
A93: 78 | B93: CIMENTO DE IONOMERO DE VIDRO RESTAURADOR FOTOPOLIMERIZÁVEL | C93: CX | D93: 100 | E93: R$ 76,08 | F93: =E93*D93 -> 7608 | G93: 49.9 | H93: =D93*G93 -> 4990 | I93: =F93-H93 -> 2618 | J93: =(E93-G93)/E93% -> 34.411146 | K93: =IF(J93<0,"NEGOCIAR",IF(J93>50.01,"DILIGÊNCIA","OK")) -> OK | L93: =VLOOKUP(A93,Planilha1!$A$2:$I$294,9,FALSE) -> ODONTOMED COMERCIO DE PRODUTOS MEDICO HOSPITALARES LTDA - ME | M93: 0.78 | N93: =(G93-M93)/G93 -> 0.98436874 | O93: =IF(M93>0,IF(N93>0,"Aprovado","Revisar"),"") -> Aprovado
A94: 79 | B94: CIMENTO ENDODÔNTICO OBTURADOR SEALER 26 | C94: CX | D94: 30 | E94: R$ 79,10 | F94: =E94*D94 -> 2373 | G94: 52.99 | H94: =D94*G94 -> 1589.7 | I94: =F94-H94 -> 783.3 | J94: =(E94-G94)/E94% -> 33.00885 | K94: =IF(J94<0,"NEGOCIAR",IF(J94>50.01,"DILIGÊNCIA","OK")) -> OK | L94: =VLOOKUP(A94,Planilha1!$A$2:$I$294,9,FALSE) -> VITORIA TEIXEIRA DE OLIVEIRA | M94: 0.78 | N94: =(G94-M94)/G94 -> 0.98528024 | O94: =IF(M94>0,IF(N94>0,"Aprovado","Revisar"),"") -> Aprovado
A95: 80 | B95: CIMENTO OBTURADOR PROVISÓRIO | C95: UN | D95: 200 | E95: R$ 25,18 | F95: =E95*D95 -> 5036 | G95: 6.72 | H95: =D95*G95 -> 1344 | I95: =F95-H95 -> 3692 | J95: =(E95-G95)/E95% -> 73.312153 | K95: =IF(J95<0,"NEGOCIAR",IF(J95>50.01,"DILIGÊNCIA","OK")) -> DILIGÊNCIA | L95: BIO LOGICA DISTRIBUIDORA LTDA | M95: 0.78 | N95: =(G95-M95)/G95 -> 0.88392857 | O95: =IF(M95>0,IF(N95>0,"Aprovado","Revisar"),"") -> Aprovado
A96: 81 | B96: CINZEL MICRO OCHSENBEIN Nº1 | C96: UN | D96: 2 | E96: R$ 115,23 | F96: =E96*D96 -> 230.46 | G96: 85 | H96: =D96*G96 -> 170 | I96: =F96-H96 -> 60.46 | J96: =(E96-G96)/E96% -> 26.234488 | K96: =IF(J96<0,"NEGOCIAR",IF(J96>50.01,"DILIGÊNCIA","OK")) -> OK | L96: =VLOOKUP(A96,Planilha1!$A$2:$I$294,9,FALSE) -> DENTALMED PRODUTOS PARA SAUDE LTDA | M96: 0.78 | N96: =(G96-M96)/G96 -> 0.99082353 | O96: =IF(M96>0,IF(N96>0,"Aprovado","Revisar"),"") -> Aprovado
A97: 82 | B97: CINZEL MICRO OCHSENBEIN Nº2 | C97: UN | D97: 2 | E97: R$ 90,11 | F97: =E97*D97 -> 180.22 | G97: 85 | H97: =D97*G97 -> 170 | I97: =F97-H97 -> 10.22 | J97: =(E97-G97)/E97% -> 5.6708467 | K97: =IF(J97<0,"NEGOCIAR",IF(J97>50.01,"DILIGÊNCIA","OK")) -> OK | L97: =VLOOKUP(A97,Planilha1!$A$2:$I$294,9,FALSE) -> DENTALMED PRODUTOS PARA SAUDE LTDA | M97: 0.78 | N97: =(G97-M97)/G97 -> 0.99082353 | O97: =IF(M97>0,IF(N97>0,"Aprovado","Revisar"),"") -> Aprovado
A98: 83 | B98: CLOREXIDINA DEGERMANTE COM TENSOATIVOS 2% RIOHEX 1000 ML | C98: UN | D98: 100 | E98: R$ 40,89 | F98: =E98*D98 -> 4089 | G98: 17.72 | H98: =D98*G98 -> 1772 | I98: =F98-H98 -> 2317 | J98: =(E98-G98)/E98% -> 56.664221 | K98: =IF(J98<0,"NEGOCIAR",IF(J98>50.01,"DILIGÊNCIA","OK")) -> DILIGÊNCIA | L98: =VLOOKUP(A98,Planilha1!$A$2:$I$294,9,FALSE) -> YUMED COMERCIO LTDA | M98: 0.78 | N98: =(G98-M98)/G98 -> 0.95598194 | O98: =IF(M98>0,IF(N98>0,"Aprovado","Revisar"),"") -> Aprovado
A99: 84 | B99: CLOREXINA 0,12% SOLUÇÃO BOCHECHO 1L | C99: UN | D99: 100 | E99: R$ 14,16 | F99: =E99*D99 -> 1416 | G99: 14.16 | H99: =D99*G99 -> 1416 | I99: =F99-H99 -> 0 | J99: =(E99-G99)/E99% -> 0 | K99: =IF(J99<0,"NEGOCIAR",IF(J99>50.01,"DILIGÊNCIA","OK")) -> OK | L99: =VLOOKUP(A99,Planilha1!$A$2:$I$294,9,FALSE) -> ORTOSHOP COMERCIO LTDA-ME | M99: 0.78 | N99: =(G99-M99)/G99 -> 0.94491525 | O99: =IF(M99>0,IF(N99>0,"Aprovado","Revisar"),"") -> Aprovado
A100: 85 | B100: COLGADURA INDIVIDUAL | C100: UN | D100: 50 | E100: R$ 7,52 | F100: =E100*D100 -> 376 | G100: 4.24 | H100: =D100*G100 -> 212 | I100: =F100-H100 -> 164 | J100: =(E100-G100)/E100% -> 43.617021 | K100: =IF(J100<0,"NEGOCIAR",IF(J100>50.01,"DILIGÊNCIA","OK")) -> OK | L100: =VLOOKUP(A100,Planilha1!$A$2:$I$294,9,FALSE) -> JM COMERCIO E REPRESENTAÇÃO EIRELI | M100: 0.78 | N100: =(G100-M100)/G100 -> 0.81603774 | O100: =IF(M100>0,IF(N100>0,"Aprovado","Revisar"),"") -> Aprovado
A101: 86 | B101: COMPRESSA DE GAZE 7,5 X 7,5CM 240G | C101: UN | D101: 1000 | E101: R$ 24,03 | F101: =E101*D101 -> 24030 | G101: 8.7 | H101: =D101*G101 -> 8700 | I101: =F101-H101 -> 15330 | J101: =(E101-G101)/E101% -> 63.795256 | K101: =IF(J101<0,"NEGOCIAR",IF(J101>50.01,"DILIGÊNCIA","OK")) -> DILIGÊNCIA | L101: =VLOOKUP(A101,Planilha1!$A$2:$I$294,9,FALSE) -> ODONTOMED COMERCIO DE PRODUTOS MEDICO HOSPITALARES LTDA - ME | M101: 0.78 | N101: =(G101-M101)/G101 -> 0.91034483 | O101: =IF(M101>0,IF(N101>0,"Aprovado","Revisar"),"") -> Aprovado
A102: 87 | B102: CREME DENTAL (1100 A 1450 PPM DE FLÚOR) | C102: UN | D102: 3000 | E102: R$ 6,89 | F102: =E102*D102 -> 20670 | G102: 1.62 | H102: =D102*G102 -> 4860 | I102: =F102-H102 -> 15810 | J102: =(E102-G102)/E102% -> 76.487663 | K102: =IF(J102<0,"NEGOCIAR",IF(J102>50.01,"DILIGÊNCIA","OK")) -> DILIGÊNCIA | L102: =VLOOKUP(A102,Planilha1!$A$2:$I$294,9,FALSE) -> BIO LOGICA DISTRIBUIDORA LTDA | M102: 0.78 | N102: =(G102-M102)/G102 -> 0.51851852 | O102: =IF(M102>0,IF(N102>0,"Aprovado","Revisar"),"") -> Aprovado
A103: 88 | B103: CUBA INOX REDONDA 160ML | C103: UN | D103: 50 | E103: R$ 60,18 | F103: =E103*D103 -> 3009 | G103: 18.84 | H103: =D103*G103 -> 942 | I103: =F103-H103 -> 2067 | J103: =(E103-G103)/E103% -> 68.693918 | K103: =IF(J103<0,"NEGOCIAR",IF(J103>50.01,"DILIGÊNCIA","OK")) -> DILIGÊNCIA | L103: =VLOOKUP(A103,Planilha1!$A$2:$I$294,9,FALSE) -> ODONTOMED COMERCIO DE PRODUTOS MEDICO HOSPITALARES LTDA - ME | M103: 0.78 | N103: =(G103-M103)/G103 -> 0.95859873 | O103: =IF(M103>0,IF(N103>0,"Aprovado","Revisar"),"") -> Aprovado
A104: 89 | B104: CUBETA DE BORRACHA | C104: UN | D104: 20 | E104: R$ 9,06 | F104: =E104*D104 -> 181.2 | G104: 7.43 | H104: =D104*G104 -> 148.6 | I104: =F104-H104 -> 32.6 | J104: =(E104-G104)/E104% -> 17.99117 | K104: =IF(J104<0,"NEGOCIAR",IF(J104>50.01,"DILIGÊNCIA","OK")) -> OK | L104: =VLOOKUP(A104,Planilha1!$A$2:$I$294,9,FALSE) -> JM COMERCIO E REPRESENTAÇÃO EIRELI | M104: 0.78 | N104: =(G104-M104)/G104 -> 0.89502019 | O104: =IF(M104>0,IF(N104>0,"Aprovado","Revisar"),"") -> Aprovado
A105: 90 | B105: CUNHA ANATOMICA DE MADEIRA | C105: PC | D105: 100 | E105: R$ 34,61 | F105: =E105*D105 -> 3461 | G105: 7.01 | H105: =D105*G105 -> 701 | I105: =F105-H105 -> 2760 | J105: =(E105-G105)/E105% -> 79.745738 | K105: =IF(J105<0,"NEGOCIAR",IF(J105>50.01,"DILIGÊNCIA","OK")) -> DILIGÊNCIA | L105: ODONTOMED COMERCIO DE PRODUTOS MEDICO HOSPITALARES LTDA - ME | M105: 0.78 | N105: =(G105-M105)/G105 -> 0.88873039 | O105: =IF(M105>0,IF(N105>0,"Aprovado","Revisar"),"") -> Aprovado
A106: 91 | B106: CURATIVO ALVEOLAR COM PROPOLIS | C106: UN | D106: 50 | E106: R$ 61,70 | F106: =E106*D106 -> 3085 | G106: 26 | H106: =D106*G106 -> 1300 | I106: =F106-H106 -> 1785 | J106: =(E106-G106)/E106% -> 57.860616 | K106: =IF(J106<0,"NEGOCIAR",IF(J106>50.01,"DILIGÊNCIA","OK")) -> DILIGÊNCIA | L106: =VLOOKUP(A106,Planilha1!$A$2:$I$294,9,FALSE) -> DENTALMED PRODUTOS PARA SAUDE LTDA | M106: 0.78 | N106: =(G106-M106)/G106 -> 0.97 | O106: =IF(M106>0,IF(N106>0,"Aprovado","Revisar"),"") -> Aprovado
A107: 92 | B107: CURETA DE LUCAS | C107: UN | D107: 50 | E107: R$ 26,15 | F107: =E107*D107 -> 1307.5 | G107: 9.8 | H107: =D107*G107 -> 490 | I107: =F107-H107 -> 817.5 | J107: =(E107-G107)/E107% -> 62.523901 | K107: =IF(J107<0,"NEGOCIAR",IF(J107>50.01,"DILIGÊNCIA","OK")) -> DILIGÊNCIA | L107: =VLOOKUP(A107,Planilha1!$A$2:$I$294,9,FALSE) -> APOGEU CENTER COMERCIAL DE PRODUTOS HOSPITALARES E MEDICAMEN | M107: 0.78 | N107: =(G107-M107)/G107 -> 0.92040816 | O107: =IF(M107>0,IF(N107>0,"Aprovado","Revisar"),"") -> Aprovado
A108: 93 | B108: CURETA DENTINA | C108: UN | D108: 20 | E108: R$ 13,04 | F108: =E108*D108 -> 260.8 | G108: 9.8 | H108: =D108*G108 -> 196 | I108: =F108-H108 -> 64.8 | J108: =(E108-G108)/E108% -> 24.846626 | K108: =IF(J108<0,"NEGOCIAR",IF(J108>50.01,"DILIGÊNCIA","OK")) -> OK | L108: =VLOOKUP(A108,Planilha1!$A$2:$I$294,9,FALSE) -> APOGEU CENTER COMERCIAL DE PRODUTOS HOSPITALARES E MEDICAMEN | M108: 0.78 | N108: =(G108-M108)/G108 -> 0.92040816 | O108: =IF(M108>0,IF(N108>0,"Aprovado","Revisar"),"") -> Aprovado
A109: 94 | B109: CURETA PERIO MINI FIVE (CABO OCO) Nº 11-12 | C109: UN | D109: 5 | E109: R$ 22,64 | F109: =E109*D109 -> 113.2 | G109: 22.62 | H109: =D109*G109 -> 113.1 | I109: =F109-H109 -> 0.1 | J109: =(E109-G109)/E109% -> 0.088339223 | K109: =IF(J109<0,"NEGOCIAR",IF(J109>50.01,"DILIGÊNCIA","OK")) -> OK | L109: =VLOOKUP(A109,Planilha1!$A$2:$I$294,9,FALSE) -> APOGEU CENTER COMERCIAL DE PRODUTOS HOSPITALARES E MEDICAMEN | M109: 0.78 | N109: =(G109-M109)/G109 -> 0.96551724 | O109: =IF(M109>0,IF(N109>0,"Aprovado","Revisar"),"") -> Aprovado
A110: 95 | B110: CURETA PERIO MINI FIVE (CABO OCO) Nº 13-14 | C110: UN | D110: 5 | E110: R$ 23,26 | F110: =E110*D110 -> 116.3 | G110: 23.25 | H110: =D110*G110 -> 116.25 | I110: =F110-H110 -> 0.05 | J110: =(E110-G110)/E110% -> 0.042992261 | K110: =IF(J110<0,"NEGOCIAR",IF(J110>50.01,"DILIGÊNCIA","OK")) -> OK | L110: =VLOOKUP(A110,Planilha1!$A$2:$I$294,9,FALSE) -> APOGEU CENTER COMERCIAL DE PRODUTOS HOSPITALARES E MEDICAMEN | M110: 0.78 | N110: =(G110-M110)/G110 -> 0.96645161 | O110: =IF(M110>0,IF(N110>0,"Aprovado","Revisar"),"") -> Aprovado
A111: 96 | B111: CURETA PERIO MINI FIVE (CABO OCO) Nº 5-6 | C111: UN | D111: 5 | E111: R$ 23,21 | F111: =E111*D111 -> 116.05 | G111: 23.2 | H111: =D111*G111 -> 116 | I111: =F111-H111 -> 0.05 | J111: =(E111-G111)/E111% -> 0.043084877 | K111: =IF(J111<0,"NEGOCIAR",IF(J111>50.01,"DILIGÊNCIA","OK")) -> OK | L111: =VLOOKUP(A111,Planilha1!$A$2:$I$294,9,FALSE) -> APOGEU CENTER COMERCIAL DE PRODUTOS HOSPITALARES E MEDICAMEN | M111: 0.78 | N111: =(G111-M111)/G111 -> 0.96637931 | O111: =IF(M111>0,IF(N111>0,"Aprovado","Revisar"),"") -> Aprovado
A112: 97 | B112: CURETA PERIO MINI FIVE (CABO OCO) Nº 7-8 | C112: UN | D112: 5 | E112: R$ 23,21 | F112: =E112*D112 -> 116.05 | G112: 23.2 | H112: =D112*G112 -> 116 | I112: =F112-H112 -> 0.05 | J112: =(E112-G112)/E112% -> 0.043084877 | K112: =IF(J112<0,"NEGOCIAR",IF(J112>50.01,"DILIGÊNCIA","OK")) -> OK | L112: =VLOOKUP(A112,Planilha1!$A$2:$I$294,9,FALSE) -> APOGEU CENTER COMERCIAL DE PRODUTOS HOSPITALARES E MEDICAMEN | M112: 0.78 | N112: =(G112-M112)/G112 -> 0.96637931 | O112: =IF(M112>0,IF(N112>0,"Aprovado","Revisar"),"") -> Aprovado
A113: 98 | B113: CURETA PERIO PLN FURCA (CABO OCO) Nº 1/2N | C113: UN | D113: 5 | E113: R$ 74,40 | F113: =E113*D113 -> 372 | G113: 74.4 | H113: =D113*G113 -> 372 | I113: =F113-H113 -> 0 | J113: =(E113-G113)/E113% -> 0 | K113: =IF(J113<0,"NEGOCIAR",IF(J113>50.01,"DILIGÊNCIA","OK")) -> OK | L113: =VLOOKUP(A113,Planilha1!$A$2:$I$294,9,FALSE) -> ORTOSHOP COMERCIO LTDA-ME | M113: 0.78 | N113: =(G113-M113)/G113 -> 0.98951613 | O113: =IF(M113>0,IF(N113>0,"Aprovado","Revisar"),"") -> Aprovado
A114: 99 | B114: CURETA PERIO PLN FURCA (CABO OCO) Nº 3/4N | C114: UN | D114: 5 | E114: R$ 67,88 | F114: =E114*D114 -> 339.4 | G114: 67.88 | H114: =D114*G114 -> 339.4 | I114: =F114-H114 -> 0 | J114: =(E114-G114)/E114% -> 0 | K114: =IF(J114<0,"NEGOCIAR",IF(J114>50.01,"DILIGÊNCIA","OK")) -> OK | L114: =VLOOKUP(A114,Planilha1!$A$2:$I$294,9,FALSE) -> ORTOSHOP COMERCIO LTDA-ME | M114: 0.78 | N114: =(G114-M114)/G114 -> 0.98850913 | O114: =IF(M114>0,IF(N114>0,"Aprovado","Revisar"),"") -> Aprovado
A115: 100 | B115: CURETA PERIO PLN FURCA (CABO OCO) Nº 5/6N | C115: UN | D115: 5 | E115: R$ 76,52 | F115: =E115*D115 -> 382.6 | G115: 76.52 | H115: =D115*G115 -> 382.6 | I115: =F115-H115 -> 0 | J115: =(E115-G115)/E115% -> 0 | K115: =IF(J115<0,"NEGOCIAR",IF(J115>50.01,"DILIGÊNCIA","OK")) -> OK | L115: =VLOOKUP(A115,Planilha1!$A$2:$I$294,9,FALSE) -> ORTOSHOP COMERCIO LTDA-ME | M115: 0.78 | N115: =(G115-M115)/G115 -> 0.98980659 | O115: =IF(M115>0,IF(N115>0,"Aprovado","Revisar"),"") -> Aprovado
A116: 101 | B116: DESCOLADOR DE MOLT Nº 2-4 | C116: UN | D116: 10 | E116: R$ 76,37 | F116: =E116*D116 -> 763.7 | G116: 22.5 | H116: =D116*G116 -> 225 | I116: =F116-H116 -> 538.7 | J116: =(E116-G116)/E116% -> 70.538169 | K116: =IF(J116<0,"NEGOCIAR",IF(J116>50.01,"DILIGÊNCIA","OK")) -> DILIGÊNCIA | L116: APOGEU CENTER COMERCIAL DE PRODUTOS HOSPITALARES E MEDICAMEN | M116: 0.78 | N116: =(G116-M116)/G116 -> 0.96533333 | O116: =IF(M116>0,IF(N116>0,"Aprovado","Revisar"),"") -> Aprovado
A117: 102 | B117: DETERGENTE ENZIMATICO 1L | C117: L | D117: 100 | E117: R$ 85,75 | F117: =E117*D117 -> 8575 | G117: 18.49 | H117: =D117*G117 -> 1849 | I117: =F117-H117 -> 6726 | J117: =(E117-G117)/E117% -> 78.437318 | K117: =IF(J117<0,"NEGOCIAR",IF(J117>50.01,"DILIGÊNCIA","OK")) -> DILIGÊNCIA | L117: =VLOOKUP(A117,Planilha1!$A$2:$I$294,9,FALSE) -> MEDICAL CENTER DISTRIBUIDORA DE MEDICAMENTOS LTDA | M117: 0.78 | N117: =(G117-M117)/G117 -> 0.95781504 | O117: =IF(M117>0,IF(N117>0,"Aprovado","Revisar"),"") -> Aprovado
A118: 103 | B118: DISCO DE CARBORUNDUM | C118: UN | D118: 50 | E118: R$ 16,50 | F118: =E118*D118 -> 825 | G118: 16.5 | H118: =D118*G118 -> 825 | I118: =F118-H118 -> 0 | J118: =(E118-G118)/E118% -> 0 | K118: =IF(J118<0,"NEGOCIAR",IF(J118>50.01,"DILIGÊNCIA","OK")) -> OK | L118: =VLOOKUP(A118,Planilha1!$A$2:$I$294,9,FALSE) -> ORTOSHOP COMERCIO LTDA-ME | M118: 0.78 | N118: =(G118-M118)/G118 -> 0.95272727 | O118: =IF(M118>0,IF(N118>0,"Aprovado","Revisar"),"") -> Aprovado
A119: 104 | B119: DISCO DE LIXA PARA ACABAMENTO E POLIMENTO DENTE | C119: PC | D119: 50 | E119: R$ 89,86 | F119: =E119*D119 -> 4493 | G119: 43.42 | H119: =D119*G119 -> 2171 | I119: =F119-H119 -> 2322 | J119: =(E119-G119)/E119% -> 51.680392 | K119: =IF(J119<0,"NEGOCIAR",IF(J119>50.01,"DILIGÊNCIA","OK")) -> DILIGÊNCIA | L119: =VLOOKUP(A119,Planilha1!$A$2:$I$294,9,FALSE) -> DENTAL IPO LTDA | M119: 0.78 | N119: =(G119-M119)/G119 -> 0.98203593 | O119: =IF(M119>0,IF(N119>0,"Aprovado","Revisar"),"") -> Aprovado
A120: 105 | B120: EDTA TRISSÓDICO 20ML | C120: UN | D120: 50 | E120: R$ 11,26 | F120: =E120*D120 -> 563 | G120: 4.42 | H120: =D120*G120 -> 221 | I120: =F120-H120 -> 342 | J120: =(E120-G120)/E120% -> 60.746004 | K120: =IF(J120<0,"NEGOCIAR",IF(J120>50.01,"DILIGÊNCIA","OK")) -> DILIGÊNCIA | L120: BIO LOGICA DISTRIBUIDORA LTDA | M120: 0.78 | N120: =(G120-M120)/G120 -> 0.82352941 | O120: =IF(M120>0,IF(N120>0,"Aprovado","Revisar"),"") -> Aprovado
A121: 106 | B121: ESCALA DE COR DENTE | C121: UN | D121: 2 | E121: R$ 1.354,16 | F121: =E121*D121 -> 2708.32 | G121: 1354.16 | H121: =D121*G121 -> 2708.32 | I121: =F121-H121 -> 0 | J121: =(E121-G121)/E121% -> 0 | K121: =IF(J121<0,"NEGOCIAR",IF(J121>50.01,"DILIGÊNCIA","OK")) -> OK | L121: =VLOOKUP(A121,Planilha1!$A$2:$I$294,9,FALSE) -> ORTOSHOP COMERCIO LTDA-ME | M121: 0.78 | N121: =(G121-M121)/G121 -> 0.999424 | O121: =IF(M121>0,IF(N121>0,"Aprovado","Revisar"),"") -> Aprovado
A122: 107 | B122: ESCOVA DE FELTRO – PEÇA DE MÃO | C122: UN | D122: 10 | E122: R$ 23,69 | F122: =E122*D122 -> 236.9 | G122: 19 | H122: =D122*G122 -> 190 | I122: =F122-H122 -> 46.9 | J122: =(E122-G122)/E122% -> 19.797383 | K122: =IF(J122<0,"NEGOCIAR",IF(J122>50.01,"DILIGÊNCIA","OK")) -> OK | L122: =VLOOKUP(A122,Planilha1!$A$2:$I$294,9,FALSE) -> DENTALMED PRODUTOS PARA SAUDE LTDA | M122: 0.78 | N122: =(G122-M122)/G122 -> 0.95894737 | O122: =IF(M122>0,IF(N122>0,"Aprovado","Revisar"),"") -> Aprovado
A123: 108 | B123: ESCOVA DE ROBSON | C123: UN | D123: 150 | E123: R$ 3,73 | F123: =E123*D123 -> 559.5 | G123: 1.11 | H123: =D123*G123 -> 166.5 | I123: =F123-H123 -> 393 | J123: =(E123-G123)/E123% -> 70.241287 | K123: =IF(J123<0,"NEGOCIAR",IF(J123>50.01,"DILIGÊNCIA","OK")) -> DILIGÊNCIA | L123: =VLOOKUP(A123,Planilha1!$A$2:$I$294,9,FALSE) -> BIO LOGICA DISTRIBUIDORA LTDA | M123: 0.78 | N123: =(G123-M123)/G123 -> 0.2972973 | O123: =IF(M123>0,IF(N123>0,"Aprovado","Revisar"),"") -> Aprovado
A124: 109 | B124: ESCOVA DENTAL COM CERDAS MACIAS (ADULTO) | C124: UN | D124: 1500 | E124: R$ 9,74 | F124: =E124*D124 -> 14610 | G124: 0.74 | H124: =D124*G124 -> 1110 | I124: =F124-H124 -> 13500 | J124: =(E124-G124)/E124% -> 92.402464 | K124: =IF(J124<0,"NEGOCIAR",IF(J124>50.01,"DILIGÊNCIA","OK")) -> DILIGÊNCIA | L124: BIO LOGICA DISTRIBUIDORA LTDA | M124: 0.78 | N124: =(G124-M124)/G124 -> -0.054054054 | O124: =IF(M124>0,IF(N124>0,"Aprovado","Revisar"),"") -> Revisar
A125: 110 | B125: ESCOVA DENTAL COM CERDAS MACIAS (INFANTIL) | C125: UN | D125: 1500 | E125: R$ 6,57 | F125: =E125*D125 -> 9855 | G125: 0.69 | H125: =D125*G125 -> 1035 | I125: =F125-H125 -> 8820 | J125: =(E125-G125)/E125% -> 89.497717 | K125: =IF(J125<0,"NEGOCIAR",IF(J125>50.01,"DILIGÊNCIA","OK")) -> DILIGÊNCIA | L125: BIO LOGICA DISTRIBUIDORA LTDA | M125: 0.78 | N125: =(G125-M125)/G125 -> -0.13043478 | O125: =IF(M125>0,IF(N125>0,"Aprovado","Revisar"),"") -> Revisar
A126: 111 | B126: ESPARADRAPO IMPERMEÁVEL 2,5CM X 4,5M | C126: UN | D126: 100 | E126: R$ 10,66 | F126: =E126*D126 -> 1066 | G126: 5.46 | H126: =D126*G126 -> 546 | I126: =F126-H126 -> 520 | J126: =(E126-G126)/E126% -> 48.780488 | K126: =IF(J126<0,"NEGOCIAR",IF(J126>50.01,"DILIGÊNCIA","OK")) -> OK | L126: =VLOOKUP(A126,Planilha1!$A$2:$I$294,9,FALSE) -> ODONTOMASTER COMERCIO DE PRODUTOS PARA SAUDE EIRELI | M126: 0.78 | N126: =(G126-M126)/G126 -> 0.85714286 | O126: =IF(M126>0,IF(N126>0,"Aprovado","Revisar"),"") -> Aprovado
A127: 112 | B127: ESPATULA ALGINATO | C127: UN | D127: 5 | E127: R$ 7,43 | F127: =E127*D127 -> 37.15 | G127: 6.5 | H127: =D127*G127 -> 32.5 | I127: =F127-H127 -> 4.65 | J127: =(E127-G127)/E127% -> 12.516824 | K127: =IF(J127<0,"NEGOCIAR",IF(J127>50.01,"DILIGÊNCIA","OK")) -> OK | L127: =VLOOKUP(A127,Planilha1!$A$2:$I$294,9,FALSE) -> DENTALMED PRODUTOS PARA SAUDE LTDA | M127: 0.78 | N127: =(G127-M127)/G127 -> 0.88 | O127: =IF(M127>0,IF(N127>0,"Aprovado","Revisar"),"") -> Aprovado
A128: 113 | B128: ESPATULA DE MANIPULAÇÃO Nº24 | C128: UN | D128: 50 | E128: R$ 15,64 | F128: =E128*D128 -> 782 | G128: 13.99 | H128: =D128*G128 -> 699.5 | I128: =F128-H128 -> 82.5 | J128: =(E128-G128)/E128% -> 10.549872 | K128: =IF(J128<0,"NEGOCIAR",IF(J128>50.01,"DILIGÊNCIA","OK")) -> OK | L128: =VLOOKUP(A128,Planilha1!$A$2:$I$294,9,FALSE) -> ODONTOMED COMERCIO DE PRODUTOS MEDICO HOSPITALARES LTDA - ME | M128: 0.78 | N128: =(G128-M128)/G128 -> 0.94424589 | O128: =IF(M128>0,IF(N128>0,"Aprovado","Revisar"),"") -> Aprovado
A129: 114 | B129: ESPATULA DE MANIPULAÇÃO Nº36 | C129: UN | D129: 50 | E129: R$ 14,37 | F129: =E129*D129 -> 718.5 | G129: 13.99 | H129: =D129*G129 -> 699.5 | I129: =F129-H129 -> 19 | J129: =(E129-G129)/E129% -> 2.6443981 | K129: =IF(J129<0,"NEGOCIAR",IF(J129>50.01,"DILIGÊNCIA","OK")) -> OK | L129: =VLOOKUP(A129,Planilha1!$A$2:$I$294,9,FALSE) -> ODONTOMED COMERCIO DE PRODUTOS MEDICO HOSPITALARES LTDA - ME | M129: 0.78 | N129: =(G129-M129)/G129 -> 0.94424589 | O129: =IF(M129>0,IF(N129>0,"Aprovado","Revisar"),"") -> Aprovado
A130: 115 | B130: ESPATULA DE RESINA COMPOSTA Nº 1 | C130: UN | D130: 50 | E130: R$ 78,01 | F130: =E130*D130 -> 3900.5 | G130: 10.34 | H130: =D130*G130 -> 517 | I130: =F130-H130 -> 3383.5 | J130: =(E130-G130)/E130% -> 86.745289 | K130: =IF(J130<0,"NEGOCIAR",IF(J130>50.01,"DILIGÊNCIA","OK")) -> DILIGÊNCIA | L130: =VLOOKUP(A130,Planilha1!$A$2:$I$294,9,FALSE) -> ODONTOMASTER COMERCIO DE PRODUTOS PARA SAUDE EIRELI | M130: 0.78 | N130: =(G130-M130)/G130 -> 0.9245648 | O130: =IF(M130>0,IF(N130>0,"Aprovado","Revisar"),"") -> Aprovado
A131: 116 | B131: ESPATULA DE RESINA COMPOSTA Nº 2 | C131: UN | D131: 50 | E131: R$ 37,03 | F131: =E131*D131 -> 1851.5 | G131: 10.34 | H131: =D131*G131 -> 517 | I131: =F131-H131 -> 1334.5 | J131: =(E131-G131)/E131% -> 72.076695 | K131: =IF(J131<0,"NEGOCIAR",IF(J131>50.01,"DILIGÊNCIA","OK")) -> DILIGÊNCIA | L131: =VLOOKUP(A131,Planilha1!$A$2:$I$294,9,FALSE) -> ODONTOMASTER COMERCIO DE PRODUTOS PARA SAUDE EIRELI | M131: 0.78 | N131: =(G131-M131)/G131 -> 0.9245648 | O131: =IF(M131>0,IF(N131>0,"Aprovado","Revisar"),"") -> Aprovado
A132: 117 | B132: ESPATULA DUPLA PARA CERA Nº31 | C132: UN | D132: 10 | E132: R$ 72,05 | F132: =E132*D132 -> 720.5 | G132: 14.9 | H132: =D132*G132 -> 149 | I132: =F132-H132 -> 571.5 | J132: =(E132-G132)/E132% -> 79.319917 | K132: =IF(J132<0,"NEGOCIAR",IF(J132>50.01,"DILIGÊNCIA","OK")) -> DILIGÊNCIA | L132: =VLOOKUP(A132,Planilha1!$A$2:$I$294,9,FALSE) -> JM COMERCIO E REPRESENTAÇÃO EIRELI | M132: 0.78 | N132: =(G132-M132)/G132 -> 0.94765101 | O132: =IF(M132>0,IF(N132>0,"Aprovado","Revisar"),"") -> Aprovado
A133: 118 | B133: ESPATULA GESSO | C133: UN | D133: 5 | E133: R$ 3,26 | F133: =E133*D133 -> 16.3 | G133: 3.24 | H133: =D133*G133 -> 16.2 | I133: =F133-H133 -> 0.1 | J133: =(E133-G133)/E133% -> 0.61349693 | K133: =IF(J133<0,"NEGOCIAR",IF(J133>50.01,"DILIGÊNCIA","OK")) -> OK | L133: =VLOOKUP(A133,Planilha1!$A$2:$I$294,9,FALSE) -> ODONTOMED COMERCIO DE PRODUTOS MEDICO HOSPITALARES LTDA - ME | M133: 0.78 | N133: =(G133-M133)/G133 -> 0.75925926 | O133: =IF(M133>0,IF(N133>0,"Aprovado","Revisar"),"") -> Aprovado
A134: 119 | B134: ESPATULA LECRON | C134: UN | D134: 10 | E134: R$ 25,97 | F134: =E134*D134 -> 259.7 | G134: 14.99 | H134: =D134*G134 -> 149.9 | I134: =F134-H134 -> 109.8 | J134: =(E134-G134)/E134% -> 42.279553 | K134: =IF(J134<0,"NEGOCIAR",IF(J134>50.01,"DILIGÊNCIA","OK")) -> OK | L134: =VLOOKUP(A134,Planilha1!$A$2:$I$294,9,FALSE) -> ODONTOMED COMERCIO DE PRODUTOS MEDICO HOSPITALARES LTDA - ME | M134: 0.78 | N134: =(G134-M134)/G134 -> 0.94796531 | O134: =IF(M134>0,IF(N134>0,"Aprovado","Revisar"),"") -> Aprovado
A135: 120 | B135: ESPATULA PARA CERA Nº7 | C135: UN | D135: 50 | E135: R$ 14,13 | F135: =E135*D135 -> 706.5 | G135: 12.54 | H135: =D135*G135 -> 627 | I135: =F135-H135 -> 79.5 | J135: =(E135-G135)/E135% -> 11.252654 | K135: =IF(J135<0,"NEGOCIAR",IF(J135>50.01,"DILIGÊNCIA","OK")) -> OK | L135: =VLOOKUP(A135,Planilha1!$A$2:$I$294,9,FALSE) -> ODONTOMED COMERCIO DE PRODUTOS MEDICO HOSPITALARES LTDA - ME | M135: 0.78 | N135: =(G135-M135)/G135 -> 0.93779904 | O135: =IF(M135>0,IF(N135>0,"Aprovado","Revisar"),"") -> Aprovado
A136: 121 | B136: ESPATULA PLASTICA DE IONOMERO | C136: UN | D136: 20 | E136: R$ 8,03 | F136: =E136*D136 -> 160.6 | G136: 4 | H136: =D136*G136 -> 80 | I136: =F136-H136 -> 80.6 | J136: =(E136-G136)/E136% -> 50.1868 | K136: =IF(J136<0,"NEGOCIAR",IF(J136>50.01,"DILIGÊNCIA","OK")) -> DILIGÊNCIA | L136: =VLOOKUP(A136,Planilha1!$A$2:$I$294,9,FALSE) -> JM COMERCIO E REPRESENTAÇÃO EIRELI | M136: 0.78 | N136: =(G136-M136)/G136 -> 0.805 | O136: =IF(M136>0,IF(N136>0,"Aprovado","Revisar"),"") -> Aprovado
A137: 122 | B137: ESPELHO COM CABO Nº 3 | C137: UN | D137: 50 | E137: R$ 13,07 | F137: =E137*D137 -> 653.5 | G137: 12.89 | H137: =D137*G137 -> 644.5 | I137: =F137-H137 -> 9 | J137: =(E137-G137)/E137% -> 1.3771997 | K137: =IF(J137<0,"NEGOCIAR",IF(J137>50.01,"DILIGÊNCIA","OK")) -> OK | L137: =VLOOKUP(A137,Planilha1!$A$2:$I$294,9,FALSE) -> BIO LOGICA DISTRIBUIDORA LTDA | M137: 0.78 | N137: =(G137-M137)/G137 -> 0.93948798 | O137: =IF(M137>0,IF(N137>0,"Aprovado","Revisar"),"") -> Aprovado
... A153: 138 | B153: FIO DENTAL (500M) | C153: UN | D153: 200 | E153: R$ 8,97 | F153: =E153*D153 -> 1794 | G153: 8.85 | H153: =D153*G153 -> 1770 | I153: =F153-H153 -> 24 | J153: =(E153-G153)/E153% -> 1.3377926 | K153: =IF(J153<0,"NEGOCIAR",IF(J153>50.01,"DILIGÊNCIA","OK")) -> OK | L153: =VLOOKUP(A153,Planilha1!$A$2:$I$294,9,FALSE) -> RPC PRODUTOS E SERVICOS EIRELI | M153: 0.78 | N153: =(G153-M153)/G153 -> 0.91186441 | O153: =IF(M153>0,IF(N153>0,"Aprovado","Revisar"),"") -> Aprovado
A154: 139 | B154: FIO DENTAL (50M) | C154: UN | D154: 3000 | E154: R$ 9,50 | F154: =E154*D154 -> 28500 | G154: 1.54 | H154: =D154*G154 -> 4620 | I154: =F154-H154 -> 23880 | J154: =(E154-G154)/E154% -> 83.789474 | K154: =IF(J154<0,"NEGOCIAR",IF(J154>50.01,"DILIGÊNCIA","OK")) -> DILIGÊNCIA | L154: BIO LOGICA DISTRIBUIDORA LTDA | M154: 0.78 | N154: =(G154-M154)/G154 -> 0.49350649 | O154: =IF(M154>0,IF(N154>0,"Aprovado","Revisar"),"") -> Aprovado
A155: 140 | B155: FIO RETRATOR Nº 0 | C155: UN | D155: 50 | E155: R$ 41,91 | F155: =E155*D155 -> 2095.5 | G155: 15.88 | H155: =D155*G155 -> 794 | I155: =F155-H155 -> 1301.5 | J155: =(E155-G155)/E155% -> 62.109282 | K155: =IF(J155<0,"NEGOCIAR",IF(J155>50.01,"DILIGÊNCIA","OK")) -> DILIGÊNCIA | L155: BIO LOGICA DISTRIBUIDORA LTDA | M155: 0.78 | N155: =(G155-M155)/G155 -> 0.95088161 | O155: =IF(M155>0,IF(N155>0,"Aprovado","Revisar"),"") -> Aprovado
A156: 141 | B156: FIO RETRATOR Nº 1 | C156: UN | D156: 50 | E156: R$ 91,08 | F156: =E156*D156 -> 4554 | G156: 23.57 | H156: =D156*G156 -> 1178.5 | I156: =F156-H156 -> 3375.5 | J156: =(E156-G156)/E156% -> 74.121651 | K156: =IF(J156<0,"NEGOCIAR",IF(J156>50.01,"DILIGÊNCIA","OK")) -> DILIGÊNCIA | L156: =VLOOKUP(A156,Planilha1!$A$2:$I$294,9,FALSE) -> BIO LOGICA DISTRIBUIDORA LTDA | M156: 0.78 | N156: =(G156-M156)/G156 -> 0.96690709 | O156: =IF(M156>0,IF(N156>0,"Aprovado","Revisar"),"") -> Aprovado
A157: 142 | B157: FITA MATRIZ METÁLICA Nº 5MM | C157: UN | D157: 200 | E157: R$ 1,91 | F157: =E157*D157 -> 382 | G157: 1.39 | H157: =D157*G157 -> 278 | I157: =F157-H157 -> 104 | J157: =(E157-G157)/E157% -> 27.225131 | K157: =IF(J157<0,"NEGOCIAR",IF(J157>50.01,"DILIGÊNCIA","OK")) -> OK | L157: =VLOOKUP(A157,Planilha1!$A$2:$I$294,9,FALSE) -> BIO LOGICA DISTRIBUIDORA LTDA | M157: 0.78 | N157: =(G157-M157)/G157 -> 0.43884892 | O157: =IF(M157>0,IF(N157>0,"Aprovado","Revisar"),"") -> Aprovado
A158: 143 | B158: FITA MATRIZ METÁLICA Nº 7MM | C158: UN | D158: 200 | E158: R$ 2,00 | F158: =E158*D158 -> 400 | G158: 1.53 | H158: =D158*G158 -> 306 | I158: =F158-H158 -> 94 | J158: =(E158-G158)/E158% -> 23.5 | K158: =IF(J158<0,"NEGOCIAR",IF(J158>50.01,"DILIGÊNCIA","OK")) -> OK | L158: =VLOOKUP(A158,Planilha1!$A$2:$I$294,9,FALSE) -> BIO LOGICA DISTRIBUIDORA LTDA | M158: 0.78 | N158: =(G158-M158)/G158 -> 0.49019608 | O158: =IF(M158>0,IF(N158>0,"Aprovado","Revisar"),"") -> Aprovado
A159: 144 | B159: FITA PARA AUTOCLAVE 19MMX30MM | C159: UN | D159: 200 | E159: R$ 10,46 | F159: =E159*D159 -> 2092 | G159: 4.69 | H159: =D159*G159 -> 938 | I159: =F159-H159 -> 1154 | J159: =(E159-G159)/E159% -> 55.162524 | K159: =IF(J159<0,"NEGOCIAR",IF(J159>50.01,"DILIGÊNCIA","OK")) -> DILIGÊNCIA | L159: odontomed | M159: 0.78 | N159: =(G159-M159)/G159 -> 0.8336887 | O159: =IF(M159>0,IF(N159>0,"Aprovado","Revisar"),"") -> Aprovado
A160: 145 | B160: FIXADOR RADIOGRÁFICO | C160: UN | D160: 100 | E160: R$ 29,30 | F160: =E160*D160 -> 2930 | G160: 12.08 | H160: =D160*G160 -> 1208 | I160: =F160-H160 -> 1722 | J160: =(E160-G160)/E160% -> 58.771331 | K160: =IF(J160<0,"NEGOCIAR",IF(J160>50.01,"DILIGÊNCIA","OK")) -> DILIGÊNCIA | L160: =VLOOKUP(A160,Planilha1!$A$2:$I$294,9,FALSE) -> ODONTOMASTER COMERCIO DE PRODUTOS PARA SAUDE EIRELI | M160: 0.78 | N160: =(G160-M160)/G160 -> 0.93543046 | O160: =IF(M160>0,IF(N160>0,"Aprovado","Revisar"),"") -> Aprovado
A161: 146 | B161: FOICE Nº 00 | C161: UN | D161: 50 | E161: R$ 45,79 | F161: =E161*D161 -> 2289.5 | G161: 18.14 | H161: =D161*G161 -> 907 | I161: =F161-H161 -> 1382.5 | J161: =(E161-G161)/E161% -> 60.384363 | K161: =IF(J161<0,"NEGOCIAR",IF(J161>50.01,"DILIGÊNCIA","OK")) -> DILIGÊNCIA | L161: =VLOOKUP(A161,Planilha1!$A$2:$I$294,9,FALSE) -> ODONTOMASTER COMERCIO DE PRODUTOS PARA SAUDE EIRELI | M161: 0.78 | N161: =(G161-M161)/G161 -> 0.9570011 | O161: =IF(M161>0,IF(N161>0,"Aprovado","Revisar"),"") -> Aprovado
A162: 147 | B162: FORCEPS Nº101 | C162: UN | D162: 10 | E162: R$ 69,59 | F162: =E162*D162 -> 695.9 | G162: 69.59 | H162: =D162*G162 -> 695.9 | I162: =F162-H162 -> 0 | J162: =(E162-G162)/E162% -> 0 | K162: =IF(J162<0,"NEGOCIAR",IF(J162>50.01,"DILIGÊNCIA","OK")) -> OK | L162: =VLOOKUP(A162,Planilha1!$A$2:$I$294,9,FALSE) -> ORTOSHOP COMERCIO LTDA-ME | M162: 0.78 | N162: =(G162-M162)/G162 -> 0.98879149 | O162: =IF(M162>0,IF(N162>0,"Aprovado","Revisar"),"") -> Aprovado
A163: 148 | B163: FORCEPS Nº150 | C163: UN | D163: 20 | E163: R$ 92,45 | F163: =E163*D163 -> 1849 | G163: 82.07 | H163: =D163*G163 -> 1641.4 | I163: =F163-H163 -> 207.6 | J163: =(E163-G163)/E163% -> 11.227691 | K163: =IF(J163<0,"NEGOCIAR",IF(J163>50.01,"DILIGÊNCIA","OK")) -> OK | L163: =VLOOKUP(A163,Planilha1!$A$2:$I$294,9,FALSE) -> ODONTOMED COMERCIO DE PRODUTOS MEDICO HOSPITALARES LTDA - ME | M163: 0.78 | N163: =(G163-M163)/G163 -> 0.99049592 | O163: =IF(M163>0,IF(N163>0,"Aprovado","Revisar"),"") -> Aprovado
...

Sheet Planilha1
A2: 33 | B2: BISTURI DE ORBAN | C2: MARINOX | D2: MARINOX | E2: 2 UN | F2: R$ 25,40 | H2: R$ 50,80 | I2: APOGEU CENTER COMERCIAL DE PRODUTOS HOSPITALARES E MEDICAMEN
A3: 1 | B3: ABAIXADOR DE LÍNGUA MADEIRA C/100 UND | C3: theoto | D3: theoto | E3: 1.000 PC R$ 5,00 | G3: R$ 5.000,00 | I3: NEWMED PRODUTOS PARA SAUDE LTDA
A4: 2 | B4: ABRIDOR DE BOCA ABRITEC | C4: IODONTOSUL | D4: IODONTOSUL | E4: 1 UN | F4: R$ 10,00 | H4: R$ 10,00 | I4: ODONTOMED COMERCIO DE PRODUTOS MEDICO HOSPITALARES LTDA - ME
A5: 3 | B5: ABRIDOR DE BOCA ADULTO E INFANTIL | C5: PLASTICO | D5: PREVEN | E5: 50 KIT | F5: R$ 7,20 | H5: R$ 360,00 | I5: ORTOSHOP COMERCIO LTDA-ME
A6: 4 | B6: ÁCIDO FOSFÓRICO 37% PARA CONDICIONAMENTO DE ESMALTE E DENTINA (SERINGA COM 2,5 ML) | C6: UNIDADE | D6: IODONTOSUL | E6: 400 UN R$ 1,29 | G6: R$ 516,00 | I6: VITORIA TEIXEIRA DE OLIVEIRA
A7: 5 | B7: ADESIVO EMBALAGEM COM 4ML. ADESIVO MONOCOMPONENTE. | C7: UNIDADE | D7: BIODINAMICA | E7: 200 UN R$ 11,19 | G7: R$ 2.238,00 | I7: VITORIA TEIXEIRA DE OLIVEIRA
A8: 6 | B8: AFASTADOR DE LINGUA | C8: UNIÃO INOX | D8: UNIÃO INOX | E8: 20 UN | F8: R$ 17,54 | H8: R$ 350,80 | I8: ODONTOMED COMERCIO DE PRODUTOS MEDICO HOSPITALARES LTDA - ME
A9: 7 | B9: AFASTADOR DE MINESSOTA | C9: AÇO INOX | D9: AÇO INOX / GOLGRAN | E9: 20 UN | F9: R$ 11,67 | H9: R$ 233,40 | I9: ORTOSHOP COMERCIO LTDA-ME
A10: 8 | B10: AFASTADOR FARABELT | C10: UNIÃO INOX | D10: UNIÃO INOX | E10: 10 UN | F10: R$ 18,13 | H10: R$ 181,30 | I10: ODONTOMED COMERCIO DE PRODUTOS MEDICO HOSPITALARES LTDA - ME
A11: 9 | B11: AFASTADOR LABIAL EXPANDEX ADULTO | C11: MAQUIRA | D11: MAQUIRA | E11: 50 UN | F11: R$ 10,65 | H11: R$ 532,50 | I11: ODONTOMED COMERCIO DE PRODUTOS MEDICO HOSPITALARES LTDA - ME
A12: 10 | B12: AFASTADOR LABIAL EXPANDEX INFANTIL | C12: MAQUIRA | D12: MAQUIRA | E12: 20 UN | F12: R$ 10,65 | H12: R$ 213,00 | I12: ODONTOMED COMERCIO DE PRODUTOS MEDICO HOSPITALARES LTDA - ME
A13: 11 | B13: ÁGUA DESTILADA 5000ML | C13: CRISTAL | D13: CRISTAL | E13: 2.400 CX | F13: R$ 7,99 | H13: R$ 19.176,00 | I13: ODONTOMED COMERCIO DE PRODUTOS MEDICO HOSPITALARES LTDA - ME
A14: 12 | B14: AGULHA GENGIVAL 27 G LONGA 31 MM DESCARTÁVEL E ESTÉRIL C/100 | C14: SALDANHA RODRIG | D14: SALDANHA RODRIG | E14: 250 CX R$ 27,01 | G14: R$ 6.752,50 | I14: ODONTOMASTER COMERCIO DE PRODUTOS PARA SAUDE EIRELI
A15: 13 | B15: AGULHA GENGIVAL 30 G CURTA 21 MM DESCARTÁVEL E ESTÉRIL C/100 | C15: DESCARPACK | D15: DESCARPACK | E15: 250 CX R$ 27,17 | G15: R$ 6.792,50 | I15: ODONTOMASTER COMERCIO DE PRODUTOS PARA SAUDE EIRELI
A16: 14 | B16: AGULHA PARA IRRIGAÇÃO COM SAIDA LATERAL (ENDO-EZE) | C16: Pontairrigaçãosaídalateral2M7KGxL2IF5Em/mMcK1P0rodutos p. Saúde | E16: 200 UN R$ 23,25 | G16: R$ 4.650,00 | I16: DENTAL IPO LTDA
A17: 15 | B17: ÁLCOOL 70% 1000ML | C17: UND | D17: PINDORAMA | E17: 1.000 UN | F17: R$ 6,25 | H17: R$ 6.250,00 | I17: YUMED COMERCIO LTDA
A18: 16 | B18: ALGINATO TIPO II | C18: EZACT KROM 410G | D18: EZACT KROM / VIGODENT | E18: 50 PC | F18: R$ 19,31 | H18: R$ 965,50 | I18: ORTOSHOP COMERCIO LTDA-ME
A19: 17 | B19: ALGODÃO HIDRÓFILO 500G | C19: UN | D19: NEVOA | E19: 600 UN R$ 14,16 | G19: R$ 8.496,00 | I19: MEDICAL CENTER DISTRIBUIDORA DE MEDICAMENTOS LTDA
A20: 18 | B20: ALICATE 139 | C20: GOLGRAN | D20: GOLGRAN | E20: 5 UN | F20: R$ 88,83 | H20: R$ 444,15 | I20: JM COMERCIO E REPRESENTAÇÃO EIRELI
A21: 19 | B21: ALICATE PERFURADOR AINSWORTH | C21: UNIÃO INOX | D21: UNIÃO INOX | E21: 30 UN | F21: R$ 80,97 | H21: R$ 2.429,10 | I21: ODONTOMED COMERCIO DE PRODUTOS MEDICO HOSPITALARES LTDA - ME
A22: 20 | B22: AMALGAMA EM CAPSULAS, EMBALAGEM C/50 UND | C22: SDI | D22: SDI | E22: 20 PC | F22: R$ 133,99 | H22: R$ 2.679,80 | I22: ODONTOMED COMERCIO DE PRODUTOS MEDICO HOSPITALARES LTDA - ME
A23: 21 | B23: ANESTESICO LOCAL (LIDOCAÍNA 2% COM EPINEFRINA 1:100.000) C/50UND TUB | C23: TUBETES DE VIDRO | D23: TUBETES DE VIDRO / DFL | E23: 650 CX | F23: R$ 91,49 | H23: R$ 59.468,50 | I23: ORTOSHOP COMERCIO LTDA-ME
A24: 22 | B24: ANESTESICO LOCAL (MEPVACAÍNA 2% COM | C24: DLA | D24: DLA | E24: 500 CX R$ 144,30 R$ 72.150,00 | I24: JM COMERCIO E REPRESENTAÇÃO EIRELI
A25: 23 | B25: ANESTESICO LOCAL (MEPVACAÍNA 3% SEM VASO) C/50 UND TUBETE | C25: TUBETES DE VIDRO | D25: TUBETES DE VIDRO / DFL | E25: 50 CX | F25: R$ 122,70 | H25: R$ 6.135,00 | I25: ORTOSHOP COMERCIO LTDA-ME
A26: 24 | B26: ANESTESICO TOPICO (BENZOCAÍNA) | C26: DFL | D26: DFL | E26: 300 UN R$ 13,00 | G26: R$ 3.900,00 | I26: DENTALMED PRODUTOS PARA SAUDE LTDA
A27: 25 | B27: ANESTESICOS ARTICAINA C/50 UND TUB | C27: TUBETES DE VIDRO | D27: TUBETES DE VIDRO / DFL | E27: 100 CX | F27: R$ 159,45 | H27: R$ 15.945,00 | I27: ORTOSHOP COMERCIO LTDA-ME
A28: 26 | B28: ARCO DE OSTBY AUTOCLAVAVEL DOBRAVEL ADULTO | C28: MAQUIRA | D28: MAQUIRA | E28: 50 UN R$ 9,40 | G28: R$ 470,00 | I28: ODONTOMASTER COMERCIO DE PRODUTOS PARA SAUDE EIRELI
A29: 27 | B29: ARCO DE OSTBY AUTOCLAVAVEL DOBRAVEL INFANTIL | C29: UNIDADE | D29: PRISMA | E29: 50 UN R$ 9,39 | G29: R$ 469,50 | I29: VITORIA TEIXEIRA DE OLIVEIRA
A30: 28 | B30: ARCO DE YOUNG AUTOCLAVAVEL | C30: UNIDADE | D30: PRISMA | E30: 50 UN R$ 8,60 | G30: R$ 430,00 | I30: VITORIA TEIXEIRA DE OLIVEIRA
A31: 29 | B31: ARTICULADOR SEMI-AJUSTAVEL | C31: UNIDADE | D31: DENTFLEX | E31: 1 UN R$ 899,99 | G31: R$ 899,99 | I31: VITORIA TEIXEIRA DE OLIVEIRA
A32: 30 | B32: AVENTAL TNT C/ 10UND | C32: BELIFE - PCT C/ 10 UND | D32: BELIFE - PCT C/ 10 UND | E32: 100 PC R$ 11,96 | G32: R$ 1.196,00 | I32: CIRURGICA FAMED DISTRIBUIDORA DE PRODUTOS HOSPITALARES LTDA
A33: 31 | B33: BABADOR IMPERMEÁVEL DESCARTAVEL | C33: SORTIDO EMBALAGEM C/ 100 | D33: SORTIDO C/ 100 / BIODINÂMICA | E33: 500 PC | F33: R$ 13,22 | H33: R$ 6.610,00 | I33: ORTOSHOP COMERCIO LTDA-ME
A34: 32 | B34: BANDEJA CLÍNICA P | C34: FLEXINOX | D34: FLEXINOX | E34: 40 UN R$ 19,00 R$ 760,00 | I34: JM COMERCIO E REPRESENTAÇÃO EIRELI
A35: 34 | B35: BROCA CARBIDE CIRURGICA ESFERICA Nº 4 – BAIXA ROTAÇÃO | C35: KERR - CARBIDE CA | D35: KERR - CARBIDE CA | E35: 50 UN | F35: R$ 13,23 | H35: R$ 661,50 | I35: BIO LOGICA DISTRIBUIDORA LTDA
A36: 35 | B36: BROCA CARBIDE CIRURGICA ESFERICA Nº 6 – ALTA ROTAÇÃO | C36: KERR - CARBIDE FG | D36: KERR - CARBIDE FG | E36: 50 UN | F36: R$ 13,23 | H36: R$ 661,50 | I36: BIO LOGICA DISTRIBUIDORA LTDA
A37: 36 | B37: BROCA CARBIDE CIRURGICA ESFERICA Nº 6 – BAIXA ROTAÇÃO | C37: KERR - CARBIDE CA | D37: KERR - CARBIDE CA | E37: 50 UN | F37: R$ 13,23 | H37: R$ 661,50 | I37: BIO LOGICA DISTRIBUIDORA LTDA
A38: 37 | B38: BROCA CARBIDE CIRURGICA ESFERICA Nº 6 – PEÇA DE MÃO | C38: LABORDENTAL | D38: LABORDENTAL | E38: 50 UN R$ 15,70 R$ 785,00 | I38: JM COMERCIO E REPRESENTAÇÃO EIRELI
A39: 38 | B39: BROCA CARBIDE CIRURGICA Nº 701 (HASTE LONGA) – ALTA ROTAÇÃO | C39: MICRODONT | D39: MICRODONT | E39: 50 UN | F39: R$ 13,23 | H39: R$ 661,50 | I39: BIO LOGICA DISTRIBUIDORA LTDA
A40: 39 | B40: BROCA CARBIDE CIRURGICA Nº 702 (HASTE LONGA) – ALTA ROTAÇÃO | C40: MICRODONT | D40: MICRODONT | E40: 50 UN | F40: R$ 13,23 | H40: R$ 661,50 | I40: BIO LOGICA DISTRIBUIDORA LTDA
A41: 40 | B41: BROCA CARBIDE CIRURGICA Nº 702 (HASTE LONGA) – PEÇA DE MÃO | C41: QUALITY | D41: QUALITY | E41: 50 UN R$ 12,00 | G41: R$ 600,00 | I41: DENTALMED PRODUTOS PARA SAUDE LTDA
A42: 41 | B42: BROCA CARBIDE CIRURGICA Nº 703 (HASTE LONGA) – PEÇA DE MÃO | C42: ANGELUS | D42: ANGELUS | E42: 50 UN R$ 12,00 | G42: R$ 600,00 | I42: DENTALMED PRODUTOS PARA SAUDE LTDA
A43: 42 | B43: BROCA CARBIDE CIRURGICA Nº ZEKRYA (HASTE LONGA) – ALTA ROTAÇÃO | C43: MICRODONT | D43: MICRODONT | E43: 50 UN | F43: R$ 14,99 | H43: R$ 749,50 | I43: BIO LOGICA DISTRIBUIDORA LTDA
A44: 43 | B44: BROCA DE TUNGSTÊNIO MAXICUT PM – FORMATO: PERA (Nº 1251) | C44: AMERICAN BURRS | D44: AMERICAN BURRS | E44: 50 UN R$ 83,00 | G44: R$ 4.150,00 | I44: DENTALMED PRODUTOS PARA SAUDE LTDA
A45: 44 | B45: BROCA DIAMANTADA Nº 1012 | C45: MICRODONT | D45: MICRODONT | E45: 100 UN | F45: R$ 2,88 | H45: R$ 288,00 | I45: BIO LOGICA DISTRIBUIDORA LTDA
A46: 45 | B46: BROCA DIAMANTADA Nº 1012 (HASTE LONGA) | C46: MICRODONT | D46: MICRODONT | E46: 100 UN | F46: R$ 2,79 | H46: R$ 279,00 | I46: BIO LOGICA DISTRIBUIDORA LTDA
A47: 46 | B47: BROCA DIAMANTADA Nº 1013 | C47: MICRODONT | D47: MICRODONT | E47: 100 UN | F47: R$ 2,79 | H47: R$ 279,00 | I47: BIO LOGICA DISTRIBUIDORA LTDA
A48: 47 | B48: BROCA DIAMANTADA Nº 1013 (HASTE LONGA) | C48: FAVA | D48: FAVA | E48: 100 UN R$ 2,80 R$ 280,00 | I48: JM COMERCIO E REPRESENTAÇÃO EIRELI
A49: 48 | B49: BROCA DIAMANTADA Nº 1014 | C49: MICRODONT | D49: MICRODONT | E49: 100 UN | F49: R$ 2,79 | H49: R$ 279,00 | I49: BIO LOGICA DISTRIBUIDORA LTDA
A50: 49 | B50: BROCA DIAMANTADA Nº 1024 | C50: MICRODONT | D50: MICRODONT | E50: 100 UN | F50: R$ 2,79 | H50: R$ 279,00 | I50: BIO LOGICA DISTRIBUIDORA LTDA
A51: 50 | B51: BROCA DIAMANTADA Nº 1034 | C51: MICRODONT | D51: MICRODONT | E51: 100 UN | F51: R$ 2,79 | H51: R$ 279,00 | I51: BIO LOGICA DISTRIBUIDORA LTDA
A52: 51 | B52: BROCA DIAMANTADA Nº 1045 | C52: MICRODONT | D52: MICRODONT | E52: 100 UN | F52: R$ 2,79 | H52: R$ 279,00 | I52: BIO LOGICA DISTRIBUIDORA LTDA
A53: 52 | B53: BROCA DIAMANTADA Nº 1190 | C53: MICRODONT | D53: MICRODONT | E53: 100 UN | F53: R$ 2,79 | H53: R$ 279,00 | I53: BIO LOGICA DISTRIBUIDORA LTDA
A54: 53 | B54: BROCA DIAMANTADA Nº 1190 F | C54: MICRODONT | D54: MICRODONT | E54: 100 UN | F54: R$ 2,79 | H54: R$ 279,00 | I54: BIO LOGICA DISTRIBUIDORA LTDA
A55: 54 | B55: BROCA DIAMANTADA Nº 1190 FF | C55: MICRODONT | D55: MICRODONT | E55: 100 UN | F55: R$ 2,48 | H55: R$ 248,00 | I55: BIO LOGICA DISTRIBUIDORA LTDA
A56: 55 | B56: BROCA DIAMANTADA Nº 2134 | C56: MICRODONT | D56: MICRODONT | E56: 100 UN | F56: R$ 2,79 | H56: R$ 279,00 | I56: BIO LOGICA DISTRIBUIDORA LTDA
A57: 56 | B57: BROCA DIAMANTADA Nº 2134F | C57: MICRODONT | D57: MICRODONT | E57: 100 UN | F57: R$ 2,79 | H57: R$ 279,00 | I57: BIO LOGICA DISTRIBUIDORA LTDA
A58: 57 | B58: BROCA DIAMANTADA Nº 2200 | C58: MICRODONT | D58: MICRODONT | E58: 100 UN | F58: R$ 2,79 | H58: R$ 279,00 | I58: BIO LOGICA DISTRIBUIDORA LTDA
A59: 58 | B59: BROCA DIAMANTADA Nº 2200 F | C59: MICRODONT | D59: MICRODONT | E59: 100 UN | F59: R$ 2,79 | H59: R$ 279,00 | I59: BIO LOGICA DISTRIBUIDORA LTDA
A60: 59 | B60: BROCA DIAMANTADA Nº 2200 FF | C60: MICRODONT | D60: MICRODONT | E60: 100 UN | F60: R$ 2,79 | H60: R$ 279,00 | I60: BIO LOGICA DISTRIBUIDORA LTDA
... A65: 64 | B65: BROCA DIAMANTADA Nº 4138 F | C65: MICRODONT | D65: MICRODONT | E65: 100 UN | F65: R$ 2,79 | H65: R$ 279,00 | I65: BIO LOGICA DISTRIBUIDORA LTDA
A66: 65 | B66: BROCA DIAMANTADA Nº 4138 FF | C66: MICRODONT | D66: MICRODONT | E66: 100 UN R$ 2,79 | G66: R$ 279,00 | I66: BIO LOGICA DISTRIBUIDORA LTDA
A67: 66 | B67: BROCA ENDO Z – 19 MM | C67: ANGELUS | D67: ANGELUS | E67: 30 UN R$ 21,53 | G67: R$ 645,90 | I67: ODONTOMASTER COMERCIO DE PRODUTOS PARA SAUDE EIRELI
A68: 67 | B68: CABO DE BISTURI Nº3 | C68: HI - 138-4225 | D68: FUTURE /HARSM INSTRUMENTS | E68: 20 UN | F68: R$ 9,50 | H68: R$ 190,00 | I68: ENDOGERAIS EQUIPAMENTOS MÉDICOS LTDA-ME
A69: 68 | B69: CAIXA COLETOR DESCARPACK 13 LTS | C69: CAIXA | D69: MEDIX | E69: 250 UN | F69: R$ 4,60 | H69: R$ 1.150,00 | I69: ORTOSHOP COMERCIO LTDA-ME
A70: 69 | B70: CAMPO CIRURGICO | C70: SR | D70: SR | E70: 50 PC R$ 47,00 | G70: R$ 2.350,00 | I70: DENTALMED PRODUTOS PARA SAUDE LTDA
A71: 70 | B71: CARIOSTÁTICO (DIAMINO FLUORETO DE PRATA) 30% 5ML | C71: UNIDADE | D71: IODONTOSUL | E71: 100 UN R$ 21,46 | G71: R$ 2.146,00 | I71: VITORIA TEIXEIRA DE OLIVEIRA
A72: 71 | B72: CERA 7 | C72: UNIDADE | D72: IODONTOSUL | E72: 50 CX R$ 19,47 | G72: R$ 973,50 | I72: VITORIA TEIXEIRA DE OLIVEIRA
A73: 72 | B73: CERA UTILIDADE | C73: UNIDADE | D73: IODONTOSUL | E73: 50 CX R$ 19,10 | G73: R$ 955,00 | I73: VITORIA TEIXEIRA DE OLIVEIRA
A74: 73 | B74: CIMENTO CIRURGICO LÍQUIDO 20ML | C74: LYSANDA | D74: LYSANDA | E74: 25 UN R$ 20,70 | G74: R$ 517,50 | I74: BIO LOGICA DISTRIBUIDORA LTDA
A75: 74 | B75: CIMENTO CIRURGICO PÓ 50G | C75: LYSANDA | D75: LYSANDA | E75: 25 UN R$ 20,90 | G75: R$ 522,50 | I75: BIO LOGICA DISTRIBUIDORA LTDA
A76: 75 | B76: CIMENTO DE HIDROXIDO DE CALCIO (PASTA/PASTA) | C76: UNIDADE | D76: IODONTOSUL | E76: 100 CX R$ 19,09 | G76: R$ 1.909,00 | I76: VITORIA TEIXEIRA DE OLIVEIRA
A77: 76 | B77: CIMENTO DE IONOMERO DE VIDRO RESTAURADOR COR A2 (PÓ+LÍQUIDO) | C77: MAXXION R - FGM | D77: MAXXION R - FGM | E77: 100 CX R$ 25,01 | G77: R$ 2.501,00 | I77: BIO LOGICA DISTRIBUIDORA LTDA
A78: 77 | B78: CIMENTO DE IONOMERO DE VIDRO RESTAURADOR COR A3 (PÓ+LÍQUIDO) | C78: MAXXION R - FGM | D78: MAXXION R - FGM | E78: 100 CX R$ 25,01 | G78: R$ 2.501,00 | I78: BIO LOGICA DISTRIBUIDORA LTDA
A79: 78 | B79: CIMENTO DE IONOMERO DE VIDRO RESTAURADOR FOTOPOLIMERIZÁVEL | C79: MICRODONT | D79: MICRODONT | E79: 100 CX | F79: R$ 49,90 | H79: R$ 4.990,00 | I79: ODONTOMED COMERCIO DE PRODUTOS MEDICO HOSPITALARES LTDA - ME
A80: 79 | B80: CIMENTO ENDODÔNTICO OBTURADOR SEALER 26 | C80: UNIDADE | D80: ENDOSEALER / MAQUIRA | E80: 30 CX R$ 52,99 | G80: R$ 1.589,70 | I80: VITORIA TEIXEIRA DE OLIVEIRA
A81: 80 | B81: CIMENTO OBTURADOR PROVISÓRIO | C81: UNIDADE | D81: IODONTOSUL | E81: 200 UN R$ 6,71 | G81: R$ 1.342,00 | I81: VITORIA TEIXEIRA DE OLIVEIRA
A82: 81 | B82: CINZEL MICRO OCHSENBEIN Nº1 | C82: QUINELATO | D82: QUINELATO | E82: 2 UN R$ 85,00 | G82: R$ 170,00 | I82: DENTALMED PRODUTOS PARA SAUDE LTDA
A83: 82 | B83: CINZEL MICRO OCHSENBEIN Nº2 | C83: QUINELATO | D83: QUINELATO | E83: 2 UN R$ 85,00 | G83: R$ 170,00 | I83: DENTALMED PRODUTOS PARA SAUDE LTDA
A84: 83 | B84: CLOREXIDINA DEGERMANTE COM TENSOATIVOS 2% RIOHEX 1000 ML | C84: UND | D84: RIOQUIMICA | E84: 100 UN | F84: R$ 17,72 | H84: R$ 1.772,00 | I84: YUMED COMERCIO LTDA
A85: 84 | B85: CLOREXINA 0,12% SOLUÇÃO BOCHECHO 1L | C85: RIOHEX GARD 12% / ENXAGUANTE | D85: RIOHEX GARD 12% / RIOQUIMICA | E85: 100 UN | F85: R$ 14,16 | H85: R$ 1.416,00 | I85: ORTOSHOP COMERCIO LTDA-ME
A86: 85 | B86: COLGADURA INDIVIDUAL | C86: TECNODENT | D86: TECNODENT | E86: 50 UN R$ 4,24 R$ 212,00 | I86: JM COMERCIO E REPRESENTAÇÃO EIRELI
A87: 86 | B87: COMPRESSA DE GAZE 7,5 X 7,5CM 240G | C87: ULTRATEXTIL | D87: ULTRATEXTIL | E87: 1.000 PC | F87: R$ 8,70 | H87: R$ 8.700,00 | I87: ODONTOMED COMERCIO DE PRODUTOS MEDICO HOSPITALARES LTDA - ME
A88: 87 | B88: CREME DENTAL (1100 A 1450 PPM DE FLÚOR) | C88: FREEDENT _ RAYMOUND`S | D88: FREEDENT _ RAYMOUND`S | E88: 3.000 UN R$ 1,62 | G88: R$ 4.860,00 | I88: BIO LOGICA DISTRIBUIDORA LTDA
A89: 88 | B89: CUBA INOX REDONDA 160ML | C89: FAVA | D89: FAVA | E89: 50 UN | F89: R$ 18,84 | H89: R$ 942,00 | I89: ODONTOMED COMERCIO DE PRODUTOS MEDICO HOSPITALARES LTDA - ME
A90: 89 | B90: CUBETA DE BORRACHA | C90: OGP | D90: OGP | E90: 20 UN R$ 7,43 R$ 148,60 | I90: JM COMERCIO E REPRESENTAÇÃO EIRELI
A91: 90 | B91: CUNHA ANATOMICA DE MADEIRA | C91: UNIDADE | D91: IODONTOSUL | E91: 100 PC R$ 7,00 | G91: R$ 700,00 | I91: VITORIA TEIXEIRA DE OLIVEIRA
A92: 91 | B92: CURATIVO ALVEOLAR COM PROPOLIS | C92: 6B | D92: 6B | E92: 50 UN R$ 26,00 | G92: R$ 1.300,00 | I92: DENTALMED PRODUTOS PARA SAUDE LTDA
A93: 92 | B93: CURETA DE LUCAS | C93: KONNEN | D93: KONNEN | E93: 50 UN | F93: R$ 9,80 | H93: R$ 490,00 | I93: APOGEU CENTER COMERCIAL DE PRODUTOS HOSPITALARES E MEDICAMEN
A94: 93 | B94: CURETA DENTINA | C94: KONNEN | D94: KONNEN | E94: 20 UN | F94: R$ 9,80 | H94: R$ 196,00 | I94: APOGEU CENTER COMERCIAL DE PRODUTOS HOSPITALARES E MEDICAMEN
A95: 94 | B95: CURETA PERIO MINI FIVE (CABO OCO) Nº 11- 12 | C95: KONNEN | D95: KONNEN | E95: 5 UN | F95: R$ 22,62 | H95: R$ 113,10 | I95: APOGEU CENTER COMERCIAL DE PRODUTOS HOSPITALARES E MEDICAMEN
A96: 95 | B96: CURETA PERIO MINI FIVE (CABO OCO) Nº 13- 14 | C96: KONNEN | D96: KONNEN | E96: 5 UN | F96: R$ 23,25 | H96: R$ 116,25 | I96: APOGEU CENTER COMERCIAL DE PRODUTOS HOSPITALARES E MEDICAMEN
A97: 96 | B97: CURETA PERIO MINI FIVE (CABO OCO) Nº 5-6 | C97: KONNEN | D97: KONNEN | E97: 5 UN | F97: R$ 23,20 | H97: R$ 116,00 | I97: APOGEU CENTER COMERCIAL DE PRODUTOS HOSPITALARES E MEDICAMEN
A98: 97 | B98: CURETA PERIO MINI FIVE (CABO OCO) Nº 7-8 | C98: KONNEN | D98: KONNEN | E98: 5 UN | F98: R$ 23,20 | H98: R$ 116,00 | I98: APOGEU CENTER COMERCIAL DE PRODUTOS HOSPITALARES E MEDICAMEN
A99: 98 | B99: CURETA PERIO PLN FURCA (CABO OCO) Nº 1/2N | C99: AÇO INOX | D99: AÇO INOX / GOLGRAN | E99: 5 UN | F99: R$ 74,40 | H99: R$ 372,00 | I99: ORTOSHOP COMERCIO LTDA-ME
A100: 99 | B100: CURETA PERIO PLN FURCA (CABO OCO) Nº 3/4N | C100: AÇO INOX | D100: AÇO INOX / GOLGRAN | E100: 5 UN | F100: R$ 67,88 | H100: R$ 339,40 | I100: ORTOSHOP COMERCIO LTDA-ME
A101: 100 | B101: CURETA PERIO PLN FURCA (CABO OCO) Nº 5/6N | C101: AÇO INOX | D101: AÇO INOX / GOLGRAN | E101: 5 UN | F101: R$ 76,52 | H101: R$ 382,60 | I101: ORTOSHOP COMERCIO LTDA-ME
A102: 101 | B102: DESCOLADOR DE MOLT Nº 2-4 | C102: UNIÃO INOX | D102: UNIÃO INOX | E102: 10 UN | F102: R$ 22,49 | H102: R$ 224,90 | I102: ODONTOMED COMERCIO DE PRODUTOS MEDICO HOSPITALARES LTDA - ME
A103: 102 | B103: DETERGENTE ENZIMATICO 1L | C103: L | D103: VIC PHARMA | E103: 100 L R$ 18,49 | G103: R$ 1.849,00 | I103: MEDICAL CENTER DISTRIBUIDORA DE MEDICAMENTOS LTDA
A104: 103 | B104: DISCO DE CARBORUNDUM | C104: KONNER | D104: KONNER | E104: 50 UN | F104: R$ 16,50 | H104: R$ 825,00 | I104: ORTOSHOP COMERCIO LTDA-ME
A105: 104 | B105: DISCO DE LIXA PARA ACABAMENTO E POLIMENTO DENTE | C105: Disco de lixa 12mm TDV/TDV c/50 | E105: 50 PC R$ 43,42 | G105: R$ 2.171,00 | I105: DENTAL IPO LTDA
...
