Workbook
Name _GoBack: 'Plan 1'!#REF!

Sheet Plan 1
Q2: CONDIÇÃO | R2: Nº | S2: %
Q3: OK | R3: =COUNTIF($K$16:$K$55,Q3) -> 29 | S3: =R3/$R$6 -> 0.725
Q4: DILIGÊNCIA | R4: =COUNTIF($K$16:$K$55,Q4) -> 11 | S4: =R4/$R$6 -> 0.275
Q5: NEGOCIAR | R5: =COUNTIF($K$16:$K$55,Q5) -> 0 | S5: =R5/$R$6 -> 0
A6: ESTADO DA PARAÍBA | Q6: TOTAL | R6: =SUM(R3:R5) -> 40 | S6: =SUM(S3:S5) -> 1
A7: PREFEITURA MUNICIPAL DE MAMANGUAPE
A10: ITENS COM PREÇOS ABAIXO DOS 50% DO PREÇO BASE
A14: ITEM | B14: ESPECIFICAÇÃO | C14: UND | D14: QTE | E14: PLANILHA BASE BANCO DE PREÇOS | G14: PREÇO OFERTADO | I14: VLR. DE ECONOMIA | J14: 0.5001 | K14: CONDIÇÃO | L14: EMPRESA | M14: VLR. REF. NFs
E15: P.UNITÁRIO | F15: P. TOTAL | G15: P.UNITÁRIO | H15: P. TOTAL | M15: P.UNITÁRIO | N15: VARIAÇÂO % | O15: CONDIÇÂO
A16: 1 | B16: ABAIXADOR DE LÍNGUA MADEIRA C/100 UND | C16: PC | D16: 1000 | E16: R$ 7,99 | F16: =E16*D16 -> 7990 | G16: 5 | H16: =D16*G16 -> 5000 | I16: =F16-H16 -> 2990 | J16: =(E16-G16)/E16% -> 37.421777 | K16: =IF(J16<0,"NEGOCIAR",IF(J16>50.01,"DILIGÊNCIA","OK")) -> OK | L16: =VLOOKUP(A16,Planilha1!$A$2:$I$294,9,FALSE) -> NEWMED PRODUTOS PARA SAUDE LTDA | M16: 7.37 | N16: =(G16-M16)/G16 -> -0.474 | O16: =IF(M16>0,IF(N16>0,"Aprovado","Revisar"),"") -> Revisar
A17: 2 | B17: ABRIDOR DE BOCA ABRITEC | C17: UN | D17: 1 | E17: R$ 23,82 | F17: =E17*D17 -> 23.82 | G17: 10 | H17: =D17*G17 -> 10 | I17: =F17-H17 -> 13.82 | J17: =(E17-G17)/E17% -> 58.018472 | K17: =IF(J17<0,"NEGOCIAR",IF(J17>50.01,"DILIGÊNCIA","OK")) -> DILIGÊNCIA | L17: =VLOOKUP(A17,Planilha1!$A$2:$I$294,9,FALSE) -> ODONTOMED COMERCIO DE PRODUTOS MEDICO HOSPITALARES LTDA - ME | M17: 21.83 | N17: =(G17-M17)/G17 -> -1.183 | O17: =IF(M17>0,IF(N17>0,"Aprovado","Revisar"),"") -> Revisar
A18: 3 | B18: ABRIDOR DE BOCA ADULTO E INFANTIL | C18: KIT | D18: 50 | E18: R$ 10,29 | F18: =E18*D18 -> 514.5 | G18: 7.2 | H18: =D18*G18 -> 360 | I18: =F18-H18 -> 154.5 | J18: =(E18-G18)/E18% -> 30.029155 | K18: =IF(J18<0,"NEGOCIAR",IF(J18>50.01,"DILIGÊNCIA","OK")) -> OK | L18: =VLOOKUP(A18,Planilha1!$A$2:$I$294,9,FALSE) -> ORTOSHOP COMERCIO LTDA-ME | M18: 7.62 | N18: =(G18-M18)/G18 -> -0.058333333 | O18: =IF(M18>0,IF(N18>0,"Aprovado","Revisar"),"") -> Revisar
A19: 4 | B19: ÁCIDO FOSFÓRICO 37% PARA CONDICIONAMENTO DE ESMALTE E DENTINA (SERINGA COM 2,5 ML) | C19: UN | D19: 400 | E19: R$ 6,37 | F19: =E19*D19 -> 2548 | G19: 1.3 | H19: =D19*G19 -> 520 | I19: =F19-H19 -> 2028 | J19: =(E19-G19)/E19% -> 79.591837 | K19: =IF(J19<0,"NEGOCIAR",IF(J19>50.01,"DILIGÊNCIA","OK")) -> DILIGÊNCIA | L19: APOGEU CENTER COMERCIAL DE PRODUTOS HOSPITALARES E MEDICAMEN | M19: 10.59 | N19: =(G19-M19)/G19 -> -7.1461538 | O19: =IF(M19>0,IF(N19>0,"Aprovado","Revisar"),"") -> Revisar
A20: 5 | B20: ADESIVO EMBALAGEM COM 4ML. ADESIVO MONOCOMPONENTE. | C20: UN | D20: 200 | E20: R$ 24,02 | F20: =E20*D20 -> 4804 | G20: 11.2 | H20: =D20*G20 -> 2240 | I20: =F20-H20 -> 2564 | J20: =(E20-G20)/E20% -> 53.37219 | K20: =IF(J20<0,"NEGOCIAR",IF(J20>50.01,"DILIGÊNCIA","OK")) -> DILIGÊNCIA | L20: BIO LOGICA DISTRIBUIDORA LTDA | M20: 4.3 | N20: =(G20-M20)/G20 -> 0.61607143 | O20: =IF(M20>0,IF(N20>0,"Aprovado","Revisar"),"") -> Aprovado
A21: 6 | B21: AFASTADOR DE LINGUA | C21: UN | D21: 20 | E21: R$ 25,07 | F21: =E21*D21 -> 501.4 | G21: 17.54 | H21: =D21*G21 -> 350.8 | I21: =F21-H21 -> 150.6 | J21: =(E21-G21)/E21% -> 30.035899 | K21: =IF(J21<0,"NEGOCIAR",IF(J21>50.01,"DILIGÊNCIA","OK")) -> OK | L21: =VLOOKUP(A21,Planilha1!$A$2:$I$294,9,FALSE) -> ODONTOMED COMERCIO DE PRODUTOS MEDICO HOSPITALARES LTDA - ME | M21: 4.96 | N21: =(G21-M21)/G21 -> 0.71721779 | O21: =IF(M21>0,IF(N21>0,"Aprovado","Revisar"),"") -> Aprovado
A22: 7 | B22: AFASTADOR DE MINESSOTA | C22: UN | D22: 20 | E22: R$ 11,67 | F22: =E22*D22 -> 233.4 | G22: 11.67 | H22: =D22*G22 -> 233.4 | I22: =F22-H22 -> 0 | J22: =(E22-G22)/E22% -> 0 | K22: =IF(J22<0,"NEGOCIAR",IF(J22>50.01,"DILIGÊNCIA","OK")) -> OK | L22: =VLOOKUP(A22,Planilha1!$A$2:$I$294,9,FALSE) -> ORTOSHOP COMERCIO LTDA-ME | M22: 1.84 | N22: =(G22-M22)/G22 -> 0.84233076 | O22: =IF(M22>0,IF(N22>0,"Aprovado","Revisar"),"") -> Aprovado
A23: 8 | B23: AFASTADOR FARABELT | C23: UN | D23: 10 | E23: R$ 25,91 | F23: =E23*D23 -> 259.1 | G23: 18.13 | H23: =D23*G23 -> 181.3 | I23: =F23-H23 -> 77.8 | J23: =(E23-G23)/E23% -> 30.027017 | K23: =IF(J23<0,"NEGOCIAR",IF(J23>50.01,"DILIGÊNCIA","OK")) -> OK | L23: =VLOOKUP(A23,Planilha1!$A$2:$I$294,9,FALSE) -> ODONTOMED COMERCIO DE PRODUTOS MEDICO HOSPITALARES LTDA - ME | M23: 3.25 | N23: =(G23-M23)/G23 -> 0.82073911 | O23: =IF(M23>0,IF(N23>0,"Aprovado","Revisar"),"") -> Aprovado
A24: 9 | B24: AFASTADOR LABIAL EXPANDEX ADULTO | C24: UN | D24: 50 | E24: R$ 25,47 | F24: =E24*D24 -> 1273.5 | G24: 10.65 | H24: =D24*G24 -> 532.5 | I24: =F24-H24 -> 741 | J24: =(E24-G24)/E24% -> 58.186101 | K24: =IF(J24<0,"NEGOCIAR",IF(J24>50.01,"DILIGÊNCIA","OK")) -> DILIGÊNCIA | L24: =VLOOKUP(A24,Planilha1!$A$2:$I$294,9,FALSE) -> ODONTOMED COMERCIO DE PRODUTOS MEDICO HOSPITALARES LTDA - ME | M24: 5.49 | N24: =(G24-M24)/G24 -> 0.48450704 | O24: =IF(M24>0,IF(N24>0,"Aprovado","Revisar"),"") -> Aprovado
A25: 10 | B25: AFASTADOR LABIAL EXPANDEX INFANTIL | C25: UN | D25: 20 | E25: R$ 24,58 | F25: =E25*D25 -> 491.6 | G25: 10.65 | H25: =D25*G25 -> 213 | I25: =F25-H25 -> 278.6 | J25: =(E25-G25)/E25% -> 56.672091 | K25: =IF(J25<0,"NEGOCIAR",IF(J25>50.01,"DILIGÊNCIA","OK")) -> DILIGÊNCIA | L25: =VLOOKUP(A25,Planilha1!$A$2:$I$294,9,FALSE) -> ODONTOMED COMERCIO DE PRODUTOS MEDICO HOSPITALARES LTDA - ME | M25: 2.95 | N25: =(G25-M25)/G25 -> 0.72300469 | O25: =IF(M25>0,IF(N25>0,"Aprovado","Revisar"),"") -> Aprovado
A26: 11 | B26: ÁGUA DESTILADA 5000ML | C26: CX | D26: 2400 | E26: R$ 21,67 | F26: =E26*D26 -> 52008 | G26: 7.99 | H26: =D26*G26 -> 19176 | I26: =F26-H26 -> 32832 | J26: =(E26-G26)/E26% -> 63.128749 | K26: =IF(J26<0,"NEGOCIAR",IF(J26>50.01,"DILIGÊNCIA","OK")) -> DILIGÊNCIA | L26: =VLOOKUP(A26,Planilha1!$A$2:$I$294,9,FALSE) -> ODONTOMED COMERCIO DE PRODUTOS MEDICO HOSPITALARES LTDA - ME | M26: 5.47 | N26: =(G26-M26)/G26 -> 0.31539424 | O26: =IF(M26>0,IF(N26>0,"Aprovado","Revisar"),"") -> Aprovado
A27: 12 | B27: AGULHA GENGIVAL 27 G LONGA 31 MM DESCARTÁVEL E ESTÉRIL C/100 | C27: CX | D27: 250 | E27: R$ 132,74 | F27: =E27*D27 -> 33185 | G27: 27.01 | H27: =D27*G27 -> 6752.5 | I27: =F27-H27 -> 26432.5 | J27: =(E27-G27)/E27% -> 79.651951 | K27: =IF(J27<0,"NEGOCIAR",IF(J27>50.01,"DILIGÊNCIA","OK")) -> DILIGÊNCIA | L27: =VLOOKUP(A27,Planilha1!$A$2:$I$294,9,FALSE) -> ODONTOMASTER COMERCIO DE PRODUTOS PARA SAUDE EIRELI | M27: 3.84 | N27: =(G27-M27)/G27 -> 0.85783043 | O27: =IF(M27>0,IF(N27>0,"Aprovado","Revisar"),"") -> Aprovado
A28: 13 | B28: AGULHA GENGIVAL 30 G CURTA 21 MM DESCARTÁVEL E ESTÉRIL C/100 | C28: CX | D28: 250 | E28: R$ 51,01 | F28: =E28*D28 -> 12752.5 | G28: 27.17 | H28: =D28*G28 -> 6792.5 | I28: =F28-H28 -> 5960 | J28: =(E28-G28)/E28% -> 46.735934 | K28: =IF(J28<0,"NEGOCIAR",IF(J28>50.01,"DILIGÊNCIA","OK")) -> OK | L28: =VLOOKUP(A28,Planilha1!$A$2:$I$294,9,FALSE) -> ODONTOMASTER COMERCIO DE PRODUTOS PARA SAUDE EIRELI | M28: 4.97 | N28: =(G28-M28)/G28 -> 0.81707766 | O28: =IF(M28>0,IF(N28>0,"Aprovado","Revisar"),"") -> Aprovado
A29: 14 | B29: AGULHA PARA IRRIGAÇÃO COM SAIDA LATERAL (ENDO-EZE) | C29: UN | D29: 200 | E29: R$ 47,47 | F29: =E29*D29 -> 9494 | G29: 23.25 | H29: =D29*G29 -> 4650 | I29: =F29-H29 -> 4844 | J29: =(E29-G29)/E29% -> 51.021698 | K29: =IF(J29<0,"NEGOCIAR",IF(J29>50.01,"DILIGÊNCIA","OK")) -> DILIGÊNCIA | L29: =VLOOKUP(A29,Planilha1!$A$2:$I$294,9,FALSE) -> DENTAL IPO LTDA | M29: 6.37 | N29: =(G29-M29)/G29 -> 0.72602151 | O29: =IF(M29>0,IF(N29>0,"Aprovado","Revisar"),"") -> Aprovado
A30: 15 | B30: ÁLCOOL 70% 1000ML | C30: UN | D30: 1000 | E30: R$ 10,73 | F30: =E30*D30 -> 10730 | G30: 6.25 | H30: =D30*G30 -> 6250 | I30: =F30-H30 -> 4480 | J30: =(E30-G30)/E30% -> 41.752097 | K30: =IF(J30<0,"NEGOCIAR",IF(J30>50.01,"DILIGÊNCIA","OK")) -> OK | L30: =VLOOKUP(A30,Planilha1!$A$2:$I$294,9,FALSE) -> YUMED COMERCIO LTDA | M30: 1.06 | N30: =(G30-M30)/G30 -> 0.8304 | O30: =IF(M30>0,IF(N30>0,"Aprovado","Revisar"),"") -> Aprovado
A31: 16 | B31: ALGINATO TIPO II | C31: PC | D31: 50 | E31: R$ 27,59 | F31: =E31*D31 -> 1379.5 | G31: 19.31 | H31: =D31*G31 -> 965.5 | I31: =F31-H31 -> 414 | J31: =(E31-G31)/E31% -> 30.010874 | K31: =IF(J31<0,"NEGOCIAR",IF(J31>50.01,"DILIGÊNCIA","OK")) -> OK | L31: =VLOOKUP(A31,Planilha1!$A$2:$I$294,9,FALSE) -> ORTOSHOP COMERCIO LTDA-ME | M31: 0.97 | N31: =(G31-M31)/G31 -> 0.94976696 | O31: =IF(M31>0,IF(N31>0,"Aprovado","Revisar"),"") -> Aprovado
A32: 17 | B32: ALGODÃO HIDRÓFILO 500G | C32: UN | D32: 600 | E32: R$ 25,00 | F32: =E32*D32 -> 15000 | G32: 14.16 | H32: =D32*G32 -> 8496 | I32: =F32-H32 -> 6504 | J32: =(E32-G32)/E32% -> 43.36 | K32: =IF(J32<0,"NEGOCIAR",IF(J32>50.01,"DILIGÊNCIA","OK")) -> OK | L32: =VLOOKUP(A32,Planilha1!$A$2:$I$294,9,FALSE) -> MEDICAL CENTER DISTRIBUIDORA DE MEDICAMENTOS LTDA | M32: 3.07 | N32: =(G32-M32)/G32 -> 0.78319209 | O32: =IF(M32>0,IF(N32>0,"Aprovado","Revisar"),"") -> Aprovado
... A42: 27 | B42: ARCO DE OSTBY AUTOCLAVAVEL DOBRAVEL INFANTIL | C42: UN | D42: 50 | E42: R$ 14,40 | F42: =E42*D42 -> 720 | G42: 9.39 | H42: =D42*G42 -> 469.5 | I42: =F42-H42 -> 250.5 | J42: =(E42-G42)/E42% -> 34.791667 | K42: =IF(J42<0,"NEGOCIAR",IF(J42>50.01,"DILIGÊNCIA","OK")) -> OK | L42: =VLOOKUP(A42,Planilha1!$A$2:$I$294,9,FALSE) -> VITORIA TEIXEIRA DE OLIVEIRA | M42: 1.17 | N42: =(G42-M42)/G42 -> 0.87539936 | O42: =IF(M42>0,IF(N42>0,"Aprovado","Revisar"),"") -> Aprovado
A43: 28 | B43: ARCO DE YOUNG AUTOCLAVAVEL | C43: UN | D43: 50 | E43: R$ 22,93 | F43: =E43*D43 -> 1146.5 | G43: 8.61 | H43: =D43*G43 -> 430.5 | I43: =F43-H43 -> 716 | J43: =(E43-G43)/E43% -> 62.450938 | K43: =IF(J43<0,"NEGOCIAR",IF(J43>50.01,"DILIGÊNCIA","OK")) -> DILIGÊNCIA | L43: ODONTOMASTER COMERCIO DE PRODUTOS PARA SAUDE EIRELI | M43: 3.09 | N43: =(G43-M43)/G43 -> 0.64111498 | O43: =IF(M43>0,IF(N43>0,"Aprovado","Revisar"),"") -> Aprovado
A44: 29 | B44: ARTICULADOR SEMI-AJUSTAVEL | C44: UN | D44: 1 | E44: R$ 1.091,51 | F44: =E44*D44 -> 1091.51 | G44: 899.99 | H44: =D44*G44 -> 899.99 | I44: =F44-H44 -> 191.52 | J44: =(E44-G44)/E44% -> 17.546335 | K44: =IF(J44<0,"NEGOCIAR",IF(J44>50.01,"DILIGÊNCIA","OK")) -> OK | L44: =VLOOKUP(A44,Planilha1!$A$2:$I$294,9,FALSE) -> VITORIA TEIXEIRA DE OLIVEIRA | M44: 16.67 | N44: =(G44-M44)/G44 -> 0.98147757 | O44: =IF(M44>0,IF(N44>0,"Aprovado","Revisar"),"") -> Aprovado
A45: 30 | B45: AVENTAL TNT C/ 10UND | C45: PC | D45: 100 | E45: R$ 21,13 | F45: =E45*D45 -> 2113 | G45: 11.96 | H45: =D45*G45 -> 1196 | I45: =F45-H45 -> 917 | J45: =(E45-G45)/E45% -> 43.398012 | K45: =IF(J45<0,"NEGOCIAR",IF(J45>50.01,"DILIGÊNCIA","OK")) -> OK | L45: =VLOOKUP(A45,Planilha1!$A$2:$I$294,9,FALSE) -> CIRURGICA FAMED DISTRIBUIDORA DE PRODUTOS HOSPITALARES LTDA | M45: 8.5 | N45: =(G45-M45)/G45 -> 0.28929766 | O45: =IF(M45>0,IF(N45>0,"Aprovado","Revisar"),"") -> Aprovado
A46: 31 | B46: BABADOR IMPERMEÁVEL DESCARTAVEL | C46: PC | D46: 500 | E46: R$ 18,88 | F46: =E46*D46 -> 9440 | G46: 13.22 | H46: =D46*G46 -> 6610 | I46: =F46-H46 -> 2830 | J46: =(E46-G46)/E46% -> 29.978814 | K46: =IF(J46<0,"NEGOCIAR",IF(J46>50.01,"DILIGÊNCIA","OK")) -> OK | L46: =VLOOKUP(A46,Planilha1!$A$2:$I$294,9,FALSE) -> ORTOSHOP COMERCIO LTDA-ME | M46: 5.75 | N46: =(G46-M46)/G46 -> 0.56505295 | O46: =IF(M46>0,IF(N46>0,"Aprovado","Revisar"),"") -> Aprovado
A47: 32 | B47: BANDEJA CLÍNICA P | C47: UN | D47: 40 | E47: R$ 55,68 | F47: =E47*D47 -> 2227.2 | G47: 19 | H47: =D47*G47 -> 760 | I47: =F47-H47 -> 1467.2 | J47: =(E47-G47)/E47% -> 65.876437 | K47: =IF(J47<0,"NEGOCIAR",IF(J47>50.01,"DILIGÊNCIA","OK")) -> DILIGÊNCIA | L47: =VLOOKUP(A47,Planilha1!$A$2:$I$294,9,FALSE) -> JM COMERCIO E REPRESENTAÇÃO EIRELI | M47: 1.15 | N47: =(G47-M47)/G47 -> 0.93947368 | O47: =IF(M47>0,IF(N47>0,"Aprovado","Revisar"),"") -> Aprovado
A48: 33 | B48: BISTURI DE ORBAN | C48: UN | D48: 2 | E48: R$ 25,47 | F48: =E48*D48 -> 50.94 | G48: 25.4 | H48: =D48*G48 -> 50.8 | I48: =F48-H48 -> 0.14 | J48: =(E48-G48)/E48% -> 0.27483314 | K48: =IF(J48<0,"NEGOCIAR",IF(J48>50.01,"DILIGÊNCIA","OK")) -> OK | L48: =VLOOKUP(A48,Planilha1!$A$2:$I$294,9,FALSE) -> APOGEU CENTER COMERCIAL DE PRODUTOS HOSPITALARES E MEDICAMEN | M48: 1.87 | N48: =(G48-M48)/G48 -> 0.92637795 | O48: =IF(M48>0,IF(N48>0,"Aprovado","Revisar"),"") -> Aprovado
A49: 34 | B49: BROCA CARBIDE CIRURGICA ESFERICA Nº 4 – BAIXA ROTAÇÃO | C49: UN | D49: 50 | E49: R$ 24,50 | F49: =E49*D49 -> 1225 | G49: 13.23 | H49: =D49*G49 -> 661.5 | I49: =F49-H49 -> 563.5 | J49: =(E49-G49)/E49% -> 46 | K49: =IF(J49<0,"NEGOCIAR",IF(J49>50.01,"DILIGÊNCIA","OK")) -> OK | L49: =VLOOKUP(A49,Planilha1!$A$2:$I$294,9,FALSE) -> BIO LOGICA DISTRIBUIDORA LTDA | M49: 1.84 | N49: =(G49-M49)/G49 -> 0.86092215 | O49: =IF(M49>0,IF(N49>0,"Aprovado","Revisar"),"") -> Aprovado
A50: 35 | B50: BROCA CARBIDE CIRURGICA ESFERICA Nº 6 – ALTA ROTAÇÃO | C50: UN | D50: 50 | E50: R$ 15,19 | F50: =E50*D50 -> 759.5 | G50: 13.23 | H50: =D50*G50 -> 661.5 | I50: =F50-H50 -> 98 | J50: =(E50-G50)/E50% -> 12.903226 | K50: =IF(J50<0,"NEGOCIAR",IF(J50>50.01,"DILIGÊNCIA","OK")) -> OK | L50: =VLOOKUP(A50,Planilha1!$A$2:$I$294,9,FALSE) -> BIO LOGICA DISTRIBUIDORA LTDA | M50: 1.87 | N50: =(G50-M50)/G50 -> 0.85865457 | O50: =IF(M50>0,IF(N50>0,"Aprovado","Revisar"),"") -> Aprovado
A51: 36 | B51: BROCA CARBIDE CIRURGICA ESFERICA Nº 6 – BAIXA ROTAÇÃO | C51: UN | D51: 50 | E51: R$ 16,96 | F51: =E51*D51 -> 848 | G51: 13.23 | H51: =D51*G51 -> 661.5 | I51: =F51-H51 -> 186.5 | J51: =(E51-G51)/E51% -> 21.992925 | K51: =IF(J51<0,"NEGOCIAR",IF(J51>50.01,"DILIGÊNCIA","OK")) -> OK | L51: =VLOOKUP(A51,Planilha1!$A$2:$I$294,9,FALSE) -> BIO LOGICA DISTRIBUIDORA LTDA | M51: 0.88 | N51: =(G51-M51)/G51 -> 0.9334845 | O51: =IF(M51>0,IF(N51>0,"Aprovado","Revisar"),"") -> Aprovado
A52: 37 | B52: BROCA CARBIDE CIRURGICA ESFERICA Nº 6 – PEÇA DE MÃO | C52: UN | D52: 50 | E52: R$ 16,96 | F52: =E52*D52 -> 848 | G52: 15.7 | H52: =D52*G52 -> 785 | I52: =F52-H52 -> 63 | J52: =(E52-G52)/E52% -> 7.4292453 | K52: =IF(J52<0,"NEGOCIAR",IF(J52>50.01,"DILIGÊNCIA","OK")) -> OK | L52: =VLOOKUP(A52,Planilha1!$A$2:$I$294,9,FALSE) -> JM COMERCIO E REPRESENTAÇÃO EIRELI | M52: 1.86 | N52: =(G52-M52)/G52 -> 0.88152866 | O52: =IF(M52>0,IF(N52>0,"Aprovado","Revisar"),"") -> Aprovado
A53: 38 | B53: BROCA CARBIDE CIRURGICA Nº 701 (HASTE LONGA) – ALTA ROTAÇÃO | C53: UN | D53: 50 | E53: R$ 23,24 | F53: =E53*D53 -> 1162 | G53: 13.23 | H53: =D53*G53 -> 661.5 | I53: =F53-H53 -> 500.5 | J53: =(E53-G53)/E53% -> 43.072289 | K53: =IF(J53<0,"NEGOCIAR",IF(J53>50.01,"DILIGÊNCIA","OK")) -> OK | L53: =VLOOKUP(A53,Planilha1!$A$2:$I$294,9,FALSE) -> BIO LOGICA DISTRIBUIDORA LTDA | M53: 1.88 | N53: =(G53-M53)/G53 -> 0.85789872 | O53: =IF(M53>0,IF(N53>0,"Aprovado","Revisar"),"") -> Aprovado
A54: 39 | B54: BROCA CARBIDE CIRURGICA Nº 702 (HASTE LONGA) – ALTA ROTAÇÃO | C54: UN | D54: 50 | E54: R$ 19,59 | F54: =E54*D54 -> 979.5 | G54: 13.23 | H54: =D54*G54 -> 661.5 | I54: =F54-H54 -> 318 | J54: =(E54-G54)/E54% -> 32.465544 | K54: =IF(J54<0,"NEGOCIAR",IF(J54>50.01,"DILIGÊNCIA","OK")) -> OK | L54: =VLOOKUP(A54,Planilha1!$A$2:$I$294,9,FALSE) -> BIO LOGICA DISTRIBUIDORA LTDA | M54: 3.27 | N54: =(G54-M54)/G54 -> 0.75283447 | O54: =IF(M54>0,IF(N54>0,"Aprovado","Revisar"),"") -> Aprovado
A55: 40 | B55: BROCA CARBIDE CIRURGICA Nº 702 (HASTE LONGA) – PEÇA DE MÃO | C55: UN | D55: 50 | E55: R$ 19,45 | F55: =E55*D55 -> 972.5 | G55: 12 | H55: =D55*G55 -> 600 | I55: =F55-H55 -> 372.5 | J55: =(E55-G55)/E55% -> 38.303342 | K55: =IF(J55<0,"NEGOCIAR",IF(J55>50.01,"DILIGÊNCIA","OK")) -> OK | L55: =VLOOKUP(A55,Planilha1!$A$2:$I$294,9,FALSE) -> DENTALMED PRODUTOS PARA SAUDE LTDA | M55: 0.78 | N55: =(G55-M55)/G55 -> 0.935 | O55: =IF(M55>0,IF(N55>0,"Aprovado","Revisar"),"") -> Aprovado
...

Sheet Planilha1
A2: 33 | B2: BISTURI DE ORBAN | C2: MARINOX | D2: MARINOX | E2: 2 UN | F2: R$ 25,40 | H2: R$ 50,80 | I2: APOGEU CENTER COMERCIAL DE PRODUTOS HOSPITALARES E MEDICAMEN
A3: 1 | B3: ABAIXADOR DE LÍNGUA MADEIRA C/100 UND | C3: theoto | D3: theoto | E3: 1.000 PC R$ 5,00 | G3: R$ 5.000,00 | I3: NEWMED PRODUTOS PARA SAUDE LTDA
A4: 2 | B4: ABRIDOR DE BOCA ABRITEC | C4: IODONTOSUL | D4: IODONTOSUL | E4: 1 UN | F4: R$ 10,00 | H4: R$ 10,00 | I4: ODONTOMED COMERCIO DE PRODUTOS MEDICO HOSPITALARES LTDA - ME
A5: 3 | B5: ABRIDOR DE BOCA ADULTO E INFANTIL | C5: PLASTICO | D5: PREVEN | E5: 50 KIT | F5: R$ 7,20 | H5: R$ 360,00 | I5: ORTOSHOP COMERCIO LTDA-ME
A6: 4 | B6: ÁCIDO FOSFÓRICO 37% PARA CONDICIONAMENTO DE ESMALTE E DENTINA (SERINGA COM 2,5 ML) | C6: UNIDADE | D6: IODONTOSUL | E6: 400 UN R$ 1,29 | G6: R$ 516,00 | I6: VITORIA TEIXEIRA DE OLIVEIRA
A7: 5 | B7: ADESIVO EMBALAGEM COM 4ML. ADESIVO MONOCOMPONENTE. | C7: UNIDADE | D7: BIODINAMICA | E7: 200 UN R$ 11,19 | G7: R$ 2.238,00 | I7: VITORIA TEIXEIRA DE OLIVEIRA
A8: 6 | B8: AFASTADOR DE LINGUA | C8: UNIÃO INOX | D8: UNIÃO INOX | E8: 20 UN | F8: R$ 17,54 | H8: R$ 350,80 | I8: ODONTOMED COMERCIO DE PRODUTOS MEDICO HOSPITALARES LTDA - ME
A9: 7 | B9: AFASTADOR DE MINESSOTA | C9: AÇO INOX | D9: AÇO INOX / GOLGRAN | E9: 20 UN | F9: R$ 11,67 | H9: R$ 233,40 | I9: ORTOSHOP COMERCIO LTDA-ME
A10: 8 | B10: AFASTADOR FARABELT | C10: UNIÃO INOX | D10: UNIÃO INOX | E10: 10 UN | F10: R$ 18,13 | H10: R$ 181,30 | I10: ODONTOMED COMERCIO DE PRODUTOS MEDICO HOSPITALARES LTDA - ME
A11: 9 | B11: AFASTADOR LABIAL EXPANDEX ADULTO | C11: MAQUIRA | D11: MAQUIRA | E11: 50 UN | F11: R$ 10,65 | H11: R$ 532,50 | I11: ODONTOMED COMERCIO DE PRODUTOS MEDICO HOSPITALARES LTDA - ME
A12: 10 | B12: AFASTADOR LABIAL EXPANDEX INFANTIL | C12: MAQUIRA | D12: MAQUIRA | E12: 20 UN | F12: R$ 10,65 | H12: R$ 213,00 | I12: ODONTOMED COMERCIO DE PRODUTOS MEDICO HOSPITALARES LTDA - ME
A13: 11 | B13: ÁGUA DESTILADA 5000ML | C13: CRISTAL | D13: CRISTAL | E13: 2.400 CX | F13: R$ 7,99 | H13: R$ 19.176,00 | I13: ODONTOMED COMERCIO DE PRODUTOS MEDICO HOSPITALARES LTDA - ME
A14: 12 | B14: AGULHA GENGIVAL 27 G LONGA 31 MM DESCARTÁVEL E ESTÉRIL C/100 | C14: SALDANHA RODRIG | D14: SALDANHA RODRIG | E14: 250 CX R$ 27,01 | G14: R$ 6.752,50 | I14: ODONTOMASTER COMERCIO DE PRODUTOS PARA SAUDE EIRELI
A15: 13 | B15: AGULHA GENGIVAL 30 G CURTA 21 MM DESCARTÁVEL E ESTÉRIL C/100 | C15: DESCARPACK | D15: DESCARPACK | E15: 250 CX R$ 27,17 | G15: R$ 6.792,50 | I15: ODONTOMASTER COMERCIO DE PRODUTOS PARA SAUDE EIRELI
A16: 14 | B16: AGULHA PARA IRRIGAÇÃO COM SAIDA LATERAL (ENDO-EZE) | C16: Pontairrigaçãosaídalateral2M7KGxL2IF5Em/mMcK1P0rodutos p. Saúde | E16: 200 UN R$ 23,25 | G16: R$ 4.650,00 | I16: DENTAL IPO LTDA
A17: 15 | B17: ÁLCOOL 70% 1000ML | C17: UND | D17: PINDORAMA | E17: 1.000 UN | F17: R$ 6,25 | H17: R$ 6.250,00 | I17: YUMED COMERCIO LTDA
A18: 16 | B18: ALGINATO TIPO II | C18: EZACT KROM 410G | D18: EZACT KROM / VIGODENT | E18: 50 PC | F18: R$ 19,31 | H18: R$ 965,50 | I18: ORTOSHOP COMERCIO LTDA-ME
A19: 17 | B19: ALGODÃO HIDRÓFILO 500G | C19: UN | D19: NEVOA | E19: 600 UN R$ 14,16 | G19: R$ 8.496,00 | I19: MEDICAL CENTER DISTRIBUIDORA DE MEDICAMENTOS LTDA
A20: 18 | B20: ALICATE 139 | C20: GOLGRAN | D20: GOLGRAN | E20: 5 UN | F20: R$ 88,83 | H20: R$ 444,15 | I20: JM COMERCIO E REPRESENTAÇÃO EIRELI
A21: 19 | B21: ALICATE PERFURADOR AINSWORTH | C21: UNIÃO INOX | D21: UNIÃO INOX | E21: 30 UN | F21: R$ 80,97 | H21: R$ 2.429,10 | I21: ODONTOMED COMERCIO DE PRODUTOS MEDICO HOSPITALARES LTDA - ME
A22: 20 | B22: AMALGAMA EM CAPSULAS, EMBALAGEM C/50 UND | C22: SDI | D22: SDI | E22: 20 PC | F22: R$ 133,99 | H22: R$ 2.679,80 | I22: ODONTOMED COMERCIO DE PRODUTOS MEDICO HOSPITALARES LTDA - ME
A23: 21 | B23: ANESTESICO LOCAL (LIDOCAÍNA 2% COM EPINEFRINA 1:100.000) C/50UND TUB | C23: TUBETES DE VIDRO | D23: TUBETES DE VIDRO / DFL | E23: 650 CX | F23: R$ 91,49 | H23: R$ 59.468,50 | I23: ORTOSHOP COMERCIO LTDA-ME
A24: 22 | B24: ANESTESICO LOCAL (MEPVACAÍNA 2% COM | C24: DLA | D24: DLA | E24: 500 CX R$ 144,30 R$ 72.150,00 | I24: JM COMERCIO E REPRESENTAÇÃO EIRELI
A25: 23 | B25: ANESTESICO LOCAL (MEPVACAÍNA 3% SEM VASO) C/50 UND TUBETE | C25: TUBETES DE VIDRO | D25: TUBETES DE VIDRO / DFL | E25: 50 CX | F25: R$ 122,70 | H25: R$ 6.135,00 | I25: ORTOSHOP COMERCIO LTDA-ME
A26: 24 | B26: ANESTESICO TOPICO (BENZOCAÍNA) | C26: DFL | D26: DFL | E26: 300 UN R$ 13,00 | G26: R$ 3.900,00 | I26: DENTALMED PRODUTOS PARA SAUDE LTDA
A27: 25 | B27: ANESTESICOS ARTICAINA C/50 UND TUB | C27: TUBETES DE VIDRO | D27: TUBETES DE VIDRO / DFL | E27: 100 CX | F27: R$ 159,45 | H27: R$ 15.945,00 | I27: ORTOSHOP COMERCIO LTDA-ME
A28: 26 | B28: ARCO DE OSTBY AUTOCLAVAVEL DOBRAVEL ADULTO | C28: MAQUIRA | D28: MAQUIRA | E28: 50 UN R$ 9,40 | G28: R$ 470,00 | I28: ODONTOMASTER COMERCIO DE PRODUTOS PARA SAUDE EIRELI
A29: 27 | B29: ARCO DE OSTBY AUTOCLAVAVEL DOBRAVEL INFANTIL | C29: UNIDADE | D29: PRISMA | E29: 50 UN R$ 9,39 | G29: R$ 469,50 | I29: VITORIA TEIXEIRA DE OLIVEIRA
A30: 28 | B30: ARCO DE YOUNG AUTOCLAVAVEL | C30: UNIDADE | D30: PRISMA | E30: 50 UN R$ 8,60 | G30: R$ 430,00 | I30: VITORIA TEIXEIRA DE OLIVEIRA
A31: 29 | B31: ARTICULADOR SEMI-AJUSTAVEL | C31: UNIDADE | D31: DENTFLEX | E31: 1 UN R$ 899,99 | G31: R$ 899,99 | I31: VITORIA TEIXEIRA DE OLIVEIRA
A32: 30 | B32: AVENTAL TNT C/ 10UND | C32: BELIFE - PCT C/ 10 UND | D32: BELIFE - PCT C/ 10 UND | E32: 100 PC R$ 11,96 | G32: R$ 1.196,00 | I32: CIRURGICA FAMED DISTRIBUIDORA DE PRODUTOS HOSPITALARES LTDA
A33: 31 | B33: BABADOR IMPERMEÁVEL DESCARTAVEL | C33: SORTIDO EMBALAGEM C/ 100 | D33: SORTIDO C/ 100 / BIODINÂMICA | E33: 500 PC | F33: R$ 13,22 | H33: R$ 6.610,00 | I33: ORTOSHOP COMERCIO LTDA-ME
A34: 32 | B34: BANDEJA CLÍNICA P | C34: FLEXINOX | D34: FLEXINOX | E34: 40 UN R$ 19,00 R$ 760,00 | I34: JM COMERCIO E REPRESENTAÇÃO EIRELI
A35: 34 | B35: BROCA CARBIDE CIRURGICA ESFERICA Nº 4 – BAIXA ROTAÇÃO | C35: KERR - CARBIDE CA | D35: KERR - CARBIDE CA | E35: 50 UN | F35: R$ 13,23 | H35: R$ 661,50 | I35: BIO LOGICA DISTRIBUIDORA LTDA
A36: 35 | B36: BROCA CARBIDE CIRURGICA ESFERICA Nº 6 – ALTA ROTAÇÃO | C36: KERR - CARBIDE FG | D36: KERR - CARBIDE FG | E36: 50 UN | F36: R$ 13,23 | H36: R$ 661,50 | I36: BIO LOGICA DISTRIBUIDORA LTDA
A37: 36 | B37: BROCA CARBIDE CIRURGICA ESFERICA Nº 6 – BAIXA ROTAÇÃO | C37: KERR - CARBIDE CA | D37: KERR - CARBIDE CA | E37: 50 UN | F37: R$ 13,23 | H37: R$ 661,50 | I37: BIO LOGICA DISTRIBUIDORA LTDA
A38: 37 | B38: BROCA CARBIDE CIRURGICA ESFERICA Nº 6 – PEÇA DE MÃO | C38: LABORDENTAL | D38: LABORDENTAL | E38: 50 UN R$ 15,70 R$ 785,00 | I38: JM COMERCIO E REPRESENTAÇÃO EIRELI
A39: 38 | B39: BROCA CARBIDE CIRURGICA Nº 701 (HASTE LONGA) – ALTA ROTAÇÃO | C39: MICRODONT | D39: MICRODONT | E39: 50 UN | F39: R$ 13,23 | H39: R$ 661,50 | I39: BIO LOGICA DISTRIBUIDORA LTDA
A40: 39 | B40: BROCA CARBIDE CIRURGICA Nº 702 (HASTE LONGA) – ALTA ROTAÇÃO | C40: MICRODONT | D40: MICRODONT | E40: 50 UN | F40: R$ 13,23 | H40: R$ 661,50 | I40: BIO LOGICA DISTRIBUIDORA LTDA
A41: 40 | B41: BROCA CARBIDE CIRURGICA Nº 702 (HASTE LONGA) – PEÇA DE MÃO | C41: QUALITY | D41: QUALITY | E41: 50 UN R$ 12,00 | G41: R$ 600,00 | I41: DENTALMED PRODUTOS PARA SAUDE LTDA
...
