Workbook
Name Eventos: OFFSET([1]DADOS!$A$33,1,0):OFFSET([1]DADOS!$C$38,-1,0)
Name numEventos: COUNT(OFFSET(Eventos,0,0,,1))
Name TotalEventos: SUM(TotalPorEvento)
Name TotalPorEvento: [1]Eventograma_e_Quantitativos!$I$51:OFFSET([1]Eventograma_e_Quantitativos!$I$55,-1,0)
Name ValoresPorEvento: [1]Eventograma_e_Quantitativos!$N$51:OFFSET([1]Eventograma_e_Quantitativos!$BK$55,-1,0)

Sheet ORÇAMENTO
C6: Nº OPERAÇÃO: 1052738-43 SISCONV: 866700
C7: DESCRIÇÃO: PAVIMENTAÇÃO DA RUA FRANCISCO JOSÉ CARDOSO E RUA WALFREDO DE FARIAS CAVALCANTE
A9: QUANTITATIVOS E ORÇAMENTO BÁSICO
H10: BDI (%): | I10: =ROUND((#REF!)*100,2) -> #REF!
A12: ITEM | B12: FONTE | C12: CÓD. | D12: DISCRIMINAÇÃO | E12: UNID. | F12: QUANT. | G12: P. UNIT. SEM BDI (R$) | H12: P. UNIT. COM BDI (R$) | I12: SUB-TOTAL (R$)
D14: ORÇAMENTO GLOBAL | I14: =ROUND((I15+I19+I21+I42+I25+I29+I32),2) -> #REF!
A15: 1.0 | B15: PRELIMINARES (com BDI) ....................................................................................................................................................................................................... | I15: =ROUND((SUM(I16:I18)),2) -> #REF!
A16: 1.1 | B16: DER/PB | C16: 06.201.00 | D16: Placa indicativa de obra | E16: m² | F16: =F47 -> 4.5 | G16: 306.51 | H16: =ROUND(((($I$10/100)+1)*G16),2) -> #REF! | I16: =ROUND((H16*F16),2) -> #REF!
A17: 1.2 | B17: SINAPI | C17: 99064 | D17: Locação de pavimentação. Af_10/2018 | E17: m | F17: =F48+F73 -> 748.4 | G17: 0.48 | H17: =ROUND(((($I$10/100)+1)*G17),2) -> #REF! | I17: =ROUND((H17*F17),2) -> #REF!
A18: 1.3 | B18: SINAPI | C18: 97629 | D18: Demolição de lajes, de forma mecanizada com martelete, sem reaproveita mento. Af_12/2017 | E18: m³ | F18: =F74 -> 3.29 | G18: 91.83 | H18: =ROUND(((($I$10/100)+1)*G18),2) -> #REF! | I18: =ROUND((H18*F18),2) -> #REF!
A19: 2.0 | B19: TERRAPLENAGEM (com BDI) .................................................................................................................................................................... | I19: =ROUND((SUM(I20)),2) -> #REF!
A20: 2.1 | B20: SINAPI | C20: 100575 | D20: Regularização de superfícies com motoniveladora. Af_11/2019 | E20: m² | F20: =F50+F76 -> 4356.47 | G20: 0.1 | H20: =ROUND(((($I$10/100)+1)*G20),2) -> #REF! | I20: =ROUND((H20*F20),2) -> #REF!
A21: 3.0 | B21: PAVIMENTAÇÃO (com BDI) ......................................................................................................................................................................... | I21: =ROUND((SUM(I22:I24)),2) -> #REF!
A22: 3.1 | B22: DER/PB | C22: 04.910.05 | D22: Meio-fio de concreto tipo MPC-05 | E22: m | F22: =F52+F78 -> 1496.8 | G22: 26.39 | H22: =ROUND(((($I$10/100)+1)*G22),2) -> #REF! | I22: =ROUND((H22*F22),2) -> #REF!
A23: 3.2 | B23: SINAPI | C23: 101169 | D23: Execução de pavimento em paralelepípedos, rejuntamento com argamassa traço 1:3 (cimento e areia). Af_05/2020 | E23: m² | F23: =F53+F79 -> 4356.47 | G23: 81.6 | H23: =ROUND(((($I$10/100)+1)*G23),2) -> #REF! | I23: =ROUND((H23*F23),2) -> #REF!
A24: 3.3 | B24: DER/PB | C24: 04.910.02 | D24: Forn. e aplicação de meio-fio em pedra granítica | E24: m | F24: =F54+F80 -> 67 | G24: 28.98 | H24: =ROUND(((($I$10/100)+1)*G24),2) -> #REF! | I24: =ROUND((H24*F24),2) -> #REF!
A25: 4.0 | B25: CALÇADA E RAMPA DE ACESSIBILIDADE (com BDI) ......................................................................................................................................................................... | I25: =ROUND((SUM(I26:I28)),2) -> #REF!
A26: 4.1 | B26: SINAPI | C26: 94990 | D26: Execução de passeio (calçada) ou piso de concreto com concreto moldado in loco, feito em obra, acabamento convencional, não armado | E26: m³ | F26: =F81 -> 8.91 | G26: 695.65 | H26: =ROUND(((($I$10/100)+1)*G26),2) -> #REF! | I26: =TRUNC((H26*F26),2) -> #REF!
A27: 4.2 | B27: SINAPI | C27: 94990 | D27: Execução de rampa de acessibilidade de concreto com concreto moldado in loco, feito em obra, acabamento convencional, não armado | E27: m³ | F27: =F82 -> 2.47 | G27: =G26 -> 695.65 | H27: =ROUND(((($I$10/100)+1)*G27),2) -> #REF! | I27: =ROUND((H27*F27+0.01),2) -> #REF!
A28: 4.3 | B28: ORSE | C28: 07324 | D28: Piso tátil direcional e/ou alerta, de concreto, colorido, p/deficientes visuais, dimensões 25x25x2,5cm, aplicado com argamassa industrializada ac-ii. | E28: m² | F28: =F83 -> 35.65 | G28: 104.97 | H28: =ROUND(((($I$10/100)+1)*G28),2) -> #REF! | I28: =TRUNC((H28*F28+0.01),2) -> #REF!
A29: 5.0 | B29: SINALIZAÇÃO VIÁRIA (com BDI)............................................................................................................................................................... | I29: =ROUND((SUM(I30:I31)),2) -> #REF!
A30: 5.1 | B30: DER-PB | C30: 06.200.00 | D30: Sinalização vertical, com chapas planas de aço zincado nº16 conformidade com norma abnt nbr 11904:2015, suporte de fixação em secção quadrada de 3" madeira de lei, pintado duas demãos, tinta a base de borracha clorada ou esmalte sintético branco, com fixação, parafusos, arruelas, porcas e elementos metálicos galvanizados, películas reto refletiva tipo III a, em acordo norma nbr 14644/2013 | E30: m² | F30: =F56+F85 -> 5 | G30: 505.25 | H30: =ROUND(((($I$10/100)+1)*G30),2) -> #REF! | I30: =TRUNC((H30*F30),2) -> #REF!
A31: 5.2 | B31: DER-PB | C31: 06.000.02 | D31: Placa esmaltada para identificação nr de rua, dimensões 45x25cm | E31: m² | F31: 0.22 | G31: 444.93 | H31: =ROUND(((($I$10/100)+1)*G31),2) -> #REF! | I31: =ROUND((H31*F31),2) -> #REF!
A32: 6.0 | B32: DRENAGEM | I32: =ROUND((SUM(I33:I41)),2) -> #REF!
A33: 6.1 | B33: DER-PB | C33: 04.999.26 | D33: Poço de visita p/tubulacao de 0,40m e 0,80m | E33: und | F33: =F59 -> 1 | G33: 1736.73 | H33: =ROUND(((($I$10/100)+1)*G33),2) -> #REF! | I33: =TRUNC((H33*F33),2) -> #REF!
A34: 6.2 | B34: SINAPI | C34: 97935 | D34: Caixa para boca de lobo simples retangular, em concreto pré-moldado, dimensões internas: 0,6x1,0x1,2 m. Af_12/2020 | E34: und | F34: =F60 -> 1 | G34: 766.23 | H34: =ROUND(((($I$10/100)+1)*G34),2) -> #REF! | I34: =TRUNC((H34*F34),2) -> #REF!
A35: 6.3 | B35: PRÓPRIA | C35: CCU - 01 | D35: Ponta de ala em concreto ciclópico, para tubos de concreto (simples) d=0.40 à 0.60 m | E35: und | F35: =F61 -> 1 | G35: =CCU!G21 -> 1370.82 | H35: =ROUND(((($I$10/100)+1)*G35),2) -> #REF! | I35: =TRUNC((H35*F35),2) -> #REF!
A36: 6.4 | B36: SINAPI | C36: 92212 | D36: Tubo de concreto para redes coletoras de águas pluviais, diâmetro de 600 mm, junta rígida, instalado em local com baixo nível de interferências - fornecimento e assentamento. Af_12/2015 | E36: m | F36: =F62 -> 126.46 | G36: 280.02 | H36: =ROUND(((($I$10/100)+1)*G36),2) -> #REF! | I36: =TRUNC((H36*F36),2) -> #REF!
A37: 6.5 | B37: SINAPI | C37: 99063 | D37: Locação de rede de água ou esgoto. Af_10/2018 | E37: m | F37: =F63 -> 126.46 | G37: 4.17 | H37: =ROUND(((($I$10/100)+1)*G37),2) -> #REF! | I37: =TRUNC((H37*F37),2) -> #REF!
A38: 6.6 | B38: SINAPI | C38: 90092 | D38: Escavação mecanizada de vala com prof. Maior que 1,5 m e até 3,0 m(média entre montante e jusante/uma composição por trecho), com escavadeira hidráulica (0,8 m3/111 hp), larg. Menor que 1,5 m, em solo de 1a categoria, locais com baixo nível de interferência. Af_01/2015 | E38: m³ | F38: =F64 -> 269.29 | G38: 5.41 | H38: =ROUND(((($I$10/100)+1)*G38),2) -> #REF! | I38: =TRUNC((H38*F38),2) -> #REF!
A39: 6.7 | B39: DER-PB | C39: 01.200.04 | D39: Colchao de areia excl.apenas transporte da areia | E39: m³ | F39: =F65 -> 22.76 | G39: 41.03 | H39: =ROUND(((($I$10/100)+1)*G39),2) -> #REF! | I39: =TRUNC((H39*F39),2) -> #REF!
A40: 6.8 | B40: SINAPI | C40: 93367 | D40: Reaterro mecanizado de vala com escavadeira hidráulica (capacidade da caçamba: 0,8 m³ / potência: 111 hp), largura de 1,5 a 2,5 m, profundidade até 1,5 m, com solo de 1ª categoria em locais com baixo nível de interferência. Af_04/2016 | E40: m³ | F40: =F66 -> 202.27 | G40: 18.32 | H40: =ROUND(((($I$10/100)+1)*G40),2) -> #REF! | I40: =TRUNC((H40*F40),2) -> #REF!
A41: 6.9 | B41: DER-PB | C41: 04.942.02 | D41: Entrada d'agua tipo EDA-01 | E41: und | F41: =MEMÓRIA_R.FRANCISCO!B95 -> 1 | G41: 83.05 | H41: =ROUND(((($I$10/100)+1)*G41),2) -> #REF! | I41: =TRUNC((H41*F41),2) -> #REF!
A42: 7.0 | B42: SERVIÇOS COMPLEMENTARES (com BDI)............................................................................................................................................. | I42: =ROUND((SUM(I43:I43)),2) -> #REF!
A43: 7.1 | B43: ORSE | C43: 02450 | D43: Limpeza final da obra | E43: m² | F43: =F69+F88 -> 4356.47 | G43: 2.17 | H43: =ROUND(((($I$10/100)+1)*G43),2) -> #REF! | I43: =ROUND((H43*F43),2) -> #REF!
D45: RUA FRANCISCO JOSÉ CARDOSO | I45: =ROUND((I46+I49+I51+I68+I55+I58),2) -> #REF!
A46: 1.0 | B46: PRELIMINARES (com BDI) ....................................................................................................................................................................................................... | I46: =ROUND((SUM(I47:I48)),2) -> #REF!
A47: 1.1 | B47: DER/PB | C47: 06.201.00 | D47: Placa indicativa de obra | E47: m² | F47: =MEMÓRIA_R.FRANCISCO!B14 -> 4.5 | G47: 306.51 | H47: =ROUND(((($I$10/100)+1)*G47),2) -> #REF! | I47: =ROUND((H47*F47),2) -> #REF!
A48: 1.2 | B48: SINAPI | C48: 99064 | D48: Locação de pavimentação | E48: m | F48: =MEMÓRIA_R.FRANCISCO!B19 -> 621.4 | G48: 0.48 | H48: =ROUND(((($I$10/100)+1)*G48),2) -> #REF! | I48: =ROUND((H48*F48),2) -> #REF! | J48: =F48*H48 -> #REF!
A49: 2.0 | B49: TERRAPLENAGEM (com BDI) .................................................................................................................................................................... | I49: =ROUND((SUM(I50)),2) -> #REF!
...

Sheet MEMÓRIA_R.FRANCISCO
A6: MEMÓRIA DE CÁLCULO
A8: =ORÇAMENTO!D45 -> RUA FRANCISCO JOSÉ CARDOSO
A10: 1.0 | B10: PRELIMINARES
A11: 1.1 | B11: =ORÇAMENTO!D47 -> Placa indicativa de obra
A12: = | B12: 3 | C12: (comprimento)
A13: = | B13: 1.5 | C13: (altura)
A14: = | B14: =B13*B12 -> 4.5
B15: Forma analítica: | D15: 4,00 x 2,50 = 10,00
A17: 1.2 | B17: =ORÇAMENTO!D48 -> Locação de pavimentação
A18: = | B18: =31*20+1.4 -> 621.4 | C18: (extensão)
A19: = | B19: =B18 -> 621.4
B20: Forma analítica: | D20: 621,40 + 17,75 = 639,15
A22: 2.0 | B22: TERRAPLENAGEM
A23: 2.1 | B23: =ORÇAMENTO!D50 -> Regularização de superfícies com motoniveladora. Af_11/2019
A24: = | B24: =3594.47 -> 3594.47 | C24: (área total calculada no autocad - rua tem largura variável)
A25: = | B25: =B24 -> 3594.47
A27: 3.0 | B27: PAVIMENTAÇÃO
A28: 3.1 | B28: =ORÇAMENTO!D52 -> Meio-fio de concreto tipo MPC-05
A29: = | B29: =B19 -> 621.4 | C29: =C18 -> (extensão)
A30: = | B30: 2 | C30: (quantidade de lados)
A31: = | B31: =B29*B30 -> 1242.8
B32: Forma analítica: | D32: 621,40 x 2,00 = 1.242,80
A34: 3.2 | B34: Revestimento em paralelepípedo inclusive colchão areia
A35: = | B35: área total a ser pavimentada
A36: = | B36: =B24 -> 3594.47 | C36: =C24 -> (área total calculada no autocad - rua tem largura variável)
A37: = | B37: =B36 -> 3594.47
A39: 3.3 | B39: Forn. e aplicação de meio-fio em pedra granítica para cordão de travamento do final da pavimentação
A40: = | B40: 6 | C40: (cordão para travamento de ruas com largura de 6,00 metros)
A41: = | B41: 3 | C41: (quantidade)
A42: = | B42: 7 | C42: (cordão para travamento de ruas com largura de 7,00 metros)
A43: = | B43: 7 | C43: (quantidade)
A44: = | B44: =B40*B41+B42*B43 -> 67
B45: Forma analítica: | D45: 3,00 x 6,00 + 7,00 x 7,00 = 67,00
A47: 4.0 | B47: SINALIZAÇÃO VIÁRIA
A48: 4.1 | B48: Placa de sinalização totalmente refletiva, tipo R-1, com a indicação PARE
A49: = | B49: 4 | C49: (quantidade)
A50: = | B50: 4
A52: 4.2 | B52: Placa indicativa de logradouro
A53: = | B53: quantidades de placas
A54: = | B54: 1 | C54: (quantidade de placas)
...

Sheet MEMÓRIA_R.WALFREDO
A6: MEMÓRIA DE CÁLCULO
A8: =ORÇAMENTO!D71 -> RUA WALFREDO DE FARIAS CAVALCANTE
A10: 1.0 | B10: PRELIMINARES
A11: 1.1 | B11: =ORÇAMENTO!D48 -> Locação de pavimentação
A12: = | B12: 127 | C12: (extensão)
A13: = | B13: =B12 -> 127
A15: 1.2 | B15: =ORÇAMENTO!D74 -> Demolição de lajes, de forma mecanizada com martelete, sem reaproveita mento. Af_12/2017
A16: = | B16: =39.12+7.85 -> 46.97 | C16: (área da calçada existente)
A17: = | B17: 0.07 | C17: (espessura)
A18: = | B18: =B16*B17 -> 3.29
B19: Forma analítica: | D19: 46,97 x 0,07 = 3,29
A21: 2.0 | B21: TERRAPLENAGEM
A22: 2.1 | B22: =ORÇAMENTO!D50 -> Regularização de superfícies com motoniveladora. Af_11/2019
A23: = | B23: =B12 -> 127 | C23: =C12 -> (extensão)
A24: = | B24: 6 | C24: (largura)
A25: = | B25: =B23*B24 -> 762
B26: Forma analítica: | D26: 127,00 x 6,00 = 762,00
A28: 3.0 | B28: PAVIMENTAÇÃO
A29: 3.1 | B29: =ORÇAMENTO!D52 -> Meio-fio de concreto tipo MPC-05
A30: = | B30: =B13 -> 127 | C30: =C12 -> (extensão)
A31: = | B31: 2 | C31: (quantidade de lados)
A32: = | B32: =B30*B31 -> 254
B33: Forma analítica: | D33: 127,00 x 2,00 = 254,00
A35: 3.2 | B35: Revestimento em paralelepípedo inclusive colchão areia
A36: = | B36: área total a ser pavimentada
A37: = | B37: =B23 -> 127 | C37: =C23 -> (extensão)
A38: = | B38: =B24 -> 6 | C38: =C24 -> (largura)
A39: = | B39: =B37*B38 -> 762
B40: Forma analítica: | D40: 127,00 x 6,00 = 762,00
A42: 4.2 | B42: CALÇADA E RAMPA DE ACESSIBILIDADE
A43: 4.1 | B43: Piso (calçada) em concreto de 12MPa
A44: = | B44: Volume total de calçada
A45: = | B45: =B12 -> 127 | C45: =C12 -> (extensão)
A46: = | B46: 1.5 | C46: (largura)
A47: = | B47: 0.12 | C47: (espessura do meio-fio)
A48: = | B48: =B59 -> 48 | C48: (área da rampa de acessibilidade - item 4.2)
A49: = | B49: =(B45*(B46-B47))-B48 -> 127.26 | C49: ( área da calçada)
A50: = | B50: 0.07 | C50: (espessura da calçada)
A51: = | B51: =ROUND((B50*B49),2) -> 8.91
B52: Forma analítica: | D52: [127,00 x (1,50 - 0,12)] - 48,00 = 127,26 x 0,07 = 8,91
...

Sheet CCU
C7: Nº OPERAÇÃO: 1052738-43 SISCONV: 866700
B8: DESCRIÇÃO: PAVIMENTAÇÃO DA RUA FRANCISCO JOSÉ CARDOSO E RUA WALFREDO DE FARIAS CAVALCANTE
A10: COMPOSIÇÃO DE CUSTO UNITÁRIO
B12: CCU 01 - Ponta de ala em concreto ciclópico, para tubos de concreto (simples) d=0.40 à 0.60 m
B13: Código | C13: Descrição do Serviço | G13: Unidade
B14: 03444/ORSE | C14: Ponta de ala em concreto ciclópico, para tubos de concreto (simples) d=0.40 à 0.60 m | G14: un
B15: Composição de Preço
B16: Código | C16: Descrição da Composição | D16: Unid | E16: Quant | F16: Custo Unit. (R$) | G16: Custo Total (R$)
B17: 88309/SINAPI | C17: Pedreiro com encargos complementares | D17: h | E17: 1.5 | F17: 19.45 | G17: =F17*E17 -> 29.18
B18: 04722/SINAPI | C18: Pedra britada n. 3 (38 a 50 mm) posto pedreira/fornecedor, sem frete | D18: m³ | E18: 0.324 | F18: 112.76 | G18: =F18*E18 -> 36.53
B19: 102727/SINAPI | C19: Fabricação, montagem e desmontagem de fôrma para boca para bueiro, em chapa de madeira compensada resinada, e = 17 mm, 2 utilizações. Af_07/2021. | D19: m² | E19: 8.666 | F19: 77.36 | G19: =F19*E19 -> 670.4
B20: 102487/SINAPI | C20: Concreto ciclópico fck = 15mpa, 30% pedra de mão em volume real, inclusive lançamento. Af_05/2021. | D20: m³ | E20: 1.238 | F20: 512.69 | G20: =F20*E20 -> 634.71
B21: VALOR TOTAL (R$) | G21: =SUM(G17:G20) -> 1370.82

Sheet Planilha CT Original
C6: Nº OPERAÇÃO: 1052738-43 SISCONV: 866700
C7: DESCRIÇÃO: PAVIMENTAÇÃO DA RUA FRANCISCO JOSÉ CARDOSO E RUA WALFREDO DE FARIAS CAVALCANTE
A9: QUANTITATIVOS E ORÇAMENTO BÁSICO
H10: BDI (%): | I10: =ROUND((#REF!)*100,2) -> #REF!
A12: ITEM | B12: FONTE | C12: CÓD. | D12: DISCRIMINAÇÃO | E12: UNID. | F12: QUANT. | G12: P. UNIT. SEM BDI (R$) | H12: P. UNIT. COM BDI (R$) | I12: SUB-TOTAL (R$)
D14: RUA VEREADOR FIRMINO CAETANO | I14: =I15+I17+I19+I23+I27 -> 92922.51
A15: 1.0 | B15: SERVIÇOS PRELIMINARES (com BDI) ....................................................................................................................................................................................................... | I15: =ROUND((SUM(I16:I16)),2) -> 646.76
A16: 1.1 | D16: Serviços topográficos para pavimentação, inclusive nota de serviços, acompanhamento e greide | E16: m² | F16: 1702 | H16: 0.38 | I16: =ROUND((H16*F16),2) -> 646.76
A17: 2.0 | B17: MOVIMENTO DE TERRA (com BDI) .................................................................................................................................................................... | I17: =ROUND((SUM(I18)),2) -> 2365.78
A18: 2.1 | B18: SINAPI | C18: 100575 | D18: Regularização e compactação do subleito até 20 cm de espessura | E18: m² | F18: 1702 | H18: 1.39 | I18: =ROUND((H18*F18),2) -> 2365.78
A19: 3.0 | B19: PAVIMENTAÇÃO (com BDI) ......................................................................................................................................................................... | I19: =ROUND((SUM(I20:I22)),2) -> 89010.38
A20: 3.1 | B20: DER/PB | C20: 04.910.05 | D20: Assentamento de guia (meio-fio) em trecho reto, confeccionada em concreto pré-fabricado, dimensões 100x15x13x30 cm (comprimento x base inferior x base superior x altura), para vias urbanas (uso viário) | E20: m | F20: 390 | H20: 30.84 | I20: =ROUND((H20*F20),2) -> 12027.6
A21: 3.2 | B21: SINAPI | C21: 101169 | D21: Revestimento em paralelepipedo inc.colchao areia | E21: m² | F21: 1702 | H21: 44.87 | I21: =ROUND((H21*F21),2) -> 76368.74
A22: 3.3 | B22: DER/PB | C22: 04.910.02 | D22: Forn. e aplicacao de meio fio em pedra granitica (Cordão de travamento) | E22: m | F22: 42 | H22: 14.62 | I22: =ROUND((H22*F22),2) -> 614.04
A23: 4.0 | B23: RAMPAS DE ACESSIBILIDADE (com BDI)............................................................................................................................................................... | I23: =ROUND((SUM(I24:I26)),2) -> 0
A24: 4.1 | B24: DER-PB | C24: 06.200.00 | D24: Concreto fck = 15mpa, traço 1:3,4:3,5 (cimento/ areia média/ brita 1) - preparo mecânico com betoneira 400 l. | E24: m² | F24: =MEMÓRIA_R.FRANCISCO!B7 -> 0 | H24: 302.23 | I24: =ROUND((H24*F24),2) -> 0
D25: Lançamento/aplicação manual de concreto em fundações | F25: 0 | H25: 102.63 | I25: =ROUND((H25*F25),2) -> 0
D26: Piso podotátil em placa cimentícia, assentado com argamassa em rampa do passeio público | F26: 0 | H26: 33.84 | I26: =ROUND((H26*F26),2) -> 0
A27: 6.0 | B27: DIVERSOS (com BDI)............................................................................................................................................. | I27: =ROUND((SUM(I28:I32)),2) -> 899.59
D28: Placa esmaltada para identificação nr de Rua, dimensões 45x25cm | F28: 2 | H28: 100.49 | I28: =ROUND((H28*F28),2) -> 200.98
D29: Caiação de meio-fio | F29: 97.5 | H29: 1.23 | I29: =ROUND((H29*F29),2) -> 119.93
D30: Confecção de placa em aço nº 16 galvanizado, com película retrorrefletiva tipo I + III | F30: 0 | H30: 295.73 | I30: =ROUND((H30*F30),2) -> 0
D31: Fornecimento e implantação de suporte e travessa para placa de sinalização em madeira de lei tratada 8 x 8 cm (h = 3,00m) | F31: 0 | H31: 123.16 | I31: =ROUND((H31*F31),2) -> 0
A32: 6.1 | B32: ORSE | C32: 02450 | D32: Limpeza final de obra | E32: m² | F32: 1702 | H32: 0.34 | I32: =ROUND((H32*F32),2) -> 578.68
D34: RUA LOPES RIBEIRO | I34: =I35+I37+I39+I43+I47 -> 92673.68
A35: 1.0 | B35: SERVIÇOS PRELIMINARES (com BDI) ....................................................................................................................................................................................................... | I35: =ROUND((SUM(I36:I36)),2) -> 644.48
A36: 1.1 | D36: Serviços topográficos para pavimentação, inclusive nota de serviços, acompanhamento e greide | E36: m² | F36: 1696 | H36: 0.38 | I36: =ROUND((H36*F36),2) -> 644.48
A37: 2.0 | B37: MOVIMENTO DE TERRA (com BDI) .................................................................................................................................................................... | I37: =ROUND((SUM(I38)),2) -> 2357.44
A38: 2.1 | B38: SINAPI | C38: 100575 | D38: Regularização e compactação do subleito até 20 cm de espessura | E38: m² | F38: 1696 | H38: 1.39 | I38: =ROUND((H38*F38),2) -> 2357.44
A39: 3.0 | B39: PAVIMENTAÇÃO (com BDI) ......................................................................................................................................................................... | I39: =ROUND((SUM(I40:I42)),2) -> 88773.6
A40: 3.1 | B40: DER/PB | C40: 04.910.05 | D40: Assentamento de guia (meio-fio) em trecho reto, confeccionada em concreto pré-fabricado, dimensões 100x15x13x30 cm (comprimento x base inferior x base superior x altura), para vias urbanas (uso viário) | E40: m | F40: 392 | H40: 30.84 | I40: =ROUND((H40*F40),2) -> 12089.28
A41: 3.2 | B41: SINAPI | C41: 101169 | D41: Revestimento em paralelepipedo inc.colchao areia | E41: m² | F41: 1696 | H41: 44.87 | I41: =ROUND((H41*F41),2) -> 76099.52
A42: 3.3 | B42: DER/PB | C42: 04.910.02 | D42: Forn. e aplicacao de meio fio em pedra granitica (Cordão de travamento) | E42: m | F42: 40 | H42: 14.62 | I42: =ROUND((H42*F42),2) -> 584.8
A43: 4.0 | B43: RAMPAS DE ACESSIBILIDADE (com BDI)............................................................................................................................................................... | I43: =ROUND((SUM(I44:I46)),2) -> 0
A44: 4.1 | B44: DER-PB | C44: 06.200.00 | D44: Concreto fck = 15mpa, traço 1:3,4:3,5 (cimento/ areia média/ brita 1) - preparo mecânico com betoneira 400 l. | E44: m² | F44: 0 | H44: 302.23 | I44: =ROUND((H44*F44),2) -> 0
D45: Lançamento/aplicação manual de concreto em fundações | F45: 0 | H45: 102.63 | I45: =ROUND((H45*F45),2) -> 0
D46: Piso podotátil em placa cimentícia, assentado com argamassa em rampa do passeio público | F46: 0 | H46: 33.84 | I46: =ROUND((H46*F46),2) -> 0
A47: 6.0 | B47: DIVERSOS (com BDI)............................................................................................................................................. | I47: =ROUND((SUM(I48:I52)),2) -> 898.16
D48: Placa esmaltada para identificação nr de Rua, dimensões 45x25cm | F48: 2 | H48: 100.49 | I48: =ROUND((H48*F48),2) -> 200.98
D49: Caiação de meio-fio | F49: 98 | H49: 1.23 | I49: =ROUND((H49*F49),2) -> 120.54
...

Sheet Maria Livramento - T1
A1: ESTADO DA PARAIBA
A2: ='[2]Planilha Global'!A2 -> PREFEITURA MUNICIPAL DE MAMANGUAPE | G2: Extensão da rua | H2: 131.22
A4: Memória de Cálculos - Pavimentação | H4: largura | I4: comprimento | J4: área | K4: meio-fio | L4: descidas drenagem | M4: rampas | N4: largura rampa
A6: Rua Maria Livramento P. Lima (Trecho 01) | H6: =(7.58+5.82)/2 -> 6.7 | I6: 29.96 | J6: =H6*I6 -> 200.73
A7: Cálculo da área de pavimentação: | H7: =(5.82+5.71)/2 -> 5.765 | I7: 38.25 | J7: =H7*I7 -> 220.51
A8: Trecho 01 - E0 à E1+10 (trapézio) | C8: Trecho 02 - E1+10 à E3+8,21 (trapézio) | H8: =(5.71+5.55)/2 -> 5.63 | I8: 34.21 | J8: =H8*I8 -> 192.6 | K8: =29.96+29.98+10.37+12.67+9.31+7.97+8.09+21.49+9.42+9.43+12.76+34.81+6.71+5.34+2.35+7.78+25.41+18.63 -> 262.48 | L8: =5.68+4.08+6.31+26.94+12.7+10.5+13.15+2.22+7.65+20.38+25.33+25.4+36.7+29.26+18.73+19.08+9.01+14.58+11.42+7.25+4.36+26.66+12.33+10.58+14.04+3.07+7.89+20.45+25.67+25.67+37.03+29.56+19.1+18.96+8.89+14.81+11.96 -> 597.4 | M8: 4 | N8: 1.2
A9: Comprimento: 29,96m | C9: Comprimento: 38,25m | H9: =(5.55+5.9)/2 -> 5.725 | I9: 2.32 | J9: =H9*I9 -> 13.28 | L9: =2.43+3.39+2.31+2.97+2.01+3.07 -> 16.18
A10: Largura inicial: 7,58m / largura final: 5,82m | C10: Largura inicial: 5,82m / largura final: 5,71m | H10: 5.9 | I10: 7.79 | J10: =H10*I10 -> 45.96
A11: A = (7,58 + 5,82) x 29,96 / 2 = 200,73m² | C11: A = (5,82 + 5,71) x 38,25 / 2 = 220,51m² | H11: =(5.9+6.9)/2 -> 6.4 | I11: 18.69 | J11: =H11*I11 -> 119.62
J12: =SUM(J6:J11) -> 792.7
A13: Trecho 03 - E3+8,21 à E5+2,42 (trapézio) | C13: Trecho 04 - E5+2,42 à E5+4,74 (trapézio)
A14: Comprimento: 34,21m | C14: Comprimento: 2,32m
A15: Largura inicial: 5,71m / largura final: 5,55m | C15: Largura inicial: 5,55m / largura final: 5,90m
A16: A = (5,71 + 5,55) x 34,21 / 2 = 192,60m² | C16: A = (5,55 + 5,90) x 2,32 / 2 = 13,28m²
A18: Trecho 05 - E5+4,74 à E5+12,53 (retângulo) | C18: Trecho 06 - E5+12,53 à E6+11,22 (trapézio)
A19: Comprimento: 7,79m | C19: Comprimento: 18,69m
A20: Largura: 5,90m | C20: Largura inicial: 5,90m / largura final: 6,90m
A21: A = 7,79 x 5,90 = 45,96m² | C21: A = (5,90 + 6,90) x 18,69 / 2 = 119,62m²
A23: 1.0 > Serviços Preliminares:
A24: 1.1 | B24: > Placa indicativa da obra em chapa de aço galvanizado: A = (4,00m x 2,00m) = 8,00m² | E24: =4*2 -> 8 | F24: m²
A26: 1.2 | B26: > Locação de pavimentação Estaqueamento (E0 à E6+11,22) : 131,22m | E26: =H2 -> 131.22 | F26: m
A28: 2.0 > Movimento de Terra: | J28: =SUM(J8:J17) -> 1164.16
A29: 2.1 | B29: > Regularização e compactação de sub-leito até 20cm de espessura A = 200,73 + 220,51 + 192,60 + 13,28 + 45,96 + 119,62 = 792,70m² | E29: =J12 -> 792.7 | F29: m²
A31: 3.0 > Pavimentação: | J31: =SUM(J11:J17) -> 912.32
A32: 3.1 | B32: > Assentamento de guia (meio-fio) em trecho reto, confeccionada em concreto pré-fabricado, dimensões 100x15x13x30 cm (comprimento x base inferior x base superior x altura), para vias urbanas (uso viário) Comprimento de meio-fio: C = 29,96 + 29,98 + 10,37 + 12,67 + 9,31 + 7,97 + 8,09 + 21,49 + 9,42 + 9,43 + 12,76 + 34,81 + 6,71 + 5,34 + 2,35 + 7,78 + 25,41 + 18,63 = 262,48m | E32: =K8 -> 262.48 | F32: m
A34: 3.2 | B34: > Execução de pavimento em paralelepípedo inclusive colchão de areia rejuntado no traço 1:3 (Cimento e areia) A = 200,73 + 220,51 + 192,60 + 13,28 + 45,96 + 119,62 = 792,70m² | E34: =E29 -> 792.7 | F34: m²
A36: 3.3 | B36: > Assentamento de guia (meio-fio) para cordão de travamento do pavimento, em pedra granítica Para travamento do início e fim do pavimento: C = 7,58 + 6,90 = 14,48m | E36: =7.58+6.9 -> 14.48 | F36: m
A38: 4.0 > Passeios (calçadas)
A39: 4.1 | B39: > Alvenaria de blocos cerâmicos furados na horizontal de 9x19x19 cm (espessura 9 cm) e argamassa de assentamento com preparo manual (para contenção das calçadas) A = (1,20 + 1,20 + 29,94 + 30,04 + 2,78 + 9,31 + 9,44 + 34,80 + 6,71 + 5,24 + 2,34 + 18,56 + 1,20 + 1,20) x 0,20 = 153,96m x 0,20m = 30,79m² | E39: =H39 -> 30.79 | F39: m² | G39: =1.2+1.2+29.94+30.04+2.78+9.31+9.44+34.8+6.71+5.24+2.34+18.56+1.2+1.2 -> 153.96 | H39: =G39*0.2 -> 30.79
A41: 4.2 | B41: > Execução de passeio (calçada) em concreto moldado in loco, feito em obra, acabamento convencional, não armado, espessura 6 cm Obs.: excluindo-se área de rampas, espessuras do meio-fio e volume do piso tátil V = (29,96 + 29,98 + 10,37 + 12,67 + 9,31 + 7,97 + 8,09 + 21,49 + 9,42 + 9,43 + 12,76 + 34,81 + 6,71 + 5,34 + 2,35 + 7,78 + 25,41 + 18,63) x 1,20 = 314,98m² - 36,00m² = 278,98m² x 0,06m = 16,74m³ Desconto do volume do piso tátil nas calçadas: V = (9,22 + 9,52 + 12,96 + 13,24 + 10,37 + 12,65 + 7,97 + 9,32 + 12,78 + 21,47 + 1,19 + 3,63 + 4,00 + 0,84 + 4,68 + 12,76 + 34,81 + 12,00 + 2,34 + 7,82 + 6,11 + 0,39 + 3,27 + 3,34 + 7,77 + 7,99) x 0,20 x 0,02 = 232,44 x 0,20 x 0,02 = 0,93m³ Total: V = 16,74 - 0,93 = 15,81m³ | E41: =M41 -> 15.81 | F41: m³ | G41: =(29.96+29.98+10.37+12.67+9.31+7.97+8.09+21.49+9.42+9.43+12.76+34.81+6.71+5.34+2.35+7.78+25.41+18.63)*1.2 -> 314.98 | H41: =G41-E52 -> 278.98 | J41: =H41*0.06 -> 16.74 | K41: =9.22+9.52+12.96+13.24+10.37+12.65+7.97+9.32+12.78+21.47+1.19+3.63+4+0.84+4.68+12.76+34.81+12+2.34+7.82+6.11+0.39+3.27+3.34+7.77+7.99 -> 232.44 | L41: =K41*0.2*0.02 -> 0.93 | M41: =J41-L41 -> 15.81
A43: 4.3 | B43: > Piso tátil direcional e/ou alerta, de concreto, na cor natural, para deficientes visuais, dimensões 20x20cm, aplicado com argamassa industrializada ac-ii Será a área referente ao desconto do piso tátil das calçadas, cujo somatório do comprimento foi calculado no item anterior: A = 232,44 x 0,20 = 46,49m² | E43: =G43 -> 46.49 | F43: m² | G43: =K41*0.2 -> 46.49
A45: 5.0 > Rampas de Acessibilidade
A46: 5.1 | B46: > Concreto Fck = 15MPa, traço 1:3,4:3,5 (em massa seca de cimento/ areia média/ brita 1) - preparo mecânico com betoneira 400 L V = (7,50 x 1,20) x 4 = 36,00m² x 0,06m = 2,16m³ Desconto do volume do piso tátil nas rampas: V = [(1,20 x 2 + 1,50 x 1) x 4] x 0,20 x 0,02 = 0,06m³ Total: V = 2,16 - 0,06 = 2,10m³ | E46: =K46 -> 2.1 | F46: m³ | G46: =7.5*N8*M8*0.06 -> 2.16 | H46: =(1.2*2+1.5)*M8 -> 15.6 | J46: =H46*0.2*0.02 -> 0.06 | K46: =G46-J46 -> 2.1 | N46: =(7.5*1.2)*7+5.75+6.31+5.25+6.11+5.71+5.24+5.25+7.18+7.07+5.2+5.25+5.15 -> 132.47 | O46: =N46*0.06 -> 7.95 | P46: =(1.2*3*7+1.05+2.42+1.05+4.76+1.42/2+2+1.05+3+1.05+2.66+1.05+2.01+1.05+3+1.05+1.05+1.05+1.05+1.05+1.05+1.05+2+1.05+2+1.05+2+0.99) -> 68.5 | Q46: =P46*0.2*0.02 -> 0.27 | R46: =P46*0.2 -> 13.7
A48: 5.2 | B48: > Lançamento com uso de baldes, adensamento e acabamento de concreto em estruturas V = (7,50 x 1,20) x 4 = 36,00m² x 0,06m = 2,16m³ Desconto do volume do piso tátil nas rampas: V = [(1,20 x 2 + 1,50 x 1) x 4] x 0,20 x 0,02 = 0,06m³ Total: V = 2,16 - 0,06 = 2,10m³ | E48: =E46 -> 2.1 | F48: m³
A50: 5.3 | B50: > Piso tátil direcional e/ou alerta, de concreto, na cor natural, para deficientes visuais, dimensões 20x20cm, aplicado com argamassa industrializada ac-ii Rampas: A = [(1,20 x 2 + 1,50 x 1) x 4] x 0,20 = 3,12m² | E50: =G50 -> 3.12 | F50: m² | G50: =(N8*2+1.5)*M8*0.2 -> 3.12
A52: 5.4 | B52: > Pintura de piso com tinta acrílica, aplicação manual, 2 demãos, incluso fundo preparador A = (7,50 x 1,20) x 4 = 36,00m² | E52: =G52 -> 36 | F52: m² | G52: =7.5*N8*M8:M8 -> 36
A54: 6.0 > Sinalização
A55: 6.1 | B55: > Fornecimento e instalação de suporte de madeira para placas de sinalização, em solo, com h= de 2,0 m e seção de 7,5 x 7,5 cm Quantidade = 2 und | E55: 2 | F55: unid
A57: 6.2 | B57: > Placa de advertência em aço, lado de 0,60 m - película retrorrefletiva tipo I + SI, para sinalização vertical - fornecimento e implantação Quantidade = 2 und | E57: 2 | F57: unid
A59: 7.0 > Serviços Complementares
...

Sheet Maria Livramento - T2
A1: ESTADO DA PARAIBA
A2: ='[2]Planilha Global'!A2 -> PREFEITURA MUNICIPAL DE MAMANGUAPE | G2: Extensão da rua | H2: 108.51
A4: Memória de Cálculos - Pavimentação | H4: largura | I4: comprimento | J4: área | K4: meio-fio | L4: descidas drenagem | M4: rampas | N4: largura rampa
A6: Rua Maria Livramento P. Lima (Trecho 02) | H6: =(7.33+6.17)/2 -> 6.75 | I6: 27.08 | J6: =H6*I6 -> 182.79
A7: Cálculo da área de pavimentação: | H7: =(6.17+5.47)/2 -> 5.82 | I7: 12.27 | J7: =H7*I7 -> 71.41
A8: Trecho 01 - E0 à E1+7,08 (trapézio) | C8: Trecho 02 - E1+7,08 à E1+19,35 (trapézio) | H8: =(5.47+6.01)/2 -> 5.74 | I8: 10.97 | J8: =H8*I8 -> 62.97 | K8: =20.57+26.99+9+10.1+9.94+8.02+23.94+23.67+7.66+9.02+7.69+2.12+3.82+3.27+2.68+10.1+3.16+13.88+13.69 -> 209.32 | L8: =5.68+4.08+6.31+26.94+12.7+10.5+13.15+2.22+7.65+20.38+25.33+25.4+36.7+29.26+18.73+19.08+9.01+14.58+11.42+7.25+4.36+26.66+12.33+10.58+14.04+3.07+7.89+20.45+25.67+25.67+37.03+29.56+19.1+18.96+8.89+14.81+11.96 -> 597.4 | M8: 4 | N8: 1.2
A9: Comprimento: 27,08m | C9: Comprimento: 12,27m | H9: =(6.01+5.6)/2 -> 5.805 | I9: 23.26 | J9: =H9*I9 -> 135.02 | L9: =2.43+3.39+2.31+2.97+2.01+3.07 -> 16.18
A10: Largura inicial: 7,33m / largura final: 6,17m | C10: Largura inicial: 6,17m / largura final: 5,47m | H10: =(5.6+5.07)/2 -> 5.335 | I10: 8.61 | J10: =H10*I10 -> 45.93
A11: A = (7,33 + 6,17) x 27,08 / 2 = 182,79m² | C11: A = (7,33 + 6,17) x 12,27 / 2 = 71,41m² | H11: =(5.07+5)/2 -> 5.035 | I11: 12.54 | J11: =H11*I11 -> 63.14
H12: 5 | I12: 13.78 | J12: =H12*I12 -> 68.9
A13: Trecho 03 - E1+19,35 à E2+10,32 (trapézio) | C13: Trecho 04 - E2+10,32 à E3+13,58 (trapézio) | J13: 29.86 | L13: =5.68+4.08+6.31+26.94+12.7+10.5+13.15+2.22+7.65+20.38+25.33+25.4+36.7+29.26+18.73+19.08+9.01+14.58+11.42+7.25+4.36+26.66+12.33+10.58+14.04+3.07+7.89+20.45+25.67+25.67+37.03+29.56+19.1+18.96+8.89+14.81+11.96 -> 597.4 | M13: 4 | N13: 1.2
A14: Comprimento: 10,97m | C14: Comprimento: 23,26m | J14: =SUM(J6:J13) -> 660.02 | L14: =2.43+3.39+2.31+2.97+2.01+3.07 -> 16.18
A15: Largura inicial: 5,47m / largura final: 6,01m | C15: Largura inicial: 6,01m / largura final: 5,60m
A16: A = (5,47 + 6,01) x 10,97 / 2 = 62,97m² | C16: A = (6,01 + 5,60) x 23,26 / 2 = 135,02m²
A18: Trecho 05 - E3+13,58 à E4+2,19 (trapézio) | C18: Trecho 06 - E4+2,19 à E4+14,73 (trapézio) | L18: =5.68+4.08+6.31+26.94+12.7+10.5+13.15+2.22+7.65+20.38+25.33+25.4+36.7+29.26+18.73+19.08+9.01+14.58+11.42+7.25+4.36+26.66+12.33+10.58+14.04+3.07+7.89+20.45+25.67+25.67+37.03+29.56+19.1+18.96+8.89+14.81+11.96 -> 597.4 | M18: 4 | N18: 1.2
A19: Comprimento: 8,61m | C19: Comprimento: 12,54m | L19: =2.43+3.39+2.31+2.97+2.01+3.07 -> 16.18
A20: Largura inicial: 5,60m / largura final: 5,07m | C20: Largura inicial: 5,07m / largura final: 5,00m
A21: A = (5,60 + 5,07) x 8,61 / 2 = 45,93m² | C21: A = (5,07 + 5,00) x 12,54 / 2 = 63,14m²
A23: Trecho 07 - E4+14,73 à E5+8,51 (retângulo) | C23: Boca de Rua
A24: Comprimento: 13,78m | C24: Área indicada em planta, extraída do comando
A25: Largura: 5,00m | C25: do AutoCad:
A26: A = 13,78 x 5,00 = 68,90m² | C26: A = 29,86m²
A28: 1.0 > Serviços Preliminares:
A29: 1.2 | B29: > Locação de pavimentação Estaqueamento (E0 à E5+8,51) : 108,51m | E29: =H2 -> 108.51 | F29: m
A31: > Movimento de Terra:
A32: 2.1 | B32: > Regularização e compactação de sub-leito até 20cm de espessura A = 182,79 + 71,41 + 62,97 + 135,02 + 45,93 + 63,14 + 68,90 + 29,86 = 660,02m² | E32: =J14 -> 660.02 | F32: m²
A34: > Pavimentação:
A35: 3.1 | B35: > Assentamento de guia (meio-fio) em trecho reto, confeccionada em concreto pré-fabricado, dimensões 100x15x13x30 cm (comprimento x base inferior x base superior x altura), para vias urbanas (uso viário) Comprimento de meio-fio: C = 20,57 + 26,99 + 9,00 + 10,10 + 9,94 + 8,02 + 23,94 + 23,67 + 7,66 + 9,02 + 7,69 + 2,12 + 3,82 + 3,27 + 2,68 + 10,10 + 3,16 + 13,88 + 13,69 = 209,32m | E35: =K8 -> 209.32 | F35: m
A37: 3.2 | B37: > Execução de pavimento em paralelepípedo inclusive colchão de areia rejuntado no traço 1:3 (Cimento e areia) A = 182,79 + 71,41 + 62,97 + 135,02 + 45,93 + 63,14 + 68,90 + 29,86 = 660,02m² | E37: =E32 -> 660.02 | F37: m²
A39: 3.3 | B39: > Assentamento de guia (meio-fio) para cordão de travamento do pavimento, em pedra granítica Para travamento do início e fim do pavimento: C = 7,33 + 5,74 + 5,00 = 18,07m | E39: =7.33+5.74+5 -> 18.07 | F39: m
A41: > Passeios (calçadas)
A42: 4.1 | B42: > Alvenaria de blocos cerâmicos furados na horizontal de 9x19x19 cm (espessura 9 cm) e argamassa de assentamento com preparo manual (para contenção das calçadas) A = (1,20 + 1,20 + 26,96 + 10,09 + 8,00 + 23,95 + 7,66 + 8,67 + 3,73 + 1,20 + 7,69 + 10,06 + 1,20 + 3,34 + 13,92 + 13,65 + 1,20 + 1,20) x 0,20 = 144,92m x 0,20m = 28,98m² | E42: =H42 -> 28.98 | F42: m² | G42: =1.2+1.2+26.96+10.09+8+23.95+7.66+8.67+3.73+1.2+7.69+10.06+1.2+3.34+13.92+13.65+1.2+1.2 -> 144.92 | H42: =G42*0.2 -> 28.98
A44: 4.2 | B44: > Execução de passeio (calçada) em concreto moldado in loco, feito em obra, acabamento convencional, não armado, espessura 6 cm Obs.: excluindo-se área de rampas, espessuras do meio-fio e volume do piso tátil V = (20,57 + 26,99 + 9,00 + 10,10 + 9,94 + 8,02 + 23,94 + 23,67 + 7,66 + 9,02 + 7,69 + 2,12 + 3,82 + 3,27 + 2,68 + 10,10 + 3,16 + 13,88 + 13,69) x 1,20 = 251,18m² - 36,00m² = 215,18m² x 0,06m = 12,91m³ Desconto do volume do piso tátil nas calçadas: V = (5,51 + 5,99 + 7,09 + 13,97 + 9,01 + 10,05 + 10,09 + 8,00 + 23,95 + 23,75 + 7,66 + 9,00 + 7,67 + 1,38 + 3,64 + 3,72 + 1,33 + 10,07 + 3,11 + 3,74 + 3,54 + 2,63 + 2,66) x 0,20 x 0,02 = 177,56 x 0,20 x 0,02 = 0,71m³ Total: V = 12,91 - 0,71 = 12,20m³ | E44: =M44 -> 12.2 | F44: m³ | G44: =(20.57+26.99+9+10.1+9.94+8.02+23.94+23.67+7.66+9.02+7.69+2.12+3.82+3.27+2.68+10.1+3.16+13.88+13.69)*1.2 -> 251.18 | H44: =G44-E55 -> 215.18 | J44: =H44*0.06 -> 12.91 | K44: =5.51+5.99+7.09+13.97+9.01+10.05+10.09+8+23.95+23.75+7.66+9+7.67+1.38+3.64+3.72+1.33+10.07+3.11+3.74+3.54+2.63+2.66 -> 177.56 | L44: =K44*0.2*0.02 -> 0.71 | M44: =J44-L44 -> 12.2
A46: 4.3 | B46: > Piso tátil direcional e/ou alerta, de concreto, na cor natural, para deficientes visuais, dimensões 20x20cm, aplicado com argamassa industrializada ac-ii Será a área referente ao desconto do piso tátil das calçadas, cujo somatório do comprimento foi calculado no item anterior: A = 177,56 x 0,20 = 35,51m² | E46: =G46 -> 35.51 | F46: m² | G46: =K44*0.2 -> 35.51
A48: > Rampas de Acessibilidade
A49: 5.1 | B49: > Concreto Fck = 15MPa, traço 1:3,4:3,5 (em massa seca de cimento/ areia média/ brita 1) - preparo mecânico com betoneira 400 L V = (7,50 x 1,20) x 4 = 36,00m² x 0,06m = 2,16m³ Desconto do volume do piso tátil nas rampas: V = [(1,20 x 2 + 1,50 x 1) x 4] x 0,20 x 0,02 = 0,06m³ Total: V = 2,16 - 0,06 = 2,10m³ | E49: =K49 -> 2.1 | F49: m³ | G49: =7.5*N8*M8*0.06 -> 2.16 | H49: =(1.2*2+1.5)*M8 -> 15.6 | J49: =H49*0.2*0.02 -> 0.06 | K49: =G49-J49 -> 2.1 | N49: =(7.5*1.2)*7+5.75+6.31+5.25+6.11+5.71+5.24+5.25+7.18+7.07+5.2+5.25+5.15 -> 132.47 | O49: =N49*0.06 -> 7.95 | P49: =(1.2*3*7+1.05+2.42+1.05+4.76+1.42/2+2+1.05+3+1.05+2.66+1.05+2.01+1.05+3+1.05+1.05+1.05+1.05+1.05+1.05+1.05+2+1.05+2+1.05+2+0.99) -> 68.5 | Q49: =P49*0.2*0.02 -> 0.27 | R49: =P49*0.2 -> 13.7
A51: 5.2 | B51: > Lançamento com uso de baldes, adensamento e acabamento de concreto em estruturas V = (7,50 x 1,20) x 4 = 36,00m² x 0,06m = 2,16m³ Desconto do volume do piso tátil nas rampas: V = [(1,20 x 2 + 1,50 x 1) x 4] x 0,20 x 0,02 = 0,06m³ Total: V = 2,16 - 0,06 = 2,10m³ | E51: =E49 -> 2.1 | F51: m³
A53: 5.3 | B53: > Piso tátil direcional e/ou alerta, de concreto, na cor natural, para deficientes visuais, dimensões 20x20cm, aplicado com argamassa industrializada ac-ii Rampas: A = [(1,20 x 2 + 1,50 x 1) x 4] x 0,20 = 3,12m² | E53: =G53 -> 3.12 | F53: m² | G53: =(N8*2+1.5)*M8*0.2 -> 3.12
A55: 5.4 | B55: > Pintura de piso com tinta acrílica, aplicação manual, 2 demãos, incluso fundo preparador A = (7,50 x 1,20) x 4 = 36,00m² | E55: =G55 -> 36 | F55: m² | G55: =7.5*N8*M8:M8 -> 36
A57: > Sinalização
...

Sheet Fábio Vaz - T1
A1: ESTADO DA PARAIBA
A2: ='[2]Planilha Global'!A2 -> PREFEITURA MUNICIPAL DE MAMANGUAPE | G2: Extensão da rua | H2: 129.92
A4: Memória de Cálculos - Pavimentação | H4: largura | I4: comprimento | J4: área | K4: meio-fio | L4: descidas drenagem | M4: rampas | N4: largura rampa
A6: Rua Fábio Barbosa Vaz (Trecho 01) | H6: =(7.77+5.48)/2 -> 6.625 | I6: 10 | J6: =H6*I6 -> 66.25
A7: Cálculo da área de pavimentação: | H7: =(5.48+5.43)/2 -> 5.455 | I7: 17.78 | J7: =H7*I7 -> 96.99
A8: Trecho 01 - E0 à E0+10 (trapézio) | C8: Trecho 02 - E0+10 à E1+7,78 (trapézio) | H8: =(5.43+5.33)/2 -> 5.38 | I8: 12.22 | J8: =H8*I8 -> 65.74 | K8: =9.92+10.22+17.76+18.38+11.62+11.79+47.53+12.6+12.22+11.07+23.03+13.04+3.16+6.64+11.05+21.69+18.23 -> 259.95 | L8: =5.68+4.08+6.31+26.94+12.7+10.5+13.15+2.22+7.65+20.38+25.33+25.4+36.7+29.26+18.73+19.08+9.01+14.58+11.42+7.25+4.36+26.66+12.33+10.58+14.04+3.07+7.89+20.45+25.67+25.67+37.03+29.56+19.1+18.96+8.89+14.81+11.96 -> 597.4 | M8: 4 | N8: 1.2
A9: Comprimento: 10,00m | C9: Comprimento: 17,78m | H9: =(5.33+5.79)/2 -> 5.56 | I9: 24.41 | J9: =H9*I9 -> 135.72 | L9: =2.43+3.39+2.31+2.97+2.01+3.07 -> 16.18
A10: Largura inicial: 7,77m / largura final: 5,48m | C10: Largura inicial: 5,48m / largura final: 5,43m | H10: =(5.79+5.54)/2 -> 5.665 | I10: 10.98 | J10: =H10*I10 -> 62.2
A11: A = (7,77 + 5,48) x 10,00 / 2 = 66,25m² | C11: A = (5,48 + 5,43) x 17,78 / 2 = 96,99m² | H11: =(5.54+5.38)/2 -> 5.46 | I11: 12.25 | J11: =H11*I11 -> 66.89
H12: =(5.38+5.34)/2 -> 5.36 | I12: 13.92 | J12: =H12*I12 -> 74.61
A13: Trecho 03 - E1+7,78 à E2 (trapézio) | C13: Trecho 04 - E2 à E3+4,41 (trapézio) | H13: =(5.34+5)/2 -> 5.17 | I13: 6.63 | J13: =H13*I13 -> 34.28
A14: Comprimento: 12,22m | C14: Comprimento: 24,41m | H14: =(5+5.05)/2 -> 5.025 | I14: 3.59 | J14: =H14*I14 -> 18.04
A15: Largura inicial: 5,43m / largura final: 5,33m | C15: Largura inicial: 5,33m / largura final: 5,79m | H15: =(5.05+6.54)/2 -> 5.795 | I15: 18.14 | J15: =H15*I15 -> 105.12
A16: A = (5,43 + 5,33) x 12,22 / 2 = 65,74m² | C16: A = (5,33 + 5,79) x 24,41 / 2 = 135,72m² | J16: =SUM(J6:J15) -> 725.84
A18: Trecho 05 - E3+4,41 à E3+15,39 (trapézio) | C18: Trecho 06 - E3+15,39 à E4+7,64 (trapézio)
A19: Comprimento: 10,98m | C19: Comprimento: 12,25m
A20: Largura inicial: 5,79m / largura final: 5,54m | C20: Largura inicial: 5,54m / largura final: 5,38m
A21: A = (5,79 + 5,54) x 10,98 / 2 = 62,20m² | C21: A = (5,54 + 5,38) x 12,25 / 2 = 66,89m²
A23: Trecho 07 - E4+7,64 à E5+1,56 (trapézio) | C23: Trecho 08 - E5+1,56 à E5+8,19 (trapézio)
A24: Comprimento: 13,92m | C24: Comprimento: 6,63m
A25: Largura inicial: 5,38m / largura final: 5,34m | C25: Largura inicial: 5,34m / largura final: 5,00m
A26: A = (5,38 + 5,34) x 13,92 / 2 = 74,61m² | C26: A = (5,34 + 5,00) x 6,63 / 2 = 34,28m²
A28: Trecho 09 - E5+8,19 à E5+11,78 (trapézio) | C28: Trecho 10 - E5+11,78 à E6+9,92 (trapézio)
A29: Comprimento: 3,59m | C29: Comprimento: 18,14m
A30: Largura inicial: 5,00m / largura final: 5,05m | C30: Largura inicial: 5,05m / largura final: 6,54m
A31: A = (5,00 + 5,05) x 3,59 / 2 = 18,04m² | C31: A = (5,05 + 6,54) x 18,14 / 2 = 105,12m²
A33: 1.0 > Serviços Preliminares:
A34: 1.2 | B34: > Locação de pavimentação Estaqueamento (E0 à E6+9,92) : 129,92m | E34: =H2 -> 129.92 | F34: m
A36: > Movimento de Terra: | J36: =SUM(J8:J17) -> 1288.44
A37: 2.1 | B37: > Regularização e compactação de sub-leito até 20cm de espessura A = 66,25 + 96,99 + 65,74 + 135,72 + 62,20 + 66,89 + 74,61 + 34,28 + 18,04 + 105,12 = 725,84m² | E37: =J16 -> 725.84 | F37: m²
A39: > Pavimentação: | J39: =SUM(J11:J17) -> 1024.78
A40: 3.1 | B40: > Assentamento de guia (meio-fio) em trecho reto, confeccionada em concreto pré-fabricado, dimensões 100x15x13x30 cm (comprimento x base inferior x base superior x altura), para vias urbanas (uso viário) Comprimento de meio-fio: C = 9,92 + 10,22 + 17,76 + 18,38 + 11,62 + 11,79 + 47,53 + 12,60 + 12,22 + 11,07 + 23,03 + 13,04 + 3,16 + 6,64 + 11,05 + 21,69 + 18,23 = 259,95m | E40: =K8 -> 259.95 | F40: m
A42: 3.2 | B42: > Execução de pavimento em paralelepípedo inclusive colchão de areia rejuntado no traço 1:3 (Cimento e areia) A = 66,25 + 96,99 + 65,74 + 135,72 + 62,20 + 66,89 + 74,61 + 34,28 + 18,04 + 105,12 = 725,84m² | E42: =E37 -> 725.84 | F42: m²
A44: 3.3 | B44: > Assentamento de guia (meio-fio) para cordão de travamento do pavimento, em pedra granítica Para travamento do início e fim do pavimento: C = 7,77 + 6,54 = 14,31m | E44: =7.77+6.54 -> 14.31 | F44: m
A46: > Passeios (calçadas)
A47: 4.1 | B47: > Alvenaria de blocos cerâmicos furados na horizontal de 9x19x19 cm (espessura 9 cm) e argamassa de assentamento com preparo manual (para contenção das calçadas) A = (47,48 + 11,07 + 3,19 + 21,65 + 18,20 + 1,20 + 1,20) x 0,20 = 103,99m x 0,20m = 20,80m² | E47: =H47 -> 20.8 | F47: m² | G47: =47.48+11.07+3.19+21.65+18.2+1.2+1.2 -> 103.99 | H47: =G47*0.2 -> 20.8
A49: 4.2 | B49: > Execução de passeio (calçada) em concreto moldado in loco, feito em obra, acabamento convencional, não armado, espessura 6 cm Obs.: excluindo-se área de rampas, espessuras do meio-fio e volume do piso tátil V = (9,84 x 1,20) / 2 + (10,15 x 1,20) / 2 + (17,76 + 18,38 + 11,62 + 11,79 + 47,53 + 12,60 + 12,22 + 11,07 + 23,03 + 13,04 + 3,16 + 6,64 + 11,05 + 21,69 + 18,23) x 1,20 = 299,77m² - 36,00m² = 263,88m² x 0,06m = 15,83m³ Desconto do volume do piso tátil nas calçadas: V = (6,15 + 5,84 + 6,53 + 6,57 + 3,70 + 4,31 + 11,60 + 23,76 + 11,78 + 12,62 + 23,76 + 12,25 + 11,07 + 23,02 + 13,03 + 3,19 + 6,63 + 11,01 + 6,85 + 2,45 + 7,32 + 8,27) x 0,20 x 0,02 = 221,71 x 0,20 x 0,02 = 0,89m³ Total: V = 15,83 - 0,89 = 14,94m³ | E49: =M49 -> 14.94 | F49: m³ | G49: =(9.84*1.2)/2+(10.15*1.2)/2+(17.76+18.38+11.62+11.79+47.53+12.6+12.22+11.07+23.03+13.04+3.16+6.64+11.05+21.69+18.23)*1.2 -> 299.77 | H49: =G49-E60 -> 263.77 | J49: =H49*0.06 -> 15.83 | K49: =6.15+5.84+6.53+6.57+3.7+4.31+11.6+23.76+11.78+12.62+23.76+12.25+11.07+23.02+13.03+3.19+6.63+11.01+6.85+2.45+7.32+8.27 -> 221.71 | L49: =K49*0.2*0.02 -> 0.89 | M49: =J49-L49 -> 14.94
A51: 4.3 | B51: > Piso tátil direcional e/ou alerta, de concreto, na cor natural, para deficientes visuais, dimensões 20x20cm, aplicado com argamassa industrializada ac-ii Será a área referente ao desconto do piso tátil das calçadas, cujo somatório do comprimento foi calculado no item anterior: A = 221,71 x 0,20 = 44,34m² | E51: =G51 -> 44.34 | F51: m² | G51: =K49*0.2 -> 44.34
A53: > Rampas de Acessibilidade
A54: 5.1 | B54: > Concreto Fck = 15MPa, traço 1:3,4:3,5 (em massa seca de cimento/ areia média/ brita 1) - preparo mecânico com betoneira 400 L V = (7,50 x 1,20) x 4 = 36,00m² x 0,06m = 2,16m³ Desconto do volume do piso tátil nas rampas: V = [(1,20 x 2 + 1,50 x 1) x 4] x 0,20 x 0,02 = 0,06m³ Total: V = 2,16 - 0,06 = 2,10m³ | E54: =K54 -> 2.1 | F54: m³ | G54: =7.5*N8*M8*0.06 -> 2.16 | H54: =(1.2*2+1.5)*M8 -> 15.6 | J54: =H54*0.2*0.02 -> 0.06 | K54: =G54-J54 -> 2.1 | N54: =(7.5*1.2)*7+5.75+6.31+5.25+6.11+5.71+5.24+5.25+7.18+7.07+5.2+5.25+5.15 -> 132.47 | O54: =N54*0.06 -> 7.95 | P54: =(1.2*3*7+1.05+2.42+1.05+4.76+1.42/2+2+1.05+3+1.05+2.66+1.05+2.01+1.05+3+1.05+1.05+1.05+1.05+1.05+1.05+1.05+2+1.05+2+1.05+2+0.99) -> 68.5 | Q54: =P54*0.2*0.02 -> 0.27 | R54: =P54*0.2 -> 13.7
...

Sheet Fábio Vaz - T2
A1: ESTADO DA PARAIBA
A2: ='[2]Planilha Global'!A2 -> PREFEITURA MUNICIPAL DE MAMANGUAPE | G2: Extensão da rua | H2: 128.16
A4: Memória de Cálculos - Pavimentação | H4: largura | I4: comprimento | J4: área | K4: meio-fio | L4: descidas drenagem | M4: rampas | N4: largura rampa
A6: Rua Fábio Barbosa Vaz (Trecho 02) | H6: 5 | I6: 53.94 | J6: =H6*I6 -> 269.7
A7: Cálculo da área de pavimentação: | J7: 36.58
A8: Trecho 01 - E0 à E2+13,94 (retângulo) | C8: Trecho 02 - 2+13,94 à E3+1,28 | H8: 5 | I8: 66.88 | J8: =H8*I8 -> 334.4 | K8: =5.1+5.14+13.42+13.59+9.57+9.78+17.75+17.91+6.25+1.21+6.79+6.19+2.23+2.22+4.56+64.93+65.86+2.18+2.53 -> 257.21 | L8: =5.68+4.08+6.31+26.94+12.7+10.5+13.15+2.22+7.65+20.38+25.33+25.4+36.7+29.26+18.73+19.08+9.01+14.58+11.42+7.25+4.36+26.66+12.33+10.58+14.04+3.07+7.89+20.45+25.67+25.67+37.03+29.56+19.1+18.96+8.89+14.81+11.96 -> 597.4 | M8: 6 | N8: 1.2
A9: Comprimento: 53,94m | C9: Área determinada através do Cad, informada em | J9: 2.93 | L9: =2.43+3.39+2.31+2.97+2.01+3.07 -> 16.18
A10: Largura: 5,00m | C10: planta: | J10: 1.74
A11: A = 53,94 x 5,00 = 269,70m² | C11: A1 = 36,58m² | J11: 0.37
J12: 0.62
A13: Trecho 03 - E3+1,28 à E6+8,16 (retângulo) | C13: Demais áreas de pavimentação determinadas | J13: =H13*I13 -> 0
A14: Comprimento: 66,88m | C14: através de cad e indicadas em planta: | J14: =H14*I14 -> 0
A15: Largura: 5,00m | C15: A2 = 2,93m² | E15: A4 = 0,37m² | J15: =H15*I15 -> 0
A16: A = 66,88 x 5,00 = 334,40m² | C16: A3 = 1,74m² | E16: A5 = 0,62m² | J16: =SUM(J6:J15) -> 646.34
C17: Atotal = 2,93 + 1,74 + 0,37 + 0,62 = 5,66m²
A19: 1.0 > Serviços Preliminares:
A20: 1.2 | B20: > Locação de pavimentação Estaqueamento (E0 à E6+8,16) = 128,16m | E20: =H2 -> 128.16 | F20: m
A22: 2.0 > Movimento de Terra: | J22: =SUM(J8:J17) -> 986.4
A23: 2.1 | B23: > Regularização e compactação de sub-leito até 20cm de espessura A = 269,70 + 36,58 + 334,40 + 5,66 = 646,34m² | E23: =J16 -> 646.34 | F23: m²
A25: 3.0 > Pavimentação: | J25: =SUM(J11:J17) -> 647.33
A26: 3.1 | B26: > Assentamento de guia (meio-fio) em trecho reto, confeccionada em concreto pré-fabricado, dimensões 100x15x13x30 cm (comprimento x base inferior x base superior x altura), para vias urbanas (uso viário) Comprimento de meio-fio: C = 2,48 + 2,62 + 5,14 + 13,42 + 13,59 + 9,57 + 9,78 + 17,75 + 17,91 + 6,25 + 1,21 + 6,79 + 6,19 + 2,23 + 2,22 + 4,56 + 64,93 + 65,86 + 2,18 + 2,53 = 257,21m | E26: =K8 -> 257.21 | F26: m
A28: 3.2 | B28: > Execução de pavimento em paralelepípedo inclusive colchão de areia rejuntado no traço 1:3 (Cimento e areia) A = 269,70 + 36,58 + 334,40 + 5,66 = 646,34m² | E28: =E23 -> 646.34 | F28: m²
A30: 3.3 | B30: > Assentamento de guia (meio-fio) para cordão de travamento do pavimento, em pedra granítica Para travamento do início e fim do pavimento: C = 6,86 + 8,04 = 14,90m | E30: =6.86+8.04 -> 14.9 | F30: m
A32: 4.0 > Passeios (calçadas)
A33: 4.1 | B33: > Alvenaria de blocos cerâmicos furados na horizontal de 9x19x19 cm (espessura 9 cm) e argamassa de assentamento com preparo manual (para contenção das calçadas) A = (0,72 + 2,53 + 13,29 + 9,52 + 17,97 + 17,71 + 6,13 + 1,24 + 8,90 + 66,13 + 72,26) x 0,20 = 216,40m x 0,20m = 43,28m² | E33: =H33 -> 43.28 | F33: m² | G33: =0.72+2.53+13.29+9.52+17.97+17.71+6.13+1.24+8.9+66.13+72.26 -> 216.4 | H33: =G33*0.2 -> 43.28
A35: 4.2 | B35: > Execução de passeio (calçada) em concreto moldado in loco, feito em obra, acabamento convencional, não armado, espessura 6 cm Obs.: excluindo-se área de rampas, espessuras do meio-fio e volume do piso tátil V = 5,14 x 1,20 / 2 + (0,72 + 1,20) x 2,48 / 2 + (2,62 + 13,42 + 13,59 + 9,57 + 9,78 + 17,75 + 17,91 + 6,25 + 6,79 + 1,21 + 6,19) x 1,20 + (1,20 x 1,20) / 2 + (1,20 x 1,20) / 2 + (4,56 + 64,93 + 65,86) x 1,20 + (1,20 x 1,20) / 2 + (1,20 x 1,20) / 2 = 296,86m² - 54,00m² = 242,72m² x 0,06m = 14,57m³ Desconto do volume do piso tátil nas calçadas: V = (5,12 + 2,58 + 1,59 + 1,67 + 4,26 + 4,39 + 9,54 + 9,76 + 17,73 + 17,98 + 6,82 + 6,19 + 1,27 + 1,22 + 5,92 + 1,94 + 1,35 + 12,10 + 7,04 + 37,02 + 37,22 + 6,67 + 5,89) x 0,20 x 0,02 = 205,27 x 0,20 x 0,02 = 0,82m³ Total: V = 14,57 - 0,82 = 13,75m³ | E35: =M35 -> 13.75 | F35: m³ | G35: =5.14*1.2/2+(0.72+1.2)*2.48/2+(2.62+13.42+13.59+9.57+9.78+17.75+17.91+6.25+6.79+1.21+6.19)*1.2+(1.2*1.2)/2+(1.2*1.2)/2+(4.56+64.93+65.86)*1.2+(1.2*1.2)/2+(1.2*1.2)/2 -> 296.86 | H35: =G35-E46 -> 242.86 | J35: =H35*0.06 -> 14.57 | K35: =5.12+2.58+1.59+1.67+4.26+4.39+9.54+9.76+17.73+17.98+6.82+6.19+1.27+1.22+5.92+1.94+1.35+12.1+7.04+37.02+37.22+6.67+5.89 -> 205.27 | L35: =K35*0.2*0.02 -> 0.82 | M35: =J35-L35 -> 13.75
A37: 4.3 | B37: > Piso tátil direcional e/ou alerta, de concreto, na cor natural, para deficientes visuais, dimensões 20x20cm, aplicado com argamassa industrializada ac-ii Será a área referente ao desconto do piso tátil das calçadas, cujo somatório do comprimento foi calculado no item anterior: A = 205,27 x 0,20 = 41,05m² | E37: =G37 -> 41.05 | F37: m² | G37: =K35*0.2 -> 41.05
A39: 5.0 > Rampas de Acessibilidade
A40: 5.1 | B40: > Concreto Fck = 15MPa, traço 1:3,4:3,5 (em massa seca de cimento/ areia média/ brita 1) - preparo mecânico com betoneira 400 L V = (7,50 x 1,20) x 6 = 54,00m² x 0,06m = 3,24m³ Desconto do volume do piso tátil nas rampas: V = [(1,20 x 2 + 1,50 x 1) x 6] x 0,20 x 0,02 = 0,09m³ Total: V = 3,24 - 0,09 = 3,15m³ | E40: =K40 -> 3.15 | F40: m³ | G40: =7.5*N8*M8*0.06 -> 3.24 | H40: =(1.2*2+1.5)*M8 -> 23.4 | J40: =H40*0.2*0.02 -> 0.09 | K40: =G40-J40 -> 3.15 | N40: =(7.5*1.2)*7+5.75+6.31+5.25+6.11+5.71+5.24+5.25+7.18+7.07+5.2+5.25+5.15 -> 132.47 | O40: =N40*0.06 -> 7.95 | P40: =(1.2*3*7+1.05+2.42+1.05+4.76+1.42/2+2+1.05+3+1.05+2.66+1.05+2.01+1.05+3+1.05+1.05+1.05+1.05+1.05+1.05+1.05+2+1.05+2+1.05+2+0.99) -> 68.5 | Q40: =P40*0.2*0.02 -> 0.27 | R40: =P40*0.2 -> 13.7
A42: 5.2 | B42: > Lançamento com uso de baldes, adensamento e acabamento de concreto em estruturas V = (7,50 x 1,20) x 6 = 54,00m² x 0,06m = 3,24m³ Desconto do volume do piso tátil nas rampas: V = [(1,20 x 2 + 1,50 x 1) x 6] x 0,20 x 0,02 = 0,09m³ Total: V = 3,24 - 0,09 = 3,15m³ | E42: =E40 -> 3.15 | F42: m³
A44: 5.3 | B44: > Piso tátil direcional e/ou alerta, de concreto, na cor natural, para deficientes visuais, dimensões 20x20cm, aplicado com argamassa industrializada ac-ii Rampas: A = [(1,20 x 2 + 1,50 x 1) x 6] x 0,20 = 4,68m² | E44: =G44 -> 4.68 | F44: m² | G44: =(N8*2+1.5)*M8*0.2 -> 4.68
A46: 5.4 | B46: > Pintura de piso com tinta acrílica, aplicação manual, 2 demãos, incluso fundo preparador A = (7,50 x 1,20) x 6 = 54,00m² | E46: =G46 -> 54 | F46: m² | G46: =7.5*N8*M8:M8 -> 54
A48: 6.0 > Sinalização
A49: 6.1 | B49: > Fornecimento e instalação de suporte de madeira para placas de sinalização, em solo, com h= de 2,0 m e seção de 7,5 x 7,5 cm Quantidade = 2 und | E49: 2 | F49: unid
A51: 6.2 | B51: > Placa de advertência em aço, lado de 0,60 m - película retrorrefletiva tipo I + SI, para sinalização vertical - fornecimento e implantação Quantidade = 2 und | E51: 2 | F51: unid
A53: 7.0 > Serviços Complementares
A54: 7.1 | B54: > Pintura de meio-fio com tinta branca a base de cal A = 257,21 x (0,15 + 0,13) = 72,02m² | E54: =E26*(0.15+0.13) -> 72.02 | F54: m² | H54: =#REF!*0.28 -> #REF!
A56: 7.2 | B56: > Placa esmaltada para identificação do nome da rua (45,00 x 20,00 cm): Q = 1 und | E56: 1 | F56: unid | H56: 3.9 | I56: 216
A58: 7.3 | B58: > Fornecimento e instalação de suporte de madeira para placas de identificação de rua, em solo, com h= de 2,0 m e seção de 7,5 x 7,5 cm Q = 1 und | E58: 1 | F58: unid
A60: ESTADO DA PARAIBA
...

Sheet José Vieira - T1
A1: ESTADO DA PARAIBA
A2: ='[2]Planilha Global'!A2 -> PREFEITURA MUNICIPAL DE MAMANGUAPE | G2: Extensão da rua | H2: 112.1
A4: Memória de Cálculos - Pavimentação | H4: largura | I4: comprimento | J4: área | K4: meio-fio | L4: descidas drenagem | M4: rampas | N4: largura rampa
A6: Rua José Vieira (Trecho 01) | H6: =(5.37+5.26)/2 -> 5.315 | I6: 63.93 | J6: =H6*I6 -> 339.79
A7: Cálculo da área de pavimentação: | J7: 0.53
A8: E0 à E3+3,93 (trapézio) | C8: Áreas de curva de meio-fio indicadas em planta | J8: 0.49 | K8: =2.21+2.21+23.16+32.4+37.45+28.88+2.27+2.45 -> 131.03 | L8: =5.68+4.08+6.31+26.94+12.7+10.5+13.15+2.22+7.65+20.38+25.33+25.4+36.7+29.26+18.73+19.08+9.01+14.58+11.42+7.25+4.36+26.66+12.33+10.58+14.04+3.07+7.89+20.45+25.67+25.67+37.03+29.56+19.1+18.96+8.89+14.81+11.96 -> 597.4 | M8: 4 | N8: 1.2
A9: Comprimento: 63,93m | C9: A1 = 0,53m² | E9: A4 = 0,53m² | J9: 0.42 | L9: =2.43+3.39+2.31+2.97+2.01+3.07 -> 16.18
A10: Largura inicio: 5,37m / largura fim: 5,26m | C10: A2 = 0,49m² | J10: 0.53
A11: A = (5,37 + 5,26) x 63,93 / 2 = 339,79m² | C11: A3 = 0,42m² | E11: Atotal = 1,97m² | J11: =SUM(J6:J10) -> 341.76
A13: 1.0 > Serviços Preliminares:
A14: 1.2 | B14: > Locação de pavimentação Estaqueamento (E0 à E3+3,93) = 63,93m | E14: 63.93 | F14: m
A16: 2.0 > Movimento de Terra:
A17: 2.1 | B17: > Regularização e compactação de sub-leito até 20cm de espessura A = 339,79 + 1,97 = 341,76m² | E17: =J11 -> 341.76 | F17: m²
A19: 3.0 > Pavimentação: | J19: =SUM(J11:J12) -> 341.76
A20: 3.1 | B20: > Assentamento de guia (meio-fio) em trecho reto, confeccionada em concreto pré-fabricado, dimensões 100x15x13x30 cm (comprimento x base inferior x base superior x altura), para vias urbanas (uso viário) Comprimento de meio-fio: C = 2,21 + 2,21 + 23,16 + 32,40 + 37,45 + 28,88 + 2,27 + 2,45 = 131,03m | E20: =K8 -> 131.03 | F20: m
A22: 3.2 | B22: > Execução de pavimento em paralelepípedo inclusive colchão de areia rejuntado no traço 1:3 (Cimento e areia) A = 339,79 + 1,97 = 341,76m² | E22: =E17 -> 341.76 | F22: m²
A24: 3.3 | B24: > Assentamento de guia (meio-fio) para cordão de travamento do pavimento, em pedra granítica Para travamento do início e fim do pavimento: C = 5,26m | E24: 5.26 | F24: m
A26: 4.0 > Passeios (calçadas)
A27: 4.1 | B27: > Alvenaria de blocos cerâmicos furados na horizontal de 9x19x19 cm (espessura 9 cm) e argamassa de assentamento com preparo manual (para contenção das calçadas) A = (1,67 + 1,22 + 8,35 + 1,12) x 0,20 = 12,36m x 0,20m = 2,47m² | E27: =H27 -> 2.47 | F27: m² | G27: =1.67+1.22+8.35+1.12 -> 12.36 | H27: =G27*0.2 -> 2.47
A29: 4.2 | B29: > Execução de passeio (calçada) em concreto moldado in loco, feito em obra, acabamento convencional, não armado, espessura 6 cm Obs.: excluindo-se área de rampas, espessuras do meio-fio e volume do piso tátil V = 1,20 x 1,20 / 2 + 1,20 x 1,20 / 2 + (23,16 + 32,40 + 37,45 + 28,88) x 1,20 + 1,20 x 1,20 / 2 + 1,20 x 1,20 / 2 = 149,15m² - 36,00m² = 113,15m² x 0,06m = 6,79m³ Desconto do volume do piso tátil nas calçadas: V = (1,21 + 1,26 + 5,52 + 5,79 + 10,10 + 19,16 + 26,11 + 17,01 + 3,89 + 4,36 + 1,65 + 1,45 + 1,86) x 0,20 x 0,02 = 99,37 x 0,20 x 0,02 = 0,40m³ Total: V = 6,79 - 0,40 = 6,39m³ | E29: =M29 -> 6.39 | F29: m³ | G29: =1.2*1.2/2+1.2*1.2/2+(23.16+32.4+37.45+28.88)*1.2+1.2*1.2/2+1.2*1.2/2 -> 149.15 | H29: =G29-E40 -> 113.15 | J29: =H29*0.06 -> 6.79 | K29: =1.21+1.26+5.52+5.79+10.1+19.16+26.11+17.01+3.89+4.36+1.65+1.45+1.86 -> 99.37 | L29: =K29*0.2*0.02 -> 0.4 | M29: =J29-L29 -> 6.39
A31: 4.3 | B31: > Piso tátil direcional e/ou alerta, de concreto, na cor natural, para deficientes visuais, dimensões 20x20cm, aplicado com argamassa industrializada ac-ii Será a área referente ao desconto do piso tátil das calçadas, cujo somatório do comprimento foi calculado no item anterior: A = 227,24 x 0,20 = 36,57m² | E31: =G31 -> 19.87 | F31: m² | G31: =K29*0.2 -> 19.87
A33: 5.0 > Rampas de Acessibilidade
A34: 5.1 | B34: > Concreto Fck = 15MPa, traço 1:3,4:3,5 (em massa seca de cimento/ areia média/ brita 1) - preparo mecânico com betoneira 400 L V = (7,50 x 1,20) x 4 = 36,00m² x 0,06m = 2,16m³ Desconto do volume do piso tátil nas rampas: V = [(1,20 x 2 + 1,50 x 1) x 4] x 0,20 x 0,02 = 0,06m³ Total: V = 2,16 - 0,06 = 2,10m³ | E34: =K34 -> 2.1 | F34: m³ | G34: =7.5*N8*M8*0.06 -> 2.16 | H34: =(1.2*2+1.5)*M8 -> 15.6 | J34: =H34*0.2*0.02 -> 0.06 | K34: =G34-J34 -> 2.1 | N34: =(7.5*1.2)*7+5.75+6.31+5.25+6.11+5.71+5.24+5.25+7.18+7.07+5.2+5.25+5.15 -> 132.47 | O34: =N34*0.06 -> 7.95 | P34: =(1.2*3*7+1.05+2.42+1.05+4.76+1.42/2+2+1.05+3+1.05+2.66+1.05+2.01+1.05+3+1.05+1.05+1.05+1.05+1.05+1.05+1.05+2+1.05+2+1.05+2+0.99) -> 68.5 | Q34: =P34*0.2*0.02 -> 0.27 | R34: =P34*0.2 -> 13.7
A36: 5.2 | B36: > Lançamento com uso de baldes, adensamento e acabamento de concreto em estruturas V = (7,50 x 1,20) x 4 = 36,00m² x 0,06m = 2,16m³ Desconto do volume do piso tátil nas rampas: V = [(1,20 x 2 + 1,50 x 1) x 4] x 0,20 x 0,02 = 0,06m³ Total: V = 2,16 - 0,06 = 2,10m³ | E36: =E34 -> 2.1 | F36: m³
A38: 5.3 | B38: > Piso tátil direcional e/ou alerta, de concreto, na cor natural, para deficientes visuais, dimensões 20x20cm, aplicado com argamassa industrializada ac-ii Rampas: A = [(1,20 x 2 + 1,50 x 1) x 4] x 0,20 = 3,12m² | E38: =G38 -> 3.12 | F38: m² | G38: =(N8*2+1.5)*M8*0.2 -> 3.12
A40: 5.4 | B40: > Pintura de piso com tinta acrílica, aplicação manual, 2 demãos, incluso fundo preparador A = (7,50 x 1,20) x 4 = 36,00m² | E40: =G40 -> 36 | F40: m² | G40: =7.5*N8*M8:M8 -> 36
A42: 6.0 > Sinalização
A43: 6.1 | B43: > Fornecimento e instalação de suporte de madeira para placas de sinalização, em solo, com h= de 2,0 m e seção de 7,5 x 7,5 cm Quantidade = 2 und | E43: 2 | F43: unid
A45: 6.2 | B45: > Placa de advertência em aço, lado de 0,60 m - película retrorrefletiva tipo I + SI, para sinalização vertical - fornecimento e implantação Quantidade = 2 und | E45: 2 | F45: unid
A47: 7.0 > Serviços Complementares
A48: 7.1 | B48: > Pintura de meio-fio com tinta branca a base de cal A = 131,03 x (0,15 + 0,13) = 36,69m² | E48: =E20*(0.15+0.13) -> 36.69 | F48: m² | H48: =#REF!*0.28 -> #REF!
A50: 7.2 | B50: > Placa esmaltada para identificação do nome da rua (45,00 x 20,00 cm): Q = 1 und | E50: 1 | F50: unid | H50: 3.9 | I50: 216
A52: 7.3 | B52: > Fornecimento e instalação de suporte de madeira para placas de identificação de rua, em solo, com h= de 2,0 m e seção de 7,5 x 7,5 cm Q = 1 und | E52: 1 | F52: unid
A54: ESTADO DA PARAIBA
A55: =A2 -> PREFEITURA MUNICIPAL DE MAMANGUAPE
A57: Planilha Orçamentária Individual - Pavimentação
A58: =A6 -> Rua José Vieira (Trecho 01)
A60: Item | B60: Discriminação dos Serviços | C60: Unid. | D60: Quant. | E60: Preço
E61: Unitário | F61: Total
A62: 1.0 | B62: Serviços Preliminares | F62: =F63 -> 36.44
...

Sheet José Vieira - T2
A1: ESTADO DA PARAIBA
A2: ='[2]Planilha Global'!A2 -> PREFEITURA MUNICIPAL DE MAMANGUAPE | G2: Extensão da rua | H2: 112.1
A4: Memória de Cálculos - Pavimentação | H4: largura | I4: comprimento | J4: área | K4: meio-fio | L4: descidas drenagem | M4: rampas | N4: largura rampa
A6: Rua José Vieira (Trecho 02) | H6: =(7.65+5.46)/2 -> 6.555 | I6: 10 | J6: =H6*I6 -> 65.55
