Workbook
Name \C: [1]Reforma!#REF!
Name \C: [1]Reforma!#REF!
Name \D: [1]Reforma!#REF!
Name \G: [1]Reforma!#REF!
Name \I: [1]Reforma!#REF!
Name \l: #REF!
Name \M: [1]Reforma!#REF!
Name \P: [1]Reforma!#REF!
Name \q: #REF!
Name \R: [1]Reforma!#REF!
Name \s: #REF!
Name \t: #REF!
Name \Y: [1]Reforma!#REF!
Name _: [1]Reforma!#REF!
Name _________sub1: #REF!
Name _________sub3: #REF!
Name ________R: #REF!
Name ________sub1: #REF!
Name ________sub2: #REF!
Name ________sub3: #REF!
Name ________sub4: #REF!
Name _______MDO1: [2]INSUMOS!$C$8
Name _______MDO2: [2]INSUMOS!$C$9
Name _______R: #REF!
Name _______sub1: #REF!
Name _______sub2: #REF!
Name _______sub3: #REF!
Name _______sub4: #REF!
Name ______MDO1: #REF!
Name ______MDO2: #REF!
Name ______R: #REF!
Name ______sub1: #REF!
Name ______sub2: #REF!
Name ______sub3: #REF!
Name ______sub4: #REF!
Name _____MDO1: #REF!
Name _____MDO2: #REF!
Name _____R: #REF!
Name _____sub1: #REF!
Name _____sub2: #REF!
Name _____sub3: #REF!
Name _____sub4: #REF!
Name ____MDO1: #REF!
Name ____MDO2: #REF!
Name ____R: #REF!
Name ____sub1: #REF!
Name ____sub2: #REF!
Name ____sub3: #REF!
Name ____sub4: #REF!
Name ___ELE3: #REF!
Name ___MDO1: #REF!
Name ___MDO2: #REF!
Name ___R: #REF!
Name ___sub1: #REF!
Name ___sub2: #REF!
Name ___sub3: #REF!
Name ___sub4: #REF!
Name ___tot1: #REF!
Name ___tot2: #REF!
Name ___tot3: #REF!

Sheet Encargos
A1: ENCARGOS SOCIAIS
A3: Item | B3: Discriminação | C3: Horista | D3: Mensalista
A4: A | B4: ENCARGOS SOCIAIS BÁSICOS | C4: =SUM(C5:C13) -> 16.8 | D4: =SUM(D5:D13) -> 16.8
A5: A-1 | B5: INSS | C5: 0 | D5: 0
A6: A-2 | B6: SESI | C6: 1.5 | D6: 1.5
A7: A-3 | B7: SENAI | C7: 1 | D7: 1
A8: A-4 | B8: INCRA | C8: 0.2 | D8: 0.2
A9: A-5 | B9: SEBRAE | C9: 0.6 | D9: 0.6
A10: A-6 | B10: SALÁRIO EDUCAÇÃO | C10: 2.5 | D10: 2.5
A11: A-7 | B11: SEGURO CONTRA ACIDENTES DE TRABALHO | C11: 3 | D11: 3
A12: A-8 | B12: FGTS | C12: 8 | D12: 8
A13: A-9 | B13: SECONCI | C13: 0 | D13: 0
A14: B | B14: ENCARGOS SOCIAIS QUE RECEBEM AS INCIDÊNCIAS DE "A" | C14: =SUM(C15:C25) -> 50.51 | D14: =SUM(D15:D25) -> 20.28
A15: B-1 | B15: REPOUSO SEMANAL REMUNERADO | C15: 18.01 | D15: 0
A16: B-2 | B16: FERIADOS | C16: 4.3 | D16: 0
A17: B-3 | B17: AUXILIO - ENFERMIDADE | C17: 0.87 | D17: 0.67
A18: B-4 | B18: 13º SALARIO | C18: 10.78 | D18: 8.33
A19: B-5 | B19: LICENÇA PATERNIDADE | C19: 0.07 | D19: 0.06
A20: B-6 | B20: FALTAS JUSTIFICADAS | C20: 0.72 | D20: 0.56
A21: B-7 | B21: DIAS DE CHUVAS | C21: 1.98 | D21: -
A22: B-8 | B22: AUXILIO ACIDENTE DE TRABALHO | C22: 0.11 | D22: 0.08
A23: B-9 | B23: FÉRIAS GOZADAS | C23: 13.64 | D23: 10.55
A24: B-10 | B24: SALÁRIO MATERNIDADE | C24: 0.03 | D24: 0.03
A26: C | B26: ENCARGOS SOCIAIS QUE NÃO RECEBEM AS INCIDÊNCIAS DE "A" | C26: =SUM(C27:C32) -> 9.52 | D26: =SUM(D27:D32) -> 7.38
A27: C-1 | B27: AVISO PRÉVIO INDENIZADO | C27: 4.45 | D27: 3.45
A28: C-2 | B28: AVISO PRÉVIO TRABALHADO | C28: 0.1 | D28: 0.08
A29: C-3 | B29: FÉRIAS INDENIZADAS | C29: 0.5 | D29: 0.39
A30: C-4 | B30: DEPÓSITO RECISÃO SEM JUSTA CAUSA | C30: 4.1 | D30: 3.17
A31: C-5 | B31: INDENIZAÇÃO ADICIONAL | C31: 0.37 | D31: 0.29
A33: D | B33: TAXAS DE REINCIDÊNCIAS DE UM GRUPO SOBRE O OUTRO | C33: =SUM(C34:C37) -> 8.86 | D33: =SUM(D34:D37) -> 3.7
A34: D-1 | B34: REINCIDENCIA DE GRUPO A SOBRE GRUPO B | C34: 8.49 | D34: 3.41
A35: D-2 | B35: REINCIDENCIA DE GRUPO A SOBRE AVISO PRÉVIO TRABALHADO E REINCIDENCIA DO FGTS SOBRE AVISO PRÉVIO INDENIZADO | C35: 0.37 | D35: 0.29
B38: TOTAL GERAL | C38: =C33+C26+C14+C4 -> 85.69 | D38: =D33+D26+D14+D4 -> 48.16
A39: ENCARGOS SOCIAIS - NÃO DESONERADO
A41: Item | B41: Discriminação | C41: Horista | D41: Mensalista
A42: A | B42: ENCARGOS SOCIAIS BÁSICOS | C42: =SUM(C43:C51) -> 36.8 | D42: =SUM(D43:D51) -> 36.8
A43: A-1 | B43: INSS | C43: 20 | D43: 20
A44: A-2 | B44: SESI | C44: 1.5 | D44: 1.5
A45: A-3 | B45: SENAI | C45: 1 | D45: 1
A46: A-4 | B46: INCRA | C46: 0.2 | D46: 0.2
...

Sheet BDI
A3: (*) | B3: PROGRAMA:
A4: (*) | B4: CONCEDENTE:
A5: (*) | B5: CONVENENTE: | C5: PREFEITURA MUNICIPAL DE LUCENA
B6: CONTRATO:
B7: OBRA: | C7: CONSTRUÇÃO DA CRECHE PROINFANCIA FNDE
A8: (*) | B8: REF. PREÇOS: | C8: SINAPI 12/2024
B9: DESONERADO: | C9: NÃO
B11: CÁLCULO DA BONIFICAÇÃO E DESPESAS INDIRETAS
B13: CÁLCULO DE BDI | D13: 1 - Edificações | G13: 2 - Rodovias, Ferrovias, Pistas de Aeroportos, Infra Viária Urbana | J13: 3 - Abastecimento de Água, Coleta de Esgoto | M13: 4 - Estações e Redes de Distribuição de Energia Elétrica | P13: 5 - Portuárias, Marítimas e Fluviais | S13: 6 - Fornecimento de Materiais e Equipamentos
B14: Item componente do BDI | C14: % Info | D14: 1ºQ | E14: Médio | F14: 3º Q | G14: 1ºQ | H14: Médio | I14: 3º Q | J14: 1ºQ | K14: Médio | L14: 3º Q | M14: 1ºQ | N14: Médio | O14: 3º Q | P14: 1ºQ | Q14: Médio | R14: 3º Q | S14: 1ºQ | T14: Médio | U14: 3º Q
B15: Administração Central ( AC ) | C15: 3 | D15: 3 | E15: 4 | F15: 5.5 | G15: 3.8 | H15: 4.01 | I15: 4.67 | J15: 3.43 | K15: 4.93 | L15: 6.71 | M15: 5.29 | N15: 5.92 | O15: 7.93 | P15: 4 | Q15: 5.52 | R15: 7.85 | S15: 1.5 | T15: 3.45 | U15: 4.49
B16: Seguro e Garantia (G) | C16: 0.8 | D16: 0.8 | E16: 0.8 | F16: 1 | G16: 0.32 | H16: 0.4 | I16: 0.74 | J16: 0.28 | K16: 0.49 | L16: 0.75 | M16: 0.25 | N16: 0.51 | O16: 0.56 | P16: 0.81 | Q16: 1.22 | R16: 1.99 | S16: 0.3 | T16: 0.48 | U16: 0.82
B17: Risco (R) | C17: 1.27 | D17: 0.97 | E17: 1.27 | F17: 1.27 | G17: 0.5 | H17: 0.56 | I17: 0.97 | J17: 1 | K17: 1.39 | L17: 1.74 | M17: 1 | N17: 1.48 | O17: 1.97 | P17: 1.46 | Q17: 2.32 | R17: 3.16 | S17: 0.56 | T17: 0.85 | U17: 0.89
B18: Despesas Financeiras (DF) | C18: 1.23 | D18: 0.59 | E18: 1.23 | F18: 1.39 | G18: 1.02 | H18: 1.11 | I18: 1.21 | J18: 0.94 | K18: 0.99 | L18: 1.17 | M18: 1.01 | N18: 1.07 | O18: 1.11 | P18: 0.94 | Q18: 1.02 | R18: 1.33 | S18: 0.85 | T18: 0.85 | U18: 1.11
B19: Lucro (L) | C19: 6.5 | D19: 6.16 | E19: 7.4 | F19: 8.96 | G19: 6.64 | H19: 7.3 | I19: 8.69 | J19: 6.74 | K19: 8.04 | L19: 9.4 | M19: 8 | N19: 8.31 | O19: 9.51 | P19: 7.14 | Q19: 8.4 | R19: 10.43 | S19: 3.5 | T19: 5.11 | U19: 6.22
B20: Impostos (I) - PIS, COFINS, CPRB, ISSQN | C20: =0.65+3+2.5 -> 6.15 | D20: Conforme Legislação Específica
B21: Observações | G21: VALORES DE BDI POR TIPO DE OBRA
B22: 1) Preencher apenas a coluna % Informado (Coluna C) | G22: Tipo de Obra | M22: 1ºQ | N22: Médio | O22: 3º Q
G23: 1 - Edificações | M23: 20.34 | N23: 22.12 | O23: 25
G24: 2 - Rodovias, Ferrovias, Pistas de Aeroportos, Infra Viária Urbana | M24: 19.6 | N24: 20.97 | O24: 24.23 | V24: =50000-25000 -> 25000
B25: 3) O cálculo do BDI se baseia na fórmula abaixo utilizada pelo Acórdão 2622/13 do TCU, conforme CE GEPAD 354/2013 de 17/10/2013. | G25: 3 - Abastecimento de Água, Coleta de Esgotos | M25: 20.76 | N25: 24.18 | O25: 26.44 | V25: =25000*0.4 -> 10000
G26: 4 - Estações e Redes de Distribuição de Energia Elétrica | M26: 24 | N26: 25.84 | O26: 27.86
G27: 5 - Portuárias, Marítimas e Fluviais | M27: 22.8 | N27: 27.48 | O27: 30.95
B28: Fórmula Utilizada: | G28: 6 - Fornecimento de Materiais e Equipamentos | M28: 11.1 | N28: 14.02 | O28: 16.8
B32: B.D.I = | C32: =ROUND(((1+(C15+C16+C17)/100)*((1+C18/100)*(1+C19/100))/(1-C20/100))-1,4) -> 0.207
B33: Observações sobre os % informados no cálculo do BDI, neste caso:
B34: Edificações (obra tipo 1)
B35: Os valores % informados se enquadram nos limites do Acordão 2622/2013-TCU-Plenário | U35: PROJETO: Lincoln Cartaxo de Lira Júnior – Eng° Civil CREA 160 814 689 - 8 – Tel. (83) 9 9924 4447
C37: =#REF! -> #REF! | G37: =Resumo_Pavim!#REF! -> #REF!

Sheet BDI fornecimento
A3: (*) | B3: PROGRAMA: | C3: =#REF! -> #REF!
A4: (*) | B4: CONCEDENTE: | C4: =#REF! -> #REF!
A5: (*) | B5: CONVENENTE: | C5: =#REF! -> #REF!
B6: CONTRATO: | C6: =#REF! -> #REF!
B7: OBRA: | C7: =#REF! -> #REF!
A8: (*) | B8: REF. PREÇOS: | C8: =CONCATENATE("SINAPI PB - ",RIGHT(#REF!,7)) -> #REF!
B9: DESONERADO: | C9: =IF(SEARCH("desonerados",#REF!)>0,"Sim","Não") -> #REF!
B11: CÁLCULO DA BONIFICAÇÃO E DESPESAS INDIRETAS
B13: CÁLCULO DE BDI | D13: 1 - Edificações | G13: 2 - Rodovias, Ferrovias, Pistas de Aeroportos, Infra Viária Urbana | J13: 3 - Abastecimento de Água, Coleta de Esgoto | M13: 4 - Estações e Redes de Distribuição de Energia Elétrica | P13: 5 - Portuárias, Marítimas e Fluviais | S13: 6 - Fornecimento de Materiais e Equipamentos
B14: Item componente do BDI | C14: % Info | D14: 1ºQ | E14: Médio | F14: 3º Q | G14: 1ºQ | H14: Médio | I14: 3º Q | J14: 1ºQ | K14: Médio | L14: 3º Q | M14: 1ºQ | N14: Médio | O14: 3º Q | P14: 1ºQ | Q14: Médio | R14: 3º Q | S14: 1ºQ | T14: Médio | U14: 3º Q
B15: Administração Central ( AC ) | C15: 1.5 | D15: 3 | E15: 4 | F15: 5.5 | G15: 3.8 | H15: 4.01 | I15: 4.67 | J15: 3.43 | K15: 4.93 | L15: 6.71 | M15: 5.29 | N15: 5.92 | O15: 7.93 | P15: 4 | Q15: 5.52 | R15: 7.85 | S15: 1.5 | T15: 3.45 | U15: 4.49
B16: Seguro e Garantia (G) | C16: 0.3 | D16: 0.8 | E16: 0.8 | F16: 1 | G16: 0.32 | H16: 0.4 | I16: 0.74 | J16: 0.28 | K16: 0.49 | L16: 0.75 | M16: 0.25 | N16: 0.51 | O16: 0.56 | P16: 0.81 | Q16: 1.22 | R16: 1.99 | S16: 0.3 | T16: 0.48 | U16: 0.82
B17: Risco (R) | C17: 0.55 | D17: 0.97 | E17: 1.27 | F17: 1.27 | G17: 0.5 | H17: 0.56 | I17: 0.97 | J17: 1 | K17: 1.39 | L17: 1.74 | M17: 1 | N17: 1.48 | O17: 1.97 | P17: 1.46 | Q17: 2.32 | R17: 3.16 | S17: 0.56 | T17: 0.85 | U17: 0.89
B18: Despesas Financeiras (DF) | C18: 0.59 | D18: 0.59 | E18: 1.23 | F18: 1.39 | G18: 1.02 | H18: 1.11 | I18: 1.21 | J18: 0.94 | K18: 0.99 | L18: 1.17 | M18: 1.01 | N18: 1.07 | O18: 1.11 | P18: 0.94 | Q18: 1.02 | R18: 1.33 | S18: 0.85 | T18: 0.85 | U18: 1.11
B19: Lucro (L) | C19: 3.5 | D19: 6.16 | E19: 7.4 | F19: 8.96 | G19: 6.64 | H19: 7.3 | I19: 8.69 | J19: 6.74 | K19: 8.04 | L19: 9.4 | M19: 8 | N19: 8.31 | O19: 9.51 | P19: 7.14 | Q19: 8.4 | R19: 10.43 | S19: 3.5 | T19: 5.11 | U19: 6.22
B20: Impostos (I) - PIS, COFINS, CPRB, ISSQN | C20: =3+2.5 -> 5.5 | D20: Conforme Legislação Específica
B21: Observações | G21: VALORES DE BDI POR TIPO DE OBRA
B22: 1) Preencher apenas a coluna % Informado (Coluna C) | G22: Tipo de Obra | M22: 1ºQ | N22: Médio | O22: 3º Q
B23: =CONCATENATE("2) Os impostos (I) normalmente aplicáveis são: PIS (0,65%), COFINS (3,00%), CPRB (4,5%), ISS (2,5% ",#REF!,").") -> #REF! | G23: 1 - Edificações | M23: 20.34 | N23: 22.12 | O23: 25
G24: 2 - Rodovias, Ferrovias, Pistas de Aeroportos, Infra Viária Urbana | M24: 19.6 | N24: 20.97 | O24: 24.23
B25: 3) O cálculo do BDI se baseia na fórmula abaixo utilizada pelo Acórdão 2622/13 do TCU, conforme CE GEPAD 354/2013 de 17/10/2013. | G25: 3 - Abastecimento de Água, Coleta de Esgotos | M25: 20.76 | N25: 24.18 | O25: 26.44
G26: 4 - Estações e Redes de Distribuição de Energia Elétrica | M26: 24 | N26: 25.84 | O26: 27.86
G27: 5 - Portuárias, Marítimas e Fluviais | M27: 22.8 | N27: 27.48 | O27: 30.95
B28: Fórmula Utilizada: | G28: 6 - Fornecimento de Materiais e Equipamentos | M28: 11.1 | N28: 14.02 | O28: 16.8
B32: B.D.I = | C32: =ROUND(((1+(C15+C16+C17)/100)*((1+C18/100)*(1+C19/100))/(1-C20/100))-1,4) -> 0.1276
B33: Observações sobre os % informados no cálculo do BDI, neste caso:
B34: PAVIMENTAÇÃO E DRENAGEM DE VIAS URBANAS (obra tipo 2)
B35: Os valores % informados se enquadram nos limites do Acordão 2622/2013-TCU-Plenário (CPRB desconsiderado) | U35: PROJETO: Lincoln Cartaxo de Lira Júnior – Eng° Civil CREA 160 814 689 - 8 – Tel. (83) 9 9924 4447
C37: =#REF! -> #REF! | G37: =Resumo_Pavim!#REF! -> #REF!

Sheet relatorio Conde 
A6: PROJETOS MUNICÍPIO DO CONDE-PB
A7: Item | B7: Descrição do Convênio | C7: Valor | D7: Status | E7: Providências
A8: 1.1 | B8: Construção de Portal, no Município de Conde-PB- Recursos Próprios | C8: 303343.02 | D8: Entregue | E8: -
A9: 1.2 | B9: Reforma da UPA | C9: Não definido | D9: Entregamos os projetos Hidrosanitário, Climatização, Incêndio e Gases Medicinais. Orçamento em andamento | E9: Falta o Projeto elétrico, equipe do Município está elaborando.
A10: 1.3 | B10: Construção de Portal, no Município de Conde e Tambaba-PB - Convênio do Governo do Estado | C10: 136015.08 | D10: Entregue | E10: -
A11: 1.4 | B11: PAVIMENTAÇÃO EM PARALELEPÍPEDO E DRENAGEM NO MUNICÍPIO DO CONDE - PB | C11: 1155000 | D11: Em andamento | E11: -

Sheet Resumo_Pavim
B1: Área Total da faixa de rolamento (m2): | D1: =SUMPRODUCT(C16:C17,D16:D17) -> 1921 | E1: (Inserir na ART)
A3: PROGRAMA: | C3: =BDI!C3 -> 0
A4: CONCEDENTE: | C4: =BDI!C4 -> 0
A5: CONVENENTE: | C5: =BDI!C5 -> PREFEITURA MUNICIPAL DE LUCENA
A6: CONTRATO: | C6: =BDI!C6 -> 0
A7: OBRA: | C7: =BDI!C7 -> CONSTRUÇÃO DA CRECHE PROINFANCIA FNDE
A8: REF. PREÇOS: | C8: =BDI!C8 -> SINAPI 12/2024
A9: DESONERADO: | C9: =BDI!C9 -> NÃO
A11: QUADRO RESUMO DE QUANTITATIVOS A SEREM EXECUTADOS NAS RUAS
A13: Item | B13: Logradouro | C13: Comprimento | D13: Largura faixa rolamento | E13: Largura passeio início | F13: Largura passeio fim | G13: Área Média | H13: Sinalização vertical | I13: Placa de rua | J13: Rampa de acessibilidade | K13: Cinturão travamento | L13: Cinturão fechamento | M13: Obs.
C14: m | D14: m | E14: m | F14: m | G14: m2 | H14: und | I14: und | J14: und | K14: und | L14: und | T14: =20*8+6.224 -> 166.224
A15: TOTAL | C15: =SUM(C16:C17) -> 346 | G15: =SUM(G16:G18) -> 3131.57 | H15: =SUM(H16:H18) -> 6 | I15: =SUM(I16:I18) -> 6 | J15: =SUM(J16:J18) -> 12 | K15: =SUM(K16:K18) -> 6 | L15: =SUM(L16:L18) -> 6 | N15: Estimativa ACONTR da Bacia | O15: CALÇADA | Q15: RUA
A16: 1 | B16: RUA PROJETADA A | C16: 155 | D16: 5 | E16: 1.2 | F16: 1.2 | G16: =((E16+F16)/2+D16/2)*2*C16 -> 1147 | H16: 2 | I16: 2 | J16: 4 | K16: 2 | L16: 2 | N16: =ROUND(G16*1.1,0) -> 1262 | O16: =AVERAGE(E16:F16) -> 1.2 | Q16: =D16/2 -> 2.5
A17: 2 | B17: RUA SEBASTIÃO RIBEIRO DA SILVA | C17: 191 | D17: 6 | E17: 1.2 | F17: 1.2 | G17: 195.37 | H17: 2 | I17: 2 | J17: 4 | K17: 2 | L17: 2 | N17: =ROUND(G17*1.1,0) -> 215 | O17: =AVERAGE(E17:F17) -> 1.2 | Q17: =D17/2 -> 3
A18: 3 | B18: RUA PROJETADA C | C18: 213 | D18: 6 | E18: 1.2 | F18: 1.2 | G18: =((E18+F18)/2+D18/2)*2*C18 -> 1789.2 | H18: 2 | I18: 2 | J18: 4 | K18: 2 | L18: 2 | N18: =ROUND(G18*1.1,0) -> 1968 | O18: =AVERAGE(E18:F18) -> 1.2 | Q18: =D18/2 -> 3
A19: 4 | B19: RUA FELINTO SEBASTIÃO DA SILVA | C19: 49 | D19: 6 | E19: 1.2 | F19: 1.2 | G19: =((E19+F19)/2+D19/2)*2*C19 -> 411.6 | H19: 2 | I19: 2 | J19: 4 | K19: 2 | L19: 2 | N19: =ROUND(G19*1.1,0) -> 453 | O19: =AVERAGE(E19:F19) -> 1.2 | Q19: =D19/2 -> 3
A20: 5 | B20: RUA ANTONIO MAXIMINO RODRIGUES | C20: 87 | D20: 5 | E20: 1.2 | F20: 1.2 | G20: =((E20+F20)/2+D20/2)*2*C20 -> 643.8 | H20: 2 | I20: 2 | J20: 4 | K20: 2 | L20: 2 | N20: =ROUND(G20*1.1,0) -> 708 | O20: =AVERAGE(E20:F20) -> 1.2 | Q20: =D20/2 -> 2.5
A21: 6 | B21: RUA JOÃO LUIZ DE OLIVEIRA | C21: 107 | D21: 6 | E21: 1.2 | F21: 1.2 | G21: =((E21+F21)/2+D21/2)*2*C21 -> 898.8 | H21: 2 | I21: 2 | J21: 4 | K21: 2 | L21: 2 | N21: =ROUND(G21*1.1,0) -> 989 | O21: =AVERAGE(E21:F21) -> 1.2 | Q21: =D21/2 -> 3
A22: 7 | B22: RUA TOMAZ DA SILVA (ZÉ BAÊTA) | C22: 69 | D22: 5.5 | E22: 1.2 | F22: 1.2 | G22: =((E22+F22)/2+D22/2)*2*C22 -> 545.1 | H22: 2 | I22: 2 | J22: 4 | K22: 2 | L22: 2 | N22: =ROUND(G22*1.1,0) -> 600 | O22: =AVERAGE(E22:F22) -> 1.2 | Q22: =D22/2 -> 2.75

Sheet Dados_Intesidade
A1: Nome | B1: Latitude | C1: Longitude | D1: N* | E1: Período | F1: B | G1: n | H1: m | I1: K
A2: Antenor Navarro | B2: 6°44’ | C2: 38°27’ | D2: 30 | E2: (65-94) | F2: 15 | G2: 0.693 | H2: 0.161 | I2: 936
A3: Barra de Santa Rosa | B3: 6°43’ | C3: 36°04’ | D3: 17 | E3: (65-89) | F3: 16 | G3: 0.786 | H3: 0.277 | I3: 765
A4: Bonito de Santa Fé | B4: 7°19’ | C4: 38°31’ | D4: 15 | E4: (67-94) | F4: 10 | G4: 0.729 | H4: 0.181 | I4: 813
A5: Campina Grande | B5: 7°14’ | C5: 35°52’ | D5: 11 | E5: (66-89) | F5: 5 | G5: 0.596 | H5: 0.227 | I5: 334
A6: Catolé do Rocha | B6: 6°21’ | C6: 37°45’ | D6: 27 | E6: (63-92) | F6: 13 | G6: 0.566 | H6: 0.095 | I6: 708
A7: Guarabira | B7: 6°50’ | C7: 35°29’ | D7: 12 | E7: (65-81) | F7: 5 | G7: 0.536 | H7: 0.239 | I7: 246
A8: Taperoá | B8: 7°12’ | C8: 36°50’ | D8: 15 | E8: (63-93) | F8: 7 | G8: 0.497 | H8: 0.074 | I8: 342
A9: Teixeira | B9: 7°13’ | C9: 37°15’ | D9: 17 | E9: (63-85) | F9: 18 | G9: 0.604 | H9: 0.16 | I9: 877
A10: Seridó | B10: 6°51’ | C10: 36°25’ | D10: 16 | E10: (79-94) | F10: 8 | G10: 0.543 | H10: 0.168 | I10: 492
A11: Itaporanga | B11: 7°19’ | C11: 38°09’ | D11: 12 | E11: (65-83) | F11: 15 | G11: 0.58 | H11: 0.083 | I11: 527
A12: João Pessoa | B12: 7°08’ | C12: 34°53’ | D12: 6 | E12: (81-86) | F12: 10 | G12: 0.398 | H12: 0.087 | I12: 290
A13: Monteiro | B13: 7°52’ | C13: 37°07’ | D13: 9 | E13: (67-86) | F13: 15 | G13: 0.724 | H13: 0.295 | I13: 302
... A16: São Gonçalo | B16: 6°50’ | C16: 38°19’ | D16: 7 | E16: (81-87) | F16: 7 | G16: 0.651 | H16: 0.301 | I16: 352

Sheet DADOS
A1: =OFFSET(A1,-1,0)+1 -> #REF! | J1: =CONCATENATE(A1,"-",B1) -> #REF!
A2: 27477 | B2: PLE - Planilha de Levantamento de Eventos
A3: v006
A6: Nº OPERAÇÃO | B6: Nº SICONV | C6: GIGOV | D6: GESTOR | E6: PROGRAMA | F6: AÇÃO / MODALIDADE | H6: DATA ASSINATURA
A7: =#REF! -> #REF! | B7: =#REF! -> #REF! | C7: =#REF! -> #REF! | D7: =#REF! -> #REF! | E7: =#REF! -> #REF! | F7: =#REF! -> #REF! | H7: =#REF! -> #REF!
A9: PROPONENTE / TOMADOR | D9: MUNICÍPIO / UF | E9: LOCALIDADE / ENDEREÇO | F9: OBJETO
A10: =#REF! -> #REF! | D10: =#REF! -> #REF! | E10: =#REF! -> #REF! | F10: =#REF! -> #REF!
A12: Nº CTEF | B12: EMPRESA EXECUTORA | D12: CNPJ | E12: OBJETO DO CTEF | H12: INÍCIO DA OBRA
A18: RESPONSÁVEIS TÉCNICOS:
A19: Elaboração do documento | C19: CREA/CAU
A20: =#REF! -> #REF! | C20: =#REF! -> #REF!
A22: Fiscalização | C22: CREA/CAU | D22: ART/RRT
A25: Execução | C25: CREA/CAU | D25: ART/RRT
A28: REPRESENTANTE TOMADOR / AG. PROMOTOR / TOMADOR
A29: Nome | C29: Cargo
A32: EVENTOS
A33: Núm do Evento | B33: Título do Evento
A34: 1 | B34: Administração Local | J34: =CONCATENATE(A34,"-",B34) -> 1-Administração Local
A35: =OFFSET(A35,-1,0)+1 -> 2 | B35: PAVIMENTAÇÃO | J35: =CONCATENATE(A35,"-",B35) -> 2-PAVIMENTAÇÃO
A36: =OFFSET(A36,-1,0)+1 -> 3 | B36: CALÇADA | J36: =CONCATENATE(A36,"-",B36) -> 3-CALÇADA
A39: INSTRUÇÕES DE USO E PREENCHIMENTO
A41: Informações gerais:
A43: 1. Este documento somente pode ser utilizado nas versões do Excel 2003 ou superior. Não devem ser utilizadas versões do BROffice.
A45: 2. Para funcionamento pleno desse arquivo, a Segurança de Macros do Excel deve ser habilitada.
A47: a. Na Versão Excel 2003, selecione na Faixa de Opções: Ferramentas --> Macro --> Segurança --> Na aba Nível de Segurança selecione a Opção "Baixo" --> Clique em OK --> Feche e abra o Excel novamente para utilizar a Planilha.
A48: b. Na Versão Excel 2007 ou superior, selecione na Faixa de Opções: Arquivo --> Opções --> Central de Confiabilidade --> Configurações da Central de Confiabilidade --> Configurações de Macro --> Habilitar todas as Macros --> Clique em OK --> Feche e abra o excel novamente para utilizar a Planilha.
A50: 3. O Preenchimento deve ser feito somente nas células em amarelo. As demais células são de preenchimento Automático e estão bloqueadas para edição.
A52: Instruções de preenchimento:
A54: Aba DADOS
A56: 1º passo: Na aba Dados, preencher os dados do contrato e identificação dos responsáveis;
A58: 2º passo: Incluir e nomear os eventos (pode ser alterado posteriormente também);
A60: Aba EVENTOGRAMA E QUANTITATIVOS
... A124: VT - VITORIA

Sheet Eventograma_e_Quantitativos
B1: =ROW(Nível)-ROW(LIorçamento)+1 -> -17 | C1: =IF(D1="","",IF(ISNUMBER(VALUE(D1)),"Meta",IF(AND(F1<>"",I1<>""),"Serviço","Nível"))) | G1: =IF(Nível="Serviço",SUMIF($N$15:$BK$15,"<>"&"",N1:BK1),"") | H1: =IF(AND(ISNUMBER(G1),G1<>0),I1/G1,IF(G1=0,0,"")) | K1: =IF(L1="","",VALUE(LEFT(L1,(FIND("-",L1,1))-1))) | BM1: =IF(N$15="",0,IF(ISNUMBER(PreçoUnit),PreçoUnit*INDEX(Import.PLQ,$B1,BM$16),0)) -> #REF! | BN1: =IF(O$15="",0,IF(ISNUMBER(PreçoUnit),PreçoUnit*INDEX(Import.PLQ,$B1,BN$16),0)) -> #REF! | BO1: =IF(P$15="",0,IF(ISNUMBER(PreçoUnit),PreçoUnit*INDEX(Import.PLQ,$B1,BO$16),0)) -> #REF! | BP1: =IF(Q$15="",0,IF(ISNUMBER(PreçoUnit),PreçoUnit*INDEX(Import.PLQ,$B1,BP$16),0)) -> #REF! | BQ1: =IF(R$15="",0,IF(ISNUMBER(PreçoUnit),PreçoUnit*INDEX(Import.PLQ,$B1,BQ$16),0)) -> 0 | BR1: =IF(S$15="",0,IF(ISNUMBER(PreçoUnit),PreçoUnit*INDEX(Import.PLQ,$B1,BR$16),0)) -> 0 | BS1: =IF(T$15="",0,IF(ISNUMBER(PreçoUnit),PreçoUnit*INDEX(Import.PLQ,$B1,BS$16),0)) -> 0 | BT1: =IF(U$15="",0,IF(ISNUMBER(PreçoUnit),PreçoUnit*INDEX(Import.PLQ,$B1,BT$16),0)) -> 0 | ... DJ1: =IF(BK$15="",0,IF(ISNUMBER(PreçoUnit),PreçoUnit*INDEX(Import.PLQ,$B1,DJ$16),0)) -> 0 | DK1: =IF(D1="",0,IF(ISNUMBER(VALUE(D1)),VALUE(D1),LEFT(D1,FIND(".",D1)-1))) -> 0 | DL1: =SUM(DM1:FJ1) -> 0 | DM1: =IF($K1<>1,IF(ISNUMBER(INDEX(Import.PLE,$K1,DM$16)),IF(INDEX(Import.PLE,$K1,DM$16)<=mediçao,BM1,0),0),PLE!$AA$28*BM1) -> 0 | DN1: =IF($K1<>1,IF(ISNUMBER(INDEX(Import.PLE,$K1,DN$16)),IF(INDEX(Import.PLE,$K1,DN$16)<=mediçao,BN1,0),0),PLE!$AA$28*BN1) -> 0 | DO1: =IF($K1<>1,IF(ISNUMBER(INDEX(Import.PLE,$K1,DO$16)),IF(INDEX(Import.PLE,$K1,DO$16)<=mediçao,BO1,0),0),PLE!$AA$28*BO1) -> 0 | DP1: =IF($K1<>1,IF(ISNUMBER(INDEX(Import.PLE,$K1,DP$16)),IF(INDEX(Import.PLE,$K1,DP$16)<=mediçao,BP1,0),0),PLE!$AA$28*BP1) -> 0 | DQ1: =IF($K1<>1,IF(ISNUMBER(INDEX(Import.PLE,$K1,DQ$16)),IF(INDEX(Import.PLE,$K1,DQ$16)<=mediçao,BQ1,0),0),PLE!$AA$28*BQ1) -> 0 | DR1: =IF($K1<>1,IF(ISNUMBER(INDEX(Import.PLE,$K1,DR$16)),IF(INDEX(Import.PLE,$K1,DR$16)<=mediçao,BR1,0),0),PLE!$AA$28*BR1) -> 0 | DS1: =IF($K1<>1,IF(ISNUMBER(INDEX(Import.PLE,$K1,DS$16)),IF(INDEX(Import.PLE,$K1,DS$16)<=mediçao,BS1,0),0),PLE!$AA$28*BS1) -> 0 | DT1: =IF($K1<>1,IF(ISNUMBER(INDEX(Import.PLE,$K1,DT$16)),IF(INDEX(Import.PLE,$K1,DT$16)<=mediçao,BT1,0),0),PLE!$AA$28*BT1) -> 0 | ... FJ1: =IF($K1<>1,IF(ISNUMBER(INDEX(Import.PLE,$K1,FJ$16)),IF(INDEX(Import.PLE,$K1,FJ$16)<=mediçao,DJ1,0),0),PLE!$AA$28*DJ1) -> 0
B3: =ROW(Nível)-ROW(LIorçamento)+1 -> -15 | C3: Evento | D3: Evento | E3: =INDEX(Eventos,K3,2) -> #VALUE! | F3: R$ | G3: =IF(Nível="Serviço",SUMIF($N$15:$BK$15,"<>"&"",N3:BK3),"") | H3: =IF(AND(ISNUMBER(G3),G3<>0),I3/G3,IF(G3=0,0,"")) | I3: =SUM(N3:BK3) -> #REF! | K3: =INDEX(Eventos,ROW(Nível)-ROW(LForçamento),1) -> #VALUE! | L3: =IF(AND(NumEvento<>"",Nível="Serviço"),INDEX(Eventos,NumEvento,2),"") -> #VALUE! | N3: =IF(N$15="",0,SUMIF(Import.numEventos,$K3,OFFSET(PreçoServiçoPorFrente,0,N$16-1,,1))) -> #REF! | O3: =IF(O$15="",0,SUMIF(Import.numEventos,$K3,OFFSET(PreçoServiçoPorFrente,0,O$16-1,,1))) -> #REF! | P3: =IF(P$15="",0,SUMIF(Import.numEventos,$K3,OFFSET(PreçoServiçoPorFrente,0,P$16-1,,1))) -> #REF! | Q3: =IF(Q$15="",0,SUMIF(Import.numEventos,$K3,OFFSET(PreçoServiçoPorFrente,0,Q$16-1,,1))) -> #REF! | R3: =IF(R$15="",0,SUMIF(Import.numEventos,$K3,OFFSET(PreçoServiçoPorFrente,0,R$16-1,,1))) -> 0 | S3: =IF(S$15="",0,SUMIF(Import.numEventos,$K3,OFFSET(PreçoServiçoPorFrente,0,S$16-1,,1))) -> 0 | T3: =IF(T$15="",0,SUMIF(Import.numEventos,$K3,OFFSET(PreçoServiçoPorFrente,0,T$16-1,,1))) -> 0 | U3: =IF(U$15="",0,SUMIF(Import.numEventos,$K3,OFFSET(PreçoServiçoPorFrente,0,U$16-1,,1))) -> 0 | ... BK3: =IF(BK$15="",0,SUMIF(Import.numEventos,$K3,OFFSET(PreçoServiçoPorFrente,0,BK$16-1,,1))) -> 0
E4: PLE - Planilha de Levantamento de Eventos Eventograma e Quantitativos | R4: Grau de Sigilo #PUBLICO | X4: Grau de Sigilo #PUBLICO | AD4: Grau de Sigilo #PUBLICO | AJ4: Grau de Sigilo #PUBLICO | AP4: Grau de Sigilo #PUBLICO | AV4: Grau de Sigilo #PUBLICO | BB4: Grau de Sigilo #PUBLICO | BH4: Grau de Sigilo #PUBLICO
BM14: Preço do Serviço por frente | DM14: Preço dos Serviços executados
C15: ="Valor Total do Orçamento: R$ "&TEXT(SUMIF(C19:C38,"Serviço",I19:I38),"#.#0,00") -> Valor Total do Orçamento: R$ 0,00 | L15: Frentes de Obra: | N15: =Resumo_Pavim!#REF! -> #REF! | O15: =Resumo_Pavim!#REF! -> #REF! | P15: =IF(Resumo_Pavim!#REF!=0,"") -> #REF! | Q15: =IF(Resumo_Pavim!#REF!=0,"") -> #REF!
B16: =COUNTA(OFFSET(Eventograma_e_Quantitativos!$K$18,1,0):OFFSET(Eventograma_e_Quantitativos!$K$36,-1,0))-COUNTBLANK(OFFSET(Eventograma_e_Quantitativos!$L$18,1,0):OFFSET(Eventograma_e_Quantitativos!$L$36,-1,0))<COUNTIF(OFFSET(Eventograma_e_Quantitativos!$C$18,1,0):OFFSET(Eventograma_e_Quantitativos!$C$36,-1,0),"Serviço") -> FALSE | C16: Nível | D16: Item | E16: Descrição | F16: Unid. | G16: Qtde. | H16: Preço Unit. (R$) | I16: Preço Total (R$) | K16: Núm. Evento | L16: Agrupador de Eventos | N16: 1 | O16: 2 | P16: 3 | Q16: 4 | R16: 5 | S16: 6 | T16: 7 | U16: 8 | V16: 9 | W16: 10 | X16: 11 | Y16: 12 | Z16: 13 | AA16: 14 | AB16: 15 | AC16: 16 | AD16: 17 | AE16: 18 | AF16: 19 | AG16: 20 | AH16: 21 | AI16: 22 | AJ16: 23 | AK16: 24 | AL16: 25 | AM16: 26 | AN16: 27 | AO16: 28 | AP16: 29 | AQ16: 30 | AR16: 31 | AS16: 32 | AT16: 33 | AU16: 34 | AV16: 35 | AW16: 36 | AX16: 37 | AY16: 38 | AZ16: 39 | BA16: 40 | BB16: 41 | BC16: 42 | BD16: 43 | BE16: 44 | BF16: 45 | BG16: 46 | BH16: 47 | BI16: 48 | BJ16: 49 | BK16: 50 | BM16: 1 | BN16: 2 | BO16: 3 | BP16: 4 | BQ16: 5 | BR16: 6 | BS16: 7 | BT16: 8 | BU16: 9 | BV16: 10 | BW16: 11 | BX16: 12 | BY16: 13 | BZ16: 14 | CA16: 15 | CB16: 16 | CC16: 17 | CD16: 18 | CE16: 19 | CF16: 20 | CG16: 21 | CH16: 22 | CI16: 23 | CJ16: 24 | CK16: 25 | CL16: 26 | CM16: 27 | CN16: 28 | CO16: 29 | CP16: 30 | CQ16: 31 | CR16: 32 | CS16: 33 | CT16: 34 | CU16: 35 | CV16: 36 | CW16: 37 | CX16: 38 | CY16: 39 | CZ16: 40 | DA16: 41 | DB16: 42 | DC16: 43 | DD16: 44 | DE16: 45 | DF16: 46 | DG16: 47 | DH16: 48 | DI16: 49 | DJ16: 50 | DK16: meta | DM16: 1 | DN16: 2 | DO16: 3 | DP16: 4 | DQ16: 5 | DR16: 6 | DS16: 7 | DT16: 8 | DU16: 9 | DV16: 10 | DW16: 11 | DX16: 12 | DY16: 13 | DZ16: 14 | EA16: 15 | EB16: 16 | EC16: 17 | ED16: 18 | EE16: 19 | EF16: 20 | EG16: 21 | EH16: 22 | EI16: 23 | EJ16: 24 | EK16: 25 | EL16: 26 | EM16: 27 | EN16: 28 | EO16: 29 | EP16: 30 | EQ16: 31 | ER16: 32 | ES16: 33 | ET16: 34 | EU16: 35 | EV16: 36 | EW16: 37 | EX16: 38 | EY16: 39 | EZ16: 40 | FA16: 41 | FB16: 42 | FC16: 43 | FD16: 44 | FE16: 45 | FF16: 46 | FG16: 47 | FH16: 48 | FI16: 49 | FJ16: 50
E17: 0
B19: =ROW(Nível)-ROW(LIorçamento)+1 -> 1 | C19: =IF(D19="","",IF(ISNUMBER(VALUE(D19)),"Meta",IF(AND(F19<>"",I19<>""),"Serviço","Nível"))) -> #REF! | D19: =VLOOKUP(E19,#REF!,2,FALSE) -> #REF! | E19: =IFERROR(INDEX(#REF!,MATCH(0,INDEX(COUNTIF($E$17:E18,#REF!),),)),"") | F19: =IF(VLOOKUP(E19,#REF!,8,FALSE)=0,"",VLOOKUP(E19,#REF!,8,FALSE)) -> #REF! | G19: =IF(Nível="Serviço",SUMIF($N$15:$BK$15,"<>"&"",N19:BK19),"") -> #REF! | H19: =IF(AND(ISNUMBER(G19),G19<>0),I19/G19,IF(G19=0,0,"")) -> #REF! | I19: =SUMIF(#REF!,Eventograma_e_Quantitativos!E19,#REF!) -> #REF! | K19: =deactivatedados.form1 -> 1 | L19: 1-Administração Local | BM19: =IF(N$15="",0,IF(ISNUMBER(PreçoUnit),PreçoUnit*INDEX(Import.PLQ,$B19,BM$16),0)) -> #REF! | BN19: =IF(O$15="",0,IF(ISNUMBER(PreçoUnit),PreçoUnit*INDEX(Import.PLQ,$B19,BN$16),0)) -> #REF! | BO19: =IF(P$15="",0,IF(ISNUMBER(PreçoUnit),PreçoUnit*INDEX(Import.PLQ,$B19,BO$16),0)) -> #REF! | BP19: =IF(Q$15="",0,IF(ISNUMBER(PreçoUnit),PreçoUnit*INDEX(Import.PLQ,$B19,BP$16),0)) -> #REF! | BQ19: =IF(R$15="",0,IF(ISNUMBER(PreçoUnit),PreçoUnit*INDEX(Import.PLQ,$B19,BQ$16),0)) -> 0 | BR19: =IF(S$15="",0,IF(ISNUMBER(PreçoUnit),PreçoUnit*INDEX(Import.PLQ,$B19,BR$16),0)) -> 0 | BS19: =IF(T$15="",0,IF(ISNUMBER(PreçoUnit),PreçoUnit*INDEX(Import.PLQ,$B19,BS$16),0)) -> 0 | BT19: =IF(U$15="",0,IF(ISNUMBER(PreçoUnit),PreçoUnit*INDEX(Import.PLQ,$B19,BT$16),0)) -> 0 | ... DJ19: =IF(BK$15="",0,IF(ISNUMBER(PreçoUnit),PreçoUnit*INDEX(Import.PLQ,$B19,DJ$16),0)) -> 0 | DK19: =IF(D19="",0,IF(ISNUMBER(VALUE(D19)),VALUE(D19),LEFT(D19,FIND(".",D19)-1))) -> #REF! | DL19: =SUM(DM19:FJ19) -> #REF! | DM19: =IF($K19<>1,IF(ISNUMBER(INDEX(Import.PLE,$K19,DM$16)),IF(INDEX(Import.PLE,$K19,DM$16)<=mediçao,BM19,0),0),PLE!$AA$28*BM19) -> #REF! | DN19: =IF($K19<>1,IF(ISNUMBER(INDEX(Import.PLE,$K19,DN$16)),IF(INDEX(Import.PLE,$K19,DN$16)<=mediçao,BN19,0),0),PLE!$AA$28*BN19) -> #REF! | DO19: =IF($K19<>1,IF(ISNUMBER(INDEX(Import.PLE,$K19,DO$16)),IF(INDEX(Import.PLE,$K19,DO$16)<=mediçao,BO19,0),0),PLE!$AA$28*BO19) -> #REF! | DP19: =IF($K19<>1,IF(ISNUMBER(INDEX(Import.PLE,$K19,DP$16)),IF(INDEX(Import.PLE,$K19,DP$16)<=mediçao,BP19,0),0),PLE!$AA$28*BP19) -> #REF! | DQ19: =IF($K19<>1,IF(ISNUMBER(INDEX(Import.PLE,$K19,DQ$16)),IF(INDEX(Import.PLE,$K19,DQ$16)<=mediçao,BQ19,0),0),PLE!$AA$28*BQ19) -> #REF! | DR19: =IF($K19<>1,IF(ISNUMBER(INDEX(Import.PLE,$K19,DR$16)),IF(INDEX(Import.PLE,$K19,DR$16)<=mediçao,BR19,0),0),PLE!$AA$28*BR19) -> #REF! | DS19: =IF($K19<>1,IF(ISNUMBER(INDEX(Import.PLE,$K19,DS$16)),IF(INDEX(Import.PLE,$K19,DS$16)<=mediçao,BS19,0),0),PLE!$AA$28*BS19) -> #REF! | DT19: =IF($K19<>1,IF(ISNUMBER(INDEX(Import.PLE,$K19,DT$16)),IF(INDEX(Import.PLE,$K19,DT$16)<=mediçao,BT19,0),0),PLE!$AA$28*BT19) -> #REF! | ... FJ19: =IF($K19<>1,IF(ISNUMBER(INDEX(Import.PLE,$K19,FJ$16)),IF(INDEX(Import.PLE,$K19,FJ$16)<=mediçao,DJ19,0),0),PLE!$AA$28*DJ19) -> #REF!
B20: =ROW(Nível)-ROW(LIorçamento)+1 -> 2 | C20: =IF(D20="","",IF(ISNUMBER(VALUE(D20)),"Meta",IF(AND(F20<>"",I20<>""),"Serviço","Nível"))) -> #REF! | D20: =VLOOKUP(E20,#REF!,2,FALSE) -> #REF! | E20: =IFERROR(INDEX(#REF!,MATCH(0,INDEX(COUNTIF($E$17:E19,#REF!),),)),"") | F20: =IF(VLOOKUP(E20,#REF!,8,FALSE)=0,"",VLOOKUP(E20,#REF!,8,FALSE)) -> #REF! | G20: =IF(Nível="Serviço",SUMIF($N$15:$BK$15,"<>"&"",N20:BK20),"") -> #REF! | H20: =IF(AND(ISNUMBER(G20),G20<>0),I20/G20,IF(G20=0,0,"")) -> #REF! | I20: =SUMIF(#REF!,Eventograma_e_Quantitativos!E20,#REF!) -> #REF! | K20: =deactivatedados.form1 -> 2 | L20: 2-PAVIMENTAÇÃO | N20: =SUMIFS(#REF!,#REF!,Eventograma_e_Quantitativos!N$16,#REF!,Eventograma_e_Quantitativos!$E20) -> #REF! | O20: =SUMIFS(#REF!,#REF!,Eventograma_e_Quantitativos!O$16,#REF!,Eventograma_e_Quantitativos!$E20) -> #REF! | P20: =SUMIFS(#REF!,#REF!,Eventograma_e_Quantitativos!P$16,#REF!,Eventograma_e_Quantitativos!$E20) -> #REF! | Q20: =SUMIFS(#REF!,#REF!,Eventograma_e_Quantitativos!Q$16,#REF!,Eventograma_e_Quantitativos!$E20) -> #REF! | R20: =SUMIFS(#REF!,#REF!,Eventograma_e_Quantitativos!R$16,#REF!,Eventograma_e_Quantitativos!$E20) -> #REF! | S20: =SUMIFS(#REF!,#REF!,Eventograma_e_Quantitativos!S$16,#REF!,Eventograma_e_Quantitativos!$E20) -> #REF! | T20: =SUMIFS(#REF!,#REF!,Eventograma_e_Quantitativos!T$16,#REF!,Eventograma_e_Quantitativos!$E20) -> #REF! | U20: =SUMIFS(#REF!,#REF!,Eventograma_e_Quantitativos!U$16,#REF!,Eventograma_e_Quantitativos!$E20) -> #REF! | ... BK20: =SUMIFS(#REF!,#REF!,Eventograma_e_Quantitativos!BK$16,#REF!,Eventograma_e_Quantitativos!$E20) -> #REF! | BM20: =IF(N$15="",0,IF(ISNUMBER(PreçoUnit),PreçoUnit*INDEX(Import.PLQ,$B20,BM$16),0)) -> #REF! | BN20: =IF(O$15="",0,IF(ISNUMBER(PreçoUnit),PreçoUnit*INDEX(Import.PLQ,$B20,BN$16),0)) -> #REF! | BO20: =IF(P$15="",0,IF(ISNUMBER(PreçoUnit),PreçoUnit*INDEX(Import.PLQ,$B20,BO$16),0)) -> #REF! | BP20: =IF(Q$15="",0,IF(ISNUMBER(PreçoUnit),PreçoUnit*INDEX(Import.PLQ,$B20,BP$16),0)) -> #REF! | BQ20: =IF(R$15="",0,IF(ISNUMBER(PreçoUnit),PreçoUnit*INDEX(Import.PLQ,$B20,BQ$16),0)) -> 0 | BR20: =IF(S$15="",0,IF(ISNUMBER(PreçoUnit),PreçoUnit*INDEX(Import.PLQ,$B20,BR$16),0)) -> 0 | BS20: =IF(T$15="",0,IF(ISNUMBER(PreçoUnit),PreçoUnit*INDEX(Import.PLQ,$B20,BS$16),0)) -> 0 | BT20: =IF(U$15="",0,IF(ISNUMBER(PreçoUnit),PreçoUnit*INDEX(Import.PLQ,$B20,BT$16),0)) -> 0 | ... DJ20: =IF(BK$15="",0,IF(ISNUMBER(PreçoUnit),PreçoUnit*INDEX(Import.PLQ,$B20,DJ$16),0)) -> 0 | DK20: =IF(D20="",0,IF(ISNUMBER(VALUE(D20)),VALUE(D20),LEFT(D20,FIND(".",D20)-1))) -> #REF! | DL20: =SUM(DM20:FJ20) -> 0 | DM20: =IF($K20<>1,IF(ISNUMBER(INDEX(Import.PLE,$K20,DM$16)),IF(INDEX(Import.PLE,$K20,DM$16)<=mediçao,BM20,0),0),PLE!$AA$28*BM20) -> 0 | DN20: =IF($K20<>1,IF(ISNUMBER(INDEX(Import.PLE,$K20,DN$16)),IF(INDEX(Import.PLE,$K20,DN$16)<=mediçao,BN20,0),0),PLE!$AA$28*BN20) -> 0 | DO20: =IF($K20<>1,IF(ISNUMBER(INDEX(Import.PLE,$K20,DO$16)),IF(INDEX(Import.PLE,$K20,DO$16)<=mediçao,BO20,0),0),PLE!$AA$28*BO20) -> 0 | DP20: =IF($K20<>1,IF(ISNUMBER(INDEX(Import.PLE,$K20,DP$16)),IF(INDEX(Import.PLE,$K20,DP$16)<=mediçao,BP20,0),0),PLE!$AA$28*BP20) -> 0 | DQ20: =IF($K20<>1,IF(ISNUMBER(INDEX(Import.PLE,$K20,DQ$16)),IF(INDEX(Import.PLE,$K20,DQ$16)<=mediçao,BQ20,0),0),PLE!$AA$28*BQ20) -> 0 | DR20: =IF($K20<>1,IF(ISNUMBER(INDEX(Import.PLE,$K20,DR$16)),IF(INDEX(Import.PLE,$K20,DR$16)<=mediçao,BR20,0),0),PLE!$AA$28*BR20) -> 0 | DS20: =IF($K20<>1,IF(ISNUMBER(INDEX(Import.PLE,$K20,DS$16)),IF(INDEX(Import.PLE,$K20,DS$16)<=mediçao,BS20,0),0),PLE!$AA$28*BS20) -> 0 | DT20: =IF($K20<>1,IF(ISNUMBER(INDEX(Import.PLE,$K20,DT$16)),IF(INDEX(Import.PLE,$K20,DT$16)<=mediçao,BT20,0),0),PLE!$AA$28*BT20) -> 0 | ... FJ20: =IF($K20<>1,IF(ISNUMBER(INDEX(Import.PLE,$K20,FJ$16)),IF(INDEX(Import.PLE,$K20,FJ$16)<=mediçao,DJ20,0),0),PLE!$AA$28*DJ20) -> 0
B21: =ROW(Nível)-ROW(LIorçamento)+1 -> 3 | C21: =IF(D21="","",IF(ISNUMBER(VALUE(D21)),"Meta",IF(AND(F21<>"",I21<>""),"Serviço","Nível"))) -> #REF! | D21: =VLOOKUP(E21,#REF!,2,FALSE) -> #REF! | E21: =IFERROR(INDEX(#REF!,MATCH(0,INDEX(COUNTIF($E$17:E20,#REF!),),)),"") | F21: =IF(VLOOKUP(E21,#REF!,8,FALSE)=0,"",VLOOKUP(E21,#REF!,8,FALSE)) -> #REF! | G21: =IF(Nível="Serviço",SUMIF($N$15:$BK$15,"<>"&"",N21:BK21),"") -> #REF! | H21: =IF(AND(ISNUMBER(G21),G21<>0),I21/G21,IF(G21=0,0,"")) -> #REF! | I21: =SUMIF(#REF!,Eventograma_e_Quantitativos!E21,#REF!) -> #REF! | K21: =deactivatedados.form1 -> 2 | L21: 2-PAVIMENTAÇÃO | N21: =SUMIFS(#REF!,#REF!,Eventograma_e_Quantitativos!N$16,#REF!,Eventograma_e_Quantitativos!$E21) -> #REF! | O21: =SUMIFS(#REF!,#REF!,Eventograma_e_Quantitativos!O$16,#REF!,Eventograma_e_Quantitativos!$E21) -> #REF! | P21: =SUMIFS(#REF!,#REF!,Eventograma_e_Quantitativos!P$16,#REF!,Eventograma_e_Quantitativos!$E21) -> #REF! | Q21: =SUMIFS(#REF!,#REF!,Eventograma_e_Quantitativos!Q$16,#REF!,Eventograma_e_Quantitativos!$E21) -> #REF! | R21: =SUMIFS(#REF!,#REF!,Eventograma_e_Quantitativos!R$16,#REF!,Eventograma_e_Quantitativos!$E21) -> #REF! | S21: =SUMIFS(#REF!,#REF!,Eventograma_e_Quantitativos!S$16,#REF!,Eventograma_e_Quantitativos!$E21) -> #REF! | T21: =SUMIFS(#REF!,#REF!,Eventograma_e_Quantitativos!T$16,#REF!,Eventograma_e_Quantitativos!$E21) -> #REF! | U21: =SUMIFS(#REF!,#REF!,Eventograma_e_Quantitativos!U$16,#REF!,Eventograma_e_Quantitativos!$E21) -> #REF! | ... BK21: =SUMIFS(#REF!,#REF!,Eventograma_e_Quantitativos!BK$16,#REF!,Eventograma_e_Quantitativos!$E21) -> #REF! | BM21: =IF(N$15="",0,IF(ISNUMBER(PreçoUnit),PreçoUnit*INDEX(Import.PLQ,$B21,BM$16),0)) -> #REF! | BN21: =IF(O$15="",0,IF(ISNUMBER(PreçoUnit),PreçoUnit*INDEX(Import.PLQ,$B21,BN$16),0)) -> #REF! | BO21: =IF(P$15="",0,IF(ISNUMBER(PreçoUnit),PreçoUnit*INDEX(Import.PLQ,$B21,BO$16),0)) -> #REF! | BP21: =IF(Q$15="",0,IF(ISNUMBER(PreçoUnit),PreçoUnit*INDEX(Import.PLQ,$B21,BP$16),0)) -> #REF! | BQ21: =IF(R$15="",0,IF(ISNUMBER(PreçoUnit),PreçoUnit*INDEX(Import.PLQ,$B21,BQ$16),0)) -> 0 | BR21: =IF(S$15="",0,IF(ISNUMBER(PreçoUnit),PreçoUnit*INDEX(Import.PLQ,$B21,BR$16),0)) -> 0 | BS21: =IF(T$15="",0,IF(ISNUMBER(PreçoUnit),PreçoUnit*INDEX(Import.PLQ,$B21,BS$16),0)) -> 0 | BT21: =IF(U$15="",0,IF(ISNUMBER(PreçoUnit),PreçoUnit*INDEX(Import.PLQ,$B21,BT$16),0)) -> 0 | ... DJ21: =IF(BK$15="",0,IF(ISNUMBER(PreçoUnit),PreçoUnit*INDEX(Import.PLQ,$B21,DJ$16),0)) -> 0 | DK21: =IF(D21="",0,IF(ISNUMBER(VALUE(D21)),VALUE(D21),LEFT(D21,FIND(".",D21)-1))) -> #REF! | DL21: =SUM(DM21:FJ21) -> 0 | DM21: =IF($K21<>1,IF(ISNUMBER(INDEX(Import.PLE,$K21,DM$16)),IF(INDEX(Import.PLE,$K21,DM$16)<=mediçao,BM21,0),0),PLE!$AA$28*BM21) -> 0 | DN21: =IF($K21<>1,IF(ISNUMBER(INDEX(Import.PLE,$K21,DN$16)),IF(INDEX(Import.PLE,$K21,DN$16)<=mediçao,BN21,0),0),PLE!$AA$28*BN21) -> 0 | DO21: =IF($K21<>1,IF(ISNUMBER(INDEX(Import.PLE,$K21,DO$16)),IF(INDEX(Import.PLE,$K21,DO$16)<=mediçao,BO21,0),0),PLE!$AA$28*BO21) -> 0 | DP21: =IF($K21<>1,IF(ISNUMBER(INDEX(Import.PLE,$K21,DP$16)),IF(INDEX(Import.PLE,$K21,DP$16)<=mediçao,BP21,0),0),PLE!$AA$28*BP21) -> 0 | DQ21: =IF($K21<>1,IF(ISNUMBER(INDEX(Import.PLE,$K21,DQ$16)),IF(INDEX(Import.PLE,$K21,DQ$16)<=mediçao,BQ21,0),0),PLE!$AA$28*BQ21) -> 0 | DR21: =IF($K21<>1,IF(ISNUMBER(INDEX(Import.PLE,$K21,DR$16)),IF(INDEX(Import.PLE,$K21,DR$16)<=mediçao,BR21,0),0),PLE!$AA$28*BR21) -> 0 | DS21: =IF($K21<>1,IF(ISNUMBER(INDEX(Import.PLE,$K21,DS$16)),IF(INDEX(Import.PLE,$K21,DS$16)<=mediçao,BS21,0),0),PLE!$AA$28*BS21) -> 0 | DT21: =IF($K21<>1,IF(ISNUMBER(INDEX(Import.PLE,$K21,DT$16)),IF(INDEX(Import.PLE,$K21,DT$16)<=mediçao,BT21,0),0),PLE!$AA$28*BT21) -> 0 | ... FJ21: =IF($K21<>1,IF(ISNUMBER(INDEX(Import.PLE,$K21,FJ$16)),IF(INDEX(Import.PLE,$K21,FJ$16)<=mediçao,DJ21,0),0),PLE!$AA$28*DJ21) -> 0
B22: =ROW(Nível)-ROW(LIorçamento)+1 -> 4 | C22: =IF(D22="","",IF(ISNUMBER(VALUE(D22)),"Meta",IF(AND(F22<>"",I22<>""),"Serviço","Nível"))) -> #REF! | D22: =VLOOKUP(E22,#REF!,2,FALSE) -> #REF! | E22: =IFERROR(INDEX(#REF!,MATCH(0,INDEX(COUNTIF($E$17:E21,#REF!),),)),"") | F22: =IF(VLOOKUP(E22,#REF!,8,FALSE)=0,"",VLOOKUP(E22,#REF!,8,FALSE)) -> #REF! | G22: =IF(Nível="Serviço",SUMIF($N$15:$BK$15,"<>"&"",N22:BK22),"") -> #REF! | H22: =IF(AND(ISNUMBER(G22),G22<>0),I22/G22,IF(G22=0,0,"")) -> #REF! | I22: =SUMIF(#REF!,Eventograma_e_Quantitativos!E22,#REF!) -> #REF! | K22: =deactivatedados.form1 -> 2 | L22: 2-PAVIMENTAÇÃO | N22: =SUMIFS(#REF!,#REF!,Eventograma_e_Quantitativos!N$16,#REF!,Eventograma_e_Quantitativos!$E22) -> #REF! | O22: =SUMIFS(#REF!,#REF!,Eventograma_e_Quantitativos!O$16,#REF!,Eventograma_e_Quantitativos!$E22) -> #REF! | P22: =SUMIFS(#REF!,#REF!,Eventograma_e_Quantitativos!P$16,#REF!,Eventograma_e_Quantitativos!$E22) -> #REF! | Q22: =SUMIFS(#REF!,#REF!,Eventograma_e_Quantitativos!Q$16,#REF!,Eventograma_e_Quantitativos!$E22) -> #REF! | R22: =SUMIFS(#REF!,#REF!,Eventograma_e_Quantitativos!R$16,#REF!,Eventograma_e_Quantitativos!$E22) -> #REF! | S22: =SUMIFS(#REF!,#REF!,Eventograma_e_Quantitativos!S$16,#REF!,Eventograma_e_Quantitativos!$E22) -> #REF! | T22: =SUMIFS(#REF!,#REF!,Eventograma_e_Quantitativos!T$16,#REF!,Eventograma_e_Quantitativos!$E22) -> #REF! | U22: =SUMIFS(#REF!,#REF!,Eventograma_e_Quantitativos!U$16,#REF!,Eventograma_e_Quantitativos!$E22) -> #REF! | ... BK22: =SUMIFS(#REF!,#REF!,Eventograma_e_Quantitativos!BK$16,#REF!,Eventograma_e_Quantitativos!$E22) -> #REF! | BM22: =IF(N$15="",0,IF(ISNUMBER(PreçoUnit),PreçoUnit*INDEX(Import.PLQ,$B22,BM$16),0)) -> #REF! | BN22: =IF(O$15="",0,IF(ISNUMBER(PreçoUnit),PreçoUnit*INDEX(Import.PLQ,$B22,BN$16),0)) -> #REF! | BO22: =IF(P$15="",0,IF(ISNUMBER(PreçoUnit),PreçoUnit*INDEX(Import.PLQ,$B22,BO$16),0)) -> #REF! | BP22: =IF(Q$15="",0,IF(ISNUMBER(PreçoUnit),PreçoUnit*INDEX(Import.PLQ,$B22,BP$16),0)) -> #REF! | BQ22: =IF(R$15="",0,IF(ISNUMBER(PreçoUnit),PreçoUnit*INDEX(Import.PLQ,$B22,BQ$16),0)) -> 0 | BR22: =IF(S$15="",0,IF(ISNUMBER(PreçoUnit),PreçoUnit*INDEX(Import.PLQ,$B22,BR$16),0)) -> 0 | BS22: =IF(T$15="",0,IF(ISNUMBER(PreçoUnit),PreçoUnit*INDEX(Import.PLQ,$B22,BS$16),0)) -> 0 | BT22: =IF(U$15="",0,IF(ISNUMBER(PreçoUnit),PreçoUnit*INDEX(Import.PLQ,$B22,BT$16),0)) -> 0 | ... DJ22: =IF(BK$15="",0,IF(ISNUMBER(PreçoUnit),PreçoUnit*INDEX(Import.PLQ,$B22,DJ$16),0)) -> 0 | DK22: =IF(D22="",0,IF(ISNUMBER(VALUE(D22)),VALUE(D22),LEFT(D22,FIND(".",D22)-1))) -> #REF! | DL22: =SUM(DM22:FJ22) -> 0 | DM22: =IF($K22<>1,IF(ISNUMBER(INDEX(Import.PLE,$K22,DM$16)),IF(INDEX(Import.PLE,$K22,DM$16)<=mediçao,BM22,0),0),PLE!$AA$28*BM22) -> 0 | DN22: =IF($K22<>1,IF(ISNUMBER(INDEX(Import.PLE,$K22,DN$16)),IF(INDEX(Import.PLE,$K22,DN$16)<=mediçao,BN22,0),0),PLE!$AA$28*BN22) -> 0 | DO22: =IF($K22<>1,IF(ISNUMBER(INDEX(Import.PLE,$K22,DO$16)),IF(INDEX(Import.PLE,$K22,DO$16)<=mediçao,BO22,0),0),PLE!$AA$28*BO22) -> 0 | DP22: =IF($K22<>1,IF(ISNUMBER(INDEX(Import.PLE,$K22,DP$16)),IF(INDEX(Import.PLE,$K22,DP$16)<=mediçao,BP22,0),0),PLE!$AA$28*BP22) -> 0 | DQ22: =IF($K22<>1,IF(ISNUMBER(INDEX(Import.PLE,$K22,DQ$16)),IF(INDEX(Import.PLE,$K22,DQ$16)<=mediçao,BQ22,0),0),PLE!$AA$28*BQ22) -> 0 | DR22: =IF($K22<>1,IF(ISNUMBER(INDEX(Import.PLE,$K22,DR$16)),IF(INDEX(Import.PLE,$K22,DR$16)<=mediçao,BR22,0),0),PLE!$AA$28*BR22) -> 0 | DS22: =IF($K22<>1,IF(ISNUMBER(INDEX(Import.PLE,$K22,DS$16)),IF(INDEX(Import.PLE,$K22,DS$16)<=mediçao,BS22,0),0),PLE!$AA$28*BS22) -> 0 | DT22: =IF($K22<>1,IF(ISNUMBER(INDEX(Import.PLE,$K22,DT$16)),IF(INDEX(Import.PLE,$K22,DT$16)<=mediçao,BT22,0),0),PLE!$AA$28*BT22) -> 0 | ... FJ22: =IF($K22<>1,IF(ISNUMBER(INDEX(Import.PLE,$K22,FJ$16)),IF(INDEX(Import.PLE,$K22,FJ$16)<=mediçao,DJ22,0),0),PLE!$AA$28*DJ22) -> 0
B23: =ROW(Nível)-ROW(LIorçamento)+1 -> 5 | C23: =IF(D23="","",IF(ISNUMBER(VALUE(D23)),"Meta",IF(AND(F23<>"",I23<>""),"Serviço","Nível"))) -> #REF! | D23: =VLOOKUP(E23,#REF!,2,FALSE) -> #REF! | E23: =IFERROR(INDEX(#REF!,MATCH(0,INDEX(COUNTIF($E$17:E22,#REF!),),)),"") | F23: =IF(VLOOKUP(E23,#REF!,8,FALSE)=0,"",VLOOKUP(E23,#REF!,8,FALSE)) -> #REF! | G23: =IF(Nível="Serviço",SUMIF($N$15:$BK$15,"<>"&"",N23:BK23),"") -> #REF! | H23: =IF(AND(ISNUMBER(G23),G23<>0),I23/G23,IF(G23=0,0,"")) -> #REF! | I23: =SUMIF(#REF!,Eventograma_e_Quantitativos!E23,#REF!) -> #REF! | K23: =deactivatedados.form1 -> 2 | L23: 2-PAVIMENTAÇÃO | N23: =SUMIFS(#REF!,#REF!,Eventograma_e_Quantitativos!N$16,#REF!,Eventograma_e_Quantitativos!$E23) -> #REF! | O23: =SUMIFS(#REF!,#REF!,Eventograma_e_Quantitativos!O$16,#REF!,Eventograma_e_Quantitativos!$E23) -> #REF! | P23: =SUMIFS(#REF!,#REF!,Eventograma_e_Quantitativos!P$16,#REF!,Eventograma_e_Quantitativos!$E23) -> #REF! | Q23: =SUMIFS(#REF!,#REF!,Eventograma_e_Quantitativos!Q$16,#REF!,Eventograma_e_Quantitativos!$E23) -> #REF! | R23: =SUMIFS(#REF!,#REF!,Eventograma_e_Quantitativos!R$16,#REF!,Eventograma_e_Quantitativos!$E23) -> #REF! | S23: =SUMIFS(#REF!,#REF!,Eventograma_e_Quantitativos!S$16,#REF!,Eventograma_e_Quantitativos!$E23) -> #REF! | T23: =SUMIFS(#REF!,#REF!,Eventograma_e_Quantitativos!T$16,#REF!,Eventograma_e_Quantitativos!$E23) -> #REF! | U23: =SUMIFS(#REF!,#REF!,Eventograma_e_Quantitativos!U$16,#REF!,Eventograma_e_Quantitativos!$E23) -> #REF! | ... BK23: =SUMIFS(#REF!,#REF!,Eventograma_e_Quantitativos!BK$16,#REF!,Eventograma_e_Quantitativos!$E23) -> #REF! | BM23: =IF(N$15="",0,IF(ISNUMBER(PreçoUnit),PreçoUnit*INDEX(Import.PLQ,$B23,BM$16),0)) -> #REF! | BN23: =IF(O$15="",0,IF(ISNUMBER(PreçoUnit),PreçoUnit*INDEX(Import.PLQ,$B23,BN$16),0)) -> #REF! | BO23: =IF(P$15="",0,IF(ISNUMBER(PreçoUnit),PreçoUnit*INDEX(Import.PLQ,$B23,BO$16),0)) -> #REF! | BP23: =IF(Q$15="",0,IF(ISNUMBER(PreçoUnit),PreçoUnit*INDEX(Import.PLQ,$B23,BP$16),0)) -> #REF! | BQ23: =IF(R$15="",0,IF(ISNUMBER(PreçoUnit),PreçoUnit*INDEX(Import.PLQ,$B23,BQ$16),0)) -> 0 | BR23: =IF(S$15="",0,IF(ISNUMBER(PreçoUnit),PreçoUnit*INDEX(Import.PLQ,$B23,BR$16),0)) -> 0 | BS23: =IF(T$15="",0,IF(ISNUMBER(PreçoUnit),PreçoUnit*INDEX(Import.PLQ,$B23,BS$16),0)) -> 0 | BT23: =IF(U$15="",0,IF(ISNUMBER(PreçoUnit),PreçoUnit*INDEX(Import.PLQ,$B23,BT$16),0)) -> 0 | ... DJ23: =IF(BK$15="",0,IF(ISNUMBER(PreçoUnit),PreçoUnit*INDEX(Import.PLQ,$B23,DJ$16),0)) -> 0 | DK23: =IF(D23="",0,IF(ISNUMBER(VALUE(D23)),VALUE(D23),LEFT(D23,FIND(".",D23)-1))) -> #REF! | DL23: =SUM(DM23:FJ23) -> 0 | DM23: =IF($K23<>1,IF(ISNUMBER(INDEX(Import.PLE,$K23,DM$16)),IF(INDEX(Import.PLE,$K23,DM$16)<=mediçao,BM23,0),0),PLE!$AA$28*BM23) -> 0 | DN23: =IF($K23<>1,IF(ISNUMBER(INDEX(Import.PLE,$K23,DN$16)),IF(INDEX(Import.PLE,$K23,DN$16)<=mediçao,BN23,0),0),PLE!$AA$28*BN23) -> 0 | DO23: =IF($K23<>1,IF(ISNUMBER(INDEX(Import.PLE,$K23,DO$16)),IF(INDEX(Import.PLE,$K23,DO$16)<=mediçao,BO23,0),0),PLE!$AA$28*BO23) -> 0 | DP23: =IF($K23<>1,IF(ISNUMBER(INDEX(Import.PLE,$K23,DP$16)),IF(INDEX(Import.PLE,$K23,DP$16)<=mediçao,BP23,0),0),PLE!$AA$28*BP23) -> 0 | DQ23: =IF($K23<>1,IF(ISNUMBER(INDEX(Import.PLE,$K23,DQ$16)),IF(INDEX(Import.PLE,$K23,DQ$16)<=mediçao,BQ23,0),0),PLE!$AA$28*BQ23) -> 0 | DR23: =IF($K23<>1,IF(ISNUMBER(INDEX(Import.PLE,$K23,DR$16)),IF(INDEX(Import.PLE,$K23,DR$16)<=mediçao,BR23,0),0),PLE!$AA$28*BR23) -> 0 | DS23: =IF($K23<>1,IF(ISNUMBER(INDEX(Import.PLE,$K23,DS$16)),IF(INDEX(Import.PLE,$K23,DS$16)<=mediçao,BS23,0),0),PLE!$AA$28*BS23) -> 0 | DT23: =IF($K23<>1,IF(ISNUMBER(INDEX(Import.PLE,$K23,DT$16)),IF(INDEX(Import.PLE,$K23,DT$16)<=mediçao,BT23,0),0),PLE!$AA$28*BT23) -> 0 | ... FJ23: =IF($K23<>1,IF(ISNUMBER(INDEX(Import.PLE,$K23,FJ$16)),IF(INDEX(Import.PLE,$K23,FJ$16)<=mediçao,DJ23,0),0),PLE!$AA$28*DJ23) -> 0
B24: =ROW(Nível)-ROW(LIorçamento)+1 -> 6 | C24: =IF(D24="","",IF(ISNUMBER(VALUE(D24)),"Meta",IF(AND(F24<>"",I24<>""),"Serviço","Nível"))) -> #REF! | D24: =VLOOKUP(E24,#REF!,2,FALSE) -> #REF! | E24: =IFERROR(INDEX(#REF!,MATCH(0,INDEX(COUNTIF($E$17:E23,#REF!),),)),"") | F24: =IF(VLOOKUP(E24,#REF!,8,FALSE)=0,"",VLOOKUP(E24,#REF!,8,FALSE)) -> #REF! | G24: =IF(Nível="Serviço",SUMIF($N$15:$BK$15,"<>"&"",N24:BK24),"") -> #REF! | H24: =IF(AND(ISNUMBER(G24),G24<>0),I24/G24,IF(G24=0,0,"")) -> #REF! | I24: =SUMIF(#REF!,Eventograma_e_Quantitativos!E24,#REF!) -> #REF! | K24: =deactivatedados.form1 | N24: =SUMIFS(#REF!,#REF!,Eventograma_e_Quantitativos!N$16,#REF!,Eventograma_e_Quantitativos!$E24) -> #REF! | O24: =SUMIFS(#REF!,#REF!,Eventograma_e_Quantitativos!O$16,#REF!,Eventograma_e_Quantitativos!$E24) -> #REF! | P24: =SUMIFS(#REF!,#REF!,Eventograma_e_Quantitativos!P$16,#REF!,Eventograma_e_Quantitativos!$E24) -> #REF! | Q24: =SUMIFS(#REF!,#REF!,Eventograma_e_Quantitativos!Q$16,#REF!,Eventograma_e_Quantitativos!$E24) -> #REF! | R24: =SUMIFS(#REF!,#REF!,Eventograma_e_Quantitativos!R$16,#REF!,Eventograma_e_Quantitativos!$E24) -> #REF! | S24: =SUMIFS(#REF!,#REF!,Eventograma_e_Quantitativos!S$16,#REF!,Eventograma_e_Quantitativos!$E24) -> #REF! | T24: =SUMIFS(#REF!,#REF!,Eventograma_e_Quantitativos!T$16,#REF!,Eventograma_e_Quantitativos!$E24) -> #REF! | U24: =SUMIFS(#REF!,#REF!,Eventograma_e_Quantitativos!U$16,#REF!,Eventograma_e_Quantitativos!$E24) -> #REF! | ... BK24: =SUMIFS(#REF!,#REF!,Eventograma_e_Quantitativos!BK$16,#REF!,Eventograma_e_Quantitativos!$E24) -> #REF! | BM24: =IF(N$15="",0,IF(ISNUMBER(PreçoUnit),PreçoUnit*INDEX(Import.PLQ,$B24,BM$16),0)) -> #REF! | BN24: =IF(O$15="",0,IF(ISNUMBER(PreçoUnit),PreçoUnit*INDEX(Import.PLQ,$B24,BN$16),0)) -> #REF! | BO24: =IF(P$15="",0,IF(ISNUMBER(PreçoUnit),PreçoUnit*INDEX(Import.PLQ,$B24,BO$16),0)) -> #REF! | BP24: =IF(Q$15="",0,IF(ISNUMBER(PreçoUnit),PreçoUnit*INDEX(Import.PLQ,$B24,BP$16),0)) -> #REF! | BQ24: =IF(R$15="",0,IF(ISNUMBER(PreçoUnit),PreçoUnit*INDEX(Import.PLQ,$B24,BQ$16),0)) -> 0 | BR24: =IF(S$15="",0,IF(ISNUMBER(PreçoUnit),PreçoUnit*INDEX(Import.PLQ,$B24,BR$16),0)) -> 0 | BS24: =IF(T$15="",0,IF(ISNUMBER(PreçoUnit),PreçoUnit*INDEX(Import.PLQ,$B24,BS$16),0)) -> 0 | BT24: =IF(U$15="",0,IF(ISNUMBER(PreçoUnit),PreçoUnit*INDEX(Import.PLQ,$B24,BT$16),0)) -> 0 | ... DJ24: =IF(BK$15="",0,IF(ISNUMBER(PreçoUnit),PreçoUnit*INDEX(Import.PLQ,$B24,DJ$16),0)) -> 0 | DK24: =IF(D24="",0,IF(ISNUMBER(VALUE(D24)),VALUE(D24),LEFT(D24,FIND(".",D24)-1))) -> #REF! | DL24: =SUM(DM24:FJ24) -> 0 | DM24: =IF($K24<>1,IF(ISNUMBER(INDEX(Import.PLE,$K24,DM$16)),IF(INDEX(Import.PLE,$K24,DM$16)<=mediçao,BM24,0),0),PLE!$AA$28*BM24) -> 0 | DN24: =IF($K24<>1,IF(ISNUMBER(INDEX(Import.PLE,$K24,DN$16)),IF(INDEX(Import.PLE,$K24,DN$16)<=mediçao,BN24,0),0),PLE!$AA$28*BN24) -> 0 | DO24: =IF($K24<>1,IF(ISNUMBER(INDEX(Import.PLE,$K24,DO$16)),IF(INDEX(Import.PLE,$K24,DO$16)<=mediçao,BO24,0),0),PLE!$AA$28*BO24) -> 0 | DP24: =IF($K24<>1,IF(ISNUMBER(INDEX(Import.PLE,$K24,DP$16)),IF(INDEX(Import.PLE,$K24,DP$16)<=mediçao,BP24,0),0),PLE!$AA$28*BP24) -> 0 | DQ24: =IF($K24<>1,IF(ISNUMBER(INDEX(Import.PLE,$K24,DQ$16)),IF(INDEX(Import.PLE,$K24,DQ$16)<=mediçao,BQ24,0),0),PLE!$AA$28*BQ24) -> 0 | DR24: =IF($K24<>1,IF(ISNUMBER(INDEX(Import.PLE,$K24,DR$16)),IF(INDEX(Import.PLE,$K24,DR$16)<=mediçao,BR24,0),0),PLE!$AA$28*BR24) -> 0 | DS24: =IF($K24<>1,IF(ISNUMBER(INDEX(Import.PLE,$K24,DS$16)),IF(INDEX(Import.PLE,$K24,DS$16)<=mediçao,BS24,0),0),PLE!$AA$28*BS24) -> 0 | DT24: =IF($K24<>1,IF(ISNUMBER(INDEX(Import.PLE,$K24,DT$16)),IF(INDEX(Import.PLE,$K24,DT$16)<=mediçao,BT24,0),0),PLE!$AA$28*BT24) -> 0 | ... FJ24: =IF($K24<>1,IF(ISNUMBER(INDEX(Import.PLE,$K24,FJ$16)),IF(INDEX(Import.PLE,$K24,FJ$16)<=mediçao,DJ24,0),0),PLE!$AA$28*DJ24) -> 0
B25: =ROW(Nível)-ROW(LIorçamento)+1 -> 7 | C25: =IF(D25="","",IF(ISNUMBER(VALUE(D25)),"Meta",IF(AND(F25<>"",I25<>""),"Serviço","Nível"))) -> #REF! | D25: =VLOOKUP(E25,#REF!,2,FALSE) -> #REF! | E25: =IFERROR(INDEX(#REF!,MATCH(0,INDEX(COUNTIF($E$17:E24,#REF!),),)),"") | F25: =IF(VLOOKUP(E25,#REF!,8,FALSE)=0,"",VLOOKUP(E25,#REF!,8,FALSE)) -> #REF! | G25: =IF(Nível="Serviço",SUMIF($N$15:$BK$15,"<>"&"",N25:BK25),"") -> #REF! | H25: =IF(AND(ISNUMBER(G25),G25<>0),I25/G25,IF(G25=0,0,"")) -> #REF! | I25: =SUMIF(#REF!,Eventograma_e_Quantitativos!E25,#REF!) -> #REF! | K25: =deactivatedados.form1 -> 2 | L25: 2-PAVIMENTAÇÃO | N25: =SUMIFS(#REF!,#REF!,Eventograma_e_Quantitativos!N$16,#REF!,Eventograma_e_Quantitativos!$E25) -> #REF! | O25: =SUMIFS(#REF!,#REF!,Eventograma_e_Quantitativos!O$16,#REF!,Eventograma_e_Quantitativos!$E25) -> #REF! | P25: =SUMIFS(#REF!,#REF!,Eventograma_e_Quantitativos!P$16,#REF!,Eventograma_e_Quantitativos!$E25) -> #REF! | Q25: =SUMIFS(#REF!,#REF!,Eventograma_e_Quantitativos!Q$16,#REF!,Eventograma_e_Quantitativos!$E25) -> #REF! | R25: =SUMIFS(#REF!,#REF!,Eventograma_e_Quantitativos!R$16,#REF!,Eventograma_e_Quantitativos!$E25) -> #REF! | S25: =SUMIFS(#REF!,#REF!,Eventograma_e_Quantitativos!S$16,#REF!,Eventograma_e_Quantitativos!$E25) -> #REF! | T25: =SUMIFS(#REF!,#REF!,Eventograma_e_Quantitativos!T$16,#REF!,Eventograma_e_Quantitativos!$E25) -> #REF! | U25: =SUMIFS(#REF!,#REF!,Eventograma_e_Quantitativos!U$16,#REF!,Eventograma_e_Quantitativos!$E25) -> #REF! | ... BK25: =SUMIFS(#REF!,#REF!,Eventograma_e_Quantitativos!BK$16,#REF!,Eventograma_e_Quantitativos!$E25) -> #REF! | BM25: =IF(N$15="",0,IF(ISNUMBER(PreçoUnit),PreçoUnit*INDEX(Import.PLQ,$B25,BM$16),0)) -> #REF! | BN25: =IF(O$15="",0,IF(ISNUMBER(PreçoUnit),PreçoUnit*INDEX(Import.PLQ,$B25,BN$16),0)) -> #REF! | BO25: =IF(P$15="",0,IF(ISNUMBER(PreçoUnit),PreçoUnit*INDEX(Import.PLQ,$B25,BO$16),0)) -> #REF! | BP25: =IF(Q$15="",0,IF(ISNUMBER(PreçoUnit),PreçoUnit*INDEX(Import.PLQ,$B25,BP$16),0)) -> #REF! | BQ25: =IF(R$15="",0,IF(ISNUMBER(PreçoUnit),PreçoUnit*INDEX(Import.PLQ,$B25,BQ$16),0)) -> 0 | BR25: =IF(S$15="",0,IF(ISNUMBER(PreçoUnit),PreçoUnit*INDEX(Import.PLQ,$B25,BR$16),0)) -> 0 | BS25: =IF(T$15="",0,IF(ISNUMBER(PreçoUnit),PreçoUnit*INDEX(Import.PLQ,$B25,BS$16),0)) -> 0 | BT25: =IF(U$15="",0,IF(ISNUMBER(PreçoUnit),PreçoUnit*INDEX(Import.PLQ,$B25,BT$16),0)) -> 0 | ... DJ25: =IF(BK$15="",0,IF(ISNUMBER(PreçoUnit),PreçoUnit*INDEX(Import.PLQ,$B25,DJ$16),0)) -> 0 | DK25: =IF(D25="",0,IF(ISNUMBER(VALUE(D25)),VALUE(D25),LEFT(D25,FIND(".",D25)-1))) -> #REF! | DL25: =SUM(DM25:FJ25) -> 0 | DM25: =IF($K25<>1,IF(ISNUMBER(INDEX(Import.PLE,$K25,DM$16)),IF(INDEX(Import.PLE,$K25,DM$16)<=mediçao,BM25,0),0),PLE!$AA$28*BM25) -> 0 | DN25: =IF($K25<>1,IF(ISNUMBER(INDEX(Import.PLE,$K25,DN$16)),IF(INDEX(Import.PLE,$K25,DN$16)<=mediçao,BN25,0),0),PLE!$AA$28*BN25) -> 0 | DO25: =IF($K25<>1,IF(ISNUMBER(INDEX(Import.PLE,$K25,DO$16)),IF(INDEX(Import.PLE,$K25,DO$16)<=mediçao,BO25,0),0),PLE!$AA$28*BO25) -> 0 | DP25: =IF($K25<>1,IF(ISNUMBER(INDEX(Import.PLE,$K25,DP$16)),IF(INDEX(Import.PLE,$K25,DP$16)<=mediçao,BP25,0),0),PLE!$AA$28*BP25) -> 0 | DQ25: =IF($K25<>1,IF(ISNUMBER(INDEX(Import.PLE,$K25,DQ$16)),IF(INDEX(Import.PLE,$K25,DQ$16)<=mediçao,BQ25,0),0),PLE!$AA$28*BQ25) -> 0 | DR25: =IF($K25<>1,IF(ISNUMBER(INDEX(Import.PLE,$K25,DR$16)),IF(INDEX(Import.PLE,$K25,DR$16)<=mediçao,BR25,0),0),PLE!$AA$28*BR25) -> 0 | DS25: =IF($K25<>1,IF(ISNUMBER(INDEX(Import.PLE,$K25,DS$16)),IF(INDEX(Import.PLE,$K25,DS$16)<=mediçao,BS25,0),0),PLE!$AA$28*BS25) -> 0 | DT25: =IF($K25<>1,IF(ISNUMBER(INDEX(Import.PLE,$K25,DT$16)),IF(INDEX(Import.PLE,$K25,DT$16)<=mediçao,BT25,0),0),PLE!$AA$28*BT25) -> 0 | ... FJ25: =IF($K25<>1,IF(ISNUMBER(INDEX(Import.PLE,$K25,FJ$16)),IF(INDEX(Import.PLE,$K25,FJ$16)<=mediçao,DJ25,0),0),PLE!$AA$28*DJ25) -> 0
B26: =ROW(Nível)-ROW(LIorçamento)+1 -> 8 | C26: =IF(D26="","",IF(ISNUMBER(VALUE(D26)),"Meta",IF(AND(F26<>"",I26<>""),"Serviço","Nível"))) -> #REF! | D26: =VLOOKUP(E26,#REF!,2,FALSE) -> #REF! | E26: =IFERROR(INDEX(#REF!,MATCH(0,INDEX(COUNTIF($E$17:E25,#REF!),),)),"") | F26: =IF(VLOOKUP(E26,#REF!,8,FALSE)=0,"",VLOOKUP(E26,#REF!,8,FALSE)) -> #REF! | G26: =IF(Nível="Serviço",SUMIF($N$15:$BK$15,"<>"&"",N26:BK26),"") -> #REF! | H26: =IF(AND(ISNUMBER(G26),G26<>0),I26/G26,IF(G26=0,0,"")) -> #REF! | I26: =SUMIF(#REF!,Eventograma_e_Quantitativos!E26,#REF!) -> #REF! | K26: =deactivatedados.form1 -> 2 | L26: 2-PAVIMENTAÇÃO | N26: =SUMIFS(#REF!,#REF!,Eventograma_e_Quantitativos!N$16,#REF!,Eventograma_e_Quantitativos!$E26) -> #REF! | O26: =SUMIFS(#REF!,#REF!,Eventograma_e_Quantitativos!O$16,#REF!,Eventograma_e_Quantitativos!$E26) -> #REF! | P26: =SUMIFS(#REF!,#REF!,Eventograma_e_Quantitativos!P$16,#REF!,Eventograma_e_Quantitativos!$E26) -> #REF! | Q26: =SUMIFS(#REF!,#REF!,Eventograma_e_Quantitativos!Q$16,#REF!,Eventograma_e_Quantitativos!$E26) -> #REF! | R26: =SUMIFS(#REF!,#REF!,Eventograma_e_Quantitativos!R$16,#REF!,Eventograma_e_Quantitativos!$E26) -> #REF! | S26: =SUMIFS(#REF!,#REF!,Eventograma_e_Quantitativos!S$16,#REF!,Eventograma_e_Quantitativos!$E26) -> #REF! | T26: =SUMIFS(#REF!,#REF!,Eventograma_e_Quantitativos!T$16,#REF!,Eventograma_e_Quantitativos!$E26) -> #REF! | U26: =SUMIFS(#REF!,#REF!,Eventograma_e_Quantitativos!U$16,#REF!,Eventograma_e_Quantitativos!$E26) -> #REF! | ... BK26: =SUMIFS(#REF!,#REF!,Eventograma_e_Quantitativos!BK$16,#REF!,Eventograma_e_Quantitativos!$E26) -> #REF! | BM26: =IF(N$15="",0,IF(ISNUMBER(PreçoUnit),PreçoUnit*INDEX(Import.PLQ,$B26,BM$16),0)) -> #REF! | BN26: =IF(O$15="",0,IF(ISNUMBER(PreçoUnit),PreçoUnit*INDEX(Import.PLQ,$B26,BN$16),0)) -> #REF! | BO26: =IF(P$15="",0,IF(ISNUMBER(PreçoUnit),PreçoUnit*INDEX(Import.PLQ,$B26,BO$16),0)) -> #REF! | BP26: =IF(Q$15="",0,IF(ISNUMBER(PreçoUnit),PreçoUnit*INDEX(Import.PLQ,$B26,BP$16),0)) -> #REF! | BQ26: =IF(R$15="",0,IF(ISNUMBER(PreçoUnit),PreçoUnit*INDEX(Import.PLQ,$B26,BQ$16),0)) -> 0 | BR26: =IF(S$15="",0,IF(ISNUMBER(PreçoUnit),PreçoUnit*INDEX(Import.PLQ,$B26,BR$16),0)) -> 0 | BS26: =IF(T$15="",0,IF(ISNUMBER(PreçoUnit),PreçoUnit*INDEX(Import.PLQ,$B26,BS$16),0)) -> 0 | BT26: =IF(U$15="",0,IF(ISNUMBER(PreçoUnit),PreçoUnit*INDEX(Import.PLQ,$B26,BT$16),0)) -> 0 | ... DJ26: =IF(BK$15="",0,IF(ISNUMBER(PreçoUnit),PreçoUnit*INDEX(Import.PLQ,$B26,DJ$16),0)) -> 0 | DK26: =IF(D26="",0,IF(ISNUMBER(VALUE(D26)),VALUE(D26),LEFT(D26,FIND(".",D26)-1))) -> #REF! | DL26: =SUM(DM26:FJ26) -> 0 | DM26: =IF($K26<>1,IF(ISNUMBER(INDEX(Import.PLE,$K26,DM$16)),IF(INDEX(Import.PLE,$K26,DM$16)<=mediçao,BM26,0),0),PLE!$AA$28*BM26) -> 0 | DN26: =IF($K26<>1,IF(ISNUMBER(INDEX(Import.PLE,$K26,DN$16)),IF(INDEX(Import.PLE,$K26,DN$16)<=mediçao,BN26,0),0),PLE!$AA$28*BN26) -> 0 | DO26: =IF($K26<>1,IF(ISNUMBER(INDEX(Import.PLE,$K26,DO$16)),IF(INDEX(Import.PLE,$K26,DO$16)<=mediçao,BO26,0),0),PLE!$AA$28*BO26) -> 0 | DP26: =IF($K26<>1,IF(ISNUMBER(INDEX(Import.PLE,$K26,DP$16)),IF(INDEX(Import.PLE,$K26,DP$16)<=mediçao,BP26,0),0),PLE!$AA$28*BP26) -> 0 | DQ26: =IF($K26<>1,IF(ISNUMBER(INDEX(Import.PLE,$K26,DQ$16)),IF(INDEX(Import.PLE,$K26,DQ$16)<=mediçao,BQ26,0),0),PLE!$AA$28*BQ26) -> 0 | DR26: =IF($K26<>1,IF(ISNUMBER(INDEX(Import.PLE,$K26,DR$16)),IF(INDEX(Import.PLE,$K26,DR$16)<=mediçao,BR26,0),0),PLE!$AA$28*BR26) -> 0 | DS26: =IF($K26<>1,IF(ISNUMBER(INDEX(Import.PLE,$K26,DS$16)),IF(INDEX(Import.PLE,$K26,DS$16)<=mediçao,BS26,0),0),PLE!$AA$28*BS26) -> 0 | DT26: =IF($K26<>1,IF(ISNUMBER(INDEX(Import.PLE,$K26,DT$16)),IF(INDEX(Import.PLE,$K26,DT$16)<=mediçao,BT26,0),0),PLE!$AA$28*BT26) -> 0 | ... FJ26: =IF($K26<>1,IF(ISNUMBER(INDEX(Import.PLE,$K26,FJ$16)),IF(INDEX(Import.PLE,$K26,FJ$16)<=mediçao,DJ26,0),0),PLE!$AA$28*DJ26) -> 0
B27: =ROW(Nível)-ROW(LIorçamento)+1 -> 9 | C27: =IF(D27="","",IF(ISNUMBER(VALUE(D27)),"Meta",IF(AND(F27<>"",I27<>""),"Serviço","Nível"))) -> #REF! | D27: =VLOOKUP(E27,#REF!,2,FALSE) -> #REF! | E27: =IFERROR(INDEX(#REF!,MATCH(0,INDEX(COUNTIF($E$17:E26,#REF!),),)),"") | F27: =IF(VLOOKUP(E27,#REF!,8,FALSE)=0,"",VLOOKUP(E27,#REF!,8,FALSE)) -> #REF! | G27: =IF(Nível="Serviço",SUMIF($N$15:$BK$15,"<>"&"",N27:BK27),"") -> #REF! | H27: =IF(AND(ISNUMBER(G27),G27<>0),I27/G27,IF(G27=0,0,"")) -> #REF! | I27: =SUMIF(#REF!,Eventograma_e_Quantitativos!E27,#REF!) -> #REF! | K27: =deactivatedados.form1 -> 3 | L27: 3-CALÇADA | N27: =SUMIFS(#REF!,#REF!,Eventograma_e_Quantitativos!N$16,#REF!,Eventograma_e_Quantitativos!$E27) -> #REF! | O27: =SUMIFS(#REF!,#REF!,Eventograma_e_Quantitativos!O$16,#REF!,Eventograma_e_Quantitativos!$E27) -> #REF! | P27: =SUMIFS(#REF!,#REF!,Eventograma_e_Quantitativos!P$16,#REF!,Eventograma_e_Quantitativos!$E27) -> #REF! | Q27: =SUMIFS(#REF!,#REF!,Eventograma_e_Quantitativos!Q$16,#REF!,Eventograma_e_Quantitativos!$E27) -> #REF! | R27: =SUMIFS(#REF!,#REF!,Eventograma_e_Quantitativos!R$16,#REF!,Eventograma_e_Quantitativos!$E27) -> #REF! | S27: =SUMIFS(#REF!,#REF!,Eventograma_e_Quantitativos!S$16,#REF!,Eventograma_e_Quantitativos!$E27) -> #REF! | T27: =SUMIFS(#REF!,#REF!,Eventograma_e_Quantitativos!T$16,#REF!,Eventograma_e_Quantitativos!$E27) -> #REF! | U27: =SUMIFS(#REF!,#REF!,Eventograma_e_Quantitativos!U$16,#REF!,Eventograma_e_Quantitativos!$E27) -> #REF! | ... BK27: =SUMIFS(#REF!,#REF!,Eventograma_e_Quantitativos!BK$16,#REF!,Eventograma_e_Quantitativos!$E27) -> #REF! | BM27: =IF(N$15="",0,IF(ISNUMBER(PreçoUnit),PreçoUnit*INDEX(Import.PLQ,$B27,BM$16),0)) -> #REF! | BN27: =IF(O$15="",0,IF(ISNUMBER(PreçoUnit),PreçoUnit*INDEX(Import.PLQ,$B27,BN$16),0)) -> #REF! | BO27: =IF(P$15="",0,IF(ISNUMBER(PreçoUnit),PreçoUnit*INDEX(Import.PLQ,$B27,BO$16),0)) -> #REF! | BP27: =IF(Q$15="",0,IF(ISNUMBER(PreçoUnit),PreçoUnit*INDEX(Import.PLQ,$B27,BP$16),0)) -> #REF! | BQ27: =IF(R$15="",0,IF(ISNUMBER(PreçoUnit),PreçoUnit*INDEX(Import.PLQ,$B27,BQ$16),0)) -> 0 | BR27: =IF(S$15="",0,IF(ISNUMBER(PreçoUnit),PreçoUnit*INDEX(Import.PLQ,$B27,BR$16),0)) -> 0 | BS27: =IF(T$15="",0,IF(ISNUMBER(PreçoUnit),PreçoUnit*INDEX(Import.PLQ,$B27,BS$16),0)) -> 0 | BT27: =IF(U$15="",0,IF(ISNUMBER(PreçoUnit),PreçoUnit*INDEX(Import.PLQ,$B27,BT$16),0)) -> 0 | ... DJ27: =IF(BK$15="",0,IF(ISNUMBER(PreçoUnit),PreçoUnit*INDEX(Import.PLQ,$B27,DJ$16),0)) -> 0 | DK27: =IF(D27="",0,IF(ISNUMBER(VALUE(D27)),VALUE(D27),LEFT(D27,FIND(".",D27)-1))) -> #REF! | DL27: =SUM(DM27:FJ27) -> 0 | DM27: =IF($K27<>1,IF(ISNUMBER(INDEX(Import.PLE,$K27,DM$16)),IF(INDEX(Import.PLE,$K27,DM$16)<=mediçao,BM27,0),0),PLE!$AA$28*BM27) -> 0 | DN27: =IF($K27<>1,IF(ISNUMBER(INDEX(Import.PLE,$K27,DN$16)),IF(INDEX(Import.PLE,$K27,DN$16)<=mediçao,BN27,0),0),PLE!$AA$28*BN27) -> 0 | DO27: =IF($K27<>1,IF(ISNUMBER(INDEX(Import.PLE,$K27,DO$16)),IF(INDEX(Import.PLE,$K27,DO$16)<=mediçao,BO27,0),0),PLE!$AA$28*BO27) -> 0 | DP27: =IF($K27<>1,IF(ISNUMBER(INDEX(Import.PLE,$K27,DP$16)),IF(INDEX(Import.PLE,$K27,DP$16)<=mediçao,BP27,0),0),PLE!$AA$28*BP27) -> 0 | DQ27: =IF($K27<>1,IF(ISNUMBER(INDEX(Import.PLE,$K27,DQ$16)),IF(INDEX(Import.PLE,$K27,DQ$16)<=mediçao,BQ27,0),0),PLE!$AA$28*BQ27) -> 0 | DR27: =IF($K27<>1,IF(ISNUMBER(INDEX(Import.PLE,$K27,DR$16)),IF(INDEX(Import.PLE,$K27,DR$16)<=mediçao,BR27,0),0),PLE!$AA$28*BR27) -> 0 | DS27: =IF($K27<>1,IF(ISNUMBER(INDEX(Import.PLE,$K27,DS$16)),IF(INDEX(Import.PLE,$K27,DS$16)<=mediçao,BS27,0),0),PLE!$AA$28*BS27) -> 0 | DT27: =IF($K27<>1,IF(ISNUMBER(INDEX(Import.PLE,$K27,DT$16)),IF(INDEX(Import.PLE,$K27,DT$16)<=mediçao,BT27,0),0),PLE!$AA$28*BT27) -> 0 | ... FJ27: =IF($K27<>1,IF(ISNUMBER(INDEX(Import.PLE,$K27,FJ$16)),IF(INDEX(Import.PLE,$K27,FJ$16)<=mediçao,DJ27,0),0),PLE!$AA$28*DJ27) -> 0
