Workbook
Name \C: #REF!
Name \C: #REF!
Name \C: #REF!
Name \C: #REF!
Name \D: #REF!
Name \D: #REF!
Name \D: #REF!
Name \G: #REF!
Name \G: #REF!
Name \G: #REF!
Name \I: #REF!
Name \I: #REF!
Name \I: #REF!
Name \l: #REF!
Name \l: #REF!
Name \l: #REF!
Name \M: #REF!
Name \M: #REF!
Name \M: #REF!
Name \P: #REF!
Name \P: #REF!
Name \P: #REF!
Name \q: #REF!
Name \q: #REF!
Name \q: #REF!
Name \R: #REF!
Name \R: #REF!
Name \R: #REF!
Name \s: #REF!
Name \s: #REF!
Name \s: #REF!
Name \t: #REF!
Name \t: #REF!
Name \t: #REF!
Name \Y: #REF!
Name \Y: #REF!
Name \Y: #REF!
Name _: #REF!
Name _: #REF!
Name _: #REF!
Name _________sub1: #REF!
Name _________sub1: #REF!
Name _________sub1: #REF!
Name _________sub3: #REF!
Name _________sub3: #REF!
Name _________sub3: #REF!
Name ________R: #REF!
Name ________R: #REF!
Name ________R: #REF!
Name ________sub1: #REF!
Name ________sub1: #REF!
Name ________sub1: #REF!
Name ________sub2: #REF!
Name ________sub2: #REF!
Name ________sub2: #REF!
Name ________sub3: #REF!
Name ________sub3: #REF!
Name ________sub3: #REF!
Name ________sub4: #REF!
Name ________sub4: #REF!

Sheet Inf. Prel.
A1: INFORMAÇÕES PRELIMINARES Orçamento OGU
A2: ITEM | B2: DESCRIÇÃO | C2: INFORMAÇÃO
A3: 1 | B3: Número Convênio (SICONV)
B4: Número Contrato de Repasse (Operação)
A5: 3 | B5: Gestor do Recurso (Ministério)
A6: 4 | B6: Objeto | C6: FORNECIMENTO E INSTALAÇÃO DE SUBESTAÇÕES AÉREAS EM DIVERSAS ESCOLAS DO MUNICIPIO DE POMBAL-PB
A7: 5 | B7: Tipo de obra/serviço
A8: 6 | B8: Programa
A9: 7 | B9: Ação/Modalidade
A10: 8 | B10: Proponente/Tomador | C10: PREFEITURA MUNICIPAL DE POMBAL - PB
A11: 9 | B11: Timbre Proponente/Tomador (Clicar no botão direito do mouse sobre a imagem -> Alterar Imagem -> de um Arquivo)
A12: 10 | B12: Representante Legal da Instituição
A13: 11 | B13: Cargo do Representante Legal | C13: Prefeito Constitucional
A14: 12 | B14: Município/UF | C14: POMBAL -PB
A15: 13 | B15: Localidade/Endereço | C15: Diversas
A16: 14 | B16: GIGOV (CAIXA) responsável pela análise
A17: 15 | B17: =CONCATENATE("Data Orçamento (Sugestão: ",TEXT(TODAY(), "dd/MM/aaaa"),")") -> Data Orçamento (Sugestão: 11/05/2026) | C17: =TODAY() -> 46153
A18: 16 | B18: Responsável Técnico | C18: Ana Clara Ferreira Siqueira

Sheet Capa
B21: PLANILHA ORÇAMENTÁRIA
C25: ='Inf. Prel.'!C6 -> FORNECIMENTO E INSTALAÇÃO DE SUBESTAÇÕES AÉREAS EM DIVERSAS ESCOLAS DO MUNICIPIO DE POMBAL-PB
E45: =CONCATENATE((DAY('Inf. Prel.'!C17))," de") -> 11 de | F45: =CONCATENATE((TEXT('Inf. Prel.'!C17,"mmmm"))," de") -> maio de | G45: =YEAR('Inf. Prel.'!C17) -> 2026

Sheet Encargos
A1: ENCARGOS SOCIAIS
A3: Item | B3: Discriminação | C3: Horista | D3: Mensalista
A4: A | B4: ENCARGOS SOCIAIS BÁSICOS | C4: =SUM(C5:C13) -> 16.8 | D4: =SUM(D5:D13) -> 16.8
A5: A-1 | B5: INSS | C5: 0 | D5: 0
A6: A-2 | B6: SESI | C6: 1.5 | D6: 1.5
A7: A-3 | B7: SENAI | C7: 1 | D7: 1
A8: A-4 | B8: INCRA | C8: 0.2 | D8: 0.2
A9: A-5 | B9: SEBRAE | C9: 0.6 | D9: 0.6
A10: A-6 | B10: SALÁRIO EDUCAÇÃO | C10: 2.5 | D10: 2.5
A11: A-7 | B11: SEGURO CONTRA ACIDENTES DE TRABALHO | C11: 3 | D11: 3
A12: A-8 | B12: FGTS | C12: 8 | D12: 8
A13: A-9 | B13: SECONCI | C13: 0 | D13: 0
A14: B | B14: ENCARGOS SOCIAIS QUE RECEBEM AS INCIDÊNCIAS DE "A" | C14: =SUM(C15:C25) -> 50.51 | D14: =SUM(D15:D25) -> 20.28
A15: B-1 | B15: REPOUSO SEMANAL REMUNERADO | C15: 18.01 | D15: 0
A16: B-2 | B16: FERIADOS | C16: 4.3 | D16: 0
A17: B-3 | B17: AUXILIO - ENFERMIDADE | C17: 0.87 | D17: 0.67
A18: B-4 | B18: 13º SALARIO | C18: 10.78 | D18: 8.33
A19: B-5 | B19: LICENÇA PATERNIDADE | C19: 0.07 | D19: 0.06
A20: B-6 | B20: FALTAS JUSTIFICADAS | C20: 0.72 | D20: 0.56
A21: B-7 | B21: DIAS DE CHUVAS | C21: 1.98 | D21: -
A22: B-8 | B22: AUXILIO ACIDENTE DE TRABALHO | C22: 0.11 | D22: 0.08
A23: B-9 | B23: FÉRIAS GOZADAS | C23: 13.64 | D23: 10.55
A24: B-10 | B24: SALÁRIO MATERNIDADE | C24: 0.03 | D24: 0.03
A26: C | B26: ENCARGOS SOCIAIS QUE NÃO RECEBEM AS INCIDÊNCIAS DE "A" | C26: =SUM(C27:C32) -> 9.52 | D26: =SUM(D27:D32) -> 7.38
A27: C-1 | B27: AVISO PRÉVIO INDENIZADO | C27: 4.45 | D27: 3.45
A28: C-2 | B28: AVISO PRÉVIO TRABALHADO | C28: 0.1 | D28: 0.08
A29: C-3 | B29: FÉRIAS INDENIZADAS | C29: 0.5 | D29: 0.39
A30: C-4 | B30: DEPÓSITO RECISÃO SEM JUSTA CAUSA | C30: 4.1 | D30: 3.17
A31: C-5 | B31: INDENIZAÇÃO ADICIONAL | C31: 0.37 | D31: 0.29
A33: D | B33: TAXAS DE REINCIDÊNCIAS DE UM GRUPO SOBRE O OUTRO | C33: =SUM(C34:C35) -> 8.86 | D33: =SUM(D34:D35) -> 3.7
A34: D-1 | B34: REINCIDENCIA DE GRUPO A SOBRE GRUPO B | C34: 8.49 | D34: 3.41
A35: D-2 | B35: REINCIDENCIA DE GRUPO A SOBRE AVISO PRÉVIO TRABALHADO E REINCIDENCIA DO FGTS SOBRE AVISO PRÉVIO INDENIZADO | C35: 0.37 | D35: 0.29
B36: TOTAL | C36: =SUM(C4,C14,C26,C33) -> 85.69 | D36: =SUM(D4,D14,D26,D33) -> 48.16

Sheet BDI
C4: ='Inf. Prel.'!C10 -> PREFEITURA MUNICIPAL DE POMBAL - PB | L4: CONCEDENTE:
L5: CONTRATO:
L6: OBRA: | N6: ='Inf. Prel.'!C6 -> FORNECIMENTO E INSTALAÇÃO DE SUBESTAÇÕES AÉREAS EM DIVERSAS ESCOLAS DO MUNICIPIO DE POMBAL-PB
R8: REF. PREÇOS: | T8: DESONERADO:
R9: SINAPI-PB / 12-2025 | T9: Não
B11: CÁLCULO DA BONIFICAÇÃO E DESPESAS INDIRETAS
B13: CÁLCULO DE BDI | D13: 1 - Edificações | G13: 2 - Rodovias, Ferrovias, Pistas de Aeroportos, Infra Viária Urbana | J13: 3 - Abastecimento de Água, Coleta de Esgoto | M13: 4 - Estações e Redes de Distribuição de Energia Elétrica | P13: 5 - Portuárias, Marítimas e Fluviais | S13: 6 - Fornecimento de Materiais e Equipamentos
B14: Item componente do BDI | C14: % Info | D14: 1ºQ | E14: Médio | F14: 3º Q | G14: 1ºQ | H14: Médio | I14: 3º Q | J14: 1ºQ | K14: Médio | L14: 3º Q | M14: 1ºQ | N14: Médio | O14: 3º Q | P14: 1ºQ | Q14: Médio | R14: 3º Q | S14: 1ºQ | T14: Médio | U14: 3º Q
B15: Administração Central ( AC ) | C15: 5.92 | D15: 3 | E15: 4 | F15: 5.5 | G15: 3.8 | H15: 4.01 | I15: 4.67 | J15: 3.43 | K15: 4.93 | L15: 6.71 | M15: 5.29 | N15: 5.92 | O15: 7.93 | P15: 4 | Q15: 5.52 | R15: 7.85 | S15: 1.5 | T15: 3.45 | U15: 4.49
B16: Seguro e Garantia (G) | C16: 0.51 | D16: 0.8 | E16: 0.8 | F16: 1 | G16: 0.32 | H16: 0.4 | I16: 0.74 | J16: 0.28 | K16: 0.49 | L16: 0.75 | M16: 0.25 | N16: 0.51 | O16: 0.56 | P16: 0.81 | Q16: 1.22 | R16: 1.99 | S16: 0.3 | T16: 0.48 | U16: 0.82
B17: Risco (R) | C17: 1.48 | D17: 0.97 | E17: 1.27 | F17: 1.27 | G17: 0.5 | H17: 0.56 | I17: 0.97 | J17: 1 | K17: 1.39 | L17: 1.74 | M17: 1 | N17: 1.48 | O17: 1.97 | P17: 1.46 | Q17: 2.32 | R17: 3.16 | S17: 0.56 | T17: 0.85 | U17: 0.89
B18: Despesas Financeiras (DF) | C18: 1.07 | D18: 0.59 | E18: 1.23 | F18: 1.39 | G18: 1.02 | H18: 1.11 | I18: 1.21 | J18: 0.94 | K18: 0.99 | L18: 1.17 | M18: 1.01 | N18: 1.07 | O18: 1.11 | P18: 0.94 | Q18: 1.02 | R18: 1.33 | S18: 0.85 | T18: 0.85 | U18: 1.11
B19: Lucro (L) | C19: 8.31 | D19: 6.16 | E19: 7.4 | F19: 8.96 | G19: 6.64 | H19: 7.3 | I19: 8.69 | J19: 6.74 | K19: 8.04 | L19: 9.4 | M19: 8 | N19: 8.31 | O19: 9.51 | P19: 7.14 | Q19: 8.4 | R19: 10.43 | S19: 3.5 | T19: 5.11 | U19: 6.22
B20: Impostos (I) - PIS, COFINS, ISSQN | C20: =0.65+3+2 -> 5.65 | D20: Conforme Legislação Específica
B21: Observações
B22: 1) Preencher apenas a coluna % Informado (Coluna C) | G22: VALORES DE BDI POR TIPO DE OBRA
B23: =CONCATENATE("2) Os impostos (I) normalmente aplicáveis são: PIS (0,65%), COFINS (3,00%), ISS (2 ",'Inf. Prel.'!C10,").") -> 2) Os impostos (I) normalmente aplicáveis são: PIS (0,65%), COFINS (3,00%), ISS (2 PREFEITURA MUNICIPAL DE POMBAL - PB). | G23: Tipo de Obra | M23: 1ºQ | N23: Médio | O23: 3º Q
G24: 1 - Edificações | M24: 20.34 | N24: 22.12 | O24: 25
B25: 3) O cálculo do BDI se baseia na fórmula abaixo utilizada pelo Acórdão 2622/13 do TCU, conforme CE GEPAD 354/2013 de 17/10/2013. | G25: 2 - Rodovias, Ferrovias, Pistas de Aeroportos, Infra Viária Urbana | M25: 19.6 | N25: 20.97 | O25: 24.23
G26: 3 - Abastecimento de Água, Coleta de Esgotos | M26: 20.76 | N26: 24.18 | O26: 26.44
G27: 4 - Estações e Redes de Distribuição de Energia Elétrica | M27: 24 | N27: 25.84 | O27: 27.86
B28: Fórmula Utilizada: | G28: 5 - Portuárias, Marítimas e Fluviais | M28: 22.8 | N28: 27.48 | O28: 30.95
G29: 6 - Fornecimento de Materiais e Equipamentos | M29: 11.1 | N29: 14.02 | O29: 16.8
G31: Observações sobre os % informados no cálculo do BDI, neste caso:
B32: B.D.I = | C32: =ROUND(((1+(C15+C16+C17)/100)*((1+C18/100)*(1+C19/100))/(1-C20/100))-1,4) -> 0.252 | G32: Estações e Redes de Distribuição de Energia (obra tipo 4)
G33: Os valores % informados se enquadram nos limites do Acordão 2622/2013-TCU-Plenário (CPRB desconsiderado)

Sheet Cotação
B3: =BDI!C4 -> PREFEITURA MUNICIPAL DE POMBAL - PB
B4: CONTRATO: | C4: =CONCATENATE('Inf. Prel.'!C4, " - ",RIGHT('Inf. Prel.'!C3,7)) -> - | D4: REF. PREÇOS: | F4: DESONERADO:
B5: OBRA: | C5: =BDI!N6 -> FORNECIMENTO E INSTALAÇÃO DE SUBESTAÇÕES AÉREAS EM DIVERSAS ESCOLAS DO MUNICIPIO DE POMBAL-PB | D5: =BDI!R9 -> SINAPI-PB / 12-2025 | F5: =BDI!T9 -> Não
B7: COTAÇÃO DE INSUMOS
B8: ITEM | C8: DESCRIÇÃO/FONTE | D8: TIPO | E8: UND | F8: CUSTO
B9: 1 | C9: LUMINÁRIA LED 10W DE EMBUTIR | E9: UM | F9: =ROUND((F10+F11+F12)/3,2) -> 32.9
B10: =CONCATENATE($B$9,".1") -> 1.1 | C10: INTERBLOCOS INDUSTRIA E COMERCIO DE ARTEFATOS DE CIMENTO EIRELI (CNPJ: 14.465.161/0001-65) | D10: INSUMO | E10: =E9 -> UM | F10: 39.9
B11: =CONCATENATE($B$9,".2") -> 1.2 | C11: Precon Artefatos de Concreto LTDA (CNPJ 13.617.541/0001-05) | D11: INSUMO | E11: =E10 -> UM | F11: 31.9
B12: =CONCATENATE($B$9,".3") -> 1.3 | C12: BR CONSTRUÇÃO (CNPJ 43.453.062.0001/61) | D12: INSUMO | E12: =E11 -> UM | F12: 26.9
B13: 2 | C13: LUMINÁRIA LED 15W DE EMBUTIR | E13: UM | F13: =ROUND((F14+F15+F16)/3,2) -> 46.57
B14: =CONCATENATE($B$13,".1") -> 2.1 | C14: Ferreira Costa & Cia Ltda CNPJ: 10.230.480/0022-65 | E14: =E13 -> UM | F14: 46.9
B15: =CONCATENATE($B$13,".2") -> 2.2 | C15: Carajás Material de Construção Ltda CNPJ: 03.656.804/0024-28 | E15: =E14 -> UM | F15: 42.9
B16: =CONCATENATE($B$13,".3") -> 2.3 | C16: ALED COMERCIO DE PRODUTOS DE ILUMINACAO LTDA CNPJ: 50.820.558/0001-91 | E16: =E15 -> UM | F16: 49.9
B17: 3 | C17: LUMINÁRIA LED 15W DE SOBREPOR | E17: UM | F17: =ROUND((F18+F19+F20)/3,2) -> 62.39
B18: =CONCATENATE(B17,".1") -> 3.1 | C18: ALED COMERCIO DE PRODUTOS DE ILUMINACAO LTDA CNPJ: 50.820.558/0001-91 | E18: =E17 -> UM | F18: 49.9
B19: =CONCATENATE(B17,".2") -> 3.2 | C19: Starlumen do Brasil Ltda CNPJ: 47.628.241/0001-43 | E19: =E18 -> UM | F19: 65.02
B20: =CONCATENATE(B17,".3") -> 3.3 | C20: Leroy Merlin Companhia Brasileira de Bricolagem CNPJ: 01.438.784/0001-05 | E20: =E19 -> UM | F20: 72.24
B21: 4 | C21: LUMINÁRIA LED 20W DE EMBUTIR | E21: UM | F21: =ROUND((F22+F23+F24)/3,2) -> 46.87
B22: =CONCATENATE(B21,".1") -> 4.1 | C22: Ferreira Costa & Cia Ltda CNPJ: 10.230.480/0022-65 | E22: =E21 -> UM | F22: 41.9
B23: =CONCATENATE(B21,".2") -> 4.2 | C23: Madeiramadeira Comércio Eletrônico S/A CNPJ:10.490.181/0002-16 | E23: =E22 -> UM | F23: 42.9
B24: =CONCATENATE(B21,".3") -> 4.3 | C24: ALED COMERCIO DE PRODUTOS DE ILUMINACAO LTDA CNPJ: 50.820.558/0001-91 | E24: =E23 -> UM | F24: 55.8
B25: 5 | C25: Luminária de embutir aletada 2x32W LED - T8 120cm | E25: UM | F25: =ROUND((F26+F27+F28)/3,2) -> 229.11
B26: =CONCATENATE(B25,".1") -> 5.1 | C26: MM ILUMINACOES LTDA CNPJ: 86.896.651/0001-27 | E26: =E25 -> UM | F26: 245.12
B27: =CONCATENATE(B25,".2") -> 5.2 | C27: ILUMINA INSTALAÇÃO LTDA CNPJ: 21.238.576/0001-61 | E27: =E26 -> UM | F27: 242.25
B28: =CONCATENATE(B25,".3") -> 5.3 | C28: SANTIL COMERCIAL ELETRICA LTDA CNPJ: 49.474.398/0013-20 | E28: =E27 -> UM | F28: 199.97
B29: 6 | C29: Luminária de sobrepor aletada 2x32W LED - T8 120cm | E29: UM | F29: =ROUND((F30+F31+F32)/3,2) -> 234.32
B30: =CONCATENATE(B29,".1") -> 6.1 | C30: MM ILUMINACOES LTDA CNPJ: 86.896.651/0001-27 | E30: =E29 -> UM | F30: 252.62
B31: =CONCATENATE(B29,".2") -> 6.2 | C31: ILUMINA INSTALAÇÃO LTDA CNPJ: 21.238.576/0001-61 | E31: =E30 -> UM | F31: 255.34
B32: =CONCATENATE(B29,".3") -> 6.3 | C32: CARVALHO COMERCIO DE MATERIAL ELETRICO CNPJ: 22.425.609/0001-45 | E32: =E31 -> UM | F32: 195
B33: 7 | C33: Lâmpada Led 32W | E33: UM | F33: =ROUND((F34+F35+F36)/3,2) -> 80.72
B34: =CONCATENATE(B33,".1") -> 7.1 | C34: Philips do Brasil Ltda CNPJ: 61.086.336/0001-03 | E34: =E33 -> UM | F34: 79.99
B35: =CONCATENATE(B33,".2") -> 7.2 | C35: Leroy Merlin Companhia Brasileira de Bricolagem CNPJ: 01.438.784/0001-05 | E35: =E34 -> UM | F35: 96.15
B36: =CONCATENATE(B33,".3") -> 7.3 | C36: Dimensional Brasil Soluções Ltda CNPJ: 06.913.480/0017-25 | E36: =E35 -> UM | F36: 66.03
B37: 8 | C37: ELETROCALHA PERFURADA 100x75x3000mm, GALVANIZADA A FOGO, CHAPA #18 | E37: UN | F37: =F38 -> 218.94
B38: =CONCATENATE(B37,".1") -> 8.1 | C38: Eletro FM - Comércio de Materiais Elétricos Ltda CNPJ: 00.617.983/0001-00. | E38: =E37 -> UN | F38: 218.94
B39: Obs.: Adotado como referência a MEDIA dos valores cotados
B40: 9 | C40: REVESTIMENTO EM PASTILHA CERÂMICA 15X15 INTERNO | E40: M² | F40: =ROUND((F41+F42+F43)/3,2) -> 104.43
B41: =CONCATENATE(B40,".1") -> 9.1 | C41: Ferreira Costa e Cia Ltda CNPJ: 10.230.480/0008-07 | E41: =E40 -> M² | F41: 102.9
B42: =CONCATENATE(B40,".2") -> 9.2 | C42: TelhaNorte CNPJ: 03.840.986/0020-69 | E42: =E41 -> M² | F42: 134.9
B43: =CONCATENATE(B40,".3") -> 9.3 | C43: FORNECEDORA CHATUBA DE NILOPOLIS S.A CNPJ: 29.911.559/0010-46 | E43: =E42 -> M² | F43: 75.5
...

Sheet Plan.Orçam.
K3: CONCEDENTE:
H4: ='Inf. Prel.'!C10 -> PREFEITURA MUNICIPAL DE POMBAL - PB | K4: CONTRATO:
K5: OBRA: | L5: =BDI!N6 -> FORNECIMENTO E INSTALAÇÃO DE SUBESTAÇÕES AÉREAS EM DIVERSAS ESCOLAS DO MUNICIPIO DE POMBAL-PB
K7: REF. PREÇOS: | L7: DESONERADO: | M7: Encargos: | N7: B.D.I. Serviços:
K8: =BDI!R9 -> SINAPI-PB / 12-2025 | L8: =BDI!T9 -> Não | M8: =Encargos!C36 -> 85.69 | N8: =BDI!C32 -> 0.252
F9: PLANILHA ORÇAMENTÁRIA
F11: FONTE | G11: CÓDIGO | H11: ITEM | I11: DESCRIÇÃO DOS SERVIÇOS | J11: UNID. | K11: QUANT. | L11: VALORES (R$) - UNIT SEM BDI | M11: VALORES (R$) - UNIT COM BDI | N11: VALORES (R$) - TOTAL
H12: 1.0 | I12: =UPPER("Subestação Escola Poeta") -> SUBESTAÇÃO ESCOLA POETA | N12: =ROUND(N13+N27+N32+N45,2) -> 20411.86
H13: 1.1 | I13: =UPPER("Subestação Escola Poeta") -> SUBESTAÇÃO ESCOLA POETA | N13: =SUM(N14:N26) -> 5174.51
F14: SINAPI | G14: 105973 | H14: 1.1.1 | I14: ESTRUTURA DE ESTAIAMENTO PARA POSTES DE CONCRETO CRUZETA A POSTE N3 - FORNECIMENTO E INSTALAÇÃO. AF_04/2025 | J14: UN | K14: 3 | L14: 117.4 | M14: =TRUNC((L14*$N$8)+L14,2) -> 146.98 | N14: =TRUNC(K14*M14,2) -> 440.94
F15: SINAPI | G15: 102110 | H15: 1.1.2 | I15: SUPORTE PARA TRANSFORMADOR EM POSTE DE CONCRETO DUPLO T - FORNECIMENTO E INSTALAÇÃO. AF_12/2020 | J15: UN | K15: 2 | L15: 212.69 | M15: =TRUNC((L15*$N$8)+L15,2) -> 266.28 | N15: =TRUNC(K15*M15,2) -> 532.56
F16: Próprio | G16: 0377 | H16: 1.1.3 | I16: (102105) - TRANSFORMADOR DE DISTRIBUIÇÃO, 112,5 KVA, TRIFÁSICO, 60 HZ, CLASSE 15 KV, IMERSO EM ÓLEO MINERAL, INSTALAÇÃO EM POSTE (NÃO INCLUSO SUPORTE) - INSTALAÇÃO. AF_12/2020 | J16: UN | K16: 1 | L16: 534.17 | M16: =TRUNC((L16*$N$8)+L16,2) -> 668.78 | N16: =TRUNC(K16*M16,2) -> 668.78
F17: SINAPI | G17: 101546 | H17: 1.1.4 | I17: ISOLADOR, TIPO PINO, PARA TENSÃO 15 KV - FORNECIMENTO E INSTALAÇÃO. AF_12/2025 | J17: UN | K17: 3 | L17: 28.76 | M17: =TRUNC((L17*$N$8)+L17,2) -> 36 | N17: =TRUNC(K17*M17,2) -> 108
F18: SINAPI | G18: 101540 | H18: 1.1.5 | I18: ARMAÇÃO SECUNDÁRIA, COM 3 ESTRIBOS E 3 ISOLADORES - FORNECIMENTO E INSTALAÇÃO. AF_12/2025 | J18: UN | K18: 1 | L18: 138.85 | M18: =TRUNC((L18*$N$8)+L18,2) -> 173.84 | N18: =TRUNC(K18*M18,2) -> 173.84
F19: ORSE | G19: 2884 | H19: 1.1.6 | I19: Fornecimento de gancho de olhal c/ furo 18 mm | J19: UN | K19: 3 | L19: 14.9 | M19: =TRUNC((L19*$N$8)+L19,2) -> 18.65 | N19: =TRUNC(K19*M19,2) -> 55.95
F20: ORSE | G20: 4136 | H20: 1.1.7 | I20: Manilha sapatilha preformada, fornecimento | J20: UN | K20: 3 | L20: 21 | M20: =TRUNC((L20*$N$8)+L20,2) -> 26.29 | N20: =TRUNC(K20*M20,2) -> 78.87
F21: ORSE | G21: 2923 | H21: 1.1.8 | I21: Fornecimento de parafuso rosca dupla 16 x 300mm | J21: UN | K21: 8 | L21: 21.41 | M21: =TRUNC((L21*$N$8)+L21,2) -> 26.8 | N21: =TRUNC(K21*M21,2) -> 214.4
F22: ORSE | G22: 2925 | H22: 1.1.9 | I22: Fornecimento de parafuso rosca dupla 16 x 400mm | J22: UN | K22: 4 | L22: 28.3 | M22: =TRUNC((L22*$N$8)+L22,2) -> 35.43 | N22: =TRUNC(K22*M22,2) -> 141.72
F23: ORSE | G23: 12876 | H23: 1.1.10 | I23: Fornecimento e instalação de Para raios tipo polimérico 15kv - 12ka | J23: UN | K23: 3 | L23: 253.85 | M23: =TRUNC((L23*$N$8)+L23,2) -> 317.82 | N23: =TRUNC(K23*M23,2) -> 953.46
F24: ORSE | G24: 3335 | H24: 1.1.11 | I24: Fornecimento de alça preformada para cabo multiplex 35 mm2 | J24: UN | K24: 3 | L24: 14.65 | M24: =TRUNC((L24*$N$8)+L24,2) -> 18.34 | N24: =TRUNC(K24*M24,2) -> 55.02
F25: ORSE | G25: 13173 | H25: 1.1.12 | I25: Fornecimento de arruela quadrada 38 mm c/ furo 18 mm | J25: UN | K25: 36 | L25: 1.43 | M25: =TRUNC((L25*$N$8)+L25,2) -> 1.79 | N25: =TRUNC(K25*M25,2) -> 64.44
F26: ORSE | G26: 2945 | H26: 1.1.13 | I26: Poste de concreto duplo T (DT) 12/600 - fornecimento | J26: UN | K26: 1 | L26: 1347.07 | M26: =TRUNC((L26*$N$8)+L26,2) -> 1686.53 | N26: =TRUNC(K26*M26,2) -> 1686.53
H27: 1.2 | I27: ATERRAMENTO | N27: =SUM(N28:N31) -> 3206.16
F28: SINAPI | G28: 96977 | H28: 1.2.1 | I28: CORDOALHA DE COBRE NU 50 MM², ENTERRADA - FORNECIMENTO E INSTALAÇÃO. AF_08/2023 | J28: M | K28: 27 | L28: 66.55 | M28: =TRUNC((L28*$N$8)+L28,2) -> 83.32 | N28: =TRUNC(K28*M28,2) -> 2249.64
F29: SINAPI | G29: 104749 | H29: 1.2.2 | I29: CONECTOR GRAMPO METÁLICO TIPO OLHAL, PARA SPDA, PARA HASTE DE ATERRAMENTO DE 3/4'' E CABOS DE 10 A 50 MM2 - FORNECIMENTO E INSTALAÇÃO. AF_08/2023 | J29: UN | K29: 4 | L29: 22.58 | M29: =TRUNC((L29*$N$8)+L29,2) -> 28.27 | N29: =TRUNC(K29*M29,2) -> 113.08
F30: ORSE | G30: 9379 | H30: 1.2.3 | I30: Haste cobreada copperweld p/aterramento d= 5/8" x 2,40m | J30: UN | K30: 4 | L30: 68.41 | M30: =TRUNC((L30*$N$8)+L30,2) -> 85.64 | N30: =TRUNC(K30*M30,2) -> 342.56
F31: ORSE | G31: 12915 | H31: 1.2.4 | I31: Caixa de concreto pre moldado para aterramento, com tampa, 40 x 40 x 40, e = 5cm | J31: UN | K31: 4 | L31: 100.02 | M31: =TRUNC((L31*$N$8)+L31,2) -> 125.22 | N31: =TRUNC(K31*M31,2) -> 500.88
H32: 1.3 | I32: RAMAL DE ENTRADA | N32: =SUM(N33:N44) -> 10404.5
F33: ORSE | G33: 7929 | H33: 1.3.1 | I33: Terminal de compressão para cabo de 70 mm2 - fornecimento e instalação | J33: UN | K33: 12 | L33: 7.79 | M33: =TRUNC((L33*$N$8)+L33,2) -> 9.75 | N33: =TRUNC(K33*M33,2) -> 117
F34: ORSE | G34: 8021 | H34: 1.3.2 | I34: Cabeçote de alumínio de 3" | J34: UN | K34: 1 | L34: 33.33 | M34: =TRUNC((L34*$N$8)+L34,2) -> 41.72 | N34: =TRUNC(K34*M34,2) -> 41.72
F35: ORSE | G35: 8022 | H35: 1.3.3 | I35: Eletroduto em ferro galvanizado pesado sem costura 3" x 3m | J35: UN | K35: 2 | L35: 399.58 | M35: =TRUNC((L35*$N$8)+L35,2) -> 500.27 | N35: =TRUNC(K35*M35,2) -> 1000.54
F36: ORSE | G36: 10805 | H36: 1.3.4 | I36: Curva para eletroduto galvanizado, diâm = 3" - Rev.01 | J36: UN | K36: 2 | L36: 63.8 | M36: =TRUNC((L36*$N$8)+L36,2) -> 79.87 | N36: =TRUNC(K36*M36,2) -> 159.74
F37: ORSE | G37: 10806 | H37: 1.3.5 | I37: Luva para eletroduto galvanizado, diâm = 3" | J37: UN | K37: 2 | L37: 26.04 | M37: =TRUNC((L37*$N$8)+L37,2) -> 32.6 | N37: =TRUNC(K37*M37,2) -> 65.2
F38: ORSE | G38: 3999 | H38: 1.3.6 | I38: Fita em aço inox, fusimec ou similar - Fornecimento | J38: M | K38: 10 | L38: 3.8 | M38: =TRUNC((L38*$N$8)+L38,2) -> 4.75 | N38: =TRUNC(K38*M38,2) -> 47.5
F39: ORSE | G39: 11381 | H39: 1.3.7 | I39: Quadro de medição indireta para transformadores de até 225 kva | J39: UN | K39: 1 | L39: 2567.11 | M39: =TRUNC((L39*$N$8)+L39,2) -> 3214.02 | N39: =TRUNC(K39*M39,2) -> 3214.02
F40: SINAPI | G40: 101563 | H40: 1.3.8 | I40: CABO DE COBRE FLEXÍVEL ISOLADO, 35 MM², 0,6/1,0 KV, PARA REDE AÉREA DE DISTRIBUIÇÃO DE ENERGIA ELÉTRICA DE BAIXA TENSÃO - FORNECIMENTO E INSTALAÇÃO. AF_12/2025 | J40: M | K40: 14 | L40: 41.43 | M40: =TRUNC((L40*$N$8)+L40,2) -> 51.87 | N40: =TRUNC(K40*M40,2) -> 726.18
F41: SINAPI | G41: 101565 | H41: 1.3.9 | I41: CABO DE COBRE FLEXÍVEL ISOLADO, 70 MM², 0,6/1,0 KV, PARA REDE AÉREA DE DISTRIBUIÇÃO DE ENERGIA ELÉTRICA DE BAIXA TENSÃO - FORNECIMENTO E INSTALAÇÃO. AF_12/2025 | J41: M | K41: 42 | L41: 85.62 | M41: =TRUNC((L41*$N$8)+L41,2) -> 107.19 | N41: =TRUNC(K41*M41,2) -> 4501.98
F42: SINAPI | G42: 93011 | H42: 1.3.10 | I42: ELETRODUTO RÍGIDO ROSCÁVEL, PVC, DN 85 MM (3"), PARA REDE ENTERRADA DE DISTRIBUIÇÃO DE ENERGIA ELÉTRICA - FORNECIMENTO E INSTALAÇÃO. AF_12/2021 | J42: M | K42: 6 | L42: 49.06 | M42: =TRUNC((L42*$N$8)+L42,2) -> 61.42 | N42: =TRUNC(K42*M42,2) -> 368.52
F43: SINAPI | G43: 93024 | H43: 1.3.11 | I43: CURVA 90 GRAUS PARA ELETRODUTO, PVC, ROSCÁVEL, DN 85 MM (3"), PARA REDE ENTERRADA DE DISTRIBUIÇÃO DE ENERGIA ELÉTRICA - FORNECIMENTO E INSTALAÇÃO. AF_12/2021 | J43: UN | K43: 2 | L43: 38.98 | M43: =TRUNC((L43*$N$8)+L43,2) -> 48.8 | N43: =TRUNC(K43*M43,2) -> 97.6
F44: SINAPI | G44: 93016 | H44: 1.3.12 | I44: LUVA PARA ELETRODUTO, PVC, ROSCÁVEL, DN 85 MM (3"), PARA REDE ENTERRADA DE DISTRIBUIÇÃO DE ENERGIA ELÉTRICA - FORNECIMENTO E INSTALAÇÃO. AF_12/2021 | J44: UN | K44: 2 | L44: 25.76 | M44: =TRUNC((L44*$N$8)+L44,2) -> 32.25 | N44: =TRUNC(K44*M44,2) -> 64.5
...

Sheet Plan.Global
H3: CONCEDENTE: | I3: =BDI!N4 -> 0
H4: CONTRATO: | I4: =BDI!N5 -> 0
G5: ='Inf. Prel.'!C10 -> PREFEITURA MUNICIPAL DE POMBAL - PB | H5: OBRA: | I5: =BDI!N6 -> FORNECIMENTO E INSTALAÇÃO DE SUBESTAÇÕES AÉREAS EM DIVERSAS ESCOLAS DO MUNICIPIO DE POMBAL-PB
I7: REF. PREÇOS: | J7: DESONERADO: | K7: Encargos: | L7: B.D.I. Serviços:
I8: =BDI!R9 -> SINAPI-PB / 12-2025 | J8: =BDI!T9 -> Não | K8: 0.8569 | L8: 0.2746
F10: PLANILHA GLOBAL
F12: ITEM | G12: DESCRIÇÃO DOS SERVIÇOS | I12: UNID. | J12: QUANT. | K12: VALORES (R$) - UNIT | L12: VALORES (R$) - TOTAL
D13: 0 | F13: 0.0 | G13: =VLOOKUP(F13,#REF!,2,FALSE) -> #REF! | L13: =SUM(L14+L20+L24+L31+L50) -> #VALUE!
D14: 1 | E14: 1.1 | F14: =CONCATENATE(D14,".",0) -> 1.0 | G14: =VLOOKUP(E14,#REF!,2,FALSE) -> #REF! | L14: =SUM(L15+L17) -> #VALUE!
E15: 1.1.1 | F15: 1.1 | G15: =VLOOKUP(E15,#REF!,2,FALSE) -> #REF! | I15: UN | J15: =J16 -> 3 | K15: =K16 -> 146.98 | L15: =L16 -> 440.94
D16: 1.1.1 | E16: 1.0 | G16: =VLOOKUP(E16,#REF!,2,FALSE) -> #REF! | I16: =IFERROR(VLOOKUP(D16,'Plan.Orçam.'!H:M,3,FALSE),"") -> UN | J16: =IFERROR(VLOOKUP(D16,'Plan.Orçam.'!H:M,4,FALSE),"") -> 3 | K16: =IFERROR(VLOOKUP(D16,'Plan.Orçam.'!H:N,6,FALSE),"") -> 146.98 | L16: =ROUND(J16*K16,2) -> 440.94
E17: 1.1.2 | F17: 1.2 | G17: =VLOOKUP(E17,#REF!,2,FALSE) -> #REF! | I17: M2 | J17: 2866.4 | K17: 0.47 | L17: =SUM(L18:L19) -> #VALUE!
D18: 1.1.2 | E18: 1.0 | G18: =VLOOKUP(E18,#REF!,2,FALSE) -> #REF! | I18: =IFERROR(VLOOKUP(D18,'Plan.Orçam.'!H:M,3,FALSE),"") -> UN | J18: =IFERROR(VLOOKUP(D18,'Plan.Orçam.'!H:M,4,FALSE),"") -> 2 | K18: =IFERROR(VLOOKUP(D18,'Plan.Orçam.'!H:N,6,FALSE),"") -> 266.28 | L18: =ROUND(J18*K18,2) -> 532.56
D19: 2.1.1 | E19: 2.0 | G19: =VLOOKUP(E19,#REF!,2,FALSE) -> #REF! | I19: =IFERROR(VLOOKUP(D19,'Plan.Orçam.'!H:M,3,FALSE),"") | J19: =IFERROR(VLOOKUP(D19,'Plan.Orçam.'!H:M,4,FALSE),"") | K19: =IFERROR(VLOOKUP(D19,'Plan.Orçam.'!H:N,6,FALSE),"") | L19: =ROUND(J19*K19,2) -> #VALUE!
D20: 2 | E20: 1.2 | F20: =CONCATENATE(D20,".",0) -> 2.0 | G20: =VLOOKUP(E20,#REF!,2,FALSE) -> #REF! | L20: =SUM(L21) -> #VALUE!
E21: 1.2.1 | F21: 2.1 | G21: =VLOOKUP(E21,#REF!,2,FALSE) -> #REF! | I21: M2 | J21: 2866.4 | K21: 0.11 | L21: =SUM(L22:L23) -> #VALUE!
D22: 1.2.1 | E22: 1.0 | G22: =VLOOKUP(E22,#REF!,2,FALSE) -> #REF! | I22: =IFERROR(VLOOKUP(D22,'Plan.Orçam.'!H:M,3,FALSE),"") -> M | J22: =IFERROR(VLOOKUP(D22,'Plan.Orçam.'!H:M,4,FALSE),"") -> 27 | K22: =IFERROR(VLOOKUP(D22,'Plan.Orçam.'!H:N,6,FALSE),"") -> 83.32 | L22: =ROUND(J22*K22,2) -> 2249.64
D23: 2.2.1 | E23: 2.0 | G23: =VLOOKUP(E23,#REF!,2,FALSE) -> #REF! | I23: =IFERROR(VLOOKUP(D23,'Plan.Orçam.'!H:M,3,FALSE),"") | J23: =IFERROR(VLOOKUP(D23,'Plan.Orçam.'!H:M,4,FALSE),"") | K23: =IFERROR(VLOOKUP(D23,'Plan.Orçam.'!H:N,6,FALSE),"") | L23: =ROUND(J23*K23,2) -> #VALUE!
D24: 3 | E24: 1.3 | F24: =CONCATENATE(D24,".",0) -> 3.0 | G24: =VLOOKUP(E24,#REF!,2,FALSE) -> #REF! | L24: =SUM(L25+L28) -> #VALUE!
E25: 1.3.1 | F25: 3.1 | G25: =VLOOKUP(E25,#REF!,2,FALSE) -> #REF! | I25: M2 | J25: 2866.4 | K25: 84.71 | L25: =SUM(L26:L27) -> #VALUE!
D26: 1.3.1 | E26: 1.0 | G26: =VLOOKUP(E26,#REF!,2,FALSE) -> #REF! | I26: =IFERROR(VLOOKUP(D26,'Plan.Orçam.'!H:M,3,FALSE),"") -> UN | J26: =IFERROR(VLOOKUP(D26,'Plan.Orçam.'!H:M,4,FALSE),"") -> 12 | K26: =IFERROR(VLOOKUP(D26,'Plan.Orçam.'!H:N,6,FALSE),"") -> 9.75 | L26: =ROUND(J26*K26,2) -> 117
D27: 2.3.1 | E27: 2.0 | G27: =VLOOKUP(E27,#REF!,2,FALSE) -> #REF! | I27: =IFERROR(VLOOKUP(D27,'Plan.Orçam.'!H:M,3,FALSE),"") | J27: =IFERROR(VLOOKUP(D27,'Plan.Orçam.'!H:M,4,FALSE),"") | K27: =IFERROR(VLOOKUP(D27,'Plan.Orçam.'!H:N,6,FALSE),"") | L27: =ROUND(J27*K27,2) -> #VALUE!
E28: 1.3.2 | F28: 3.2 | G28: =VLOOKUP(E28,#REF!,2,FALSE) -> #REF! | I28: m | J28: 1321.56 | K28: 36.85 | L28: =SUM(L29:L30) -> #VALUE!
D29: 1.3.2 | E29: 1.0 | G29: =VLOOKUP(E29,#REF!,2,FALSE) -> #REF! | I29: =IFERROR(VLOOKUP(D29,'Plan.Orçam.'!H:M,3,FALSE),"") | J29: =IFERROR(VLOOKUP(D29,'Plan.Orçam.'!H:M,4,FALSE),"") | K29: =IFERROR(VLOOKUP(D29,'Plan.Orçam.'!H:N,6,FALSE),"") | L29: =ROUND(J29*K29,2) -> #VALUE!
D30: 2.3.2 | E30: 2.0 | G30: =VLOOKUP(E30,#REF!,2,FALSE) -> #REF! | I30: =IFERROR(VLOOKUP(D30,'Plan.Orçam.'!H:M,3,FALSE),"") | J30: =IFERROR(VLOOKUP(D30,'Plan.Orçam.'!H:M,4,FALSE),"") | K30: =IFERROR(VLOOKUP(D30,'Plan.Orçam.'!H:N,6,FALSE),"") | L30: =ROUND(J30*K30,2) -> #VALUE!
D31: 4 | E31: 1.4 | F31: =CONCATENATE(D31,".",0) -> 4.0 | G31: =VLOOKUP(E31,#REF!,2,FALSE) -> #REF! | L31: =SUM(L32+L35+L38+L41+L44+L47) -> #VALUE!
E32: 1.4.1 | F32: 4.1 | G32: =VLOOKUP(E32,#REF!,2,FALSE) -> #REF! | I32: M2 | J32: 2866.4 | K32: 84.71 | L32: =SUM(L33:L34) -> #VALUE!
D33: 1.4.1 | E33: 1.0 | G33: =VLOOKUP(E33,#REF!,2,FALSE) -> #REF! | I33: =IFERROR(VLOOKUP(D33,'Plan.Orçam.'!H:M,3,FALSE),"") -> M | J33: =IFERROR(VLOOKUP(D33,'Plan.Orçam.'!H:M,4,FALSE),"") -> 4.2 | K33: =IFERROR(VLOOKUP(D33,'Plan.Orçam.'!H:N,6,FALSE),"") -> 54.88 | L33: =ROUND(J33*K33,2) -> 230.5
D34: 2.4.1 | E34: 2.0 | G34: =VLOOKUP(E34,#REF!,2,FALSE) -> #REF! | I34: =IFERROR(VLOOKUP(D34,'Plan.Orçam.'!H:M,3,FALSE),"") | J34: =IFERROR(VLOOKUP(D34,'Plan.Orçam.'!H:M,4,FALSE),"") | K34: =IFERROR(VLOOKUP(D34,'Plan.Orçam.'!H:N,6,FALSE),"") | L34: =ROUND(J34*K34,2) -> #VALUE!
E35: 1.4.2 | F35: 4.2 | G35: =VLOOKUP(E35,#REF!,2,FALSE) -> #REF! | I35: M2 | J35: 2866.4 | K35: 84.71 | L35: =SUM(L36:L37) -> #VALUE!
D36: 1.4.1 | E36: 1.0 | G36: =VLOOKUP(E36,#REF!,2,FALSE) -> #REF! | I36: =IFERROR(VLOOKUP(D36,'Plan.Orçam.'!H:M,3,FALSE),"") -> M | J36: =IFERROR(VLOOKUP(D36,'Plan.Orçam.'!H:M,4,FALSE),"") -> 4.2 | K36: =IFERROR(VLOOKUP(D36,'Plan.Orçam.'!H:N,6,FALSE),"") -> 54.88 | L36: =ROUND(J36*K36,2) -> 230.5
D37: 2.4.1 | E37: 2.0 | G37: =VLOOKUP(E37,#REF!,2,FALSE) -> #REF! | I37: =IFERROR(VLOOKUP(D37,'Plan.Orçam.'!H:M,3,FALSE),"") | J37: =IFERROR(VLOOKUP(D37,'Plan.Orçam.'!H:M,4,FALSE),"") | K37: =IFERROR(VLOOKUP(D37,'Plan.Orçam.'!H:N,6,FALSE),"") | L37: =ROUND(J37*K37,2) -> #VALUE!
E38: 1.4.3 | F38: 4.3 | G38: =VLOOKUP(E38,#REF!,2,FALSE) -> #REF! | I38: M2 | J38: 2866.4 | K38: 84.71 | L38: =SUM(L39:L41) -> #VALUE!
D39: 1.4.1 | E39: 1.0 | G39: =VLOOKUP(E39,#REF!,2,FALSE) -> #REF! | I39: =IFERROR(VLOOKUP(D39,'Plan.Orçam.'!H:M,3,FALSE),"") -> M | J39: =IFERROR(VLOOKUP(D39,'Plan.Orçam.'!H:M,4,FALSE),"") -> 4.2 | K39: =IFERROR(VLOOKUP(D39,'Plan.Orçam.'!H:N,6,FALSE),"") -> 54.88 | L39: =ROUND(J39*K39,2) -> 230.5
D40: 2.4.1 | E40: 2.0 | G40: =VLOOKUP(E40,#REF!,2,FALSE) -> #REF! | I40: =IFERROR(VLOOKUP(D40,'Plan.Orçam.'!H:M,3,FALSE),"") | J40: =IFERROR(VLOOKUP(D40,'Plan.Orçam.'!H:M,4,FALSE),"") | K40: =IFERROR(VLOOKUP(D40,'Plan.Orçam.'!H:N,6,FALSE),"") | L40: =ROUND(J40*K40,2) -> #VALUE!
E41: 1.4.4 | F41: 4.4 | G41: =VLOOKUP(E41,#REF!,2,FALSE) -> #REF! | I41: M2 | J41: 2866.4 | K41: 84.71 | L41: =SUM(L42:L44) -> #VALUE!
D42: 1.4.1 | E42: 1.0 | G42: =VLOOKUP(E42,#REF!,2,FALSE) -> #REF! | I42: =IFERROR(VLOOKUP(D42,'Plan.Orçam.'!H:M,3,FALSE),"") -> M | J42: =IFERROR(VLOOKUP(D42,'Plan.Orçam.'!H:M,4,FALSE),"") -> 4.2 | K42: =IFERROR(VLOOKUP(D42,'Plan.Orçam.'!H:N,6,FALSE),"") -> 54.88 | L42: =ROUND(J42*K42,2) -> 230.5
D43: 2.4.1 | E43: 2.0 | G43: =VLOOKUP(E43,#REF!,2,FALSE) -> #REF! | I43: =IFERROR(VLOOKUP(D43,'Plan.Orçam.'!H:M,3,FALSE),"") | J43: =IFERROR(VLOOKUP(D43,'Plan.Orçam.'!H:M,4,FALSE),"") | K43: =IFERROR(VLOOKUP(D43,'Plan.Orçam.'!H:N,6,FALSE),"") | L43: =ROUND(J43*K43,2) -> #VALUE!
E44: 1.4.5 | F44: 4.5 | G44: =VLOOKUP(E44,#REF!,2,FALSE) -> #REF! | I44: M2 | J44: 2866.4 | K44: 84.71 | L44: =SUM(L45:L47) -> #VALUE!
D45: 1.4.1 | E45: 1.0 | G45: =VLOOKUP(E45,#REF!,2,FALSE) -> #REF! | I45: =IFERROR(VLOOKUP(D45,'Plan.Orçam.'!H:M,3,FALSE),"") -> M | J45: =IFERROR(VLOOKUP(D45,'Plan.Orçam.'!H:M,4,FALSE),"") -> 4.2 | K45: =IFERROR(VLOOKUP(D45,'Plan.Orçam.'!H:N,6,FALSE),"") -> 54.88 | L45: =ROUND(J45*K45,2) -> 230.5
...

Sheet Plan. Global
K3: CONCEDENTE: | L3: =BDI!N4 -> 0
H4: ='Inf. Prel.'!C10 -> PREFEITURA MUNICIPAL DE POMBAL - PB | K4: CONTRATO: | L4: =BDI!N5 -> 0
K5: OBRA: | L5: =BDI!N6 -> FORNECIMENTO E INSTALAÇÃO DE SUBESTAÇÕES AÉREAS EM DIVERSAS ESCOLAS DO MUNICIPIO DE POMBAL-PB
K7: REF. PREÇOS: | L7: DESONERADO: | M7: Encargos: | N7: B.D.I. Serviços:
K8: =BDI!R9 -> SINAPI-PB / 12-2025 | L8: =BDI!T9 -> Não | M8: =Encargos!C36 -> 85.69 | N8: =BDI!C32 -> 0.252
F9: PLANILHA ORÇAMENTÁRIA
F11: FONTE | G11: CÓDIGO | H11: ITEM | I11: DESCRIÇÃO DOS SERVIÇOS | J11: UNID. | K11: QUANT. | L11: VALORES (R$) - UNIT SEM BDI | M11: VALORES (R$) - UNIT COM BDI | N11: VALORES (R$) - TOTAL
F12: =VLOOKUP(H12,#REF!,2,FALSE) -> #REF! | G12: =VLOOKUP(H12,#REF!,3,FALSE) -> #REF! | H12: =#REF! -> #REF! | I12: =VLOOKUP(H12,#REF!,2,FALSE) -> #REF! | J12: =VLOOKUP(H12,#REF!,14,FALSE) -> #REF! | K12: =ROUND(VLOOKUP(H12,#REF!,13,FALSE),2) -> #REF! | L12: =IF(F12="DER PB",VLOOKUP(G12,DER!A:D,4,FALSE),IF(F12="COMPOSIÇÃO",VLOOKUP(G12,#REF!,8,FALSE),IF(F12="SINAPI PB",VLOOKUP(G12,'Sinapi_Comp-12.2025'!G:K,5,FALSE),VLOOKUP(G12,'Sinapi_Insum-12.2025'!A:E,5,FALSE)))) -> #REF! | M12: =ROUND((1+$N$8)*IF(F12="DER PB",VLOOKUP(G12,DER!A:D,4,FALSE),IF(F12="COMPOSIÇÃO",VLOOKUP(G12,#REF!,8,FALSE),IF(F12="SINAPI PB",VLOOKUP(G12,'Sinapi_Comp-12.2025'!G:K,5,FALSE),VLOOKUP(G12,'Sinapi_Insum-12.2025'!A:E,5,FALSE)))),2) -> #REF! | N12: =ROUND(K12*M12,2) -> #REF! | O12: =N12 -> #REF!
F13: =VLOOKUP(H13,#REF!,2,FALSE) -> #REF! | G13: =VLOOKUP(H13,#REF!,3,FALSE) -> #REF! | H13: =#REF! -> #REF! | I13: =VLOOKUP(H13,#REF!,2,FALSE) -> #REF! | J13: =VLOOKUP(H13,#REF!,14,FALSE) -> #REF! | K13: =ROUND(VLOOKUP(H13,#REF!,13,FALSE),2) -> #REF! | L13: =IF(F13="DER PB",VLOOKUP(G13,DER!A:D,4,FALSE),IF(F13="COMPOSIÇÃO",VLOOKUP(G13,#REF!,8,FALSE),IF(F13="SINAPI PB",VLOOKUP(G13,'Sinapi_Comp-12.2025'!G:K,5,FALSE),VLOOKUP(G13,'Sinapi_Insum-12.2025'!A:E,5,FALSE)))) -> #REF! | M13: =ROUND((1+$N$8)*IF(F13="DER PB",VLOOKUP(G13,DER!A:D,4,FALSE),IF(F13="COMPOSIÇÃO",VLOOKUP(G13,#REF!,8,FALSE),IF(F13="SINAPI PB",VLOOKUP(G13,'Sinapi_Comp-12.2025'!G:K,5,FALSE),VLOOKUP(G13,'Sinapi_Insum-12.2025'!A:E,5,FALSE)))),2) -> #REF! | N13: =ROUND(K13*M13,2) -> #REF! | O13: =N13 -> #REF!
F14: =VLOOKUP(H14,#REF!,2,FALSE) -> #REF! | G14: =VLOOKUP(H14,#REF!,3,FALSE) -> #REF! | H14: =#REF! -> #REF! | I14: =VLOOKUP(H14,#REF!,2,FALSE) -> #REF! | J14: =VLOOKUP(H14,#REF!,14,FALSE) -> #REF! | K14: =ROUND(VLOOKUP(H14,#REF!,13,FALSE),2) -> #REF! | L14: =IF(F14="DER PB",VLOOKUP(G14,DER!A:D,4,FALSE),IF(F14="COMPOSIÇÃO",VLOOKUP(G14,#REF!,8,FALSE),IF(F14="SINAPI PB",VLOOKUP(G14,'Sinapi_Comp-12.2025'!G:K,5,FALSE),VLOOKUP(G14,'Sinapi_Insum-12.2025'!A:E,5,FALSE)))) -> #REF! | M14: =L14+$N$8*L14 -> #REF! | N14: =ROUND(K14*M14,2) -> #REF! | O14: =N14 -> #REF!
F15: =VLOOKUP(H15,#REF!,2,FALSE) -> #REF! | G15: =VLOOKUP(H15,#REF!,3,FALSE) -> #REF! | H15: =#REF! -> #REF! | I15: =VLOOKUP(H15,#REF!,2,FALSE) -> #REF! | J15: =VLOOKUP(H15,#REF!,14,FALSE) -> #REF! | K15: =ROUND(VLOOKUP(H15,#REF!,13,FALSE),2) -> #REF! | L15: =174.44 -> 174.44 | M15: =L15+$N$8*L15 -> 218.39888 | N15: =ROUND(K15*M15,2) -> #REF! | O15: =N15 -> #REF!
F16: =VLOOKUP(H16,#REF!,2,FALSE) -> #REF! | G16: =VLOOKUP(H16,#REF!,3,FALSE) -> #REF! | H16: =#REF! -> #REF! | I16: =VLOOKUP(H16,#REF!,2,FALSE) -> #REF! | J16: =VLOOKUP(H16,#REF!,14,FALSE) -> #REF! | K16: =ROUND(VLOOKUP(H16,#REF!,13,FALSE),2) -> #REF! | L16: =IF(F16="DER PB",VLOOKUP(G16,DER!A:D,4,FALSE),IF(F16="COMPOSIÇÃO",VLOOKUP(G16,#REF!,8,FALSE),IF(F16="SINAPI PB",VLOOKUP(G16,'Sinapi_Comp-12.2025'!G:K,5,FALSE),VLOOKUP(G16,'Sinapi_Insum-12.2025'!A:E,5,FALSE)))) -> #REF! | M16: =ROUND((1+$N$8)*IF(F16="DER PB",VLOOKUP(G16,DER!A:D,4,FALSE),IF(F16="COMPOSIÇÃO",VLOOKUP(G16,#REF!,8,FALSE),IF(F16="SINAPI PB",VLOOKUP(G16,'Sinapi_Comp-12.2025'!G:K,5,FALSE),VLOOKUP(G16,'Sinapi_Insum-12.2025'!A:E,5,FALSE)))),2) -> #REF! | N16: =ROUND(K16*M16,2) -> #REF! | O16: =N16 -> #REF!
F17: =VLOOKUP(H17,#REF!,2,FALSE) -> #REF! | G17: =VLOOKUP(H17,#REF!,3,FALSE) -> #REF! | H17: =#REF! -> #REF! | I17: =VLOOKUP(H17,#REF!,2,FALSE) -> #REF! | J17: =VLOOKUP(H17,#REF!,14,FALSE) -> #REF! | K17: =ROUND(VLOOKUP(H17,#REF!,13,FALSE),2) -> #REF! | L17: =IF(F17="DER PB",VLOOKUP(G17,DER!A:D,4,FALSE),IF(F17="COMPOSIÇÃO",VLOOKUP(G17,#REF!,8,FALSE),IF(F17="SINAPI PB",VLOOKUP(G17,'Sinapi_Comp-12.2025'!G:K,5,FALSE),VLOOKUP(G17,'Sinapi_Insum-12.2025'!A:E,5,FALSE)))) -> #REF! | M17: =ROUND((1+$N$8)*IF(F17="DER PB",VLOOKUP(G17,DER!A:D,4,FALSE),IF(F17="COMPOSIÇÃO",VLOOKUP(G17,#REF!,8,FALSE),IF(F17="SINAPI PB",VLOOKUP(G17,'Sinapi_Comp-12.2025'!G:K,5,FALSE),VLOOKUP(G17,'Sinapi_Insum-12.2025'!A:E,5,FALSE)))),2) -> #REF! | N17: =ROUND(K17*M17,2) -> #REF! | O17: =N17 -> #REF!
F18: =VLOOKUP(H18,#REF!,2,FALSE) -> #REF! | G18: =VLOOKUP(H18,#REF!,3,FALSE) -> #REF! | H18: =#REF! -> #REF! | I18: =VLOOKUP(H18,#REF!,2,FALSE) -> #REF! | J18: =VLOOKUP(H18,#REF!,14,FALSE) -> #REF! | K18: =ROUND(VLOOKUP(H18,#REF!,13,FALSE),2) -> #REF! | L18: =IF(F18="DER PB",VLOOKUP(G18,DER!A:D,4,FALSE),IF(F18="COMPOSIÇÃO",VLOOKUP(G18,#REF!,8,FALSE),IF(F18="SINAPI PB",VLOOKUP(G18,'Sinapi_Comp-12.2025'!G:K,5,FALSE),VLOOKUP(G18,'Sinapi_Insum-12.2025'!A:E,5,FALSE)))) -> #REF! | M18: =ROUND((1+$N$8)*IF(F18="DER PB",VLOOKUP(G18,DER!A:D,4,FALSE),IF(F18="COMPOSIÇÃO",VLOOKUP(G18,#REF!,8,FALSE),IF(F18="SINAPI PB",VLOOKUP(G18,'Sinapi_Comp-12.2025'!G:K,5,FALSE),VLOOKUP(G18,'Sinapi_Insum-12.2025'!A:E,5,FALSE)))),2) -> #REF! | N18: =ROUND(K18*M18,2) -> #REF! | O18: =N18 -> #REF!
F19: =VLOOKUP(H19,#REF!,2,FALSE) -> #REF! | G19: =VLOOKUP(H19,#REF!,3,FALSE) -> #REF! | H19: =#REF! -> #REF! | I19: =VLOOKUP(H19,#REF!,2,FALSE) -> #REF! | J19: =VLOOKUP(H19,#REF!,14,FALSE) -> #REF! | K19: =ROUND(VLOOKUP(H19,#REF!,13,FALSE),2) -> #REF! | L19: =IF(F19="DER PB",VLOOKUP(G19,DER!A:D,4,FALSE),IF(F19="COMPOSIÇÃO",VLOOKUP(G19,#REF!,8,FALSE),IF(F19="SINAPI PB",VLOOKUP(G19,'Sinapi_Comp-12.2025'!G:K,5,FALSE),VLOOKUP(G19,'Sinapi_Insum-12.2025'!A:E,5,FALSE)))) -> #REF! | M19: =ROUND((1+$N$8)*IF(F19="DER PB",VLOOKUP(G19,DER!A:D,4,FALSE),IF(F19="COMPOSIÇÃO",VLOOKUP(G19,#REF!,8,FALSE),IF(F19="SINAPI PB",VLOOKUP(G19,'Sinapi_Comp-12.2025'!G:K,5,FALSE),VLOOKUP(G19,'Sinapi_Insum-12.2025'!A:E,5,FALSE)))),2) -> #REF! | N19: =ROUND(K19*M19,2) -> #REF! | O19: =N19 -> #REF!
F20: =VLOOKUP(H20,#REF!,2,FALSE) -> #REF! | G20: =VLOOKUP(H20,#REF!,3,FALSE) -> #REF! | H20: =#REF! -> #REF! | I20: =VLOOKUP(H20,#REF!,2,FALSE) -> #REF! | J20: =VLOOKUP(H20,#REF!,14,FALSE) -> #REF! | K20: =ROUND(VLOOKUP(H20,#REF!,13,FALSE),2) -> #REF! | L20: =IF(F20="DER PB",VLOOKUP(G20,DER!A:D,4,FALSE),IF(F20="COMPOSIÇÃO",VLOOKUP(G20,#REF!,8,FALSE),IF(F20="SINAPI PB",VLOOKUP(G20,'Sinapi_Comp-12.2025'!G:K,5,FALSE),VLOOKUP(G20,'Sinapi_Insum-12.2025'!A:E,5,FALSE)))) -> #REF! | M20: =ROUND((1+$N$8)*IF(F20="DER PB",VLOOKUP(G20,DER!A:D,4,FALSE),IF(F20="COMPOSIÇÃO",VLOOKUP(G20,#REF!,8,FALSE),IF(F20="SINAPI PB",VLOOKUP(G20,'Sinapi_Comp-12.2025'!G:K,5,FALSE),VLOOKUP(G20,'Sinapi_Insum-12.2025'!A:E,5,FALSE)))),2) -> #REF! | N20: =ROUND(K20*M20,2) -> #REF! | O20: =N20 -> #REF!
F21: =VLOOKUP(H21,#REF!,2,FALSE) -> #REF! | G21: =VLOOKUP(H21,#REF!,3,FALSE) -> #REF! | H21: =#REF! -> #REF! | I21: =VLOOKUP(H21,#REF!,2,FALSE) -> #REF! | J21: =VLOOKUP(H21,#REF!,14,FALSE) -> #REF! | K21: =ROUND(VLOOKUP(H21,#REF!,13,FALSE),2) -> #REF! | L21: =IF(F21="DER PB",VLOOKUP(G21,DER!A:D,4,FALSE),IF(F21="COMPOSIÇÃO",VLOOKUP(G21,#REF!,8,FALSE),IF(F21="SINAPI PB",VLOOKUP(G21,'Sinapi_Comp-12.2025'!G:K,5,FALSE),VLOOKUP(G21,'Sinapi_Insum-12.2025'!A:E,5,FALSE)))) -> #REF! | M21: =ROUND((1+$N$8)*IF(F21="DER PB",VLOOKUP(G21,DER!A:D,4,FALSE),IF(F21="COMPOSIÇÃO",VLOOKUP(G21,#REF!,8,FALSE),IF(F21="SINAPI PB",VLOOKUP(G21,'Sinapi_Comp-12.2025'!G:K,5,FALSE),VLOOKUP(G21,'Sinapi_Insum-12.2025'!A:E,5,FALSE)))),2) -> #REF! | N21: =ROUND(K21*M21,2) -> #REF! | O21: =N21 -> #REF!
F22: =VLOOKUP(H22,#REF!,2,FALSE) -> #REF! | G22: =VLOOKUP(H22,#REF!,3,FALSE) -> #REF! | H22: =#REF! -> #REF! | I22: =VLOOKUP(H22,#REF!,2,FALSE) -> #REF! | J22: =VLOOKUP(H22,#REF!,14,FALSE) -> #REF! | K22: =ROUND(VLOOKUP(H22,#REF!,13,FALSE),2) -> #REF! | L22: =IF(F22="DER PB",VLOOKUP(G22,DER!A:D,4,FALSE),IF(F22="COMPOSIÇÃO",VLOOKUP(G22,#REF!,8,FALSE),IF(F22="SINAPI PB",VLOOKUP(G22,'Sinapi_Comp-12.2025'!G:K,5,FALSE),VLOOKUP(G22,'Sinapi_Insum-12.2025'!A:E,5,FALSE)))) -> #REF! | M22: =L22+$N$8*L22 -> #REF! | N22: =ROUND(K22*M22,2) -> #REF! | O22: =N22 -> #REF!
F23: =VLOOKUP(H23,#REF!,2,FALSE) -> #REF! | G23: =VLOOKUP(H23,#REF!,3,FALSE) -> #REF! | H23: =#REF! -> #REF! | I23: =VLOOKUP(H23,#REF!,2,FALSE) -> #REF! | J23: =VLOOKUP(H23,#REF!,14,FALSE) -> #REF! | K23: =ROUND(VLOOKUP(H23,#REF!,13,FALSE),2) -> #REF! | L23: =IF(F23="DER PB",VLOOKUP(G23,DER!A:D,4,FALSE),IF(F23="COMPOSIÇÃO",VLOOKUP(G23,#REF!,8,FALSE),IF(F23="SINAPI PB",VLOOKUP(G23,'Sinapi_Comp-12.2025'!G:K,5,FALSE),VLOOKUP(G23,'Sinapi_Insum-12.2025'!A:E,5,FALSE)))) -> #REF! | M23: =ROUND((1+$N$8)*IF(F23="DER PB",VLOOKUP(G23,DER!A:D,4,FALSE),IF(F23="COMPOSIÇÃO",VLOOKUP(G23,#REF!,8,FALSE),IF(F23="SINAPI PB",VLOOKUP(G23,'Sinapi_Comp-12.2025'!G:K,5,FALSE),VLOOKUP(G23,'Sinapi_Insum-12.2025'!A:E,5,FALSE)))),2) -> #REF! | N23: =ROUND(K23*M23,2) -> #REF! | O23: =N23 -> #REF!
F24: =VLOOKUP(H24,#REF!,2,FALSE) -> #REF! | G24: =VLOOKUP(H24,#REF!,3,FALSE) -> #REF! | H24: =#REF! -> #REF! | I24: =VLOOKUP(H24,#REF!,2,FALSE) -> #REF! | J24: =VLOOKUP(H24,#REF!,14,FALSE) -> #REF! | K24: =ROUND(VLOOKUP(H24,#REF!,13,FALSE),2) -> #REF! | L24: =IF(F24="DER PB",VLOOKUP(G24,DER!A:D,4,FALSE),IF(F24="COMPOSIÇÃO",VLOOKUP(G24,#REF!,8,FALSE),IF(F24="SINAPI PB",VLOOKUP(G24,'Sinapi_Comp-12.2025'!G:K,5,FALSE),VLOOKUP(G24,'Sinapi_Insum-12.2025'!A:E,5,FALSE)))) -> #REF! | M24: =L24+$N$8*L24 -> #REF! | N24: =ROUND(K24*M24,2) -> #REF! | O24: =N24 -> #REF!
F25: =VLOOKUP(H25,#REF!,2,FALSE) -> #REF! | G25: =VLOOKUP(H25,#REF!,3,FALSE) -> #REF! | H25: =#REF! -> #REF! | I25: =VLOOKUP(H25,#REF!,2,FALSE) -> #REF! | J25: =VLOOKUP(H25,#REF!,14,FALSE) -> #REF! | K25: =ROUND(VLOOKUP(H25,#REF!,13,FALSE),2) -> #REF! | L25: =IF(F25="DER PB",VLOOKUP(G25,DER!A:D,4,FALSE),IF(F25="COMPOSIÇÃO",VLOOKUP(G25,#REF!,8,FALSE),IF(F25="SINAPI PB",VLOOKUP(G25,'Sinapi_Comp-12.2025'!G:K,5,FALSE),VLOOKUP(G25,'Sinapi_Insum-12.2025'!A:E,5,FALSE)))) -> #REF! | M25: =ROUND((1+$N$8)*IF(F25="DER PB",VLOOKUP(G25,DER!A:D,4,FALSE),IF(F25="COMPOSIÇÃO",VLOOKUP(G25,#REF!,8,FALSE),IF(F25="SINAPI PB",VLOOKUP(G25,'Sinapi_Comp-12.2025'!G:K,5,FALSE),VLOOKUP(G25,'Sinapi_Insum-12.2025'!A:E,5,FALSE)))),2) -> #REF! | N25: =ROUND(K25*M25,2) -> #REF! | O25: =N25 -> #REF!
F26: =VLOOKUP(H26,#REF!,2,FALSE) -> #REF! | G26: =VLOOKUP(H26,#REF!,3,FALSE) -> #REF! | H26: =#REF! -> #REF! | I26: =VLOOKUP(H26,#REF!,2,FALSE) -> #REF! | J26: =VLOOKUP(H26,#REF!,14,FALSE) -> #REF! | K26: =ROUND(VLOOKUP(H26,#REF!,13,FALSE),2) -> #REF! | L26: =IF(F26="DER PB",VLOOKUP(G26,DER!A:D,4,FALSE),IF(F26="COMPOSIÇÃO",VLOOKUP(G26,#REF!,8,FALSE),IF(F26="SINAPI PB",VLOOKUP(G26,'Sinapi_Comp-12.2025'!G:K,5,FALSE),VLOOKUP(G26,'Sinapi_Insum-12.2025'!A:E,5,FALSE)))) -> #REF! | M26: =ROUND((1+$N$8)*IF(F26="DER PB",VLOOKUP(G26,DER!A:D,4,FALSE),IF(F26="COMPOSIÇÃO",VLOOKUP(G26,#REF!,8,FALSE),IF(F26="SINAPI PB",VLOOKUP(G26,'Sinapi_Comp-12.2025'!G:K,5,FALSE),VLOOKUP(G26,'Sinapi_Insum-12.2025'!A:E,5,FALSE)))),2) -> #REF! | N26: =ROUND(K26*M26,2) -> #REF! | O26: =N26 -> #REF!
F27: =VLOOKUP(H27,#REF!,2,FALSE) -> #REF! | G27: =VLOOKUP(H27,#REF!,3,FALSE) -> #REF! | H27: =#REF! -> #REF! | I27: =VLOOKUP(H27,#REF!,2,FALSE) -> #REF! | J27: =VLOOKUP(H27,#REF!,14,FALSE) -> #REF! | K27: =ROUND(VLOOKUP(H27,#REF!,13,FALSE),2) -> #REF! | L27: =IF(F27="DER PB",VLOOKUP(G27,DER!A:D,4,FALSE),IF(F27="COMPOSIÇÃO",VLOOKUP(G27,#REF!,8,FALSE),IF(F27="SINAPI PB",VLOOKUP(G27,'Sinapi_Comp-12.2025'!G:K,5,FALSE),VLOOKUP(G27,'Sinapi_Insum-12.2025'!A:E,5,FALSE)))) -> #REF! | M27: =ROUND((1+$N$8)*IF(F27="DER PB",VLOOKUP(G27,DER!A:D,4,FALSE),IF(F27="COMPOSIÇÃO",VLOOKUP(G27,#REF!,8,FALSE),IF(F27="SINAPI PB",VLOOKUP(G27,'Sinapi_Comp-12.2025'!G:K,5,FALSE),VLOOKUP(G27,'Sinapi_Insum-12.2025'!A:E,5,FALSE)))),2) -> #REF! | N27: =ROUND(K27*M27,2) -> #REF! | O27: =N27 -> #REF!
F28: =VLOOKUP(H28,#REF!,2,FALSE) -> #REF! | G28: =VLOOKUP(H28,#REF!,3,FALSE) -> #REF! | H28: =#REF! -> #REF! | I28: =VLOOKUP(H28,#REF!,2,FALSE) -> #REF! | J28: =VLOOKUP(H28,#REF!,14,FALSE) -> #REF! | K28: =ROUND(VLOOKUP(H28,#REF!,13,FALSE),2) -> #REF! | L28: =IF(F28="DER PB",VLOOKUP(G28,DER!A:D,4,FALSE),IF(F28="COMPOSIÇÃO",VLOOKUP(G28,#REF!,8,FALSE),IF(F28="SINAPI PB",VLOOKUP(G28,'Sinapi_Comp-12.2025'!G:K,5,FALSE),VLOOKUP(G28,'Sinapi_Insum-12.2025'!A:E,5,FALSE)))) -> #REF! | M28: =ROUND((1+$N$8)*IF(F28="DER PB",VLOOKUP(G28,DER!A:D,4,FALSE),IF(F28="COMPOSIÇÃO",VLOOKUP(G28,#REF!,8,FALSE),IF(F28="SINAPI PB",VLOOKUP(G28,'Sinapi_Comp-12.2025'!G:K,5,FALSE),VLOOKUP(G28,'Sinapi_Insum-12.2025'!A:E,5,FALSE)))),2) -> #REF! | N28: =ROUND(K28*M28,2) -> #REF! | O28: =N28 -> #REF!
F29: =VLOOKUP(H29,#REF!,2,FALSE) -> #REF! | G29: =VLOOKUP(H29,#REF!,3,FALSE) -> #REF! | H29: =#REF! -> #REF! | I29: =VLOOKUP(H29,#REF!,2,FALSE) -> #REF! | J29: =VLOOKUP(H29,#REF!,14,FALSE) -> #REF! | K29: =ROUND(VLOOKUP(H29,#REF!,13,FALSE),2) -> #REF! | L29: =IF(F29="DER PB",VLOOKUP(G29,DER!A:D,4,FALSE),IF(F29="COMPOSIÇÃO",VLOOKUP(G29,#REF!,8,FALSE),IF(F29="SINAPI PB",VLOOKUP(G29,'Sinapi_Comp-12.2025'!G:K,5,FALSE),VLOOKUP(G29,'Sinapi_Insum-12.2025'!A:E,5,FALSE)))) -> #REF! | M29: =L29+$N$8*L29 -> #REF! | N29: =ROUND(K29*M29,2) -> #REF! | O29: =N29 -> #REF!
F30: =VLOOKUP(H30,#REF!,2,FALSE) -> #REF! | G30: =VLOOKUP(H30,#REF!,3,FALSE) -> #REF! | H30: =#REF! -> #REF! | I30: =VLOOKUP(H30,#REF!,2,FALSE) -> #REF! | J30: =VLOOKUP(H30,#REF!,14,FALSE) -> #REF! | K30: =ROUND(VLOOKUP(H30,#REF!,13,FALSE),2) -> #REF! | L30: =IF(F30="DER PB",VLOOKUP(G30,DER!A:D,4,FALSE),IF(F30="COMPOSIÇÃO",VLOOKUP(G30,#REF!,8,FALSE),IF(F30="SINAPI PB",VLOOKUP(G30,'Sinapi_Comp-12.2025'!G:K,5,FALSE),VLOOKUP(G30,'Sinapi_Insum-12.2025'!A:E,5,FALSE)))) -> #REF! | M30: =L30+$N$8*L30 -> #REF! | N30: =ROUND(K30*M30,2) -> #REF! | O30: =N30 -> #REF!
F31: =VLOOKUP(H31,#REF!,2,FALSE) -> #REF! | G31: =VLOOKUP(H31,#REF!,3,FALSE) -> #REF! | H31: =#REF! -> #REF! | I31: =VLOOKUP(H31,#REF!,2,FALSE) -> #REF! | J31: =VLOOKUP(H31,#REF!,14,FALSE) -> #REF! | K31: =ROUND(VLOOKUP(H31,#REF!,13,FALSE),2) -> #REF! | L31: =IF(F31="DER PB",VLOOKUP(G31,DER!A:D,4,FALSE),IF(F31="COMPOSIÇÃO",VLOOKUP(G31,#REF!,8,FALSE),IF(F31="SINAPI PB",VLOOKUP(G31,'Sinapi_Comp-12.2025'!G:K,5,FALSE),VLOOKUP(G31,'Sinapi_Insum-12.2025'!A:E,5,FALSE)))) -> #REF! | M31: =ROUND((1+$N$8)*IF(F31="DER PB",VLOOKUP(G31,DER!A:D,4,FALSE),IF(F31="COMPOSIÇÃO",VLOOKUP(G31,#REF!,8,FALSE),IF(F31="SINAPI PB",VLOOKUP(G31,'Sinapi_Comp-12.2025'!G:K,5,FALSE),VLOOKUP(G31,'Sinapi_Insum-12.2025'!A:E,5,FALSE)))),2) -> #REF! | N31: =ROUND(K31*M31,2) -> #REF! | O31: =N31 -> #REF!
F32: =VLOOKUP(H32,#REF!,2,FALSE) -> #REF! | G32: =VLOOKUP(H32,#REF!,3,FALSE) -> #REF! | H32: =#REF! -> #REF! | I32: =VLOOKUP(H32,#REF!,2,FALSE) -> #REF! | J32: =VLOOKUP(H32,#REF!,14,FALSE) -> #REF! | K32: =ROUND(VLOOKUP(H32,#REF!,13,FALSE),2) -> #REF! | L32: =IF(F32="DER PB",VLOOKUP(G32,DER!A:D,4,FALSE),IF(F32="COMPOSIÇÃO",VLOOKUP(G32,#REF!,8,FALSE),IF(F32="SINAPI PB",VLOOKUP(G32,'Sinapi_Comp-12.2025'!G:K,5,FALSE),VLOOKUP(G32,'Sinapi_Insum-12.2025'!A:E,5,FALSE)))) -> #REF! | M32: =ROUND((1+$N$8)*IF(F32="DER PB",VLOOKUP(G32,DER!A:D,4,FALSE),IF(F32="COMPOSIÇÃO",VLOOKUP(G32,#REF!,8,FALSE),IF(F32="SINAPI PB",VLOOKUP(G32,'Sinapi_Comp-12.2025'!G:K,5,FALSE),VLOOKUP(G32,'Sinapi_Insum-12.2025'!A:E,5,FALSE)))),2) -> #REF! | N32: =ROUND(K32*M32,2) -> #REF! | O32: =N32 -> #REF!
F33: =VLOOKUP(H33,#REF!,2,FALSE) -> #REF! | G33: =VLOOKUP(H33,#REF!,3,FALSE) -> #REF! | H33: =#REF! -> #REF! | I33: =VLOOKUP(H33,#REF!,2,FALSE) -> #REF! | J33: =VLOOKUP(H33,#REF!,14,FALSE) -> #REF! | K33: =ROUND(VLOOKUP(H33,#REF!,13,FALSE),2) -> #REF! | L33: =IF(F33="DER PB",VLOOKUP(G33,DER!A:D,4,FALSE),IF(F33="COMPOSIÇÃO",VLOOKUP(G33,#REF!,8,FALSE),IF(F33="SINAPI PB",VLOOKUP(G33,'Sinapi_Comp-12.2025'!G:K,5,FALSE),VLOOKUP(G33,'Sinapi_Insum-12.2025'!A:E,5,FALSE)))) -> #REF! | M33: =ROUND((1+$N$8)*IF(F33="DER PB",VLOOKUP(G33,DER!A:D,4,FALSE),IF(F33="COMPOSIÇÃO",VLOOKUP(G33,#REF!,8,FALSE),IF(F33="SINAPI PB",VLOOKUP(G33,'Sinapi_Comp-12.2025'!G:K,5,FALSE),VLOOKUP(G33,'Sinapi_Insum-12.2025'!A:E,5,FALSE)))),2) -> #REF! | N33: =ROUND(K33*M33,2) -> #REF! | O33: =N33 -> #REF!
F34: =VLOOKUP(H34,#REF!,2,FALSE) -> #REF! | G34: =VLOOKUP(H34,#REF!,3,FALSE) -> #REF! | H34: =#REF! -> #REF! | I34: =VLOOKUP(H34,#REF!,2,FALSE) -> #REF! | J34: =VLOOKUP(H34,#REF!,14,FALSE) -> #REF! | K34: =ROUND(VLOOKUP(H34,#REF!,13,FALSE),2) -> #REF! | L34: =IF(F34="DER PB",VLOOKUP(G34,DER!A:D,4,FALSE),IF(F34="COMPOSIÇÃO",VLOOKUP(G34,#REF!,8,FALSE),IF(F34="SINAPI PB",VLOOKUP(G34,'Sinapi_Comp-12.2025'!G:K,5,FALSE),VLOOKUP(G34,'Sinapi_Insum-12.2025'!A:E,5,FALSE)))) -> #REF! | M34: =ROUND((1+$N$8)*IF(F34="DER PB",VLOOKUP(G34,DER!A:D,4,FALSE),IF(F34="COMPOSIÇÃO",VLOOKUP(G34,#REF!,8,FALSE),IF(F34="SINAPI PB",VLOOKUP(G34,'Sinapi_Comp-12.2025'!G:K,5,FALSE),VLOOKUP(G34,'Sinapi_Insum-12.2025'!A:E,5,FALSE)))),2) -> #REF! | N34: =ROUND(K34*M34,2) -> #REF! | O34: =N34 -> #REF!
F35: =VLOOKUP(H35,#REF!,2,FALSE) -> #REF! | G35: =VLOOKUP(H35,#REF!,3,FALSE) -> #REF! | H35: =#REF! -> #REF! | I35: =VLOOKUP(H35,#REF!,2,FALSE) -> #REF! | J35: =VLOOKUP(H35,#REF!,14,FALSE) -> #REF! | K35: =ROUND(VLOOKUP(H35,#REF!,13,FALSE),2) -> #REF! | L35: =IF(F35="DER PB",VLOOKUP(G35,DER!A:D,4,FALSE),IF(F35="COMPOSIÇÃO",VLOOKUP(G35,#REF!,8,FALSE),IF(F35="SINAPI PB",VLOOKUP(G35,'Sinapi_Comp-12.2025'!G:K,5,FALSE),VLOOKUP(G35,'Sinapi_Insum-12.2025'!A:E,5,FALSE)))) -> #REF! | M35: =ROUND((1+$N$8)*IF(F35="DER PB",VLOOKUP(G35,DER!A:D,4,FALSE),IF(F35="COMPOSIÇÃO",VLOOKUP(G35,#REF!,8,FALSE),IF(F35="SINAPI PB",VLOOKUP(G35,'Sinapi_Comp-12.2025'!G:K,5,FALSE),VLOOKUP(G35,'Sinapi_Insum-12.2025'!A:E,5,FALSE)))),2) -> #REF! | N35: =ROUND(K35*M35,2) -> #REF! | O35: =N35 -> #REF!
F36: =VLOOKUP(H36,#REF!,2,FALSE) -> #REF! | G36: =VLOOKUP(H36,#REF!,3,FALSE) -> #REF! | H36: =#REF! -> #REF! | I36: =VLOOKUP(H36,#REF!,2,FALSE) -> #REF! | J36: =VLOOKUP(H36,#REF!,14,FALSE) -> #REF! | K36: =ROUND(VLOOKUP(H36,#REF!,13,FALSE),2) -> #REF! | L36: =IF(F36="DER PB",VLOOKUP(G36,DER!A:D,4,FALSE),IF(F36="COMPOSIÇÃO",VLOOKUP(G36,#REF!,8,FALSE),IF(F36="SINAPI PB",VLOOKUP(G36,'Sinapi_Comp-12.2025'!G:K,5,FALSE),VLOOKUP(G36,'Sinapi_Insum-12.2025'!A:E,5,FALSE)))) -> #REF! | M36: =ROUND((1+$N$8)*IF(F36="DER PB",VLOOKUP(G36,DER!A:D,4,FALSE),IF(F36="COMPOSIÇÃO",VLOOKUP(G36,#REF!,8,FALSE),IF(F36="SINAPI PB",VLOOKUP(G36,'Sinapi_Comp-12.2025'!G:K,5,FALSE),VLOOKUP(G36,'Sinapi_Insum-12.2025'!A:E,5,FALSE)))),2) -> #REF! | N36: =ROUND(K36*M36,2) -> #REF! | O36: =N36 -> #REF!
F37: =VLOOKUP(H37,#REF!,2,FALSE) -> #REF! | G37: =VLOOKUP(H37,#REF!,3,FALSE) -> #REF! | H37: =#REF! -> #REF! | I37: =VLOOKUP(H37,#REF!,2,FALSE) -> #REF! | J37: =VLOOKUP(H37,#REF!,14,FALSE) -> #REF! | K37: =ROUND(VLOOKUP(H37,#REF!,13,FALSE),2) -> #REF! | L37: =IF(F37="DER PB",VLOOKUP(G37,DER!A:D,4,FALSE),IF(F37="COMPOSIÇÃO",VLOOKUP(G37,#REF!,8,FALSE),IF(F37="SINAPI PB",VLOOKUP(G37,'Sinapi_Comp-12.2025'!G:K,5,FALSE),VLOOKUP(G37,'Sinapi_Insum-12.2025'!A:E,5,FALSE)))) -> #REF! | M37: =ROUND((1+$N$8)*IF(F37="DER PB",VLOOKUP(G37,DER!A:D,4,FALSE),IF(F37="COMPOSIÇÃO",VLOOKUP(G37,#REF!,8,FALSE),IF(F37="SINAPI PB",VLOOKUP(G37,'Sinapi_Comp-12.2025'!G:K,5,FALSE),VLOOKUP(G37,'Sinapi_Insum-12.2025'!A:E,5,FALSE)))),2) -> #REF! | N37: =ROUND(K37*M37,2) -> #REF! | O37: =N37 -> #REF!
F38: =VLOOKUP(H38,#REF!,2,FALSE) -> #REF! | G38: =VLOOKUP(H38,#REF!,3,FALSE) -> #REF! | H38: =#REF! -> #REF! | I38: =VLOOKUP(H38,#REF!,2,FALSE) -> #REF! | J38: =VLOOKUP(H38,#REF!,14,FALSE) -> #REF! | K38: =ROUND(VLOOKUP(H38,#REF!,13,FALSE),2) -> #REF! | L38: =IF(F38="DER PB",VLOOKUP(G38,DER!A:D,4,FALSE),IF(F38="COMPOSIÇÃO",VLOOKUP(G38,#REF!,8,FALSE),IF(F38="SINAPI PB",VLOOKUP(G38,'Sinapi_Comp-12.2025'!G:K,5,FALSE),VLOOKUP(G38,'Sinapi_Insum-12.2025'!A:E,5,FALSE)))) -> #REF! | M38: =ROUND((1+$N$8)*IF(F38="DER PB",VLOOKUP(G38,DER!A:D,4,FALSE),IF(F38="COMPOSIÇÃO",VLOOKUP(G38,#REF!,8,FALSE),IF(F38="SINAPI PB",VLOOKUP(G38,'Sinapi_Comp-12.2025'!G:K,5,FALSE),VLOOKUP(G38,'Sinapi_Insum-12.2025'!A:E,5,FALSE)))),2) -> #REF! | N38: =ROUND(K38*M38,2) -> #REF! | O38: =N38 -> #REF!
F39: =VLOOKUP(H39,#REF!,2,FALSE) -> #REF! | G39: =VLOOKUP(H39,#REF!,3,FALSE) -> #REF! | H39: =#REF! -> #REF! | I39: =VLOOKUP(H39,#REF!,2,FALSE) -> #REF! | J39: =VLOOKUP(H39,#REF!,14,FALSE) -> #REF! | K39: =ROUND(VLOOKUP(H39,#REF!,13,FALSE),2) -> #REF! | L39: =IF(F39="DER PB",VLOOKUP(G39,DER!A:D,4,FALSE),IF(F39="COMPOSIÇÃO",VLOOKUP(G39,#REF!,8,FALSE),IF(F39="SINAPI PB",VLOOKUP(G39,'Sinapi_Comp-12.2025'!G:K,5,FALSE),VLOOKUP(G39,'Sinapi_Insum-12.2025'!A:E,5,FALSE)))) -> #REF! | M39: =ROUND((1+$N$8)*IF(F39="DER PB",VLOOKUP(G39,DER!A:D,4,FALSE),IF(F39="COMPOSIÇÃO",VLOOKUP(G39,#REF!,8,FALSE),IF(F39="SINAPI PB",VLOOKUP(G39,'Sinapi_Comp-12.2025'!G:K,5,FALSE),VLOOKUP(G39,'Sinapi_Insum-12.2025'!A:E,5,FALSE)))),2) -> #REF! | N39: =ROUND(K39*M39,2) -> #REF! | O39: =N39 -> #REF!
F40: =VLOOKUP(H40,#REF!,2,FALSE) -> #REF! | G40: =VLOOKUP(H40,#REF!,3,FALSE) -> #REF! | H40: =#REF! -> #REF! | I40: =VLOOKUP(H40,#REF!,2,FALSE) -> #REF! | J40: =VLOOKUP(H40,#REF!,14,FALSE) -> #REF! | K40: =ROUND(VLOOKUP(H40,#REF!,13,FALSE),2) -> #REF! | L40: =IF(F40="DER PB",VLOOKUP(G40,DER!A:D,4,FALSE),IF(F40="COMPOSIÇÃO",VLOOKUP(G40,#REF!,8,FALSE),IF(F40="SINAPI PB",VLOOKUP(G40,'Sinapi_Comp-12.2025'!G:K,5,FALSE),VLOOKUP(G40,'Sinapi_Insum-12.2025'!A:E,5,FALSE)))) -> #REF! | M40: =ROUND((1+$N$8)*IF(F40="DER PB",VLOOKUP(G40,DER!A:D,4,FALSE),IF(F40="COMPOSIÇÃO",VLOOKUP(G40,#REF!,8,FALSE),IF(F40="SINAPI PB",VLOOKUP(G40,'Sinapi_Comp-12.2025'!G:K,5,FALSE),VLOOKUP(G40,'Sinapi_Insum-12.2025'!A:E,5,FALSE)))),2) -> #REF! | N40: =ROUND(K40*M40,2) -> #REF! | O40: =N40 -> #REF!
F41: =VLOOKUP(H41,#REF!,2,FALSE) -> #REF! | G41: =VLOOKUP(H41,#REF!,3,FALSE) -> #REF! | H41: =#REF! -> #REF! | I41: =VLOOKUP(H41,#REF!,2,FALSE) -> #REF! | J41: =VLOOKUP(H41,#REF!,14,FALSE) -> #REF! | K41: =ROUND(VLOOKUP(H41,#REF!,13,FALSE),2) -> #REF! | L41: =IF(F41="DER PB",VLOOKUP(G41,DER!A:D,4,FALSE),IF(F41="COMPOSIÇÃO",VLOOKUP(G41,#REF!,8,FALSE),IF(F41="SINAPI PB",VLOOKUP(G41,'Sinapi_Comp-12.2025'!G:K,5,FALSE),VLOOKUP(G41,'Sinapi_Insum-12.2025'!A:E,5,FALSE)))) -> #REF! | M41: =ROUND((1+$N$8)*IF(F41="DER PB",VLOOKUP(G41,DER!A:D,4,FALSE),IF(F41="COMPOSIÇÃO",VLOOKUP(G41,#REF!,8,FALSE),IF(F41="SINAPI PB",VLOOKUP(G41,'Sinapi_Comp-12.2025'!G:K,5,FALSE),VLOOKUP(G41,'Sinapi_Insum-12.2025'!A:E,5,FALSE)))),2) -> #REF! | N41: =ROUND(K41*M41,2) -> #REF! | O41: =N41 -> #REF!
F42: =VLOOKUP(H42,#REF!,2,FALSE) -> #REF! | G42: =VLOOKUP(H42,#REF!,3,FALSE) -> #REF! | H42: =#REF! -> #REF! | I42: =VLOOKUP(H42,#REF!,2,FALSE) -> #REF! | J42: =VLOOKUP(H42,#REF!,14,FALSE) -> #REF! | K42: =ROUND(VLOOKUP(H42,#REF!,13,FALSE),2) -> #REF! | L42: =IF(F42="DER PB",VLOOKUP(G42,DER!A:D,4,FALSE),IF(F42="COMPOSIÇÃO",VLOOKUP(G42,#REF!,8,FALSE),IF(F42="SINAPI PB",VLOOKUP(G42,'Sinapi_Comp-12.2025'!G:K,5,FALSE),VLOOKUP(G42,'Sinapi_Insum-12.2025'!A:E,5,FALSE)))) -> #REF! | M42: =ROUND((1+$N$8)*IF(F42="DER PB",VLOOKUP(G42,DER!A:D,4,FALSE),IF(F42="COMPOSIÇÃO",VLOOKUP(G42,#REF!,8,FALSE),IF(F42="SINAPI PB",VLOOKUP(G42,'Sinapi_Comp-12.2025'!G:K,5,FALSE),VLOOKUP(G42,'Sinapi_Insum-12.2025'!A:E,5,FALSE)))),2) -> #REF! | N42: =ROUND(K42*M42,2) -> #REF! | O42: =N42 -> #REF!
F43: =VLOOKUP(H43,#REF!,2,FALSE) -> #REF! | G43: =VLOOKUP(H43,#REF!,3,FALSE) -> #REF! | H43: =#REF! -> #REF! | I43: =VLOOKUP(H43,#REF!,2,FALSE) -> #REF! | J43: =VLOOKUP(H43,#REF!,14,FALSE) -> #REF! | K43: =ROUND(VLOOKUP(H43,#REF!,13,FALSE),2) -> #REF! | L43: =IF(F43="DER PB",VLOOKUP(G43,DER!A:D,4,FALSE),IF(F43="COMPOSIÇÃO",VLOOKUP(G43,#REF!,8,FALSE),IF(F43="SINAPI PB",VLOOKUP(G43,'Sinapi_Comp-12.2025'!G:K,5,FALSE),VLOOKUP(G43,'Sinapi_Insum-12.2025'!A:E,5,FALSE)))) -> #REF! | M43: =ROUND((1+$N$8)*IF(F43="DER PB",VLOOKUP(G43,DER!A:D,4,FALSE),IF(F43="COMPOSIÇÃO",VLOOKUP(G43,#REF!,8,FALSE),IF(F43="SINAPI PB",VLOOKUP(G43,'Sinapi_Comp-12.2025'!G:K,5,FALSE),VLOOKUP(G43,'Sinapi_Insum-12.2025'!A:E,5,FALSE)))),2) -> #REF! | N43: =ROUND(K43*M43,2) -> #REF! | O43: =N43 -> #REF!
F44: =VLOOKUP(H44,#REF!,2,FALSE) -> #REF! | G44: =VLOOKUP(H44,#REF!,3,FALSE) -> #REF! | H44: =#REF! -> #REF! | I44: =VLOOKUP(H44,#REF!,2,FALSE) -> #REF! | J44: =VLOOKUP(H44,#REF!,14,FALSE) -> #REF! | K44: =ROUND(VLOOKUP(H44,#REF!,13,FALSE),2) -> #REF! | L44: =IF(F44="DER PB",VLOOKUP(G44,DER!A:D,4,FALSE),IF(F44="COMPOSIÇÃO",VLOOKUP(G44,#REF!,8,FALSE),IF(F44="SINAPI PB",VLOOKUP(G44,'Sinapi_Comp-12.2025'!G:K,5,FALSE),VLOOKUP(G44,'Sinapi_Insum-12.2025'!A:E,5,FALSE)))) -> #REF! | M44: =L44+$N$8*L44 -> #REF! | N44: =ROUND(K44*M44,2) -> #REF! | O44: =N44 -> #REF!
...

Sheet Plan. Orçam. Resumo
C2: ='Inf. Prel.'!C10 -> PREFEITURA MUNICIPAL DE POMBAL - PB
C8: CONCEDENTE: | F8: REF. PREÇOS:
C9: CONTRATO: | F9: =BDI!R9 -> SINAPI-PB / 12-2025
C10: OBRA: | D10: =BDI!N6 -> FORNECIMENTO E INSTALAÇÃO DE SUBESTAÇÕES AÉREAS EM DIVERSAS ESCOLAS DO MUNICIPIO DE POMBAL-PB | F10: DESONERADO:
E11: Encargos: | F11: =BDI!T9 -> Não
E12: =Encargos!C36 -> 85.69 | F12: B.D.I. Serviços:
F13: =BDI!C32 -> 0.252
C14: PLANILHA ORÇAMENTÁRIA RESUMO
C16: ITEM | D16: DESCRIÇÃO DOS SERVIÇOS | F16: VALORES (R$)
B17: 0 | C17: =CONCATENATE(B17,".0") -> 0.0 | D17: =IFERROR(VLOOKUP(C17,'Plan.Orçam.'!H:I,2,FALSE),"") | F17: =SUM(F18:F20) -> 104594.58
B18: 1 | C18: =CONCATENATE(B18,".0") -> 1.0 | D18: =IFERROR(VLOOKUP(C18,'Plan.Orçam.'!H:I,2,FALSE),"") -> SUBESTAÇÃO ESCOLA POETA | F18: =VLOOKUP(C18,'Plan.Orçam.'!H:N,7,FALSE) -> 20411.86
B19: =B18+1 -> 2 | C19: =CONCATENATE(B19,".0") -> 2.0 | D19: =IFERROR(VLOOKUP(C19,'Plan.Orçam.'!H:I,2,FALSE),"") -> SUBESTAÇÃO ESCOLA SUSTENTAVEL | F19: =VLOOKUP(C19,'Plan.Orçam.'!H:N,7,FALSE) -> 34066.32
B20: =B19+1 -> 3 | C20: =CONCATENATE(B20,".0") -> 3.0 | D20: =IFERROR(VLOOKUP(C20,'Plan.Orçam.'!H:I,2,FALSE),"") -> SUBESTAÇÃO ESCOLA 12 SALAS | F20: =VLOOKUP(C20,'Plan.Orçam.'!H:N,7,FALSE) -> 50116.4

Sheet QCI
D2: Quadro de Composição do Investimento - QCI - OGU -
D3: Setor Público | J3: Valor do Repasse | K3: 974000
J4: Valor da Contrapartida | K4: 1000
J5: Valor do Investimento | K5: =K3+K4 -> 975000
B6: Empreendimento | J6: Percentual de contrapartida: | K6: =L7 -> -8.312146 | L6: =K3/$G$44 -> 9.312146
J7: Percentual União | K7: =1-K6 -> 9.312146 | L7: =1-L6 -> -8.312146
B8: =BDI!N6 -> FORNECIMENTO E INSTALAÇÃO DE SUBESTAÇÕES AÉREAS EM DIVERSAS ESCOLAS DO MUNICIPIO DE POMBAL-PB
B10: Agente executor
J11: 1000 | K11: 288000
B12: ='Inf. Prel.'!C5 -> 0 | J12: 489 | K12: 383511
J13: =SUM(J11:J12) -> 1489 | K13: =SUM(K11:K12) -> 671511
B14: Programa | E14: Modalidade
B20: Item | C20: Discriminação | D20: Investimento total (R$)
D21: Recursos União | E21: Contrapartida | F21: Outras fontes | G21: Total
A22: 1 | B22: =CONCATENATE(A22,".0") -> 1.0 | C22: =IFERROR(VLOOKUP(B22,'Plan.Orçam.'!H:N,2,FALSE),"") -> SUBESTAÇÃO ESCOLA POETA | D22: =(IFERROR(G22-E22,"")) -> 190078.22 | E22: =(IFERROR(G22*$K$6,"")) -> -169666.36 | G22: =IFERROR(VLOOKUP(B22,'Plan.Orçam.'!H:N,7,FALSE),"") -> 20411.86
A23: 2 | B23: =CONCATENATE(A23,".0") -> 2.0 | C23: =IFERROR(VLOOKUP(B23,'Plan.Orçam.'!H:N,2,FALSE),"") -> SUBESTAÇÃO ESCOLA SUSTENTAVEL | D23: =(IFERROR(G23-E23,"")) -> 317230.55 | E23: =(IFERROR(G23*$K$6,"")) -> -283164.23 | G23: =IFERROR(VLOOKUP(B23,'Plan.Orçam.'!H:N,7,FALSE),"") -> 34066.32
A24: 3 | B24: =CONCATENATE(A24,".0") -> 3.0 | C24: =IFERROR(VLOOKUP(B24,'Plan.Orçam.'!H:N,2,FALSE),"") -> SUBESTAÇÃO ESCOLA 12 SALAS | D24: =(IFERROR(G24-E24,"")) -> 466691.23 | E24: =(IFERROR(G24*$K$6,"")) -> -416574.83 | G24: =IFERROR(VLOOKUP(B24,'Plan.Orçam.'!H:N,7,FALSE),"") -> 50116.4
A25: 4 | B25: =CONCATENATE(A25,".0") -> 4.0 | C25: =IFERROR(VLOOKUP(B25,'Plan.Orçam.'!H:N,2,FALSE),"") | D25: =(IFERROR(G25-E25,"")) | E25: =(IFERROR(G25*$K$6,"")) | G25: =IFERROR(VLOOKUP(B25,'Plan.Orçam.'!H:N,7,FALSE),"")
A26: 5 | B26: =CONCATENATE(A26,".0") -> 5.0 | C26: =IFERROR(VLOOKUP(B26,'Plan.Orçam.'!H:N,2,FALSE),"") | D26: =(IFERROR(G26-E26,"")) | E26: =(IFERROR(G26*$K$6,"")) | G26: =IFERROR(VLOOKUP(B26,'Plan.Orçam.'!H:N,7,FALSE),"")
A27: 6 | B27: =CONCATENATE(A27,".0") -> 6.0 | C27: =IFERROR(VLOOKUP(B27,'Plan.Orçam.'!H:N,2,FALSE),"") | D27: =(IFERROR(G27-E27,"")) | E27: =(IFERROR(G27*$K$6,"")) | G27: =IFERROR(VLOOKUP(B27,'Plan.Orçam.'!H:N,7,FALSE),"")
A28: 7 | B28: =CONCATENATE(A28,".0") -> 7.0 | C28: =IFERROR(VLOOKUP(B28,'Plan.Orçam.'!H:N,2,FALSE),"") | D28: =(IFERROR(G28-E28,"")) | E28: =(IFERROR(G28*$K$6,"")) | G28: =IFERROR(VLOOKUP(B28,'Plan.Orçam.'!H:N,7,FALSE),"")
A29: 8 | B29: =CONCATENATE(A29,".0") -> 8.0 | C29: =IFERROR(VLOOKUP(B29,'Plan.Orçam.'!H:N,2,FALSE),"") | D29: =(IFERROR(G29-E29,"")) | E29: =(IFERROR(G29*$K$6,"")) | G29: =IFERROR(VLOOKUP(B29,'Plan.Orçam.'!H:N,7,FALSE),"")
A30: 9 | B30: =CONCATENATE(A30,".0") -> 9.0 | C30: =IFERROR(VLOOKUP(B30,'Plan.Orçam.'!H:N,2,FALSE),"") | D30: =(IFERROR(G30-E30,"")) | E30: =(IFERROR(G30*$K$6,"")) | G30: =IFERROR(VLOOKUP(B30,'Plan.Orçam.'!H:N,7,FALSE),"")
A31: 10 | B31: =CONCATENATE(A31,".0") -> 10.0 | C31: =IFERROR(VLOOKUP(B31,'Plan.Orçam.'!H:N,2,FALSE),"") | D31: =(IFERROR(G31-E31,"")) | E31: =(IFERROR(G31*$K$6,"")) | G31: =IFERROR(VLOOKUP(B31,'Plan.Orçam.'!H:N,7,FALSE),"")
A32: 11 | B32: =CONCATENATE(A32,".0") -> 11.0 | C32: =IFERROR(VLOOKUP(B32,'Plan.Orçam.'!H:N,2,FALSE),"") | D32: =(IFERROR(G32-E32,"")) | E32: =(IFERROR(G32*$K$6,"")) | G32: =IFERROR(VLOOKUP(B32,'Plan.Orçam.'!H:N,7,FALSE),"")
A33: 10 | B33: 12.0 | C33: =IFERROR(VLOOKUP(B33,'Plan.Orçam.'!H:N,2,FALSE),"") | D33: =(IFERROR(G33-E33,"")) | E33: =(IFERROR(G33*$K$6,"")) | G33: =IFERROR(VLOOKUP(B33,'Plan.Orçam.'!H:N,7,FALSE),"")
A34: 11 | B34: 13.0 | C34: =IFERROR(VLOOKUP(B34,'Plan.Orçam.'!H:N,2,FALSE),"") | D34: =(IFERROR(G34-E34,"")) | E34: =(IFERROR(G34*$K$6,"")) | G34: =IFERROR(VLOOKUP(B34,'Plan.Orçam.'!H:N,7,FALSE),"")
A35: 11 | B35: ='Plan.Orçam.'!#REF! -> #REF! | C35: =IFERROR(VLOOKUP(B35,'Plan.Orçam.'!H:N,2,FALSE),"") | D35: =(IFERROR(G35-E35,"")) | E35: =(IFERROR(G35*$K$6,"")) | G35: =IFERROR(VLOOKUP(B35,'Plan.Orçam.'!H:N,7,FALSE),"")
B44: Total | D44: =SUM(D22:D43) -> 974000 | E44: =SUM(E22:E43) -> -869405.42 | F44: =SUM(F22:F43) -> 0 | G44: =SUM(G22:G43) -> 104594.58
B47: ='Inf. Prel.'!C14 -> POMBAL -PB | E47: =CONCATENATE((DAY('Inf. Prel.'!C17))," de") -> 11 de | F47: =CONCATENATE(TEXT('Inf. Prel.'!C17,"MMMM")," de") -> maio de | G47: =YEAR('Inf. Prel.'!C17) -> 2026
B48: Local/Data
B53: Assinatura do representante da equipe técnica | E53: Assinatura do agente executor
B54: Nome | C54: ='Inf. Prel.'!C18 -> Ana Clara Ferreira Siqueira | E54: Nome | F54: ='Inf. Prel.'!C12 -> 0
B55: Cargo | E55: Cargo | F55: ='Inf. Prel.'!C13 -> Prefeito Constitucional
B56: CREA

Sheet QCI (2)
D2: Quadro de Composição do Investimento - QCI - OGU -
D3: Setor Público | J3: Valor do Repasse | K3: 460
J4: Valor da Contrapartida | K4: 10
J5: Valor do Investimento | K5: =K3+K4 -> 470
B6: Empreendimento | J6: Percentual de contrapartida: | K6: =L7 -> 0.99560207 | L6: =K3/$G$45 -> 0.0043979334
J7: Percentual União | K7: =1-K6 -> 0.0043979334 | L7: =1-L6 -> 0.99560207
B8: =BDI!N6 -> FORNECIMENTO E INSTALAÇÃO DE SUBESTAÇÕES AÉREAS EM DIVERSAS ESCOLAS DO MUNICIPIO DE POMBAL-PB
B10: Agente executor
