Workbook
Name _______MDO2: [1]INSUMOS!$C$6
Name ______MDO1: [2]INSUMOS!$C$8
Name ______MDO2: [1]INSUMOS!$C$6
Name ______R: #REF!
Name _____MDO1: [2]INSUMOS!$C$8
Name _____MDO2: [1]INSUMOS!$C$6
Name _____R: #REF!
Name _____R: #REF!
Name ____MDO1: [2]INSUMOS!$C$8
Name ____MDO2: [1]INSUMOS!$C$6
Name ____R: #REF!
Name ____R: #REF!
Name ___MDO1: [2]INSUMOS!$C$8
Name ___MDO2: [1]INSUMOS!$C$6
Name ___R: #REF!
Name ___R: #REF!
Name __MDO1: [2]INSUMOS!$C$8
Name __MDO2: [1]INSUMOS!$C$6
Name __R: #REF!
Name __R: #REF!
Name __xlnm.Print_Titles_2: #REF!
Name __xlnm.Print_Titles_2: #REF!
Name _6.3: [3]Memória!#REF!
Name _6.3: [3]Memória!#REF!
Name _MDO1: [4]INSUMOS!$C$8
Name _MDO1: [2]INSUMOS!$C$8
Name _MDO2: [4]INSUMOS!$C$9
Name _MDO2: [1]INSUMOS!$C$6
Name _R: #REF!
Name _R: #REF!
Name _rua1: #REF!
Name _rua1: #REF!
Name _rx: #REF!
Name A: #REF!
Name AA: #REF!
Name AA: [5]CUBACAO!#REF!
Name AAA: #REF!
Name AAA: [5]CUBACAO!#REF!
Name Ac: #REF!
Name Ac: #REF!
Name ASDFASDFAS: #REF!
Name ASDFASDFAS: #REF!
Name BB: #REF!
Name BB: [5]CUBACAO!#REF!
Name BBB: #REF!
Name BBB: [5]CUBACAO!#REF!
Name BDI: #REF!
Name BDI: #REF!
Name BDIc: #REF!
Name BDIc: #REF!
Name BDIf: #REF!
Name BDIf: #REF!
Name CC: #REF!
Name CC: [5]CUBACAO!#REF!
Name CCC: #REF!
Name CCC: [5]CUBACAO!#REF!
Name Comp.export: #REF!
Name Composição: [2]INSUMOS!$C$8
Name CONCATENAR: CONCATENATE(#REF!," ",#REF!)
Name CONTEM: #REF!

Sheet Orçamento Sintético
A1: Obra: | B1: ='Memória de Cálculo'!$B$1 -> CONSTRUÇÃO DO MERCADO PÚBLICO DE LAGOA DE DENTRO-PB. | E1: Valor da Obra: | G1: Valor de Repasse:
A2: Endereço da obra: | B2: ='Memória de Cálculo'!$B$2 -> LAGOA DE DENTRO-PB. | E2: 3253548.9 | G2: 3250301
A3: Fonte de dados: | B3: ='Memória de Cálculo'!$B$3 -> SINAPI - 09/2025 / ORSE - 09/2025 | E3: BDI: | G3: Contrapartida:
A4: Encargos Socias: | B4: ='Memória de Cálculo'!$B$4 -> Não desonerados - Horista:113,60% Mensalista: 69,85%) | E4: ='Memória de Cálculo'!$C$4 -> 0.2034 | G4: =E2-G2 -> 3247.91 | H4: ='Memória de Cálculo'!$E$4 -> ESTADO DA PARAÍBA PREFEITURA MUNICIPAL DE LAGOA DE DENTRO
A6: PLANILHA ORÇAMENTARIA
A8: Item | B8: Código | C8: Banco | D8: Descrição | E8: Und | F8: Quant. | G8: Valor Unit | H8: Valor Unit com BDI | I8: Total | J8: Peso (%)
A9: 1 | D9: SERVIÇOS PRELIMINARES | F9: 1 | H9: 4485.12 | I9: 4485.12 | J9: 0.0013785316
A10: 1.1 | B10: 103689 | C10: SINAPI | D10: FORNECIMENTO E INSTALAÇÃO DE PLACA DE OBRA COM CHAPA GALVANIZADA E ESTRUTURA DE MADEIRA. AF_03/2022_PS | E10: m² | F10: 8 | G10: 465.88 | H10: 560.64 | I10: 4485.12 | J10: 0.0013785316
A11: 2 | D11: MOVIMENTO DE TERRA E CONTENÇÕES | F11: 1 | H11: 380630.38 | I11: 380630.38 | J11: 0.11698929
A12: 2.1 | B12: 94327 | C12: SINAPI | D12: ATERRO MECANIZADO DE VALA COM ESCAVADEIRA HIDRÁULICA (CAPACIDADE DA CAÇAMBA: 0,8 M³/POTÊNCIA: 111 HP), LARGURA ATÉ 2,5 M, PROFUNDIDADE ATÉ 1,5 M, COM AREIA PARA ATERRO. AF_08/2023 | E12: m³ | F12: 1931.72 | G12: 123.35 | H12: 148.44 | I12: 286744.52 | J12: 0.088132844
A13: 2.2 | B13: 100574 | C13: SINAPI | D13: ESPALHAMENTO DE MATERIAL COM TRATOR DE ESTEIRAS. AF_09/2024 | E13: m³ | F13: 1931.72 | G13: 1.37 | H13: 1.65 | I13: 3187.34 | J13: 0.00097965025
A14: 2.3 | B14: 1506056 | C14: SICRO3 | D14: Pedra argamassada com cimento e areia 1:3 - areia extraída e pedra de mão produzida - confecção e assentamento | E14: m³ | F14: 221.8 | G14: 285.72 | H14: 343.84 | I14: 76263.71 | J14: 0.023440161
A15: 2.4 | B15: 103350 | C15: SINAPI | D15: ALVENARIA DE VEDAÇÃO DE BLOCOS CERÂMICOS FURADOS NA HORIZONTAL DE 9X9X19 CM (ESPESSURA 9 CM) E ARGAMASSA DE ASSENTAMENTO COM PREPARO EM BETONEIRA. AF_12/2021 | E15: m² | F15: 70.51 | G15: 170.12 | H15: 204.72 | I15: 14434.81 | J15: 0.0044366353
A16: 3 | D16: MERCADO (PRÉDIO PRINCIPAL) | F16: 1 | H16: 2340082 | I16: 2340082 | J16: 0.71923984
A17: 3.1 | D17: ESTRUTURA | F17: 1 | H17: 587829.31 | I17: 587829.31 | J17: 0.18067327
A18: 3.1.1 | D18: LOCAÇÃO E MOVIMENTO DE TERRA | F18: 1 | H18: 55343.13 | I18: 55343.13 | J18: 0.017010081
A19: 3.1.1.1 | B19: 99059 | C19: SINAPI | D19: LOCAÇÃO CONVENCIONAL DE OBRA, UTILIZANDO GABARITO DE TÁBUAS CORRIDAS PONTALETADAS A CADA 2,00M - 2 UTILIZAÇÕES. AF_03/2024 | E19: M | F19: 174.7 | G19: 62.26 | H19: 74.92 | I19: 13088.52 | J19: 0.0040228441
A20: 3.1.1.2 | B20: 96523 | C20: SINAPI | D20: ESCAVAÇÃO MANUAL PARA BLOCO DE COROAMENTO OU SAPATA (INCLUINDO ESCAVAÇÃO PARA COLOCAÇÃO DE FÔRMAS). AF_01/2024 | E20: m³ | F20: 245.96 | G20: 92.65 | H20: 111.5 | I20: 27424.54 | J20: 0.0084291156
A21: 3.1.1.3 | B21: 96527 | C21: SINAPI | D21: ESCAVAÇÃO MANUAL PARA VIGA BALDRAME OU SAPATA CORRIDA (INCLUINDO ESCAVAÇÃO PARA COLOCAÇÃO DE FÔRMAS). AF_01/2024 | E21: m³ | F21: 20.11 | G21: 101.96 | H21: 122.7 | I21: 2467.5 | J21: 0.00075840261
A22: 3.1.1.4 | B22: 101616 | C22: SINAPI | D22: PREPARO DE FUNDO DE VALA COM LARGURA MENOR QUE 1,5 M (ACERTO DO SOLO NATURAL). AF_08/2020 | E22: m² | F22: 119.98 | G22: 6.23 | H22: 7.5 | I22: 899.85 | J22: 0.00027657491
A23: 3.1.1.5 | B23: 96619 | C23: SINAPI | D23: LASTRO DE CONCRETO MAGRO, APLICADO EM BLOCOS DE COROAMENTO OU SAPATAS, ESPESSURA DE 5 CM. AF_01/2024 | E23: m² | F23: 119.98 | G23: 39.75 | H23: 47.84 | I23: 5739.84 | J23: 0.0017641782
A24: 3.1.1.6 | B24: 93382 | C24: SINAPI | D24: REATERRO MANUAL DE VALAS, COM COMPACTADOR DE SOLOS DE PERCUSSÃO. AF_08/2023 | E24: m³ | F24: 187.82 | G24: 25.32 | H24: 30.47 | I24: 5722.88 | J24: 0.0017589654
A25: 3.1.2 | D25: INFRAESTRUTURA | F25: 1 | H25: 215271.84 | I25: 215271.84 | J25: 0.066165239
A26: 3.1.2.1 | D26: SAPATAS / ARRANQUES | F26: 1 | H26: 91365.17 | I26: 91365.17 | J26: 0.028081696
A27: 3.1.2.1.1 | B27: 92443 | C27: SINAPI | D27: MONTAGEM E DESMONTAGEM DE FÔRMA DE PILARES RETANGULARES E ESTRUTURAS SIMILARES, PÉ-DIREITO SIMPLES, EM CHAPA DE MADEIRA COMPENSADA PLASTIFICADA, 18 UTILIZAÇÕES. AF_09/2020 | E27: m² | F27: 216.35 | G27: 44.49 | H27: 53.54 | I27: 11583.38 | J27: 0.0035602293
A28: 3.1.2.1.2 | B28: 104918 | C28: SINAPI | D28: ARMAÇÃO DE SAPATA ISOLADA, VIGA BALDRAME E SAPATA CORRIDA UTILIZANDO AÇO CA-50 DE 8 MM - MONTAGEM. AF_01/2024 | E28: KG | F28: 861.2 | G28: 13.01 | H28: 15.66 | I28: 13486.39 | J28: 0.0041451321
A29: 3.1.2.1.3 | B29: 92759 | C29: SINAPI | D29: ARMAÇÃO DE PILAR OU VIGA DE ESTRUTURA CONVENCIONAL DE CONCRETO ARMADO UTILIZANDO AÇO CA-60 DE 5,0 MM - MONTAGEM. AF_06/2022 | E29: KG | F29: 492.3 | G29: 12.93 | H29: 15.56 | I29: 7660.19 | J29: 0.0023544106
A30: 3.1.2.1.4 | B30: 92762 | C30: SINAPI | D30: ARMAÇÃO DE PILAR OU VIGA DE ESTRUTURA CONVENCIONAL DE CONCRETO ARMADO UTILIZANDO AÇO CA-50 DE 10,0 MM - MONTAGEM. AF_06/2022 | E30: KG | F30: 1077 | G30: 9.92 | H30: 11.94 | I30: 12859.38 | J30: 0.0039524164
A31: 3.1.2.1.5 | B31: 92763 | C31: SINAPI | D31: ARMAÇÃO DE PILAR OU VIGA DE ESTRUTURA CONVENCIONAL DE CONCRETO ARMADO UTILIZANDO AÇO CA-50 DE 12,5 MM - MONTAGEM. AF_06/2022 | E31: KG | F31: 100.6 | G31: 8.33 | H31: 10.02 | I31: 1008.01 | J31: 0.00030981861
A32: 3.1.2.1.6 | B32: 92764 | C32: SINAPI | D32: ARMAÇÃO DE PILAR OU VIGA DE ESTRUTURA CONVENCIONAL DE CONCRETO ARMADO UTILIZANDO AÇO CA-50 DE 16,0 MM - MONTAGEM. AF_06/2022 | E32: KG | F32: 120.6 | G32: 8.03 | H32: 9.66 | I32: 1165 | J32: 0.00035807054
A33: 3.1.2.1.7 | B33: 92765 | C33: SINAPI | D33: ARMAÇÃO DE PILAR OU VIGA DE ESTRUTURA CONVENCIONAL DE CONCRETO ARMADO UTILIZANDO AÇO CA-50 DE 20,0 MM - MONTAGEM. AF_06/2022 | E33: KG | F33: 28.2 | G33: 9.07 | H33: 10.91 | I33: 307.66 | J33: 9.4561357e-05
A34: 3.1.2.1.8 | B34: 94965 | C34: SINAPI | D34: CONCRETO FCK = 25MPA, TRAÇO 1:2,3:2,7 (EM MASSA SECA DE CIMENTO/ AREIA MÉDIA/ BRITA 1) - PREPARO MECÂNICO COM BETONEIRA 400 L. AF_05/2021 | E34: m³ | F34: 45.34 | G34: 502.75 | H34: 605.01 | I34: 27431.15 | J34: 0.0084311473
A35: 3.1.2.1.9 | B35: 103670 | C35: SINAPI | D35: LANÇAMENTO COM USO DE BALDES, ADENSAMENTO E ACABAMENTO DE CONCRETO EM ESTRUTURAS. AF_02/2022 | E35: m³ | F35: 45.34 | G35: 290.75 | H35: 349.89 | I35: 15864.01 | J35: 0.0048759095
A36: 3.1.2.2 | D36: VIGAS BALDRAME | F36: 1 | H36: 123906.67 | I36: 123906.67 | J36: 0.038083543
A37: 3.1.2.2.1 | B37: 96536 | C37: SINAPI | D37: FABRICAÇÃO, MONTAGEM E DESMONTAGEM DE FÔRMA PARA VIGA BALDRAME, EM MADEIRA SERRADA, E=25 MM, 4 UTILIZAÇÕES. AF_01/2024 | E37: m² | F37: 427.89 | G37: 74.67 | H37: 89.86 | I37: 38450.2 | J37: 0.011817926
A38: 3.1.2.2.2 | B38: 104916 | C38: SINAPI | D38: ARMAÇÃO DE SAPATA ISOLADA, VIGA BALDRAME E SAPATA CORRIDA UTILIZANDO AÇO CA-60 DE 5 MM - MONTAGEM. AF_01/2024 | E38: KG | F38: 481.5 | G38: 15.46 | H38: 18.6 | I38: 8955.9 | J38: 0.0027526557
A39: 3.1.2.2.3 | B39: 104917 | C39: SINAPI | D39: ARMAÇÃO DE SAPATA ISOLADA, VIGA BALDRAME E SAPATA CORRIDA UTILIZANDO AÇO CA-50 DE 6,3 MM - MONTAGEM. AF_01/2024 | E39: KG | F39: 27.5 | G39: 14.18 | H39: 17.06 | I39: 469.15 | J39: 0.00014419639
A40: 3.1.2.2.4 | B40: 104918 | C40: SINAPI | D40: ARMAÇÃO DE SAPATA ISOLADA, VIGA BALDRAME E SAPATA CORRIDA UTILIZANDO AÇO CA-50 DE 8 MM - MONTAGEM. AF_01/2024 | E40: KG | F40: 67.1 | G40: 13.01 | H40: 15.66 | I40: 1050.79 | J40: 0.00032296733
A41: 3.1.2.2.5 | B41: 104919 | C41: SINAPI | D41: ARMAÇÃO DE SAPATA ISOLADA, VIGA BALDRAME E SAPATA CORRIDA UTILIZANDO AÇO CA-50 DE 10 MM - MONTAGEM. AF_01/2024 | E41: KG | F41: 1021.7 | G41: 11.55 | H41: 13.9 | I41: 14201.63 | J41: 0.0043649659
A42: 3.1.2.2.6 | B42: 104920 | C42: SINAPI | D42: ARMAÇÃO DE BLOCO, SAPATA ISOLADA, VIGA BALDRAME E SAPATA CORRIDA UTILIZANDO AÇO CA-50 DE 12,5 MM - MONTAGEM. AF_01/2024 | E42: KG | F42: 428 | G42: 9.8 | H42: 11.79 | I42: 5046.12 | J42: 0.0015509587
...

Sheet Memória de Cálculo
A1: Obra: | B1: CONSTRUÇÃO DO MERCADO PÚBLICO DE LAGOA DE DENTRO-PB. | C1: Valor da Obra:
A2: Endereço da obra: | B2: LAGOA DE DENTRO-PB. | C2: 3253548.9
A3: Fonte de dados: | B3: SINAPI - 09/2025 / ORSE - 09/2025 | C3: BDI:
A4: Encargos Socias: | B4: Não desonerados - Horista:113,60% Mensalista: 69,85%) | C4: =BDI!J27 -> 0.2034 | E4: ESTADO DA PARAÍBA PREFEITURA MUNICIPAL DE LAGOA DE DENTRO
A6: MEMÓRIA DE CÁLCULO
A8: ITEM | B8: DESCRIÇÃO | C8: UND | D8: QUANT. | E8: MEMÓRIA DE CÁLCULO
A9: 1 | B9: SERVIÇOS PRELIMINARES
A10: 1.1 | B10: FORNECIMENTO E INSTALAÇÃO DE PLACA DE OBRA COM CHAPA GALVANIZADA E ESTRUTURA DE MADEIRA. AF_03/2022_PS | C10: m² | D10: 8,0 | E10: A = área para placa de obra. A = 2,0 x 4,0 A = 8,0
A11: 2 | B11: MOVIMENTO DE TERRA E CONTENÇÕES
A12: 2.1 | B12: ATERRO MECANIZADO DE VALA COM ESCAVADEIRA HIDRÁULICA (CAPACIDADE DA CAÇAMBA: 0,8 M³/POTÊNCIA: 111 HP), LARGURA ATÉ 2,5 M, PROFUNDIDADE ATÉ 1,5 M, COM AREIA PARA ATERRO. AF_08/2023 | C12: m³ | D12: 1.931,72 | E12: V = Volume de aterro conforme projeto topografico. V = 1.931,72
A13: 2.2 | B13: ESPALHAMENTO DE MATERIAL COM TRATOR DE ESTEIRAS. AF_09/2024 | C13: m³ | D13: 1.931,72 | E13: V = Volume de espalhamento de aterro conforme aterro. V = 1.931,72
A14: 2.3 | B14: Pedra argamassada com cimento e areia 1:3 - areia extraída e pedra de mão produzida - confecção e assentamento | C14: m³ | D14: 221,8 | E14: V = Volume de pedra argamassada conforme projeto topografico. V = 221,80
A15: 2.4 | B15: ALVENARIA DE VEDAÇÃO DE BLOCOS CERÂMICOS FURADOS NA HORIZONTAL DE 9X9X19 CM (ESPESSURA 9 CM) E ARGAMASSA DE ASSENTAMENTO COM PREPARO EM BETONEIRA. AF_12/2021 | C15: m² | D15: 70,51 | E15: A = Área de alvenaria de 1 vez conforme projeto topografico. A = 70,51
A16: 3 | B16: MERCADO (PRÉDIO PRINCIPAL)
A17: 3.1 | B17: ESTRUTURA
A18: 3.1.1 | B18: LOCAÇÃO E MOVIMENTO DE TERRA
A19: 3.1.1.1 | B19: LOCAÇÃO CONVENCIONAL DE OBRA, UTILIZANDO GABARITO DE TÁBUAS CORRIDAS PONTALETADAS A CADA 2,00M - 2 UTILIZAÇÕES. AF_03/2024 | C19: M | D19: 174,7 | E19: C = Comprimento de locação de obra conforme indicado no projeto estrutural para prédio principal + quisques. C = 174,70
A20: 3.1.1.2 | B20: ESCAVAÇÃO MANUAL PARA BLOCO DE COROAMENTO OU SAPATA (INCLUINDO ESCAVAÇÃO PARA COLOCAÇÃO DE FÔRMAS). AF_01/2024 | C20: m³ | D20: 245,96 | E20: V = Volume de escavação das fundações rasas conforme indicado no projeto estrutural, considerando a profundidade de assentamento constante de 2,00m + 0,05m para lançamento do lastro de concreto. V = (1,0 x 0,75 x 2,0) + (1,75 x 1,55 x 2,0) + (1,40 x 1,15 x 4,0) + (1,45 x 1,20 x 9,0) + (1,50 x 1,25 x 4,0) + (1,60 x 1,35 x 1,0) + (1,70 x 1,45 x 4,0) + (1,25 x 1,0 x 18,0) + (0,70 x 0,55 x 4,0) + (0,90 x 0,75 x 3,0) + (0,85 x 0,70 x 8,0) + (1,25 x 1,10 x 3,0) + (0,90 x 0,65 x 2,0) + (0,75 x 0,65 x 2,0) + (0,90 x 0,70 x 2,0) + (1,15 x 1,0 x 3,0) + (1,30 x 1,05 x 10,0) + (0,70 x 0,60 x 4,0) + (1,20 x 0,95 x 1,0) + (1,05 x 0,80 x 1,0) + (1,80 x 1,55 x 1,0) + (1,0 x 0,85 x 5,0) + (0,80 x 0,65 x 2,0) + (0,70 x 0,65 x 2,0) + (1,80 x 1,60 x 1,0) + (0,75 x 0,60 x 1,0) x (2,00 + 0,05) V = (119,98)x(2,05) V = 245,96
A21: 3.1.1.3 | B21: ESCAVAÇÃO MANUAL PARA VIGA BALDRAME OU SAPATA CORRIDA (INCLUINDO ESCAVAÇÃO PARA COLOCAÇÃO DE FÔRMAS). AF_01/2024 | C21: m³ | D21: 20,11 | E21: V = Volume de escavação das vigas baldrames conforme planta de forma indicada no projeto estrutural. V = Comprimento da viga x Largura da viga x Altura da viga. V1 = (2,50 + 2,45 + 2,58 + 2,45 + 2,65 +2,53 + 4,20 + 3,40 + 3,30 + 3,38 + 3,40 + 3,35 + 3,25 + 3,28 + 3,30 + 3,25 + 2,38 + 2,43 + 2,43 + 2,45 + 2,45 + 2,15 + 3,28 + 3,30 + 3,30 + 3,25 + 3,38 + 3,0 + 6,30 + 2,95 + 0,62 + 0,62 + 0,62 + 0,60 + 2,35 + 6,45 + 3,45 + 3,33 + 3,45 + 4,20 + 4,05 + 2,15 + 3,85 + 3,75 + 3,80 + 3,08 + 4,55 + 4,02 + 4,25 + 3,75 + 4,05 + 3,90 + 3,0 + 8,35 + 4,35 + 3,92 + 3,85 + 3,95 + 3,60 + 10,15 + 3,95 + 5,10 + 4,25 + 4,05 + 4,87 + 3,95 + 3,85 + 3,70 + 3,70 + 4,75 + 4,50 + 4,30 + 4,50 + 3,45 + 3,30 + 3,35 + 3,65 + 1,50 + 2,20 + 1,45 + 2,60 + 2,60 + 2,60 + 2,60 + 4,30 + 3,15 + 1,50 + 2,25 + 3,15 + 4,80 + 0,95 + 2,80 + 2,80 + 1,60 + 1,05 + 2,35 + 3,15 + 1,60 + 2,50 + 3,30 + 5,10 + 8,0 + 4,35 + 4,55 + 4,90 + 8,0 + 3,85 + 3,90 + 8,35 + 9,45 + 3,10) x 0,15 x 0,30 V1 =393,95 x 0,15 x 0,30 V1 = 17,73 V2 = (3,15 + 3,0 + 3,0 + 3,0 + 3,0 + 3,0 + 4,75 + 3,15 + 3,0 + 3,0 + 3,0 + 3,0 + 3,0 + 4,75 + 3,0 + 3,0 + 3,0 + 3,0 + 4,75) x 0,20 x 0,35 V2 = 62,55 x 0,20 x 0,35 V2 = 4,38 V = 17,73 + 4,38 V = 20,11
A22: 3.1.1.4 | B22: PREPARO DE FUNDO DE VALA COM LARGURA MENOR QUE 1,5 M (ACERTO DO SOLO NATURAL). AF_08/2020 | C22: m² | D22: 119,98 | E22: A = Área de regularização do fundo da vala escavada para assentamento das sapatas conforme indicado no projeto estrutural. A = Volume escavado (item 3.1.1.2) / Profundidade de assentamento (2,05m) A = (245,96/2,05) A = 119,98
A23: 3.1.1.5 | B23: LASTRO DE CONCRETO MAGRO, APLICADO EM BLOCOS DE COROAMENTO OU SAPATAS, ESPESSURA DE 5 CM. AF_01/2024 | C23: m² | D23: 119,98 | E23: A = Área de lastro de concreto aplicado sobre a base das sapatas conforme área de regularização do fundo das valas (item 3.1.1.3). A = 119,98
A24: 3.1.1.6 | B24: REATERRO MANUAL DE VALAS, COM COMPACTADOR DE SOLOS DE PERCUSSÃO. AF_08/2023 | C24: m³ | D24: 187,82 | E24: V = Volume de reaterro das fundações tomando o volume escavado das sapatas e vigas, com desconto do volume de concreto ocupado pelas sapatas + vigas baldrames e do volume ocupado pelo lastro de concreto (espessura de 5cm). V = ((245,96+20,11) - (29,16 + 16,18 + 26,91) - (119,98x0,05) V =266,07 -72,25 - 6,0 V = 187,82
A25: 3.1.2 | B25: INFRAESTRUTURA
A26: 3.1.2.1 | B26: SAPATAS / ARRANQUES
A27: 3.1.2.1.1 | B27: MONTAGEM E DESMONTAGEM DE FÔRMA DE PILARES RETANGULARES E ESTRUTURAS SIMILARES, PÉ-DIREITO SIMPLES, EM CHAPA DE MADEIRA COMPENSADA PLASTIFICADA, 18 UTILIZAÇÕES. AF_09/2020 | C27: m² | D27: 216,35 | E27: A = Conforme projeto estrutural. A = 216,35
A28: 3.1.2.1.2 | B28: ARMAÇÃO DE SAPATA ISOLADA, VIGA BALDRAME E SAPATA CORRIDA UTILIZANDO AÇO CA-50 DE 8 MM - MONTAGEM. AF_01/2024 | C28: KG | D28: 861,2 | E28: Q = Conforme projeto estrutural. Q = 861,20
A29: 3.1.2.1.3 | B29: ARMAÇÃO DE PILAR OU VIGA DE ESTRUTURA CONVENCIONAL DE CONCRETO ARMADO UTILIZANDO AÇO CA-60 DE 5,0 MM - MONTAGEM. AF_06/2022 | C29: KG | D29: 492,3 | E29: Q = Conforme projeto estrutural. Q = 492,30
A30: 3.1.2.1.4 | B30: ARMAÇÃO DE PILAR OU VIGA DE ESTRUTURA CONVENCIONAL DE CONCRETO ARMADO UTILIZANDO AÇO CA-50 DE 10,0 MM - MONTAGEM. AF_06/2022 | C30: KG | D30: 1.077,0 | E30: Q = Conforme projeto estrutural. Q = 1.077,0
A31: 3.1.2.1.5 | B31: ARMAÇÃO DE PILAR OU VIGA DE ESTRUTURA CONVENCIONAL DE CONCRETO ARMADO UTILIZANDO AÇO CA-50 DE 12,5 MM - MONTAGEM. AF_06/2022 | C31: KG | D31: 100,6 | E31: Q = Conforme projeto estrutural. Q = 100,60
A32: 3.1.2.1.6 | B32: ARMAÇÃO DE PILAR OU VIGA DE ESTRUTURA CONVENCIONAL DE CONCRETO ARMADO UTILIZANDO AÇO CA-50 DE 16,0 MM - MONTAGEM. AF_06/2022 | C32: KG | D32: 120,6 | E32: Q = Conforme projeto estrutural. Q = 120,60
A33: 3.1.2.1.7 | B33: ARMAÇÃO DE PILAR OU VIGA DE ESTRUTURA CONVENCIONAL DE CONCRETO ARMADO UTILIZANDO AÇO CA-50 DE 20,0 MM - MONTAGEM. AF_06/2022 | C33: KG | D33: 28,2 | E33: Q = Conforme projeto estrutural. Q = 28,20
A34: 3.1.2.1.8 | B34: CONCRETO FCK = 25MPA, TRAÇO 1:2,3:2,7 (EM MASSA SECA DE CIMENTO/ AREIA MÉDIA/ BRITA 1) - PREPARO MECÂNICO COM BETONEIRA 400 L. AF_05/2021 | C34: m³ | D34: 45,34 | E34: V = Conforme projeto estrutural. V = 29,16 + 16,18 V = 45,34
A35: 3.1.2.1.9 | B35: LANÇAMENTO COM USO DE BALDES, ADENSAMENTO E ACABAMENTO DE CONCRETO EM ESTRUTURAS. AF_02/2022 | C35: m³ | D35: 45,34 | E35: V = Conforme projeto estrutural. V = 29,16 + 16,18 V = 45,34
A36: 3.1.2.2 | B36: VIGAS BALDRAME
A37: 3.1.2.2.1 | B37: FABRICAÇÃO, MONTAGEM E DESMONTAGEM DE FÔRMA PARA VIGA BALDRAME, EM MADEIRA SERRADA, E=25 MM, 4 UTILIZAÇÕES. AF_01/2024 | C37: m² | D37: 427,89 | E37: A = Conforme projeto estrutural. A = 427,89
A38: 3.1.2.2.2 | B38: ARMAÇÃO DE SAPATA ISOLADA, VIGA BALDRAME E SAPATA CORRIDA UTILIZANDO AÇO CA-60 DE 5 MM - MONTAGEM. AF_01/2024 | C38: KG | D38: 481,5 | E38: Q = Conforme projeto estrutural. Q = 481,50
A39: 3.1.2.2.3 | B39: ARMAÇÃO DE SAPATA ISOLADA, VIGA BALDRAME E SAPATA CORRIDA UTILIZANDO AÇO CA-50 DE 6,3 MM - MONTAGEM. AF_01/2024 | C39: KG | D39: 27,5 | E39: Q = Conforme projeto estrutural. Q = 27,50
A40: 3.1.2.2.4 | B40: ARMAÇÃO DE SAPATA ISOLADA, VIGA BALDRAME E SAPATA CORRIDA UTILIZANDO AÇO CA-50 DE 8 MM - MONTAGEM. AF_01/2024 | C40: KG | D40: 67,1 | E40: Q = Conforme projeto estrutural. Q = 67,10
A41: 3.1.2.2.5 | B41: ARMAÇÃO DE SAPATA ISOLADA, VIGA BALDRAME E SAPATA CORRIDA UTILIZANDO AÇO CA-50 DE 10 MM - MONTAGEM. AF_01/2024 | C41: KG | D41: 1.021,7 | E41: Q = Conforme projeto estrutural. Q = 1.021,70
A42: 3.1.2.2.6 | B42: ARMAÇÃO DE BLOCO, SAPATA ISOLADA, VIGA BALDRAME E SAPATA CORRIDA UTILIZANDO AÇO CA-50 DE 12,5 MM - MONTAGEM. AF_01/2024 | C42: KG | D42: 428,0 | E42: Q = Conforme projeto estrutural. Q = 428,0
...

Sheet CPUs
A1: Obra: | B1: ='Memória de Cálculo'!B1 -> CONSTRUÇÃO DO MERCADO PÚBLICO DE LAGOA DE DENTRO-PB. | E1: Valor da Obra: | G1: Valor de Repasse:
A2: Endereço da obra: | B2: ='Memória de Cálculo'!B2 -> LAGOA DE DENTRO-PB. | E2: 3253548.9 | G2: 3250301
A3: Fonte de dados: | B3: ='Memória de Cálculo'!B3 -> SINAPI - 09/2025 / ORSE - 09/2025 | E3: BDI: | G3: Contrapartida:
A4: Encargos Socias: | B4: ='Memória de Cálculo'!B4 -> Não desonerados - Horista:113,60% Mensalista: 69,85%) | E4: ='Memória de Cálculo'!$C$4 -> 0.2034 | G4: =E2-G2 -> 3247.91 | H4: ='Memória de Cálculo'!E4 -> ESTADO DA PARAÍBA PREFEITURA MUNICIPAL DE LAGOA DE DENTRO
A6: COMPOSIÇÕES ANALÍTICAS COM PREÇO UNITÁRIO
A7: Composições Principais
A9: 3.7.2.1 | B9: Código | C9: Banco | D9: Descrição | E9: Tipo | G9: Und | H9: Quant. | I9: Valor Unit | J9: Total
A10: Composição | B10: C01-DPS | C10: Próprio | D10: DISPOSITIVO DE PROTEÇÃO CONTRA SURTOS 20KA (DPS) - 275V. REF. ORSE/13150 | E10: INEL - INSTALAÇÃO ELÉTRICA/ELETRIFICAÇÃO E ILUMINAÇÃO EXTERNA | G10: UN | H10: 1 | I10: 74.17 | J10: 74.17
A11: Composição Auxiliar | B11: 88316 | C11: SINAPI | D11: SERVENTE COM ENCARGOS COMPLEMENTARES | E11: Livro SINAPI: Cálculos e Parâmetros | G11: H | H11: 0.3 | I11: 21.32 | J11: 6.4
A12: Composição Auxiliar | B12: 88264 | C12: SINAPI | D12: ELETRICISTA COM ENCARGOS COMPLEMENTARES | E12: Livro SINAPI: Cálculos e Parâmetros | G12: H | H12: 0.3 | I12: 27.28 | J12: 8.18
A13: Insumo | B13: 00039469 | C13: SINAPI | D13: DISPOSITIVO DPS CLASSE II, 1 POLO, TENSAO MAXIMA DE 275 V, CORRENTE MAXIMA DE *20* KA (TIPO AC) | E13: Material | G13: UN | H13: 1 | I13: 59.59 | J13: 59.59
E14: MO sem LS => | F14: 11.41 | G14: LS => | H14: 0 | I14: MO com LS => | J14: 11.41
E15: Valor do BDI => | F15: 15.09 | H15: Valor com BDI => | J15: 89.26
A17: 3.7.5.2 | B17: Código | C17: Banco | D17: Descrição | E17: Tipo | G17: Und | H17: Quant. | I17: Valor Unit | J17: Total
A18: Composição | B18: C18 | C18: Próprio | D18: LUMINÁRIA EM LED DE EMBUTIR 48W, FORNECIMENTO E INSTALAÇÃO | E18: INEL - INSTALAÇÃO ELÉTRICA/ELETRIFICAÇÃO E ILUMINAÇÃO EXTERNA | G18: und | H18: 1 | I18: 192.9 | J18: 192.9
A19: Composição Auxiliar | B19: 88316 | C19: SINAPI | D19: SERVENTE COM ENCARGOS COMPLEMENTARES | E19: Livro SINAPI: Cálculos e Parâmetros | G19: H | H19: 1.5 | I19: 21.32 | J19: 31.98
A20: Composição Auxiliar | B20: 88264 | C20: SINAPI | D20: ELETRICISTA COM ENCARGOS COMPLEMENTARES | E20: Livro SINAPI: Cálculos e Parâmetros | G20: H | H20: 1.5 | I20: 27.28 | J20: 40.92
A21: Insumo | B21: 00000046 | C21: Próprio | D21: PLAFON DE LED DE EMBUTIR 48W | E21: Material | G21: und | H21: 1 | I21: 120 | J21: 120
E22: MO sem LS => | F22: 57.04 | G22: LS => | H22: 0 | I22: MO com LS => | J22: 57.04
E23: Valor do BDI => | F23: 39.24 | H23: Valor com BDI => | J23: 232.14
A25: 3.14.2 | B25: Código | C25: Banco | D25: Descrição | E25: Tipo | G25: Und | H25: Quant. | I25: Valor Unit | J25: Total
A26: Composição | B26: CPU-002 | C26: Próprio | D26: BANCADA EM GRANITO CINZA ANDORINHA E=2CM. REF. ORSE/10759 | E26: REVE - REVESTIMENTO E TRATAMENTO DE SUPERFÍCIES | G26: m² | H26: 1 | I26: 583.14 | J26: 583.14
A27: Composição Auxiliar | B27: 88316 | C27: SINAPI | D27: SERVENTE COM ENCARGOS COMPLEMENTARES | E27: Livro SINAPI: Cálculos e Parâmetros | G27: H | H27: 1.14 | I27: 21.32 | J27: 24.3
A28: Composição Auxiliar | B28: 88309 | C28: SINAPI | D28: PEDREIRO COM ENCARGOS COMPLEMENTARES | E28: Livro SINAPI: Cálculos e Parâmetros | G28: H | H28: 0.65 | I28: 26.91 | J28: 17.49
A29: Insumo | B29: 00011795 | C29: SINAPI | D29: GRANITO PARA BANCADA, POLIDO, TIPO ANDORINHA/ QUARTZ/ CASTELO/ CORUMBA OU OUTROS EQUIVALENTES DA REGIAO, E= *2,5* CM | E29: Material | G29: m² | H29: 1 | I29: 528.3 | J29: 528.3
A30: Insumo | B30: 00000586 | C30: SINAPI | D30: CANTONEIRA EM ALUMINIO, ABAS IGUAIS, LARGURA DE 25,40 MM (1"), ESPESSURA DE 4,76 MM (3/16") E PESO LINEAR DE APROXIMADAMENTE 0,593 KG/M | E30: Material | G30: M | H30: 0.6 | I30: 21.75 | J30: 13.05
E31: MO sem LS => | F31: 32.37 | G31: LS => | H31: 0 | I31: MO com LS => | J31: 32.37
E32: Valor do BDI => | F32: 118.61 | H32: Valor com BDI => | J32: 701.75
A34: 5.4.1 | B34: Código | C34: Banco | D34: Descrição | E34: Tipo | G34: Und | H34: Quant. | I34: Valor Unit | J34: Total
A35: Composição | B35: 082024 | C35: Próprio | D35: LIXEIRA COM ESTRUTURA DE AÇO GALVANIZADO (1 TUBO CENTRAL) E CESTO EM TÁBUAS DE MADEIRA DE LEI | E35: ASTU - ASSENTAMENTO DE TUBOS E PECAS | G35: UNID | H35: 1 | I35: 880.03 | J35: 880.03
A36: Composição Auxiliar | B36: 101616 | C36: SINAPI | D36: PREPARO DE FUNDO DE VALA COM LARGURA MENOR QUE 1,5 M (ACERTO DO SOLO NATURAL). AF_08/2020 | E36: Escoramento e Preparo de Fundo de Valas | G36: m² | H36: 0.125 | I36: 6.23 | J36: 0.78
A37: Composição Auxiliar | B37: 92873 | C37: SINAPI | D37: LANÇAMENTO COM USO DE BALDES, ADENSAMENTO E ACABAMENTO DE CONCRETO EM ESTRUTURAS. AF_12/2015 | E37: FUES - FUNDAÇÕES E ESTRUTURAS | G37: m³ | H37: 0 | I37: 218.19 | J37: 0
A38: Composição Auxiliar | B38: 93358 | C38: SINAPI | D38: ESCAVAÇÃO MANUAL DE VALA. AF_09/2024 | E38: Escavação de Valas | G38: m³ | H38: 0.03 | I38: 84.34 | J38: 2.53
A39: Composição Auxiliar | B39: 102474 | C39: SINAPI | D39: CONCRETO FCK = 15MPA, TRAÇO 1:3,4:3,4 (EM MASSA SECA DE CIMENTO/ AREIA MÉDIA/ SEIXO ROLADO) - PREPARO MECÂNICO COM BETONEIRA 400 L. AF_05/2021 | E39: Produção de Concreto | G39: m³ | H39: 0.03 | I39: 590.67 | J39: 17.72
A40: Insumo | B40: 001223 | C40: Próprio | D40: Lixeira com estrutura de aço galvanizado (1 tubo central) e cesto em tábuas de madeira de lei | E40: Equipamento | G40: un | H40: 1 | I40: 859 | J40: 859
E41: MO sem LS => | F41: 4.3 | G41: LS => | H41: 0 | I41: MO com LS => | J41: 4.3
E42: Valor do BDI => | F42: 179 | H42: Valor com BDI => | J42: 1059.03
A44: Composições Auxiliares

Sheet COTAÇÃO
A1: Obra: | B1: ='Memória de Cálculo'!$B$1 -> CONSTRUÇÃO DO MERCADO PÚBLICO DE LAGOA DE DENTRO-PB. | E1: Valor da Obra:
A2: Endereço da obra: | B2: ='Memória de Cálculo'!$B$2 -> LAGOA DE DENTRO-PB. | E2: 3253548.9
A3: Fonte de dados: | B3: ='Memória de Cálculo'!$B$3 -> SINAPI - 09/2025 / ORSE - 09/2025 | E3: BDI: | F3: ESTADO DA PARAÍBA PREFEITURA MUNICIPAL DE LAGOA DE DENTRO
A4: Encargos Socias: | B4: ='Memória de Cálculo'!$B$4 -> Não desonerados - Horista:113,60% Mensalista: 69,85%) | E4: 0.2034
A5: 3
A6: COTAÇÃO
A8: EMPRESAS FORNECEDORAS:
A9: CÓDIGO | D9: DESCRIÇÃO | F9: MEDIANA | G9: ÍNDICE RETROAÇÃO
A10: 02 | D10: LUMINÁRIA PLAFON 24W LED EMBUTIR | F10: 44
A11: EMPRESA | B11: CNPJ | C11: FONE | D11: NOME DA EMPRESA | F11: COTAÇÕES | G11: DATA COTAÇÃO
A12: E001 | B12: 11.580.441/0001-36 | C12: (83)3421-5901 | D12: ELETROLASER | F12: 47 | G12: 01/25
A13: E002 | B13: 08.293.785/0001-40 | C13: (83)3421-7422 | D13: CENTRAL DA CONSTRUÇÃO | F13: R$ 39,10 | G13: 01/25
A14: E003 | B14: 15.639.627/0001-64 | C14: (83)3421-4223 | D14: GRUPO BARBOSA | F14: 44 | G14: 01/25
A15: OBSERVAÇÕES:

Sheet CFF
A1: Obra: | B1: ='Memória de Cálculo'!B1 -> CONSTRUÇÃO DO MERCADO PÚBLICO DE LAGOA DE DENTRO-PB. | H1: Valor da Obra: | J1: Valor de Repasse:
A2: Endereço da obra: | B2: ='Memória de Cálculo'!B2 -> LAGOA DE DENTRO-PB. | H2: 3253548.9 | J2: 3250301
A3: Fonte de dados: | B3: ='Memória de Cálculo'!B3 -> SINAPI - 09/2025 / ORSE - 09/2025 | H3: BDI: | J3: Contrapartida:
A4: Encargos Socias: | B4: ='Memória de Cálculo'!B4 -> Não desonerados - Horista:113,60% Mensalista: 69,85%) | H4: ='Memória de Cálculo'!$C$4 -> 0.2034 | J4: =H2-J2 -> 3247.91 | K4: ='Memória de Cálculo'!E4 -> ESTADO DA PARAÍBA PREFEITURA MUNICIPAL DE LAGOA DE DENTRO
A6: CRONOGRAMA FÍSICO-FINANCEIRO
A8: Item | B8: Descrição | C8: Total Por Etapa | D8: 30 DIAS | E8: 60 DIAS | F8: 90 DIAS | G8: 120 DIAS | H8: 150 DIAS | I8: 180 DIAS | J8: 210 DIAS | K8: 240 DIAS | L8: 270 DIAS | M8: 300 DIAS
A9: 1 | B9: SERVIÇOS PRELIMINARES | C9: 100,00% 4.485,12 | D9: 100,00% 4.485,12
A10: 2 | B10: MOVIMENTO DE TERRA E CONTENÇÕES | C10: 100,00% 380.630,38 | D10: 75,00% 285.472,79 | E10: 25,00% 95.157,60
A11: 3 | B11: MERCADO (PRÉDIO PRINCIPAL) | C11: 100,00% 2.340.081,99 | D11: 2,51% 58.782,93 | E11: 10,05% 235.131,72 | F11: 12,75% 298.304,05 | G11: 15,06% 352.386,96 | H11: 17,71% 414.485,58 | I11: 17,61% 411.983,95 | J11: 12,95% 302.932,76 | K11: 7,80% 182.611,65 | M11: 3,57% 83.462,39
A12: 3.1 | B12: ESTRUTURA | C12: 100,00% 587.829,31 | D12: 10,00% 58.782,93 | E12: 40,00% 235.131,72 | F12: 30,00% 176.348,79 | G12: 20,00% 117.565,86
A13: 3.2 | B13: ELEVAÇÃO | C13: 100,00% 231.281,57 | F13: 35,00% 80.948,55 | G13: 35,00% 80.948,55 | H13: 30,00% 69.384,47
A14: 3.3 | B14: COBERTURA | C14: 100,00% 449.540,10 | H14: 40,00% 179.816,04 | I14: 40,00% 179.816,04 | J14: 20,00% 89.908,02
A15: 3.4 | B15: REVESTIMENTOS | C15: 100,00% 258.537,05 | G15: 50,00% 129.268,53 | H15: 25,00% 64.634,26 | I15: 25,00% 64.634,26
A16: 3.5 | B16: INSTALAÇÕES HIDRÁULICAS | C16: 100,00% 24.780,53 | F16: 50,00% 12.390,27 | G16: 30,00% 7.434,16 | H16: 20,00% 4.956,11
A17: 3.6 | B17: INSTALAÇÕES SANITÁRIAS | C17: 100,00% 57.232,88 | F17: 50,00% 28.616,44 | G17: 30,00% 17.169,86 | H17: 20,00% 11.446,58
A18: 3.7 | B18: INSTALAÇÕES ELÉTRICAS | C18: 100,00% 206.924,05 | H18: 30,00% 62.077,22 | I18: 30,00% 62.077,22 | J18: 40,00% 82.769,62
A19: 3.8 | B19: COMBATE A INCÊNDIO E PÂNICO | C19: 100,00% 33.545,57 | I19: 50,00% 16.772,79 | M19: 50,00% 16.772,79
A20: 3.9 | B20: PAVIMENTAÇÃO | C20: 100,00% 221.709,11 | H20: 10,00% 22.170,91 | I20: 40,00% 88.683,64 | J20: 50,00% 110.854,56
A21: 3.10 | B21: ESQUADRIAS | C21: 100,00% 32.334,28 | J21: 60,00% 19.400,57 | K21: 40,00% 12.933,71
A22: 3.11 | B22: FORRO | C22: 100,00% 2.948,64 | K22: 100,00% 2.948,64
A23: 3.12 | B23: PINTURA | C23: 100,00% 154.675,41 | K23: 100,00% 154.675,41
A24: 3.13 | B24: RAMPA | C24: 100,00% 12.053,89 | K24: 100,00% 12.053,89
A25: 3.14 | B25: LOUÇAS E METAIS | C25: 100,00% 66.689,60 | M25: 100,00% 66.689,60
A26: 4 | B26: QUIOSQUES | C26: 100,00% 186.918,12 | D26: 3,53% 6.593,20 | K26: 58,21% 108.809,93 | L26: 38,26% 71.514,99
A27: 4.1 | B27: LOCAÇÃO E MOVIMENTO DE TERRA | C27: 100,00% 6.593,20 | D27: 100,00% 6.593,20
A28: 4.2 | B28: INFRAESTRUTURA | C28: 100,00% 20.503,91 | K28: 100,00% 20.503,91
A29: 4.3 | B29: SUPER ESTRUTURA | C29: 100,00% 20.736,43 | K29: 100,00% 20.736,43
A30: 4.4 | B30: ELEVAÇÃO | C30: 100,00% 30.106,87 | K30: 100,00% 30.106,87
A31: 4.5 | B31: COBERTURA | C31: 100,00% 8.548,78 | K31: 50,00% 4.274,39 | L31: 50,00% 4.274,39
A32: 4.6 | B32: REVESTIMENTOS | C32: 100,00% 44.276,76 | K32: 50,00% 22.138,38 | L32: 50,00% 22.138,38
A33: 4.7 | B33: PAVIMENTAÇÃO | C33: 100,00% 11.049,95 | K33: 100,00% 11.049,95
A34: 4.8 | B34: ESQUADRIAS | C34: 100,00% 12.605,67 | L34: 100,00% 12.605,67
A35: 4.9 | B35: FORRO | C35: 100,00% 4.409,13 | L35: 100,00% 4.409,13
A36: 4.10 | B36: PINTURA | C36: 100,00% 17.947,02 | L36: 100,00% 17.947,02
A37: 4.11 | B37: LOUÇAS E METAIS | C37: 100,00% 10.140,40 | L37: 100,00% 10.140,40
A38: 5 | B38: URBANISMO | C38: 100,00% 335.871,98 | L38: 40,00% 134.348,79 | M38: 60,00% 201.523,19
A39: 6 | B39: SERVIÇOS FINAIS | C39: 100,00% 5.561,32 | M39: 100,00% 5.561,32
A40: Porcentagem | D40: 10,92% | E40: 10,15% | F40: 9,17% | G40: 10,83% | H40: 12,74% | I40: 12,66% | J40: 9,31% | K40: 8,96% | L40: 6,33% | M40: 8,93%
A41: Custo | D41: 355.334,03 | E41: 330.289,31 | F41: 298.304,04 | G41: 352.386,95 | H41: 414.485,58 | I41: 411.983,94 | J41: 302.932,76 | K41: 291.421,58 | L41: 205.863,78 | M41: 290.546,89
A42: Porcentagem Acumulado | D42: 10,92% | E42: 21,07% | F42: 30,24% | G42: 41,07% | H42: 53,81% | I42: 66,47% | J42: 75,79% | K42: 84,74% | L42: 91,07% | M42: 100,0%
...

Sheet BDI
A1: Obra: | B1: ='Memória de Cálculo'!B1 -> CONSTRUÇÃO DO MERCADO PÚBLICO DE LAGOA DE DENTRO-PB. | E1: Valor da Obra: | G1: Valor de Repasse:
A2: Endereço da obra: | B2: ='Memória de Cálculo'!B2 -> LAGOA DE DENTRO-PB. | E2: 3253548.9 | G2: 3250301
A3: Fonte de dados: | B3: ='Memória de Cálculo'!B3 -> SINAPI - 09/2025 / ORSE - 09/2025 | E3: BDI: | G3: Contrapartida:
A4: Encargos Socias: | B4: ='Memória de Cálculo'!B4 -> Não desonerados - Horista:113,60% Mensalista: 69,85%) | E4: ='Memória de Cálculo'!$C$4 -> 0.2034 | G4: =E2-G2 -> 3247.91 | H4: ='Memória de Cálculo'!E4 -> ESTADO DA PARAÍBA PREFEITURA MUNICIPAL DE LAGOA DE DENTRO
A6: BENEFÍCIOS E DESPESAS INDIRETAS (BDI)
A8: Conforme legislação tributária municipal, definir estimativa de percentual da base de cálculo para o ISS: | I8: 0.4
A9: Sobre a base de cálculo, definir a respectiva alíquota do ISS (entre 2% e 5%): | I9: 0.05
A11: BDI 1
A13: TIPO DE OBRA
A14: Construção e Reforma de Edifícios | L14: Construção e Reforma de Edifícios | S14: Construção de Praças Urbanas, Rodovias, Ferrovias e recapeamento e pavimentação de vias urbanas
A16: Itens | I16: Siglas | J16: % Adotado | L16: Situação | O16: 1º Quartil | P16: Médio | Q16: 3º Quartil | S16: Situação | V16: 1º Quartil | W16: Médio | X16: 3º Quartil
A18: =IF($J$19=$A$150,"Encargos Sociais incidentes sobre a mão de obra","Administração Central") -> Administração Central | I18: AC | J18: 0.04 | L18: AC | O18: 0.03 | P18: 0.04 | Q18: 0.055 | S18: AC | V18: 0.038 | W18: 0.0401 | X18: 0.0467
A19: =IF($J$19=$A$150,"Administração Central da empresa ou consultoria - overhead","Seguro e Garantia") -> Seguro e Garantia | I19: SG | J19: 0.008 | L19: SG | O19: 0.008 | P19: 0.008 | Q19: 0.01 | S19: SG | V19: 0.0032 | W19: 0.004 | X19: 0.0074
A20: =IF($J$19=$A$150,"","Risco") -> Risco | I20: R | J20: 0.0097 | L20: R | O20: 0.0097 | P20: 0.0127 | Q20: 0.0127 | S20: R | V20: 0.005 | W20: 0.0056 | X20: 0.0097
A21: =IF($J$19=$A$150,"","Despesas Financeiras") -> Despesas Financeiras | I21: DF | J21: 0.0059 | L21: DF | O21: 0.0059 | P21: 0.0123 | Q21: 0.0139 | S21: DF | V21: 0.0102 | W21: 0.0111 | X21: 0.0121
A22: =IF($J$19=$A$150,"Margem bruta da empresa de consultoria","Lucro") -> Lucro | I22: L | J22: 0.0672 | L22: L | O22: 0.0616 | P22: 0.074 | Q22: 0.0896 | S22: L | V22: 0.0664 | W22: 0.073 | X22: 0.0869
A23: Tributos (impostos COFINS 3%, e PIS 0,65%) | I23: CP | J23: 0.0365 | L23: CP | O23: 0.0365 | P23: 0.0365 | Q23: 0.0365 | S23: CP | V23: 0.0365 | W23: 0.0365 | X23: 0.0365
A24: Tributos (ISS, variável de acordo com o município) | I24: ISS | J24: =ROUND(I8*I9,4) -> 0.02 | L24: - | O24: 0 | P24: 0.025 | Q24: 0.05 | S24: - | V24: 0 | W24: 0.025 | X24: 0.05
A25: Tributos (Contribuição Previdenciária sobre a Receita Bruta - 0% ou 4,5% - Desoneração) | I25: CPRB | J25: 0 | L25: - | O25: 0 | P25: 0.045 | Q25: 0.045 | S25: - | V25: 0 | W25: 0.045 | X25: 0.045
A26: BDI SEM desoneração (Fórmula Acórdão TCU) | I26: BDI PAD | J26: =ROUND((((1+J18+J19+J20)*(1+J21)*(1+J22)/(1-(J23+J24)))-1),4) -> 0.2034 | L26: =IF(((J26>=O26)*AND(J26<=Q26)),"OK","FORA DO INTERVALO") -> OK | O26: 0.2034 | P26: 0.2212 | Q26: 0.25 | S26: =IF((J26>=V26)*AND(J26<=X26),"OK","FORA DO INTERVALO") -> OK | V26: 0.196 | W26: 0.2097 | X26: 0.2423
C27: BDI | D27: =IF(J25=0,"SEM Desoneração","COM Desoneração") -> SEM Desoneração | I27: BDI DES | J27: =ROUND((((1+J18+J19+J20)*(1+J21)*(1+J22)/(1-(J23+J24+J25)))-1),4) -> 0.2034
A31: Os valores de BDI foram calculados com o emprego da fórmula:
C32: BDI = | D32: (1+AC + S + R + G)*(1 + DF)*(1+L) | G32: - 1
D33: (1-CP-ISS-CRPB)
A35: =CONCATENATE("Declaro para os devidos fins que, conforme legislação tributária municipal, a base de cálculo deste tipo de obra corresponde a ",$I$8*100,"%, com a respectiva alíquota de ",$I$9*100,"%.") -> Declaro para os devidos fins que, conforme legislação tributária municipal, a base de cálculo deste tipo de obra corresponde a 40%, com a respectiva alíquota de 5%.
A37: =CONCATENATE("Declaro para os devidos fins que o regime de Contribuição Previdenciária sobre a Receita Bruta adotado para elaboração do orçamento foi ",D27,", e que esta é a alternativa mais adequada para a Administração Pública.") -> Declaro para os devidos fins que o regime de Contribuição Previdenciária sobre a Receita Bruta adotado para elaboração do orçamento foi SEM Desoneração, e que esta é a alternativa mais adequada para a Administração Pública.
A39: =CONCATENATE("Declaro para os devidos fins que a data-base adotada para elaboração do orçamento foi ",B3,"") -> Declaro para os devidos fins que a data-base adotada para elaboração do orçamento foi SINAPI - 09/2025 / ORSE - 09/2025
A41: Observações:

Sheet ENCARGOS SOCIAIS
B2: ENCARGOS SOCIAIS SOBRE A MÃO DE OBRA
B3: CÓDIGO | C3: DESCRIÇÃO | D3: SEM DESONERAÇÃO
D4: HORISTA % | E4: MENSALISTA %
B5: GRUPO A
B6: A1 | C6: INSS | D6: 0.2 | E6: 0.2
B7: A2 | C7: SESI | D7: 0.015 | E7: 0.015
B8: A3 | C8: SENAI | D8: 0.01 | E8: 0.01
B9: A4 | C9: INCRA | D9: 0.002 | E9: 0.002
B10: A5 | C10: SEBRAE | D10: 0.006 | E10: 0.006
B11: A6 | C11: Salário Educação | D11: 0.025 | E11: 0.025
B12: A7 | C12: Seguro Contra Acidentes de Trabalho | D12: 0.03 | E12: 0.03
B13: A8 | C13: FGTS | D13: 0.08 | E13: 0.08
B14: A9 | C14: SECONCI | D14: 0 | E14: 0
B15: A | C15: Total | D15: 0.368 | E15: 0.368
B16: GRUPO B
B17: B1 | C17: Repouso Semanal Remunerado | D17: 0.1802 | E17: Não incide
B18: B2 | C18: Feriados | D18: 0.0431 | E18: Não incide
B19: B3 | C19: Auxílio - Enfermidade | D19: 0.0086 | E19: 0.0065
B20: B4 | C20: 13º Salário | D20: 0.1096 | E20: 0.0833
B21: B5 | C21: Licença Paternidade | D21: 0.0007 | E21: 0.0005
B22: B6 | C22: Faltas Justificadas | D22: 0.0073 | E22: 0.0056
B23: B7 | C23: Dias de Chuvas | D23: 0.0204 | E23: Não incide
B24: B8 | C24: Auxílio Acidente de Trabalho | D24: 0.001 | E24: 0.0007
B25: B9 | C25: Férias Gozadas | D25: 0.0976 | E25: 0.0742
B26: B10 | C26: Salário Maternidade | D26: 0.0003 | E26: 0.0003
B27: B | C27: Total | D27: 0.4688 | E27: 0.1711
B28: GRUPO C
B29: C1 | C29: Aviso Prévio Indenizado | D29: 0.0453 | E29: 0.0345
B30: C2 | C30: Aviso Prévio Trabalhado | D30: 0.0011 | E30: 0.0008
B31: C3 | C31: Férias Indenizadas | D31: 0.0429 | E31: 0.0326
B32: C4 | C32: Depósito Rescisão Sem Justa Causa | D32: 0.0296 | E32: 0.0225
B33: C5 | C33: Indenização Adicional | D33: 0.0038 | E33: 0.0029
B34: C | C34: Total | D34: 0.1227 | E34: 0.0933
B35: GRUPO D
B36: D1 | C36: Reincidência de Grupo A sobre Grupo B | D36: 0.1725 | E36: 0.063
B37: D2 | C37: Reincidência de Grupo A sobre Aviso Prévio Trabalhado e Reincidência do FGTS sobre Aviso Prévio Indenizado | D37: 0.004 | E37: 0.0031
B38: D | C38: Total | D38: 0.1765 | E38: 0.0661
B39: TOTAL(A+B+C+D) | D39: =D15+D27+D34+D38 -> 1.136 | E39: =E15+E27+E34+E38 -> 0.6985
