Workbook

Sheet BDI
B1: ESTADO DA PARAÍBA
B2: PREFEITURA MUNICIPAL DE PATOS
B3: OBRA: REFORMA DO ESTÁDIO MUNICIPAL
B4: DETALHAMENTO DO BDI
B6: ITEM | C6: DISCRIMINAÇÃO | E6: %
B7: AC | C7: Administração Central | E7: 5.5
B9: SG | C9: Seguros e Garantias | E9: 1
B11: R | C11: Risco | E11: 1.27
B13: DF | C13: Despesas Financeiras | E13: 1.36
B15: L | C15: Lucro Bruto | E15: 7.32
B17: I | C17: Impostos | E17: =D18+D19+D20 -> 6.15
C18: PIS | D18: 0.65
C19: COFINS | D19: 3
C20: ISS | D20: 2.5
C21: CONTRIB. PREV. SOBRE REC. BRUTA - CPRB | D21: 0
B22: FÓRMULA | C22: BDI = ((1+(AC/100+SG/100+R/100))*(1+DF/100)*(1+L/100))/(1-I/100)-1 | E22: =(((1+E7/100+E9/100+E11/100))*((1+E13/100)*(1+E15/100))/(1-E17/100)-1) -> 0.2491393

Sheet ORÇAMENTO
A7: OBRA: | C7: REFORMA DO ESTÁDIO JOSÉ CALVACANTI - ETAPA 02 | E7: MUNICÍPIO: | G7: PATOS - PB | K7: 342045.94
A8: REPASSE: | C8: 911877.39 | E8: ENDEREÇO: | G8: RUA HORÁCIO NÓBREGA
E9: Nº CONTRATO: | G9: 1058030-80
A10: TOTAL GERAL LOTE 3: | C10: =I15 -> 567377.33 | E10: DATA BASE: | G10: SINAPI SEM DESONERAÇÃO | I10: 44958 | K10: 496894.31
A11: QUANTITATIVOS E ORÇAMENTO BÁSICO
A12: ENCARGOS SOCIAIS DESONERADOS: 85,70%(HORA) | H12: BDI (%): | I12: =ROUND((BDI!$E$22)*100,2) -> 24.91
A14: ITEM | B14: FONTE | C14: CÓD. | D14: DISCRIMINAÇÃO | E14: UNID. | F14: QUANT. | G14: P. UNIT. SEM BDI (R$) | H14: P. UNIT. COM BDI (R$) | I14: SUB-TOTAL (R$) | J14: (%)em rel. ao total
A15: SUB-TOTAL........................................................................................................................................................................................................................................................ | I15: =ROUND((I16),2) -> 567377.33 | J15: =I15/$I$15 -> 1
A16: LOTE - 3 SERVIÇOS DIVERSOS | I16: =I17+I60++I98+I109+I115+I162 -> 567377.33 | J16: =I16/$I$15 -> 1
A17: 3 | B17: PROJETO DE PREVENÇÃO E COMBATE A INCÊNDIO (com BDI)........................................................................................................................................................... | I17: =I18+I22+I26+I29 -> 115078.78 | J17: =I17/$I$15 -> 0.20282583
A18: 3.1 | B18: LUMINÁRIAS E SINALIZAÇÕES (com BDI) ............................................................................................................................................................................ | I18: =ROUND((SUM(I19:I21)),2) -> 4704.42 | J18: =I18/$I$15 -> 0.0082915192
A19: 3.1.1 | B19: SINAPI | C19: 37556/INSUMO | D19: Placa de sinalizacao de seguranca contra incendio, fotoluminescente, quadrada, *20 x 20* cm, em pvc *2* mm anti-chamas (simbolos, cores e pictogramas conforme nbr 13434) | E19: UND | F19: 12 | G19: 20.24 | H19: =ROUND(((($I$12/100)+1)*G19),2) -> 25.28 | I19: =ROUND((H19*F19),2) -> 303.36 | J19: =I19/$I$15 -> 0.00053467064
A20: 3.1.2 | B20: SINAPI | C20: 37559/INSUMO | D20: Placa de sinalizacao de seguranca contra incendio, fotoluminescente, retangular, *12 x 40* cm, em pvc *2* mm anti-chamas (simbolos, cores e pictogramas conforme nbr 13434) | E20: UND | F20: 103 | G20: 24.83 | H20: =ROUND(((($I$12/100)+1)*G20),2) -> 31.02 | I20: =ROUND((H20*F20),2) -> 3195.06 | J20: =I20/$I$15 -> 0.0056312789
A21: 3.1.3 | B21: SINAPI | C21: 97599 | D21: LUMINÁRIA DE EMERGÊNCIA, COM 30 LÂMPADAS LED DE 2 W, SEM REATOR - FORNECIMENTO E INSTALAÇÃO. AF_02/2020 | E21: UND | F21: 40 | G21: 24.14 | H21: =ROUND(((($I$12/100)+1)*G21),2) -> 30.15 | I21: =ROUND((H21*F21),2) -> 1206 | J21: =I21/$I$15 -> 0.0021255696
A22: 3.2 | B22: SISTEMA DE ALARME (com BDI)................................................................................................................................................................................................ | I22: =ROUND((SUM(I23:I25)),2) -> 3061.24 | J22: =I22/$I$15 -> 0.0053954218
A23: 3.2.1 | B23: CPU/ PRÓPRIO | C23: ='CPU '!B16 -> 17 | D23: Sirene aúdiovisual endereçavel, 120db, para alarme de incêndio | E23: UND | F23: =MEMÓRIA_!B34 -> 6 | G23: =ROUND('CPU '!H16,2) -> 203.07 | H23: =ROUND(((($I$12/100)+1)*G23),2) -> 253.65 | I23: =TRUNC((H23*F23),2) -> 1521.9 | J23: =I23/$I$15 -> 0.0026823419
A24: 3.2.2 | B24: CPU/ PRÓPRIO | C24: ='CPU '!B23 -> 18 | D24: Acionador manual (botoeira) tipo quebra-vidro, p/instal. Incendio | E24: UND | F24: =MEMÓRIA_!B34 -> 6 | G24: ='CPU '!H23 -> 135.61 | H24: =ROUND(((($I$12/100)+1)*G24),2) -> 169.39 | I24: =TRUNC((H24*F24),2) -> 1016.34 | J24: =I24/$I$15 -> 0.0017912947
A25: 3.2.3 | B25: CPU/ PRÓPRIO | C25: ='CPU '!B30 -> 19 | D25: Central de alarme e detecção de incendio, capacidade: 8 laços, com 2 linhas, mod.VR-8L, Verin ou similar | E25: UND | F25: =MEMÓRIA_!B41 -> 1 | G25: ='CPU '!H30 -> 418.7 | H25: =ROUND(((($I$12/100)+1)*G25),2) -> 523 | I25: =TRUNC((H25*F25),2) -> 523 | J25: =I25/$I$15 -> 0.00092178515
A26: 3.3 | B26: GUARDA-PORPO E CORRIMÃO (com BDI)............................................................................................................................................................................. | I26: =ROUND((SUM(I27:I28)),2) -> 56319.17 | J26: =I26/$I$15 -> 0.099262285
A27: 3.3.1 | B27: CPU/ PRÓPRIO | C27: ='CPU '!B36 -> 20 | D27: ='CPU '!C36 -> Guarda-corpo em tubo de aço galvanizado (h=90 cm), com barras superior e laterais (contornos) de (1.1/2") e barra verticais quadrada (3/4") a cada 15cm - chumbados com parabolt - conforme PPCI | E27: M | F27: 72.45 | G27: ='CPU '!H36 -> 477.73 | H27: =ROUND(((($I$12/100)+1)*G27),2) -> 596.73 | I27: =ROUND((H27*F27),2) -> 43233.09 | J27: =I27/$I$15 -> 0.076198127
A28: 3.3.2 | B28: SINAPI | C28: 99855 | D28: CORRIMÃO SIMPLES, DIÂMETRO EXTERNO = 1 1/2", EM AÇO GALVANIZADO. AF_04/2019_P | E28: M | F28: 104.23 | G28: 100.51 | H28: =ROUND(((($I$12/100)+1)*G28),2) -> 125.55 | I28: =ROUND((H28*F28),2) -> 13086.08 | J28: =I28/$I$15 -> 0.023064157
A29: 3.4 | B29: INSTALAÇÕES ELÉTRICAS DO PPCI (com BDI)............................................................................................................................................................................... | I29: =ROUND((SUM(I30:I59)),2) -> 50993.95 | J29: =I29/$I$15 -> 0.089876608
A30: 3.4.1 | B30: SINAPI | C30: 104473 | D30: COMPOSIÇÃO PARAMÉTRICA DE PONTO ELÉTRICO DE ILUMINAÇÃO, COM INTERRUPTO SIMPLES, EM EDIFÍCIO RESIDENCIAL COM ELETRODUTO EMBUTIDO EM RASGOS NAS PAREDES, INCLUSO TOMADA, ELETRODUTO, CABO, RASGO E CHUMBAMENTO (SEM LUMINÁRIA E LÂMPADA). AF_11/2022 | E30: UND | F30: 45 | G30: 130.1 | H30: =ROUND(((($I$12/100)+1)*G30),2) -> 162.51 | I30: =ROUND((H30*F30),2) -> 7312.95 | J30: =I30/$I$15 -> 0.012889042
A31: 3.4.2 | B31: SINAPI | C31: 91844 | D31: ELETRODUTO FLEXÍVEL CORRUGADO, PVC, DN 25 MM (3/4"), PARA CIRCUITOS TERMINAIS - FORNECIMENTO E INSTALAÇÃO. AF_12/2015 | E31: M | F31: 670.5 | G31: 6.5 | H31: =ROUND(((($I$12/100)+1)*G31),2) -> 8.12 | I31: =ROUND((H31*F31),2) -> 5444.46 | J31: =I31/$I$15 -> 0.0095958363
A32: 3.4.3 | B32: SINAPI | C32: 91846 | D32: ELETRODUTO FLEXÍVEL CORRUGADO, PVC, DN 32 MM (1"), PARA CIRCUITOS TERMINAIS - FORNECIMENTO E INSTALAÇÃO. AF_12/2015 | E32: M | F32: 65.5 | G32: 9.42 | H32: =ROUND(((($I$12/100)+1)*G32),2) -> 11.77 | I32: =ROUND((H32*F32),2) -> 770.94 | J32: =I32/$I$15 -> 0.0013587783
A33: 3.4.4 | B33: SINAPI | C33: 91866 | D33: ELETRODUTO RÍGIDO ROSCÁVEL, PVC, DN 20 MM (1/2"), PARA CIRCUITOS TERMINAIS - FORNECIMENTO E INSTALAÇÃO. AF_12/2015 | E33: M | F33: 1 | G33: 7.64 | H33: =ROUND(((($I$12/100)+1)*G33),2) -> 9.54 | I33: =ROUND((H33*F33),2) -> 9.54 | J33: =I33/$I$15 -> 1.6814207e-05
A34: 3.4.5 | B34: SINAPI | C34: 91867 | D34: ELETRODUTO RÍGIDO ROSCÁVEL, PVC, DN 25 MM (3/4"), PARA CIRCUITOS TERMINAIS - FORNECIMENTO E INSTALAÇÃO. AF_12/2015 | E34: M | F34: 1 | G34: 9.35 | H34: =ROUND(((($I$12/100)+1)*G34),2) -> 11.68 | I34: =ROUND((H34*F34),2) -> 11.68 | J34: =I34/$I$15 -> 2.0585948e-05
A35: 3.4.6 | B35: SINAPI | C35: 91868 | D35: ELETRODUTO RÍGIDO ROSCÁVEL, PVC, DN 32 MM (1"), PARA CIRCUITOS TERMINAIS - FORNECIMENTO E INSTALAÇÃO. AF_12/2015 | E35: M | F35: 114.2 | G35: 13.27 | H35: =ROUND(((($I$12/100)+1)*G35),2) -> 16.58 | I35: =ROUND((H35*F35),2) -> 1893.44 | J35: =I35/$I$15 -> 0.0033371795
A36: 3.4.7 | B36: SINAPI | C36: 91869 | D36: ELETRODUTO RÍGIDO ROSCÁVEL, PVC, DN 40 MM (1 1/4"), PARA CIRCUITOS TERMINAIS - FORNECIMENTO E INSTALAÇÃO. AF_12/2015 | E36: M | F36: 53.8 | G36: 17.12 | H36: =ROUND(((($I$12/100)+1)*G36),2) -> 21.38 | I36: =ROUND((H36*F36),2) -> 1150.24 | J36: =I36/$I$15 -> 0.0020272928
A37: 3.4.8 | B37: SINAPI | C37: 93008 | D37: ELETRODUTO RÍGIDO ROSCÁVEL, PVC, DN 50 MM (1 1/2") - FORNECIMENTO E INSTALAÇÃO. AF_12/2015 | E37: M | F37: 22.7 | G37: 17.46 | H37: =ROUND(((($I$12/100)+1)*G37),2) -> 21.81 | I37: =ROUND((H37*F37),2) -> 495.09 | J37: =I37/$I$15 -> 0.00087259391
A38: 3.4.9 | B38: CPU/ PRÓPRIO | C38: 21 | D38: Curva 45° para eletroduto de pvc rígido roscável, diâm = 32mm | E38: UND | F38: 4 | G38: ='CPU '!H47 -> 7.29 | H38: =ROUND(((($I$12/100)+1)*G38),2) -> 9.11 | I38: =ROUND((H38*F38),2) -> 36.44 | J38: =I38/$I$15 -> 6.4225337e-05
A39: 3.4.10 | B39: SINAPI | C39: 91899 | D39: CURVA 90 GRAUS PARA ELETRODUTO, PVC, ROSCÁVEL, DN 20 MM (1/2"), PARA CIRCUITOS TERMINAIS, INSTALADA EM LAJE - FORNECIMENTO E INSTALAÇÃO. AF_12/2015 | E39: UND | F39: 2 | G39: 8.19 | H39: =ROUND(((($I$12/100)+1)*G39),2) -> 10.23 | I39: =ROUND((H39*F39),2) -> 20.46 | J39: =I39/$I$15 -> 3.6060658e-05
A40: 3.4.11 | B40: SINAPI | C40: 91878 | D40: LUVA PARA ELETRODUTO, PVC, ROSCÁVEL, DN 20 MM (1/2"), PARA CIRCUITOS TERMINAIS, INSTALADA EM LAJE - FORNECIMENTO E INSTALAÇÃO. AF_12/2015 | E40: UND | F40: 2 | G40: 9.91 | H40: =ROUND(((($I$12/100)+1)*G40),2) -> 12.38 | I40: =ROUND((H40*F40),2) -> 24.76 | J40: =I40/$I$15 -> 4.3639389e-05
A41: 3.4.12 | B41: SINAPI | C41: 91880 | D41: LUVA PARA ELETRODUTO, PVC, ROSCÁVEL, DN 32 MM (1"), PARA CIRCUITOS TERMINAIS, INSTALADA EM LAJE - FORNECIMENTO E INSTALAÇÃO. AF_12/2015 | E41: UND | F41: 37 | G41: 7.63 | H41: =ROUND(((($I$12/100)+1)*G41),2) -> 9.53 | I41: =ROUND((H41*F41),2) -> 352.61 | J41: =I41/$I$15 -> 0.00062147354
A42: 3.4.13 | B42: SINAPI | C42: 91881 | D42: LUVA PARA ELETRODUTO, PVC, ROSCÁVEL, DN 40 MM (1 1/4"), PARA CIRCUITOS TERMINAIS, INSTALADA EM LAJE - FORNECIMENTO E INSTALAÇÃO. AF_12/2015 | E42: UND | F42: 16 | G42: 9.63 | H42: =ROUND(((($I$12/100)+1)*G42),2) -> 12.03 | I42: =ROUND((H42*F42),2) -> 192.48 | J42: =I42/$I$15 -> 0.00033924514
A43: 3.4.14 | B43: SINAPI | C43: 93013 | D43: LUVA PARA ELETRODUTO, PVC, ROSCÁVEL, DN 50 MM (1 1/2") - FORNECIMENTO E INSTALAÇÃO. AF_12/2015 | E43: UND | F43: 7 | G43: 10.95 | H43: =ROUND(((($I$12/100)+1)*G43),2) -> 13.68 | I43: =ROUND((H43*F43),2) -> 95.76 | J43: =I43/$I$15 -> 0.00016877657
A44: 3.4.15 | B44: SINAPI | C44: 2638 | D44: LUVA PARA ELETRODUTO, EM ACO GALVANIZADO ELETROLITICO, DIAMETRO DE 25 MM (1") | E44: UND | F44: 10 | G44: 2.42 | H44: =ROUND(((($I$12/100)+1)*G44),2) -> 3.02 | I44: =ROUND((H44*F44),2) -> 30.2 | J44: =I44/$I$15 -> 5.3227365e-05
A45: 3.4.16 | B45: SINAPI | C45: 2644 | D45: LUVA PARA ELETRODUTO, EM ACO GALVANIZADO ELETROLITICO, DIAMETRO DE 40 MM (1 UN 6,23 1/2") | E45: UND | F45: 2 | G45: 6.23 | H45: =ROUND(((($I$12/100)+1)*G45),2) -> 7.78 | I45: =ROUND((H45*F45),2) -> 15.56 | J45: =I45/$I$15 -> 2.742443e-05
A46: 3.4.17 | B46: SINAPI | C46: 91927 | D46: CABO DE COBRE FLEXÍVEL ISOLADO, 2,5 MM², ANTI-CHAMA 0,6/1,0 KV, PARA CIRCUITOS TERMINAIS - FORNECIMENTO E INSTALAÇÃO. AF_12/2015 | E46: M | F46: 1033.8 | G46: 4.29 | H46: =ROUND(((($I$12/100)+1)*G46),2) -> 5.36 | I46: =ROUND((H46*F46),2) -> 5541.17 | J46: =I46/$I$15 -> 0.0097662873
A47: 3.4.18 | B47: SINAPI | C47: 91929 | D47: CABO DE COBRE FLEXÍVEL ISOLADO, 4 MM², ANTI-CHAMA 0,6/1,0 KV, PARA CIRCUITOS TERMINAIS - FORNECIMENTO E INSTALAÇÃO. AF_12/2015 | E47: M | F47: 2228.5 | G47: 6.35 | H47: =ROUND(((($I$12/100)+1)*G47),2) -> 7.93 | I47: =ROUND((H47*F47),2) -> 17672.01 | J47: =I47/$I$15 -> 0.031146838
...

Sheet MEMÓRIA_
A7: OBRA: | C7: REFORMA DO ESTÁDIO JOSÉ CALVACANTI - ETAPA 02 | F7: MUNICÍPIO: | H7: PATOS - PB
A8: REPASSE: | C8: =ORÇAMENTO!C8 -> 911877.39 | F8: ENDEREÇO: | H8: RUA HORÁCIO NÓBREGA
F9: Nº CONTRATO: | H9: 1058030-80
A10: =ORÇAMENTO!A10 -> TOTAL GERAL LOTE 3: | C10: =ORÇAMENTO!C10 -> 567377.33
A11: MEMORIAL DE CÁLCULO
A13: LOTE - 3 SERVIÇOS DIVERSOS
A14: 3 | B14: PROJETO DE PREVENÇÃO E COMBATE A INCÊNDIO
A15: 3.1 | B15: LUMINÁRIAS E SINALIZAÇÕES
A16: 3.1.1 | B16: Placa de sinalizacao de seguranca contra incendio, fotoluminescente, quadrada, *20 x 20* cm, em pvc *2* mm anti-chamas (simbolos, cores e pictogramas conforme nbr 13434)
A17: = | B17: 12 | C17: (quantidade conforme indicado em desenhos)- und
A19: 3.1.2 | B19: Placa de sinalizacao de seguranca contra incendio, fotoluminescente, retangular, *12 x 40* cm, em pvc *2* mm anti-chamas (simbolos, cores e pictogramas conforme nbr 13434)
A20: = | B20: 103 | C20: (quantidade conforme indicado em desenhos) - und
A22: 3.1.3 | B22: LUMINÁRIA DE EMERGÊNCIA, COM 30 LÂMPADAS LED DE 2 W, SEM REATOR - FORNECIMENTO E INSTALAÇÃO. AF_02/2020
A23: = | B23: 18 | C23: (iluminação no pavimento subsolo)
A24: = | B24: 16 | C24: (iluminação no pavimento térreo)
A25: = | B25: 6 | C25: (iluminação no pavimento superior)
A26: = | B26: =B23+B24+B25 -> 40
B27: Forma analítica: | D27: 18,00 + 16,00 + 6,00 = 40,00 und
A29: 3.2 | B29: SISTEMA DE ALARME
A30: 3.2.1 | B30: Sirene aúdiovisual endereçavel, 120db, para alarme de incêndio
A31: = | B31: 1 | C31: (pavimento sub solo)
A32: = | B32: 4 | C32: (pavimento térreo)
A33: = | B33: 1 | C33: (pavimento superior)
A34: = | B34: =B33+B32+B31 -> 6
B35: Forma analítica: | D35: 1,00 + 4,00 + 1,00 = 6,00 und
A37: 3.2.2 | B37: Acionador manual (botoeira) tipo quebra-vidro, p/instal. Incendio
A38: = | B38: =B34 -> 6 | C38: (quantidade necessária segundo PPCI) - und
A40: 3.2.3 | B40: Central de alarme e detecção de incendio, capacidade: 8 laços, com 2 linhas, mod.VR-8L, Verin ou similar
A41: = | B41: 1 | C41: (quantidade necessária segundo PPCI) - und
A43: 3.3 | B43: GUARDA-PORPO E CORRIMÃO
A44: 3.3.1 | B44: ='CPU '!C36 -> Guarda-corpo em tubo de aço galvanizado (h=90 cm), com barras superior e laterais (contornos) de (1.1/2") e barra verticais quadrada (3/4") a cada 15cm - chumbados com parabolt - conforme PPCI
A45: = | B45: 2.6 | C45: (comprimento dos corrimãos das escadas nas muretas)
A46: = | B46: 22 | C46: (quantidade em todas as arquibancadas)
A47: = | B47: =5*2+5.25 -> 15.25 | C47: (guarda corpo por trás do gol - para proteção dos torcedores)
A48: = | B48: =B45*B46+B47 -> 72.45
B49: Forma analítica: (2,6 x 22) + 15,25 = 72,45 m
A50: 3.3.2 | B50: CORRIMÃO SIMPLES, DIÂMETRO EXTERNO = 1 1/2", EM AÇO GALVANIZADO. AF_04/2019_P
A51: = | B51: 9 | C51: (arquibancadas noroeste - m)
A52: = | B52: 4.72 | C52: (arquibancadas noroeste- m)
A53: = | B53: =2.48+1.75+0.45 -> 4.68 | C53: (arquibancadas noroeste - m)
...

Sheet CPU 
A7: OBRA: | C7: REFORMA DO ESTÁDIO JOSÉ CALVACANTI - ETAPA 02 | E7: MUNICÍPIO: | G7: PATOS - PB
A8: REPASSE: | C8: =ORÇAMENTO!C8 -> 911877.39 | E8: ENDEREÇO: | G8: RUA HORÁCIO NÓBREGA
E9: Nº CONTRATO: | G9: 1058030-80
A10: =ORÇAMENTO!A10 -> TOTAL GERAL LOTE 3: | C10: =ORÇAMENTO!C10 -> 567377.33 | E10: DATA BASE: | F10: SINAPI SEM DESONERAÇÃO | H10: 44958
A11: =UPPER("Composições Analíticas com Preço Unitário") -> COMPOSIÇÕES ANALÍTICAS COM PREÇO UNITÁRIO
A12: ENCARGOS SOCIAIS DESONERADOS: 85,70%(HORA) | G12: BDI (%): | H12: =ROUND((BDI!$E$22)*100,2) -> 24.91
A14: TIPO ITEM | B14: FONTE | C14: CÓD. | D14: DISCRIMINAÇÃO | E14: UND | F14: QUANT. | G14: VALOR UNIT. | H14: SUB-TOTAL (R$)
A15: LOTE - 3 SERVIÇOS DIVERSOS
A16: CPU: | B16: 17 | C16: Sirene aúdiovisual endereçavel, 120db, para alarme de incêndio | G16: UND | H16: =ROUND(SUM(H18:H21),2) -> 203.07
A17: MÃO DE OBRA
A18: COMPOSIÇÃO | B18: SINAPI | C18: 88264 | D18: ELETRICISTA COM ENCARGOS COMPLEMENTARES | E18: H | F18: 0.7 | G18: 22.26 | H18: =(F18*G18) -> 15.582
A19: COMPOSIÇÃO | B19: SINAPI | C19: 88316 | D19: SERVENTE COM ENCARGOS COMPLEMENTARES | E19: H | F19: 0.7 | G19: 17.27 | H19: =(F19*G19) -> 12.089
A20: MATERIAIS
A21: INSUMO | B21: ORSE | C21: 12665 | D21: Sirene audiovisual endereçavel, 120 db, para alarme de incêndio | E21: UND | F21: 1 | G21: 175.4 | H21: =(F21*G21) -> 175.4
A22: FONTE: 11824/ORSE
A23: CPU: | B23: 18 | C23: Acionador manual (botoeira) tipo quebra-vidro, p/instal. Incendio | G23: UND | H23: =ROUND(SUM(H25:H28),2) -> 135.61
A24: MÃO DE OBRA
A25: COMPOSIÇÃO | B25: SINAPI | C25: 88264 | D25: ELETRICISTA COM ENCARGOS COMPLEMENTARES | E25: H | F25: 0.5 | G25: 22.26 | H25: =(F25*G25) -> 11.13
A26: COMPOSIÇÃO | B26: SINAPI | C26: 88316 | D26: SERVENTE COM ENCARGOS COMPLEMENTARES | E26: H | F26: 0.5 | G26: 17.27 | H26: =(F26*G26) -> 8.635
A27: MATERIAIS
A28: INSUMO | B28: ORSE | C28: 7611 | D28: Acionador manual (botoeira) tipo quebra-vidro, p/incendio | E28: UND | F28: 1 | G28: 115.84 | H28: =(F28*G28) -> 115.84
A29: FONTE: 07861/ORSE
A30: CPU: | B30: 19 | C30: Central de alarme e detecção de incendio, capacidade: 8 laços, com 2 linhas, mod.VR-8L, Verin ou similar | G30: UND | H30: =ROUND(SUM(H32:H34),2) -> 418.7
A31: MÃO DE OBRA
A32: COMPOSIÇÃO | B32: SINAPI | C32: 88264 | D32: ELETRICISTA COM ENCARGOS COMPLEMENTARES | E32: H | F32: 1 | G32: 22.26 | H32: =(F32*G32) -> 22.26
A33: MATERIAIS
A34: INSUMO | B34: ORSE | C34: 7627 | D34: CENTRAL DE ALARME PARA 8 SETORES COM BATERIA | E34: UND | F34: 1 | G34: 396.44 | H34: =(F34*G34) -> 396.44
A35: FONTE: 08058/ORSE | INSUMOS SINAPI
A36: CPU: | B36: 20 | C36: Guarda-corpo em tubo de aço galvanizado (h=90 cm), com barras superior e laterais (contornos) de (1.1/2") e barra verticais quadrada (3/4") a cada 15cm - chumbados com parabolt - conforme PPCI | G36: M | H36: =ROUND((SUM(H37:H45)),2) -> 477.73
A37: INSUMO | B37: SINAPI | C37: 11002 | D37: ELETRODO REVESTIDO AWS - E6013, DIAMETRO IGUAL A 2,50 MM | E37: KG | F37: 0.172 | G37: 34.13 | H37: =F37*G37 -> 5.87036
A38: INSUMO | B38: SINAPI | C38: 1332 | D38: CHAPA DE ACO GROSSA, ASTM A36, E = 3/8 " (9,53 MM) 74,69 KG/M2 | E38: KG | F38: =0.045*0.045*7*74.69 -> 1.0587308 | G38: 9.04 | H38: =F38*G38 -> 9.570926
A39: INSUMO | B39: SINAPI | C39: 11964 | D39: PARAFUSO DE ACO TIPO CHUMBADOR PARABOLT, DIAMETRO 3/8", COMPRIMENTO 75 MM | E39: UN | F39: =3.333*7 -> 23.331 | G39: 2.55 | H39: =F39*G39 -> 59.49405
A40: INSUMO | B40: SINAPI | C40: 21009 | D40: TUBO ACO GALVANIZADO COM COSTURA, CLASSE LEVE, DN 20 MM ( 3/4"), E = 2,25 MM, *1,3*KG/M (NBR 5580) | E40: M | F40: =6*1.1 -> 6.6 | G40: 26.67 | H40: =F40*G40 -> 176.022
A41: INSUMO | B41: SINAPI | C41: 21013 | D41: TUBO ACO GALVANIZADO COM COSTURA, CLASSE LEVE, DN 40 MM ( 1 1/2"), E = 3,00 MM, *3,48* KG/M (NBR 5580) | E41: M | F41: =(2.6+1.1+1.1)/2.6 -> 1.8461538 | G41: 75.26 | H41: =F41*G41 -> 138.94154
A42: COMPOSICAO | B42: SINAPI | C42: 88317 | D42: SOLDADOR COM ENCARGOS COMPLEMENTARES | E42: H | F42: 0.5 | G42: 23.5 | H42: =F42*G42 -> 11.75
A43: COMPOSICAO | B43: SINAPI | C43: 88315 | D43: SERRALHEIRO COM ENCARGOS COMPLEMENTARES | E43: H | F43: 0.5 | G43: 21.82 | H43: =F43*G43 -> 10.91
A44: COMPOSICAO | B44: SINAPI | C44: 88309 | D44: PEDREIRO COM ENCARGOS COMPLEMENTARES | E44: H | F44: 1 | G44: 22 | H44: =F44*G44 -> 22
A45: COMPOSICAO | B45: SINAPI | C45: 88316 | D45: SERVENTE COM ENCARGOS COMPLEMENTARES | E45: H | F45: 2.5 | G45: 17.27 | H45: =F45*G45 -> 43.175
D46: FONTE: 13020/ORSE
A47: CPU: | B47: 21 | C47: Curva 45° para eletroduto de pvc rígido roscável, diâm = 32mm (1") | G47: UND | H47: =ROUND(SUM(H49:H52),2) -> 7.29
...

Sheet COTAÇÃO 
A7: OBRA: | C7: REFORMA DO ESTÁDIO JOSÉ CALVACANTI - ETAPA 02 | H7: MUNICÍPIO: | J7: PATOS - PB
A8: COTAÇÕES
A9: LOTE -1 MODERNIZAÇÃO DO SISTEMA DE ILUMINAÇÃO
A10: COTAÇÃO | B10: 1
A20: LOTE -2 RECUPERAÇÃO ESTRUTURAL
A21: COTAÇÃO | B21: 2 | C21: Argamassa de Reparo SikaTop 108 Armatec - SIKA (Balde 4kg) | L21: MÉDIA | M21: =ROUND((K25+K54+K80)/3,2) -> 185.25
A22: E1. | B22: EMPRESA | E22: CONTATO | K22: VALOR: | M22: FRETE
A23: DISTRIBUIDOR SIKA | E23: Tel: | F23: (41) 3030-7051 | K23: 129.24 | M23: 64.81
A24: CNPJ: | E24: WhatsApp: | F24: 41 99962.2028 | K24: VALOR COM FRETE:
A25: LOCAL: | B25: Av. Desembargador Westphalen, 2356 - Curitiba - Rebouças - Paraná - Brasil | E25: Email: | F25: vendas1@distribuidorsika.com.br | K25: =K23+M23 -> 194.05
A26: LINK: | B26: https://distribuidorsika.com.br/sika-top-108-armatec-4kg-824?gclid=Cj0KCQjw1N2TBhCOARIsAGVHQc7oul29KZZ79EX_RZFf0GOrLHO3xJXwVtelm-Z_WVir7XmhSualdKkaAk_SEALw_wcB
A27: FOTO
A51: E2. | B51: EMPRESA | E51: CONTATO | K51: VALOR: | M51: FRETE
A52: FERREIRA COSTA & Cia LTDA | E52: Tel: | F52: 83 3219-5000 - Opção 2 | K52: 169 | M52: RETIRADA
A53: CNPJ: | B53: 10.230.480/0024-27 | E53: WhatsApp: | K53: VALOR COM FRETE:
A54: LOCAL: | B54: Rua Edson Falconi De Melo, nº 555 · Aeroclube, JOÃO PESSOA - PB, CEP 58036-500 | E54: Email: | F54: https://www.linkedin.com/company/ferreiracosta/?original_referer=https%3A%2F%2Fwww.ferreiracosta.com%2F | K54: =K52 -> 169
A55: LINK: | B55: https://www.ferreiracosta.com/Produto/538/impermeabilizante-sikatop-108-4kg-sika?region_id=666666&gclid=Cj0KCQjw1N2TBhCOARIsAGVHQc4txKXQzGtTg2s1qiW9rzAcHjewJEKlhd8YLnJTywQWlWXWoyQLrFoaAoSIEALw_wcB
A56: FOTO
A77: E3. | B77: EMPRESA | E77: CONTATO | K77: VALOR: | M77: FRETE
A78: ISMAFER Maquinas e Ferramentas | E78: Tel: | F78: (11) 4673-4878 | K78: 150.1 | M78: 42.6
A79: CNPJ: | B79: 08.492.961/0003-34 | E79: WhatsApp: | K79: VALOR COM FRETE:
A80: LOCAL: | B80: Av. Santos Dumont, 3390 - Cumbica, Guarulhos - SP, 07220-000 | E80: Email: | F80: sac@ismafer.com.br | K80: =K78+M78 -> 192.7
A81: LINK:
A82: FOTO
A104: COTAÇÃO | B104: 3 | C104: Argamassa de Reparo SikaTop 120 Armatec - SIKA (Balde 4Kg) | L104: MÉDIA | M104: =(K108) -> 14.722222
A105: E1. | B105: EMPRESA | E105: CONTATO | K105: VALOR: | M105: FRETE
A106: SIKA AS | E106: Tel: | F106: 0800 703 7340 | K106: =(265/18) -> 14.722222 | M106: 0
A107: CNPJ: | B107: 33.081.704/0001-95 | E107: WhatsApp: | F107: (11) 3687-4651 | K107: VALOR COM FRETE:
A108: LOCAL: | B108: Av. Dr. Alberto Jackson Byington, 1.525 Vila Menck – Osasco – SP | E108: Email: | F108: acsonov.alex@br.sika.com | K108: =(K106+M106) -> 14.722222
A109: LINK: | B109: https://bra.sika.com/
A110: FOTO
A132: COTAÇÃO ÚNICA - POR RECOMENDAÇÃO DO ENG. PERITO PELO PRODUTO SIKA TOP 120 E PELA FALTA DE PRODUTOS SIMILARES, TIVEMOS APENAS UMA COTAÇÃO COM O PRÓPRIO FORNECEDOR.
A149: E2. | B149: EMPRESA | E149: CONTATO | K149: VALOR: | M149: FRETE
A150: SLED COMERCIO DE MATERIAIS ELETRICOS - EIRELI | E150: Tel: | F150: (11) 5678-7018 | K150: 962.39 | M150: 96.13
A151: CNPJ: | B151: 33.779.899/0001-41 | E151: WhatsApp: | F151: (11) 93013-4566 | K151: VALOR COM FRETE:
A152: LOCAL: | B152: ALAMEDA DOS GUATAS, 477, SÃO PAULO - SP | E152: Email: | F152: comercial@sustentaled.com.br | K152: =K150+M150 -> 1058.52
A153: LINK: | B153: https://www.sustentaled.com.br/refletor-holofote-led-800w-smd-ip66-a-prova-dagua-branco-frio-6000k?utm_source=Site&utm_medium=GoogleMerchant&utm_campaign=GoogleMerchant&gclid=Cj0KCQjw1N2TBhCOARIsAGVHQc6RTycokTK0J6ZZfr6Eah_5zMYUG6w1MAgzo86KKHI85WEgB_8NFekaArbWEALw_wcB
A154: FOTO
A177: E3. | B177: EMPRESA | E177: CONTATO | K177: VALOR: | M177: FRETE
A178: COMPRA LED | E178: Tel: | F178: (11) 5581-8118 | K178: 962.39 | M178: 130.6
...

Sheet QCI
D2: Quadro de Composição do Investimento - QCI - OGU - Setor Público
B4: Emprendimento
B5: Pavimentação e Drenagem de Vias Urbanas
B7: Agente executor
B8: Ministério das Cidades | E8: -
B10: Programa | F10: Modalidade
B11: Planejamento Urbano | F11: Apoio à Política Nacional de Desenvolvimento Urbano
B13: Item | C13: Discriminação | E13: Investimento Total (R$) | H13: Total (R$)
E14: Recursos União | F14: Contrapartida | G14: Outras fontes | L14: =L15-E20 -> #REF!
B15: 1 | C15: Rua Altino Pereira Rodrigues | E15: =H15*$L$22 -> #REF! | F15: =H15-E15 -> #REF! | H15: =ORÇAMENTO!#REF! -> #REF! | L15: =300000 -> 300000
B16: 2 | C16: Rua José Pedro | E16: =H16*$L$22 -> #REF! | F16: =H16-E16 -> #REF! | H16: =ORÇAMENTO!#REF! -> #REF!
B17: 3 | C17: Rua Maria Bezerra da Nobrega | E17: =H17*$L$22 -> #REF! | F17: =H17-E17 -> #REF! | H17: =ORÇAMENTO!#REF! -> #REF!
B18: 4 | C18: Drenagem | E18: =H18*$L$22 -> #REF! | F18: =H18-E18 -> #REF! | H18: =ORÇAMENTO!#REF! -> #REF! | L18: 296419
B20: TOTAL | E20: =ROUND(SUM(E15:E19),2) -> #REF! | F20: =ROUND(SUM(F15:F19),2) -> #REF! | G20: 0 | H20: =ROUND((SUM(H15:I19)),2) -> #REF! | L20: =300000-L18 -> 3581
L22: =L18/H20 -> #REF!
I23: =H16+H17+H18 -> #REF! | L23: 1
L25: =H20-300000 -> #REF!

Sheet Relatório de Compatibilidade
B1: Relatório de Compatibilidade para PROJETO ASSUNÇÃO - PAVIMENTAÇÃO.xls
B2: Executar em 11/01/2019 16:35
B4: Os seguintes recursos desta pasta de trabalho não têm suporte em versões anteriores do Excel. Eles poderão ser perdidos ou prejudicados se você abrir esta pasta de trabalho em uma versão anterior do Excel ou salvá-la em um formato de arquivo anterior.
B6: Perda significativa de funcionalidade | E6: Núm. de ocorrências | F6: Versão
B8: Os efeitos neste objeto serão removidos. O texto que ultrapassar os limites deste gráfico aparecerá cortado. | E8: 5
E9: ORÇAMENTO MARCONDES BALDUINO'!A1:K49 | F9: Excel 97-2003
E10: ORÇAMENTO_ROBERTA BALDUINO'!A1:I48 | F10: Excel 97-2003
E11: ORÇAMENTO_PROJETADA'!A1:I48 | F11: Excel 97-2003
E12: ORÇAMENTO_JOSÉ_PEDRO'!A1:I48 | F12: Excel 97-2003
E13: QCI'!B2:L27 | F13: Excel 97-2003
B16: Perda insignificante de fidelidade
B18: Algumas fórmulas nesta pasta de trabalho estão vinculadas a outras pastas de trabalho que estão fechadas. Quando as fórmulas forem recalculadas em versões anteriores do Excel sem que as pastas de trabalho vinculadas sejam abertas, não será possível retornar caracteres além do limite de 255. | E18: 1
E19: CRONOGRAMA_CAIXA'!C18 | F19: Excel 97-2003
B21: Algumas células ou alguns estilos desta pasta de trabalho contêm formatação para a qual não há suporte no formato de arquivo selecionado. Esses formatos serão convertidos no formato mais próximo disponível. | E21: 10 | F21: Excel 97-2003

Sheet Relatório de Compatibilidade (1
B1: Relatório de Compatibilidade para PROJETO ASSUNÇÃO - PAVIMENTAÇÃO.xls
B2: Executar em 11/01/2019 16:36
B4: Os seguintes recursos desta pasta de trabalho não têm suporte em versões anteriores do Excel. Eles poderão ser perdidos ou prejudicados se você abrir esta pasta de trabalho em uma versão anterior do Excel ou salvá-la em um formato de arquivo anterior.
B6: Perda significativa de funcionalidade | E6: Núm. de ocorrências | F6: Versão
B8: Os efeitos neste objeto serão removidos. O texto que ultrapassar os limites deste gráfico aparecerá cortado. | E8: 5
E9: ORÇAMENTO MARCONDES BALDUINO'!A1:K49 | F9: Excel 97-2003
E10: ORÇAMENTO_ROBERTA BALDUINO'!A1:I48 | F10: Excel 97-2003
E11: ORÇAMENTO_PROJETADA'!A1:I48 | F11: Excel 97-2003
E12: ORÇAMENTO_JOSÉ_PEDRO'!A1:I48 | F12: Excel 97-2003
E13: QCI'!B2:L27 | F13: Excel 97-2003
B16: Perda insignificante de fidelidade
B18: Algumas fórmulas nesta pasta de trabalho estão vinculadas a outras pastas de trabalho que estão fechadas. Quando as fórmulas forem recalculadas em versões anteriores do Excel sem que as pastas de trabalho vinculadas sejam abertas, não será possível retornar caracteres além do limite de 255. | E18: 1
E19: CRONOGRAMA_CAIXA'!C18 | F19: Excel 97-2003
B21: Algumas células ou alguns estilos desta pasta de trabalho contêm formatação para a qual não há suporte no formato de arquivo selecionado. Esses formatos serão convertidos no formato mais próximo disponível. | E21: 10 | F21: Excel 97-2003
