Workbook
Name _: #REF!
Name ___________NEW2: {"'RATEIO RECEITA BRUTA'!$B$77:$C$106"}
Name ___________NEW2: {"'RATEIO RECEITA BRUTA'!$B$77:$C$106"}
Name ___________NEW2: {"'RATEIO RECEITA BRUTA'!$B$77:$C$106"}
Name ______REC3: #REF!
Name ______REC35: #REF!
Name ______REC4: #REF!
Name ______REP1: #REF!
Name ______REP15: #REF!
Name ______REP2: #REF!
Name ______SE2: #REF!
Name _____REC3: #REF!
Name _____REC35: #REF!
Name _____REC4: #REF!
Name _____REP1: #REF!
Name _____REP15: #REF!
Name _____REP2: #REF!
Name ____adm1: {"'Índice'!$A$1:$K$49"}
Name ____adm1: {"'Índice'!$A$1:$K$49"}
Name ____adm1: {"'Índice'!$A$1:$K$49"}
Name ____PU1: #REF!
Name ____REC3: #REF!
Name ____REC35: #REF!
Name ____REC4: #REF!
Name ____REP1: #REF!
Name ____REP15: #REF!
Name ____REP2: #REF!
Name ____SE2: #REF!
Name ____TA1: #REF!
Name ____TA2: #REF!
Name ___ACC2: '[1]DIF FAT FEV 01'!$X$13:$Y$40
Name ___ACC2: #REF!
Name ___adm1: {"'Índice'!$A$1:$K$49"}
Name ___adm1: {"'Índice'!$A$1:$K$49"}
Name ___adm1: {"'Índice'!$A$1:$K$49"}
Name ___PU1: #REF!
Name ___REC3: #REF!
Name ___REC35: #REF!
Name ___REC4: #REF!
Name ___REP1: #REF!
Name ___REP15: #REF!
Name ___REP2: #REF!
Name ___SE2: #REF!
Name ___TA1: #REF!
Name ___TA2: #REF!
Name ___thinkcellPDLM4DZHWAPEPH5A6BCJ66VLSE: #REF!
Name ___thinkcellPDLM4DZHWAPEPH5A6BCJ66VLSE: #REF!
Name ___thinkcellPDLM4DZHWAPEPH5A6BCJ66VLSE: #REF!
Name ___tq200: #REF!
Name ___tq300: #REF!
Name ___xlfn.IFERROR: #NAME?
Name ___xlfn.RTD: #NAME?
Name __123Graph_A: [2]Assum!$B$12:$B$19
Name __123Graph_A: #REF!
Name __123Graph_ACurrent: '[3]2- Varrição Man.- Imp. de Cesto'!$BD$1:$BN$1
Name __123Graph_ACurrent: #REF!
Name __123Graph_AGraph10: [4]aux!$I$24:$M$24
Name __123Graph_AGraph10: #REF!
Name __123Graph_AGraph11: [4]aux!$I$26:$M$26
Name __123Graph_AGraph11: #REF!

Sheet Base
B3: CONSERVAÇÃO, LIMPEZA, CAPINAÇÃO, DESASSOREAMENTO E REMOÇÃO DE RESÍDUOS SÓLIDOS DEPOSITADOS NO LEITO DO RIO IPOJUCA E NOS CANAIS QUE NELE DESÁGUAM AO LONGO DE SEU PERCURSO
B4: ITEM | C4: SERVIÇOS | D4: UNIDADE | E4: REFERÊNCIA | F4: CÓDIGO | G4: QUANT. MENSAL | H4: QUANT. ANUAL | I4: PREÇO UNIT. COM BDI | K4: VALOR MENSAL | L4: VALOR ANUAL | N4: % do Orçamento | O4: 50% do quantitativo mensal | P4: 50% do quantitativo anual
B5: 1 | C5: Execução de serviço com escavadeira hidráulica sob esteira convencional para retirada de resíduos sólidos e regularização de taludes em margens de rio. | D5: m³ | E5: SINAPI | F5: 102287 | G5: ='1. Escavadeira'!J35 -> 37260 | H5: =G5*12 -> 447120 | I5: ='1. Escavadeira'!J39 -> 15.88 | K5: =TRUNC(I5*G5,2) -> 591688.8 | L5: =TRUNC(K5*12,2) -> 7100265.6 | N5: =L5/$L$19 -> 0.31014554 | O5: =ROUND(G5/2,2) -> 18630 | P5: =ROUND(H5/2,2) -> 223560
B6: 2 | C6: Execução de serviço com retroescavadeira para retirada de resíduos sólidos e regularização de taludes em margens de córregos ou canais. | D6: m³ | E6: SINAPI | F6: 90100 | G6: ='2. Retro '!J43 -> 15002 | H6: =G6*12 -> 180024 | I6: ='2. Retro '!J47 -> 17.27 | K6: =TRUNC(I6*G6,2) -> 259084.54 | L6: =TRUNC(K6*12,2) -> 3109014.5 | N6: =L6/$L$19 -> 0.13580435 | O6: =ROUND(G6/2,2) -> 7501 | P6: =ROUND(H6/2,2) -> 90012
B7: 3 | C7: Execução de serviço com minicarregadeira sobre rodas para retirada de resíduos sólidos em córregos e canais edificados. | D7: m³ | E7: Composição | F7: 1 | G7: ='3. Comp 1. Minicarregadeira'!J124 -> 7353 | H7: =G7*12 -> 88236 | I7: ='3. Comp 1. Minicarregadeira'!J128 -> 5.49 | K7: =TRUNC(I7*G7,2) -> 40367.97 | L7: =TRUNC(K7*12,2) -> 484415.64 | N7: =L7/$L$19 -> 0.021159681 | O7: =ROUND(G7/2,2) -> 3676.5 | P7: =ROUND(H7/2,2) -> 44118
B8: 4 | C8: Execução de serviço de escavação com o uso de trator de esteiras. | D8: Hora | E8: Composição | F8: 2 | G8: ='4. Comp 2. Trator de Esteiras'!J86 -> 200 | H8: =G8*12 -> 2400 | I8: ='4. Comp 2. Trator de Esteiras'!J90 -> 344.07 | K8: =TRUNC(I8*G8,2) -> 68814 | L8: =TRUNC(K8*12,2) -> 825768 | N8: =L8/$L$19 -> 0.036070237 | O8: =ROUND(G8/2,2) -> 100 | P8: =ROUND(H8/2,2) -> 1200
B9: 5 | C9: Execução de dragagem de rio com uso de draga. | D9: Hora | E9: Composição | F9: 3 | G9: ='5. Comp 3. Draga'!J85 -> 180 | H9: =G9*12 -> 2160 | I9: ='5. Comp 3. Draga'!J89 -> 1265.57 | K9: =TRUNC(I9*G9,2) -> 227802.6 | L9: =TRUNC(K9*12,2) -> 2733631.2 | N9: =L9/$L$19 -> 0.1194073 | O9: =ROUND(G9/2,2) -> 90 | P9: =ROUND(H9/2,2) -> 1080
B10: 6 | C10: Mobilização e desmobilização de equipamentos em cavalo mecânico com semirreboque. | D10: Hora | E10: Composição | F10: 4 | G10: =Produtividade!E55 -> 50 | H10: =G10*12 -> 600 | I10: ='6. Comp 4. Cavalo Mecânico'!J74 -> 526.74 | K10: =TRUNC(I10*G10,2) -> 26337 | L10: =TRUNC(K10*12,2) -> 316044 | N10: =L10/$L$19 -> 0.013805066 | O10: =ROUND(G10/2,2) -> 25 | P10: =ROUND(H10/2,2) -> 300
B11: 7 | C11: Execução de serviço de limpeza e capinação de margem do rio. | D11: m² | E11: Composição | F11: 5 | G11: ='7. Comp 5. Limpeza do Rio'!J248 -> 15000 | H11: =G11*12 -> 180000 | I11: =TRUNC('7. Comp 5. Limpeza do Rio'!J252,2) -> 7.69 | K11: =TRUNC(I11*G11,2) -> 115350 | L11: =TRUNC(K11*12,2) -> 1384200 | N11: =L11/$L$19 -> 0.060463015 | O11: =ROUND(G11/2,2) -> 7500 | P11: =ROUND(H11/2,2) -> 90000
B12: 8 | C12: Execução de serviço de remoção de plantas aquáticas. | D12: m² | E12: Composição | F12: 6 | G12: ='8. Comp 6. Remoção de Plantas A'!J145 -> 42666.667 | H12: =G12*12 -> 512000 | I12: =TRUNC('8. Comp 6. Remoção de Plantas A'!J149,2) -> 1.72 | K12: =TRUNC(I12*G12,2) -> 73386.66 | L12: =TRUNC(K12*12,2) -> 880639.92 | N12: =L12/$L$19 -> 0.038467089 | O12: =ROUND(G12/2,2) -> 21333.33 | P12: =ROUND(H12/2,2) -> 256000
B13: 9 | C13: Execução de serviço de escavação mecânica em canal (não edificado) com o uso de escavadeira hidráulica anfíbia. | D13: m³ | E13: Composição | F13: 7 | G13: ='9. Comp 7. Hidráulica Anfíbia'!J120 -> 2100.36 | H13: =G13*12 -> 25204.32 | I13: ='9. Comp 7. Hidráulica Anfíbia'!J124 -> 70.36 | K13: =TRUNC(I13*G13,2) -> 147781.32 | L13: =TRUNC(K13*12,2) -> 1773375.8 | N13: =L13/$L$19 -> 0.077462541 | O13: =ROUND(G13/2,2) -> 1050.18 | P13: =ROUND(H13/2,2) -> 12602.16
B14: 10 | C14: Execução de serviço de escavação mecânica em canal (não edificado) com o uso de escavadeira hidráulica de braço longo. | D14: m³ | E14: Composição | F14: 8 | G14: ='10. Comp 8. Escavadeira Hidrául'!J120 -> 4802.4 | H14: =G14*12 -> 57628.8 | I14: ='10. Comp 8. Escavadeira Hidrául'!J124 -> 17.08 | K14: =TRUNC(I14*G14,2) -> 82024.99 | L14: =TRUNC(K14*12,2) -> 984299.88 | N14: =L14/$L$19 -> 0.042995043 | O14: =ROUND(G14/2,2) -> 2401.2 | P14: =ROUND(H14/2,2) -> 28814.4
B15: 11 | C15: Demolição e tratamento de resíduos de entulho com espalhamento em vias de vicinais (exclusive transporte). | D15: m³ | E15: Composição | F15: 9 | G15: ='11. Comp 9. Demolição e tratam'!J70 -> 999.99981 | H15: =G15*12 -> 11999.998 | I15: ='11. Comp 9. Demolição e tratam'!J74 -> 116.8 | K15: =TRUNC(I15*G15,2) -> 116799.97 | L15: =TRUNC(K15*12,2) -> 1401599.6 | N15: =L15/$L$19 -> 0.061223045 | P15: =ROUND(H15/2,2) -> 6000
B16: 12 | C16: Transporte de resíduos e assoreamento em caminhão basculante (Até 30 km). | D16: m³ x Km | E16: SINAPI | F16: 95875 | G16: ='12 e 13. Transporte de Resíduos'!C53 -> 42000 | H16: =G16*12 -> 504000 | I16: ='12 e 13. Transporte de Resíduos'!J74 -> 3.39 | K16: =TRUNC(I16*G16,2) -> 142380 | L16: =TRUNC(K16*12,2) -> 1708560 | N16: =L16/$L$19 -> 0.074631331 | P16: =ROUND(H16/2,2) -> 252000
B17: 13 | C17: Transporte de resíduos e assoreamento em caminhão basculante (Acima de 30 km). | D17: m³ x Km | E17: SINAPI | F17: 93590 | G17: ='12 e 13. Transporte de Resíduos'!C59 -> 12000 | H17: =G17*12 -> 144000 | I17: ='12 e 13. Transporte de Resíduos'!J87 -> 1.33 | K17: =TRUNC(I17*G17,2) -> 15960 | L17: =TRUNC(K17*12,2) -> 191520 | N17: =L17/$L$19 -> 0.0083657539 | P17: =ROUND(H17/2,2) -> 72000
K18: =SUM(K5:K17) -> 1907777.9 | L18: =SUM(L5:L17) -> 22893334 | N18: =SUM(N5:N17) -> 1
B19: VALOR TOTAL DO CONTRATO (12 meses) | L19: =L18*1 -> 22893334
J21: TAXA Selic (Dezembro/25) | L21: 0.15
J22: TAXA DE ADM | L22: =+'ADM - LOCAL'!J75 -> 0.046434248
J23: BDI DESONERADO | L23: ='BDI - Desonerado'!D25 -> 0.299

Sheet 1. Escavadeira
B3: =UPPER(Base!C5) -> EXECUÇÃO DE SERVIÇO COM ESCAVADEIRA HIDRÁULICA SOB ESTEIRA CONVENCIONAL PARA RETIRADA DE RESÍDUOS SÓLIDOS E REGULARIZAÇÃO DE TALUDES EM MARGENS DE RIO.
B4: COMPOSIÇÃO DE CUSTOS
B6: DADOS OPERACIONAIS
B7: Dias Efetivos Mensais: | C7: ='ADM - LOCAL'!C10 -> 25 | D7: dias
B8: Horas diárias | C8: 8 | D8: horas
B9: Minutos diários | C9: =C8*60 -> 480 | D9: minutos
B11: Dias Efetivos Mensais¹
B12: ¹ Os 25 dias correspondem a serviços realizados de segunda a sábado (365 dias – 52 domingos – 10 feriados, dividido por 12 meses).
B14: DIMENSIONAMENTO
B15: Produção da Equipe | C15: =Produtividade!D20 -> 168.15 | D15: m³/h
B16: Comprimento do Rio | C16: =Produtividade!D$26 -> 69800 | D16: m
B17: Largura do Rio | C17: =Produtividade!E$26 -> 20 | D17: m
B18: Altura do Rio | C18: =Produtividade!F$26 -> 0.1 | D18: m
B19: Área do Rio | C19: =Produtividade!G$26 -> 1396000 | D19: m²
B20: Volume | C20: =Produtividade!H$26 -> 139600 | D20: m³
B21: Frequência de Limpeza | C21: =Produtividade!I$26 -> 3.203 | D21: und
B22: Horas ano | C22: =Produtividade!L$26 -> 2659 | D22: H/ano
B23: Horas mês em função do Cálculo | C23: =Produtividade!M$26 -> 221.58333 | D23: H/mês
B24: Quant de Escavadeiras | C24: =Produtividade!N26 -> 2 | D24: unid.
B25: Quantidade de Serviço | C25: =ROUNDUP(Produtividade!D20*C23,0) -> 37260 | D25: m³
B26: SINAPI - 102287 | C26: ='Insumos, Materiais e Equipament'!D75 -> 11.69 | D26: R$
B29: COMPOSIÇÃO DO CUSTO UNITÁRIO
B31: Composição do Custo Unitário | J31: Subtotal
B32: Custo Direto | J32: =C26*C25 -> 435569.4
B33: Custo com Administração | I33: ='ADM - LOCAL'!J75 -> 0.046434248 | J33: =TRUNC(J32*I33,2) -> 20225.33
B34: Total dos Custos | J34: =J32+J33 -> 455794.73
B35: Quantidade de Serviço | I35: m³ | J35: =ROUNDUP(Produtividade!D20*C23,0) -> 37260
B37: CUSTO UNITÁRIO DO SERVIÇO | I37: R$/m³ | J37: =TRUNC(J34/J35,2) -> 12.23
B38: BDI | I38: ='BDI - Desonerado'!D25 -> 0.299 | J38: =TRUNC(J37*I38,2) -> 3.65
B39: PREÇO UNITÁRIO | I39: R$/m³ | J39: =J37+J38 -> 15.88

Sheet 2. Retro 
B3: =UPPER(Base!C6) -> EXECUÇÃO DE SERVIÇO COM RETROESCAVADEIRA PARA RETIRADA DE RESÍDUOS SÓLIDOS E REGULARIZAÇÃO DE TALUDES EM MARGENS DE CÓRREGOS OU CANAIS.
B4: COMPOSIÇÃO DE CUSTOS
B6: DADOS OPERACIONAIS
B7: Dias Efetivos Mensais: | C7: ='ADM - LOCAL'!C10 -> 25 | D7: dias
B8: Horas diárias | C8: 8 | D8: horas
B9: Minutos diários | C9: =C8*60 -> 480 | D9: minutos
B11: Dias Efetivos Mensais¹
B12: ¹ Os 25 dias correspondem a serviços realizados de segunda a sábado (365 dias – 52 domingos – 10 feriados, dividido por 12 meses).
B14: PRODUTIVIDADE
B15: Item | C15: Origem | E15: Comprimento (m) | F15: Largura (m) | G15: Altura (m) | H15: Área (m²) | I15: Taxa de Resíduo | J15: Volume de Resíduos Anual (m³)
B16: 1 | C16: Minicarregadeira | E16: =Produtividade!D28 -> 22952 | F16: =Produtividade!E28 -> 4.5 | G16: 0.01 | H16: =TRUNC(E16*F16,2) -> 103284 | I16: 1 | J16: =TRUNC(G16*H16*I16,2) -> 1032.84
B17: 2 | C17: Limpeza de rios | E17: =Produtividade!D26 -> 69800 | F17: =Produtividade!E26 -> 20 | G17: 0.01 | H17: =TRUNC(E17*F17,2) -> 1396000 | I17: 0.3 | J17: =TRUNC(G17*H17*I17,2) -> 4188
B18: 3 | C18: Limpeza baronesa | E18: =TRUNC('8. Comp 6. Remoção de Plantas A'!C24*'8. Comp 6. Remoção de Plantas A'!C26,2) -> 25600 | F18: ='8. Comp 6. Remoção de Plantas A'!C25 -> 20 | G18: 0.01 | H18: =TRUNC(E18*F18,2) -> 512000 | I18: 0.3 | J18: =TRUNC(G18*H18*I18,2) -> 1536
B19: 4 | C19: Limpeza canais | E19: =Produtividade!D27 -> 69000 | F19: =Produtividade!E27 -> 8 | G19: 0.01 | H19: =TRUNC(E19*F19,2) -> 552000 | I19: 0.3 | J19: =TRUNC(G19*H19*I19,2) -> 1656
B20: Total | J20: =TRUNC(SUM(J16:J19),2) -> 8412.84
J21: =(J20/12)/Produtividade!J20 -> 199.73504
B22: DIMENSIONAMENTO
B23: Produção da Equipe | C23: =Produtividade!F20 -> 53.77 | D23: m³/h
B24: Comprimento do Rio | C24: =Produtividade!D$27 -> 69000 | D24: m
B25: Largura do Rio | C25: =Produtividade!E$27 -> 8 | D25: m
B26: Altura do Rio | C26: =Produtividade!F$27 -> 0.1 | D26: m
B27: Área do Rio | C27: =Produtividade!G$27 -> 552000 | D27: m²
B28: Volume | C28: =Produtividade!H$27 -> 55200 | D28: m³
B29: Frequência de Limpeza | C29: =Produtividade!I27 -> 3.260699 | D29: und
B30: Horas ano | C30: =Produtividade!L$27 -> 3347 | D30: H/ano
B31: Horas mês em função do Cálculo | C31: =Produtividade!M$27 -> 279 | D31: H/mês
B32: Quant de Escavadeiras | C32: =Produtividade!N$27 -> 2 | D32: unid.
B33: Quantidade de Serviço | C33: =ROUNDUP(Produtividade!F20*C31,0) -> 15002 | D33: m³
B34: SINAPI - 90100 | C34: ='Insumos, Materiais e Equipament'!D76 -> 12.71 | D34: R$
B37: COMPOSIÇÃO DO CUSTO UNITÁRIO
B39: Composição do Custo Unitário | J39: Subtotal
B40: Custo Direto | J40: =C33*C34 -> 190675.42
B41: Custo com Administração | I41: ='ADM - LOCAL'!J75 -> 0.046434248 | J41: =TRUNC(J40*I41,2) -> 8853.86
B42: Total dos Custos | J42: =J40+J41 -> 199529.28
B43: Quantidade de serviço | I43: m³ | J43: =ROUND((Produtividade!F20*C31),0) -> 15002
B45: CUSTO UNITÁRIO DO SERVIÇO | I45: R$/m³ | J45: =TRUNC(J42/J43,2) -> 13.3
B46: BDI | I46: ='BDI - Desonerado'!D25 -> 0.299 | J46: =TRUNC(J45*I46,2) -> 3.97
B47: PREÇO UNITÁRIO | I47: R$/m³ | J47: =J45+J46 -> 17.27

Sheet 3. Comp 1. Minicarregadeira
B3: =UPPER(Base!C7) -> EXECUÇÃO DE SERVIÇO COM MINICARREGADEIRA SOBRE RODAS PARA RETIRADA DE RESÍDUOS SÓLIDOS EM CÓRREGOS E CANAIS EDIFICADOS.
B4: COMPOSIÇÃO DE CUSTOS
B6: DADOS OPERACIONAIS
B7: Dias Efetivos Mensais: | C7: ='ADM - LOCAL'!C10 -> 25 | D7: dias
B8: Horas diárias | C8: 8 | D8: horas
B9: Minutos diários | C9: =C8*60 -> 480 | D9: minutos
B11: Dias Efetivos Mensais¹
B12: ¹ Os 25 dias correspondem a serviços realizados de segunda a sábado (365 dias – 52 domingos – 10 feriados, dividido por 12 meses).
B14: PRODUTIVIDADE
B15: Item | C15: Origem | E15: Comprimento (m) | F15: Largura (m) | G15: Altura (m) | H15: Área (m²) | I15: Taxa de Resíduo | J15: Volume de Resíduos Anual (m³)
B16: 1 | C16: Minicarregadeira | E16: =Produtividade!D28 -> 22952 | F16: =Produtividade!E28 -> 4.5 | G16: 0.01 | H16: =TRUNC(E16*F16,2) -> 103284 | I16: 1 | J16: =TRUNC(G16*H16*I16,2) -> 1032.84
B17: 2 | C17: Limpeza de rios | E17: =Produtividade!D26 -> 69800 | F17: =Produtividade!E26 -> 20 | G17: 0.01 | H17: =TRUNC(E17*F17,2) -> 1396000 | I17: 0.3 | J17: =TRUNC(G17*H17*I17,2) -> 4188
B18: 3 | C18: Limpeza baronesa | E18: =TRUNC('8. Comp 6. Remoção de Plantas A'!C24*'8. Comp 6. Remoção de Plantas A'!C26,2) -> 25600 | F18: ='8. Comp 6. Remoção de Plantas A'!C25 -> 20 | G18: 0.01 | H18: =TRUNC(E18*F18,2) -> 512000 | I18: 0.3 | J18: =TRUNC(G18*H18*I18,2) -> 1536
B19: 4 | C19: Limpeza canais | E19: =Produtividade!D27 -> 69000 | F19: =Produtividade!E27 -> 8 | G19: 0.01 | H19: =TRUNC(E19*F19,2) -> 552000 | I19: 0.3 | J19: =TRUNC(G19*H19*I19,2) -> 1656
B20: Total | J20: =TRUNC(SUM(J16:J19),2) -> 8412.84
J21: =(J20/12)/Produtividade!J20 -> 199.73504
B22: DIMENSIONAMENTO
B23: Produção da Equipe | C23: =Produtividade!H20 -> 36.765 | D23: m³/h
B24: Comprimento do Rio | C24: =Produtividade!D28 -> 22952 | D24: m
B25: Altura do Rio | C25: =Produtividade!F28 -> 0.1 | D25: m
B26: Largura do Rio | C26: =Produtividade!E28 -> 4.5 | D26: m
B27: Área do Rio | C27: =Produtividade!G28 -> 103284 | D27: m²
B28: Volume | C28: =Produtividade!H28 -> 10328.4 | D28: m³
B29: Frequência de Limpeza | C29: =Produtividade!I28 -> 4.5 | D29: und
B30: Horas ano | C30: =Produtividade!L28 -> 1264 | D30: H/ano
B31: Horas mês | C31: =Produtividade!M28 -> 105.33333 | D31: H/mês
B32: Horas mês em função da Produtividade* | C32: =CEILING(C31,200) -> 200 | D32: H/mês
B33: Quant de Escavadeiras | C33: =Produtividade!N28 -> 1 | D33: unid.
B35: MÃO DE OBRA DIRETA
B36: Mão de Obra Direta | C36: Quantidade | D36: Reserva | E36: Total
B37: Operador de Máquinas Pesadas | C37: =C42 -> 1 | D37: 0 | E37: =C37+D37 -> 1
B38: Total de Funcionários | C38: - | D38: - | E38: =E37 -> 1
B40: VEÍCULOS
B41: Mão de Obra Direta | C41: Quantidade | D41: Reserva | E41: Total
B42: Minicarregadeira | C42: =C33 -> 1 | D42: 0 | E42: =C42+D42 -> 1
B43: Total de Funcionários | C43: - | D43: - | E43: =E42 -> 1
B45: Operador | E45: Quant | G45: Valor Mensal | I45: Subtotal
B46: Salário Base | E46: 1 | F46: x R$ | G46: ='Insumos, Materiais e Equipament'!D7 -> 4628.72 | H46: = R$ | I46: =G46*E46 -> 4628.72
B47: Hora Extra | E47: 0 | F47: x R$ | G47: =G46/220*1.5 -> 31.559455 | H47: = R$ | I47: =E47*G47 -> 0
B48: Insalubridade (% Sal. Mín.) | D48: 0 | E48: 1 | F48: x R$ | G48: =G46*D48 -> 0 | H48: = R$ | I48: =G48*D48 -> 0
...

Sheet 4. Comp 2.  Trator de Esteiras
B3: =UPPER(Base!C8) -> EXECUÇÃO DE SERVIÇO DE ESCAVAÇÃO COM O USO DE TRATOR DE ESTEIRAS.
B4: COMPOSIÇÃO DE CUSTOS
B6: DADOS OPERACIONAIS
B7: Dias Efetivos Mensais: | C7: ='ADM - LOCAL'!C10 -> 25 | D7: dias
B8: Horas diárias | C8: 8 | D8: horas
B9: Minutos diários | C9: =C8*60 -> 480 | D9: minutos
B11: Dias Efetivos Mensais¹
B12: ¹ Os 25 dias correspondem a serviços realizados de segunda a sábado (365 dias – 52 domingos – 10 feriados, dividido por 12 meses).
B14: PRODUTIVIDADE
B15: Item | C15: Origem | E15: Comprimento (m) | F15: Largura (m) | G15: Altura (m) | H15: Área (m²) | I15: Taxa de Resíduo | J15: Volume de Resíduos Anual (m³)
B16: 1 | C16: Minicarregadeira | E16: =Produtividade!D28 -> 22952 | F16: =Produtividade!E28 -> 4.5 | G16: 0.01 | H16: =TRUNC(E16*F16,2) -> 103284 | I16: 1 | J16: =TRUNC(G16*H16*I16,2) -> 1032.84
B17: 2 | C17: Limpeza de rios | E17: =Produtividade!D26 -> 69800 | F17: =Produtividade!E26 -> 20 | G17: 0.01 | H17: =TRUNC(E17*F17,2) -> 1396000 | I17: 0.3 | J17: =TRUNC(G17*H17*I17,2) -> 4188
B18: 3 | C18: Limpeza baronesa | E18: =TRUNC('8. Comp 6. Remoção de Plantas A'!C24*'8. Comp 6. Remoção de Plantas A'!C26,2) -> 25600 | F18: ='8. Comp 6. Remoção de Plantas A'!C25 -> 20 | G18: 0.01 | H18: =TRUNC(E18*F18,2) -> 512000 | I18: 0.3 | J18: =TRUNC(G18*H18*I18,2) -> 1536
B19: 4 | C19: Limpeza canais | E19: =Produtividade!D27 -> 69000 | F19: =Produtividade!E27 -> 8 | G19: 0.01 | H19: =TRUNC(E19*F19,2) -> 552000 | I19: 0.3 | J19: =TRUNC(G19*H19*I19,2) -> 1656
B20: Total | J20: =TRUNC(SUM(J16:J19),2) -> 8412.84
J21: =(J20/12)/Produtividade!J20 -> 199.73504
B22: DIMENSIONAMENTO
B23: Produção da Equipe | C23: =Produtividade!F20 -> 53.77 | D23: m³/h
B24: Comprimento do Rio | C24: =Produtividade!D$31 -> 13960 | D24: m
B25: Largura do Rio | C25: =Produtividade!E$31 -> 20 | D25: m
B26: Altura do Rio | C26: =Produtividade!F$31 -> 0.1 | D26: m
B27: Área do Rio | C27: =Produtividade!G$31 -> 279200 | D27: m²
B28: Volume | C28: =Produtividade!H$31 -> 27920 | D28: m³
B29: Frequência de Limpeza | C29: =Produtividade!I31 -> 4.5 | D29: und
B30: Horas ano | C30: =Produtividade!L$31 -> 2337 | D30: H/ano
B31: Horas mês | C31: =Produtividade!M$31 -> 194.75 | D31: H/mês
B32: Horas mês em função da Produtividade* | C32: =CEILING(C31,200) -> 200 | D32: H/mês
B33: Quant de Escavadeiras | C33: =Produtividade!N31 -> 1 | D33: unid.
B35: MÃO DE OBRA DIRETA
B36: Mão de Obra Direta | C36: Quantidade | D36: Reserva | E36: Total
B37: Operador de Máquinas Pesadas | C37: =C42 -> 1 | D37: 0 | E37: =C37+D37 -> 1
B38: Total de Funcionários | C38: - | D38: - | E38: =E37 -> 1
B40: VEÍCULOS
B41: Mão de Obra Direta | C41: Quantidade | D41: Reserva | E41: Total
B42: Trator de Esteiras | C42: =C33 -> 1 | D42: 0 | E42: =C42+D42 -> 1
B43: Total de Funcionários | C43: - | D43: - | E43: =E42 -> 1
B45: Operador | E45: Quant | G45: Valor Mensal | I45: Subtotal
B46: Salário Base | E46: 1 | F46: x R$ | G46: ='Insumos, Materiais e Equipament'!D7 -> 4628.72 | H46: = R$ | I46: =G46*E46 -> 4628.72
B47: Hora Extra | E47: 0 | F47: x R$ | G47: =G46/220*1.5 -> 31.559455 | H47: = R$ | I47: =E47*G47 -> 0
B48: Insalubridade (% Sal. Mín.) | D48: 0 | E48: 1 | F48: x R$ | G48: =G46*D48 -> 0 | H48: = R$ | I48: =G48*D48 -> 0
...

Sheet 5. Comp 3.  Draga
B3: =UPPER(Base!C9) -> EXECUÇÃO DE DRAGAGEM DE RIO COM USO DE DRAGA.
B4: COMPOSIÇÃO DE CUSTOS
B6: DADOS OPERACIONAIS
B7: Dias Efetivos Mensais: | C7: ='ADM - LOCAL'!C10 -> 25 | D7: dias
B8: Horas diárias | C8: 8 | D8: horas
B9: Minutos diários | C9: =C8*60 -> 480 | D9: minutos
B11: Dias Efetivos Mensais¹
B12: ¹ Os 25 dias correspondem a serviços realizados de segunda a sábado (365 dias – 52 domingos – 10 feriados, dividido por 12 meses).
B14: PRODUTIVIDADE
B15: Item | C15: Origem | E15: Comprimento (m) | F15: Largura (m) | G15: Altura (m) | H15: Área (m²) | I15: Taxa de Resíduo | J15: Volume de Resíduos Anual (m³)
B16: 1 | C16: Minicarregadeira | E16: =Produtividade!D28 -> 22952 | F16: =Produtividade!E28 -> 4.5 | G16: 0.01 | H16: =TRUNC(E16*F16,2) -> 103284 | I16: 1 | J16: =TRUNC(G16*H16*I16,2) -> 1032.84
B17: 2 | C17: Limpeza de rios | E17: =Produtividade!D26 -> 69800 | F17: =Produtividade!E26 -> 20 | G17: 0.01 | H17: =TRUNC(E17*F17,2) -> 1396000 | I17: 0.3 | J17: =TRUNC(G17*H17*I17,2) -> 4188
B18: 3 | C18: Limpeza baronesa | E18: =TRUNC('8. Comp 6. Remoção de Plantas A'!C24*'8. Comp 6. Remoção de Plantas A'!C26,2) -> 25600 | F18: ='8. Comp 6. Remoção de Plantas A'!C25 -> 20 | G18: 0.01 | H18: =TRUNC(E18*F18,2) -> 512000 | I18: 0.3 | J18: =TRUNC(G18*H18*I18,2) -> 1536
B19: 4 | C19: Limpeza canais | E19: =Produtividade!D27 -> 69000 | F19: =Produtividade!E27 -> 8 | G19: 0.01 | H19: =TRUNC(E19*F19,2) -> 552000 | I19: 0.3 | J19: =TRUNC(G19*H19*I19,2) -> 1656
B20: Total | J20: =TRUNC(SUM(J16:J19),2) -> 8412.84
J21: =(J20/12)/Produtividade!J20 -> 199.73504
B22: DIMENSIONAMENTO
B23: Produção da Equipe | C23: =Produtividade!D20 -> 168.15 | D23: m³/h
B24: Comprimento do Rio | C24: =Produtividade!D32 -> 34900 | D24: m
B25: Largura do Rio | C25: =Produtividade!E$32 -> 20 | D25: m
B26: Altura do Rio | C26: =Produtividade!F$32 -> 0.25 | D26: m
B27: Área do Rio | C27: =Produtividade!G$32 -> 698000 | D27: m²
B28: Volume | C28: =Produtividade!H$32 -> 174500 | D28: m³
B29: Frequência de Limpeza | C29: =Produtividade!I$32 -> 1.857 | D29: und
B30: Horas ano | C30: =Produtividade!L$32 -> 2160 | D30: H/ano
B31: Horas mês | C31: =Produtividade!M$32 -> 180 | D31: H/mês
B32: Quant de Escavadeiras | C32: =Produtividade!N31 -> 1 | D32: unid.
B34: MÃO DE OBRA DIRETA
B35: Mão de Obra Direta | C35: Quantidade | D35: Reserva | E35: Total
B36: Operador de Máquinas Pesadas | C36: =C41 -> 1 | D36: 0 | E36: =C36+D36 -> 1
B37: Total de Funcionários | C37: - | D37: - | E37: =E36 -> 1
B39: VEÍCULOS
B40: Mão de Obra Direta | C40: Quantidade | D40: Reserva | E40: Total
B41: Trator de Esteiras | C41: =C32 -> 1 | D41: 0 | E41: =C41+D41 -> 1
B42: Total de Funcionários | C42: - | D42: - | E42: =E41 -> 1
B44: Operador | E44: Quant | G44: Valor Mensal | I44: Subtotal
B45: Salário Base | E45: 1 | F45: x R$ | G45: ='Insumos, Materiais e Equipament'!D7 -> 4628.72 | H45: = R$ | I45: =G45*E45 -> 4628.72
B46: Hora Extra | E46: 0 | F46: x R$ | G46: =G45/220*1.5 -> 31.559455 | H46: = R$ | I46: =E46*G46 -> 0
B47: Insalubridade (% Sal. Mín.) | D47: 0 | E47: 1 | F47: x R$ | G47: =G45*D47 -> 0 | H47: = R$ | I47: =G47*D47 -> 0
B48: Domingo/Feriados | F48: x R$ | G48: =G45/220*2*8 -> 336.63418 | H48: = R$ | I48: -
...

Sheet 6. Comp 4. Cavalo Mecânico
B3: =UPPER(Base!C10) -> MOBILIZAÇÃO E DESMOBILIZAÇÃO DE EQUIPAMENTOS EM CAVALO MECÂNICO COM SEMIRREBOQUE.
B4: COMPOSIÇÃO DE CUSTOS
B6: DADOS OPERACIONAIS
B7: Dias Efetivos Mensais: | C7: ='ADM - LOCAL'!C10 -> 25 | D7: dias
B8: Horas diárias | C8: 8 | D8: horas
B9: Minutos diários | C9: =C8*60 -> 480 | D9: minutos
B11: Dias Efetivos Mensais¹
B12: ¹ Os 25 dias correspondem a serviços realizados de segunda a sábado (365 dias – 52 domingos – 10 feriados, dividido por 12 meses).
B14: DIMENSIONAMENTO
B15: Horas ano | C15: =C16*12 -> 600 | D15: H/ano
B16: Horas mês | C16: =Produtividade!E55 -> 50 | D16: H/mês
B17: Quant de Escavadeiras | C17: =Produtividade!N31 -> 1 | D17: unid.
B19: MÃO DE OBRA DIRETA
B20: Mão de Obra Direta | C20: Quantidade | D20: Reserva | E20: Total
B21: Operador de Máquinas Pesadas | C21: =C26 -> 1 | D21: 0 | E21: =C21+D21 -> 1
B22: Total de Funcionários | C22: - | D22: - | E22: =E21 -> 1
B24: VEÍCULOS
B25: Mão de Obra Direta | C25: Quantidade | D25: Reserva | E25: Total
B26: Cavalo mecânico | C26: =C17 -> 1 | D26: 0 | E26: =C26+D26 -> 1
B27: Total de Funcionários | C27: - | D27: - | E27: =E26 -> 1
B29: Operador | E29: Quant | G29: Valor Mensal | I29: Subtotal
B30: Salário Base | E30: 1 | F30: x R$ | G30: ='Insumos, Materiais e Equipament'!D7 -> 4628.72 | H30: = R$ | I30: =G30*E30 -> 4628.72
B31: Hora Extra | E31: 0 | F31: x R$ | G31: =G30/220*1.5 -> 31.559455 | H31: = R$ | I31: =E31*G31 -> 0
B32: Insalubridade (% Sal. Mín.) | D32: 0 | E32: 1 | F32: x R$ | G32: =G30*D32 -> 0 | H32: = R$ | I32: =G32*D32 -> 0
B33: Domingo/Feriados | F33: x R$ | G33: =G30/220*2*8 -> 336.63418 | H33: = R$ | I33: -
B34: Adicional Noturno | E34: 0 | F34: x R$ | G34: =G30*14.48% -> 670.23866 | H34: = R$ | I34: =G34*E34 -> 0
B35: Encargos Sociais | D35: ='Encargos Sociais'!C44 -> 0.8435 | H35: = R$ | I35: =D35*G30 -> 3904.3253
B36: Benefício Social | E36: 1 | F36: x R$ | G36: - | H36: = R$ | I36: -
B37: PPR | D37: 0 | E37: 1 | G37: - | H37: = R$ | I37: -
B38: Total Motorista | F38: x R$ | G38: =SUM(I30:I37) -> 8533.0453 | J38: =G38 -> 8533.0453
B40: Operador | E40: Quant | G40: Valor Unit | I40: Subtotal
C41: Bota botina Segurança Ocupacional EPI | E41: 2 | F41: par/ano x R$ | G41: ='Banco de Preços'!$I$10 -> 88.73 | H41: /par ÷ 12 | I41: =E41*G41/12 -> 14.788333
C42: Boné | E42: 2 | F42: un./ano x R$ | G42: ='Banco de Preços'!$I$11 -> 19.56 | H42: /un. ÷ 12 | I42: =E42*G42/12 -> 3.26
C43: Calça de brim com fita refletiva | E43: 2 | F43: un/ano x R$ | G43: ='Insumos, Materiais e Equipament'!$D$23 -> 70.1 | H43: /un. ÷ 12 | I43: =E43*G43/12 -> 11.683333
C44: Protetor Auricular | E44: 2 | F44: un/ano x R$ | G44: ='Insumos, Materiais e Equipament'!$D$51 -> 49.11 | H44: /un. ÷ 12 | I44: =E44*G44/12 -> 8.185
C45: Camisa de manga longa com fita refletiva com UV | E45: 2 | F45: un/ano x R$ | G45: ='Banco de Preços'!$I$8 -> 49.5 | H45: /un. ÷ 12 | I45: =E45*G45/12 -> 8.25
C46: Protetor solar | E46: 2 | F46: un./ano x R$ | G46: ='Banco de Preços'!$I$37 -> 26.16 | H46: /un. ÷ 12 | I46: =E46*G46/12 -> 4.36
B47: Custo Uniformes Operador | F47: Motorista | G47: 1 | H47: x R$ | I47: =SUM(I41:I46) -> 50.526667 | J47: =I47*G47 -> 50.526667
B49: Motorista de caminhão basculante | E49: Quant | G49: Valor Mensal | I49: Subtotal
B50: Vale Alimentação/Refeição | E50: 1 | F50: x R$ | G50: ='Insumos, Materiais e Equipament'!$D$16 -> 375 | H50: = R$ | I50: =E50*G50 -> 375
...

Sheet 7. Comp 5. Limpeza do Rio
B3: =UPPER(Base!C11) -> EXECUÇÃO DE SERVIÇO DE LIMPEZA E CAPINAÇÃO DE MARGEM DO RIO.
B4: COMPOSIÇÃO DE CUSTOS
B6: DADOS OPERACIONAIS
B7: Dias Efetivos Mensais: | C7: ='ADM - LOCAL'!C10 -> 25 | D7: dias
B8: Horas diárias | C8: 8 | D8: horas
B9: Minutos diários | C9: =C8*60 -> 480 | D9: minutos
B10: Turno dIurno | C10: 1 | D10: -
B12: PRODUTIVIDADE
B13: Produtividade Superficial | C13: 200 | D13: m²/dia
B14: Largura Média de limpeza de margem | C14: 2.5789 | D14: m
B15: Produtividade Linear | C15: 150 | D15: m/dia
B17: Produtividade Superficial, FONTE: TCMGO¹
B18: https://www.tcmgo.tc.br/site/wp-content/uploads/2018/02/Manual-Limpeza-Urbana.pdf
B20: DIMENSIONAMENTO
B21: Comprimento das duas margens do Rio dentro da área de abrangência do contrato | C21: =Produtividade!D26/2*C14 -> 90003.61 | D21: m²
B22: Estimativa de Frequência anual equivalente de limpeza do rio | C22: 2 | D22: und
B23: Comprimento total de limpeza anual | C23: =ROUND(C21*C22,2) -> 180007.22 | D23: m²
B24: Comprimento total de limpeza mensal | C24: =TRUNC(C23/12,0) -> 15000 | D24: m²
B25: Comprimento total de limpeza diária | C25: =C24/12 -> 1250 | D25: m²/dia
B27: MÃO DE OBRA DIRETA
B28: Mão de Obra Direta | C28: Quantidade | D28: Reserva | E28: Total
B29: Agente de limpeza | C29: =ROUNDUP(C23/(C7*12)/C13,0) -> 4 | D29: 0 | E29: =C29+D29 -> 4
B30: Motorista de Ônibus | C30: 1 | D30: 0 | E30: 1
B31: Fiscal de serviços | C31: 1 | D31: 0 | E31: =C31+D31 -> 1
B32: Total de Funcionários | C32: - | D32: - | E32: =E29+E30+E31 -> 6
B34: Mão de Obra¹
B35: NR 15 - ANexo 14 - AGENTES BIOLÓGICOS Relação das atividades que envolvem agentes biológicos, cuja insalubridade é caracterizada pela avaliação qualitativa. Insalubridade de grau máximo (...) - esgotos (galerias e tanques); e - lixo urbano (coleta e industrialização) Empregar para os auxiliares de capina percentual de insalubridade de 40%, de forma a equipará-los ao grau máximo do art. 192 da CLT e da NR-159.
B36: Produtividade Superficial O serviço de roçagem é realizado em razão da limpeza de locais onde o mato ou o capim estão altos. Um dos tipos de roçagem é feito com a ferramenta denominada alfanje (foice de cabo comprido), também conhecida como gadanha, o rendimento é de 200 a 300m2/dia por pessoa. Referência TCMGO, manual para analise de serviços de limpeza urbana e manejo de resíduos sólidos. Pag 49 - Informações importantes (Um dos tipos de roçagem é feito com a ferramenta denominada alfanje (foice de cabo comprido), também conhecida como gadanha, o rendimento é de 200 a 300m2/dia por pessoa) - https://www.tcmgo.tc.br/site/wp-content/uploads/2018/02/Manual-Limpeza-Urbana.pdf
B38: VEÍCULOS
B39: Ônibus | C39: Quantidade | D39: Km/dia por Veíc. | E39: Média de KM
B40: Km por dia | C40: 1 | D40: 15 | E40: =D40*C40 -> 15
B41: Km por mês | C41: 1 | D41: =D40*C7 -> 375 | E41: =D41*C41 -> 375
B42: KM por ano | C42: 1 | D42: =D41*12 -> 4500 | E42: =D42*C42 -> 4500
B43: Total de Km/mês | C43: - | E43: =SUM(E40:E42) -> 4890
B45: Distância Média¹
B46: O (Km) por dia dos véiculos levou em consideração o ponto médio de distância, do marco zero de caruaru as extremidades do município.
B48: I - PESSOAL, REMUNERAÇÃO E ENCARGOS SOCIAIS
B50: Agente de limpeza | E50: Quant | G50: Valor Mensal | I50: Subtotal
B51: Salário Base | E51: 1 | F51: x R$ | G51: ='Insumos, Materiais e Equipament'!$D$11 -> 1621 | H51: = R$ | I51: =E51*G51 -> 1621
B52: Hora Extra | E52: 0 | F52: x R$ | G52: =G51/220*1.5 -> 11.052273 | H52: = R$ | I52: =E52*G52 -> 0
...

Sheet 8. Comp 6. Remoção de Plantas A
B3: =UPPER(Base!C12) -> EXECUÇÃO DE SERVIÇO DE REMOÇÃO DE PLANTAS AQUÁTICAS.
B4: COMPOSIÇÃO DE CUSTOS
B6: DADOS OPERACIONAIS
B7: Dias Efetivos Mensais: | C7: ='ADM - LOCAL'!C10 -> 25 | D7: dias
B8: Horas diárias | C8: 8 | D8: horas
B9: Minutos diários | C9: =C8*60 -> 480 | D9: minutos
B10: Turno dIurno | C10: 1 | D10: -
B12: PRODUTIVIDADE
B13: Produtividade Superficial | C13: 200 | D13: m²/dia
B14: Produção de limpeza | C14: =C13 -> 200 | D14: m²/func.dia
B15: Dias úteis/ano | C15: =C7*12 -> 300 | D15: dias
B16: Total de Colaboradores | C16: =ROUNDUP(C27/C15/C14,0) -> 9 | D16: colaboradores
B18: Produtividade Superficial, FONTE: TCMGO¹
B19: https://www.tcmgo.tc.br/site/wp-content/uploads/2018/02/Manual-Limpeza-Urbana.pdf
B21: DIMENSIONAMENTO
B22: Pontos de Baronesa | C22: 16 | D22: Pontos afluentes/Açudes zona rural
B23: Extenção com Baronesa | C23: 200 | D23: m
B24: Extensão total | C24: =C23*C22 -> 3200 | D24: m
B25: Largura média do rio | C25: 20 | D25: m
B26: Frequência de limpeza anual | C26: 8 | D26: unidade
B27: Área total de limpeza ano | C27: =ROUND(C24*C25*C26,2) -> 512000 | D27: m²
B28: Área total de limpeza mês | C28: =C27/12 -> 42666.667 | D28: m²/mês
B29: Área total de limpeza dia | C29: =C28/C7 -> 1706.6667 | D29: m²/dia
B31: MÃO DE OBRA DIRETA
B32: Mão de Obra Direta | C32: Quantidade | D32: Reserva | E32: Total
B33: Agente de limpeza | C33: =C16 -> 9 | D33: 0 | E33: =C33+D33 -> 9
B34: Fiscal de serviços (Téc. em edificações) | C34: 1 | D34: 0 | E34: =C34+D34 -> 1
B35: Total de Funcionários | C35: =SUM(C33:C34) -> 10 | D35: 0 | E35: =E33+E34 -> 10
B37: Mão de Obra¹
B38: NR 15 - ANexo 14 - AGENTES BIOLÓGICOS Relação das atividades que envolvem agentes biológicos, cuja insalubridade é caracterizada pela avaliação qualitativa. Insalubridade de grau máximo (...) - esgotos (galerias e tanques); e - lixo urbano (coleta e industrialização) Empregar para os auxiliares de capina percentual de insalubridade de 40%, de forma a equipará-los ao grau máximo do art. 192 da CLT e da NR-159.
B39: Produtividade Superficial O serviço de roçagem é realizado em razão da limpeza de locais onde o mato ou o capim estão altos. Um dos tipos de roçagem é feito com a ferramenta denominada alfanje (foice de cabo comprido), também conhecida como gadanha, o rendimento é de 200 a 300m2/dia por pessoa. Referência TCMGO, manual para analise de serviços de limpeza urbana e manejo de resíduos sólidos. Pag 49 - Informações importantes (Um dos tipos de roçagem é feito com a ferramenta denominada alfanje (foice de cabo comprido), também conhecida como gadanha, o rendimento é de 200 a 300m2/dia por pessoa) - https://www.tcmgo.tc.br/site/wp-content/uploads/2018/02/Manual-Limpeza-Urbana.pdf
B41: I - PESSOAL, REMUNERAÇÃO E ENCARGOS SOCIAIS
B43: Agente de limpeza | E43: Quant | G43: Valor Mensal | I43: Subtotal
B44: Salário Base | E44: 1 | F44: x R$ | G44: ='Insumos, Materiais e Equipament'!D11 -> 1621 | H44: = R$ | I44: =E44*G44 -> 1621
B45: Hora Extra | E45: 0 | F45: x R$ | G45: =G44/220*1.5 -> 11.052273 | H45: = R$ | I45: =E45*G45 -> 0
B46: Insalubridade (% Sal. Mín.) | D46: 0.4 | E46: =E44 -> 1 | F46: x R$ | G46: =G44*D46 -> 648.4 | H46: = R$ | I46: =E46*G46 -> 648.4
B47: Domingos/Feriados | E47: 0 | F47: x R$ | G47: =G44/220*2*8 -> 117.89091 | H47: = R$ | I47: =E47*G47 -> 0
B48: Adicional Noturno | E48: 0 | F48: x R$ | G48: =G44*14.48% -> 234.7208 | H48: = R$ | I48: =E48*G48 -> 0
B49: Encargos Sociais | D49: ='Encargos Sociais'!C44 -> 0.8435 | H49: = R$ | I49: =TRUNC(SUM(I44:I48)*D49,2) -> 1914.23
B50: Benefício Social | E50: 1 | F50: x R$ | G50: =0 -> 0 | H50: = R$ | I50: =E50*G50 -> 0
...

Sheet 9. Comp 7.  Hidráulica Anfíbia
B3: =UPPER(Base!C13) -> EXECUÇÃO DE SERVIÇO DE ESCAVAÇÃO MECÂNICA EM CANAL (NÃO EDIFICADO) COM O USO DE ESCAVADEIRA HIDRÁULICA ANFÍBIA.
B4: COMPOSIÇÃO DE CUSTOS
B6: DADOS OPERACIONAIS
B7: Dias Efetivos Mensais: | C7: ='ADM - LOCAL'!C10 -> 25 | D7: dias
B8: Horas diárias | C8: 8 | D8: horas
B9: Minutos diários | C9: =C8*60 -> 480 | D9: minutos
B11: Dias Efetivos Mensais¹
B12: ¹ Os 25 dias correspondem a serviços realizados de segunda a sábado (365 dias – 52 domingos – 10 feriados, dividido por 12 meses).
B14: PRODUTIVIDADE
B15: Item | C15: Origem | E15: Comprimento (m) | F15: Largura (m) | G15: Altura (m) | H15: Área (m²) | I15: Taxa de Resíduo | J15: Volume de Resíduos Anual (m³)
B16: 1 | C16: Minicarregadeira | E16: =Produtividade!D28 -> 22952 | F16: =Produtividade!E28 -> 4.5 | G16: 0.01 | H16: =TRUNC(E16*F16,2) -> 103284 | I16: 1 | J16: =TRUNC(G16*H16*I16,2) -> 1032.84
B17: 2 | C17: Limpeza de rios | E17: =Produtividade!D26 -> 69800 | F17: =Produtividade!E26 -> 20 | G17: 0.01 | H17: =TRUNC(E17*F17,2) -> 1396000 | I17: 0.3 | J17: =TRUNC(G17*H17*I17,2) -> 4188
B18: 3 | C18: Limpeza baronesa | E18: =TRUNC('8. Comp 6. Remoção de Plantas A'!C24*'8. Comp 6. Remoção de Plantas A'!C26,2) -> 25600 | F18: ='8. Comp 6. Remoção de Plantas A'!C25 -> 20 | G18: 0.01 | H18: =TRUNC(E18*F18,2) -> 512000 | I18: 0.3 | J18: =TRUNC(G18*H18*I18,2) -> 1536
B19: 4 | C19: Limpeza canais | E19: =Produtividade!D27 -> 69000 | F19: =Produtividade!E27 -> 8 | G19: 0.01 | H19: =TRUNC(E19*F19,2) -> 552000 | I19: 0.3 | J19: =TRUNC(G19*H19*I19,2) -> 1656
B20: Total | J20: =TRUNC(SUM(J16:J19),2) -> 8412.84
J21: =(J20/12)/Produtividade!J20 -> 199.73504
B22: DIMENSIONAMENTO
B23: Produção da Equipe | C23: =Produtividade!D20 -> 168.15 | D23: m³/h
B24: Comprimento do Corrégo | C24: =Produtividade!D$39 -> 2625.45 | D24: m
B25: Largura do Corrégo | C25: =Produtividade!E39 -> 8 | D25: m
B26: Altura do Corrégo | C26: =Produtividade!F39 -> 0.1 | D26: m
B27: Área do Corrégo | C27: =Produtividade!G39 -> 21003.6 | D27: m²
B28: Volume | C28: =Produtividade!H39 -> 2100.36 | D28: m³
B29: Quant de Escavadeiras | C29: =Produtividade!M40 -> 1 | D29: unid.
B31: MÃO DE OBRA DIRETA
B32: Mão de Obra Direta | C32: Quantidade | D32: Reserva | E32: Total
B33: Operador de Máquinas Pesadas | C33: 1 | D33: 0 | E33: =C33+D33 -> 1
B34: Total de Funcionários | C34: - | D34: - | E34: =E33 -> 1
B36: VEÍCULOS
B37: Mão de Obra Direta | C37: Quantidade | D37: Reserva | E37: Total
B38: Escavadeira Hidráulica anfíbia | C38: 1 | D38: 0 | E38: =C38+D38 -> 1
B39: Total de Funcionários | C39: - | D39: - | E39: =E38 -> 1
B41: Operador | E41: Quant | G41: Valor Mensal | I41: Subtotal
B42: Salário Base | E42: 1 | F42: x R$ | G42: ='Insumos, Materiais e Equipament'!D7 -> 4628.72 | H42: = R$ | I42: =G42*E42 -> 4628.72
B43: Hora Extra | E43: 0 | F43: x R$ | G43: =G42/220*1.5 -> 31.559455 | H43: = R$ | I43: =E43*G43 -> 0
B44: Insalubridade (% Sal. Mín.) | D44: 0 | E44: 1 | F44: x R$ | G44: =G42*D44 -> 0 | H44: = R$ | I44: =G44*D44 -> 0
B45: Domingo/Feriados | F45: x R$ | G45: =G42/220*2*8 -> 336.63418 | H45: = R$ | I45: -
B46: Adicional Noturno | E46: 0 | F46: x R$ | G46: =G42*14.48% -> 670.23866 | H46: = R$ | I46: =G46*E46 -> 0
B47: Encargos Sociais | D47: ='Encargos Sociais'!C44 -> 0.8435 | H47: = R$ | I47: =D47*G42 -> 3904.3253
B48: Benefício Social | E48: 1 | F48: x R$ | G48: - | H48: = R$ | I48: -
...

Sheet 10. Comp 8. Escavadeira Hidrául
B3: =UPPER(Base!C14) -> EXECUÇÃO DE SERVIÇO DE ESCAVAÇÃO MECÂNICA EM CANAL (NÃO EDIFICADO) COM O USO DE ESCAVADEIRA HIDRÁULICA DE BRAÇO LONGO.
B4: COMPOSIÇÃO DE CUSTOS
B6: DADOS OPERACIONAIS
B7: Dias Efetivos Mensais: | C7: ='ADM - LOCAL'!C10 -> 25 | D7: dias
B8: Horas diárias | C8: 8 | D8: horas
B9: Minutos diários | C9: =C8*60 -> 480 | D9: minutos
B11: Dias Efetivos Mensais¹
B12: ¹ Os 25 dias correspondem a serviços realizados de segunda a sábado (365 dias – 52 domingos – 10 feriados, dividido por 12 meses).
B14: PRODUTIVIDADE
B15: Item | C15: Origem | E15: Comprimento (m) | F15: Largura (m) | G15: Altura (m) | H15: Área (m²) | I15: Taxa de Resíduo | J15: Volume de Resíduos Anual (m³)
B16: 1 | C16: Minicarregadeira | E16: =Produtividade!D28 -> 22952 | F16: =Produtividade!E28 -> 4.5 | G16: 0.01 | H16: =TRUNC(E16*F16,2) -> 103284 | I16: 1 | J16: =TRUNC(G16*H16*I16,2) -> 1032.84
B17: 2 | C17: Limpeza de rios | E17: =Produtividade!D26 -> 69800 | F17: =Produtividade!E26 -> 20 | G17: 0.01 | H17: =TRUNC(E17*F17,2) -> 1396000 | I17: 0.3 | J17: =TRUNC(G17*H17*I17,2) -> 4188
B18: 3 | C18: Limpeza baronesa | E18: =TRUNC('8. Comp 6. Remoção de Plantas A'!C24*'8. Comp 6. Remoção de Plantas A'!C26,2) -> 25600 | F18: ='8. Comp 6. Remoção de Plantas A'!C25 -> 20 | G18: 0.01 | H18: =TRUNC(E18*F18,2) -> 512000 | I18: 0.3 | J18: =TRUNC(G18*H18*I18,2) -> 1536
B19: 4 | C19: Limpeza canais | E19: =Produtividade!D27 -> 69000 | F19: =Produtividade!E27 -> 8 | G19: 0.01 | H19: =TRUNC(E19*F19,2) -> 552000 | I19: 0.3 | J19: =TRUNC(G19*H19*I19,2) -> 1656
B20: Total | J20: =TRUNC(SUM(J16:J19),2) -> 8412.84
J21: =(J20/12)/Produtividade!J20 -> 199.73504
B22: DIMENSIONAMENTO
B23: Produção da Equipe | C23: =Produtividade!D20 -> 168.15 | D23: m³/h
B24: Comprimento do Rio | C24: =Produtividade!D$40 -> 6003 | D24: m
B25: Largura do Rio | C25: =Produtividade!E$40 -> 8 | D25: m
B26: Altura do Rio | C26: =Produtividade!F$40 -> 0.1 | D26: m
B27: Área do Rio | C27: =Produtividade!G$40 -> 48024 | D27: m²
B28: Volume | C28: =Produtividade!H$40 -> 4802.4 | D28: m³
B29: Quant de Escavadeiras | C29: =Produtividade!M40 -> 1 | D29: unid.
B31: MÃO DE OBRA DIRETA
B32: Mão de Obra Direta | C32: Quantidade | D32: Reserva | E32: Total
B33: Operador de Máquinas Pesadas | C33: =C38 -> 1 | D33: 0 | E33: =C33+D33 -> 1
B34: Total de Funcionários | C34: - | D34: - | E34: =E33 -> 1
B36: VEÍCULOS
B37: Mão de Obra Direta | C37: Quantidade | D37: Reserva | E37: Total
B38: Escavadeira Hidráulica de Braço Longo | C38: =C29 -> 1 | D38: 0 | E38: =C38+D38 -> 1
B39: Total de Funcionários | C39: - | D39: - | E39: =E38 -> 1
B41: Operador | E41: Quant | G41: Valor Mensal | I41: Subtotal
B42: Salário Base | E42: 1 | F42: x R$ | G42: ='Insumos, Materiais e Equipament'!D7 -> 4628.72 | H42: = R$ | I42: =G42*E42 -> 4628.72
B43: Hora Extra | E43: 0 | F43: x R$ | G43: =G42/220*1.5 -> 31.559455 | H43: = R$ | I43: =E43*G43 -> 0
B44: Insalubridade (% Sal. Mín.) | D44: 0 | E44: 1 | F44: x R$ | G44: =G42*D44 -> 0 | H44: = R$ | I44: =G44*D44 -> 0
B45: Domingo/Feriados | F45: x R$ | G45: =G42/220*2*8 -> 336.63418 | H45: = R$ | I45: -
B46: Adicional Noturno | E46: 0 | F46: x R$ | G46: =G42*14.48% -> 670.23866 | H46: = R$ | I46: =G46*E46 -> 0
B47: Encargos Sociais | D47: ='Encargos Sociais'!C44 -> 0.8435 | H47: = R$ | I47: =D47*G42 -> 3904.3253
B48: Benefício Social | E48: 1 | F48: x R$ | G48: - | H48: = R$ | I48: -
...

Sheet 11. Comp 9.  Demolição e tratam
B3: =UPPER(Base!C15) -> DEMOLIÇÃO E TRATAMENTO DE RESÍDUOS DE ENTULHO COM ESPALHAMENTO EM VIAS DE VICINAIS (EXCLUSIVE TRANSPORTE).
B4: COMPOSIÇÃO DE CUSTOS
B6: DADOS OPERACIONAIS
B7: Dias Efetivos Mensais: | C7: ='ADM - LOCAL'!C10 -> 25 | D7: dias
B8: Horas diárias | C8: 8 | D8: horas
B9: Minutos diários | C9: =C8*60 -> 480 | D9: minutos
B11: Dias Efetivos Mensais¹
B12: ¹ Os 25 dias correspondem a serviços realizados de segunda a sábado (365 dias – 52 domingos – 10 feriados, dividido por 12 meses).
B14: DIMENSIONAMENTO | F14: MÃO DE OBRA
B15: Comprimento do Rio | C15: =Produtividade!D26 -> 69800 | D15: m | F15: =B20 -> Volume Mensal demolido/tratado² | G15: =C20 -> 999.99981 | H15: =D20 -> m³
B16: Largura do Rio | C16: =Produtividade!E$26 -> 20 | D16: m | F16: Produtividade | G16: =10*30 -> 300 | H16: m³/mês
B17: Altura do Rio | C17: =Produtividade!F$26 -> 0.1 | D17: m | F17: Quantidade funcionários | G17: =ROUNDUP(G15/G16,0) -> 4 | H17: und
B18: Área do Rio | C18: =Produtividade!G$26 -> 1396000 | D18: m²
B19: Volume mensal total | C19: =Produtividade!K26 -> 37261.567 | D19: m³
B20: Volume Mensal demolido/tratado² | C20: =C19*2.6837299% -> 999.99981 | D20: m³
B21: Frequência de Limpeza | C21: =Produtividade!I26 -> 3.203 | D21: und
B22: Quant de Escavadeira | C22: =Produtividade!N26 -> 2 | D22: R$
B23: Quant de Pá carregadeira | C23: =Produtividade!N33 -> 2 | D23: unid.
B25: Volume Mensal demolido/tratado²
B26: ² Corresponde a aproximadamente 3% do volume total considerando as duas margens do rio
B28: A – Equipamento | D28: Quantidade (hora) | E28: Utilização | G28: Custo Operacional | I28: Custo Total Mês
B29: ESCAVADEIRA HIDRÁULICA SOBRE ESTEIRAS, CAÇAMBA 1,20 M3, PESO OPERACIONAL 21 T, POTÊNCIA BRUTA 155 HP - CHP DIURNO. AF_06/2014 | D29: 100 | E29: Operativa | F29: Improdutiva | G29: Operativa | H29: Improdutiva | I29: =(D29*E30)*G30+(D29*F30)*H30 -> 20609.8
E30: 0.7 | F30: =1-E30 -> 0.3 | G30: ='Insumos, Materiais e Equipament'!D86 -> 253.78 | H30: ='Insumos, Materiais e Equipament'!D85 -> 94.84
B31: Quantidade de Máquinas | I31: =C22 -> 2
B32: Custo Mensal do Equipamento | I32: =I29*I31 -> 41219.6
B34: A – Equipamento | D34: Quantidade (hora) | E34: Utilização | G34: Custo Operacional | I34: Custo Total Mês
B35: PÁ CARREGADEIRA SOBRE RODAS, POTÊNCIA LÍQUIDA 128 HP, CAPACIDADE DA CAÇAMBA 1,7 A 2,8 M3, PESO OPERACIONAL 11632 KG - CHP DIURNO. AF_06/2014 | D35: 100 | E35: Operativa | F35: Improdutiva | G35: Operativa | H35: Improdutiva | I35: =(D35*E36)*G36+(D35*F36)*H36 -> 13758.1
E36: 0.7 | F36: =1-E36 -> 0.3 | G36: ='Insumos, Materiais e Equipament'!D88 -> 165.55 | H36: ='Insumos, Materiais e Equipament'!D87 -> 72.32
B37: Quantidade de Máquinas | I37: =C23 -> 2
B38: Custo Mensal do Equipamento | I38: =I35*I37 -> 27516.2
B40: A – Equipamento | D40: Quantidade (hora) | E40: Utilização | G40: Custo Operacional | I40: Custo Total Mês
B41: GRUPO GERADOR DIESEL, COM CARENAGEM, POTÊNCIA STANDART ENTRE 400 E 460 KVA, VELOCIDADE DE 1800 RPM, FREQUÊNCIA DE 60 HZ - CHP DIURNO. AF_05/2023 | D41: 50 | E41: Operativa | F41: Improdutiva | G41: Operativa | H41: Improdutiva | I41: =(D41*E42)*G42+(D41*F42)*H42 -> 16060.8
E42: 0.7 | F42: =1-E42 -> 0.3 | G42: ='Insumos, Materiais e Equipament'!D89 -> 458.88 | H42: 0
B43: Quantidade de Máquinas | I43: 1
B44: Custo Mensal do Equipamento | I44: =I41*I43 -> 16060.8
B46: A – Equipamento | D46: Quantidade (hora) | E46: Utilização | G46: Custo Operacional | I46: Custo Total Mês
B47: CARGA, MANOBRA E DESCARGA DE ENTULHO EM CAMINHÃO BASCULANTE 14 M³ - CARGA COM ESCAVADEIRA HIDRÁULICA (CAÇAMBA DE 0,80 M³ / 111 HP) E DESCARGA LIVRE (UNIDADE: M3). AF_07/2020 | D47: 100 | E47: Operativa | F47: Improdutiva | G47: Operativa | H47: Improdutiva | I47: =(D47*E48)*G48+(D47*F48)*H48 -> 910
E48: 1 | F48: =1-E48 -> 0 | G48: ='Insumos, Materiais e Equipament'!D90 -> 9.1 | H48: 0
B49: Quantidade de Máquinas | I49: 1
B50: Custo Mensal do Equipamento | I50: =I47*I49 -> 910
...

Sheet 12 e 13. Transporte de Resíduos
B3: TRANSPORTE DE RESÍDUOS E ASSOREAMENTO EM CAMINHÃO BASCULANTE
B4: COMPOSIÇÃO DE CUSTOS
B6: DADOS OPERACIONAIS
B7: Dias Efetivos Mensais: | C7: ='ADM - LOCAL'!C10 -> 25 | D7: dias
B8: Horas diárias | C8: 8 | D8: horas
B9: Minutos diários | C9: =C8*60 -> 480 | D9: minutos
B11: Dias Efetivos Mensais¹
B12: ¹ Os 25 dias correspondem a serviços realizados de segunda a sábado (365 dias – 52 domingos – 10 feriados, dividido por 12 meses).
B14: PRODUTIVIDADE
B15: Item | C15: Origem | E15: Comprimento (m) | F15: Largura (m) | G15: Altura (m) | H15: Volume (m³) | I15: Taxa de Resíduo | J15: Volume de Resíduos Anual (m³) | K15: Densidade aparente (ton/m³) | L15: Massa Anual (Ton) | M15: Massa Mensal (Ton)
B16: 1 | C16: Escavadeiras | E16: =Produtividade!D28 -> 22952 | F16: =Produtividade!E28 -> 4.5 | G16: 0.1 | H16: =TRUNC(E16*F16*G16,2) -> 10328.4 | I16: 0.15 | J16: =TRUNC(H16*I16,2) -> 1549.26 | K16: 1.32 | L16: =TRUNC(J16*K16,2) -> 2045.02 | M16: =L16/12 -> 170.41833
B17: 2 | C17: Limpeza de rios | E17: =Produtividade!D26 -> 69800 | F17: 8 | G17: 0.1 | H17: =TRUNC(E17*F17*G17,2) -> 55840 | I17: 0.15 | J17: =TRUNC(H17*I17,2) -> 8376 | K17: 1.32 | L17: =TRUNC(J17*K17,2) -> 11056.32 | M17: =L17/12 -> 921.36
B18: 3 | C18: Limpeza baronesa | E18: =TRUNC('8. Comp 6. Remoção de Plantas A'!C24*'8. Comp 6. Remoção de Plantas A'!C26,2) -> 25600 | F18: ='8. Comp 6. Remoção de Plantas A'!C25 -> 20 | G18: 0.1 | H18: =TRUNC(E18*F18*G18,2) -> 51200 | I18: 0.15 | J18: =TRUNC(H18*I18,2) -> 7680 | K18: 1.32 | L18: =TRUNC(J18*K18,2) -> 10137.6 | M18: =L18/12 -> 844.8
B19: 4 | C19: Limpeza canais | E19: =Produtividade!D27 -> 69000 | F19: =Produtividade!E27 -> 8 | G19: 0.1 | H19: =TRUNC(E19*F19*G19,2) -> 55200 | I19: 0.15 | J19: =TRUNC(H19*I19,2) -> 8280 | K19: 1.32 | L19: =TRUNC(J19*K19,2) -> 10929.6 | M19: =L19/12 -> 910.8
B20: 5 | C20: Dragagem de Rio (*) | E20: =Produtividade!D26*30% -> 20940 | F20: =20*30% -> 6 | G20: 0.2 | H20: =TRUNC(E20*F20*G20,2) -> 25128 | I20: 0.15 | J20: =TRUNC(H20*I20,2) -> 3769.2 | K20: 0.8 | L20: =TRUNC(J20*K20,2) -> 3015.36 | M20: =L20/12 -> 251.28
B21: TOTAL | J21: =TRUNC(SUM(J16:J20),2) -> 29654.46 | K21: - | L21: =TRUNC(SUM(L16:L20),2) -> 37183.9 | M21: =TRUNC(SUM(M16:M20),2) -> 3098.65
B23: Considera-se dragagem de rio como sendo em 40% de sua extensão total, onde este percentual reflete sobre o difícil acesso
B25: DIMENSIONAMENTO
B26: Densidade de Matéria Orgânica | C26: 1.32 | D26: Ton/m³
B27: Caminhões Basculantes 10M³ | C27: =ROUND(M21/(C28*C7*C30),0) -> 2 | D27: unidades
B28: Capacidade do Basculhante 10M³ | C28: =C29*1.5 -> 15 | D28: ton
B29: Capacidade volume | C29: 10 | D29: m³
B30: Quantidade de Viagens | C30: 4 | D30: viagens
B31: Produtividade x Turno: | C31: 80 | D31: m³/turno
B32: Média KM | C32: 50 | D32: KM
B33: KM/dia por Veículo | C33: =TRUNC(C32*C30,2) -> 200 | D33: KM
B34: Total de M³/mês | C34: =C33*C29 -> 2000 | D34: m³
B35: Total médio de até 30 KM/mês | C35: =C34*70% -> 1400 | D35: m³
B36: Total médio acima de 30 KM/mês | C36: =C34*30% -> 600 | D36: m³
B38: DENSIDADE DE MATÉRIA DE ASSOREAMENTO, REFERÊNCIA
B39: https://www.gov.br/ana/pt-br/assuntos/monitoramento-e-eventos-criticos/monitoramento-hidrologico/orientacoes-manuais/entidades/guia-avaliacao-assoreamento-reservatorios-aneel-2000.pdf
B41: DENSIDADE DE MATÉRIA ORGÂNICA, REFERÊNCIA
B42: https://www.revistasuninter.com/revistameioambiente/index.php/meioAmbiente/article/view/933/415view/933/415
B44: QUANTIDADE DE VIAGENS
B45: ²Quantidade de Viagens = tempo diário (8horas diárias) / tempo de ciclo (produtividade)
B47: MÉDIA DE KM
B48: ³50 KM = Média de ida e volta do caminhão aos pontos mais afastados e descarregando no aterro.
B51: DIMENSIONAMENTO ATÉ 30 KM
B52: Quantidade de Serviço | C52: =C35 -> 1400 | D52: m³
B53: Quantidade de Serviço (30 km) | C53: =C52*30 -> 42000 | D53: m³ x Km
...

Sheet ADM - LOCAL
B3: ADMINISTRAÇÃO LOCAL
B4: COMPOSIÇÃO DE CUSTOS
B6: DADOS OPERACIONAIS
B7: Dias no ano: | C7: 365 | D7: dias
B8: Domingos no ano: | C8: 52 | D8: domingos
B9: Feriados no ano: | C9: 13 | D9: dias
B10: Média dias normais: | C10: =(C7-C8-C9)/12 -> 25 | D10: dias/ mês
B11: Quantidade: | C11: 1 | D11: eq./mês
B13: I - PESSOAL, REMUNERAÇÃO E ENCARGOS SOCIAIS
B16: Função | C16: Referência | D16: Quantidade | E16: Custo Unitário | F16: Encargos Sociais | G16: Benefícios | H16: Uniformes | I16: Subtotal | J16: Total
B17: Vigia | C17: Sicro - P9827 | D17: 4 | E17: ='Insumos, Materiais e Equipament'!D12 -> 4596.75 | F17: ='Encargos Sociais'!$C$44*E17 -> 3877.3586 | G17: ='Insumos, Materiais e Equipament'!D$16 -> 375 | H17: ='Insumos, Materiais e Equipament'!D$24 -> 49.5 | I17: =SUM(E17:H17) -> 8898.6086 | J17: =D17*I17 -> 35594.435
B18: ='Insumos, Materiais e Equipament'!C9 -> Encarregado de operações | C18: SINAPI - 93572 | D18: 1 | E18: ='Insumos, Materiais e Equipament'!D9 -> 7730.38 | F18: ='Encargos Sociais'!$C$44*E18 -> 6520.5755 | G18: ='Insumos, Materiais e Equipament'!D$16 -> 375 | H18: ='Insumos, Materiais e Equipament'!D$24 -> 49.5 | I18: =SUM(E18:H18) -> 14675.456 | J18: =D18*I18 -> 14675.456
B20: TOTAL PESSOAL, REMUNERAÇÃO E ENCARGOS SOCIAIS | I20: = R$ | J20: =SUM(J17:J18) -> 50269.89
B22: II - MATERIAIS E CONSUMO
B24: Materias e Consumo | E24: Quant. | G24: Valor Unit. | I24: Subtotal
B25: Concessionária de Água | E25: 1 | F25: un./mês x R$ | G25: ='Insumos, Materiais e Equipament'!D70 -> 150 | H25: /un. | I25: =G25*E25 -> 150
B26: Concessionária de Energia | E26: =E25 -> 1 | F26: un./mês x R$ | G26: ='Insumos, Materiais e Equipament'!D71 -> 200 | H26: /un. | I26: =G26*E26 -> 200
B27: Locação da Garagem | E27: 1 | F27: un./mês x R$ | G27: ='Insumos, Materiais e Equipament'!D72 -> 4000 | H27: /un. | I27: =G27*E27 -> 4000
B28: Aquisição - Tenda 6x6 m - Canteiro itinerante (apoio) | E28: 1 | F28: un./mês x R$ | G28: ='Insumos, Materiais e Equipament'!D73 -> 6216.4286 | H28: /un. | I28: =G28*E28 -> 6216.4286
B29: Locação - Banheiro Químico STD - Canteiro itinerante (apoio) | E29: 1 | F29: un./mês x R$ | G29: ='Insumos, Materiais e Equipament'!D96 -> 107 | H29: /un. | I29: =G29*E29 -> 107
B30: Aquisição - Mesa com 4 cadeiras - Canteiro itinerante (apoio) | E30: 1 | F30: un./mês x R$ | G30: ='Insumos, Materiais e Equipament'!D74 -> 389.52 | H30: /un. | I30: =G30*E30 -> 389.52
B31: Material de Escritório (1% do custo da MDO) | E31: 1 | F31: un./mês x R$ | G31: =J20*0.01 -> 502.6989 | H31: /un. | I31: =G31*E31 -> 502.6989
B32: Custo Total Materias e Consumo | J32: =SUM(I25:I31) -> 11565.647
B34: Fornecimento Equip. Informatica (1) - Composição Auxiliar
B35: Televisão | E35: 1 | F35: un./mês x R$ | G35: ='Insumos, Materiais e Equipament'!D69/12 -> 225.16583 | H35: /un. | I35: =G35*E35 -> 225.16583
B36: Microcomputador / notebook | E36: =E35 -> 1 | F36: un./mês x R$ | G36: ='Insumos, Materiais e Equipament'!D68/12 -> 252.4725 | H36: /un. | I36: =G36*E36 -> 252.4725
B37: Impressora | E37: 1 | F37: un./mês x R$ | G37: ='Insumos, Materiais e Equipament'!D67/12 -> 161.38917 | H37: /un. | I37: =G37*E37 -> 161.38917
G38: Sub-total | I38: =SUM(I35:I37) -> 639.0275 | J38: =I38 -> 639.0275
B40: Amortização | E40: =1/60 -> 0.016666667 | F40: un./mês x R$ | G40: =I38 -> 639.0275 | H40: /un. | I40: =G40*E40 -> 10.650458
B41: Custo de Capital | E41: =G48 -> 0.0075 | F41: un./mês x R$ | G41: =I40 -> 10.650458 | H41: /un. | I41: =G41*E41 -> 0.079878437
B42: Custo Total | J42: =SUM(I40:I41) -> 10.730337
E44: C= [(2+(n-1).(k+1))/(24.n)].j
E45: k = residual = | G45: 0
E46: n = vida útil (anos) = | G46: 5
E47: j = juros % a.a = | G47: =Base!L21 -> 0.15
E48: C = coef. de remuneração | G48: =((2+(G46-1)*(G45+1))/(24*G46))*G47 -> 0.0075
B50: TOTAL MATERIAIS E CONSUMO | I50: = R$ | J50: =SUM(J42,J32,J38) -> 12215.405
B52: III - VEÍCULOS
B54: Veículos | D54: Quant. h | F54: Valor Unit.
B55: Veículos Administrativos | D55: 200 | E55: hrs x R$ | F55: ='Insumos, Materiais e Equipament'!D94 -> 236.97 | H55: 1 | I55: = R$ | J55: =F55*25 -> 5924.25
...

Sheet Produtividade
B3: COMPOSIÇÃO DE PRODUTIVIDADE DAS MÁQUINAS/VEÍCULOS
B4: VARIÁVEIS | D4: MÁQUINAS
D5: ESCAVADEIRA HIDRÁULICA SOBRE ESTEIRAS, CAÇAMBA 1,20 M3, PESO OPERACIONAL 21 T, POTÊNCIA BRUTA 155 HP - CHP DIURNO. AF_06/2014 | F5: RETROESCAVADEIRA SOBRE RODAS COM CARREGADEIRA CAÇAMBA 0,79 M³ - 72HP | H5: MINICARREGADEIRA SOBRE RODAS, CAPACIDADE 646 Kg - 47 HP | J5: CAMINHÃO BASCULANTE 6 M3, PESO BRUTO TOTAL 16.000 KG, CARGA ÚTIL MÁXIMA 13.071 KG, DISTÂNCIA ENTRE EIXOS 4,80 M, POTÊNCIA 230 CV INCLUSIVE CAÇAMBA METÁLICA - CHP DIURNO. AF_06/2014 | L5: Unidade
B6: A | C6: Capacidade | D6: 1.2 | F6: 0.79 | H6: 0.6 | J6: 6 | L6: m³
B7: B | C7: Fator de carga | D7: 1 | F7: 0.9 | H7: 0.9 | J7: 1 | L7: -
B8: C | C8: Fator de conversão | D8: 0.8 | F8: 0.8 | H8: 0.72 | J8: 0.8 | L8: -
B9: D | C9: Fator de Eficiência | D9: 0.83 | F9: 0.83 | H9: 0.83 | J9: 0.83 | L9: -
B10: E | C10: Tempo fixo | D10: - | F10: - | H10: - | J10: 8 | L10: min
B11: F | C11: Tempo de ida | D11: - | F11: - | H11: - | J11: 26.5 | L11: min
B12: G | C12: Tempo de retorno | D12: 0.27 | F12: 0.5 | H12: 0.5 | J12: 26.5 | L12: min | M12: OBS* Tempo de ciclo com base na distância de bairros mais afastados em relação ao aterro sanitário
B13: H | C13: Tempo do ciclo | D13: =SUM(D10:D12) -> 0.27 | F13: =SUM(F10:F12) -> 0.5 | H13: =SUM(H10:H12) -> 0.5 | J13: =SUM(J10:J12) -> 61 | L13: min
B15: Produção Horária (m³/h) | D15: P = 60 . A . B . C . (D/H)
D16: =TRUNC(60*D6*D7*D8*(D9/D13),1) -> 177 | F16: =TRUNC(60*F6*F7*F8*(F9/F13),1) -> 56.6 | H16: =TRUNC(60*H6*H7*H8*(H9/H13),1) -> 38.7 | J16: =TRUNC(60*J6*J7*J8*(J9/J13),1) -> 3.9 | L16: m³/h
B17: Quant. de Equipamento | D17: 1 | F17: 1 | H17: 1 | J17: 1 | L17: m³/h
B18: Utilização Operativa | D18: 0.95 | F18: 0.95 | H18: 0.95 | J18: 0.9 | L18: m³/h
B19: Utilização Improdutiva | D19: 0.05 | F19: 0.05 | H19: 0.05 | J19: 0.1 | L19: m³/h
B20: Produção da equipe | D20: =D16*D17*D18 -> 168.15 | F20: =F16*F17*F18 -> 53.77 | H20: =H16*H17*H18 -> 36.765 | J20: =J16*J17*J18 -> 3.51 | L20: m³/h
B22: Fonte | C22: https://www.gov.br/dnit/pt-br/assuntos/planejamento-e-pesquisa/custos-e-pagamentos/custos-e-pagamentos-dnit/sistemas-de-custos/sicro_antiga/manuais-de-custos-de-infraestrutura-de-transportes/volume-12-producoes-de-equipes-mecanicas.rar/view
B24: Equipamento | C24: Localidade | D24: LEITO | I24: Limpeza | L24: Carga horária produtiva | N24: Frota
D25: Comprimento (m) | E25: Largura (m) | F25: Altura (m) | G25: Área (m²) | H25: Volume (m³) | I25: Frequência | J25: Volume Anual de Limpeza | K25: Volume Mensal de Limpeza | L25: H/ano | M25: H/mês | N25: Quant.
B26: Escavadeira Hidráulica | C26: Rio | D26: =34900*2 -> 69800 | E26: 20 | F26: 0.1 | G26: =D26*E26 -> 1396000 | H26: =D26*E26*F26 -> 139600 | I26: 3.203 | J26: =I26*H26 -> 447138.8 | K26: =J26/12 -> 37261.567 | L26: =ROUND(J26/$D$20,0) -> 2659 | M26: =L26/12 -> 221.58333 | N26: =ROUNDUP(M26/200,0) -> 2
B27: Retroescavadeira | C27: Córregos | D27: =34500*2 -> 69000 | E27: 8 | F27: 0.1 | G27: =D27*E27 -> 552000 | H27: =D27*E27*F27 -> 55200 | I27: 3.260699 | J27: =I27*H27 -> 179990.58 | K27: =J27/12 -> 14999.215 | L27: =ROUND(J27/F20,0) -> 3347 | M27: =ROUND(L27/12,0) -> 279 | N27: =ROUNDUP(M27/200,0) -> 2
B28: Minicarregadeira | C28: Canais edificados | D28: 22952 | E28: 4.5 | F28: 0.1 | G28: =D28*E28 -> 103284 | H28: =D28*E28*F28 -> 10328.4 | I28: 4.5 | J28: =I28*H28 -> 46477.8 | K28: =J28/12 -> 3873.15 | L28: =ROUND(J28/H20,0) -> 1264 | M28: =L28/12 -> 105.33333 | N28: =ROUNDUP(M28/200,0) -> 1
B29: Escavadeira Hidráulica Anfíbia | C29: Rio | D29: =34900 -> 34900 | E29: 20 | F29: 0.1 | G29: =D29*E29 -> 698000 | H29: =D29*E29*F29 -> 69800 | I29: 4.5 | J29: =I29*H29 -> 314100 | K29: =J29/12 -> 26175 | L29: =ROUND(J29/D20,0) -> 1868 | M29: =L29/12 -> 155.66667 | N29: =ROUNDUP(M29/200,0) -> 1
B30: Escavadeira Hidráulica de braço longo | C30: Rio | D30: =34900 -> 34900 | E30: 20 | F30: 0.1 | G30: =D30*E30 -> 698000 | H30: =D30*E30*F30 -> 69800 | I30: 4.5 | J30: =I30*H30 -> 314100 | K30: =J30/12 -> 26175 | L30: =ROUND(J30/D20,0) -> 1868 | M30: =L30/12 -> 155.66667 | N30: =ROUNDUP(M30/200,0) -> 1
B31: Trator de Esteiras | C31: Rio | D31: =34900*40% -> 13960 | E31: 20 | F31: 0.1 | G31: =D31*E31 -> 279200 | H31: =D31*E31*F31 -> 27920 | I31: 4.5 | J31: =I31*H31 -> 125640 | K31: =J31/12 -> 10470 | L31: =ROUND(J31/F20,0) -> 2337 | M31: =L31/12 -> 194.75 | N31: =ROUNDUP(M31/200,0) -> 1
B32: Draga | C32: Rio | D32: =34900 -> 34900 | E32: 20 | F32: 0.25 | G32: =D32*E32 -> 698000 | H32: =D32*E32*F32 -> 174500 | I32: 1.857 | J32: =I32*H32 -> 324046.5 | K32: =J32/12 -> 27003.875 | L32: =ROUND(J32/150,0) -> 2160 | M32: =L32/12 -> 180 | N32: =ROUNDUP(M32/200,0) -> 1
B33: Pá Carregadeira | C33: Rio | D33: =34900*2 -> 69800 | E33: 20 | F33: 0.1 | G33: =D33*E33 -> 1396000 | H33: =D33*E33*F33 -> 139600 | I33: 3.203 | J33: =I33*H33 -> 447138.8 | K33: =J33/12 -> 37261.567 | L33: =ROUND(J33/150,0) -> 2981 | M33: =L33/12 -> 248.41667 | N33: =ROUNDUP(M33/200,0) -> 2
B35: Equipamento | C35: Localidade | D35: LEITO | I35: Limpeza | M35: Frota
D36: Comprimento (m) | E36: Largura (m) | F36: Altura (m) | G36: Área (m²) | H36: Volume (m³) | I36: Frequência | J36: Volume x Frequência | K36: Limite de Horas/mês | L36: Limite de m³ por máquina | M36: Quant.
B37: Escavadeira Hidráulica Anfíbia | C37: Rio | D37: =34900*40% -> 13960 | E37: 20 | F37: 0.1 | G37: =D37*E37 -> 279200 | H37: =D37*E37*F37 -> 27920 | I37: 1 | J37: =H37*I37 -> 27920 | K37: 200 | L37: =K37*D$20 -> 33630 | M37: =ROUNDUP(H37*I37/L37,0) -> 1
B38: Escavadeira Hidráulica de braço longo | C38: Rio | D38: =34900*40% -> 13960 | E38: 20 | F38: 0.1 | G38: =D38*E38 -> 279200 | H38: =D38*E38*F38 -> 27920 | I38: 1 | J38: =H38*I38 -> 27920 | K38: 200 | L38: =K38*D20 -> 33630 | M38: =ROUNDUP(H38*I38/L38,0) -> 1
B39: Escavadeira Hidráulica Anfíbia | C39: Córregos | D39: =34500*7.61% -> 2625.45 | E39: 8 | F39: 0.1 | G39: =D39*E39 -> 21003.6 | H39: =D39*E39*F39 -> 2100.36 | I39: 3 | J39: =H39*I39 -> 6301.08 | K39: 200 | L39: =K39*D$20 -> 33630 | M39: =ROUNDUP(H39*I39/L39,0) -> 1
B40: Escavadeira Hidráulica de braço longo | C40: Córregos | D40: =34500*17.4% -> 6003 | E40: 8 | F40: 0.1 | G40: =D40*E40 -> 48024 | H40: =D40*E40*F40 -> 4802.4 | I40: 3 | J40: =H40*I40 -> 14407.2 | K40: 200 | L40: =K40*D$20 -> 33630 | M40: =ROUNDUP(H40*I40/L40,0) -> 1
B42: OBS* | C42: Foi considerada uma área de difícil acesso de 40%.
B44: CHP por Máquina / Mês | C44: CÓDIGO SINAPI
B45: =M26/N26 -> 110.79167 | C45: SINAPI 88907 | E45: 253.78
B46: =M27/N27 -> 139.5 | C46: SINAPI 5875 | E46: 132.96
B47: =M28/N28 -> 105.33333 | C47: SINAPI 90692 | E47: 136.41
B49: DETERMINAÇÃO DAS ALTURAS ¹
...

Sheet BDI - Desonerado
B3: COMPOSIÇÃO DE BDI
B4: DESONERADO
B6: COD | C6: DESCRIÇÃO | D6: % | F6: Não ultrapassar a faixa de limites abaixo, caso tenha duvida sobre o tipo da obra, realizar consulta no ACORDÃO 2622/2013-TCU ou pedir orientações pra alguem da GIDUR.
C7: Despesas Indiretas
B8: AC | C8: Administração central | D8: 0.0343 | F8: Para o tipo de obra “Construção de Edifícios”: | K8: Para o tipo de obra “Construção de Redes de Abastecimento de Água, Coleta de Esgoto e Construções Correlatas”:
B9: DF | C9: Despesas financeiras | D9: 0.0094 | F9: PARCELA DO BDI | G9: 1 Quartil | H9: Médio | I9: 3 Quartil | K9: PARCELA DO BDI | L9: 1 Quartil | M9: Médio | N9: 3 Quartil
