Workbook

Sheet Resumo
A1: RESUMO DA PLANILHA ESTIMATIVA DE REFERÊNCIA
A3: =BDI!B2 -> OBJETO: SERVIÇOS DE MONTAGEM E DESMONTAGEM DE ESTRUTURA, SOM E ILUMINAÇÃO INCLUINDO FORNECIMENTO, INSTALAÇÃO E MANUTENÇÃO; E SERVIÇOS DE CAPTAÇÃO E TRANSMISSÃO DE IMAGENS - SÃO JOÃO 2026
A4: ITEM | B4: DESCRIÇÃO | C4: VALOR TOTAL
A5: 1. | B5: =VLOOKUP(A5,'Anexo A'!B:I,3,0) -> PALCO PRINCIPAL | C5: =VLOOKUP(A5,'Anexo A'!B:I,8,0) -> 0
A6: 2. | B6: =VLOOKUP(A6,'Anexo A'!B:I,3,0) -> ESTAÇÃO FERROVIÁRIA | C6: =VLOOKUP(A6,'Anexo A'!B:I,8,0) -> 0
A7: 3. | B7: =VLOOKUP(A7,'Anexo A'!B:I,3,0) -> ALTO DO MOURA | C7: =VLOOKUP(A7,'Anexo A'!B:I,8,0) -> 0
A8: 4. | B8: =VLOOKUP(A8,'Anexo A'!B:I,3,0) -> ILUMINAÇÃO CENICA E DE SERVIÇO | C8: =VLOOKUP(A8,'Anexo A'!B:I,8,0) -> 0
A9: 5. | B9: =VLOOKUP(A9,'Anexo A'!B:I,3,0) -> PAINEL DE LED E DELAYS | C9: =VLOOKUP(A9,'Anexo A'!B:I,8,0) -> 0
A10: 6. | B10: =VLOOKUP(A10,'Anexo A'!B:I,3,0) -> SERVIÇOS DE CAPTAÇÃO E TRANSMISSÃO DE IMAGENS | C10: =VLOOKUP(A10,'Anexo A'!B:I,8,0) -> 0
A11: 7. | B11: =VLOOKUP(A11,'Anexo A'!B:I,3,0) -> MANUTENÇÃO CIVIL | C11: =VLOOKUP(A11,'Anexo A'!B:I,8,0) -> 0
B13: TOTAL | C13: =SUM(C5:C12) -> 0

Sheet MC
C2: MC - MEMÓRIA DE CÁLCULO
B3: =[1]DADOS!G37 -> OBJETO | G3: =[1]DADOS!K31 -> LOCALIDADE / ENDEREÇO
B4: =[1]DADOS!G38 -> PISTA DE MOTOCROSS | G4: =[1]DADOS!K32 -> GONÇALVES FERREIRA
B6: ITEM | C6: DESCRIÇÃO | D6: UND | E6: QTD
E7: taxa/kg/repet. | F7: comprimento | G7: largura | H7: altura | I7: área | J7: volume | K7: TOTAL
B8: ='Anexo A'!B5 -> 1. | C8: ='Anexo A'!D5 -> PALCO PRINCIPAL
B9: ='Anexo A'!B12 -> 1.1.6 | C9: ='Anexo A'!D12 -> PÓRTICOS
B10: ='Anexo A'!B13 -> 1.1.6.1 | C10: ='Anexo A'!D13 -> 26 PÓRTICO TIPO II - USO GERAL | D10: ='Anexo A'!E13 -> MÊS | K10: =TRUNC(SUM(K11:K25),2) -> 18
C11: PORTÃO DE ENTRADA ASSAI | E11: 2 | K11: =PRODUCT(E11:J11) -> 2
C12: ACESSO BANHEIRO ASSAI | E12: 1 | K12: =PRODUCT(E12:J12) -> 1
C13: ENTRADA R. MANOEL SURUBIM - ONIBUS | E13: 1 | K13: =PRODUCT(E13:J13) -> 1
C14: BANHEIRO PAVILHÃO | E14: 1 | K14: =PRODUCT(E14:J14) -> 1
C15: ACESSO BANHEIRO MUSEU | E15: 2 | K15: =PRODUCT(E15:J15) -> 2
C16: ACESSO PUBLICO GERAL MUSEU | E16: 2 | K16: =PRODUCT(E16:J16) -> 2
C17: ACESSO SETOR MESAS | E17: 1 | K17: =PRODUCT(E17:J17) -> 1
C18: ACESSO SERVIÇOS | E18: 1 | K18: =PRODUCT(E18:J18) -> 1
C19: ACESSO IMPRENSA | E19: 1 | K19: =PRODUCT(E19:J19) -> 1
C20: ACESSO ENTRADA/BANHEIROS | E20: 3 | K20: =PRODUCT(E20:J20) -> 3
C21: ACESSO CAMAROTES | E21: 1 | K21: =PRODUCT(E21:J21) -> 1
C22: ACESSO PDC | E22: 1 | K22: =PRODUCT(E22:J22) -> 1
C23: ACESSO PALCO | E23: 1 | K23: =PRODUCT(E23:J23) -> 1
K24: =PRODUCT(E24:J24) -> 0
K25: =PRODUCT(E25:J25) -> 0
B26: ='Anexo A'!B20 -> 1.1.9 | C26: ='Anexo A'!D20 -> FECHAMENTOS/DISCIPLINADORES/BARRICADAS
B27: ='Anexo A'!B21 -> 1.1.9.1 | C27: ='Anexo A'!D21 -> 1.720 METROS LINEARES DE FECHAMENTO | D27: ='Anexo A'!E21 -> MÊS | K27: =TRUNC(SUM(K28:K38),2) -> 512.67
C28: ACESSO COI | F28: =41.23 -> 41.23 | K28: =PRODUCT(E28:J28) -> 41.23
C29: RUA MANOEL SURUBIM | F29: =72.75+131.36+10.24+11.93+8.46+10.04 -> 244.78 | K29: =PRODUCT(E29:J29) -> 244.78
C30: FUNDO RESTAURANTE | F30: =9.92+9.99+9.98+23.76 -> 53.65 | K30: =PRODUCT(E30:J30) -> 53.65
C31: LATERAL CAMAROTE INSTITUCIONAL | F31: =20.43 -> 20.43 | K31: =PRODUCT(E31:J31) -> 20.43
C32: CAMAROTE | F32: =33.42+19.37 -> 52.79 | K32: =PRODUCT(E32:J32) -> 52.79
C33: BANHEIRO PAVILHÃO | F33: 9.25 | K33: =PRODUCT(E33:J33) -> 9.25
C34: IMPRENSA | F34: =21.45+52.78+16.31 -> 90.54 | K34: =PRODUCT(E34:J34) -> 90.54
K35: =PRODUCT(E35:J35) -> 0
K36: =PRODUCT(E36:J36) -> 0
K37: =PRODUCT(E37:J37) -> 0
K38: =PRODUCT(E38:J38) -> 0
B39: ='Anexo A'!B22 -> 1.1.9.2 | C39: ='Anexo A'!D22 -> 1040 METROS LINEARES DE DISCIPLINADORES | D39: ='Anexo A'!E22 -> MÊS | K39: =TRUNC(SUM(K40:K49),2) -> 430.81
C40: MUSEU | F40: 82.01 | K40: =PRODUCT(E40:J40) -> 82.01
C41: FUNDO RESTAURANTE | F41: =23.97+29.97 -> 53.94 | K41: =PRODUCT(E41:J41) -> 53.94
C42: RUA SÃO VICENTE/BANHEIROS | F42: 61.98 | K42: =PRODUCT(E42:J42) -> 61.98
...

Sheet TESTE Anexo A (2)
A1: PLANILHA ESTIMATIVA DE REFERÊNCIA
A3: SERVIÇOS DE MONTAGEM E DESMONTAGEM DE ESTRUTURA, SOM E ILUMINAÇÃO INCLUINDO FORNECIMENTO, INSTALAÇÃO E MANUTENÇÃO; E SERVIÇOS DE CAPTAÇÃO E TRANSMISSÃO DE IMAGENS - SÃO JOÃO 2024
A4: ITEM | B4: REFERÊNCIA | C4: DESCRIÇÃO | D4: UNIDADE | E4: QUANT | F4: LOCAÇÃO | G4: M.OBRA | H4: VALOR TOTAL
A5: 1. | C5: INFRAESTRUTURA | H5: =SUM(H6,H73,H135) -> #REF!
A6: 1.1 | C6: INFRAESTRUTURA PALCO PRINCIPAL | H6: =SUM(H7,H8,H9,H10,H11,H12,H13,H23,H24,H30,,H25,H32,H37,H41,H44,H46,H49,H52,H58,H61) -> #REF!
A7: 1.1 | B7: COMPOSIÇÃO | C7: PALCO GRANDE PORTE COM COMPLEMENTOS | D7: MÊS | E7: 1 | F7: ='Composição UNIT.'!H25 -> 0 | G7: ='Composição UNIT.'!H15 -> 0 | H7: =G7+F7 -> 0
A8: 1.2 | B8: COMPOSIÇÃO | C8: PALCO MÉDIO PORTE COM COMPLEMENTOS | D8: MÊS | E8: 1 | F8: ='Composição UNIT.'!H181 -> 0 | G8: ='Composição UNIT.'!H171 -> 0 | H8: =G8+F8 -> 0
A9: 1.3 | B9: COMPOSIÇÃO | C9: POLO ALTO DO MOURA | D9: MÊS | E9: 1 | F9: ='Composição UNIT.'!H864 -> 0 | G9: ='Composição UNIT.'!H854 -> 0 | H9: =G9+F9 -> 0
A10: 1.4 | B10: COMPOSIÇÃO | C10: CAMAROTE TIPO A | D10: MÊS | E10: 1 | F10: ='Composição UNIT.'!H51 -> 0 | G10: ='Composição UNIT.'!H41 -> 0 | H10: =G10+F10 -> 0
A11: 1.5 | B11: COMPOSIÇÃO | C11: CAMAROTE TIPO B | D11: MÊS | E11: 1 | F11: ='Composição UNIT.'!H77 -> 0 | G11: ='Composição UNIT.'!H67 -> 87471.44 | H11: =G11+F11 -> 87471.44
A12: 1.6 | B12: COMPOSIÇÃO | C12: CAMAROTE TIPO C COM RESTAURANTES | D12: MÊS | E12: 1 | F12: ='Composição UNIT.'!H103 -> 0 | G12: ='Composição UNIT.'!H93 -> 0 | H12: =G12+F12 -> 0
A13: 1.7 | C13: PAVILHÕES ESTAÇÃO FERROVIARIA | H13: =SUM(H14:H22) -> #REF!
A14: 1.7.1 | B14: COMPOSIÇÃO | C14: POLO MESTRE CAMARÃO | D14: MÊS | E14: 1 | F14: ='Composição UNIT.'!H207 -> 0 | G14: ='Composição UNIT.'!H197 -> 0 | H14: =F14+G14 -> 0
A15: 1.7.2 | B15: COMPOSIÇÃO | C15: PAVILHÃO TIPO FOOD TRUCKS | D15: MÊS | E15: 1 | F15: ='Composição UNIT.'!H233 -> 0 | G15: ='Composição UNIT.'!H223 -> 0 | H15: =F15+G15 -> 0
A16: 1.7.3 | B16: COMPOSIÇÃO | C16: PAVILHÃO IGREJA CENOGRÁFICA | D16: MÊS | E16: 1 | F16: ='Composição UNIT.'!#REF! -> #REF! | G16: ='Composição UNIT.'!#REF! -> #REF! | H16: =F16+G16 -> #REF!
A17: 1.7.4 | B17: COMPOSIÇÃO | C17: PAVILHÃO ATIVAÇÃO | D17: MÊS | E17: 1 | F17: ='Composição UNIT.'!H155 -> 0 | G17: ='Composição UNIT.'!H145 -> 0 | H17: =F17+G17 -> 0
A18: 1.7.5 | B18: COMPOSIÇÃO | C18: PAVILHÃO POLO DO REPENTE / CASA DO FORRÓ | D18: MÊS | E18: 1 | F18: ='Composição UNIT.'!H259 -> 0 | G18: ='Composição UNIT.'!H249 -> 0 | H18: =F18+G18 -> 0
A19: 1.7.6 | B19: COMPOSIÇÃO | C19: PAVILHÃO POLO MONTE BOM JESUS | D19: MÊS | E19: 1 | F19: ='Composição UNIT.'!H285 -> 0 | G19: ='Composição UNIT.'!H275 -> 0 | H19: =F19+G19 -> 0
A20: 1.7.7 | B20: COMPOSIÇÃO | C20: PAVILHÃO MERCADO DE ARTESANATO | D20: MÊS | E20: 1 | F20: ='Composição UNIT.'!H311 -> 0 | G20: ='Composição UNIT.'!H301 -> 0 | H20: =F20+G20 -> 0
A21: 1.7.8 | B21: COMPOSIÇÃO | C21: PAVILHÃO MERCADO CRIATIVO | D21: MÊS | E21: 1 | F21: ='Composição UNIT.'!H337 -> 0 | G21: ='Composição UNIT.'!H327 -> 0 | H21: =F21+G21 -> 0
A22: 1.7.9 | B22: COMPOSIÇÃO | C22: COMBOIO DA CULTURA | D22: MÊS | E22: 1 | F22: ='Composição UNIT.'!H520 -> 0 | G22: ='Composição UNIT.'!H510 -> 0 | H22: =F22+G22 -> 0
A23: 1.8 | B23: COMPOSIÇÃO | C23: PAVILHÃO QUADRILHA | D23: MÊS | E23: 1 | F23: ='Composição UNIT.'!H129 -> 0 | G23: ='Composição UNIT.'!H119 -> 0 | H23: =G23+F23 -> 0
A24: 1.9 | B24: COMPOSIÇÃO | C24: POLO JUAREZ SANTIAGO | D24: MÊS | E24: 1 | F24: ='Composição UNIT.'!#REF! -> #REF! | G24: ='Composição UNIT.'!#REF! -> #REF! | H24: =G24+F24 -> #REF!
A25: 1.10 | C25: PÓRTICOS | H25: =SUM(H26:H29) -> #REF!
A26: 1.10.1 | B26: COMPOSIÇÃO | C26: PÓRTICO TIPO I | D26: MÊS | E26: 1 | F26: ='Composição UNIT.'!H442 -> 0 | G26: ='Composição UNIT.'!H432 -> 0 | H26: =F26+G26 -> 0
A27: 1.10.2 | B27: COMPOSIÇÃO | C27: PÓRTICO TIPO II | D27: MÊS | E27: 1 | F27: ='Composição UNIT.'!H468 -> 0 | G27: ='Composição UNIT.'!H458 -> 0 | H27: =F27+G27 -> 0
A28: 1.10.3 | B28: COMPOSIÇÃO | C28: PÓRTICO TIPO III | D28: MÊS | E28: 1 | F28: ='Composição UNIT.'!#REF! -> #REF! | G28: ='Composição UNIT.'!#REF! -> #REF! | H28: =F28+G28 -> #REF!
A29: 1.10.4 | B29: COMPOSIÇÃO | C29: PÓRTICO TIPO IV | D29: MÊS | E29: 1 | F29: ='Composição UNIT.'!#REF! -> #REF! | G29: ='Composição UNIT.'!#REF! -> #REF! | H29: =F29+G29 -> #REF!
A30: 1.11 | C30: TORRE DE TRANSMISSÃO DOS SHOWS | H30: =H31 -> #REF!
A31: 1.11.1 | B31: COMPOSIÇÃO | C31: TORRE TIPO I | D31: MÊS | E31: 1 | F31: ='Composição UNIT.'!#REF! -> #REF! | G31: ='Composição UNIT.'!#REF! -> #REF! | H31: =G31+F31 -> #REF!
A32: 1.12 | C32: PASSARELAS | H32: =SUM(H33:H36) -> #REF!
A33: 1.12.1 | B33: COMPOSIÇÃO | C33: 01 PASSARELA TIPO I | D33: MÊS | E33: 1 | F33: ='Composição UNIT.'!H706 -> 0 | G33: ='Composição UNIT.'!H696 -> 0 | H33: =G33+F33 -> 0
A34: 1.12.2 | B34: COMPOSIÇÃO | C34: 01 PASSARELA TIPO II | D34: MÊS | E34: 1 | F34: ='Composição UNIT.'!H732 -> 0 | G34: ='Composição UNIT.'!H722 -> 0 | H34: =G34+F34 -> 0
A35: 1.12.3 | B35: COMPOSIÇÃO | C35: 01 PASSARELA TIPO III | D35: MÊS | E35: 1 | F35: ='Composição UNIT.'!#REF! -> #REF! | G35: ='Composição UNIT.'!#REF! -> #REF! | H35: =G35+F35 -> #REF!
A36: 1.12.4 | B36: COMPOSIÇÃO | C36: 01 PASSARELA TIPO IV | D36: MÊS | E36: 1 | F36: ='Composição UNIT.'!#REF! -> #REF! | G36: ='Composição UNIT.'!#REF! -> #REF! | H36: =G36+F36 -> #REF!
A37: 1.13 | C37: FECHAMENTOS/DISCIPLINADORES/BARRICADAS | H37: =SUM(H38:H40) -> 0
A38: 1.13.1 | B38: COMPOSIÇÃO | C38: 3.000 metros lineares de FECHAMENTO | D38: MÊS | E38: 1 | F38: ='Composição UNIT.'!H573 -> 0 | G38: ='Composição UNIT.'!H563 -> 0 | H38: =G38+F38 -> 0
A39: 1.13.2 | B39: COMPOSIÇÃO | C39: 2.500 metros de DISCIPLINADORES | D39: MÊS | E39: 1 | F39: ='Composição UNIT.'!H599 -> 0 | G39: ='Composição UNIT.'!H589 -> 0 | H39: =G39+F39 -> 0
A40: 1.13.3 | B40: COMPOSIÇÃO | C40: 450 metros lineares de BARRICADAS | D40: MÊS | E40: 1 | F40: ='Composição UNIT.'!H625 -> 0 | G40: ='Composição UNIT.'!H615 -> 0 | H40: =G40+F40 -> 0
A41: 1.14 | C41: BARRACAS | H41: =SUM(H42:H43) -> 0
...

Sheet Anexo A
B1: PLANILHA ESTIMATIVA DE REFERÊNCIA
B3: =BDI!B2 -> OBJETO: SERVIÇOS DE MONTAGEM E DESMONTAGEM DE ESTRUTURA, SOM E ILUMINAÇÃO INCLUINDO FORNECIMENTO, INSTALAÇÃO E MANUTENÇÃO; E SERVIÇOS DE CAPTAÇÃO E TRANSMISSÃO DE IMAGENS - SÃO JOÃO 2026
B4: ITEM | C4: REFERÊNCIA | D4: DESCRIÇÃO | E4: UNIDADE | F4: QUANT | G4: LOCAÇÃO | H4: M.OBRA | I4: VALOR TOTAL
B5: 1. | D5: PALCO PRINCIPAL | I5: =SUM(I6,I47,I137) -> 0
B6: 1.1 | D6: INFRAESTRUTURA | I6: =SUM(I7,I8,I9,I10,I11,I12,I14,I17,I20,I24,I27,I29,I32,I34,I40,I43) -> 0
B7: 1.1.1 | C7: COMPOSIÇÃO 01 | D7: PALCO GRANDE PORTE COM COMPLEMENTOS (PRINCIPAL) | E7: MÊS | F7: 1 | G7: ='Composição UNIT.'!H25 -> 0 | H7: ='Composição UNIT.'!H15 -> 0 | I7: =H7+G7 -> 0
B8: 1.1.2 | C8: COMPOSIÇÃO 02 | D8: CAMAROTE INSTITUCIONAL | E8: MÊS | F8: 1 | G8: ='Composição UNIT.'!H51 -> 0 | H8: ='Composição UNIT.'!H41 -> 0 | I8: =H8+G8 -> 0
B9: 1.1.3 | C9: COMPOSIÇÃO 03 | D9: PAVILHÃO RETAURANTES | E9: MÊS | F9: 1 | G9: ='Composição UNIT.'!H103 -> 0 | H9: ='Composição UNIT.'!H93 -> 0 | I9: =H9+G9 -> 0
B10: 1.1.4 | C10: COMPOSIÇÃO 04 | D10: CAMAROTE IMPRENSA | E10: MÊS | F10: 1 | G10: ='Composição UNIT.'!H129 -> 0 | H10: ='Composição UNIT.'!H119 -> 0 | I10: =H10+G10 -> 0
B11: 1.1.5 | C11: COMPOSIÇÃO 05 | D11: PAVILHÃO PRAÇA DE ALIMENTAÇÃO | E11: MÊS | F11: 1 | G11: ='Composição UNIT.'!H155 -> 0 | H11: ='Composição UNIT.'!H145 -> 0 | I11: =ROUND(G11+H11,2) -> 0
B12: 1.1.6 | D12: PÓRTICOS | I12: =SUM(I13) -> 0
B13: 1.1.6.1 | C13: COMPOSIÇÃO 20 | D13: 26 PÓRTICO TIPO II - USO GERAL | E13: MÊS | F13: 1 | G13: ='Composição UNIT.'!H468*26 -> 0 | H13: ='Composição UNIT.'!H458*26 -> 0 | I13: =ROUND(G13+H13,2) -> 0
B14: 1.1.7 | D14: TORRE DE TRANSMISSÃO DOS SHOWS | I14: =SUM(I15:I16) -> 0
B15: 1.1.7.1 | C15: COMPOSIÇÃO 22 | D15: 02 TORRE TRANSMISSÃO E SHOWS TIPO I | E15: MÊS | F15: 1 | G15: ='Composição UNIT.'!H520*2 -> 0 | H15: ='Composição UNIT.'!H510*2 -> 0 | I15: =ROUND(G15+H15,2) -> 0
B16: 1.1.7.2 | C16: COMPOSIÇÃO 23 | D16: 02 TORRE TRANSMISSÃO E SHOWS TIPO II | E16: MÊS | F16: 1 | G16: ='Composição UNIT.'!H546*2 -> 0 | H16: ='Composição UNIT.'!H536*2 -> 0 | I16: =ROUND(G16+H16,2) -> 0
B17: 1.1.8 | D17: PASSARELAS | I17: =SUM(I18:I19) -> 0
B18: 1.1.8.1 | C18: COMPOSIÇÃO 29 | D18: 01 PASSARELA TIPO I | E18: MÊS | F18: 1 | G18: ='Composição UNIT.'!H706 -> 0 | H18: ='Composição UNIT.'!H696 -> 0 | I18: =ROUND(G18+H18,2) -> 0
B19: 1.1.8.2 | C19: COMPOSIÇÃO 30 | D19: 01 PASSARELA TIPO II | E19: MÊS | F19: 1 | G19: ='Composição UNIT.'!H732 -> 0 | H19: ='Composição UNIT.'!H722 -> 0 | I19: =ROUND(G19+H19,2) -> 0
B20: 1.1.9 | D20: FECHAMENTOS/DISCIPLINADORES/BARRICADAS | I20: =SUM(I21:I23) -> 0
B21: 1.1.9.1 | C21: COMPOSIÇÃO 24 | D21: 1.720 METROS LINEARES DE FECHAMENTO | E21: MÊS | F21: 1 | G21: ='Composição UNIT.'!H573*1720 -> 0 | H21: ='Composição UNIT.'!H563*1720 -> 0 | I21: =ROUND(G21+H21,2) -> 0
B22: 1.1.9.2 | C22: COMPOSIÇÃO 25 | D22: 1040 METROS LINEARES DE DISCIPLINADORES | E22: MÊS | F22: 1 | G22: ='Composição UNIT.'!H599*1040 -> 0 | H22: ='Composição UNIT.'!H589*1040 -> 0 | I22: =ROUND(G22+H22,2) -> 0
B23: 1.1.9.3 | C23: COMPOSIÇÃO 26 | D23: 550 METROS LINEARES DE BARRICADAS | E23: MÊS | F23: 1 | G23: ='Composição UNIT.'!H625*550 -> 0 | H23: ='Composição UNIT.'!H615*550 -> 0 | I23: =ROUND(G23+H23,2) -> 0
B24: 1.1.10 | D24: BARRACAS | I24: =SUM(I25:I26) -> 0
B25: 1.1.10.1 | C25: COMPOSIÇÃO 27 | D25: 99 BARRACAS - 2,00m x 2,00m | E25: MÊS | F25: 1 | G25: ='Composição UNIT.'!H652*99 -> 0 | H25: ='Composição UNIT.'!H642*99 -> 0 | I25: =ROUND(G25+H25,2) -> 0
B26: 1.1.10.2 | C26: COMPOSIÇÃO 28 | D26: 10 BARRACAS - 5,00m x 2,00m | E26: MÊS | F26: 1 | G26: ='Composição UNIT.'!H679*10 -> 0 | H26: ='Composição UNIT.'!H669*10 -> 0 | I26: =ROUND(G26+H26,2) -> 0
B27: 1.1.11 | D27: PISO | I27: =SUM(I28:I28) -> 0
B28: 1.1.11.1 | C28: COMPOSIÇÃO 31 | D28: 400 M2 de PISO | E28: MÊS | F28: 1 | G28: ='Composição UNIT.'!H758*400 -> 0 | H28: ='Composição UNIT.'!H748*400 -> 0 | I28: =ROUND(G28+H28,2) -> 0
B29: 1.1.12 | D29: TOLDOS | I29: =SUM(I30:I31) -> 0
B30: 1.1.12.1 | C30: COMPOSIÇÃO 32 | D30: 4 TOLDO TIPO I (10,0X10,0 M) | E30: MÊS | F30: 1 | G30: ='Composição UNIT.'!H785*4 -> 0 | H30: ='Composição UNIT.'!H775*4 -> 0 | I30: =ROUND(G30+H30,2) -> 0
B31: 1.1.12.2 | C31: COMPOSIÇÃO 33 | D31: 30 TOLDO TIPO II (5,0X5,0 M) | E31: MÊS | F31: 1 | G31: ='Composição UNIT.'!H811*30 -> 0 | H31: ='Composição UNIT.'!H801*30 -> 0 | I31: =ROUND(G31+H31,2) -> 0
B32: 1.1.13 | D32: ESTANDE | I32: =SUM(I33:I33) -> 0
B33: 1.1.13.1 | C33: COMPOSIÇÃO 10 | D33: 1 ESTANDES TIPO I - COI | E33: MÊS | F33: 1 | G33: ='Composição UNIT.'!H285*1 -> 0 | H33: ='Composição UNIT.'!H275*1 -> 0 | I33: =ROUND(G33+H33,2) -> 0
B34: 1.1.14 | D34: MOBILIÁRIO/AMBIENTAÇÃO | I34: =SUM(I35:I39) -> 0
B35: 1.1.14.1 | C35: Cotação | D35: 600 CADEIRAS - PVC branco sem braços | E35: DIÁRIA | F35: 31 | G35: =Insumos!D88*600 -> 0 | H35: =G35*0.25 -> 0 | I35: =ROUND(G35+H35,2) -> 0
B36: 1.1.14.2 | C36: Cotação | D36: 200 MESAS - PVC branco com 4 lugares | E36: DIÁRIA | F36: 31 | G36: =Insumos!D89*200 -> 0 | H36: =G36*0.25 -> 0 | I36: =ROUND(G36+H36,2) -> 0
B37: 1.1.14.3 | C37: Cotação | D37: 30 SOFÁS TIPO I - 3 lugares | E37: DIÁRIA | F37: 31 | G37: =Insumos!D90*30 -> 0 | H37: =G37*0.25 -> 0 | I37: =ROUND(G37+H37,2) -> 0
B38: 1.1.14.4 | C38: Cotação | D38: 38 SOFÁS TIPO II - 2 lugares | E38: DIÁRIA | F38: 31 | G38: =Insumos!D91*38 -> 0 | H38: =G38*0.25 -> 0 | I38: =ROUND(G38+H38,2) -> 0
B39: 1.1.14.5 | C39: Cotação | D39: 4.000 m² CARPETE | E39: DIÁRIA | F39: 31 | G39: =Insumos!D92*4000 -> 0 | H39: =G39*0.25 -> 0 | I39: =ROUND(G39+H39,2) -> 0
B40: 1.1.15 | D40: CABINES SANITÁRIAS | I40: =SUM(I41:I42) -> 0
B41: 1.1.15.1 | C41: Cotação | D41: 326 CABINES SANITÁRIA TIPO I - Standard | E41: DIÁRIA | F41: 31 | G41: =Insumos!D94*326*0.75 -> 0 | H41: =Insumos!D94*326*0.25 -> 0 | I41: =ROUND(G41+H41,2) -> 0
...

Sheet Composição UNIT.
B1: COMPOSIÇÃO DE PREÇOS UNITÁRIOS
B2: COMPOSIÇÃO | C2: 1 | D2: PALCO GRANDE PORTE COM COMPLEMENTOS (Pátio de Eventos Luiz Gonzaga)
B3: MÃO DE OBRA | D3: COMPOSIÇÃO | E3: UNIDADE | F3: QUANT | G3: VALOR (R$) | H3: TOTAL (R$)
D4: Encarregado | E4: H/H | F4: 400 | G4: =Insumos!Q21 -> 0 | H4: =F4*G4 -> 0
D5: Montador | E5: H/H | F5: 480 | G5: =Insumos!Q22 -> 0 | H5: =F5*G5 -> 0
D6: Ajudante | E6: H/H | F6: 2800 | G6: =Insumos!Q23 -> 0 | H6: =F6*G6 -> 0
D7: Carpinteiro | E7: H/H | F7: 400 | G7: =Insumos!Q24 -> 0 | H7: =F7*G7 -> 0
D8: Eletricista | E8: H/H | F8: 400 | G8: =Insumos!Q25 -> 0 | H8: =F8*G8 -> 0
D9: Vigilante | E9: H/H | F9: 450 | G9: =Insumos!Q26 -> 0 | H9: =F9*G9 -> 0
D10: Auxiliar de Serviços Gerais | E10: H/H | F10: 600 | G10: =Insumos!Q27 -> 0 | H10: =F10*G10 -> 0
F11: SUB-TOTAL | H11: =SUM(H4:H10) -> 0
F12: ENCARGOS SOCIAIS | G12: =Insumos!$K$28 -> 0.7011 | H12: =H11*G12 -> 0
F13: TOTAL | H13: =H11+H12 -> 0
F14: BDI | G14: =BDI!$C$20 -> 0.2492 | H14: =H13*G14 -> 0
F15: VALOR UNITÁRIO MÃO OBRA | H15: =H14+H13 -> 0
B16: LOCAÇÃO / MATERIAL | D16: COMPOSIÇÃO | E16: UNIDADE | F16: QUANT | G16: VALOR (R$) | H16: TOTAL (R$)
C17: CPU-AX 01 | D17: Infra-estrutura | E17: UD | F17: 1 | G17: ='1 Palco Grande Porte'!K33 -> 0 | H17: =F17*G17 -> 0
C18: CPU-AX 02 | D18: equipamentos e ferramentas | E18: Coef. | F18: 1 | G18: ='1 Palco Grande Porte'!K43 -> 0 | H18: =F18*G18 -> 0
C19: CPU-AX 03 | D19: Materias diversos( prego, arame, tinta, abraçadeiras plásticas ETC) | E19: UD | F19: 1 | G19: ='1 Palco Grande Porte'!K59 -> 0 | H19: =F19*G19 -> 0
B20: LOGISTICA | C20: CPU-AX 04 | D20: Refeição | E20: Coef. | F20: 1 | G20: ='1 Palco Grande Porte'!K64 -> 0 | H20: =F20*G20 -> 0
C21: CPU-AX 05 | D21: Hospedagem | E21: Coef. | F21: 1 | G21: ='1 Palco Grande Porte'!K69 -> 0 | H21: =F21*G21 -> 0
C22: CPU-AX 06 | D22: Transporte | E22: Coef. | F22: 1 | G22: ='1 Palco Grande Porte'!K76 -> 0 | H22: =F22*G22 -> 0
F23: SUB-TOTAL | H23: =SUM(H17:H22) -> 0
F24: BDI | G24: =BDI!$C$20 -> 0.2492 | H24: =G24*H23 -> 0
F25: VALOR UNITÁRIO LOCAÇÃO | H25: =H24+H23 -> 0
B26: TOTAL GERAL | H26: =H25+H15 -> 0
B28: COMPOSIÇÃO | C28: 2 | D28: CAMAROTE INSTITUCIONAL
B29: MÃO DE OBRA | D29: COMPOSIÇÃO | E29: UNIDADE | F29: QUANT | G29: VALOR (R$) | H29: TOTAL (R$)
D30: Encarregado | E30: H/H | F30: 60 | G30: =Insumos!Q21 -> 0 | H30: =F30*G30 -> 0
D31: Montador | E31: H/H | F31: 1600 | G31: =Insumos!Q22 -> 0 | H31: =F31*G31 -> 0
D32: Ajudante | E32: H/H | F32: 1600 | G32: =Insumos!Q23 -> 0 | H32: =F32*G32 -> 0
D33: Carpinteiro | E33: H/H | F33: 360 | G33: =Insumos!Q24 -> 0 | H33: =F33*G33 -> 0
D34: Eletricista | E34: H/H | F34: 160 | G34: =Insumos!Q25 -> 0 | H34: =F34*G34 -> 0
D35: Vigilante | E35: H/H | F35: 120 | G35: =Insumos!Q26 -> 0 | H35: =F35*G35 -> 0
D36: Auxiliar de Serviços Gerais | E36: H/H | F36: 240 | G36: =Insumos!Q27 -> 0 | H36: =F36*G36 -> 0
F37: SUB-TOTAL | H37: =SUM(H30:H36) -> 0
F38: ENCARGOS SOCIAIS | G38: =Insumos!$K$28 -> 0.7011 | H38: =H37*G38 -> 0
F39: TOTAL | H39: =H38+H37 -> 0
F40: BDI | G40: =BDI!$C$20 -> 0.2492 | H40: =H39*G40 -> 0
F41: VALOR UNITÁRIO MÃO OBRA | H41: =TRUNC(H40+H39,2) -> 0
...

Sheet Insumos
A1: TABELA DE INSUMOS
A2: LOCAÇÃO DE ESTRUTURAS
A3: DISCRIMINAÇÃO | B3: QUANT | C3: Unid | D3: VALOR (R$) | E3: fonte de preço | F3: 45901 | J3: SUBCOMPOSIÇÃO DA FABRICAÇÃO DAS BARRACAS | K3: Quantitativos por tipo de Barraca | N3: Und | O3: R$ Unit | P3: Valores por tipo de Barraca | S3: base | T3: 09-2025
A4: Locação Estrutura Metálica - CAMAROTES | B4: 1 | C4: m²/mês | E4: 96.6 | K4: Tipo I | L4: Tipo II | P4: Tipo I | Q4: Tipo II | S4: FONTE | T4: CÓDIGO | U4: PREÇO
A5: Locação Estrutura Metálica - PALCO (incluindo lona) | B5: 1 | C5: m²/mês | E5: 99 | K5: (2,00x2,00m) | L5: (5,00x2,00m) | P5: (2,00x2,00m) | Q5: (5,00x2,00m)
A6: Locação Estrutura Metálica - COBERTA (incluindo lona) | B6: 1 | C6: m²/mês | E6: 60 | J6: TUBO QUADRADO 40x40 #1.06mm | K6: 40.3 | L6: 60 | N6: m | P6: =O6*K6 -> 0 | Q6: =O6*L6 -> 0 | S6: ORSE | T6: 14311 | U6: 18.26
A7: Locação Estrutura Metálica - PISO | B7: 1 | C7: m²/mês | E7: 51.54 | J7: TUBO RETANGULAR 40x30 #1.06mm | K7: 30 | L7: 43.2 | N7: m | P7: =O7*K7 -> 0 | Q7: =O7*L7 -> 0 | S7: ORSE | T7: 14310 | U7: 13.36
A8: Locação Estrutura Metálica - TORRES PARA PA E TELA DE LED | B8: 1 | C8: m²/mês | E8: 62.9 | J8: CHAPA GALVANIZADA # 0,43mm N°28 | K8: 16.8 | L8: 25.2 | N8: m² | P8: =O8*K8 -> 0 | Q8: =O8*L8 -> 0 | S8: SINAPI | T8: 11051 | U8: =10.98*4 -> 43.92
A9: Locação Estrutura Metálica - ESCADA | B9: 1 | C9: m²/mês | E9: 34.64 | J9: BARRA CHATA GALVANIZADA 3/4"x3/16" | K9: 1.2 | L9: 2.1 | N9: m | P9: =O9*K9 -> 0 | Q9: =O9*L9 -> 0 | S9: SINAPI | T9: 546 | U9: =9.05*0.71 -> 6.4255
A10: Locação Estrutura Metálica - RAMPAS | B10: 1 | C10: m²/mês | E10: 90 | J10: DOBRADIÇAS GALVANIZADAS 3"x3.1/2" | K10: 6 | L10: 9 | N10: Und | P10: =O10*K10 -> 0 | Q10: =O10*L10 -> 0 | S10: SINAPI | T10: 2433 | U10: 13.87
A11: Locação Estrutura Metálica - TESTEIRA I | B11: 1 | C11: m²/mês | E11: 38.5 | J11: INSUMOS DE CORTE E SOLDA | K11: 0.8 | L11: 1.1 | N11: kg | P11: =O11*K11 -> 0 | Q11: =O11*L11 -> 0 | S11: SINAPI | T11: 10999 | U11: 24.25
A12: Locação Estrutura Metálica - TESTEIRA II | B12: 1 | C12: m²/mês | E12: 200.36 | J12: INSUMOS DE FIXAÇÃO (Rebites) | K12: 281.2 | L12: 412.8 | N12: Und | P12: =O12*K12 -> 0 | Q12: =O12*L12 -> 0 | S12: SINAPI | T12: 5104 | U12: =70.37/1000 -> 0.07037
A13: Locação Estrutura Metálica - FUNDO DE PALCO | B13: 1 | C13: m²/mês | E13: 178.39 | J13: COBERTURA EM LOVA VINÍLICA PVC COM BORDA REFORÇADA E ILHOES A CADA 15cm | K13: 5.72 | L13: 10.92 | N13: m² | P13: =O13*K13 -> 0 | Q13: =O13*L13 -> 0 | S13: ORSE | T13: 13565 | U13: =221.34/2.5/2.5 -> 35.4144
A14: Locação Estrutura Metálica - AVANCÊ | B14: 1 | C14: m²/mês | E14: 66.98 | J14: Mão de obra com encargos - Fabricação (30% do valor do material) | K14: 1 | L14: 1 | N14: VB | P14: =SUM(P6:P13)*0.3 -> 0 | Q14: =SUM(Q6:Q13)*0.3 -> 0
A15: Locação Estrutura Metálica - PASSARELA | B15: 1 | C15: m²/mês | E15: 90 | M15: Custo da Fabricação - por Tipo | P15: =SUM(P6:P14) -> 0 | Q15: =SUM(Q6:Q14) -> 0
A16: Locação Estrutura Metálica - GUARDA CORPO | B16: 1 | C16: m²/mês | E16: 86.47 | N16: 0.05 | P16: =ROUND(P15*($N$16)*(1+$O$16),2) -> 0 | Q16: =ROUND(Q15*($N$16)*(1+$O$16),2) -> 0
A17: Locação Estrutura Metálica - CAMARINS (incluindo fechamentos e coberta) | B17: 1 | C17: m²/mês | E17: 58.99 | L17: Valor de Locação mensal = 5% do custo
A18: Locação Estrutura Metálica - HOUSE MIX | B18: 1 | C18: m²/mês | E18: 58.99
A19: Locação Estrutura Metálica - PAVILHÃO | B19: 1 | C19: m²/mês | E19: 250 | J19: INFORMAÇÕES DE REMUNERAÇÃO | P19: Cálculo da Hora
A20: Locação Estrutura Metálica - ARQUIBANCADA | B20: 1 | C20: m²/mês | E20: 92.99 | L20: FONTE | M20: UNID | N20: VALOR | P20: Mês | Q20: Mês / 220h
A21: Locação Estrutura Metálica - TOLDO | B21: 1 | C21: m²/mês | E21: 131 | J21: Encarregado | K21: 93572 | L21: SINAPI - ND 9/25 | M21: H | N21: =Q21 -> 0 | Q21: =ROUND(P21/220,2) -> 0
A22: Locação Estrutura Metálica - PÓRTICOS (base 2,60x3,60m) | B22: 1 | C22: m²/mês | E22: 97.93 | J22: Montador de estruturas metál. | K22: 101418 | L22: =L21 -> SINAPI - ND 9/25 | M22: H | N22: =Q22 -> 0 | Q22: =ROUND(P22/220,2) -> 0
A23: Locação Estrutura Metálica - PÓRTICOS (base 1,00x2,30m) | B23: 1 | C23: m²/mês | E23: 58.99 | J23: Ajudante de estruturas metál. | K23: 101376 | L23: =L21 -> SINAPI - ND 9/25 | M23: H | N23: =Q23 -> 0 | Q23: =ROUND(P23/220,2) -> 0
A24: Locação estrutura Estande- PAINÉIS TS formicado | B24: 1 | C24: m²/mês | E24: 177.99 | J24: Carpinteiro | K24: 101397 | L24: =L21 -> SINAPI - ND 9/25 | M24: H | N24: =Q24 -> 0 | Q24: =ROUND(P24/220,2) -> 0
A25: Blocos em concreto armado com altura de 0,80m, com capacidade de carga individual de 1 Tonelada | B25: 1 | C25: und/mês | E25: 154 | J25: Eletricista | K25: 101399 | L25: =L21 -> SINAPI - ND 9/25 | M25: H | N25: =Q25 -> 0 | Q25: =ROUND(P25/220,2) -> 0
A26: Locação Estrutura em BOX TRUSS para PAINÉIS DE LED DELAY | B26: 1 | C26: m²/mês | E26: 50.5 | J26: Vigia | K26: 101460 | L26: =L21 -> SINAPI - ND 9/25 | M26: H | N26: =Q26 -> 0 | Q26: =ROUND(P26/220,2) -> 0
A27: Locação de SPDA e Sistema de SEGURANÇA CONTRA INCÊNDIO E PÂNICO (pavimento único) | B27: 1 | C27: m²/mês | E27: 18.18 | J27: Auxiliar de Serviços Gerais | K27: 101388 | L27: =L21 -> SINAPI - ND 9/25 | M27: H | N27: =Q27 -> 0 | Q27: =ROUND(P27/220,2) -> 0
A28: Locação de SPDA e Sistema de SEGURANÇA CONTRA INCÊNDIO E PÂNICO (3 pavimentos sobrepostos) | B28: 1 | C28: m²/mês | E28: 25.67 | J28: Enc. Sociais_Mensalista - SINAPI - PE_ a partir de 01/2025 | K28: 0.7011
A29: Locação de SPDA - Sistema de Proteção contra Descargas Amosféricas | B29: 1 | C29: m²/mês | E29: 33
A30: Locação de DIVISÓRIAS -Estrutura metalon + madeirite | B30: 1 | C30: m²/mês | E30: 47
A31: Locação - GUARDA CORPO- Estrutura metalon + madeirite | B31: 1 | C31: m²/mês | E31: 50
A32: Locação Estrutura Metálica - RAMPAS e ELEVADOR (incluso) | B32: 1 | C32: m²/mês | E32: 162.99
A33: Serviço de PINTURA (Divisórias e Guarda-corpo) | B33: 1 | C33: m²/mês | E33: 48.6
A34: Locação de Aparelho de ar-condicionado Split 12.000BTU's | B34: 1 | C34: und/mês | E34: 192.5
A35: Locação de FECHAMENTOS (módulos com 3,00m de altura com estruturação em metalon 30x20mm e fechamento total em chapa galvanizada n°16) | B35: 1 | C35: m²/mês | E35: 223.21 | F35: 93.83 | G35: 98459 | H35: SINAPI
A36: Locação de DISCIPLINADORES Gradil em estrutura metálica tubular modulada | B36: 1 | C36: und/mês | E36: 29 | F36: x
A37: Locação de BARRICADAS em estruturas de alumínio para contenção de expectadores, suportando um deslocamento frontal de até 2,5 toneladas | B37: 1 | C37: und/mês | E37: 53.9 | F37: x
A38: Locação de estrutura para Tablado (Pavilhão Monte Bom Jesus) | B38: 1 | C38: m²/mês | E38: 335
A39: Locação de BARRACA Tipo I (2,00x2,00m) em estrutura metálica modulada em tubos metalon 50x50mm; fechamento laterais com chapa metálica galv. n°22 pintadas externamente com tinta esmalte fosco (cor a definir); porta em chapa metálica galv. Dim.:80x210cm com ferrolho pintada com tinta esmalte fosco (cor a definir) , portinhola de tombar dimensões 150x100cm e balcão de atendimento medindo 40x150cm em compensado naval plastificado; coberta em lona branca sobre estrutura em duas águas. | B39: 1 | C39: und/mês | E39: 285 | F39: =P16 -> 0 | H39: COMPOSIÇÃO
A40: Locação de BARRACA Tipo II - MS (5,00x2,00m) em estrutura metálica modulada em tubos metalon 50x50mm; fechamento laterais com chapa metálica galv. n°22 pintadas externamente com tinta esmalte fosco (cor a definir); porta em chapa metálica galv. Dim.:80x210cm com ferrolho pintada com tinta esmalte fosco (cor a definir) , portinhola de tombar dimensões 300x100cm e balcão de atendimento medindo 40x300cm em compensado naval plastificado; coberta em lona branca sobre estrutura em duas águas. | B40: 1 | C40: und/mês | E40: 59.9 | F40: =Q16 -> 0 | H40: COMPOSIÇÃO
...

Sheet BDI
B1: ANEXO H - COMPOSIÇÃO DE BDI 1 | F1: ANEXO H - COMPOSIÇÃO DE BDI 2
B2: OBJETO: SERVIÇOS DE MONTAGEM E DESMONTAGEM DE ESTRUTURA, SOM E ILUMINAÇÃO INCLUINDO FORNECIMENTO, INSTALAÇÃO E MANUTENÇÃO; E SERVIÇOS DE CAPTAÇÃO E TRANSMISSÃO DE IMAGENS - SÃO JOÃO 2026 | F2: OBJETO: SERVIÇOS DE MONTAGEM E DESMONTAGEM DE ESTRUTURA, SOM E ILUMINAÇÃO INCLUINDO FORNECIMENTO, INSTALAÇÃO E MANUTENÇÃO; E SERVIÇOS DE CAPTAÇÃO E TRANSMISSÃO DE IMAGENS - SÃO JOÃO 2026
B3: LOCAL: CARUARU/PE | F3: LOCAL: CARUARU/PE
B4: TIPO DE OBRA: ITENS DE MERO FORNECIMENTO DE MATERIAIS E EQUIPAMENTOS | F4: TIPO DE OBRA: CONSTRUÇÃO DE PRAÇAS URBANAS, RODOVIAS, FERROVIAS E RECAPEAMENTO E PAVIMENTAÇÃO DE VIAS URBANAS
B6: ITENS | C6: % ADOTADO | F6: ITENS | G6: % ADOTADO
B8: Administração Central (AC) | C8: 0.0425 | F8: Administração Central (AC) | G8: 0.038
B9: Seguro e Garantia (S) / (G) | C9: 0.0045 | F9: Seguro e Garantia (S) / (G) | G9: 0.0032
B10: Risco (R) | C10: 0.0085 | F10: Risco (R) | G10: 0.005
B11: Despesas Financeiras (DF) | C11: 0.0085 | F11: Despesas Financeiras (DF) | G11: 0.0102
B12: Lucro (L) | C12: 0.072 | F12: Lucro (L) | G12: 0.0664
B13: PIS + COFINS + ISS = 0,65% + 3,0% + 5,0% | C13: 0.0865 | F13: PIS + COFINS + ISS = 0,65% + 3,0% + 5,0% | G13: =0.0065+0.03+0.05 -> 0.0865
B15: No item impostos (I) não foi considerado o acréscimo de 3,6% (CPRB), pois utilizou-se a base de preços não desonerada para a composição da planilha orçamentária. | F15: No item impostos (I) não foi considerado o acréscimo de 3,6% (CPRB), pois utilizou-se a base de preços não desonerada para a composição da planilha orçamentária.
B20: BDI | C20: =ROUND(((((1+C8+C9+C10)*(1+C11)*(1+C12))/(1-C13))-1),4) -> 0.2492 | F20: BDI | G20: =ROUND(((((1+G8+G9+G10)*(1+G11)*(1+G12))/(1-G13))-1),4) -> 0.2338
B25: VICTOR HUGO JUSTINO | F25: VICTOR HUGO JUSTINO
B26: ENG. CIVIL CREA PE 181618524-8 | F26: ENG. CIVIL CREA PE 181618524-8

Sheet ESPECIF E QUANT
B1: DESCRIÇÕES E QUANTITADES
B3: =BDI!B2 -> OBJETO: SERVIÇOS DE MONTAGEM E DESMONTAGEM DE ESTRUTURA, SOM E ILUMINAÇÃO INCLUINDO FORNECIMENTO, INSTALAÇÃO E MANUTENÇÃO; E SERVIÇOS DE CAPTAÇÃO E TRANSMISSÃO DE IMAGENS - SÃO JOÃO 2026
B4: ITEM | C4: REFERÊNCIA | D4: DESCRIÇÃO | E4: UNIDADE | F4: QUANT
B5: 1. | D5: PALCO PRINCIPAL
B6: 1.1 | D6: INFRAESTRUTURA
B7: 1.1.1 | C7: COMPOSIÇÃO 01 | D7: PALCO GRANDE PORTE COM COMPLEMENTOS (PRINCIPAL) | E7: MÊS | F7: 1
B8: 1.1.2 | C8: COMPOSIÇÃO 02 | D8: CAMAROTE INSTITUCIONAL | E8: MÊS | F8: 1
B9: 1.1.3 | C9: COMPOSIÇÃO 03 | D9: PAVILHÃO RETAURANTES | E9: MÊS | F9: 1
B10: 1.1.4 | C10: COMPOSIÇÃO 04 | D10: CAMAROTE IMPRENSA | E10: MÊS | F10: 1
B11: 1.1.5 | C11: COMPOSIÇÃO 05 | D11: PAVILHÃO PRAÇA DE ALIMENTAÇÃO | E11: MÊS | F11: 1
B12: 1.1.6 | D12: PÓRTICOS
B13: 1.1.6.1 | C13: COMPOSIÇÃO 20 | D13: 26 PÓRTICO TIPO II - USO GERAL | E13: MÊS | F13: 1
B14: 1.1.7 | D14: TORRE DE TRANSMISSÃO DOS SHOWS
B15: 1.1.7.1 | C15: COMPOSIÇÃO 22 | D15: 02 TORRE TRANSMISSÃO E SHOWS TIPO I | E15: MÊS | F15: 1
B16: 1.1.7.2 | C16: COMPOSIÇÃO 23 | D16: 02 TORRE TRANSMISSÃO E SHOWS TIPO II | E16: MÊS | F16: 1
B17: 1.1.8 | D17: PASSARELAS
B18: 1.1.8.1 | C18: COMPOSIÇÃO 29 | D18: 01 PASSARELA TIPO I | E18: MÊS | F18: 1
B19: 1.1.8.2 | C19: COMPOSIÇÃO 30 | D19: 01 PASSARELA TIPO II | E19: MÊS | F19: 1
B20: 1.1.9 | D20: FECHAMENTOS/DISCIPLINADORES/BARRICADAS
B21: 1.1.9.1 | C21: COMPOSIÇÃO 24 | D21: 1.720 METROS LINEARES DE FECHAMENTO | E21: MÊS | F21: 1
B22: 1.1.9.2 | C22: COMPOSIÇÃO 25 | D22: 1040 METROS LINEARES DE DISCIPLINADORES | E22: MÊS | F22: 1
B23: 1.1.9.3 | C23: COMPOSIÇÃO 26 | D23: 550 METROS LINEARES DE BARRICADAS | E23: MÊS | F23: 1
B24: 1.1.10 | D24: BARRACAS
B25: 1.1.10.1 | C25: COMPOSIÇÃO 27 | D25: 99 BARRACAS - 2,00m x 2,00m | E25: MÊS | F25: 1
B26: 1.1.10.2 | C26: COMPOSIÇÃO 28 | D26: 10 BARRACAS - 5,00m x 2,00m | E26: MÊS | F26: 1
B27: 1.1.11 | D27: PISO
B28: 1.1.11.1 | C28: COMPOSIÇÃO 31 | D28: 400 M2 de PISO | E28: MÊS | F28: 1
B29: 1.1.12 | D29: TOLDOS
B30: 1.1.12.1 | C30: COMPOSIÇÃO 32 | D30: 4 TOLDO TIPO I (10,0X10,0 M) | E30: MÊS | F30: 1
B31: 1.1.12.2 | C31: COMPOSIÇÃO 33 | D31: 30 TOLDO TIPO II (5,0X5,0 M) | E31: MÊS | F31: 1
B32: 1.1.13 | D32: ESTANDE
B33: 1.1.13.1 | C33: COMPOSIÇÃO 10 | D33: 1 ESTANDES TIPO I - COI | E33: MÊS | F33: 1
B34: 1.1.14 | D34: MOBILIÁRIO/AMBIENTAÇÃO
B35: 1.1.14.1 | C35: Cotação | D35: 600 CADEIRAS - PVC branco sem braços | E35: DIÁRIA | F35: 31
B36: 1.1.14.2 | C36: Cotação | D36: 200 MESAS - PVC branco com 4 lugares | E36: DIÁRIA | F36: 31
B37: 1.1.14.3 | C37: Cotação | D37: 30 SOFÁS TIPO I - 3 lugares | E37: DIÁRIA | F37: 31
B38: 1.1.14.4 | C38: Cotação | D38: 38 SOFÁS TIPO II - 2 lugares | E38: DIÁRIA | F38: 31
B39: 1.1.14.5 | C39: Cotação | D39: 4.000 m² CARPETE | E39: DIÁRIA | F39: 31
B40: 1.1.15 | D40: CABINES SANITÁRIAS
B41: 1.1.15.1 | C41: Cotação | D41: 326 CABINES SANITÁRIA TIPO I - Standard | E41: DIÁRIA | F41: 31
...

Sheet 1 Palco Grande Porte
A1: COMPOSIÇÕES AUXILIARES
A2: 1 | B2: PALCO GRANDE PORTE COM COMPLEMENTOS (Pátio de Eventos Luiz Gonzaga)
A3: CPU-AX 01 | B3: ESTRUTURA e FECHAMENTO
A4: Item | B4: DISCRIMINAÇÃO | C4: MEMÓRIA DE CÁLCULO | G4: QUANT | H4: Unid | I4: Coef. | J4: VALOR (R$) | K4: TOTAL (R$)
C5: L (m) | D5: C (m) | E5: H(m) | F5: Área
A6: 1.1.1.1 | B6: Locação Estrutura Metálica - PALCO (incluindo lona) | C6: 20 | D6: 16 | F6: =C6*D6 -> 320 | G6: =C6*D6 -> 320 | H6: m²/mês | I6: 0.9 | J6: =Insumos!D5 -> 0 | K6: =TRUNC(G6*I6*J6,2) -> 0
A7: 1.1.1.2 | B7: Locação Estrutura Metálica - COBERTA (palco) | C7: 20 | D7: 16 | F7: =C7*D7 -> 320 | G7: =F7 -> 320 | H7: m²/mês | I7: 0.9 | J7: =Insumos!D6 -> 0 | K7: =TRUNC(G7*I7*J7,2) -> 0
A8: 1.1.1.3 | B8: Locação Estrutura Metálica - COBERTA (sidestage) | C8: 16 | D8: =8+4 -> 12 | F8: =C8*D8 -> 192 | G8: =F8 -> 192 | H8: m²/mês | I8: 0.9 | J8: =Insumos!D6 -> 0 | K8: =TRUNC(G8*I8*J8,2) -> 0
A9: 1.1.1.4 | B9: Locação Estrutura Metálica - COBERTA (backstage) | C9: 20 | D9: 4 | F9: =C9*D9 -> 80 | G9: =F9 -> 80 | H9: m²/mês | I9: 0.9 | J9: =Insumos!D6 -> 0 | K9: =TRUNC(G9*I9*J9,2) -> 0
A10: 1.1.1.5 | B10: Locação Estrutura Metálica - PISO | F10: =F7+F8+F9 -> 592 | G10: =F10 -> 592 | H10: m²/mês | I10: 0.9 | J10: =Insumos!D7 -> 0 | K10: =TRUNC(G10*I10*J10,2) -> 0
A11: 1.1.1.6 | B11: Locação Estrutura Metálica - TORRES PARA PA E TELA DE LED | F11: 650 | G11: =F11 -> 650 | H11: m²/mês | I11: 0.9 | J11: =Insumos!D8 -> 0 | K11: =TRUNC(G11*I11*J11,2) -> 0
A12: 1.1.1.7 | B12: Locação Estrutura Metálica - AVANCÊ | C12: 2 | D12: =28+8.33 -> 36.33 | F12: =D12*C12 -> 72.66 | G12: =F12 -> 72.66 | H12: m²/mês | I12: 0.9 | J12: =Insumos!D14 -> 0 | K12: =TRUNC(G12*I12*J12,2) -> 0
A13: 1.1.1.8 | B13: Locação Estrutura Metálica - PASSARELA | C13: 1.6 | D13: =13.2+13.2+10+10 -> 46.4 | F13: =C13*D13 -> 74.24 | G13: =F13 -> 74.24 | H13: m²/mês | I13: 0.9 | J13: =Insumos!D15 -> 0 | K13: =TRUNC(G13*I13*J13,2) -> 0
A14: 1.1.1.9 | B14: Locação Estrutura Metálica - ESCADA (palco) | C14: 2 | D14: 9.8 | F14: =C14*D14 -> 19.6 | G14: =F14 -> 19.6 | H14: m²/mês | I14: 0.9 | J14: =Insumos!D9 -> 0 | K14: =TRUNC(G14*I14*J14,2) -> 0
A15: 1.1.1.10 | B15: Locação Estrutura Metálica - ESCADA (avancê) | C15: 2 | D15: 3.3 | F15: =C15*D15 -> 6.6 | G15: =F15 -> 6.6 | H15: m²/mês | I15: 0.9 | J15: =Insumos!D9 -> 0 | K15: =TRUNC(G15*I15*J15,2) -> 0
A16: 1.1.1.11 | B16: Locação Estrutura Metálica - ESCADA (passarela) | C16: 2 | D16: 1.8 | F16: =C16*D16 -> 3.6 | G16: =F16 -> 3.6 | H16: m²/mês | I16: 0.9 | J16: =Insumos!D9 -> 0 | K16: =TRUNC(G16*I16*J16,2) -> 0
A17: 1.1.1.12 | B17: Locação Estrutura Metálica - RAMPAS | C17: 1.5 | D17: 42 | F17: =D17*C17 -> 63 | G17: =F17 -> 63 | H17: m²/mês | I17: 0.9 | J17: =Insumos!D10 -> 0 | K17: =TRUNC(G17*I17*J17,2) -> 0
A18: 1.1.1.13 | B18: Locação Estrutura Metálica - GUARDA CORPO (rampa) | D18: =D17*2 -> 84 | E18: 1.1 | F18: =E18*D18 -> 92.4 | G18: =F18 -> 92.4 | H18: m²/mês | I18: 0.9 | J18: =Insumos!D16 -> 0 | K18: =TRUNC(G18*I18*J18,2) -> 0
A19: 1.1.1.14 | B19: Locação Estrutura Metálica - GUARDA CORPO (escada) | D19: =D14*2 -> 19.6 | E19: 1.1 | F19: =E19*D19 -> 21.56 | G19: =F19 -> 21.56 | H19: m²/mês | I19: 0.9 | J19: =Insumos!D16 -> 0 | K19: =TRUNC(G19*I19*J19,2) -> 0
A20: 1.1.1.15 | B20: Locação Estrutura Metálica - TESTEIRA I - palco principal | F20: 130 | G20: =F20 -> 130 | H20: m²/mês | I20: 0.9 | J20: =Insumos!D11 -> 0 | K20: =TRUNC(G20*I20*J20,2) -> 0
A21: 1.1.1.16 | B21: Locação Estrutura Metálica - TESTEIRA I - avancê e passarela | F21: 60 | G21: =F21 -> 60 | H21: m²/mês | I21: 0.9 | J21: =Insumos!D11 -> 0 | K21: =TRUNC(G21*I21*J21,2) -> 0
A22: 1.1.1.17 | B22: Locação Estrutura Metálica - TESTEIRA I - house mix | F22: 20 | G22: =F22 -> 20 | H22: m²/mês | I22: 0.9 | J22: =Insumos!D11 -> 0 | K22: =TRUNC(G22*I22*J22,2) -> 0
A23: 1.1.1.18 | B23: Locação Estrutura Metálica - FUNDO DE PALCO | D23: 10 | E23: 8 | F23: =D23*E23 -> 80 | G23: =F23 -> 80 | H23: m²/mês | I23: 0.9 | J23: =Insumos!D5 -> 0 | K23: =TRUNC(G23*I23*J23,2) -> 0
A24: 1.1.1.19 | B24: Locação Estrutura Metálica - PAVILHÃO - camarins | C24: 30 | D24: 19 | F24: =C24*D24 -> 570 | G24: =F24 -> 570 | H24: m²/mês | I24: 0.9 | J24: =Insumos!D19 -> 0 | K24: =TRUNC(G24*I24*J24,2) -> 0
A25: 1.1.1.20 | B25: Locação Estrutura Metálica - PISO | C25: 30 | D25: 19 | F25: =C25*D25 -> 570 | G25: =F25 -> 570 | H25: m²/mês | I25: 0.9 | J25: =Insumos!D7 -> 0 | K25: =TRUNC(G25*I25*J25,2) -> 0
A26: 1.1.1.21 | B26: Locação estrutura Estande- PAINÉIS TS formicado | C26: 30 | D26: 19 | F26: =C26*D26 -> 570 | G26: =F26 -> 570 | H26: m²/mês | I26: 0.9 | J26: =Insumos!D24 -> 0 | K26: =TRUNC(G26*I26*J26,2) -> 0
A27: 1.1.1.22 | B27: Locação de Aparelho de ar-condicionado Split 12.000BTU's | G27: 20 | H27: und/mês | I27: 0.9 | J27: =Insumos!D34 -> 0 | K27: =TRUNC(G27*I27*J27,2) -> 0
A28: 1.1.1.23 | B28: Locação Estrutura Metálica - HOUSE MIX | C28: 6 | D28: 6 | E28: 2 | F28: =C28*D28*E28 -> 72 | G28: =F28 -> 72 | H28: m²/mês | I28: 0.9 | J28: =Insumos!D18 -> 0 | K28: =TRUNC(G28*I28*J28,2) -> 0
A29: 1.1.1.24 | B29: Locação ESTRUTURA EM BOX TRUSS PARA GRID PARA ILUMINAÇÃO CÊNICA | F29: 320 | G29: =F29 -> 320 | H29: m²/mês | I29: 0.9 | J29: =Insumos!D26 -> 0 | K29: =TRUNC(G29*I29*J29,2) -> 0
A30: 1.1.1.25 | B30: Locação de SPDA e Sistema de SEGURANÇA CONTRA INCÊNDIO E PÂNICO - palco | F30: =F10 -> 592 | G30: =F30 -> 592 | H30: m²/mês | I30: 0.9 | J30: =Insumos!D27 -> 0 | K30: =TRUNC(G30*I30*J30,2) -> 0
A31: 1.1.1.26 | B31: Locação de SPDA e Sistema de SEGURANÇA CONTRA INCÊNDIO E PÂNICO - camarim | F31: =F24 -> 570 | G31: =F31 -> 570 | H31: m²/mês | I31: 0.9 | J31: =Insumos!D27 -> 0 | K31: =TRUNC(G31*I31*J31,2) -> 0
A32: 1.1.1.27 | B32: Locação de SPDA e Sistema de SEGURANÇA CONTRA INCÊNDIO E PÂNICO - house mix | C32: 6 | D32: 6 | F32: =D32*C32 -> 36 | G32: =F32 -> 36 | H32: m²/mês | I32: 0.9 | J32: =Insumos!D27 -> 0 | K32: =TRUNC(G32*I32*J32,2) -> 0
J33: TOTAL GERAL | K33: =SUM(K6:K32) -> 0
A34: CPU-AX 02 | B34: EQUIPAMENTOS e FERRAMENTAS
A35: Item | B35: DISCRIMINAÇÃO | C35: MEMÓRIA DE CÁLCULO | G35: QUANT | H35: Unid | I35: Coef. | J35: VALOR (R$) | K35: TOTAL (R$)
A37: 1.1.1.28 | B37: Locação de Empilhadeira | G37: 10 | H37: diária | I37: =G37/SUM($G$37:$G$42) -> 0.042735043 | J37: =Insumos!D49 -> 0 | K37: =TRUNC(G37*I37*J37,2) -> 0
A38: 1.1.1.29 | B38: Locação de Caminhão Munck | G38: 10 | H38: diária | I38: =G38/SUM($G$37:$G$42) -> 0.042735043 | J38: =Insumos!D50 -> 0 | K38: =TRUNC(G38*I38*J38,2) -> 0
A39: 1.1.1.30 | B39: Locação de Talha elétrica | G39: 10 | H39: diária | I39: =G39/SUM($G$37:$G$42) -> 0.042735043 | J39: =Insumos!D51 -> 0 | K39: =TRUNC(G39*I39*J39,2) -> 0
A40: 1.1.1.31 | B40: Locação de Andaimes | G40: 100 | H40: m/mês | I40: =G40/SUM($G$37:$G$42) -> 0.42735043 | J40: =Insumos!D52 -> 0 | K40: =TRUNC(G40*I40*J40,2) -> 0
A41: 1.1.1.32 | B41: Locação de Plataformas de montagem | G41: 4 | H41: und/mês | I41: =G41/SUM($G$37:$G$42) -> 0.017094017 | J41: =Insumos!D53 -> 0 | K41: =TRUNC(G41*I41*J41,2) -> 0
...

Sheet 2 Camarote Institucional
A2: 2 | B2: CAMAROTE INSTITUCIONAL
A3: CPU-AX 7 | B3: ESTRUTURA, FECHAMENTO e PINTURA
A4: Item | B4: DISCRIMINAÇÃO | C4: MEMÓRIA DE CÁLCULO | G4: QUANT | H4: Unid | I4: Coef. | J4: VALOR (R$) | K4: TOTAL (R$)
C5: L (m) | D5: C (m) | E5: H(m) | F5: Área
A6: 1.1.1.1 | B6: Locação Estrutura Metálica - PAVILHÃO (camarote) | C6: 15 | D6: 50 | F6: =C6*D6 -> 750 | G6: =F6 -> 750 | H6: m²/mês | I6: 0.45 | J6: =Insumos!D19 -> 0 | K6: =TRUNC(G6*I6*J6,2) -> 0
A7: 1.1.1.2 | B7: Locação Estrutura Metálica - PAVILHÃO (área buffet) | C7: 3 | D7: 20 | F7: =C7*D7 -> 60 | G7: =F7 -> 60 | H7: m²/mês | I7: =$I$6 -> 0.45 | J7: =Insumos!D19 -> 0 | K7: =TRUNC(G7*I7*J7,2) -> 0
A8: 1.1.1.3 | B8: Locação Estrutura Metálica - PAVILHÃO (hall patrocinadores) | C8: 10 | D8: 10 | F8: =C8*D8 -> 100 | G8: =F8 -> 100 | H8: m²/mês | I8: =$I$6 -> 0.45 | J8: =Insumos!D19 -> 0 | K8: =TRUNC(G8*I8*J8,2) -> 0
A9: 1.1.1.4 | B9: Locação Estrutura Metálica - COBERTA (beiral) | C9: 3 | D9: =53+6+2 -> 61 | F9: =C9*D9 -> 183 | G9: =F9 -> 183 | H9: m²/mês | I9: =$I$6 -> 0.45 | J9: =Insumos!D6 -> 0 | K9: =TRUNC(G9*I9*J9,2) -> 0
A10: 1.1.1.5 | B10: Locação Estrutura Metálica - PISO (piso 1) | C10: 10 | D10: 50 | F10: =C10*D10 -> 500 | G10: =F10 -> 500 | H10: m²/mês | I10: =$I$6 -> 0.45 | J10: =Insumos!D7 -> 0 | K10: =TRUNC(G10*I10*J10,2) -> 0
A11: 1.1.1.6 | B11: Locação Estrutura Metálica - PISO (piso 2) | C11: 7 | D11: 50 | F11: =C11*D11 -> 350 | G11: =F11 -> 350 | H11: m²/mês | I11: =$I$6 -> 0.45 | J11: =Insumos!D7 -> 0 | K11: =TRUNC(G11*I11*J11,2) -> 0
A12: 1.1.1.7 | B12: Locação Estrutura Metálica - PISO (circulação) | C12: 5 | D12: 50 | F12: =C12*D12 -> 250 | G12: =F12 -> 250 | H12: m²/mês | I12: =$I$6 -> 0.45 | J12: =Insumos!D7 -> 0 | K12: =TRUNC(G12*I12*J12,2) -> 0
A13: 1.1.1.8 | B13: Locação Estrutura Metálica - PISO (pcd) | C13: 3 | D13: =16+6+2 -> 24 | F13: =C13*D13 -> 72 | G13: =F13 -> 72 | H13: m²/mês | I13: =$I$6 -> 0.45 | J13: =Insumos!D7 -> 0 | K13: =TRUNC(G13*I13*J13,2) -> 0
A14: 1.1.1.9 | B14: Locação Estrutura Metálica - PISO (bar) | C14: 2 | D14: 35 | F14: =C14*D14 -> 70 | G14: =F14 -> 70 | H14: m²/mês | I14: =$I$6 -> 0.45 | J14: =Insumos!D7 -> 0 | K14: =TRUNC(G14*I14*J14,2) -> 0
A15: 1.1.1.10 | B15: Locação Estrutura Metálica - PISO (área buffet) | C15: =C7 -> 3 | D15: =D7 -> 20 | F15: =C15*D15 -> 60 | G15: =F15 -> 60 | H15: m²/mês | I15: =$I$6 -> 0.45 | J15: =Insumos!D7 -> 0 | K15: =TRUNC(G15*I15*J15,2) -> 0
A16: 1.1.1.11 | B16: Locação Estrutura Metálica - TESTEIRA I | C16: 50 | E16: 1.3 | F16: =E16*C16 -> 65 | G16: =F16 -> 65 | H16: m²/mês | I16: =$I$6 -> 0.45 | J16: =Insumos!D11 -> 0 | K16: =TRUNC(G16*I16*J16,2) -> 0
A17: 1.1.1.12 | B17: Locação Estrutura Metálica - CAMAROTES 1 | C17: 8 | D17: 50 | F17: =C17*D17 -> 400 | G17: =F17 -> 400 | H17: m²/mês | I17: =$I$6 -> 0.45 | J17: =Insumos!D4 -> 0 | K17: =TRUNC(G17*I17*J17,2) -> 0
A18: 1.1.1.13 | B18: Locação Estrutura Metálica - CAMAROTES 2 | C18: =C11 -> 7 | D18: 50 | F18: =C18*D18 -> 350 | G18: =F18 -> 350 | H18: m²/mês | I18: =$I$6 -> 0.45 | J18: =Insumos!D4 -> 0 | K18: =TRUNC(G18*I18*J18,2) -> 0
A19: 1.1.1.14 | B19: Locação estrutura Estande- PAINÉIS TS formicado (piso 1) | C19: =C17 -> 8 | D19: 50 | F19: =D19*C19 -> 400 | G19: =F19 -> 400 | H19: m²/mês | I19: =$I$6 -> 0.45 | J19: =Insumos!D24 -> 0 | K19: =TRUNC(G19*I19*J19,2) -> 0
A20: 1.1.1.15 | B20: Locação estrutura Estande- PAINÉIS TS formicado (piso 2) | C20: 6.3 | D20: 50 | F20: =D20*C20 -> 315 | G20: =F20 -> 315 | H20: m²/mês | I20: =$I$6 -> 0.45 | J20: =Insumos!D24 -> 0 | K20: =TRUNC(G20*I20*J20,2) -> 0
A21: 1.1.1.16 | B21: Locação Estrutura Metálica - ESCADA (acesso pisos) | C21: 2 | D21: =13+6.5+6.5 -> 26 | F21: =D21*C21 -> 52 | G21: =F21 -> 52 | H21: m²/mês | I21: =$I$6 -> 0.45 | J21: =Insumos!D9 -> 0 | K21: =TRUNC(G21*I21*J21,2) -> 0
A22: 1.1.1.17 | B22: Locação Estrutura Metálica - ESCADA (entrada) | C22: 2 | D22: 8.4 | E22: 1 | F22: =C22*D22*E22 -> 16.8 | G22: =F22 -> 16.8 | H22: m²/mês | I22: =$I$6 -> 0.45 | J22: =Insumos!D9 -> 0 | K22: =TRUNC(G22*I22*J22,2) -> 0
A23: 1.1.1.18 | B23: Locação Estrutura Metálica - RAMPAS (acesso pisos) | C23: 2 | D23: 16 | F23: =C23*D23 -> 32 | G23: =F23 -> 32 | H23: m²/mês | I23: =$I$6 -> 0.45 | J23: =Insumos!D10 -> 0 | K23: =TRUNC(G23*I23*J23,2) -> 0
A24: 1.1.1.19 | B24: Locação Estrutura Metálica - RAMPAS (pcd) | C24: 2 | D24: 8 | F24: =C24*D24 -> 16 | G24: =F24 -> 16 | H24: m²/mês | I24: =$I$6 -> 0.45 | J24: =Insumos!D10 -> 0 | K24: =TRUNC(G24*I24*J24,2) -> 0
A25: 1.1.1.20 | B25: Locação - GUARDA CORPO - Estrutura metalon + compensado (pisos) | C25: 2 | D25: =D21+D23 -> 42 | E25: 1.1 | F25: =E25*D25*C25 -> 92.4 | G25: =F25 -> 92.4 | H25: m²/mês | I25: =$I$6 -> 0.45 | J25: =Insumos!D31 -> 0 | K25: =TRUNC(G25*I25*J25,2) -> 0
A26: 1.1.1.21 | B26: Locação - GUARDA CORPO - Estrutura metalon + compensado (pcd) | D26: =28.15+12.2 -> 40.35 | E26: 1.1 | F26: =E26*D26 -> 44.385 | G26: =F26 -> 44.385 | H26: m²/mês | I26: =$I$6 -> 0.45 | J26: =Insumos!D31 -> 0 | K26: =TRUNC(G26*I26*J26,2) -> 0
A27: 1.1.1.22 | B27: Serviço de PINTURA (Divisórias e Guarda-corpo) | F27: =F25+F26 -> 136.785 | G27: =F27 -> 136.785 | H27: m²/mês | I27: =$I$6 -> 0.45 | J27: =Insumos!D33 -> 0 | K27: =TRUNC(G27*I27*J27,2) -> 0
A28: 1.1.1.23 | B28: Locação de DIVISÓRIAS -Estrutura metalon + madeirite (fechamento em lona) | C28: =61.65+19.85 -> 81.5 | E28: 3 | F28: =E28*C28 -> 244.5 | G28: =F28 -> 244.5 | H28: m²/mês | I28: =$I$6 -> 0.45 | J28: =Insumos!D30 -> 0 | K28: =TRUNC(G28*I28*J28,2) -> 0
A29: 1.1.1.24 | B29: Locação de SPDA e Sistema de SEGURANÇA CONTRA INCÊNDIO E PÂNICO (pavimentos sobrepostos) | F29: =F6+F7+F8 -> 910 | G29: =F29 -> 910 | H29: m²/mês | I29: =$I$6 -> 0.45 | J29: =Insumos!D28 -> 0 | K29: =TRUNC(G29*I29*J29,2) -> 0
J30: TOTAL GERAL | K30: =SUM(K6:K29) -> 0
A31: CPU-AX 8 | B31: EQUIPAMENTOS e FERRAMENTAS
A32: Item | B32: DISCRIMINAÇÃO | C32: MEMÓRIA DE CÁLCULO | G32: QUANT | H32: Unid | I32: Coef. | J32: VALOR (R$/dia) | K32: TOTAL (R$)
A34: 1.1.1.25 | B34: Locação de Empilhadeira | G34: 10 | H34: diária | I34: =G34/SUM($G$34:$G$40) -> 0.047393365 | J34: =Insumos!D49 -> 0 | K34: =TRUNC(G34*I34*J34,2) -> 0
A35: 1.1.1.26 | B35: Locação de Caminhão Munck | G35: 10 | H35: diária | I35: =G35/SUM($G$34:$G$40) -> 0.047393365 | J35: =Insumos!D50 -> 0 | K35: =TRUNC(G35*I35*J35,2) -> 0
A36: 1.1.1.27 | B36: Locação de Talha elétrica | G36: 10 | H36: diária | I36: =G36/SUM($G$34:$G$40) -> 0.047393365 | J36: =Insumos!D51 -> 0 | K36: =TRUNC(G36*I36*J36,2) -> 0
A37: 1.1.1.28 | B37: Locação de Andaimes | G37: 120 | H37: m/mês | I37: =G37/SUM($G$34:$G$40) -> 0.56872038 | J37: =Insumos!D52 -> 0 | K37: =TRUNC(G37*I37*J37,2) -> 0
A38: 1.1.1.29 | B38: Locação de Plataformas de montagem | G38: 10 | H38: und/mês | I38: =G38/SUM($G$34:$G$40) -> 0.047393365 | J38: =Insumos!D53 -> 0 | K38: =TRUNC(G38*I38*J38,2) -> 0
A39: 1.1.1.30 | B39: Kit Ferramentas de fixação e montagem | G39: 50 | H39: kit/mês | I39: =G39/SUM($G$34:$G$40) -> 0.23696682 | J39: =Insumos!D54 -> 0 | K39: =TRUNC(G39*I39*J39,2) -> 0
A40: 1.1.1.31 | B40: Locação de Plataforma elevatória para PNE | G40: 1 | H40: und/mês | I40: 1 | J40: =Insumos!D55 -> 0 | K40: =TRUNC(G40*I40*J40,2) -> 0
J41: TOTAL GERAL | K41: =SUM(K34:K40) -> 0
A42: CPU-AX 9 | B42: MATERIAIS DE CONSUMO
...

Sheet 1.5 CAMAROTE_B
A1: COMPOSIÇÕES AUXILIARES
A2: ='Composição UNIT.'!B54 -> 1.3 | B2: CAMAROTE TIPO B
A3: CPU-AX 13 | B3: ESTRUTURA, FECHAMENTO e PINTURA
A4: Item | B4: DISCRIMINAÇÃO | C4: MEMÓRIA DE CÁLCULO | G4: QUANT | H4: Unid | I4: Coef. | J4: VALOR (R$) | K4: TOTAL (R$)
C5: L (m) | D5: C (m) | E5: H(m) | F5: Área
A6: 1.1.1.1 | B6: Locação Estrutura Metálica Camarotes - Térreo, Piso 1; Piso 2 | C6: 6.5 | D6: 36 | E6: 3 | F6: =C6*D6*E6 -> 702 | G6: =C6*D6*E6 -> 702 | H6: m²/mês | I6: 0.5321246 | J6: =Insumos!D4 -> 0 | K6: =TRUNC(G6*I6*J6,2) -> 0
A7: 1.1.1.2 | B7: Locação Estrutura Metálica - COBERTA (incluindo lona) | C7: 20 | D7: 40 | F7: =C7*D7 -> 800 | G7: =C7*D7 -> 800 | H7: m²/mês | I7: 0.5321241 | J7: =Insumos!D6 -> 0 | K7: =TRUNC(G7*I7*J7,2) -> 0
A8: 1.1.1.3 | B8: Locação Estrutura Metálica - PISO | C8: 6.5 | D8: 36 | E8: 3 | F8: =C8*D8*E8 -> 702 | G8: =C8*D8*E8 -> 702 | H8: m²/mês | I8: 0.5321241 | J8: =Insumos!D7 -> 0 | K8: =TRUNC(G8*I8*J8,2) -> 0
A9: 1.1.1.5 | B9: Locação Estrutura Metálica - ESCADA | C9: 1.5 | D9: 16 | F9: =C9*D9 -> 24 | G9: =C9*D9 -> 24 | H9: m²/mês | I9: 0.5321241 | J9: =Insumos!D9 -> 0 | K9: =TRUNC(G9*I9*J9,2) -> 0
A10: 1.1.1.6 | B10: Locação de DIVISÓRIAS - Estrutura metalon + compensado | D10: 336.8 | E10: 3 | F10: =D10*E10 -> 1010.4 | G10: =F10 -> 1010.4 | H10: m²/mês | I10: 0.5321241 | J10: =Insumos!D30 -> 0 | K10: =TRUNC(G10*I10*J10,2) -> 0
A11: 1.1.1.7 | B11: Locação - GUARDA CORPO - Estrutura metalon + compensado | C11: 1.2 | D11: 56.1 | E11: 3 | F11: =C11*D11*E11 -> 201.96 | G11: =C11*D11*E11 -> 201.96 | H11: m²/mês | I11: 0.5321241 | J11: =Insumos!D31 -> 0 | K11: =TRUNC(G11*I11*J11,2) -> 0
A12: 1.1.1.8 | B12: Locação Estrutura Metálica - RAMPAS | C12: 14.3 | D12: 56.1 | F12: =C12*D12 -> 802.23 | G12: =C12*D12 -> 802.23 | H12: m²/mês | I12: 0.5321241 | J12: =Insumos!D10 -> 0 | K12: =TRUNC(G12*I12*J12,2) -> 0
A13: 1.1.1.9 | B13: Serviço de PINTURA (Divisórias e Guarda-corpo) | F13: =F10+F11 -> 1212.36 | G13: =F13 -> 1212.36 | H13: m²/mês | I13: 0.5321241 | J13: =Insumos!D33 -> 0 | K13: =TRUNC(F13*I13*J13,2) -> 0
A14: 1.1.1.10 | B14: Locação de SPDA e Sistema de SEGURANÇA CONTRA INCÊNDIO E PÂNICO (3 pavimentos sobrepostos) | G14: =C6*D6 -> 234 | H14: m²/mês | I14: 0.5321241 | J14: =Insumos!D27 -> 0 | K14: =TRUNC(G14*I14*J14,2) -> 0
J15: TOTAL GERAL | K15: =SUM(K6:K14) -> 0
A16: CPU-AX 14 | B16: EQUIPAMENTOS e FERRAMENTAS
A17: Item | B17: DISCRIMINAÇÃO | C17: MEMÓRIA DE CÁLCULO | G17: QUANT | H17: Unid | I17: Coef. | J17: VALOR (R$/dia) | K17: TOTAL (R$)
A19: 1.1.1.11 | B19: Locação de Empilhadeira | G19: 4 | H19: diária | I19: 1 | J19: =Insumos!D49 -> 0 | K19: =TRUNC(G19*I19*J19,2) -> 0
A20: 1.1.1.12 | B20: Locação de Caminhão Munck | G20: 4 | H20: diária | I20: 1 | J20: =Insumos!D50 -> 0 | K20: =TRUNC(G20*I20*J20,2) -> 0
A21: 1.1.1.13 | B21: Locação de Talha elétrica | G21: 12 | H21: diária | I21: 1 | J21: =Insumos!D51 -> 0 | K21: =TRUNC(G21*I21*J21,2) -> 0
A22: 1.1.1.14 | B22: Locação de Andaimes | G22: 60 | H22: m/mês | I22: 0.75 | J22: =Insumos!D52 -> 0 | K22: =TRUNC(G22*I22*J22,2) -> 0
A23: 1.1.1.15 | B23: Locação de Plataformas de montagem | G23: 12 | H23: und/mês | I23: 0.75 | J23: =Insumos!D53 -> 0 | K23: =TRUNC(G23*I23*J23,2) -> 0
A24: 1.1.1.16 | B24: Kit Ferramentas de fixação e montagem | G24: 10 | H24: kit/mês | I24: 0.75 | J24: =Insumos!D54 -> 0 | K24: =TRUNC(G24*I24*J24,2) -> 0
J25: TOTAL GERAL | K25: =SUM(K19:K24) -> 0
A26: CPU-AX 15 | B26: MATERIAIS DE CONSUMO
A27: Item | B27: DISCRIMINAÇÃO | C27: MEMÓRIA DE CÁLCULO | G27: QUANT | H27: Unid | I27: Coef. | J27: VALOR (R$)dia | K27: TOTAL (R$)
A29: 1.1.1.17 | B29: Elementos de fixação (parafusos / cabo de aço / grampos) | G29: 68.186875 | H29: Kg | I29: 0.2 | J29: =Insumos!D58 -> 0 | K29: =TRUNC(G29*I29*J29,2) -> 0
A30: 1.1.1.18 | B30: Compensado resinado 12mm (chapas de 110x220cm) | G30: 231.66 | H30: m² | I30: 0.25 | J30: =Insumos!D69 -> 0 | K30: =TRUNC(G30*I30*J30,2) -> 0
A31: 1.1.1.19 | B31: Tinta acrílica | G31: 5.148 | H31: galão | I31: 1 | J31: =Insumos!D60 -> 0 | K31: =TRUNC(G31*I31*J31,2) -> 0
A32: 1.1.1.20 | B32: Tinta esmalte sintético | G32: 29.018278 | H32: galão | I32: 1 | J32: =Insumos!D61 -> 0 | K32: =TRUNC(G32*I32*J32,2) -> 0
A33: 1.1.1.21 | B33: Solvente / Aguaráz | G33: 20.727341 | H33: L | I33: 1 | J33: =Insumos!D62 -> 0 | K33: =TRUNC(G33*I33*J33,2) -> 0
A34: 1.1.1.22 | B34: Rolo de espuma 15cm | G34: 8 | H34: Unid | I34: 0.5 | J34: =Insumos!D63 -> 0 | K34: =TRUNC(G34*I34*J34,2) -> 0
A35: 1.1.1.23 | B35: Rolo de lã 23cm | G35: 4 | H35: Unid | I35: 0.5 | J35: =Insumos!D64 -> 0 | K35: =TRUNC(G35*I35*J35,2) -> 0
A36: 1.1.1.24 | B36: Trincha para pintura (2") | G36: 6 | H36: Unid | I36: 0.25 | J36: =Insumos!D65 -> 0 | K36: =TRUNC(G36*I36*J36,2) -> 0
A37: 1.1.1.25 | B37: Bucha de limpeza | G37: 4.65264 | H37: kg | I37: 1 | J37: =Insumos!D66 -> 0 | K37: =TRUNC(G37*I37*J37,2) -> 0
A38: 1.1.1.26 | B38: Barbante | G38: 3.5448686 | H38: Rolo | I38: 1 | J38: =Insumos!D67 -> 0 | K38: =TRUNC(G38*I38*J38,2) -> 0
A39: 1.1.1.27 | B39: Abraçadeira Plástica (15 x 0,5cm a 50 x 1,3cm) 100und | G39: 2.1269211 | H39: pacote | I39: 1 | J39: =Insumos!D68 -> 0 | K39: =TRUNC(G39*I39*J39,2) -> 0
J40: TOTAL GERAL | K40: =SUM(K29:K39) -> 0
A41: CPU-AX 16 | B41: REFEIÇÃO
A42: Item | B42: DISCRIMINAÇÃO | C42: MEMÓRIA DE CÁLCULO | G42: QUANT | H42: Unid | I42: Coef. | J42: VALOR (R$)/dia | K42: TOTAL (R$)
...

Sheet 3 Pav. Restaurantes
A1: COMPOSIÇÕES AUXILIARES
A2: 3 | B2: PAVILHÃO RESTAURANTES
A3: CPU-AX 13 | B3: ESTRUTURA, FECHAMENTO e PINTURA
A4: Item | B4: DISCRIMINAÇÃO | C4: MEMÓRIA DE CÁLCULO | G4: QUANT | H4: Unid | I4: Coef. | J4: VALOR (R$)dia | K4: TOTAL (R$)
C5: L (m) | D5: C (m) | E5: H(m) | F5: Área
A6: 1.1.1.1 | B6: Locação Estrutura Metálica - PAVILHÃO | C6: 45 | D6: 20 | F6: =C6*D6 -> 900 | G6: =F6 -> 900 | H6: m²/mês | I6: 0.9 | J6: =Insumos!D19 -> 0 | K6: =TRUNC(I6*G6*J6,2) -> 0
A7: 1.1.1.2 | B7: Locação Estrutura Metálica - COBERTA (incluindo lona) - restaurantes | C7: 45 | D7: 5 | F7: =C7*D7 -> 225 | G7: =F7 -> 225 | H7: m²/mês | I7: =$I$6 -> 0.9 | J7: =Insumos!D6 -> 0 | K7: =TRUNC(I7*G7*J7,2) -> 0
A8: 1.1.1.3 | B8: Locação Estrutura Metálica - PISO - restaurantes | C8: 45 | D8: 25 | F8: =C8*D8 -> 1125 | G8: =F8 -> 1125 | H8: m²/mês | I8: =$I$6 -> 0.9 | J8: =Insumos!D7 -> 0 | K8: =TRUNC(I8*G8*J8,2) -> 0
A9: 1.1.1.4 | B9: Locação estrutura Estande- PAINÉIS TS formicado | C9: 11 | D9: 17 | E9: 1 | F9: =D9*E9*C9 -> 187 | G9: =F9 -> 187 | H9: m²/mês | I9: =$I$6 -> 0.9 | J9: =Insumos!D24 -> 0 | K9: =TRUNC(I9*G9*J9,2) -> 0
A10: 1.1.1.5 | B10: Locação de DIVISÓRIAS - Estrutura metalon + compensado - COZINHA | C10: 8 | D10: 5 | E10: 10 | F10: =D10*E10*C10 -> 400 | G10: =F10 -> 400 | H10: m²/mês | I10: =$I$6 -> 0.9 | J10: =Insumos!D30 -> 0 | K10: =TRUNC(I10*G10*J10,2) -> 0
A11: 1.1.1.6 | B11: Locação Estrutura Metálica - TESTEIRA I | D11: 45 | E11: 1.3 | F11: =E11*D11 -> 58.5 | G11: =F11 -> 58.5 | H11: m²/mês | I11: =$I$6 -> 0.9 | J11: =Insumos!D11 -> 0 | K11: =TRUNC(I11*G11*J11,2) -> 0
A12: 1.1.1.7 | B12: Locação Estrutura Metálica - PASSARELA (acesso servidores) | C12: 2.5 | D12: 11.48 | F12: =C12*D12 -> 28.7 | G12: =F12 -> 28.7 | H12: m²/mês | I12: =$I$6 -> 0.9 | J12: =Insumos!D15 -> 0 | K12: =TRUNC(I12*G12*J12,2) -> 0
A13: 1.1.1.8 | B13: Locação Estrutura Metálica - ESCADA (acesso servidores) | C13: 2.82 | D13: 1.69 | F13: =C13*D13 -> 4.7658 | G13: =F13 -> 4.7658 | H13: m²/mês | I13: =$I$6 -> 0.9 | J13: =Insumos!D9 -> 0 | K13: =TRUNC(I13*G13*J13,2) -> 0
A14: 1.1.1.9 | B14: Locação Estrutura Metálica - ESCADA (acesso mesas) | C14: 2 | D14: 6.8 | F14: =C14*D14 -> 13.6 | G14: =F14 -> 13.6 | H14: m²/mês | I14: =$I$6 -> 0.9 | J14: =Insumos!D9 -> 0 | K14: =TRUNC(I14*G14*J14,2) -> 0
A15: 1.1.1.10 | B15: Locação Estrutura Metálica - ESCADA (acesso mesas) | C15: 3 | D15: 1.83 | F15: =C15*D15 -> 5.49 | G15: =F15 -> 5.49 | H15: m²/mês | I15: =$I$6 -> 0.9 | J15: =Insumos!D9 -> 0 | K15: =TRUNC(I15*G15*J15,2) -> 0
A16: 1.1.1.11 | B16: Locação Estrutura Metálica - RAMPAS (acesso mesas) | C16: 1.25 | D16: =8.25+6.05 -> 14.3 | F16: =C16*D16 -> 17.875 | G16: =F16 -> 17.875 | H16: m²/mês | I16: =$I$6 -> 0.9 | J16: =Insumos!D10 -> 0 | K16: =TRUNC(I16*G16*J16,2) -> 0
A17: 1.1.1.12 | B17: Locação - GUARDA CORPO - Estrutura metalon + compensado | C17: 2 | D17: =D12+D13+D14+D16+D15 -> 36.1 | E17: 1.1 | F17: =C17*D17*E17 -> 79.42 | G17: =F17 -> 79.42 | H17: m²/mês | I17: =$I$6 -> 0.9 | J17: =Insumos!D31 -> 0 | K17: =TRUNC(I17*G17*J17,2) -> 0
A18: 1.1.1.13 | B18: Serviço de PINTURA (Divisórias e Guarda-corpo) | F18: =F17 -> 79.42 | G18: =F18 -> 79.42 | H18: m²/mês | I18: =$I$6 -> 0.9 | J18: =Insumos!D33 -> 0 | K18: =TRUNC(I18*G18*J18,2) -> 0
A19: 1.1.1.14 | B19: Locação de SPDA e Sistema de SEGURANÇA CONTRA INCÊNDIO E PÂNICO (pavimentos sobrepostos) | F19: =F8 -> 1125 | G19: =F19 -> 1125 | H19: m²/mês | I19: =$I$6 -> 0.9 | J19: =Insumos!D28 -> 0 | K19: =TRUNC(I19*G19*J19,2) -> 0
J20: TOTAL GERAL | K20: =SUM(K6:K19) -> 0
A21: CPU-AX 14 | B21: EQUIPAMENTOS e FERRAMENTAS
A22: Item | B22: DISCRIMINAÇÃO | C22: MEMÓRIA DE CÁLCULO | G22: QUANT | H22: Unid | I22: Coef. | J22: VALOR (R$)dia | K22: TOTAL (R$)
A24: 1.1.1.15 | B24: Locação de Empilhadeira | G24: 10 | H24: diária | I24: =G24/SUM($G$24:$G$29) -> 0.069444444 | J24: =Insumos!D49 -> 0 | K24: =TRUNC(I24*G24*J24,2) -> 0
A25: 1.1.1.16 | B25: Locação de Caminhão Munck | G25: 10 | H25: diária | I25: =G25/SUM($G$24:$G$29) -> 0.069444444 | J25: =Insumos!D50 -> 0 | K25: =TRUNC(I25*G25*J25,2) -> 0
A26: 1.1.1.17 | B26: Locação de Talha elétrica | G26: 10 | H26: diária | I26: =G26/SUM($G$24:$G$29) -> 0.069444444 | J26: =Insumos!D51 -> 0 | K26: =TRUNC(I26*G26*J26,2) -> 0
A27: 1.1.1.18 | B27: Locação de Andaimes | G27: 60 | H27: m/mês | I27: =G27/SUM($G$24:$G$29) -> 0.41666667 | J27: =Insumos!D52 -> 0 | K27: =TRUNC(I27*G27*J27,2) -> 0
A28: 1.1.1.19 | B28: Locação de Plataformas de montagem | G28: 4 | H28: und/mês | I28: =G28/SUM($G$24:$G$29) -> 0.027777778 | J28: =Insumos!D53 -> 0 | K28: =TRUNC(I28*G28*J28,2) -> 0
A29: 1.1.1.20 | B29: Kit Ferramentas de fixação e montagem | G29: 50 | H29: kit/mês | I29: =G29/SUM($G$24:$G$29) -> 0.34722222 | J29: =Insumos!D54 -> 0 | K29: =TRUNC(I29*G29*J29,2) -> 0
J30: TOTAL GERAL | K30: =SUM(K24:K29) -> 0
A31: CPU-AX 15 | B31: MATERIAIS DE CONSUMO
A32: Item | B32: DISCRIMINAÇÃO | C32: MEMÓRIA DE CÁLCULO | G32: QUANT | H32: Unid | I32: Coef. | J32: VALOR (R$)dia | K32: TOTAL (R$)
A34: 1.1.1.21 | B34: Elementos de fixação (parafusos / cabo de aço / grampos) | G34: =G19/60 -> 18.75 | H34: Kg | I34: =G34/SUM($G$34:$G$44) -> 0.013229353 | J34: =Insumos!D58 -> 0 | K34: =TRUNC(I34*G34*J34,2) -> 0
A35: 1.1.1.22 | B35: Compensado resinado 12mm (chapas de 110x220cm) | G35: =F8+F18 -> 1204.42 | H35: m² | I35: =G35/SUM($G$34:$G$44) -> 0.84979716 | J35: =Insumos!D69 -> 0 | K35: =TRUNC(I35*G35*J35,2) -> 0
A36: 1.1.1.23 | B36: Tinta acrílica | G36: =G35*0.21/3.6 -> 70.257833 | H36: galão | I36: =G36/SUM($G$34:$G$44) -> 0.049571501 | J36: =Insumos!D60 -> 0 | K36: =TRUNC(I36*G36*J36,2) -> 0
A37: 1.1.1.24 | B37: Tinta esmalte sintético | G37: =G36 -> 70.257833 | H37: galão | I37: =G37/SUM($G$34:$G$44) -> 0.049571501 | J37: =Insumos!D61 -> 0 | K37: =TRUNC(I37*G37*J37,2) -> 0
A38: 1.1.1.25 | B38: Solvente / Aguaráz | G38: =G35*0.021 -> 25.29282 | H38: L | I38: =G38/SUM($G$34:$G$44) -> 0.01784574 | J38: =Insumos!D62 -> 0 | K38: =TRUNC(I38*G38*J38,2) -> 0
A39: 1.1.1.26 | B39: Rolo de espuma 15cm | G39: 8 | H39: Unid | I39: =G39/SUM($G$34:$G$44) -> 0.0056445238 | J39: =Insumos!D63 -> 0 | K39: =TRUNC(I39*G39*J39,2) -> 0
A40: 1.1.1.27 | B40: Rolo de lã 23cm | G40: 4 | H40: Unid | I40: =G40/SUM($G$34:$G$44) -> 0.0028222619 | J40: =Insumos!D64 -> 0 | K40: =TRUNC(I40*G40*J40,2) -> 0
A41: 1.1.1.28 | B41: Trincha para pintura (2") | G41: 6 | H41: Unid | I41: =G41/SUM($G$34:$G$44) -> 0.0042333928 | J41: =Insumos!D65 -> 0 | K41: =TRUNC(I41*G41*J41,2) -> 0
A42: 1.1.1.29 | B42: Bucha de limpeza | G42: 4.65264 | H42: kg | I42: =G42/SUM($G$34:$G$44) -> 0.0032827421 | J42: =Insumos!D66 -> 0 | K42: =TRUNC(I42*G42*J42,2) -> 0
...

Sheet 4 Camarote Imprensa
A1: COMPOSIÇÕES AUXILIARES
A2: 4 | B2: CAMAROTE IMPRENSA
A3: CPU-AX 19 | B3: ESTRUTURA, FECHAMENTO e PINTURA
A4: Item | B4: DISCRIMINAÇÃO | C4: MEMÓRIA DE CÁLCULO | G4: QUANT | H4: Unid | I4: Coef. | J4: VALOR (R$)dia | K4: TOTAL (R$)
C5: L (m) | D5: C (m) | E5: H(m) | F5: Área
A6: 1.1.1.1 | B6: Locação Estrutura Metálica - PAVILHÃO | C6: 15 | D6: 30 | F6: =C6*D6 -> 450 | G6: =F6 -> 450 | H6: m²/mês | I6: 0.7 | J6: =Insumos!D19 -> 0 | K6: =TRUNC(I6*G6*J6,2) -> 0
A7: 1.1.1.2 | B7: Locação Estrutura Metálica - COBERTA | C7: 15 | D7: 30 | F7: =C7*D7 -> 450 | G7: =F7 -> 450 | H7: m²/mês | I7: 0.7 | J7: =Insumos!D6 -> 0 | K7: =TRUNC(I7*G7*J7,2) -> 0
A8: 1.1.1.3 | B8: Locação Estrutura Metálica - PISO (hall) | C8: 5 | D8: 30 | F8: =C8*D8 -> 150 | G8: =F8 -> 150 | H8: m²/mês | I8: 0.7 | J8: =Insumos!D7 -> 0 | K8: =TRUNC(I8*G8*J8,2) -> 0
A9: 1.1.1.4 | B9: Locação Estrutura Metálica - PISO (piso 1) | C9: 10 | D9: 30 | F9: =C9*D9 -> 300 | G9: =F9 -> 300 | H9: m²/mês | I9: 0.7 | J9: =Insumos!D7 -> 0 | K9: =TRUNC(I9*G9*J9,2) -> 0
A10: 1.1.1.5 | B10: Locação Estrutura Metálica - PISO (piso 2) | C10: 8 | D10: 30 | F10: =C10*D10 -> 240 | G10: =F10 -> 240 | H10: m²/mês | I10: 0.7 | J10: =Insumos!D7 -> 0 | K10: =TRUNC(I10*G10*J10,2) -> 0
A11: 1.1.1.6 | B11: Locação estrutura Estande- PAINÉIS TS formicado (piso 1) | C11: 8 | D11: 30 | F11: =D11*C11 -> 240 | G11: =F11 -> 240 | H11: m²/mês | I11: 0.7 | J11: =Insumos!D24 -> 0 | K11: =TRUNC(I11*G11*J11,2) -> 0
A12: 1.1.1.7 | B12: Locação estrutura Estande- PAINÉIS TS formicado (piso 2) | C12: 5.5 | D12: 30 | F12: =D12*C12 -> 165 | G12: =F12 -> 165 | H12: m²/mês | I12: 0.7 | J12: =Insumos!D24 -> 0 | K12: =TRUNC(I12*G12*J12,2) -> 0
