Workbook
Name AA_HI: #REF!
Name AA_HP: #REF!
Name AC: [1]BDI!$E$8
Name AC: [2]BDI!$D$7
Name AE_HI: [1]E3!$F$37
Name AE_HP: [1]E3!$F$36
Name AF_HI: '[1]E2-D'!$F$38
Name AF_HP: '[1]E2-D'!$F$37
Name AL_HI: #REF!
Name AL_HP: #REF!
Name AN_HI: [1]E6!$F$37
Name AN_HP: [1]E6!$F$36
Name AQ_HI: #REF!
Name AQ_HP: #REF!
Name AS_HI: [1]E4!$F$37
Name AS_HP: [1]E4!$F$36
Name AZ_HI: #REF!
Name AZ_HP: #REF!
Name BDI: [1]BDI!$E$30
Name CATEG_ITENS: '[1]Preços-Itens'!$C$6:$C$19
Name CENÁRIO_DO_ORÇAMENTO: '[1]Menu-1'!$M$13
Name CIDADE: '[1]Menu-1'!$F$5
Name CLIENTE: '[1]PV-Parametros'!$A$6
Name COFINS: '[1]D.R.E'!$E$17
Name COMB_DIESEL: '[1]Preços-Itens'!$D$100
Name COMB_GASOLINA: '[1]Preços-Itens'!$D$101
Name CREDITO_CONFINS: '[1]ORÇ-Síntese por Classificação'!$I$179
Name CREDITO_PIS: '[1]ORÇ-Síntese por Classificação'!$H$179
Name CSSL: '[1]D.R.E'!$E$26
Name CUC_CB12M³: #REF!
Name CUC_CBAU24M³: [1]BA!$F$38
Name CUC_CC15M³: '[1]E2-D'!$F$39
Name CUC_CCM14M³: [1]AC!$F$38
Name CUC_CMK10M³: [1]AK!$F$38
Name CUC_MT150CC: #REF!
Name CUC_MTG54CC: [1]E6!$F$38
Name CUC_ÔNIBUS: [1]AJ!$F$38
Name CUC_PC924H: #REF!
Name CUC_POLIG_ART: [1]AT!$G$42
Name CUC_RCG1.1Kw: [1]E3!$F$38
Name CUC_RET_CAT416E: [1]AM!$F$38
Name CUC_TCMLSP: [1]AU!$G$42
Name CUC_TED6: #REF!
Name CUC_TP_BC1200XL: [1]AR!$F$38
Name CUC_VP_61CV: [1]E4!$F$38
Name CUC_VUTF: [1]BB!$F$38
Name CUSTO_ENTREGAS: '[1]CT-A'!$G$4:$G$34
Name CUSTO_TOTAL_DIRETO: '[1]D.R.E'!$E$35
Name CUSTOS_FIXOS: '[1]D.R.E'!$F$23
Name CUSTOS_VARIAVEIS: '[1]ORÇ-Síntese por Classificação'!$G$179
Name D1_DESC_SERVIÇO: #REF!
Name D1_QUANT: #REF!
Name D1_TT_CT: #REF!
Name D1_UND: #REF!
Name D1_VL_UNIT: #REF!
Name D2_QUANT: [1]D2!$D$74
Name D2_VL_UNIT: [1]D2!$D$75
Name D3_QUANT: [1]D3!$D$75
Name D3_VL_UNIT: [1]D3!$D$76
Name D4_DESC_SERVIÇO: #REF!

Sheet PLANILHA PRINCIPAL
A2: PREFEITURA MUNICIPAL DE CACHOEIRINHA/PE
A4: OBJETO : Contratação de empresa de locação maquina para aração de terra.
A6: ITEM | B6: DESCRIÇÃO | C6: QTD. DE VEIC. | D6: UNID. | E6: QTD MENSAL NO PERÍODO | F6: VALOR DA HORA | G6: VALOR UNIT MENSAL | H6: VALOR TOTAL NO PERÍODO
A7: 1 | B7: Trator de pneu com potência minima de 130 cv, tração 4x4, equipado com . Operador e combustivel por conta da contratada. Equipado com todos os equipamentos com grade de aração de controle remoto de 28 discos com 20” x 3,5,DIÂMETRO DO EIXO 1.1/4” (31,75mm), RODA (16”x 5,5”);e documentos exigidos pelo CTB (código de trânsito brasileiro) Com idade de até 10 anos de fabricação. | C7: 10 | D7: HORA | E7: =10*220 -> 2200 | F7: =ROUND('ITEM 01.'!$D$152/220,2) -> 247.46 | G7: =F7*220 -> 54441.2 | H7: =E7*F7 -> 544412 | I7: +
A8: 5 | B8: Grade niveladora de controle remoto de 28 discos com 20” x 3,5,DIÂMETRO DO EIXO 1.1/4” (31,75mm), RODA (16”x 5,5”); POTÊNCIA INDICADA 85 cv; cor cinza; ano não inferior a 2025 | C8: 0 | D8: MENSAL | E8: 22 | F8: ='ITEM 06'!D150/E8 -> 60.597526 | G8: =F8*E8 -> 1333.1456 | H8: =ROUND(G8*C8,2) -> 0
A9: 6 | B9: Veículo tipo "Caminhão leve utilitário 3/4" equipado com cesto aereo, COM motorista e SEM combustivel. CARACTERISTICAS MÍNIMAS: Com motor diesel, potência maxima de 148 cv, PBT 4 toneladas , equipado com carroceria para transporte de merenda para as escolas, EM PERFEITO ESTADO DE CONSERVAÇÃO. ANO DO VEÍCULO NÃO INFERIOR A 2015. Disponibilização do Veículo: Tempo Integral. Equipado com todos os componentes de segurança exigidos pelo CONTRAN. | C9: 0 | D9: MENSAL | E9: 22 | F9: ='ITEM 07.'!D140/E9 -> 917.3629 | G9: =F9*E9 -> 20181.984 | H9: =ROUND(G9*C9,2) -> 0
A10: 8 | B10: Carreta basculante hidráulico. Capacidade de carga 5 Ton 5,13m³; Dimensões da carroceria externa (CxLxA) 3,26 x 1,85 x 1,00; Dimensões totais << Carreta c/ pneus 700 x 16" e cabeçalho 4,60 x 1,85 x 2,35; Quantidade de rodas x aro 4 aro 16" 6 furos; Altura da carreta basculada 3,45m; Distância entre eixos 950mm mod. Tandem; Chassi Perfil "U" chapa 1/4; Freio Opcional; Engate Rígido; Ângulo inclinado basculante 45°; ano não inferior a 2025. | C10: 0 | D10: MENSAL | E10: 22 | F10: ='ITEM 08.'!D150/E10 -> 80.232002 | G10: =F10*E10 -> 1765.1041 | H10: =ROUND(G10*C10,2) -> 0
A12: TOTAL GLOBAL | H12: =H7 -> 544412
A14: LOTE II
A15: ITEM | B15: DESCRIÇÃO | C15: QTD. DE VEIC. | D15: UNID. | E15: QTD MENSAL | F15: VALOR DIARIA | G15: VALOR UNIT MENSAL | H15: VALOR TOTAL MENSAL
A16: 1 | B16: Veículo tipo "caminhonete 4X4", COM motorista e SEM combustivel. CARACTERISTICAS MÍNIMAS: Veículo tipo utilitário, fabricação nacional ou importado, com ano de fabricação/modelo mínimo 2025, motor dianteiro de 04 (quatro) cilindros em linha, movido à Diesel com turbo compressor; Potência mínima de 170 CV, com no mínimo 1.956 cilindradas cm³; Câmbio automático de no mínimo 5 velocidades à frente e uma à ré; Tração 4x4; Com freios a discos nas 04 (quatro) rodas; 04 portas laterais; Capacidade mínima para 04 pessoas mais o motorista; Com direção hidráulica ou elétrica, ar condicionado, vidros elétricos em todas as portas laterais, pintura sólida ou metálica. SEM MARCAS DE USO. Disponibilização do Veículo: Tempo Integral. Equipado com todos os componentes de segurança exigidos pelo CONTRAN. | C16: 0 | D16: DIARIA | E16: 22 | F16: ='ITEM 01.'!D152/E16 -> 2474.5554 | G16: =F16*E16 -> 54440.218 | H16: =ROUND(G16*C16,2) -> 0
A18: TOTAL GERAL LOTE II | H18: =H16 -> 0
A20: VALOR GLOBAL LOTE I + II | H20: =H18+H12 -> 544412

Sheet DADOS DE ENTRADA
A1: MATRIZ DE PREÇOS E INSUMOS
A3: Salários | D3: Equipamentos | G3: Índices de consumo estimados
A4: Veículos Pesados (Acima de 18.000 Kg) | B4: 3228.27
A5: Veículos Pesados (Entre 14.001Kg e 18.000 Kg) | B5: 2663.03 | D5: Motocicleta 160cc | E5: 13540 | G5: Motocicleta 150cc - km/l
A6: Veículos Médios | B6: 2495.88 | D6: Motocicleta 160cc Alta | E6: 17167 | G6: Motocicleta 160cc - km/l
A7: Veículos Semi-Leves | B7: 1910.5 | D7: Veículo Passeio 1.0 | E7: 71448 | G7: Veículo Passeio 1.0 - km/l
A8: Veículos Leves | B8: 1840.39 | D8: Veículo Passeio 1.4 | E8: 72149 | G8: Veículo Passeio 1.4 - km/l
A9: Tratorista e Operadores de Maquinas Agrícolas. | B9: 2495.88 | D9: Chassi Ambulancia Tipo A | E9: 68083 | G9: Chassi Ambulancia Tipo A - km/l
D10: Pick-Up Compacta 1.4 | E10: 66100 | G10: Pick-Up Compacta 1.4 - km/l
A11: Benefícios | D11: Pick-Up 4x2 | G11: Pick-Up 4x2 - km/l
A12: Leis sociais | B12: 0.7 | D12: Pick-Up 4x4 | E12: 319900 | G12: Pick-Up 4x4 - km/l
A13: Taxas - BDI | D13: Suv Compacta | E13: 84119 | G13: Suv Compacta - Km/l
A14: Taxa de juros anual | B14: 0.1325 | D14: SUV 4x4 | E14: 248040 | G14: SUV 4x4 - Km/l
A15: PIS | B15: 0.0065 | D15: Caminhão 3/4 | E15: 152544 | G15: Caminhão 3/4 - km/l
A16: COFINS | B16: 0.03 | D16: Caminhão toco | E16: 311269 | G16: Caminhão toco - km/l
A17: ISS | B17: 0.05 | D17: Caminhão trucado | E17: 249931 | G17: Caminhão trucado - km/l
A18: Taxa de administração | B18: 0.0449 | D18: Micro Onibus | E18: 290000 | G18: Micro Onibus - km/l
A19: Risco | B19: 0.0089 | D19: Onibus | E19: 400000 | G19: Ônibus - km/l
A20: Seguro e garantia | B20: 0.0082 | D20: Veículo tipo Van | E20: 158971 | G20: Veículo tipo Van - km/l
A21: Despesas financeiras | B21: 0.0111 | D21: Trator | E21: 165000 | G21: Trator - l/h
A22: Lucro | B22: 0.0622 | D22: Retroescavadeira | E22: 299500 | G22: Retroescavadeira - l/h
A23: Taxas - veículos | D23: Trator de Esteiras | G23: Trator de Esteiras - l/h
A24: Seguro total | B24: 0.05 | D24: Motoniveladora | E24: 635000 | G24: Motoniveladora - l/h
D25: Rolo Compactador | G25: Rolo Compactador - l/h
A26: IPVA - automóveis | B26: 0.024 | D26: Escavadeira | G26: Escavadeira - l/h
A27: IPVA - motos | B27: 0.024 | G27: Caminhão caçamba 6m³ - km/l
A28: IPVA - caminhões | B28: 0.01 | G28: Caminhão caçamba 12m³ - km/l
A29: Licenciamento veículos | B29: 151.89 | G29: Caminhão compactador 15m³ - km/l
A30: Prevenção de incêndio (bombeiros) | B30: 22.78 | G30: Caminhão carroceria 7,5m³ - km/l
A31: Implementos | D31: Pneumáticos | G31: Combustível
A32: Implemento Carroceria | B32: 6500 | D32: Pneu caminhão/ônibus | E32: 2288.25 | G32: Gasolina - R$/l | H32: 6.49
A33: Implemento Carroceria com cabine | B33: 19900 | D33: Pneu retro/motoniveladora/trator s/camara | E33: 3243.87 | G33: Óleo Diesel S10 - R$/l | H33: 6.29
A34: Implemento Baú | B34: 20000 | D34: Pneu carro leve | E34: 429.9 | G34: Óleos e lubrificantes - Veículos Leves
A35: Implemento Baú | B35: 30000 | D35: Pneu Caminhonete | E35: 773.21 | G35: Óleo de motor - R$/l | H35: 27.56
A36: Implemento gaiola boiadeira | B36: 38000 | D36: Pneu motocicleta | E36: 197.05 | G36: Óleo hidráulico - R$/l | H36: 32.19
A37: Tanque Pipa 9000 L | B37: 20000 | G37: Óleo de Transmissão - R$/l | H37: 21.9
A38: Implemento munck | B38: 85000 | G38: Graxa para lubrificação - R$/kg | H38: 19.49
A39: Implemento Prancha | B39: 75000 | G39: Óleos e lubrificantes - Veículos Pesados
A40: Implemento | B40: 13000 | G40: Óleo de motor - R$/l | H40: 29.45
A41: Implemento Basculante 12m | B41: 40000 | G41: Óleo hidráulico - R$/l | H41: 21.29
...

Sheet ITEM 02
A1: ='PLANILHA PRINCIPAL'!#REF! -> #REF!
A3: BASE DE CALCULO VEICULO: Volkswagen Polo 1.0 Flex 12V 5p 2022 Gasolina
A6: AN0:2022
A7: Salário | B7: Quantidade | C7: Custo Unitário | D7: Custo Total
A8: Motorista | B8: 0 | C8: ='DADOS DE ENTRADA'!B8 -> 1840.39 | D8: =+C8*B8 -> 0
D9: =D8 -> 0 | E9: (R$)
A11: Leis Sociais ( % ) | B11: Quantidade | C11: Custo Unitário | D11: Custo Total
A12: Encargos Sociais | B12: ='DADOS DE ENTRADA'!B12 -> 0.7 | C12: =D8*B12 -> 0 | D12: =C12+D9 -> 0
C13: Sub-total | D13: =ROUND(SUM(D12),2) -> 0 | E13: (R$)
B16: TOTAL MENSAL | D16: =D13 -> 0 | E16: (R$)
B17: (mão de obra direta)
A19: a) Depreciação:
A21: Serão considerarados valores residuais de 20% | D21: 0.2
B23: N° de Veículos | D23: 1 | E23: (ud)
B24: Valor do Veiculo | D24: ='DADOS DE ENTRADA'!E7 -> 71448 | E24: (R$)
B25: Valor do implemento | D25: 0
B26: Vida Útil do Equipamento | D26: 5 | E26: (anos)
B27: Valor residual | D27: =(D24+D25)*D21 -> 14289.6 | E27: (R$)
B28: Horas trabalhadas por ano | D28: 2504.64 | E28: (h/a)
B29: Valor depreciado em horas | D29: =(D24-D27)/(D26*D28) -> 4.5642008 | E29: (R$)
B30: Valor depreciado | D30: =D29*D28 -> 11431.68 | E30: (R$)
B31: Depreciação Mensal | D31: =D30/12 -> 952.64 | E31: (R$/mês)
B32: Para todas as Pick-Up | D32: =D23*D31 -> 952.64 | E32: (R$/mês)
A35: b) Remuneração do Capital Investido
A37: O cálculo do coeficiente de remuneração 'C' é dado por:
B38: C = [(2 + (n - 1) * (k + 1)) / (24 n)] * j, onde:
B40: k = % residual | C40: 0.2
B41: n = vida útil (anos) | C41: 5
B42: j = juros (ao ano) | C42: ='DADOS DE ENTRADA'!B14 -> 0.1325
B43: C = | C43: =((2+(C41-1)*(C40+1))/(24*C41)*C42) -> 0.0075083333
B45: N° de Veículos | D45: 1 | E45: (ud)
B46: Valor do caminhão | D46: =D24+D25 -> 71448 | E46: (R$)
B47: Coeficiente de remuneração | D47: =C43 -> 0.0075083333
B48: Custo de capital | D48: =D46*D47 -> 536.4554 | E48: (R$)
B49: Para todos os caminhões | D49: =D48*D45 -> 536.4554
A51: c) Licenciamentos e Seguros
C52: Taxa de licenciamento | D52: ='DADOS DE ENTRADA'!B29 -> 151.89 | E52: (R$)
C53: Taxa de bombeiros | D53: ='DADOS DE ENTRADA'!B30 -> 22.78 | E53: (R$)
B55: N° de Veículos | D55: 1 | E55: (ud)
B56: Valor do chassi | D56: =D46 -> 71448 | E56: (R$)
...

Sheet ITEM 04
A1: ='PLANILHA PRINCIPAL'!B16 -> Veículo tipo "caminhonete 4X4", COM motorista e SEM combustivel. CARACTERISTICAS MÍNIMAS: Veículo tipo utilitário, fabricação nacional ou importado, com ano de fabricação/modelo mínimo 2025, motor dianteiro de 04 (quatro) cilindros em linha, movido à Diesel com turbo compressor; Potência mínima de 170 CV, com no mínimo 1.956 cilindradas cm³; Câmbio automático de no mínimo 5 velocidades à frente e uma à ré; Tração 4x4; Com freios a discos nas 04 (quatro) rodas; 04 portas laterais; Capacidade mínima para 04 pessoas mais o motorista; Com direção hidráulica ou elétrica, ar condicionado, vidros elétricos em todas as portas laterais, pintura sólida ou metálica. SEM MARCAS DE USO. Disponibilização do Veículo: Tempo Integral. Equipado com todos os componentes de segurança exigidos pelo CONTRAN.
A2: BASE DE CALCULO VEICULO: Hyundai HR 2.5 TCI Diesel (RS_RD) 2022 Diesel
A5: AN0:2022
A7: Salário | B7: Quantidade | C7: Custo Unitário | D7: Custo Total
A8: Motorista | B8: 0 | C8: ='DADOS DE ENTRADA'!B8 -> 1840.39 | D8: =+C8*B8 -> 0
D9: =D8 -> 0 | E9: (R$)
A11: Leis Sociais ( % ) | B11: Quantidade | C11: Custo Unitário | D11: Custo Total
A12: Encargos Sociais(SINAPI) | B12: 0.7 | C12: =D8*B12 -> 0 | D12: =C12 -> 0
D13: =ROUND(SUM(D12),2) -> 0 | E13: (R$)
B16: TOTAL MENSAL | D16: =D13+D9 -> 0 | E16: (R$)
B17: (mão de obra direta)
A19: a) Depreciação:
A21: Serão considerarados valores residuais de 20% | D21: 0.2
B23: N° de Veiculos | D23: 1 | E23: (ud)
B24: Valor do Veiculo | D24: ='DADOS DE ENTRADA'!E15 -> 152544 | E24: (R$)
B25: Vida Útil do Equipamento | D25: 5 | E25: (anos)
B26: Valor residual | D26: =D21*D24 -> 30508.8 | E26: (R$)
B27: Horas trabalhadas por ano | D27: 2504.64 | E27: (h/a)
B28: Valor depreciado em horas | D28: =(D24-D26)/(D25*D27) -> 9.7447298 | E28: (R$)
B29: Valor depreciado | D29: =D28*D27 -> 24407.04 | E29: (R$)
B30: Depreciação Mensal | D30: =D29/12 -> 2033.92 | E30: (R$/mês)
B31: Para todos os Veiculos | D31: =D23*D30 -> 2033.92 | E31: (R$/mês)
A34: b) Remuneração do Capital Investido
A36: O cálculo do coeficiente de remuneração 'C' é dado por:
B37: C = [(2 + (n - 1) * (k + 1)) / (24 n)] * j, onde:
B39: k = % residual | C39: =D21 -> 0.2
B40: n = vida útil (anos) | C40: =D25 -> 5
B41: j = juros (ao ano) | C41: ='DADOS DE ENTRADA'!B14 -> 0.1325
B42: C = | C42: =((2+(C40-1)*(C39+1))/(24*C40)*C41) -> 0.0075083333
B44: N° de Veiculos | D44: =D23 -> 1 | E44: (ud)
B45: Valor do Veiculo | D45: =D24 -> 152544 | E45: (R$)
B46: Coeficiente de remuneração | D46: =C42 -> 0.0075083333
B47: Custo de capital | D47: =D45*D46 -> 1145.3512 | E47: (R$)
B48: Para todos os Veiculos | D48: =D47*D44 -> 1145.3512
A50: c) Licenciamentos e Seguros
C51: Taxa de licenciamento | D51: 0 | E51: (R$)
C52: Taxa de bombeiros | D52: 0 | E52: (R$)
B54: N° de Veiculos | D54: =D44 -> 1 | E54: (ud)
B55: Valor do chassi | D55: =D24 -> 152544 | E55: (R$)
B56: Seguro total | C56: ='DADOS DE ENTRADA'!B24 -> 0.05 | D56: =D55*C56 -> 7627.2 | E56: (R$/ano)
...

Sheet ITEM 01.
A1: ='PLANILHA PRINCIPAL'!B7 -> Trator de pneu com potência minima de 130 cv, tração 4x4, equipado com . Operador e combustivel por conta da contratada. Equipado com todos os equipamentos com grade de aração de controle remoto de 28 discos com 20” x 3,5,DIÂMETRO DO EIXO 1.1/4” (31,75mm), RODA (16”x 5,5”);e documentos exigidos pelo CTB (código de trânsito brasileiro) Com idade de até 10 anos de fabricação.
A2: BASE DE CALCULO VEICULO: Trator Massey Ferguson Mf 4299 4x4
A5: AN0:2016
A7: Salário | B7: Quantidade | C7: Custo Unitário | D7: Custo Total
A8: Motorista | B8: 1 | C8: 3421.97 | D8: =+C8*B8 -> 3421.97
D9: =D8 -> 3421.97 | E9: (R$)
A11: Leis Sociais ( % ) | B11: Quantidade | C11: Custo Unitário | D11: Custo Total
A12: Encargos Sociais(SINAPI) | B12: 0.7011 | C12: =D8*B12 -> 2399.1432 | D12: =C12+D9 -> 5821.1132
C13: Sub-total | D13: =ROUND(SUM(D12),2) -> 5821.11 | E13: (R$)
B16: TOTAL MENSAL | D16: =D13 -> 5821.11 | E16: (R$)
B17: (mão de obra direta)
A19: a) Depreciação:
A21: Serão considerarados valores residuais de 20% | D21: 0.1
B23: N° de Veiculos | D23: 1 | E23: (ud)
B24: Valor Médio do Veiculo chassi | D24: 245000 | E24: (R$)
B25: Valor do implemento | D25: 17000
B26: Valor do veiculo com implemento | D26: =D25+D24 -> 262000
B27: Vida Útil do Equipamento | D27: 5 | E27: (anos)
B28: Valor residual | D28: =D21*(D26) -> 26200 | E28: (R$)
B29: Horas trabalhadas por ano | D29: =220*12 -> 2640 | E29: (h/a)
B30: Valor depreciado em horas | D30: =(D24-D28)/(D27*D29) -> 16.575758 | E30: (R$)
B31: Valor depreciado | D31: =D30*D29 -> 43760 | E31: (R$)
B32: Depreciação Mensal | D32: =D31/12 -> 3646.6667 | E32: (R$/mês)
B33: Para todas os veiculos | D33: =D23*D32 -> 3646.6667 | E33: (R$/mês)
A36: b) Remuneração do Capital Investido
A38: O cálculo do coeficiente de remuneração 'C' é dado por:
B39: C = [(2 + (n - 1) * (k + 1)) / (24 n)] * j, onde:
B41: k = % residual | C41: 0.2
B42: n = vida útil (anos) | C42: 5
B43: j = juros (ao ano) | C43: 0.15
B44: C = | C44: =((2+(C42-1)*(C41+1))/(24*C42)*C43) -> 0.0085
B46: N° de veículo | D46: 1 | E46: (ud)
B47: Valor do veículo | D47: =D26 -> 262000 | E47: (R$)
B48: Coeficiente de remuneração | D48: =C44 -> 0.0085
B49: Custo de capital | D49: =D47*D48 -> 2227 | E49: (R$)
B50: Para todas os veiculos | D50: =D49*D46 -> 2227
A52: c) Licenciamentos e Seguros
C53: Taxa de licenciamento | D53: 0 | E53: (R$)
C54: Taxa de bombeiros | D54: 0 | E54: (R$)
B56: N° de Veiculos | D56: 1 | E56: (ud)
...

Sheet ITEM 05
A1: ='PLANILHA PRINCIPAL'!B7 -> Trator de pneu com potência minima de 130 cv, tração 4x4, equipado com . Operador e combustivel por conta da contratada. Equipado com todos os equipamentos com grade de aração de controle remoto de 28 discos com 20” x 3,5,DIÂMETRO DO EIXO 1.1/4” (31,75mm), RODA (16”x 5,5”);e documentos exigidos pelo CTB (código de trânsito brasileiro) Com idade de até 10 anos de fabricação.
A2: BASE DE CALCULO VEICULO: Hyundai HR 2.5 TCI Diesel (RS_RD) 2022 Diesel
A5: AN0:2022
A7: Salário | B7: Quantidade | C7: Custo Unitário | D7: Custo Total
A8: Motorista | B8: 1 | C8: ='DADOS DE ENTRADA'!B8 -> 1840.39 | D8: =+C8*B8 -> 1840.39
D9: =D8 -> 1840.39 | E9: (R$)
A11: Leis Sociais ( % ) | B11: Quantidade | C11: Custo Unitário | D11: Custo Total
A12: Encargos Sociais(SINAPI) | B12: 0.7 | C12: =D8*B12 -> 1288.273 | D12: =C12 -> 1288.273
D13: =ROUND(SUM(D12),2) -> 1288.27 | E13: (R$)
B16: TOTAL MENSAL | D16: =D13+D9 -> 3128.66 | E16: (R$)
B17: (mão de obra direta)
A19: a) Depreciação:
A21: Serão considerarados valores residuais de 20% | D21: 0.2
B23: N° de Veiculos | D23: 1 | E23: (ud)
B24: Valor do Veiculo | D24: ='DADOS DE ENTRADA'!E15 -> 152544 | E24: (R$)
B25: Vida Útil do Equipamento | D25: 5 | E25: (anos)
B26: Valor residual | D26: =D21*D24 -> 30508.8 | E26: (R$)
B27: Horas trabalhadas por ano | D27: 2504.64 | E27: (h/a)
B28: Valor depreciado em horas | D28: =(D24-D26)/(D25*D27) -> 9.7447298 | E28: (R$)
B29: Valor depreciado | D29: =D28*D27 -> 24407.04 | E29: (R$)
B30: Depreciação Mensal | D30: =D29/12 -> 2033.92 | E30: (R$/mês)
B31: Para todos os Veiculos | D31: =D23*D30 -> 2033.92 | E31: (R$/mês)
A34: b) Remuneração do Capital Investido
A36: O cálculo do coeficiente de remuneração 'C' é dado por:
B37: C = [(2 + (n - 1) * (k + 1)) / (24 n)] * j, onde:
B39: k = % residual | C39: =D21 -> 0.2
B40: n = vida útil (anos) | C40: =D25 -> 5
B41: j = juros (ao ano) | C41: ='DADOS DE ENTRADA'!B14 -> 0.1325
B42: C = | C42: =((2+(C40-1)*(C39+1))/(24*C40)*C41) -> 0.0075083333
B44: N° de Veiculos | D44: =D23 -> 1 | E44: (ud)
B45: Valor do Veiculo | D45: =D24 -> 152544 | E45: (R$)
B46: Coeficiente de remuneração | D46: =C42 -> 0.0075083333
B47: Custo de capital | D47: =D45*D46 -> 1145.3512 | E47: (R$)
B48: Para todos os Veiculos | D48: =D47*D44 -> 1145.3512
A50: c) Licenciamentos e Seguros
C51: Taxa de licenciamento | D51: 0 | E51: (R$)
C52: Taxa de bombeiros | D52: 0 | E52: (R$)
B54: N° de Veiculos | D54: =D44 -> 1 | E54: (ud)
B55: Valor do chassi | D55: =D24 -> 152544 | E55: (R$)
B56: Seguro total | C56: ='DADOS DE ENTRADA'!B24 -> 0.05 | D56: =D55*C56 -> 7627.2 | E56: (R$/ano)
...

Sheet ITEM 06
A1: ='PLANILHA PRINCIPAL'!B8 -> Grade niveladora de controle remoto de 28 discos com 20” x 3,5,DIÂMETRO DO EIXO 1.1/4” (31,75mm), RODA (16”x 5,5”); POTÊNCIA INDICADA 85 cv; cor cinza; ano não inferior a 2025
A2: BASE DE CALCULO VEICULO: Grade Niveladora - Baldan
A5: AN0:2025
A7: Salário | B7: Quantidade | C7: Custo Unitário | D7: Custo Total
A8: Motorista | B8: 0 | C8: ='DADOS DE ENTRADA'!B8 -> 1840.39 | D8: =+C8*B8 -> 0
D9: =D8 -> 0 | E9: (R$)
A11: Leis Sociais ( % ) | B11: Quantidade | C11: Custo Unitário | D11: Custo Total
A12: Encargos Sociais(SINAPI) | B12: 0.7 | C12: =D8*B12 -> 0 | D12: =C12 -> 0
D13: =ROUND(SUM(D12),2) -> 0 | E13: (R$)
B16: TOTAL MENSAL | D16: =D13+D9 -> 0 | E16: (R$)
B17: (mão de obra direta)
A19: a) Depreciação:
A21: Serão considerarados valores residuais de 20% | D21: 0.1
B23: N° de Veiculos | D23: 1 | E23: (ud)
B24: Valor do Veiculo | D24: 30875 | E24: (R$)
B25: Vida Útil do Equipamento | D25: 10 | E25: (anos)
B26: Valor residual | D26: =D21*D24 -> 3087.5 | E26: (R$)
B27: Horas trabalhadas por ano | D27: 2504.64 | E27: (h/a)
B28: Valor depreciado em horas | D28: =(D24-D26)/(D25*D27) -> 1.1094409 | E28: (R$)
B29: Valor depreciado | D29: =D28*D27 -> 2778.75 | E29: (R$)
B30: Depreciação Mensal | D30: =D29/12 -> 231.5625 | E30: (R$/mês)
B31: Para todos os Veiculos | D31: =D23*D30 -> 231.5625 | E31: (R$/mês)
A34: b) Remuneração do Capital Investido
A36: O cálculo do coeficiente de remuneração 'C' é dado por:
B37: C = [(2 + (n - 1) * (k + 1)) / (24 n)] * j, onde:
B39: k = % residual | C39: =D21 -> 0.1
B40: n = vida útil (anos) | C40: =D25 -> 10
B41: j = juros (ao ano) | C41: ='DADOS DE ENTRADA'!B14 -> 0.1325
B42: C = | C42: =((2+(C40-1)*(C39+1))/(24*C40)*C41) -> 0.0065697917
B44: N° de Veiculos | D44: =D23 -> 1 | E44: (ud)
B45: Valor do Veiculo | D45: =D24 -> 30875 | E45: (R$)
B46: Coeficiente de remuneração | D46: =C42 -> 0.0065697917
B47: Custo de capital | D47: =D45*D46 -> 202.84232 | E47: (R$)
B48: Para todos os Veiculos | D48: =D47*D44 -> 202.84232
A50: c) Licenciamentos e Seguros
C51: Taxa de licenciamento | D51: 0 | E51: (R$)
C52: Taxa de bombeiros | D52: 0 | E52: (R$)
B54: N° de Veiculos | D54: =D44 -> 1 | E54: (ud)
B55: Valor do chassi | D55: =D24 -> 30875 | E55: (R$)
B56: Seguro total | C56: 0.035 | D56: =D55*C56 -> 1080.625 | E56: (R$/ano)
...

Sheet ITEM 07.
A1: ='PLANILHA PRINCIPAL'!B9 -> Veículo tipo "Caminhão leve utilitário 3/4" equipado com cesto aereo, COM motorista e SEM combustivel. CARACTERISTICAS MÍNIMAS: Com motor diesel, potência maxima de 148 cv, PBT 4 toneladas , equipado com carroceria para transporte de merenda para as escolas, EM PERFEITO ESTADO DE CONSERVAÇÃO. ANO DO VEÍCULO NÃO INFERIOR A 2015. Disponibilização do Veículo: Tempo Integral. Equipado com todos os componentes de segurança exigidos pelo CONTRAN.
A3: BASE DE CALCULO VEICULO:Tabela FIPE de Ford CARGO 816 E_816 S Turbo 2p (diesel)(E5)
A6: AN0:2015
A7: Salário | B7: Quantidade | C7: Custo Unitário | D7: Custo Total
A8: Motorista | B8: 1 | C8: ='DADOS DE ENTRADA'!B7 -> 1910.5 | D8: =+C8*B8 -> 1910.5
D9: =D8 -> 1910.5 | E9: (R$)
A11: Leis Sociais ( % ) | B11: Quantidade | C11: Custo Unitário | D11: Custo Total
A12: Encargos Sociais | B12: 0.7011 | C12: =D8*B12 -> 1339.4515 | D12: =C12+D9 -> 3249.9515
C13: Sub-total | D13: =ROUND(SUM(D12),2) -> 3249.95 | E13: (R$)
B16: TOTAL MENSAL | D16: =D13 -> 3249.95 | E16: (R$)
B17: (mão de obra direta)
A19: a) Depreciação:
A21: Serão considerarados valores residuais de 20% | D21: 0.2
B23: N° de caminhões | D23: 1 | E23: (ud)
B24: Valor do Veiculo | D24: ='DADOS DE ENTRADA'!E16 -> 311269 | E24: (R$)
B25: Valor do implemento | D25: 55000
B26: Valor do equipamento | D26: =D25+D24 -> 366269
B27: Vida Útil do Equipamento | D27: 5 | E27: (anos)
B28: Valor residual | D28: =(D26)*D21 -> 73253.8 | E28: (R$)
B29: Horas trabalhadas por ano | D29: 2504.64 | E29: (h/a)
B30: Valor depreciado em horas | D30: =(D24-D28)/(D27*D29) -> 19.005941 | E30: (R$)
B31: Valor depreciado | D31: =D30*D29 -> 47603.04 | E31: (R$)
B32: Depreciação Mensal | D32: =D31/12 -> 3966.92 | E32: (R$/mês)
B33: Para todos os veiculos | D33: =D23*D32 -> 3966.92 | E33: (R$/mês)
A35: b) Remuneração do Capital Investido
A37: O cálculo do coeficiente de remuneração 'C' é dado por:
B38: C = [(2 + (n - 1) * (k + 1)) / (24 n)] * j, onde:
B40: k = % residual | C40: 0.2
B41: n = vida útil (anos) | C41: 5
B42: j = juros (ao ano) | C42: ='DADOS DE ENTRADA'!B14 -> 0.1325
B43: C = | C43: =((2+(C41-1)*(C40+1))/(24*C41)*C42) -> 0.0075083333
B45: N° de caminhões | D45: 1 | E45: (ud)
B46: Valor do caminhão | D46: =D24+D25 -> 366269 | E46: (R$)
B47: Coeficiente de remuneração | D47: =C43 -> 0.0075083333
B48: Custo de capital | D48: =D46*D47 -> 2750.0697 | E48: (R$)
B49: Para todos os caminhões | D49: =D48*D45 -> 2750.0697
A51: c) Licenciamentos e Seguros
C52: Taxa de licenciamento | D52: 132.53 | E52: (R$)
C53: Taxa de bombeiros | D53: 59.82 | E53: (R$)
B55: N° de caminhões | D55: 1 | E55: (ud)
...

Sheet ITEM 08.
A1: ='PLANILHA PRINCIPAL'!B10 -> Carreta basculante hidráulico. Capacidade de carga 5 Ton 5,13m³; Dimensões da carroceria externa (CxLxA) 3,26 x 1,85 x 1,00; Dimensões totais << Carreta c/ pneus 700 x 16" e cabeçalho 4,60 x 1,85 x 2,35; Quantidade de rodas x aro 4 aro 16" 6 furos; Altura da carreta basculada 3,45m; Distância entre eixos 950mm mod. Tandem; Chassi Perfil "U" chapa 1/4; Freio Opcional; Engate Rígido; Ângulo inclinado basculante 45°; ano não inferior a 2025.
A2: BASE DE CALCULO VEICULO: Grade Niveladora - Baldan
A5: AN0:2025
A7: Salário | B7: Quantidade | C7: Custo Unitário | D7: Custo Total
A8: Motorista | B8: 0 | C8: ='DADOS DE ENTRADA'!B8 -> 1840.39 | D8: =+C8*B8 -> 0
D9: =D8 -> 0 | E9: (R$)
A11: Leis Sociais ( % ) | B11: Quantidade | C11: Custo Unitário | D11: Custo Total
A12: Encargos Sociais(SINAPI) | B12: 0.7 | C12: =D8*B12 -> 0 | D12: =C12 -> 0
D13: =ROUND(SUM(D12),2) -> 0 | E13: (R$)
B16: TOTAL MENSAL | D16: =D13+D9 -> 0 | E16: (R$)
B17: (mão de obra direta)
A19: a) Depreciação:
A21: Serão considerarados valores residuais de 20% | D21: 0.1
B23: N° de Veiculos | D23: 1 | E23: (ud)
B24: Valor do Veiculo | D24: 39250 | E24: (R$)
B25: Vida Útil do Equipamento | D25: 10 | E25: (anos)
B26: Valor residual | D26: =D21*D24 -> 3925 | E26: (R$)
B27: Horas trabalhadas por ano | D27: 2504.64 | E27: (h/a)
B28: Valor depreciado em horas | D28: =(D24-D26)/(D25*D27) -> 1.4103823 | E28: (R$)
B29: Valor depreciado | D29: =D28*D27 -> 3532.5 | E29: (R$)
B30: Depreciação Mensal | D30: =D29/12 -> 294.375 | E30: (R$/mês)
B31: Para todos os Veiculos | D31: =D23*D30 -> 294.375 | E31: (R$/mês)
A34: b) Remuneração do Capital Investido
A36: O cálculo do coeficiente de remuneração 'C' é dado por:
B37: C = [(2 + (n - 1) * (k + 1)) / (24 n)] * j, onde:
B39: k = % residual | C39: =D21 -> 0.1
B40: n = vida útil (anos) | C40: =D25 -> 10
B41: j = juros (ao ano) | C41: ='DADOS DE ENTRADA'!B14 -> 0.1325
B42: C = | C42: =((2+(C40-1)*(C39+1))/(24*C40)*C41) -> 0.0065697917
B44: N° de Veiculos | D44: =D23 -> 1 | E44: (ud)
B45: Valor do Veiculo | D45: =D24 -> 39250 | E45: (R$)
B46: Coeficiente de remuneração | D46: =C42 -> 0.0065697917
B47: Custo de capital | D47: =D45*D46 -> 257.86432 | E47: (R$)
B48: Para todos os Veiculos | D48: =D47*D44 -> 257.86432
A50: c) Licenciamentos e Seguros
C51: Taxa de licenciamento | D51: 0 | E51: (R$)
C52: Taxa de bombeiros | D52: 0 | E52: (R$)
B54: N° de Veiculos | D54: =D44 -> 1 | E54: (ud)
B55: Valor do chassi | D55: 0 | E55: (R$)
B56: Seguro total | C56: 0.035 | D56: =D45*C56 -> 1373.75 | E56: (R$/ano)
...

Sheet ITEM 07
A1: ='PLANILHA PRINCIPAL'!B9 -> Veículo tipo "Caminhão leve utilitário 3/4" equipado com cesto aereo, COM motorista e SEM combustivel. CARACTERISTICAS MÍNIMAS: Com motor diesel, potência maxima de 148 cv, PBT 4 toneladas , equipado com carroceria para transporte de merenda para as escolas, EM PERFEITO ESTADO DE CONSERVAÇÃO. ANO DO VEÍCULO NÃO INFERIOR A 2015. Disponibilização do Veículo: Tempo Integral. Equipado com todos os componentes de segurança exigidos pelo CONTRAN.
A2: BASE DE CALCULO VEICULO: Carreta basculante hidráulica 5 toneladas tandem para trator
A5: AN0:2020
A7: Salário | B7: Quantidade | C7: Custo Unitário | D7: Custo Total
A8: Motorista | B8: 0 | C8: ='DADOS DE ENTRADA'!B8 -> 1840.39 | D8: =+C8*B8 -> 0
D9: =D8 -> 0 | E9: (R$)
A11: Leis Sociais ( % ) | B11: Quantidade | C11: Custo Unitário | D11: Custo Total
A12: Encargos Sociais(SINAPI) | B12: 0.7 | C12: =D8*B12 -> 0 | D12: =C12 -> 0
D13: =ROUND(SUM(D12),2) -> 0 | E13: (R$)
B16: TOTAL MENSAL | D16: =D13+D9 -> 0 | E16: (R$)
B17: (mão de obra direta)
A19: a) Depreciação:
A21: Serão considerarados valores residuais de 20% | D21: 0.1
B23: N° de Veiculos | D23: 1 | E23: (ud)
B24: Valor do Veiculo | D24: 25400 | E24: (R$)
B25: Vida Útil do Equipamento | D25: 10 | E25: (anos)
B26: Valor residual | D26: =D21*D24 -> 2540 | E26: (R$)
B27: Horas trabalhadas por ano | D27: 2504.64 | E27: (h/a)
B28: Valor depreciado em horas | D28: =(D24-D26)/(D25*D27) -> 0.91270602 | E28: (R$)
B29: Valor depreciado | D29: =D28*D27 -> 2286 | E29: (R$)
B30: Depreciação Mensal | D30: =D29/12 -> 190.5 | E30: (R$/mês)
B31: Para todos os Veiculos | D31: =D23*D30 -> 190.5 | E31: (R$/mês)
A34: b) Remuneração do Capital Investido
A36: O cálculo do coeficiente de remuneração 'C' é dado por:
B37: C = [(2 + (n - 1) * (k + 1)) / (24 n)] * j, onde:
B39: k = % residual | C39: =D21 -> 0.1
B40: n = vida útil (anos) | C40: =D25 -> 10
B41: j = juros (ao ano) | C41: ='DADOS DE ENTRADA'!B14 -> 0.1325
B42: C = | C42: =((2+(C40-1)*(C39+1))/(24*C40)*C41) -> 0.0065697917
B44: N° de Veiculos | D44: =D23 -> 1 | E44: (ud)
B45: Valor do Veiculo | D45: =D24 -> 25400 | E45: (R$)
B46: Coeficiente de remuneração | D46: =C42 -> 0.0065697917
B47: Custo de capital | D47: =D45*D46 -> 166.87271 | E47: (R$)
B48: Para todos os Veiculos | D48: =D47*D44 -> 166.87271
A50: c) Licenciamentos e Seguros
C51: Taxa de licenciamento | D51: 0 | E51: (R$)
C52: Taxa de bombeiros | D52: 0 | E52: (R$)
B54: N° de Veiculos | D54: =D44 -> 1 | E54: (ud)
B55: Valor do chassi | D55: =D24 -> 25400 | E55: (R$)
B56: Seguro total | C56: 0.035 | D56: =D55*C56 -> 889 | E56: (R$/ano)
...

Sheet ITEM 08
A1: ='PLANILHA PRINCIPAL'!B10 -> Carreta basculante hidráulico. Capacidade de carga 5 Ton 5,13m³; Dimensões da carroceria externa (CxLxA) 3,26 x 1,85 x 1,00; Dimensões totais << Carreta c/ pneus 700 x 16" e cabeçalho 4,60 x 1,85 x 2,35; Quantidade de rodas x aro 4 aro 16" 6 furos; Altura da carreta basculada 3,45m; Distância entre eixos 950mm mod. Tandem; Chassi Perfil "U" chapa 1/4; Freio Opcional; Engate Rígido; Ângulo inclinado basculante 45°; ano não inferior a 2025.
A2: BASE DE CALCULO VEICULO: Tanque de água, marca Multi-Tarefa Andrade
A5: AN0:2020
A7: Salário | B7: Quantidade | C7: Custo Unitário | D7: Custo Total
A8: Motorista | B8: 0 | C8: ='DADOS DE ENTRADA'!B8 -> 1840.39 | D8: =+C8*B8 -> 0
D9: =D8 -> 0 | E9: (R$)
A11: Leis Sociais ( % ) | B11: Quantidade | C11: Custo Unitário | D11: Custo Total
A12: Encargos Sociais(SINAPI) | B12: 0.7 | C12: =D8*B12 -> 0 | D12: =C12 -> 0
D13: =ROUND(SUM(D12),2) -> 0 | E13: (R$)
B16: TOTAL MENSAL | D16: =D13+D9 -> 0 | E16: (R$)
B17: (mão de obra direta)
A19: a) Depreciação:
A21: Serão considerarados valores residuais de 20% | D21: 0.1
B23: N° de Veiculos | D23: 1 | E23: (ud)
B24: Valor do Veiculo | D24: 36000 | E24: (R$)
B25: Vida Útil do Equipamento | D25: 10 | E25: (anos)
B26: Valor residual | D26: =D21*D24 -> 3600 | E26: (R$)
B27: Horas trabalhadas por ano | D27: 2504.64 | E27: (h/a)
B28: Valor depreciado em horas | D28: =(D24-D26)/(D25*D27) -> 1.2935991 | E28: (R$)
B29: Valor depreciado | D29: =D28*D27 -> 3240 | E29: (R$)
B30: Depreciação Mensal | D30: =D29/12 -> 270 | E30: (R$/mês)
B31: Para todos os Veiculos | D31: =D23*D30 -> 270 | E31: (R$/mês)
A34: b) Remuneração do Capital Investido
A36: O cálculo do coeficiente de remuneração 'C' é dado por:
B37: C = [(2 + (n - 1) * (k + 1)) / (24 n)] * j, onde:
B39: k = % residual | C39: =D21 -> 0.1
B40: n = vida útil (anos) | C40: =D25 -> 10
B41: j = juros (ao ano) | C41: ='DADOS DE ENTRADA'!B14 -> 0.1325
B42: C = | C42: =((2+(C40-1)*(C39+1))/(24*C40)*C41) -> 0.0065697917
B44: N° de Veiculos | D44: =D23 -> 1 | E44: (ud)
B45: Valor do Veiculo | D45: =D24 -> 36000 | E45: (R$)
B46: Coeficiente de remuneração | D46: =C42 -> 0.0065697917
B47: Custo de capital | D47: =D45*D46 -> 236.5125 | E47: (R$)
B48: Para todos os Veiculos | D48: =D47*D44 -> 236.5125
A50: c) Licenciamentos e Seguros
C51: Taxa de licenciamento | D51: 0 | E51: (R$)
C52: Taxa de bombeiros | D52: 0 | E52: (R$)
B54: N° de Veiculos | D54: =D44 -> 1 | E54: (ud)
B55: Valor do chassi | D55: =D24 -> 36000 | E55: (R$)
B56: Seguro total | C56: 0.035 | D56: =D55*C56 -> 1260 | E56: (R$/ano)
...
