Workbook

Sheet RESUMO
A1: PREFEITURA MUNICIPAL DE CAETÉS
A3: Obra | E3: Bancos | G3: B.D.I.
A4: CONSTRUÇÃO DE UMA QUADRA POLIESPORTIVA NO SITIO BASTIÕES, MUNICIPIO DE CAETÉS - PE | E4: SINAPI - 05/2025 - Pernambuco ORSE - 05/2025 - Sergipe SEINFRA - 028.1 - Ceará | G4: Serviços: 19,21% Insumos: 10,89% | M4: BANHEIRO
A5: Orçamento Sintético - Onerado | M5: =SUM(I9,I10,I11,I14,I16,I23,I24,I25,I28,I29) -> 104960.8
A6: Item | B6: Código | C6: Banco | D6: Descrição | E6: Und | F6: Quant. | G6: Valor Unit | H6: Valor Unit com BDI | I6: Total
A7: 1.0 | D7: ADMINISTRAÇÃO LOCAL | I7: ='Orçamento Sintético'!I7 -> 30258.12
A8: 2.0 | D8: INSTALAÇÕES PROVISÓRIAS / SERVIÇOS PRELIMINARES | I8: ='Orçamento Sintético'!I9 -> 71415.52
A9: 3.0 | D9: INFRAESTRUTURA - BANHEIROS | I9: ='Orçamento Sintético'!I21 -> 13572.08
A10: 4.0 | D10: SUPERESTRUTURA - BANHEIROS | I10: ='Orçamento Sintético'!I41 -> 31369.95
A11: 5.0 | D11: CHAPISCO / REBOCO - BANHEIROS | I11: ='Orçamento Sintético'!I59 -> 14884.9
A12: 6.0 | D12: PAVIMENTAÇÃO | I12: =SUM(I13:I15) -> 204228.88
A13: 6.1 | D13: PISO - QUADRA | I13: ='Orçamento Sintético'!I67 -> 161739.06
A14: 6.2 | D14: PISO - BANHEIROS | I14: ='Orçamento Sintético'!I73 -> 3056.02
A15: 6.3 | D15: PISO - EXTERNO | I15: ='Orçamento Sintético'!I76 -> 39433.8
A16: 7.0 | D16: COBERTA - BANHEIRO | I16: ='Orçamento Sintético'!I81 -> 4278.27
A17: 8.0 | D17: ESTRUTURA METÁLICA / COBERTA - QUADRA | I17: =SUM(I18:I22) -> 716866.6
A18: 8.1 | D18: BASE - PILARES METÁLICOS | I18: ='Orçamento Sintético'!I87 -> 60148.44
A19: 8.2 | D19: ESTRUTURA METÁLICA | I19: ='Orçamento Sintético'!I97 -> 375313.41
A20: 8.3 | D20: GRAUTE PARA PROTEÇÃO DE PILAR METÁLICO | I20: ='Orçamento Sintético'!I99 -> 1800.91
A21: 8.4 | D21: TELHAMENTO | I21: ='Orçamento Sintético'!I102 -> 217782.55
A22: 8.5 | D22: ALAMBRADO | I22: ='Orçamento Sintético'!I105 -> 61821.29
A23: 9.0 | D23: ESQUADRIAS - BANHEIROS | I23: ='Orçamento Sintético'!I107 -> 12128.1
A24: 10.0 | D24: FORROS - BANHEIROS | I24: ='Orçamento Sintético'!I115 -> 1602.47
A25: 11.0 | D25: ACABAMENTOS DE PISO E PAREDES - BANHEIROS | I25: ='Orçamento Sintético'!I117 -> 15566.66
A26: 12.0 | D26: PINTURA - PISO DA QUADRA / BANHEIROS | I26: =SUM(I27:I29) -> 61924.43
A27: 12.1 | D27: PISO - QUADRA | I27: ='Orçamento Sintético'!I126 -> 53422.08
A28: 12.2 | D28: TETO | I28: ='Orçamento Sintético'!I128 -> 1869.31
A29: 12.3 | D29: PAREDES EXTERNAS | I29: ='Orçamento Sintético'!I132 -> 6633.04
A30: 13.0 | D30: INSTALAÇÕES HIDROSSANITÁRIAS | I30: =SUM(I31:I36) -> 87442.55
A31: 13.1 | D31: INSTALAÇÕES HIDRÁULICAS | I31: ='Orçamento Sintético'!I137 -> 5814.41
A32: 13.2 | D32: TUBULAÇÃO PLUVIAL | I32: ='Orçamento Sintético'!I154 -> 9954.67
A33: 13.3 | D33: INSTALAÇÕES SANITÁRIAS | I33: ='Orçamento Sintético'!I157 -> 14002.48
A34: 13.4 | D34: FOSSA | I34: ='Orçamento Sintético'!I175 -> 14223.59
A35: 13.5 | D35: SUMIDOURO | I35: ='Orçamento Sintético'!I177 -> 6448.31
A36: 13.6 | D36: ACABAMENTOS | I36: ='Orçamento Sintético'!I179 -> 36999.09
A37: 14.0 | D37: INSTALAÇÕES ELETRICAS | I37: =SUM(I38:I45) -> 47636.8
A38: 14.1 | D38: ACESSÓRIOS P/ ELETRODUTOS | I38: ='Orçamento Sintético'!I197 -> 3370.18
A39: 14.2 | D39: CABOS E FIOS CONDUTORES | I39: ='Orçamento Sintético'!I207 -> 7968.39
A40: 14.3 | D40: DISPOSITIVO ELÉTRICO - EMBUTIDO | I40: ='Orçamento Sintético'!I212 -> 557.66
A41: 14.4 | D41: DISPOSITIVO DE PROTEÇÃO | I41: ='Orçamento Sintético'!I216 -> 361.23
...

Sheet Orçamento Sintético
A1: PREFEITURA MUNICIPAL DE CAETÉS | K1: ONERADO | L1: DESONERADO
A3: Obra | E3: Bancos | G3: B.D.I.
A4: CONSTRUÇÃO DE UMA QUADRA POLIESPORTIVA NO SITIO BASTIÕES, MUNICIPIO DE CAETÉS - PE | E4: SINAPI - 05/2025 - Pernambuco ORSE - 05/2025 - Sergipe SEINFRA - 028.1 - Ceará | G4: Serviços: 19,21% Insumos: 10,89%
A5: Orçamento Sintético - Onerado
A6: Item | B6: Código | C6: Banco | D6: Descrição | E6: Und | F6: Quant. | G6: Valor Unit | H6: Valor Unit com BDI | I6: Total
A7: 1.0 | D7: ADMINISTRAÇÃO LOCAL | I7: =I8 -> 30258.12
A8: 1.1 | B8: 06 | C8: COMPOSIÇÃO | D8: ADMINISTRAÇÃO LOCAL DA OBRA | E8: UD | F8: =MC!H14 -> 1 | G8: =COMPOSIÇÕES!H119 -> 25382.2 | H8: =ROUND(G8*1.1921,2) -> 30258.12 | I8: =TRUNC(H8*F8,2) -> 30258.12
A9: 2.0 | D9: INSTALAÇÕES PROVISÓRIAS / SERVIÇOS PRELIMINARES | I9: =SUM(I10,I18) -> 71415.52
A10: 2.1 | D10: INSTALAÇÕES PROVISÓRIAS | I10: =SUM(I11:I17) -> 44319.54
A11: 2.1.1 | B11: 98459 | C11: SINAPI | D11: TAPUME COM CHAPA METÁLICA. AF_03/2024 | E11: M2 | F11: =MC!H21 -> 65.71 | G11: =K11 -> 96.17 | H11: =ROUND(G11*1.1921,2) -> 114.64 | I11: =TRUNC(H11*F11,2) -> 7532.99 | K11: 96.17 | L11: 93.32
A12: 2.1.2 | B12: 99059 | C12: SINAPI | D12: LOCAÇÃO CONVENCIONAL DE OBRA, UTILIZANDO GABARITO DE TÁBUAS CORRIDAS PONTALETADAS A CADA 2,00M - 2 UTILIZAÇÕES. AF_03/2024 | E12: M | F12: =MC!H26 -> 143.35 | G12: =K12 -> 69.17 | H12: =ROUND(G12*1.1921,2) -> 82.46 | I12: =TRUNC(H12*F12,2) -> 11820.64 | K12: 69.17 | L12: 65.9
A13: 2.1.3 | B13: 103689 | C13: SINAPI | D13: FORNECIMENTO E INSTALAÇÃO DE PLACA DE OBRA COM CHAPA GALVANIZADA E ESTRUTURA DE MADEIRA. AF_03/2022_PS | E13: M2 | F13: =MC!H31 -> 6 | G13: =K13 -> 468.06 | H13: =ROUND(G13*1.1921,2) -> 557.97 | I13: =TRUNC(H13*F13,2) -> 3347.82 | K13: 468.06 | L13: 464.59
A14: 2.1.4 | B14: 5088 | C14: ORSE | D14: BARRACÃO PARA OBRAS DE MÉDIO PORTE REAPROVEITAMENTO 2 VEZES | E14: M2 | F14: =MC!H36 -> 25 | G14: =K14 -> 251.53 | H14: =ROUND(G14*1.1921,2) -> 299.85 | I14: =TRUNC(H14*F14,2) -> 7496.25 | K14: 251.53 | L14: 251.53
A15: 2.1.5 | B15: 105113 | C15: SINAPI | D15: ESTRUTURA DE MADEIRA PROVISÓRIA PARA SUPORTE DE CAIXA D'ÁGUA ELEVADA DE 2000 LITROS. AF_03/2024 | E15: UD | F15: =MC!H41 -> 1 | G15: =K15 -> 8994.09 | H15: =ROUND(G15*1.1921,2) -> 10721.85 | I15: =TRUNC(H15*F15,2) -> 10721.85 | K15: 8994.09 | L15: 8814.53
A16: 2.1.6 | B16: 102609 | C16: SINAPI | D16: CAIXA D´ÁGUA EM POLIETILENO, 2000 LITROS - FORNECIMENTO E INSTALAÇÃO. AF_06/2021 | E16: UD | F16: =MC!H46 -> 1 | G16: =K16 -> 1113.81 | H16: =ROUND(G16*1.1921,2) -> 1327.77 | I16: =TRUNC(H16*F16,2) -> 1327.77 | K16: 1113.81 | L16: 1112.64
A17: 2.1.7 | B17: 9416 | C17: ORSE | D17: INSTALAÇÃO PROVISÓRIA DE ENERGIA ELÉTRICA, AEREA, TRIFASICA, EM POSTE GALVANIZADO, EXCLUSIVE FORNECIMENTO DO MEDIDOR | E17: UD | F17: =MC!H51 -> 1 | G17: =K17 -> 1738.29 | H17: =ROUND(G17*1.1921,2) -> 2072.22 | I17: =TRUNC(H17*F17,2) -> 2072.22 | K17: 1738.29 | L17: 1738.29
A18: 2.2 | D18: SERVIÇOS PRELIMINARES - MOVIMENTAÇÃO EM TERRA | I18: =SUM(I19:I20) -> 27095.98
A19: 2.1.1 | B19: 101135 | C19: SINAPI | D19: ESCAVAÇÃO HORIZONTAL, INCLUINDO CARGA, DESCARGA E TRANSPORTE EM SOLO DE 1A CATEGORIA COM TRATOR DE ESTEIRAS (150HP/LÂMINA: 3,18M3) E CAMINHÃO BASCULANTE DE 10M3, DMT ATÉ 200M AF_07/2020 | E19: M3 | F19: =MC!H57 -> 1378.07 | G19: =K19 -> 15 | H19: =ROUND(G19*1.1921,2) -> 17.88 | I19: =TRUNC(H19*F19,2) -> 24639.89 | K19: 15 | L19: 14.77
A20: 2.1.2 | B20: 100575 | C20: SINAPI | D20: REGULARIZAÇÃO DE SUPERFÍCIES COM MOTONIVELADORA. AF_09/2024 | E20: M2 | F20: =MC!H62 -> 1192.28 | G20: =K20 -> 1.73 | H20: =ROUND(G20*1.1921,2) -> 2.06 | I20: =TRUNC(H20*F20,2) -> 2456.09 | K20: 1.73 | L20: 1.69
A21: 3.0 | D21: INFRAESTRUTURA - BANHEIROS | I21: =SUM(I22,I31) -> 13572.08
A22: 3.1 | D22: FUNDAÇÕES | I22: =SUM(I23:I30) -> 7140.98
A23: 3.1.1 | B23: 93358 | C23: SINAPI | D23: ESCAVAÇÃO MANUAL DE VALA. AF_09/2024 | E23: M3 | F23: =MC!H72 -> 17.32 | G23: =K23 -> 95.25 | H23: =ROUND(G23*1.1921,2) -> 113.55 | I23: =TRUNC(H23*F23,2) -> 1966.68 | K23: 95.25 | L23: 88.05
A24: 3.1.2 | B24: 101616 | C24: SINAPI | D24: PREPARO DE FUNDO DE VALA COM LARGURA MENOR QUE 1,5 M (ACERTO DO SOLO NATURAL). AF_08/2020 | E24: M2 | F24: =MC!H80 -> 11.18 | G24: =K24 -> 6.93 | H24: =ROUND(G24*1.1921,2) -> 8.26 | I24: =TRUNC(H24*F24,2) -> 92.34 | K24: 6.93 | L24: 6.38
A25: 3.1.3 | B25: 96619 | C25: SINAPI | D25: LASTRO DE CONCRETO MAGRO, APLICADO EM BLOCOS DE COROAMENTO OU SAPATAS, ESPESSURA DE 5 CM. AF_01/2024 | E25: M2 | F25: =MC!H85 -> 11.18 | G25: =K25 -> 40.94 | H25: =ROUND(G25*1.1921,2) -> 48.8 | I25: =TRUNC(H25*F25,2) -> 545.58 | K25: 40.94 | L25: 39.47
A26: 3.1.4 | B26: 96535 | C26: SINAPI | D26: FABRICAÇÃO, MONTAGEM E DESMONTAGEM DE FÔRMA PARA SAPATA, EM MADEIRA SERRADA, E=25 MM, 4UTILIZAÇÕES. AF_01/2024 | E26: M2 | F26: =MC!H90 -> 7.5 | G26: =K26 -> 143.34 | H26: =ROUND(G26*1.1921,2) -> 170.88 | I26: =ROUND(H26*F26,2) -> 1281.6 | K26: 143.34 | L26: 134.78
A27: 3.1.5 | B27: 104919 | C27: SINAPI | D27: ARMAÇÃO DE SAPATA ISOLADA, VIGA BALDRAME E SAPATA CORRIDA UTILIZANDO AÇO CA-50 DE 10 MM - MONTAGEM. AF_01/2024 | E27: KG | F27: =MC!H95 -> 96 | G27: =K27 -> 12.91 | H27: =ROUND(G27*1.1921,2) -> 15.39 | I27: =ROUND(H27*F27,2) -> 1477.44 | K27: 12.91 | L27: 12.62
A28: 3.1.6 | B28: 104916 | C28: SINAPI | D28: ARMAÇÃO DE SAPATA ISOLADA, VIGA BALDRAME E SAPATA CORRIDA UTILIZANDO AÇO CA-60 DE 5 MM - MONTAGEM. AF_01/2024 | E28: KG | F28: =MC!H100 -> 3 | G28: =K28 -> 17.23 | H28: =ROUND(G28*1.1921,2) -> 20.54 | I28: =ROUND(H28*F28,2) -> 61.62 | K28: 17.23 | L28: 16.56
A29: 3.1.7 | B29: 96558 | C29: SINAPI | D29: CONCRETAGEM DE SAPATA, FCK 30 MPA, COM USO DE BOMBA - LANÇAMENTO, ADENSAMENTO E ACABAMENTO. AF_01/2024 | E29: M3 | F29: =MC!H108 -> 1.46 | G29: =K29 -> 740.63 | H29: =ROUND(G29*1.1921,2) -> 882.91 | I29: =TRUNC(H29*F29,2) -> 1289.04 | K29: 740.63 | L29: 737.6
A30: 3.1.8 | B30: 104737 | C30: SINAPI | D30: REATERRO MANUAL DE VALAS, COM PLACA VIBRATÓRIA. AF_08/2023 | E30: M3 | F30: =MC!H116 -> 14.94 | G30: =K30 -> 23.96 | H30: =ROUND(G30*1.1921,2) -> 28.56 | I30: =TRUNC(H30*F30,2) -> 426.68 | K30: 23.96 | L30: 22.34
A31: 3.2 | D31: VIGAS BALDRAMES | I31: =SUM(I32:I40) -> 6431.1
A32: 3.2.1 | B32: 93358 | C32: SINAPI | D32: ESCAVAÇÃO MANUAL DE VALA. AF_09/2024 | E32: M3 | F32: =MC!H123 -> 6.06 | G32: =K32 -> 95.25 | H32: =ROUND(G32*1.1921,2) -> 113.55 | I32: =TRUNC(H32*F32,2) -> 688.11 | K32: 95.25 | L32: 88.05
A33: 3.2.2 | B33: 101616 | C33: SINAPI | D33: PREPARO DE FUNDO DE VALA COM LARGURA MENOR QUE 1,5 M (ACERTO DO SOLO NATURAL). AF_08/2020 | E33: M2 | F33: =MC!H129 -> 17.3 | G33: =K33 -> 6.93 | H33: =ROUND(G33*1.1921,2) -> 8.26 | I33: =TRUNC(H33*F33,2) -> 142.89 | K33: 6.93 | L33: 6.38
A34: 3.2.3 | B34: 95241 | C34: SINAPI | D34: LASTRO DE CONCRETO MAGRO, APLICADO EM PISOS, LAJES SOBRE SOLO OU RADIERS, ESPESSURA DE 5 CM. AF_01/2024 | E34: M2 | F34: =MC!H134 -> 17.3 | G34: =K34 -> 37.66 | H34: =ROUND(G34*1.1921,2) -> 44.89 | I34: =TRUNC(H34*F34,2) -> 776.59 | K34: 37.66 | L34: 36.45
A35: 3.2.4 | B35: 96536 | C35: SINAPI | D35: FABRICAÇÃO, MONTAGEM E DESMONTAGEM DE FÔRMA PARA VIGA BALDRAME, EM MADEIRA SERRADA, E=25 MM, 4 UTILIZAÇÕES. AF_06/2017 | E35: M2 | F35: =MC!H139 -> 18.8 | G35: =K35 -> 75.71 | H35: =ROUND(G35*1.1921,2) -> 90.25 | I35: =ROUND(H35*F35,2) -> 1696.7 | K35: 75.71 | L35: 72.05
A36: 3.2.5 | B36: 104916 | C36: SINAPI | D36: ARMAÇÃO DE SAPATA ISOLADA, VIGA BALDRAME E SAPATA CORRIDA UTILIZANDO AÇO CA-60 DE 5 MM - MONTAGEM. AF_01/2024 | E36: KG | F36: =MC!H144 -> 29 | G36: =K36 -> 17.23 | H36: =ROUND(G36*1.1921,2) -> 20.54 | I36: =ROUND(H36*F36,2) -> 595.66 | K36: 17.23 | L36: 16.56
A37: 3.2.6 | B37: 104917 | C37: SINAPI | D37: ARMAÇÃO DE SAPATA ISOLADA, VIGA BALDRAME E SAPATA CORRIDA UTILIZANDO AÇO CA-50 DE 6,3 MM - MONTAGEM. AF_01/2024 | E37: KG | F37: =MC!H149 -> 1 | G37: =K37 -> 15.83 | H37: =ROUND(G37*1.1921,2) -> 18.87 | I37: =ROUND(H37*F37,2) -> 18.87 | K37: 15.83 | L37: 15.33
A38: 3.2.7 | B38: 104918 | C38: SINAPI | D38: ARMAÇÃO DE SAPATA ISOLADA, VIGA BALDRAME E SAPATA CORRIDA UTILIZANDO AÇO CA-50 DE 8 MM - MONTAGEM. AF_01/2024 | E38: KG | F38: =MC!H154 -> 63 | G38: =K38 -> 14.56 | H38: =ROUND(G38*1.1921,2) -> 17.36 | I38: =ROUND(H38*F38,2) -> 1093.68 | K38: 14.56 | L38: 14.2
A39: 3.2.8 | B39: 96557 | C39: SINAPI | D39: CONCRETAGEM DE BLOCO DE COROAMENTO OU VIGA BALDRAME, FCK 30 MPA, COM USO DE BOMBA - LANÇAMENTO, ADENSAMENTO E ACABAMENTO. AF_01/2024 | E39: M3 | F39: =MC!H159 -> 1.56 | G39: =K39 -> 707.08 | H39: =ROUND(G39*1.1921,2) -> 842.91 | I39: =TRUNC(H39*F39,2) -> 1314.93 | K39: 707.08 | L39: 705.36
A40: 3.2.9 | B40: 104737 | C40: SINAPI | D40: REATERRO MANUAL DE VALAS, COM PLACA VIBRATÓRIA. AF_08/2023 | E40: M3 | F40: =MC!H166 -> 3.63 | G40: =K40 -> 23.96 | H40: =ROUND(G40*1.1921,2) -> 28.56 | I40: =TRUNC(H40*F40,2) -> 103.67 | K40: 23.96 | L40: 22.34
A41: 4.0 | D41: SUPERESTRUTURA - BANHEIROS | I41: =SUM(I42,I47,I53,I55) -> 31369.95
...

Sheet MC
A1: PREFEITURA MUNICIPAL DE CAETÉS
A3: MEMÓRIA DE CÁLCULO
A6: OBRA: | B6: CONSTRUÇÃO DE UMA QUADRA POLIESPORTIVA NO MUNICIPIO DE CAETÉS - PE
A7: LOCAL: | B7: CAETÉS - PE
A9: ='Orçamento Sintético'!A7 -> 1.0 | B9: ='Orçamento Sintético'!D7 -> ADMINISTRAÇÃO LOCAL
A10: ='Orçamento Sintético'!A8 -> 1.1 | B10: ='Orçamento Sintético'!D8 -> ADMINISTRAÇÃO LOCAL DA OBRA
B11: Local do Serviço | C11: Quant. | D11: Área m² | E11: Comp. | F11: Larg. | G11: altura / * | H11: Total
B12: Encarregado geral de obras - meio expediente | C12: 1 | H12: =PRODUCT(C12,D12,E12,F12,G12) -> 1
H13: =ROUND(IF(PRODUCT(IF(C13=0,1,C13),IF(D13=0,1,D13),IF(E13=0,1,E13),IF(F13=0,1,F13),IF(G13=0,1,G13))=1,0,PRODUCT(IF(C13=0,1,C13),IF(D13=0,1,D13),IF(E13=0,1,E13),IF(F13=0,1,F13),IF(G13=0,1,G13))),2) -> 0
F14: Total | G14: = | H14: =SUM(H12:H12) -> 1 | I14: mês
A15: ='Orçamento Sintético'!A9 -> 2.0 | B15: ='Orçamento Sintético'!D9 -> INSTALAÇÕES PROVISÓRIAS / SERVIÇOS PRELIMINARES
A16: ='Orçamento Sintético'!A10 -> 2.1 | B16: ='Orçamento Sintético'!D10 -> INSTALAÇÕES PROVISÓRIAS
A17: ='Orçamento Sintético'!A11 -> 2.1.1 | B17: ='Orçamento Sintético'!D11 -> TAPUME COM CHAPA METÁLICA. AF_03/2024
B18: Local do Serviço | C18: Quant. | D18: Área m² | E18: Comp. | F18: Larg. | G18: altura / * | H18: Total
E19: 29.87 | G19: 2.2 | H19: =ROUND(IF(PRODUCT(IF(C19=0,1,C19),IF(D19=0,1,D19),IF(E19=0,1,E19),IF(F19=0,1,F19),IF(G19=0,1,G19))=1,0,PRODUCT(IF(C19=0,1,C19),IF(D19=0,1,D19),IF(E19=0,1,E19),IF(F19=0,1,F19),IF(G19=0,1,G19))),2) -> 65.71
H20: =ROUND(IF(PRODUCT(IF(C20=0,1,C20),IF(E20=0,1,E20),IF(F20=0,1,F20),IF(G20=0,1,G20))=1,0,PRODUCT(IF(C20=0,1,C20),IF(E20=0,1,E20),IF(F20=0,1,F20),IF(G20=0,1,G20))),2) -> 0
F21: Total | G21: = | H21: =SUM(H19:H19) -> 65.71 | I21: m²
A22: ='Orçamento Sintético'!A12 -> 2.1.2 | B22: ='Orçamento Sintético'!D12 -> LOCAÇÃO CONVENCIONAL DE OBRA, UTILIZANDO GABARITO DE TÁBUAS CORRIDAS PONTALETADAS A CADA 2,00M - 2 UTILIZAÇÕES. AF_03/2024
B23: Local do Serviço | C23: Quant. | D23: Área m² | E23: Comp. | F23: Larg. | G23: altura / * | H23: Total
B24: Perímetro do muro | E24: =52+25.8+35.6+29.95 -> 143.35 | H24: =ROUND(IF(PRODUCT(IF(C24=0,1,C24),IF(D24=0,1,D24),IF(E24=0,1,E24),IF(F24=0,1,F24),IF(G24=0,1,G24))=1,0,PRODUCT(IF(C24=0,1,C24),IF(D24=0,1,D24),IF(E24=0,1,E24),IF(F24=0,1,F24),IF(G24=0,1,G24))),2) -> 143.35
H25: =ROUND(IF(PRODUCT(IF(C25=0,1,C25),IF(E25=0,1,E25),IF(F25=0,1,F25),IF(G25=0,1,G25))=1,0,PRODUCT(IF(C25=0,1,C25),IF(E25=0,1,E25),IF(F25=0,1,F25),IF(G25=0,1,G25))),2) -> 0
F26: Total | G26: = | H26: =SUM(H24:H24) -> 143.35 | I26: m
A27: ='Orçamento Sintético'!A13 -> 2.1.3 | B27: ='Orçamento Sintético'!D13 -> FORNECIMENTO E INSTALAÇÃO DE PLACA DE OBRA COM CHAPA GALVANIZADA E ESTRUTURA DE MADEIRA. AF_03/2022_PS
B28: Local do Serviço | C28: Quant. | D28: Área m² | E28: Comp. | F28: Larg. | G28: altura / * | H28: Total
F29: 3 | G29: 2 | H29: =ROUND(IF(PRODUCT(IF(C29=0,1,C29),IF(D29=0,1,D29),IF(E29=0,1,E29),IF(F29=0,1,F29),IF(G29=0,1,G29))=1,0,PRODUCT(IF(C29=0,1,C29),IF(D29=0,1,D29),IF(E29=0,1,E29),IF(F29=0,1,F29),IF(G29=0,1,G29))),2) -> 6
H30: =ROUND(IF(PRODUCT(IF(C30=0,1,C30),IF(E30=0,1,E30),IF(F30=0,1,F30),IF(G30=0,1,G30))=1,0,PRODUCT(IF(C30=0,1,C30),IF(E30=0,1,E30),IF(F30=0,1,F30),IF(G30=0,1,G30))),2) -> 0
F31: Total | G31: = | H31: =SUM(H29:H29) -> 6 | I31: m²
A32: ='Orçamento Sintético'!A14 -> 2.1.4 | B32: ='Orçamento Sintético'!D14 -> BARRACÃO PARA OBRAS DE MÉDIO PORTE REAPROVEITAMENTO 2 VEZES
B33: Local do Serviço | C33: Quant. | D33: Área m² | E33: Comp. | F33: Larg. | G33: altura / * | H33: Total
E34: 5 | F34: 5 | H34: =ROUND(IF(PRODUCT(IF(C34=0,1,C34),IF(D34=0,1,D34),IF(E34=0,1,E34),IF(F34=0,1,F34),IF(G34=0,1,G34))=1,0,PRODUCT(IF(C34=0,1,C34),IF(D34=0,1,D34),IF(E34=0,1,E34),IF(F34=0,1,F34),IF(G34=0,1,G34))),2) -> 25
H35: =ROUND(IF(PRODUCT(IF(C35=0,1,C35),IF(E35=0,1,E35),IF(F35=0,1,F35),IF(G35=0,1,G35))=1,0,PRODUCT(IF(C35=0,1,C35),IF(E35=0,1,E35),IF(F35=0,1,F35),IF(G35=0,1,G35))),2) -> 0
F36: Total | G36: = | H36: =SUM(H34:H34) -> 25 | I36: m²
A37: ='Orçamento Sintético'!A15 -> 2.1.5 | B37: ='Orçamento Sintético'!D15 -> ESTRUTURA DE MADEIRA PROVISÓRIA PARA SUPORTE DE CAIXA D'ÁGUA ELEVADA DE 2000 LITROS. AF_03/2024
B38: Local do Serviço | C38: Quant. | D38: Área m² | E38: Comp. | F38: Larg. | G38: altura / * | H38: Total
C39: 1 | H39: =PRODUCT(C39,D39,E39,F39,G39) -> 1
H40: =ROUND(IF(PRODUCT(IF(C40=0,1,C40),IF(E40=0,1,E40),IF(F40=0,1,F40),IF(G40=0,1,G40))=1,0,PRODUCT(IF(C40=0,1,C40),IF(E40=0,1,E40),IF(F40=0,1,F40),IF(G40=0,1,G40))),2) -> 0
F41: Total | G41: = | H41: =SUM(H39:H39) -> 1 | I41: Ud
A42: ='Orçamento Sintético'!A16 -> 2.1.6 | B42: ='Orçamento Sintético'!D16 -> CAIXA D´ÁGUA EM POLIETILENO, 2000 LITROS - FORNECIMENTO E INSTALAÇÃO. AF_06/2021
B43: Local do Serviço | C43: Quant. | D43: Área m² | E43: Comp. | F43: Larg. | G43: altura / * | H43: Total
C44: 1 | H44: =PRODUCT(C44,D44,E44,F44,G44) -> 1
...

Sheet CFF 
A2: CRONOGRAMA FÍSICO-FINANCEIRO
A5: OBRA: | B5: =MC!B6 -> CONSTRUÇÃO DE UMA QUADRA POLIESPORTIVA NO MUNICIPIO DE CAETÉS - PE
A6: =[1]BASE!A7 -> LOCAL: | B6: =MC!B7 -> CAETÉS - PE
A8: ITEM | B8: SERVIÇOS | D8: 1° MÊS | E8: 2° MÊS | F8: 3° MÊS | G8: 4° MÊS | H8: 5° MÊS | I8: 6° MÊS | J8: 7° MÊS | K8: 8° MÊS | L8: TOTAL
A9: ='Orçamento Sintético'!A7 -> 1.0 | B9: ='Orçamento Sintético'!D7 -> ADMINISTRAÇÃO LOCAL | C9: R$ | D9: =D10*$L9 -> 3782.265 | E9: =E10*$L9 -> 3782.265 | F9: =F10*$L9 -> 3782.265 | G9: =G10*$L9 -> 3782.265 | H9: =H10*$L9 -> 3782.265 | I9: =I10*$L9 -> 3782.265 | J9: =J10*$L9 -> 3782.265 | K9: =K10*$L9 -> 3782.265 | L9: ='Orçamento Sintético'!I7 -> 30258.12
C10: % | D10: =1/8 -> 0.125 | E10: =1/8 -> 0.125 | F10: =1/8 -> 0.125 | G10: =1/8 -> 0.125 | H10: =1/8 -> 0.125 | I10: =1/8 -> 0.125 | J10: =1/8 -> 0.125 | K10: =1/8 -> 0.125 | L10: =SUM(D10:K10) -> 1
A11: ='Orçamento Sintético'!A9 -> 2.0 | B11: ='Orçamento Sintético'!D9 -> INSTALAÇÕES PROVISÓRIAS / SERVIÇOS PRELIMINARES | C11: R$ | D11: =D12*$L11 -> 71415.52 | E11: =E12*$L11 -> 0 | F11: =F12*$L11 -> 0 | G11: =G12*$L11 -> 0 | H11: =H12*$L11 -> 0 | I11: =I12*$L11 -> 0 | J11: =J12*$L11 -> 0 | K11: =K12*$L11 -> 0 | L11: ='Orçamento Sintético'!I9 -> 71415.52
C12: % | D12: 1 | L12: =SUM(D12:K12) -> 1
A13: ='Orçamento Sintético'!A21 -> 3.0 | B13: ='Orçamento Sintético'!D21 -> INFRAESTRUTURA - BANHEIROS | C13: R$ | D13: =D14*$L13 -> 0 | E13: =E14*$L13 -> 13572.08 | F13: =F14*$L13 -> 0 | G13: =G14*$L13 -> 0 | H13: =H14*$L13 -> 0 | I13: =I14*$L13 -> 0 | J13: =J14*$L13 -> 0 | K13: =K14*$L13 -> 0 | L13: ='Orçamento Sintético'!I21 -> 13572.08
C14: % | E14: 1 | L14: =SUM(D14:K14) -> 1
A15: ='Orçamento Sintético'!A41 -> 4.0 | B15: ='Orçamento Sintético'!D41 -> SUPERESTRUTURA - BANHEIROS | C15: R$ | D15: =D16*$L15 -> 0 | E15: =E16*$L15 -> 31369.95 | F15: =F16*$L15 -> 0 | G15: =G16*$L15 -> 0 | H15: =H16*$L15 -> 0 | I15: =I16*$L15 -> 0 | J15: =J16*$L15 -> 0 | K15: =K16*$L15 -> 0 | L15: ='Orçamento Sintético'!I41 -> 31369.95
C16: % | E16: 1 | L16: =SUM(D16:K16) -> 1
A17: ='Orçamento Sintético'!A59 -> 5.0 | B17: ='Orçamento Sintético'!D59 -> CHAPISCO / REBOCO - BANHEIROS | C17: R$ | D17: =D18*$L17 -> 0 | E17: =E18*$L17 -> 0 | F17: =F18*$L17 -> 14884.9 | G17: =G18*$L17 -> 0 | H17: =H18*$L17 -> 0 | I17: =I18*$L17 -> 0 | J17: =J18*$L17 -> 0 | K17: =K18*$L17 -> 0 | L17: ='Orçamento Sintético'!I59 -> 14884.9
C18: % | F18: 1 | L18: =SUM(D18:K18) -> 1
A19: ='Orçamento Sintético'!A66 -> 6.0 | B19: ='Orçamento Sintético'!D66 -> PAVIMENTAÇÃO | C19: R$ | D19: =D20*$L19 -> 0 | E19: =E20*$L19 -> 0 | F19: =F20*$L19 -> 20422.888 | G19: =G20*$L19 -> 61268.664 | H19: =H20*$L19 -> 61268.664 | I19: =I20*$L19 -> 61268.664 | J19: =J20*$L19 -> 0 | K19: =K20*$L19 -> 0 | L19: ='Orçamento Sintético'!I66 -> 204228.88
C20: % | F20: 0.1 | G20: 0.3 | H20: 0.3 | I20: 0.3 | L20: =SUM(D20:K20) -> 1
A21: ='Orçamento Sintético'!A81 -> 7.0 | B21: ='Orçamento Sintético'!D81 -> COBERTA - BANHEIRO | C21: R$ | D21: =D22*$L21 -> 0 | E21: =E22*$L21 -> 0 | F21: =F22*$L21 -> 4278.27 | G21: =G22*$L21 -> 0 | H21: =H22*$L21 -> 0 | I21: =I22*$L21 -> 0 | J21: =J22*$L21 -> 0 | K21: =K22*$L21 -> 0 | L21: ='Orçamento Sintético'!I81 -> 4278.27
C22: % | F22: 1 | L22: =SUM(D22:K22) -> 1
A23: ='Orçamento Sintético'!A86 -> 8.0 | B23: ='Orçamento Sintético'!D86 -> ESTRUTURA METÁLICA / COBERTA - QUADRA | C23: R$ | D23: =D24*$L23 -> 0 | E23: =E24*$L23 -> 0 | F23: =F24*$L23 -> 143373.32 | G23: =G24*$L23 -> 143373.32 | H23: =H24*$L23 -> 143373.32 | I23: =I24*$L23 -> 143373.32 | J23: =J24*$L23 -> 143373.32 | K23: =K24*$L23 -> 0 | L23: ='Orçamento Sintético'!I86 -> 716866.6
C24: % | F24: 0.2 | G24: 0.2 | H24: 0.2 | I24: 0.2 | J24: 0.2 | L24: =SUM(D24:K24) -> 1
A25: ='Orçamento Sintético'!A107 -> 9.0 | B25: ='Orçamento Sintético'!D107 -> ESQUADRIAS - BANHEIROS | C25: R$ | D25: =D26*$L25 -> 0 | E25: =E26*$L25 -> 0 | F25: =F26*$L25 -> 12128.1 | G25: =G26*$L25 -> 0 | H25: =H26*$L25 -> 0 | I25: =I26*$L25 -> 0 | J25: =J26*$L25 -> 0 | K25: =K26*$L25 -> 0 | L25: ='Orçamento Sintético'!I107 -> 12128.1
C26: % | F26: 1 | L26: =SUM(D26:K26) -> 1
A27: ='Orçamento Sintético'!A115 -> 10.0 | B27: ='Orçamento Sintético'!D115 -> FORROS - BANHEIROS | C27: R$ | D27: =D28*$L27 -> 0 | E27: =E28*$L27 -> 0 | F27: =F28*$L27 -> 0 | G27: =G28*$L27 -> 1602.47 | H27: =H28*$L27 -> 0 | I27: =I28*$L27 -> 0 | J27: =J28*$L27 -> 0 | K27: =K28*$L27 -> 0 | L27: ='Orçamento Sintético'!I115 -> 1602.47
C28: % | G28: 1 | L28: =SUM(D28:K28) -> 1
A29: ='Orçamento Sintético'!A117 -> 11.0 | B29: ='Orçamento Sintético'!D117 -> ACABAMENTOS DE PISO E PAREDES - BANHEIROS | C29: R$ | D29: =D30*$L29 -> 0 | E29: =E30*$L29 -> 0 | F29: =F30*$L29 -> 0 | G29: =G30*$L29 -> 0 | H29: =H30*$L29 -> 0 | I29: =I30*$L29 -> 0 | J29: =J30*$L29 -> 15566.66 | K29: =K30*$L29 -> 0 | L29: ='Orçamento Sintético'!I117 -> 15566.66
C30: % | J30: 1 | L30: =SUM(D30:K30) -> 1
A31: ='Orçamento Sintético'!A125 -> 12.0 | B31: ='Orçamento Sintético'!D125 -> PINTURA - PISO DA QUADRA / BANHEIROS | C31: R$ | D31: =D32*$L31 -> 0 | E31: =E32*$L31 -> 0 | F31: =F32*$L31 -> 0 | G31: =G32*$L31 -> 0 | H31: =H32*$L31 -> 0 | I31: =I32*$L31 -> 0 | J31: =J32*$L31 -> 30962.215 | K31: =K32*$L31 -> 30962.215 | L31: ='Orçamento Sintético'!I125 -> 61924.43
C32: % | J32: 0.5 | K32: 0.5 | L32: =SUM(D32:K32) -> 1
A33: ='Orçamento Sintético'!A136 -> 13.0 | B33: ='Orçamento Sintético'!D136 -> INSTALAÇÕES HIDROSSANITÁRIAS | C33: R$ | D33: =D34*$L33 -> 0 | E33: =E34*$L33 -> 43721.275 | F33: =F34*$L33 -> 0 | G33: =G34*$L33 -> 0 | H33: =H34*$L33 -> 0 | I33: =I34*$L33 -> 0 | J33: =J34*$L33 -> 0 | K33: =K34*$L33 -> 43721.275 | L33: ='Orçamento Sintético'!I136 -> 87442.55
C34: % | E34: 0.5 | K34: 0.5 | L34: =SUM(D34:K34) -> 1
A35: ='Orçamento Sintético'!A196 -> 14.0 | B35: ='Orçamento Sintético'!D196 -> INSTALAÇÕES ELETRICAS | C35: R$ | D35: =D36*$L35 -> 0 | E35: =E36*$L35 -> 33345.76 | F35: =F36*$L35 -> 0 | G35: =G36*$L35 -> 0 | H35: =H36*$L35 -> 0 | I35: =I36*$L35 -> 0 | J35: =J36*$L35 -> 0 | K35: =K36*$L35 -> 14291.04 | L35: ='Orçamento Sintético'!I196 -> 47636.8
C36: % | E36: 0.7 | K36: 0.3 | L36: =SUM(D36:K36) -> 1
A37: ='Orçamento Sintético'!A240 -> 15.0 | B37: ='Orçamento Sintético'!D240 -> ARQUIBANCADA | C37: R$ | D37: =D38*$L37 -> 0 | E37: =E38*$L37 -> 107206.38 | F37: =F38*$L37 -> 0 | G37: =G38*$L37 -> 0 | H37: =H38*$L37 -> 0 | I37: =I38*$L37 -> 0 | J37: =J38*$L37 -> 0 | K37: =K38*$L37 -> 45945.591 | L37: ='Orçamento Sintético'!I240 -> 153151.97
C38: % | E38: 0.7 | K38: 0.3 | L38: =SUM(D38:K38) -> 1
A39: ='Orçamento Sintético'!A281 -> 16.0 | B39: ='Orçamento Sintético'!D281 -> MURO DE ARRIMO / MURO EXTERNO / MURETA DO GRADIL | C39: R$ | D39: =D40*$L39 -> 174970.9 | E39: =E40*$L39 -> 0 | F39: =F40*$L39 -> 0 | G39: =G40*$L39 -> 0 | H39: =H40*$L39 -> 0 | I39: =I40*$L39 -> 0 | J39: =J40*$L39 -> 0 | K39: =K40*$L39 -> 74987.529 | L39: ='Orçamento Sintético'!I281 -> 249958.43
C40: % | D40: 0.7 | K40: 0.3 | L40: =SUM(D40:K40) -> 1
A41: ='Orçamento Sintético'!A321 -> 17.0 | B41: ='Orçamento Sintético'!D321 -> FACHADA / PORTICO | C41: R$ | D41: =D42*$L41 -> 0 | E41: =E42*$L41 -> 0 | F41: =F42*$L41 -> 30214.976 | G41: =G42*$L41 -> 0 | H41: =H42*$L41 -> 0 | I41: =I42*$L41 -> 0 | J41: =J42*$L41 -> 22661.232 | K41: =K42*$L41 -> 22661.232 | L41: ='Orçamento Sintético'!I321 -> 75537.44
C42: % | F42: 0.4 | J42: 0.3 | K42: 0.3 | L42: =SUM(D42:K42) -> 1
A43: ='Orçamento Sintético'!A374 -> 18.0 | B43: ='Orçamento Sintético'!D374 -> PAISAGISMO | C43: R$ | D43: =D44*$L43 -> 0 | E43: =E44*$L43 -> 0 | F43: =F44*$L43 -> 0 | G43: =G44*$L43 -> 0 | H43: =H44*$L43 -> 0 | I43: =I44*$L43 -> 0 | J43: =J44*$L43 -> 5857.24 | K43: =K44*$L43 -> 0 | L43: ='Orçamento Sintético'!I374 -> 5857.24
C44: % | J44: 1 | L44: =SUM(D44:K44) -> 1
...

Sheet BDI 01
A1: PREFEITURA MUNICIPAL DE CAETÉS
A2: COMPOSIÇÃO DE BDI (BONIFICAÇÃO E DESPESAS INDIRETAS)
A5: =[2]Base!A4 -> OBRA: | B5: CONSTRUÇÃO DE UMA QUADRA POLIESPORTIVA NO SITIO BASTIÕES, MUNICIPIO DE CAETÉS - PE
A6: =[2]Base!A5 -> LOCAL: | B6: CAETÉS - PE
A8: ITEM | B8: DISCRIMINAÇÃO | D8: %
A9: 1 | B9: ADMINISTRAÇÃO CENTRAL (AC) | D9: 3
A10: 2 | B10: SEGURO E GARANTIA (SG) | D10: 0.8
A11: 3 | B11: RISCO (R) | D11: 0.97
A12: 4 | B12: DESPESAS FINANCEIRA (DF) | D12: 0.59
A13: 5 | B13: LUCRO (L) | D13: 6.16
A14: 6 | B14: TRIBUTOS (T) | D14: =SUM(C15:C18) -> 6.15
B15: PIS | C15: 0.65
B16: COFINS | C16: 3
B17: ISS | C17: 2.5
B18: CPRB
A19: TOTAL | D19: =((((1+(D9/100+D11/100+D10/100))*(1+D12/100)*(1+D13/100))/(1-D14/100))-1)*100 -> 19.211564
A21: BDI = [[{(1+(AC/100 +R/100+SG/100+))*(1+DF/100)*(1+L/100)}/(1-T/100)]-1]*100

Sheet BDI 02
A1: PREFEITURA MUNICIPAL DE CAETÉS
A2: COMPOSIÇÃO DE BDI (BONIFICAÇÃO E DESPESAS INDIRETAS)
A5: =[2]Base!A4 -> OBRA: | B5: CONSTRUÇÃO DE UMA QUADRA POLIESPORTIVA NO SITIO BASTIÕES, MUNICIPIO DE CAETÉS - PE
A6: =[2]Base!A5 -> LOCAL: | B6: ='BDI 01'!B6 -> CAETÉS - PE
A8: ITEM | B8: DISCRIMINAÇÃO | D8: %
A9: 1 | B9: ADMINISTRAÇÃO CENTRAL (AC) | D9: 1.5
A10: 2 | B10: SEGURO E GARANTIA (SG) | D10: 0.3
A11: 3 | B11: RISCO (R) | D11: 0.56
A12: 4 | B12: DESPESAS FINANCEIRA (DF) | D12: 0.85
A13: 5 | B13: LUCRO (L) | D13: 3.5
A14: 6 | B14: TRIBUTOS (T) | D14: =SUM(C15:C18) -> 3.65
B15: PIS | C15: 0.65
B16: COFINS | C16: 3
B17: ISS
B18: CPRB
A19: TOTAL | D19: =((((1+(D9/100+D11/100+D10/100))*(1+D12/100)*(1+D13/100))/(1-D14/100))-1)*100 -> 10.89062
A21: BDI = [[{(1+(AC/100 +R/100+SG/100+))*(1+DF/100)*(1+L/100)}/(1-T/100)]-1]*100

Sheet COMPOSIÇÕES
A1: COMPOSIÇÕES | I1: ONERADO | J1: DESONERADO
A3: Cód. | C3: COMP - 01 | H3: M
A4: Descrição: | C4: ALAMBRADO (HT=5,10M) COM TELA GALVANIZADA MALHA 2" X 2" (H=1,50M), TELA EM NYLON 10 X 10 CM (H=3,00M), MONTANTES EM TUBOS GALVANIZADOS VERTICAIS DE 2" ACADA 2M, TUBOS GALVANIZADOS HORIZONTAIS DE 1", MURETA (H=0,50M) EM ALVENARIADE BLOCOS DE CONCRETO *9X19X39CM* C/ JUNTA SERRADA/APARENTE (C/ BASE EMALVENARIA DE PEDRA ARGAMASSADA E LASTRO EM CONCRETO CICLÓPICO), C/PINTURA SOBRE ALVENARIA APARENTE (SELADOR ACRÍLICO + TINTA TEXTURIZADAACRÍLICA) [CONFORME COMPOSIÇÃO 04299/ORSE - ADAPTADA]
A5: Codigo | B5: Referencia | C5: Desc. do Insumo | D5: Unid | E5: Quant. | F5: P. Unit (R$) | G5: Mês / Dias | H5: P. Total (R$)
C6: MÃO DE OBRA
A7: 88277 | B7: SINAPI | C7: MONTADOR (TUBO AÇO/EQUIPAMENTOS) COM ENCARGOS COMPLEMENTARES | D7: H | E7: 0.5 | F7: =I7 -> 25.28 | H7: =E7*F7 -> 12.64 | I7: 25.28 | J7: 23.21
A8: 88316 | B8: SINAPI | C8: SERVENTE COM ENCARGOS COMPLEMENTARES | D8: H | E8: 0.5 | F8: =I8 -> 24.08 | H8: =E8*F8 -> 12.04 | I8: 24.08 | J8: 22.26
A9: 88317 | B9: SINAPI | C9: SOLDADOR COM ENCARGOS COMPLEMENTARES | D9: H | E9: 0.5 | F9: =I9 -> 30.57 | H9: =E9*F9 -> 15.285 | I9: 30.57 | J9: 28.17
D10: Sub total MO ( com os Encargos Sociais ): | H10: =SUM(H7:H9) -> 39.965
C11: SERVIÇOS
A12: 00091 | B12: ORSE | C12: ALVENARIA PEDRA CALCÁREA ARGAMASSADA C/ CIMENTO E AREIA TRAÇO T-4 (1:5) - 1 SACO CIMENTO 50KG / 5PADIOLAS AREIA DIM. 0,35Z0,45X0,23M - CONFECÇÃO MECÂNICA E CONCRETO CICLÓPICO FCK = 15MPA, 30% PEDRA DE MÃO EM VOLUME REAL, INCLUSIVE LANÇAMENTO. AF_05/2021 | D12: M3 | E12: 0.09 | F12: =I12 -> 527.07 | H12: =E12*F12 -> 47.4363 | I12: 527.07 | J12: 527.07
A13: 102487 | B13: SINAPI | C13: CONCRETO CICLÓPICO FCK = 15MPA, 30% PEDRA DE MÃO EM VOLUME REAL, INCLUSIVE LANÇAMENTO. AF_05/2021 | D13: M3 | E13: 0.036 | F13: =I13 -> 608.49 | H13: =E13*F13 -> 21.90564 | I13: 608.49 | J13: 587.15
A14: 103316 | B14: SINAPI | C14: ALVENARIA DE VEDAÇÃO DE BLOCOS VAZADOS DE CONCRETO DE 9X19X39 CM (ESPESSURA 9 CM) E ARGAMASSA DE ASSENTAMENTO COM PREPARO EM BETONEIRA. AF_12/2021 | D14: M2 | E14: 0.45 | F14: =I14 -> 78.24 | H14: =E14*F14 -> 35.208 | I14: 78.24 | J14: 75.73
A15: 88415 | B15: SINAPI | C15: APLICAÇÃO MANUAL DE FUNDO SELADOR ACRÍLICO EM PAREDES EXTERNAS DE CASAS. AF_06/2014 | D15: M2 | E15: 1.05 | F15: =I15 -> 5.11 | H15: =E15*F15 -> 5.3655 | I15: 5.11 | J15: 4.95
A16: 88423 | B16: SINAPI | C16: APLICAÇÃO MANUAL DE PINTURA COM TINTA TEXTURIZADA ACRÍLICA EM PAREDES EXTERNAS DE CASAS, UMA COR. AF_06/2014 | D16: M2 | E16: 1.05 | F16: =I16 -> 25.39 | H16: =E16*F16 -> 26.6595 | I16: 25.39 | J16: 24.98
A17: 93358 | B17: SINAPI | C17: ESCAVAÇÃO MANUAL DE VALA. AF_09/2024 | D17: M3 | E17: 0.11 | F17: =I17 -> 95.25 | H17: =E17*F17 -> 10.4775 | I17: 95.25 | J17: 88.05
E18: Sub total MATERIAIS: | H18: =SUM(H12:H17) -> 147.05244
C19: INSUMOS
A20: 7158 | B20: SINAPI | C20: TELA DE ARAME GALVANIZADA QUADRANGULAR / LOSANGULAR, FIO 2,77 MM (12 BWG), MALHA 5 X 5 CM, H = 2 M | D20: M2 | E20: 1.5 | F20: =I20 -> 50 | H20: =E20*F20 -> 75 | I20: 50 | J20: 50
A21: 10997 | B21: SINAPI | C21: ELETRODO REVESTIDO AWS - E7018, DIAMETRO IGUAL A 4,00 MM | D21: KG | E21: 0.15 | F21: =I21 -> 30 | H21: =E21*F21 -> 4.5 | I21: 30 | J21: 30
A22: 43132 | B22: SINAPI | C22: ARAME RECOZIDO 16 BWG, D = 1,65 MM (0,016 KG/M) OU 18 BWG, D = 1,25 MM (0,01 KG/M) | D22: KG | E22: 0.2 | F22: =I22 -> 18 | H22: =E22*F22 -> 3.6 | I22: 18 | J22: 18
A23: 21010 | B23: SINAPI | C23: TUBO ACO GALVANIZADO COM COSTURA, CLASSE LEVE, DN 25 MM ( 1"), E = 2,65 MM, *2,11* KG/M (NBR 5580) | D23: M | E23: 3 | F23: =I23 -> 28.49 | H23: =E23*F23 -> 85.47 | I23: 28.49 | J23: 28.49
A24: 21013 | B24: SINAPI | C24: TUBO ACO GALVANIZADO COM COSTURA, CLASSE LEVE, DN 50 MM ( 2"), E = 3,00 MM, *4,40* KG/M (NBR 5580) | D24: M | E24: 2.95 | F24: =I24 -> 59.88 | H24: =E24*F24 -> 176.646 | I24: 59.88 | J24: 59.88
A25: 2758 | B25: ORSE | C25: TELA DE NYLON, FIO 30-36 (3,6MM), MALHA 10X10CM | D25: M2 | E25: 3 | F25: =I25 -> 14.98 | H25: =E25*F25 -> 44.94 | I25: 14.98 | J25: 14.98
E26: Sub total SERVIÇOS: | H26: =SUM(H20:H25) -> 390.156
F27: Total ( MO + MAT + SER): | H27: =H10+H18+H26 -> 577.17344
F28: PREÇO UNITÁRIO TOTAL: | H28: =SUM(H27:H27) -> 577.17344
A32: Cód. | C32: COMP - 02 | H32: M2
A33: Descrição: | C33: ALVENARIA DE VEDAÇÃO DE BLOCOS CERÂMICOS FURADOS NA HORIZONTAL DE 9X19X19 CM (ESPESSURA 19 CM) E ARGAMASSA DE ASSENTAMENTO COM PREPARO EM BETONEIRA (ALVENARIA DE UMA VEZ) AF_12/2021, COMPOSIÇÃO 103328 - SINAPI, ADAPTADA.
A34: Codigo | B34: Referencia | C34: Desc. do Insumo | D34: Unid | E34: Quant. | F34: P. Unit (R$) | G34: Mês / Dias | H34: P. Total (R$)
C35: MÃO DE OBRA
A36: 88309 | B36: SINAPI | C36: PEDREIRO COM ENCARGOS COMPLEMENTARES | D36: H | E36: 3.22 | F36: =I36 -> 29.85 | H36: =E36*F36 -> 96.117 | I36: 29.85 | J36: 27.42
A37: 88316 | B37: SINAPI | C37: SERVENTE COM ENCARGOS COMPLEMENTARES | D37: H | E37: 1.61 | F37: =I37 -> 24.08 | H37: =E37*F37 -> 38.7688 | I37: 24.08 | J37: 22.26
D38: Sub total MO ( com os Encargos Sociais ): | H38: =SUM(H36:H37) -> 134.8858
C39: SERVIÇOS
A40: 87292 | B40: SINAPI | C40: ARGAMASSA TRAÇO 1:2:8 (EM VOLUME DE CIMENTO, CAL E AREIA MÉDIA ÚMIDA) PARA EMBOÇO/MASSA ÚNICA/ASSENTAMENTO DE ALVENARIA DE VEDAÇÃO, PREPARO MECÂNICO | D40: M3 | E40: 0.0182 | F40: =I40 -> 701.6 | H40: =E40*F40 -> 12.76912 | I40: 701.6 | J40: 693.59
E41: Sub total MATERIAIS: | H41: =H40 -> 12.76912
C42: INSUMOS
A43: 7271 | B43: SINAPI | C43: BLOCO CERAMICO / TIJOLO VAZADO PARA ALVENARIA DE VEDACAO, 8 FUROS NA HORIZONTAL, DE 9 X 19 X 19 CM (L XA X C) | D43: UN | E43: 56.62 | F43: =I43 -> 0.65 | H43: =E43*F43 -> 36.803 | I43: 0.65 | J43: 0.65
E44: Sub total SERVIÇOS: | H44: =SUM(H43:H43) -> 36.803
...

Sheet COTAÇÃO
A1: COTAÇÕES
A3: EMPRESAS | B3: CNPJ | C3: NOME | D3: CONTATO
A4: E001 | B4: 47.960.950/1088-36 | C4: MAGAZINE LUIZA | D4: www.magazineluiza.com.br
A5: E002 | B5: 15.436.940/0001-03 | C5: AMAZON | D5: www.amazon.com.br
A6: E003 | B6: 33.779.899/0001-41 | C6: SUSTENTA LED | D6: www.sustentaled.com.br
A7: E004 | B7: 26.487.744/0001-76 | C7: GRAVIA | D7: www.gravia.com.br
A8: E005 | B8: 48.953.227/0001-88 | C8: SERRALHERIA | D8: www.serralheria.com.br
A9: E006 | B9: 17.469.701/0001-77 | C9: ARCELOR MITTAL | D9: www.loja.arcelormittal.com.br
A10: E007 | B10: 00.289.348/0001 | C10: LOJA KINGSPAN | D10: www.lojakingspan.com
A11: E008 | B11: 01.438.784/0001-05 | C11: LEROY MERLIN | D11: www.leroymerlin.com.br
A12: E009 | B12: 00.289.348/0011-12 | C12: MEU TELHADO | D12: www.meutelhado.com.br
A15: FONTE | B15: CÓDIGO | C15: DESCRIÇÃO | D15: MEDIANA (VALOR POR UNIDADE)
A16: COTAÇÃO | B16: 01 | C16: LUMINÁRIA PLAFON 25W LED QUADRADO EMBUTIR BRANCO FRIO | D16: =D18 -> 48.67
A17: DATA | B17: EMPRESA | C17: NOME DA EMPRESA | D17: COTAÇÕES
A18: 45830 | B18: E001 | C18: MAGAZINE LUIZA | D18: 48.67
A19: 45830 | B19: E002 | C19: AMAZON | D19: 51.31
A20: 45830 | B20: E003 | C20: SUSTENTA LED | D20: 34.79
A22: FONTE | B22: CÓDIGO | C22: DESCRIÇÃO | D22: MEDIANA (VALOR POR METRO)
A23: COTAÇÃO | B23: 02 | C23: TUBO INDUSTRIAL QUADRADO AÇO - 100 X 100MM X 3,00MM | D23: 79.17
A24: DATA | B24: EMPRESA | C24: NOME DA EMPRESA | D24: COTAÇÕES
A25: 45830 | B25: E004 | C25: GRAVIA | D25: =495.48/6 -> 82.58
A26: 45830 | B26: E005 | C26: SERRALHERIA | D26: =475/6 -> 79.166667
A27: 45830 | B27: E006 | C27: ARCELOR MITTAL | D27: =448.82/6 -> 74.803333
A29: FONTE | B29: CÓDIGO | C29: DESCRIÇÃO | D29: MEDIANA (VALOR POR M²)
A30: COTAÇÃO | B30: 03 | C30: PAINEL RIPADO EM ALUMÍNIO AMADEIRADO, NO PADRÃO FREIJÓ, INCLUSO KIT DE INSTALAÇÃO | D30: =D34 -> 278.19153
A31: DATA | B31: EMPRESA | C31: NOME DA EMPRESA | D31: COTAÇÕES
A32: 45830 | B32: E007 | C32: LOJA KINGSPAN | D32: =1559.26/5.9 -> 264.28136
A33: 45830 | B33: E008 | C33: LEROY MERLIN | D33: =1723.4/5.9 -> 292.10169
A34: 45830 | B34: E009 | C34: MEU TELHADO | D34: =1641.33/5.9 -> 278.19153
A36: FONTE | B36: CÓDIGO | C36: DESCRIÇÃO | D36: MEDIANA (VALOR POR KG)
A37: COTAÇÃO | B37: 04 | C37: TEXTURA CIMENTO QUEIMADO DIA DE CHUVA SUVINIL OU SIMILAR PARA ÁREAS INTERNAS OU EXTERNAS, 5KG, RENDIMENTO DE ATÉ 9M² ACABADO, DUAS DEMÃOS (1,8M²/KG) | D37: 43.98
A38: DATA | B38: EMPRESA | C38: NOME DA EMPRESA | D38: COTAÇÕES
A39: 45830 | B39: E008 | C39: LEROY MERLIN | D39: 43.98
A40: 45830 | B40: E002 | C40: AMAZON | D40: 58.09
A41: 45830 | B41: E001 | C41: MAGAZINE LUIZA | D41: 41.08
