Workbook
Name __BDI18: #REF!
Name __BDI18: #REF!
Name __BDI25: #REF!
Name __BDI25: #REF!
Name _1Excel_BuiltIn__FilterDatabase_3_1: #REF!
Name _1Excel_BuiltIn__FilterDatabase_3_1: #REF!
Name _2Excel_BuiltIn_Print_Area_1: #REF!
Name _2Excel_BuiltIn_Print_Area_1: #REF!
Name _3Excel_BuiltIn_Print_Area_2: #REF!
Name _3Excel_BuiltIn_Print_Area_2: #REF!
Name _4Excel_BuiltIn_Print_Titles_1: (#REF!,#REF!)
Name _4Excel_BuiltIn_Print_Titles_1: (#REF!,#REF!)
Name _BDI18: #REF!
Name _BDI18: #REF!
Name _BDI25: #REF!
Name _BDI25: #REF!
Name BDI18_1: #REF!
Name BDI18_1: #REF!
Name BDI18_4: "$#REF!.$B$2"
Name BDI25_1: #REF!
Name BDI25_1: #REF!
Name BDI25_4: "$#REF!.$B$3"
Name çlkj: (#REF!,#REF!)
Name çlkj: (#REF!,#REF!)
Name Excel_BuiltIn__FilterDatabase_10: "$#REF!.$E$10:$E$55"
Name Excel_BuiltIn__FilterDatabase_2_1: "$#REF!.$D$9:$D$706"
Name Excel_BuiltIn__FilterDatabase_3: #REF!
Name Excel_BuiltIn__FilterDatabase_3: #REF!
Name Excel_BuiltIn__FilterDatabase_3_1: #REF!
Name Excel_BuiltIn__FilterDatabase_3_1: #REF!
Name Excel_BuiltIn_Print_Area: #REF!
Name Excel_BuiltIn_Print_Area: #REF!
Name Excel_BuiltIn_Print_Area_1: "$#REF!.$A$#REF!:$J$#REF!"
Name Excel_BuiltIn_Print_Area_1_1: "$#REF!.$A$1:$J$1"
Name Excel_BuiltIn_Print_Area_1_1_1_3: "$#REF!.$A$1:$G$68"
Name Excel_BuiltIn_Print_Area_1_1_1_3_1: #REF!
Name Excel_BuiltIn_Print_Area_1_1_1_3_1: #REF!
Name Excel_BuiltIn_Print_Area_1_1_1_3_4: "$#REF!.$A$1:$G$67"
Name Excel_BuiltIn_Print_Area_2: #REF!
Name Excel_BuiltIn_Print_Area_2: #REF!
Name Excel_BuiltIn_Print_Area_2_1: "$#REF!.$A$1:$L$83"
Name Excel_BuiltIn_Print_Area_2_1_1_1_1_1_1_1_1_1_1_3: "$#REF!.$A$1:$G$92"
Name Excel_BuiltIn_Print_Area_2_1_1_1_1_1_1_1_1_1_1_3_1: #REF!
Name Excel_BuiltIn_Print_Area_2_1_1_1_1_1_1_1_1_1_1_3_1: #REF!
Name Excel_BuiltIn_Print_Area_2_1_1_1_1_1_1_1_1_1_1_3_4: "$#REF!.$A$1:$G$91"
Name Excel_BuiltIn_Print_Area_2_1_1_1_1_1_1_1_1_1_3: "$#REF!.$A$1:$G$92"
Name Excel_BuiltIn_Print_Area_2_1_1_1_1_1_1_1_1_1_3_1: #REF!
Name Excel_BuiltIn_Print_Area_2_1_1_1_1_1_1_1_1_1_3_1: #REF!
Name Excel_BuiltIn_Print_Area_2_1_1_1_1_1_1_1_1_1_3_4: "$#REF!.$A$1:$G$91"
Name Excel_BuiltIn_Print_Area_2_1_1_1_1_1_1_1_1_3: "$#REF!.$A$1:$G$92"
Name Excel_BuiltIn_Print_Area_2_1_1_1_1_1_1_1_1_3_1: #REF!
Name Excel_BuiltIn_Print_Area_2_1_1_1_1_1_1_1_1_3_1: #REF!
Name Excel_BuiltIn_Print_Area_2_1_1_1_1_1_1_1_1_3_4: "$#REF!.$A$1:$G$91"
Name Excel_BuiltIn_Print_Area_2_1_1_1_1_1_1_1_3: "$#REF!.$A$1:$G$92"
Name Excel_BuiltIn_Print_Area_2_1_1_1_1_1_1_1_3_1: #REF!
Name Excel_BuiltIn_Print_Area_2_1_1_1_1_1_1_1_3_1: #REF!
Name Excel_BuiltIn_Print_Area_2_1_1_1_1_1_1_1_3_4: "$#REF!.$A$1:$G$91"
Name Excel_BuiltIn_Print_Area_2_1_1_1_1_1_1_3: "$#REF!.$A$1:$G$92"
Name Excel_BuiltIn_Print_Area_2_1_1_1_1_1_1_3_1: #REF!
Name Excel_BuiltIn_Print_Area_2_1_1_1_1_1_1_3_1: #REF!

Sheet ICD
A1: SINAPI - Sistema Nacional de Pesquisa de Custos e Índices da Construção Civil
A2: RELATÓRIO DE PREÇOS DE INSUMOS - ENCARGOS SOCIAIS COM DESONERAÇÃO
A3: Mês de Referência: | B3: 12/2025 | E3: Encargos sociais sobre a mão de obra:
A4: Data de emissão: | B4: 09/01/2026 | E4: (COM DESONERAÇÃO) | F4: PE
E5: Localidade | F5: RECIFE
A6: Origem de preço: | B6: C = COLETADO | C6: CR = COEFICIENTE DE REPRESENTATIVIDADE | E6: Horista | F6: 0.9123
A7: Preço em branco para determinado estado significa que não houve coleta mínima de preços no mês de referência | E7: Mensalista | F7: 0.5209
D9: Preços Medianos (R$):
A10: Código do Insumo | B10: Descrição do Insumo | C10: Unidade | D10: Origem de Preço | E10: PE
A11: 45333 | B11: ABERTURA PARA ENCAIXE DE CUBA OU LAVATORIO EM BANCADA DE MARMORE/ GRANITO OU OUTRO TIPO DE PEDRA NATURAL | C11: UN | D11: CR | E11: 199.02
A12: 11270 | B12: ABRACADEIRA DE LATAO PARA FIXACAO DE CABO PARA-RAIO, DIMENSOES 32 X 24 X 24 MM | C12: UN | D12: CR | E12: 4.05
A13: 412 | B13: ABRACADEIRA DE NYLON PARA AMARRACAO DE CABOS, COMPRIMENTO DE *230* X *7,6* MM | C13: UN | D13: CR | E13: 1.18
A14: 414 | B14: ABRACADEIRA DE NYLON PARA AMARRACAO DE CABOS, COMPRIMENTO DE 100 X 2,5 MM | C14: UN | D14: CR | E14: 0.07
A15: 410 | B15: ABRACADEIRA DE NYLON PARA AMARRACAO DE CABOS, COMPRIMENTO DE 150 X *3,6* MM | C15: UN | D15: CR | E15: 0.18
A16: 411 | B16: ABRACADEIRA DE NYLON PARA AMARRACAO DE CABOS, COMPRIMENTO DE 200 X *4,6* MM | C16: UN | D16: C | E16: 0.23
A17: 408 | B17: ABRACADEIRA DE NYLON PARA AMARRACAO DE CABOS, COMPRIMENTO DE 390 X *4,6* MM | C17: UN | D17: CR | E17: 1.14
A18: 39131 | B18: ABRACADEIRA EM ACO PARA AMARRACAO DE ELETRODUTOS, TIPO D, COM 1 1/2" E CUNHA DE FIXACAO | C18: UN | D18: CR | E18: 5.1
A19: 394 | B19: ABRACADEIRA EM ACO PARA AMARRACAO DE ELETRODUTOS, TIPO D, COM 1 1/2" E PARAFUSO DE FIXACAO | C19: UN | D19: CR | E19: 5.17
A20: 39130 | B20: ABRACADEIRA EM ACO PARA AMARRACAO DE ELETRODUTOS, TIPO D, COM 1 1/4" E CUNHA DE FIXACAO | C20: UN | D20: CR | E20: 4.65
A21: 395 | B21: ABRACADEIRA EM ACO PARA AMARRACAO DE ELETRODUTOS, TIPO D, COM 1 1/4" E PARAFUSO DE FIXACAO | C21: UN | D21: CR | E21: 4.97
A22: 39129 | B22: ABRACADEIRA EM ACO PARA AMARRACAO DE ELETRODUTOS, TIPO D, COM 1" E CUNHA DE FIXACAO | C22: UN | D22: CR | E22: 2.87
... A54: 36246 | B54: ACABAMENTO SIMPLES/CONVENCIONAL PARA FORRO PVC, TIPO "U" OU "C", COR BRANCA, COMPRIMENTO 6 M | C54: M | D54: CR | E54: 4.26
A55: 37600 | B55: ACESSORIO DE LIGACAO NAO ELETRICO PARA CARGAS EXPLOSIVAS, TUBO DE 6 M | C55: UN | D55: CR
A56: 37599 | B56: ACESSORIO INICIADOR NAO ELETRICO, TUBO DE 6 M, TEMPO DE RETARDO DE *160* MS | C56: UN | D56: CR
A57: 1 | B57: ACETILENO - RECARGA DE GAS PARA CILINDRO (NAO INCLUI TROCA/MANUTENCAO DO CILINDRO) | C57: KG | D57: C
A58: 3 | B58: ACIDO CLORIDRICO / ACIDO MURIATICO, DILUICAO 10% A 12% PARA USO EM LIMPEZA | C58: L | D58: CR | E58: 26.92
A59: 43054 | B59: ACO CA-25, 10,0 MM, OU 12,5 MM, OU 16,0 MM, OU 20,0 MM, OU 25,0 MM, VERGALHAO | C59: KG | D59: CR | E59: 8.02
A60: 42402 | B60: ACO CA-25, 16,0 MM, BARRA DE TRANSFERENCIA | C60: KG | D60: CR | E60: 7.67
A61: 42403 | B61: ACO CA-25, 20,0 MM, BARRA DE TRANSFERENCIA | C61: KG | D61: CR | E61: 9.84
A62: 42404 | B62: ACO CA-25, 25,0 MM, BARRA DE TRANSFERENCIA | C62: KG | D62: CR | E62: 9.78
A63: 42405 | B63: ACO CA-25, 32,0 MM, BARRA DE TRANSFERENCIA | C63: KG | D63: CR | E63: 10.42
A64: 34341 | B64: ACO CA-25, 32,0 MM, VERGALHAO | C64: KG | D64: CR | E64: 9.04
A65: 43053 | B65: ACO CA-25, 6,3 MM OU 8,0 MM, VERGALHAO | C65: KG | D65: CR | E65: 7.17
A66: 43058 | B66: ACO CA-50, 10,0 MM, OU 12,5 MM, OU 16,0 MM, OU 20,0 MM, DOBRADO E CORTADO | C66: KG | D66: CR | E66: 7.43
A67: 34 | B67: ACO CA-50, 10,0 MM, VERGALHAO | C67: KG | D67: CR | E67: 7.47
A68: 43055 | B68: ACO CA-50, 12,5 MM OU 16,0 MM, VERGALHAO | C68: KG | D68: C | E68: 6.47
A69: 43056 | B69: ACO CA-50, 20,0 MM OU 25,0 MM, VERGALHAO | C69: KG | D69: CR | E69: 7.46
... A77: 43060 | B77: ACO CA-60, 8,0 MM OU 9,5 MM, VERGALHAO | C77: KG | D77: CR | E77: 6.16
A78: 40410 | B78: ACOPLAMENTO RIGIDO EM FERRO FUNDIDO PARA SISTEMA DE TUBULACAO RANHURADA, DN 50 MM (2") | C78: UN | D78: C
A79: 40411 | B79: ACOPLAMENTO RIGIDO EM FERRO FUNDIDO PARA SISTEMA DE TUBULACAO RANHURADA, DN 65 MM (2 1/2") | C79: UN | D79: CR
...

Sheet CCD
A1: SINAPI - Sistema Nacional de Pesquisa de Custos e Índices da Construção Civil
A2: RELATÓRIO DE CUSTOS DE COMPOSIÇÕES - ENCARGOS SOCIAIS COM DESONERAÇÃO
A3: Mês de Referência: | B3: 12/2025 | D3: Encargos sociais sobre a mão de obra:
A4: Data de emissão: | B4: 09/01/2026 | D4: (COM DESONERAÇÃO) | E4: PE
D5: Localidade | E5: RECIFE
A6: Observação: | B6: %AS (porcentagem Atribuído São Paulo) corresponde a porcentagem do custo total da | D6: Horista | E6: 0.9123
B7: composição que foi obtida utilizando preços de insumos de São Paulo por indisponibilidade | D7: Mensalista | E7: 0.5209
B8: dos preços de insumos necessários à composição no estado em questão. Custo zerado (hífen)
A9: indica que pelo menos um dos itens da composição não tem custo/preço. | D9: PE
A10: Código da Composição | B10: Descrição | C10: Unidade | D10: Custo (R$) | E10: %AS
A11: 104658 | B11: PISO PODOTÁTIL DE ALERTA OU DIRECIONAL, DE CONCRETO, ASSENTADO SOBRE ARGAMASSA. AF_03/2024 | C11: M2 | D11: 155.02 | E11: 0
A12: 105002 | B12: RAMPA DE ACESSIBILIDADE EM CONCRETO MOLDADO IN LOCO, EM CALÇADA NOVA COM LARGURA MAIOR OU IGUAL À 3,00 M, FCK 25MPA, COM PISO PODOTÁTIL. AF_03/2024 | C12: UN | D12: 745.87 | E12: 0
A13: 105004 | B13: RAMPA DE ACESSIBILIDADE EM CONCRETO MOLDADO IN LOCO, EM CALÇADA NOVA COM LARGURA MENOR À 3,00 M, FCK 25MPA, COM PISO PODOTÁTIL. AF_03/2024 | C13: M2 | D13: 126.98 | E13: 0
A14: 105003 | B14: RAMPA DE ACESSIBILIDADE EM CONCRETO MOLDADO IN LOCO, EM CALÇADA PRÉ EXISTENTE COM LARGURA MAIOR OU IGUAL À 3,00 M, FCK 25MPA, COM PISO PODOTÁTIL. AF_03/2024 | C14: UN | D14: 1156.3 | E14: 0.0578
A15: 105005 | B15: RAMPA DE ACESSIBILIDADE EM CONCRETO MOLDADO IN LOCO, EM CALÇADA PRÉ EXISTENTE COM LARGURA MENOR À 3,00 M, FCK 25MPA, COM PISO PODOTÁTIL. AF_03/2024 | C15: M2 | D15: 202.99 | E15: 0.0609
A16: 105006 | B16: RAMPA DE ACESSIBILIDADE EM CONCRETO PRÉ MOLDADO, EM CALÇADA NOVA COM LARGURA MAIOR OU IGUAL À 3,00 M, FCK 25MPA, COM PISO PODOTÁTIL. AF_03/2024 | C16: UN | D16: 0
A17: 104999 | B17: RAMPA DE ACESSIBILIDADE EM CONCRETO PRÉ MOLDADO, EM CALÇADA PRÉ EXISTENTE COM LARGURA MAIOR OU IGUAL À 3,00 M, FCK 25MPA, COM PISO PODOTÁTIL. AF_03/2024 | C17: UN | D17: 0
A18: 105000 | B18: RAMPA DE ACESSIBILIDADE PARA ACESSO A EDIFICAÇÕES COM INCLINAÇÃO DE 8,33% EM CONCRETO MOLDADO IN LOCO, COM LARGURA DE 1,20M, FCK 25MPA, NÃO ARMADA, COM JUNTA A CADA 2M COM CORTE À SECO. AF_03/2024 | C18: M | D18: 1113.18 | E18: 0
A19: 105001 | B19: RAMPA DE ACESSIBILIDADE PARA ACESSO A EDIFICAÇÕES COM INCLINAÇÃO DE 8,33% EM CONCRETO MOLDADO IN LOCO, COM LARGURA DE 1,50M, FCK 25MPA, NÃO ARMADA, COM JUNTA A CADA 2M COM CORTE À SECO. AF_03/2024 | C19: M | D19: 1144.97 | E19: 0
A20: 89306 | B20: ALVENARIA ESTRUTURAL DE BLOCOS CERÂMICOS 14X19X29, (ESPESSURA DE 14 CM), UTILIZANDO COLHER DE PEDREIRO E ARGAMASSA DE ASSENTAMENTO COM PREPARO EM BETONEIRA. AF_03/2023 | C20: M2 | D20: 88.48 | E20: 0
A21: 89307 | B21: ALVENARIA ESTRUTURAL DE BLOCOS CERÂMICOS 14X19X29, (ESPESSURA DE 14 CM), UTILIZANDO COLHER DE PEDREIRO E ARGAMASSA DE ASSENTAMENTO COM PREPARO MANUAL. AF_03/2023 | C21: M2 | D21: 91.06 | E21: 0
A22: 89290 | B22: ALVENARIA ESTRUTURAL DE BLOCOS CERÂMICOS 14X19X29, (ESPESSURA DE 14 CM), UTILIZANDO PALHETA E ARGAMASSA DE ASSENTAMENTO COM PREPARO EM BETONEIRA. AF_03/2023 | C22: M2 | D22: 71.92 | E22: 0
A23: 89291 | B23: ALVENARIA ESTRUTURAL DE BLOCOS CERÂMICOS 14X19X29, (ESPESSURA DE 14 CM), UTILIZANDO PALHETA E ARGAMASSA DE ASSENTAMENTO COM PREPARO MANUAL. AF_03/2023 | C23: M2 | D23: 73.83 | E23: 0
A24: 89298 | B24: ALVENARIA ESTRUTURAL DE BLOCOS CERÂMICOS 14X19X39, (ESPESSURA DE 14 CM), UTILIZANDO COLHER DE PEDREIRO E ARGAMASSA DE ASSENTAMENTO COM PREPARO EM BETONEIRA. AF_03/2023 | C24: M2 | D24: 75.48 | E24: 0
A25: 89299 | B25: ALVENARIA ESTRUTURAL DE BLOCOS CERÂMICOS 14X19X39, (ESPESSURA DE 14 CM), UTILIZANDO COLHER DE PEDREIRO E ARGAMASSA DE ASSENTAMENTO COM PREPARO MANUAL. AF_03/2023 | C25: M2 | D25: 77.78 | E25: 0
A26: 89282 | B26: ALVENARIA ESTRUTURAL DE BLOCOS CERÂMICOS 14X19X39, (ESPESSURA DE 14 CM), UTILIZANDO PALHETA E ARGAMASSA DE ASSENTAMENTO COM PREPARO EM BETONEIRA. AF_03/2023 | C26: M2 | D26: 63.69 | E26: 0
A27: 89283 | B27: ALVENARIA ESTRUTURAL DE BLOCOS CERÂMICOS 14X19X39, (ESPESSURA DE 14 CM), UTILIZANDO PALHETA E ARGAMASSA DE ASSENTAMENTO COM PREPARO MANUAL. AF_03/2023 | C27: M2 | D27: 65.41 | E27: 0
A28: 89480 | B28: ALVENARIA DE BLOCOS DE CONCRETO ESTRUTURAL 14X19X29 CM (ESPESSURA 14 CM), FBK = 14 MPA, UTILIZANDO COLHER DE PEDREIRO. AF_10/2022 | C28: M2 | D28: 158.46 | E28: 0
A29: 89464 | B29: ALVENARIA DE BLOCOS DE CONCRETO ESTRUTURAL 14X19X29 CM (ESPESSURA 14 CM), FBK = 14,0 MPA, UTILIZANDO PALHETA. AF_10/2022 | C29: M2 | D29: 137.94 | E29: 0
... A31: 89462 | B31: ALVENARIA DE BLOCOS DE CONCRETO ESTRUTURAL 14X19X29 CM (ESPESSURA 14 CM), FBK = 4,5 MPA, UTILIZANDO PALHETA. AF_10/2022 | C31: M2 | D31: 117.57 | E31: 0
A32: 104444 | B32: ALVENARIA DE BLOCOS DE CONCRETO ESTRUTURAL 14X19X29 CM (ESPESSURA 14 CM), FBK = 8 MPA, UTILIZANDO COLHER DE PEDREIRO. AF_10/2022 | C32: M2 | D32: 0
A33: 104442 | B33: ALVENARIA DE BLOCOS DE CONCRETO ESTRUTURAL 14X19X29 CM (ESPESSURA 14 CM), FBK = 8 MPA, UTILIZANDO PALHETA. AF_10/2022 | C33: M2 | D33: 0
A34: 89472 | B34: ALVENARIA DE BLOCOS DE CONCRETO ESTRUTURAL 14X19X39 CM (ESPESSURA 14 CM), FBK = 14 MPA, UTILIZANDO COLHER DE PEDREIRO. AF_10/2022 | C34: M2 | D34: 121.45 | E34: 0
A35: 89455 | B35: ALVENARIA DE BLOCOS DE CONCRETO ESTRUTURAL 14X19X39 CM (ESPESSURA 14 CM), FBK = 14 MPA, UTILIZANDO PALHETA. AF_10/2022 | C35: M2 | D35: 108.35 | E35: 0
A36: 89470 | B36: ALVENARIA DE BLOCOS DE CONCRETO ESTRUTURAL 14X19X39 CM (ESPESSURA 14 CM), FBK = 4,5 MPA, UTILIZANDO COLHER DE PEDREIRO. AF_10/2022 | C36: M2 | D36: 101.95 | E36: 0
A37: 89453 | B37: ALVENARIA DE BLOCOS DE CONCRETO ESTRUTURAL 14X19X39 CM (ESPESSURA 14 CM), FBK = 4,5 MPA, UTILIZANDO PALHETA. AF_10/2022 | C37: M2 | D37: 89.67 | E37: 0
A38: 104443 | B38: ALVENARIA DE BLOCOS DE CONCRETO ESTRUTURAL 14X19X39 CM (ESPESSURA 14 CM), FBK = 8 MPA, UTILIZANDO COLHER DE PEDREIRO. AF_10/2022 | C38: M2 | D38: 0
A39: 104441 | B39: ALVENARIA DE BLOCOS DE CONCRETO ESTRUTURAL 14X19X39 CM (ESPESSURA 14 CM), FBK = 8 MPA, UTILIZANDO PALHETA. AF_10/2022 | C39: M2 | D39: 0
A40: 103354 | B40: ALVENARIA DE VEDAÇÃO DE BLOCOS CERÂMICOS FURADOS NA HORIZONTAL DE 11,5X14X24 CM (ESPESSURA 11,5 CM) E ARGAMASSA DE ASSENTAMENTO COM PREPARO EM BETONEIRA. AF_12/2021 | C40: M2 | D40: 82.5 | E40: 0.0251
A41: 103355 | B41: ALVENARIA DE VEDAÇÃO DE BLOCOS CERÂMICOS FURADOS NA HORIZONTAL DE 11,5X14X24 CM (ESPESSURA 11,5 CM) E ARGAMASSA DE ASSENTAMENTO COM PREPARO MANUAL. AF_12/2021 | C41: M2 | D41: 83.95 | E41: 0.0247
...

Sheet ISD
A1: SINAPI - Sistema Nacional de Pesquisa de Custos e Índices da Construção Civil
A2: RELATÓRIO DE PREÇOS DE INSUMOS - ENGARGOS SOCIAIS SEM DESONERAÇÃO
A3: Mês de Referência: | B3: 12/2025 | E3: Encargos sociais sobre a mão de obra:
A4: Data de emissão: | B4: 09/01/2026 | E4: (SEM DESONERAÇÃO) | F4: PE
E5: Localidade | F5: RECIFE
A6: Origem de preço: | B6: C = COLETADO | C6: CR = COEFICIENTE DE REPRESENTATIVIDADE | E6: Horista | F6: 1.1384
A7: Preço em branco para determinado estado significa que não houve coleta mínima de preços no mês de referência | E7: Mensalista | F7: 0.7011
A9: Acessar Fichas de Especificação Técnico dos Insumos | E9: Preços Medianos (R$):
A10: Código do Insumo | B10: Descrição do Insumo | C10: Unidade | D10: Origem de Preço | E10: PE
A11: 45333 | B11: ABERTURA PARA ENCAIXE DE CUBA OU LAVATORIO EM BANCADA DE MARMORE/ GRANITO OU OUTRO TIPO DE PEDRA NATURAL | C11: UN | D11: CR | E11: 199.02
A12: 11270 | B12: ABRACADEIRA DE LATAO PARA FIXACAO DE CABO PARA-RAIO, DIMENSOES 32 X 24 X 24 MM | C12: UN | D12: CR | E12: 4.05
A13: 412 | B13: ABRACADEIRA DE NYLON PARA AMARRACAO DE CABOS, COMPRIMENTO DE *230* X *7,6* MM | C13: UN | D13: CR | E13: 1.18
A14: 414 | B14: ABRACADEIRA DE NYLON PARA AMARRACAO DE CABOS, COMPRIMENTO DE 100 X 2,5 MM | C14: UN | D14: CR | E14: 0.07
A15: 410 | B15: ABRACADEIRA DE NYLON PARA AMARRACAO DE CABOS, COMPRIMENTO DE 150 X *3,6* MM | C15: UN | D15: CR | E15: 0.18
A16: 411 | B16: ABRACADEIRA DE NYLON PARA AMARRACAO DE CABOS, COMPRIMENTO DE 200 X *4,6* MM | C16: UN | D16: C | E16: 0.23
A17: 408 | B17: ABRACADEIRA DE NYLON PARA AMARRACAO DE CABOS, COMPRIMENTO DE 390 X *4,6* MM | C17: UN | D17: CR | E17: 1.14
A18: 39131 | B18: ABRACADEIRA EM ACO PARA AMARRACAO DE ELETRODUTOS, TIPO D, COM 1 1/2" E CUNHA DE FIXACAO | C18: UN | D18: CR | E18: 5.1
A19: 394 | B19: ABRACADEIRA EM ACO PARA AMARRACAO DE ELETRODUTOS, TIPO D, COM 1 1/2" E PARAFUSO DE FIXACAO | C19: UN | D19: CR | E19: 5.17
A20: 39130 | B20: ABRACADEIRA EM ACO PARA AMARRACAO DE ELETRODUTOS, TIPO D, COM 1 1/4" E CUNHA DE FIXACAO | C20: UN | D20: CR | E20: 4.65
A21: 395 | B21: ABRACADEIRA EM ACO PARA AMARRACAO DE ELETRODUTOS, TIPO D, COM 1 1/4" E PARAFUSO DE FIXACAO | C21: UN | D21: CR | E21: 4.97
A22: 39129 | B22: ABRACADEIRA EM ACO PARA AMARRACAO DE ELETRODUTOS, TIPO D, COM 1" E CUNHA DE FIXACAO | C22: UN | D22: CR | E22: 2.87
... A54: 36246 | B54: ACABAMENTO SIMPLES/CONVENCIONAL PARA FORRO PVC, TIPO "U" OU "C", COR BRANCA, COMPRIMENTO 6 M | C54: M | D54: CR | E54: 4.26
A55: 37600 | B55: ACESSORIO DE LIGACAO NAO ELETRICO PARA CARGAS EXPLOSIVAS, TUBO DE 6 M | C55: UN | D55: CR
A56: 37599 | B56: ACESSORIO INICIADOR NAO ELETRICO, TUBO DE 6 M, TEMPO DE RETARDO DE *160* MS | C56: UN | D56: CR
A57: 1 | B57: ACETILENO - RECARGA DE GAS PARA CILINDRO (NAO INCLUI TROCA/MANUTENCAO DO CILINDRO) | C57: KG | D57: C
A58: 3 | B58: ACIDO CLORIDRICO / ACIDO MURIATICO, DILUICAO 10% A 12% PARA USO EM LIMPEZA | C58: L | D58: CR | E58: 26.92
A59: 43054 | B59: ACO CA-25, 10,0 MM, OU 12,5 MM, OU 16,0 MM, OU 20,0 MM, OU 25,0 MM, VERGALHAO | C59: KG | D59: CR | E59: 8.02
A60: 42402 | B60: ACO CA-25, 16,0 MM, BARRA DE TRANSFERENCIA | C60: KG | D60: CR | E60: 7.67
A61: 42403 | B61: ACO CA-25, 20,0 MM, BARRA DE TRANSFERENCIA | C61: KG | D61: CR | E61: 9.84
A62: 42404 | B62: ACO CA-25, 25,0 MM, BARRA DE TRANSFERENCIA | C62: KG | D62: CR | E62: 9.78
A63: 42405 | B63: ACO CA-25, 32,0 MM, BARRA DE TRANSFERENCIA | C63: KG | D63: CR | E63: 10.42
A64: 34341 | B64: ACO CA-25, 32,0 MM, VERGALHAO | C64: KG | D64: CR | E64: 9.04
A65: 43053 | B65: ACO CA-25, 6,3 MM OU 8,0 MM, VERGALHAO | C65: KG | D65: CR | E65: 7.17
A66: 43058 | B66: ACO CA-50, 10,0 MM, OU 12,5 MM, OU 16,0 MM, OU 20,0 MM, DOBRADO E CORTADO | C66: KG | D66: CR | E66: 7.43
A67: 34 | B67: ACO CA-50, 10,0 MM, VERGALHAO | C67: KG | D67: CR | E67: 7.47
A68: 43055 | B68: ACO CA-50, 12,5 MM OU 16,0 MM, VERGALHAO | C68: KG | D68: C | E68: 6.47
A69: 43056 | B69: ACO CA-50, 20,0 MM OU 25,0 MM, VERGALHAO | C69: KG | D69: CR | E69: 7.46
... A77: 43060 | B77: ACO CA-60, 8,0 MM OU 9,5 MM, VERGALHAO | C77: KG | D77: CR | E77: 6.16
A78: 40410 | B78: ACOPLAMENTO RIGIDO EM FERRO FUNDIDO PARA SISTEMA DE TUBULACAO RANHURADA, DN 50 MM (2") | C78: UN | D78: C
A79: 40411 | B79: ACOPLAMENTO RIGIDO EM FERRO FUNDIDO PARA SISTEMA DE TUBULACAO RANHURADA, DN 65 MM (2 1/2") | C79: UN | D79: CR
...

Sheet CSD
A1: SINAPI - Sistema Nacional de Pesquisa de Custos e Índices da Construção Civil
A2: RELATÓRIO DE CUSTOS DE COMPOSIÇÕES - ENCARGOS SOCIAIS SEM DESONERAÇÃO
A3: Mês de Referência: | B3: 12/2025 | D3: Encargos sociais sobre a mão de obra:
A4: Data de emissão: | B4: 09/01/2026 | D4: (SEM DESONERAÇÃO) | E4: PE
D5: Localidade | E5: RECIFE
A6: Observação: | B6: %AS (porcentagem Atribuído São Paulo) corresponde a porcentagem do custo total da | D6: Horista | E6: 1.1384
B7: composição que foi obtida utilizando preços de insumos de São Paulo por indisponibilidade | D7: Mensalista | E7: 0.7011
B8: dos preços de insumos necessários à composição no estado em questão. Custo zerado (hífen)
B9: indica que pelo menos um dos itens da composição não tem custo/preço. | E9: PE
A10: Código da Composição | B10: Descrição | C10: Unidade | D10: Custo (R$) | E10: %AS
A11: 104658 | B11: PISO PODOTÁTIL DE ALERTA OU DIRECIONAL, DE CONCRETO, ASSENTADO SOBRE ARGAMASSA. AF_03/2024 | C11: M2 | D11: 158.89 | E11: 0
A12: 105002 | B12: RAMPA DE ACESSIBILIDADE EM CONCRETO MOLDADO IN LOCO, EM CALÇADA NOVA COM LARGURA MAIOR OU IGUAL À 3,00 M, FCK 25MPA, COM PISO PODOTÁTIL. AF_03/2024 | C12: UN | D12: 774.13 | E12: 0
A13: 105004 | B13: RAMPA DE ACESSIBILIDADE EM CONCRETO MOLDADO IN LOCO, EM CALÇADA NOVA COM LARGURA MENOR À 3,00 M, FCK 25MPA, COM PISO PODOTÁTIL. AF_03/2024 | C13: M2 | D13: 131.88 | E13: 0
A14: 105003 | B14: RAMPA DE ACESSIBILIDADE EM CONCRETO MOLDADO IN LOCO, EM CALÇADA PRÉ EXISTENTE COM LARGURA MAIOR OU IGUAL À 3,00 M, FCK 25MPA, COM PISO PODOTÁTIL. AF_03/2024 | C14: UN | D14: 1210.32 | E14: 0.0552
A15: 105005 | B15: RAMPA DE ACESSIBILIDADE EM CONCRETO MOLDADO IN LOCO, EM CALÇADA PRÉ EXISTENTE COM LARGURA MENOR À 3,00 M, FCK 25MPA, COM PISO PODOTÁTIL. AF_03/2024 | C15: M2 | D15: 212.65 | E15: 0.0581
A16: 105006 | B16: RAMPA DE ACESSIBILIDADE EM CONCRETO PRÉ MOLDADO, EM CALÇADA NOVA COM LARGURA MAIOR OU IGUAL À 3,00 M, FCK 25MPA, COM PISO PODOTÁTIL. AF_03/2024 | C16: UN | D16: 0
A17: 104999 | B17: RAMPA DE ACESSIBILIDADE EM CONCRETO PRÉ MOLDADO, EM CALÇADA PRÉ EXISTENTE COM LARGURA MAIOR OU IGUAL À 3,00 M, FCK 25MPA, COM PISO PODOTÁTIL. AF_03/2024 | C17: UN | D17: 0
A18: 105000 | B18: RAMPA DE ACESSIBILIDADE PARA ACESSO A EDIFICAÇÕES COM INCLINAÇÃO DE 8,33% EM CONCRETO MOLDADO IN LOCO, COM LARGURA DE 1,20M, FCK 25MPA, NÃO ARMADA, COM JUNTA A CADA 2M COM CORTE À SECO. AF_03/2024 | C18: M | D18: 1146.45 | E18: 0
A19: 105001 | B19: RAMPA DE ACESSIBILIDADE PARA ACESSO A EDIFICAÇÕES COM INCLINAÇÃO DE 8,33% EM CONCRETO MOLDADO IN LOCO, COM LARGURA DE 1,50M, FCK 25MPA, NÃO ARMADA, COM JUNTA A CADA 2M COM CORTE À SECO. AF_03/2024 | C19: M | D19: 1178.72 | E19: 0
A20: 89306 | B20: ALVENARIA ESTRUTURAL DE BLOCOS CERÂMICOS 14X19X29, (ESPESSURA DE 14 CM), UTILIZANDO COLHER DE PEDREIRO E ARGAMASSA DE ASSENTAMENTO COM PREPARO EM BETONEIRA. AF_03/2023 | C20: M2 | D20: 92.67 | E20: 0
A21: 89307 | B21: ALVENARIA ESTRUTURAL DE BLOCOS CERÂMICOS 14X19X29, (ESPESSURA DE 14 CM), UTILIZANDO COLHER DE PEDREIRO E ARGAMASSA DE ASSENTAMENTO COM PREPARO MANUAL. AF_03/2023 | C21: M2 | D21: 95.46 | E21: 0
A22: 89290 | B22: ALVENARIA ESTRUTURAL DE BLOCOS CERÂMICOS 14X19X29, (ESPESSURA DE 14 CM), UTILIZANDO PALHETA E ARGAMASSA DE ASSENTAMENTO COM PREPARO EM BETONEIRA. AF_03/2023 | C22: M2 | D22: 74.92 | E22: 0
A23: 89291 | B23: ALVENARIA ESTRUTURAL DE BLOCOS CERÂMICOS 14X19X29, (ESPESSURA DE 14 CM), UTILIZANDO PALHETA E ARGAMASSA DE ASSENTAMENTO COM PREPARO MANUAL. AF_03/2023 | C23: M2 | D23: 77 | E23: 0
A24: 89298 | B24: ALVENARIA ESTRUTURAL DE BLOCOS CERÂMICOS 14X19X39, (ESPESSURA DE 14 CM), UTILIZANDO COLHER DE PEDREIRO E ARGAMASSA DE ASSENTAMENTO COM PREPARO EM BETONEIRA. AF_03/2023 | C24: M2 | D24: 78.58 | E24: 0
A25: 89299 | B25: ALVENARIA ESTRUTURAL DE BLOCOS CERÂMICOS 14X19X39, (ESPESSURA DE 14 CM), UTILIZANDO COLHER DE PEDREIRO E ARGAMASSA DE ASSENTAMENTO COM PREPARO MANUAL. AF_03/2023 | C25: M2 | D25: 81.08 | E25: 0
A26: 89282 | B26: ALVENARIA ESTRUTURAL DE BLOCOS CERÂMICOS 14X19X39, (ESPESSURA DE 14 CM), UTILIZANDO PALHETA E ARGAMASSA DE ASSENTAMENTO COM PREPARO EM BETONEIRA. AF_03/2023 | C26: M2 | D26: 65.98 | E26: 0
A27: 89283 | B27: ALVENARIA ESTRUTURAL DE BLOCOS CERÂMICOS 14X19X39, (ESPESSURA DE 14 CM), UTILIZANDO PALHETA E ARGAMASSA DE ASSENTAMENTO COM PREPARO MANUAL. AF_03/2023 | C27: M2 | D27: 67.86 | E27: 0
A28: 89480 | B28: ALVENARIA DE BLOCOS DE CONCRETO ESTRUTURAL 14X19X29 CM (ESPESSURA 14 CM), FBK = 14 MPA, UTILIZANDO COLHER DE PEDREIRO. AF_10/2022 | C28: M2 | D28: 163.4 | E28: 0
A29: 89464 | B29: ALVENARIA DE BLOCOS DE CONCRETO ESTRUTURAL 14X19X29 CM (ESPESSURA 14 CM), FBK = 14,0 MPA, UTILIZANDO PALHETA. AF_10/2022 | C29: M2 | D29: 141.43 | E29: 0
... A31: 89462 | B31: ALVENARIA DE BLOCOS DE CONCRETO ESTRUTURAL 14X19X29 CM (ESPESSURA 14 CM), FBK = 4,5 MPA, UTILIZANDO PALHETA. AF_10/2022 | C31: M2 | D31: 120.79 | E31: 0
A32: 104444 | B32: ALVENARIA DE BLOCOS DE CONCRETO ESTRUTURAL 14X19X29 CM (ESPESSURA 14 CM), FBK = 8 MPA, UTILIZANDO COLHER DE PEDREIRO. AF_10/2022 | C32: M2 | D32: 0
A33: 104442 | B33: ALVENARIA DE BLOCOS DE CONCRETO ESTRUTURAL 14X19X29 CM (ESPESSURA 14 CM), FBK = 8 MPA, UTILIZANDO PALHETA. AF_10/2022 | C33: M2 | D33: 0
A34: 89472 | B34: ALVENARIA DE BLOCOS DE CONCRETO ESTRUTURAL 14X19X39 CM (ESPESSURA 14 CM), FBK = 14 MPA, UTILIZANDO COLHER DE PEDREIRO. AF_10/2022 | C34: M2 | D34: 124.4 | E34: 0
A35: 89455 | B35: ALVENARIA DE BLOCOS DE CONCRETO ESTRUTURAL 14X19X39 CM (ESPESSURA 14 CM), FBK = 14 MPA, UTILIZANDO PALHETA. AF_10/2022 | C35: M2 | D35: 110.46 | E35: 0
A36: 89470 | B36: ALVENARIA DE BLOCOS DE CONCRETO ESTRUTURAL 14X19X39 CM (ESPESSURA 14 CM), FBK = 4,5 MPA, UTILIZANDO COLHER DE PEDREIRO. AF_10/2022 | C36: M2 | D36: 104.69 | E36: 0
A37: 89453 | B37: ALVENARIA DE BLOCOS DE CONCRETO ESTRUTURAL 14X19X39 CM (ESPESSURA 14 CM), FBK = 4,5 MPA, UTILIZANDO PALHETA. AF_10/2022 | C37: M2 | D37: 91.68 | E37: 0
A38: 104443 | B38: ALVENARIA DE BLOCOS DE CONCRETO ESTRUTURAL 14X19X39 CM (ESPESSURA 14 CM), FBK = 8 MPA, UTILIZANDO COLHER DE PEDREIRO. AF_10/2022 | C38: M2 | D38: 0
A39: 104441 | B39: ALVENARIA DE BLOCOS DE CONCRETO ESTRUTURAL 14X19X39 CM (ESPESSURA 14 CM), FBK = 8 MPA, UTILIZANDO PALHETA. AF_10/2022 | C39: M2 | D39: 0
A40: 103354 | B40: ALVENARIA DE VEDAÇÃO DE BLOCOS CERÂMICOS FURADOS NA HORIZONTAL DE 11,5X14X24 CM (ESPESSURA 11,5 CM) E ARGAMASSA DE ASSENTAMENTO COM PREPARO EM BETONEIRA. AF_12/2021 | C40: M2 | D40: 87.21 | E40: 0.0237
A41: 103355 | B41: ALVENARIA DE VEDAÇÃO DE BLOCOS CERÂMICOS FURADOS NA HORIZONTAL DE 11,5X14X24 CM (ESPESSURA 11,5 CM) E ARGAMASSA DE ASSENTAMENTO COM PREPARO MANUAL. AF_12/2021 | C41: M2 | D41: 88.78 | E41: 0.0233
...

Sheet Resumo
D1: PREFEITURA MUNICIPAL DE GOIANA
A2: SECRETARIA DE URBANISMO, OBRAS E PATRIMÔNIO
A3: Construção dos Quiosque da Praça Santo Amaro Localizada em Ponta de Pedras Rua Projetada,sn, Praça Santo Amaro, Praia de Ponta de Pedras, Goiana, Pernambuco
A4: SINAPI - 12/2025 - Pernambuco ORSE - 12/2025 - Sergipe SEINFRA - 028 - Ceará
A6: BDI PARA RODOVIAS (NÃO DESONERADO): | K6: 0.207
A7: BDI PARA MERO FORNECIMENTO DE MATERIAIS (NÃO DESONERADO): | K7: ='[7] ORÇAMENTO NÃO DESONERADO'!J12 -> 0.1528
A8: BDI PARA RODOVIAS (DESONERADO): | K8: 0.2544
A9: BDI PARA MERO FORNECIMENTO DE MATERIAIS (DESONERADO): | K9: ='[7] ORÇAMENTO DESONERADO'!J12 -> 0.1632
A10: RESUMO DA PROPOSTA MAIS VANTAJOSA
A12: 1.0 | B12: PLANILHA DE QUANTITATIVOS E ESTIMATIVA DE PREÇOS - DESONERADO | H12: VALOR DA PROPOSTA | J12: ='Orçamento desonerada'!J2 -> 171108.67
A14: 2.0 | B14: PLANILHA DE QUANTITATIVOS E ESTIMATIVA DE PREÇOS - NÃO DESONERADO | H14: VALOR DA PROPOSTA | J14: ='Orçamento Não Desonerado'!J2 -> 167525.98 | M14: =J12-J14 -> 3582.69
A17: COMO DISPOSTO ACIMA, A PROPOSTA ORÇAMENTÁRIA NÃO DESONERADA TORNA-SE MAIS VANTAJOSA PARA O MUNICÍPIO , PROPORCIONANDO UMA ECONOMIA DE R$ 3.582,69 E PORTANTO, ESTA SERÁ ESCOLHIDA PARA A LICITAÇÃO

Sheet Orçamento Não Desonerado
D1: Construção dos Quiosque da Praça Santo Amaro Localizada em Ponta de Pedras Rua Projetada,sn, Praça Santo Amaro, Praia de Ponta de Pedras, Goiana, Pernambuco | E1: SINAPI - 12/2025 - Pernambuco ORSE - 12/2025 - Sergipe SEINFRA - 028 - Ceará | G1: 22,23% | I1: Não Desonerado: embutido nos preços unitário dos insumos de mão de obra, de acordo com as bases.
H2: Valor Final do Orçamento | J2: =I5 + I8 + I13 + I22 + I27 + I32 + I35 + I39 + I43 + I45 + I57 + I61 + I64 -> 167525.98 | K2: 187982.12
H3: BDI Não Desonerado | J3: 0.2223
A4: Item | B4: Código | C4: Banco | D4: Descrição | E4: Und | F4: Quant. | G4: Valor Unit | H4: Valor Unit com BDI | I4: Total | J4: Peso (%)
A5: 1 | D5: ADMINISTRAÇÃO LOCAL | F5: 1 | H5: =I6 + I7 -> 14498.5 | I5: =TRUNC(F5 * H5,2) -> 14498.5 | J5: =I5 / J2 -> 0.086544785
A6: 1.1 | B6: 90778 | C6: SINAPI | D6: ENGENHEIRO CIVIL DE OBRA PLENO COM ENCARGOS COMPLEMENTARES | E6: H | F6: 30 | G6: =VLOOKUP(B6,CSD!A:D,4,0) -> 138.65 | H6: =TRUNC(TRUNC(G6 * J3, 2) + G6, 2) -> 169.47 | I6: =TRUNC(F6 * H6,2) -> 5084.1 | J6: =I6 / J2 -> 0.030348129
A7: 1.2 | B7: 90776 | C7: SINAPI | D7: ENCARREGADO GERAL COM ENCARGOS COMPLEMENTARES | E7: H | F7: 160 | G7: =VLOOKUP(B7,CSD!A:D,4,0) -> 48.14 | H7: =TRUNC(TRUNC(G7 * J3, 2) + G7, 2) -> 58.84 | I7: =TRUNC(F7 * H7,2) -> 9414.4 | J7: =I7 / J2 -> 0.056196657
A8: 2 | D8: Serviços Preliminares | F8: 1 | H8: =I9 + I10 + I11 + I12 -> 24757.74 | I8: =TRUNC(F8 * H8,2) -> 24757.74 | J8: =I8 / J2 -> 0.14778448
A9: 2.1 | B9: 98524 | C9: SINAPI | D9: LIMPEZA MANUAL DE VEGETAÇÃO EM TERRENO COM ENXADA. AF_03/2024 | E9: m² | F9: 27.47 | G9: =VLOOKUP(B9,CSD!A:D,4,0) -> 5.13 | H9: =TRUNC(TRUNC(G9 * J3, 2) + G9, 2) -> 6.27 | I9: =TRUNC(F9 * H9,2) -> 172.23 | J9: =I9 / J2 -> 0.0010280793
A10: 2.2 | B10: C5208 | C10: SEINFRA | D10: LOCAÇÃO DE BANHEIRO QUÍMICO - INCLUSO TRANSPORTE, INSTALAÇÃO E MANUTENÇÃO | E10: UNXMÊS | F10: 2 | G10: 950 | H10: =TRUNC(TRUNC(G10 * J3, 2) + G10, 2) -> 1161.18 | I10: =TRUNC(F10 * H10,2) -> 2322.36 | J10: =I10 / J2 -> 0.013862686
A11: 2.3 | B11: 103689 | C11: SINAPI | D11: FORNECIMENTO E INSTALAÇÃO DE PLACA DE OBRA COM CHAPA GALVANIZADA E ESTRUTURA DE MADEIRA. AF_03/2022_PS | E11: m² | F11: 12 | G11: =VLOOKUP(B11,CSD!A:D,4,0) -> 468.43 | H11: =TRUNC(TRUNC(G11 * J3, 2) + G11, 2) -> 572.56 | I11: =TRUNC(F11 * H11,2) -> 6870.72 | J11: =I11 / J2 -> 0.041012863
A12: 2.4 | B12: 62 | C12: ORSE | D12: Barracão fechado porte pequeno para depósito de cimento e almoxarifado (s=38,72 m2) com materiais novos | E12: un | F12: 1 | G12: 12593.01 | H12: =TRUNC(TRUNC(G12 * J3, 2) + G12, 2) -> 15392.43 | I12: =TRUNC(F12 * H12,2) -> 15392.43 | J12: =I12 / J2 -> 0.091880853
A13: 3 | D13: Fundação | F13: 1 | H13: =I14 + I15 + I16 + I17 + I18 + I19 + I20 + I21 -> 4007.36 | I13: =TRUNC(F13 * H13,2) -> 4007.36 | J13: =I13 / J2 -> 0.023920827
A14: 3.1 | B14: 93358 | C14: SINAPI | D14: ESCAVAÇÃO MANUAL DE VALA. AF_09/2024 | E14: m³ | F14: 4.8 | G14: =VLOOKUP(B14,CSD!A:D,4,0) -> 95.25 | H14: =TRUNC(TRUNC(G14 * J3, 2) + G14, 2) -> 116.42 | I14: =TRUNC(F14 * H14,2) -> 558.81 | J14: =I14 / J2 -> 0.0033356617
A15: 3.2 | B15: 94319 | C15: SINAPI | D15: ATERRO MANUAL DE VALAS COM SOLO ARGILO-ARENOSO. AF_08/2023 | E15: m³ | F15: 3.82 | G15: =VLOOKUP(B15,CSD!A:D,4,0) -> 81.29 | H15: =TRUNC(TRUNC(G15 * J3, 2) + G15, 2) -> 99.36 | I15: =TRUNC(F15 * H15,2) -> 379.55 | J15: =I15 / J2 -> 0.0022656187
A16: 3.3 | B16: 96620 | C16: SINAPI | D16: LASTRO DE CONCRETO MAGRO, APLICADO EM PISOS, LAJES SOBRE SOLO OU RADIERS. AF_01/2024 | E16: m³ | F16: 0.324 | G16: =VLOOKUP(B16,CSD!A:D,4,0) -> 809.26 | H16: =TRUNC(TRUNC(G16 * J3, 2) + G16, 2) -> 989.15 | I16: =TRUNC(F16 * H16,2) -> 320.48 | J16: =I16 / J2 -> 0.0019130167
A17: 3.4 | B17: C0851 | C17: SEINFRA | D17: CONCRETO PRE-MISTURADO FCK 30 MPa | E17: m³ | F17: 1.536 | G17: 416.21 | H17: =TRUNC(TRUNC(G17 * J3, 2) + G17, 2) -> 508.73 | I17: =TRUNC(F17 * H17,2) -> 781.4 | J17: =I17 / J2 -> 0.0046643512
A18: 3.5 | B18: 7584 | C18: ORSE | D18: Forma plana para sapatas, em madeira maciça, 04 usos, inclusive escoramento | E18: m² | F18: 7.68 | G18: 60.71 | H18: =TRUNC(TRUNC(G18 * J3, 2) + G18, 2) -> 74.2 | I18: =TRUNC(F18 * H18,2) -> 569.85 | J18: =I18 / J2 -> 0.003401562
A19: 3.6 | B19: 92762 | C19: SINAPI | D19: ARMAÇÃO DE PILAR OU VIGA DE ESTRUTURA CONVENCIONAL DE CONCRETO ARMADO UTILIZANDO AÇO CA-50 DE 10,0 MM - MONTAGEM. AF_06/2022 | E19: KG | F19: 57 | G19: =VLOOKUP(B19,CSD!A:D,4,0) -> 10.42 | H19: =TRUNC(TRUNC(G19 * J3, 2) + G19, 2) -> 12.73 | I19: =TRUNC(F19 * H19,2) -> 725.61 | J19: =I19 / J2 -> 0.0043313282
A20: 3.7 | B20: 92761 | C20: SINAPI | D20: ARMAÇÃO DE PILAR OU VIGA DE ESTRUTURA CONVENCIONAL DE CONCRETO ARMADO UTILIZANDO AÇO CA-50 DE 8,0 MM - MONTAGEM. AF_06/2022 | E20: KG | F20: 26 | G20: =VLOOKUP(B20,CSD!A:D,4,0) -> 11.79 | H20: =TRUNC(TRUNC(G20 * J3, 2) + G20, 2) -> 14.41 | I20: =TRUNC(F20 * H20,2) -> 374.66 | J20: =I20 / J2 -> 0.0022364292
A21: 3.8 | B21: 104111 | C21: SINAPI | D21: ARMAÇÃO DE PILAR OU VIGA DE ESTRUTURA DE CONCRETO ARMADO EMBUTIDA EM ALVENARIA DE VEDAÇÃO UTILIZANDO AÇO CA-60 DE 5,0 MM - MONTAGEM. AF_06/2022 | E21: KG | F21: 11.8 | G21: =VLOOKUP(B21,CSD!A:D,4,0) -> 20.6 | H21: =TRUNC(TRUNC(G21 * J3, 2) + G21, 2) -> 25.17 | I21: =TRUNC(F21 * H21,2) -> 297 | J21: =I21 / J2 -> 0.0017728593
A22: 4 | D22: Pilares | F22: 1 | H22: =I23 + I24 + I25 + I26 -> 3620.6 | I22: =TRUNC(F22 * H22,2) -> 3620.6 | J22: =I22 / J2 -> 0.02161217
A23: 4.1 | B23: C0851 | C23: SEINFRA | D23: CONCRETO PRE-MISTURADO FCK 30 MPa | E23: m³ | F23: 0.96 | G23: 416.21 | H23: =TRUNC(TRUNC(G23 * J3, 2) + G23, 2) -> 508.73 | I23: =TRUNC(F23 * H23,2) -> 488.38 | J23: =I23 / J2 -> 0.0029152493
A24: 4.2 | B24: 92761 | C24: SINAPI | D24: ARMAÇÃO DE PILAR OU VIGA DE ESTRUTURA CONVENCIONAL DE CONCRETO ARMADO UTILIZANDO AÇO CA-50 DE 8,0 MM - MONTAGEM. AF_06/2022 | E24: KG | F24: 63.2 | G24: =VLOOKUP(B24,CSD!A:D,4,0) -> 11.79 | H24: =TRUNC(TRUNC(G24 * J3, 2) + G24, 2) -> 14.41 | I24: =TRUNC(F24 * H24,2) -> 910.71 | J24: =I24 / J2 -> 0.0054362314
A25: 4.3 | B25: 104111 | C25: SINAPI | D25: ARMAÇÃO DE PILAR OU VIGA DE ESTRUTURA DE CONCRETO ARMADO EMBUTIDA EM ALVENARIA DE VEDAÇÃO UTILIZANDO AÇO CA-60 DE 5,0 MM - MONTAGEM. AF_06/2022 | E25: KG | F25: 26.32 | G25: =VLOOKUP(B25,CSD!A:D,4,0) -> 20.6 | H25: =TRUNC(TRUNC(G25 * J3, 2) + G25, 2) -> 25.17 | I25: =TRUNC(F25 * H25,2) -> 662.47 | J25: =I25 / J2 -> 0.0039544314
A26: 4.4 | B26: 7478 | C26: ORSE | D26: Forma plana para pilares, em compensado plastificado de 14mm, 04 usos, inclusive escoramento | E26: m² | F26: 19.2 | G26: 66.44 | H26: =TRUNC(TRUNC(G26 * J3, 2) + G26, 2) -> 81.2 | I26: =TRUNC(F26 * H26,2) -> 1559.04 | J26: =I26 / J2 -> 0.0093062581
A27: 5 | D27: VIgas | F27: 1 | H27: =I28 + I29 + I30 + I31 -> 9659.55 | I27: =TRUNC(F27 * H27,2) -> 9659.55 | J27: =I27 / J2 -> 0.057660012
A28: 5.1 | B28: C0851 | C28: SEINFRA | D28: CONCRETO PRE-MISTURADO FCK 30 MPa | E28: m³ | F28: 2.862 | G28: 416.21 | H28: =TRUNC(TRUNC(G28 * J3, 2) + G28, 2) -> 508.73 | I28: =TRUNC(F28 * H28,2) -> 1455.98 | J28: =I28 / J2 -> 0.0086910699
A29: 5.2 | B29: 7478 | C29: ORSE | D29: Forma plana para pilares, em compensado plastificado de 14mm, 04 usos, inclusive escoramento | E29: m² | F29: 47.7 | G29: 66.44 | H29: =TRUNC(TRUNC(G29 * J3, 2) + G29, 2) -> 81.2 | I29: =TRUNC(F29 * H29,2) -> 3873.24 | J29: =I29 / J2 -> 0.023120235
A30: 5.3 | B30: 92762 | C30: SINAPI | D30: ARMAÇÃO DE PILAR OU VIGA DE ESTRUTURA CONVENCIONAL DE CONCRETO ARMADO UTILIZANDO AÇO CA-50 DE 10,0 MM - MONTAGEM. AF_06/2022 | E30: KG | F30: 157 | G30: =VLOOKUP(B30,CSD!A:D,4,0) -> 10.42 | H30: =TRUNC(TRUNC(G30 * J3, 2) + G30, 2) -> 12.73 | I30: =TRUNC(F30 * H30,2) -> 1998.61 | J30: =I30 / J2 -> 0.01193015
A31: 5.4 | B31: 92915 | C31: SINAPI | D31: ARMAÇÃO DE ESTRUTURAS DIVERSAS DE CONCRETO ARMADO, EXCETO VIGAS, PILARES, LAJES E FUNDAÇÕES, UTILIZANDO AÇO CA-60 DE 5,0 MM - MONTAGEM. AF_06/2022 | E31: KG | F31: 114.3 | G31: =VLOOKUP(B31,CSD!A:D,4,0) -> 16.69 | H31: =TRUNC(TRUNC(G31 * J3, 2) + G31, 2) -> 20.4 | I31: =TRUNC(F31 * H31,2) -> 2331.72 | J31: =I31 / J2 -> 0.013918558
A32: 6 | D32: Paredes | F32: 1 | H32: =I33 + I34 -> 20687.86 | I32: =TRUNC(F32 * H32,2) -> 20687.86 | J32: =I32 / J2 -> 0.12349046
A33: 6.1 | B33: COC-004 | C33: Próprio | D33: ALVENARIA EM TIJOLO ECOLOGICO DE SOLO-CIMENTO,MEDINDO APROXI MADAMENTE (12,5X25X7)CM,EM PAREDES DE 12,5CM,ESTRUTURADA COM BARRAS DE ACO CA-50,COLA,REJUNTE E GROUT NO ENTORNO DOS VAO S,VERGAS BLOCOS E CALHAS,EXCLUSIVE CINTA DE AMARRACAO E ALIC ERCE | E33: m² | F33: 84.6 | G33: ='CPUs - Nao Desonerada '!J6 -> 187.35 | H33: =TRUNC(TRUNC(G33 * J3, 2) + G33, 2) -> 228.99 | I33: =TRUNC(F33 * H33,2) -> 19372.55 | J33: =I33 / J2 -> 0.11563908 | K33: =F33*0.27 -> 22.842
A34: 6.2 | B34: C2462 | C34: SEINFRA | D34: TEXTURA ACRÍLICA 1 DEMÃO EM PAREDES INTERNAS | E34: m² | F34: 67.66 | G34: 15.91 | H34: =TRUNC(TRUNC(G34 * J3, 2) + G34, 2) -> 19.44 | I34: =TRUNC(F34 * H34,2) -> 1315.31 | J34: =I34 / J2 -> 0.0078513792
A35: 7 | D35: Piso | F35: 1 | H35: =I36 + I37 + I38 -> 2929.26 | I35: =TRUNC(F35 * H35,2) -> 2929.26 | J35: =I35 / J2 -> 0.017485407
A36: 7.1 | B36: 10619 | C36: ORSE | D36: Revestimento cerâmico para piso ou parede, 45 x 45 cm, Eliane, linha cargo plus white ou similar, aplicado com argamassa industrializada ac-ii, rejuntado,exclusive regularização de base ou emboço | E36: m² | F36: 20.79 | G36: 63.93 | H36: =TRUNC(TRUNC(G36 * J3, 2) + G36, 2) -> 78.14 | I36: =TRUNC(F36 * H36,2) -> 1624.53 | J36: =I36 / J2 -> 0.0096971825
A37: 7.2 | B37: CP - 0001 | C37: Próprio | D37: CONTRAPISO EM CONCRETO FCK=15MPa PREPARO MANUAL, ESPESSURA DE 5CM | E37: M² | F37: 20.79 | G37: ='CPUs - Nao Desonerada '!J19 -> 41.57 | H37: =TRUNC(TRUNC(G37 * J3, 2) + G37, 2) -> 50.81 | I37: =TRUNC(F37 * H37,2) -> 1056.33 | J37: =I37 / J2 -> 0.0063054698
A38: 7.3 | B38: 104619 | C38: SINAPI | D38: RODAPÉ CERÂMICO DE 7CM DE ALTURA COM PLACAS TIPO ESMALTADA DE DIMENSÕES 80X80CM. AF_02/2023 | E38: M | F38: 13.8 | G38: =VLOOKUP(B38,CSD!A:D,4,0) -> 14.73 | H38: =TRUNC(TRUNC(G38 * J3, 2) + G38, 2) -> 18 | I38: =TRUNC(F38 * H38,2) -> 248.4 | J38: =I38 / J2 -> 0.0014827551
A39: 8 | D39: Coberta | F39: 1 | H39: =I40 + I41 + I42 -> 20628.17 | I39: =TRUNC(F39 * H39,2) -> 20628.17 | J39: =I39 / J2 -> 0.12313416
A40: 8.1 | B40: COC-014 | C40: Próprio | D40: TELHA ECOLÓGICA ONDULINE CLÁSSICA MARRON | E40: m² | F40: 35.99 | G40: ='CPUs - Nao Desonerada '!J27 -> 416.05 | H40: =TRUNC(TRUNC(G40 * J3, 2) + G40, 2) -> 508.53 | I40: =TRUNC(F40 * H40,2) -> 18301.99 | J40: =I40 / J2 -> 0.10924867 | K40: =F40*0.27 -> 9.7173
...

Sheet Orçamento desonerada
D1: Construção dos Quiosque da Praça Santo Amaro Localizada em Ponta de Pedras Rua Projetada,sn, Praça Santo Amaro, Praia de Ponta de Pedras, Goiana, Pernambuco | E1: SINAPI - 12/2025 - Pernambuco ORSE - 12/2025 - Sergipe SEINFRA - 028 - Ceará | G1: 0.2452
H2: Valor Final do Orçamento | J2: =I5 + I8 + I13 + I22 + I27 + I32 + I35 + I39 + I43 + I45 + I57 + I61 + I64 -> 171108.67 | K2: 187982.12
H3: BDI DESONERADO | J3: 0.2452
A4: Item | B4: Código | C4: Banco | D4: Descrição | E4: Und | F4: Quant. | G4: Valor Unit | H4: Valor Unit com BDI | I4: Total | J4: Peso (%)
A5: 1 | D5: ADMINISTRAÇÃO LOCAL | F5: 1 | H5: =I6 + I7 -> 13357.4 | I5: =TRUNC(F5 * H5,2) -> 13357.4 | J5: =I5 / J2 -> 0.078063841
A6: 1.1 | B6: 90778 | C6: SINAPI | D6: ENGENHEIRO CIVIL DE OBRA PLENO COM ENCARGOS COMPLEMENTARES | E6: H | F6: 30 | G6: =VLOOKUP(B6,CCD!A:D,4,0) -> 124.53 | H6: =TRUNC(TRUNC(G6 * J3, 2) + G6, 2) -> 155.06 | I6: =TRUNC(F6 * H6,2) -> 4651.8 | J6: =I6 / J2 -> 0.027186232
A7: 1.2 | B7: 90776 | C7: SINAPI | D7: ENCARREGADO GERAL COM ENCARGOS COMPLEMENTARES | E7: H | F7: 160 | G7: =VLOOKUP(B7,CCD!A:D,4,0) -> 43.7 | H7: =TRUNC(TRUNC(G7 * J3, 2) + G7, 2) -> 54.41 | I7: =TRUNC(F7 * H7,2) -> 8705.6 | J7: =I7 / J2 -> 0.050877609
A8: 2 | D8: Serviços Preliminares | F8: 1 | H8: =I9 + I10 + I11 + I12 -> 25156.28 | I8: =TRUNC(F8 * H8,2) -> 25156.28 | J8: =I8 / J2 -> 0.14701932
A9: 2.1 | B9: 98524 | C9: SINAPI | D9: LIMPEZA MANUAL DE VEGETAÇÃO EM TERRENO COM ENXADA. AF_03/2024 | E9: m² | F9: 27.47 | G9: =VLOOKUP(B9,CCD!A:D,4,0) -> 4.74 | H9: =TRUNC(TRUNC(G9 * J3, 2) + G9, 2) -> 5.9 | I9: =TRUNC(F9 * H9,2) -> 162.07 | J9: =I9 / J2 -> 0.00094717585
A10: 2.2 | B10: C5208 | C10: SEINFRA | D10: LOCAÇÃO DE BANHEIRO QUÍMICO - INCLUSO TRANSPORTE, INSTALAÇÃO E MANUTENÇÃO | E10: UNXMÊS | F10: 2 | G10: 950 | H10: =TRUNC(TRUNC(G10 * J3, 2) + G10, 2) -> 1182.94 | I10: =TRUNC(F10 * H10,2) -> 2365.88 | J10: =I10 / J2 -> 0.013826769
A11: 2.3 | B11: 103689 | C11: SINAPI | D11: FORNECIMENTO E INSTALAÇÃO DE PLACA DE OBRA COM CHAPA GALVANIZADA E ESTRUTURA DE MADEIRA. AF_03/2022_PS | E11: m² | F11: 12 | G11: =VLOOKUP(B11,CCD!A:D,4,0) -> 464.96 | H11: =TRUNC(TRUNC(G11 * J3, 2) + G11, 2) -> 578.96 | I11: =TRUNC(F11 * H11,2) -> 6947.52 | J11: =I11 / J2 -> 0.040602969
A12: 2.4 | B12: 62 | C12: ORSE | D12: Barracão fechado porte pequeno para depósito de cimento e almoxarifado (s=38,72 m2) com materiais novos | E12: un | F12: 1 | G12: 12593.01 | H12: =TRUNC(TRUNC(G12 * J3, 2) + G12, 2) -> 15680.81 | I12: =TRUNC(F12 * H12,2) -> 15680.81 | J12: =I12 / J2 -> 0.091642405
A13: 3 | D13: Fundação | F13: 1 | H13: =I14 + I15 + I16 + I17 + I18 + I19 + I20 + I21 -> 3988.85 | I13: =TRUNC(F13 * H13,2) -> 3988.85 | J13: =I13 / J2 -> 0.023311794
A14: 3.1 | B14: 93358 | C14: SINAPI | D14: ESCAVAÇÃO MANUAL DE VALA. AF_09/2024 | E14: m³ | F14: 4.8 | G14: =VLOOKUP(B14,CCD!A:D,4,0) -> 88.05 | H14: =TRUNC(TRUNC(G14 * J3, 2) + G14, 2) -> 109.63 | I14: =TRUNC(F14 * H14,2) -> 526.22 | J14: =I14 / J2 -> 0.0030753556
A15: 3.2 | B15: 94319 | C15: SINAPI | D15: ATERRO MANUAL DE VALAS COM SOLO ARGILO-ARENOSO. AF_08/2023 | E15: m³ | F15: 3.82 | G15: =VLOOKUP(B15,CCD!A:D,4,0) -> 79.43 | H15: =TRUNC(TRUNC(G15 * J3, 2) + G15, 2) -> 98.9 | I15: =TRUNC(F15 * H15,2) -> 377.79 | J15: =I15 / J2 -> 0.0022078951
A16: 3.3 | B16: 96620 | C16: SINAPI | D16: LASTRO DE CONCRETO MAGRO, APLICADO EM PISOS, LAJES SOBRE SOLO OU RADIERS. AF_01/2024 | E16: m³ | F16: 0.324 | G16: =VLOOKUP(B16,CCD!A:D,4,0) -> 785.02 | H16: =TRUNC(TRUNC(G16 * J3, 2) + G16, 2) -> 977.5 | I16: =TRUNC(F16 * H16,2) -> 316.71 | J16: =I16 / J2 -> 0.001850929
A17: 3.4 | B17: C0851 | C17: SEINFRA | D17: CONCRETO PRE-MISTURADO FCK 30 MPa | E17: m³ | F17: 1.536 | G17: 416.21 | H17: =TRUNC(TRUNC(G17 * J3, 2) + G17, 2) -> 518.26 | I17: =TRUNC(F17 * H17,2) -> 796.04 | J17: =I17 / J2 -> 0.0046522482
A18: 3.5 | B18: 7584 | C18: ORSE | D18: Forma plana para sapatas, em madeira maciça, 04 usos, inclusive escoramento | E18: m² | F18: 7.68 | G18: 60.71 | H18: =TRUNC(TRUNC(G18 * J3, 2) + G18, 2) -> 75.59 | I18: =TRUNC(F18 * H18,2) -> 580.53 | J18: =I18 / J2 -> 0.0033927562
A19: 3.6 | B19: 92762 | C19: SINAPI | D19: ARMAÇÃO DE PILAR OU VIGA DE ESTRUTURA CONVENCIONAL DE CONCRETO ARMADO UTILIZANDO AÇO CA-50 DE 10,0 MM - MONTAGEM. AF_06/2022 | E19: KG | F19: 57 | G19: =VLOOKUP(B19,CCD!A:D,4,0) -> 10.27 | H19: =TRUNC(TRUNC(G19 * J3, 2) + G19, 2) -> 12.78 | I19: =TRUNC(F19 * H19,2) -> 728.46 | J19: =I19 / J2 -> 0.0042572945
A20: 3.7 | B20: 92761 | C20: SINAPI | D20: ARMAÇÃO DE PILAR OU VIGA DE ESTRUTURA CONVENCIONAL DE CONCRETO ARMADO UTILIZANDO AÇO CA-50 DE 8,0 MM - MONTAGEM. AF_06/2022 | E20: KG | F20: 26 | G20: =VLOOKUP(B20,CCD!A:D,4,0) -> 11.59 | H20: =TRUNC(TRUNC(G20 * J3, 2) + G20, 2) -> 14.43 | I20: =TRUNC(F20 * H20,2) -> 375.18 | J20: =I20 / J2 -> 0.0021926417
A21: 3.8 | B21: 104111 | C21: SINAPI | D21: ARMAÇÃO DE PILAR OU VIGA DE ESTRUTURA DE CONCRETO ARMADO EMBUTIDA EM ALVENARIA DE VEDAÇÃO UTILIZANDO AÇO CA-60 DE 5,0 MM - MONTAGEM. AF_06/2022 | E21: KG | F21: 11.8 | G21: =VLOOKUP(B21,CCD!A:D,4,0) -> 19.6 | H21: =TRUNC(TRUNC(G21 * J3, 2) + G21, 2) -> 24.4 | I21: =TRUNC(F21 * H21,2) -> 287.92 | J21: =I21 / J2 -> 0.0016826734
A22: 4 | D22: Pilares | F22: 1 | H22: =I23 + I24 + I25 + I26 -> 3640.1 | I22: =TRUNC(F22 * H22,2) -> 3640.1 | J22: =I22 / J2 -> 0.021273615
A23: 4.1 | B23: C0851 | C23: SEINFRA | D23: CONCRETO PRE-MISTURADO FCK 30 MPa | E23: m³ | F23: 0.96 | G23: 416.21 | H23: =TRUNC(TRUNC(G23 * J3, 2) + G23, 2) -> 518.26 | I23: =TRUNC(F23 * H23,2) -> 497.52 | J23: =I23 / J2 -> 0.0029076259
A24: 4.2 | B24: 92761 | C24: SINAPI | D24: ARMAÇÃO DE PILAR OU VIGA DE ESTRUTURA CONVENCIONAL DE CONCRETO ARMADO UTILIZANDO AÇO CA-50 DE 8,0 MM - MONTAGEM. AF_06/2022 | E24: KG | F24: 63.2 | G24: =VLOOKUP(B24,CCD!A:D,4,0) -> 11.59 | H24: =TRUNC(TRUNC(G24 * J3, 2) + G24, 2) -> 14.43 | I24: =TRUNC(F24 * H24,2) -> 911.97 | J24: =I24 / J2 -> 0.0053297708
A25: 4.3 | B25: 104111 | C25: SINAPI | D25: ARMAÇÃO DE PILAR OU VIGA DE ESTRUTURA DE CONCRETO ARMADO EMBUTIDA EM ALVENARIA DE VEDAÇÃO UTILIZANDO AÇO CA-60 DE 5,0 MM - MONTAGEM. AF_06/2022 | E25: KG | F25: 26.32 | G25: =VLOOKUP(B25,CCD!A:D,4,0) -> 19.6 | H25: =TRUNC(TRUNC(G25 * J3, 2) + G25, 2) -> 24.4 | I25: =TRUNC(F25 * H25,2) -> 642.2 | J25: =I25 / J2 -> 0.0037531704
A26: 4.4 | B26: 7478 | C26: ORSE | D26: Forma plana para pilares, em compensado plastificado de 14mm, 04 usos, inclusive escoramento | E26: m² | F26: 19.2 | G26: 66.44 | H26: =TRUNC(TRUNC(G26 * J3, 2) + G26, 2) -> 82.73 | I26: =TRUNC(F26 * H26,2) -> 1588.41 | J26: =I26 / J2 -> 0.009283048
A27: 5 | D27: VIgas | F27: 1 | H27: =I28 + I29 + I30 + I31 -> 9713.93 | I27: =TRUNC(F27 * H27,2) -> 9713.93 | J27: =I27 / J2 -> 0.056770531
A28: 5.1 | B28: C0851 | C28: SEINFRA | D28: CONCRETO PRE-MISTURADO FCK 30 MPa | E28: m³ | F28: 2.862 | G28: 416.21 | H28: =TRUNC(TRUNC(G28 * J3, 2) + G28, 2) -> 518.26 | I28: =TRUNC(F28 * H28,2) -> 1483.26 | J28: =I28 / J2 -> 0.0086685263
A29: 5.2 | B29: 7478 | C29: ORSE | D29: Forma plana para pilares, em compensado plastificado de 14mm, 04 usos, inclusive escoramento | E29: m² | F29: 47.7 | G29: 66.44 | H29: =TRUNC(TRUNC(G29 * J3, 2) + G29, 2) -> 82.73 | I29: =TRUNC(F29 * H29,2) -> 3946.22 | J29: =I29 / J2 -> 0.023062654
A30: 5.3 | B30: 92762 | C30: SINAPI | D30: ARMAÇÃO DE PILAR OU VIGA DE ESTRUTURA CONVENCIONAL DE CONCRETO ARMADO UTILIZANDO AÇO CA-50 DE 10,0 MM - MONTAGEM. AF_06/2022 | E30: KG | F30: 157 | G30: =VLOOKUP(B30,CCD!A:D,4,0) -> 10.27 | H30: =TRUNC(TRUNC(G30 * J3, 2) + G30, 2) -> 12.78 | I30: =TRUNC(F30 * H30,2) -> 2006.46 | J30: =I30 / J2 -> 0.011726232
A31: 5.4 | B31: 92915 | C31: SINAPI | D31: ARMAÇÃO DE ESTRUTURAS DIVERSAS DE CONCRETO ARMADO, EXCETO VIGAS, PILARES, LAJES E FUNDAÇÕES, UTILIZANDO AÇO CA-60 DE 5,0 MM - MONTAGEM. AF_06/2022 | E31: KG | F31: 114.3 | G31: =VLOOKUP(B31,CCD!A:D,4,0) -> 16.01 | H31: =TRUNC(TRUNC(G31 * J3, 2) + G31, 2) -> 19.93 | I31: =TRUNC(F31 * H31,2) -> 2277.99 | J31: =I31 / J2 -> 0.013313118
A32: 6 | D32: Paredes | F32: 1 | H32: =I33 + I34 -> 20337.46 | I32: =TRUNC(F32 * H32,2) -> 20337.46 | J32: =I32 / J2 -> 0.11885698
A33: 6.1 | B33: COC-004 | C33: Próprio | D33: ALVENARIA EM TIJOLO ECOLOGICO DE SOLO-CIMENTO,MEDINDO APROXI MADAMENTE (12,5X25X7)CM,EM PAREDES DE 12,5CM,ESTRUTURADA COM BARRAS DE ACO CA-50,COLA,REJUNTE E GROUT NO ENTORNO DOS VAO S,VERGAS BLOCOS E CALHAS,EXCLUSIVE CINTA DE AMARRACAO E ALIC ERCE | E33: m² | F33: 84.6 | G33: ='CPUs - Desonerada'!J6 -> 181.31 | H33: =TRUNC(TRUNC(G33 * J3, 2) + G33, 2) -> 225.76 | I33: =TRUNC(F33 * H33,2) -> 19099.29 | J33: =I33 / J2 -> 0.11162082
A34: 6.2 | B34: C2462 | C34: SEINFRA | D34: TEXTURA ACRÍLICA 1 DEMÃO EM PAREDES INTERNAS | E34: m² | F34: 67.66 | G34: 14.7 | H34: =TRUNC(TRUNC(G34 * J3, 2) + G34, 2) -> 18.3 | I34: =TRUNC(F34 * H34,2) -> 1238.17 | J34: =I34 / J2 -> 0.0072361617
A35: 7 | D35: Piso | F35: 1 | H35: =I36 + I37 + I38 -> 2941.66 | I35: =TRUNC(F35 * H35,2) -> 2941.66 | J35: =I35 / J2 -> 0.017191765
A36: 7.1 | B36: 10619 | C36: ORSE | D36: Revestimento cerâmico para piso ou parede, 45 x 45 cm, Eliane, linha cargo plus white ou similar, aplicado com argamassa industrializada ac-ii, rejuntado,exclusive regularização de base ou emboço | E36: m² | F36: 20.79 | G36: 63.93 | H36: =TRUNC(TRUNC(G36 * J3, 2) + G36, 2) -> 79.6 | I36: =TRUNC(F36 * H36,2) -> 1654.88 | J36: =I36 / J2 -> 0.0096715146
A37: 7.2 | B37: CP - 0001 | C37: Próprio | D37: CONTRAPISO EM CONCRETO FCK=15MPa PREPARO MANUAL, ESPESSURA DE 5CM | E37: M² | F37: 20.79 | G37: ='CPUs - Desonerada'!J19 -> 40.13 | H37: =TRUNC(TRUNC(G37 * J3, 2) + G37, 2) -> 49.96 | I37: =TRUNC(F37 * H37,2) -> 1038.66 | J37: =I37 / J2 -> 0.0060701775
A38: 7.3 | B38: 104619 | C38: SINAPI | D38: RODAPÉ CERÂMICO DE 7CM DE ALTURA COM PLACAS TIPO ESMALTADA DE DIMENSÕES 80X80CM. AF_02/2023 | E38: M | F38: 13.8 | G38: =VLOOKUP(B38,CCD!A:D,4,0) -> 14.44 | H38: =TRUNC(TRUNC(G38 * J3, 2) + G38, 2) -> 17.98 | I38: =TRUNC(F38 * H38,2) -> 248.12 | J38: =I38 / J2 -> 0.0014500726
A39: 8 | D39: Coberta | F39: 1 | H39: =I40 + I41 + I42 -> 20910.14 | I39: =TRUNC(F39 * H39,2) -> 20910.14 | J39: =I39 / J2 -> 0.12220386
A40: 8.1 | B40: COC-014 | C40: Próprio | D40: TELHA ECOLÓGICA ONDULINE CLÁSSICA MARRON | E40: m² | F40: 35.99 | G40: ='CPUs - Desonerada'!I27 -> 414.76 | H40: =TRUNC(TRUNC(G40 * J3, 2) + G40, 2) -> 516.45 | I40: =TRUNC(F40 * H40,2) -> 18587.03 | J40: =I40 / J2 -> 0.10862705
...

Sheet MC 
B1: Obra
B2: Construção dos Quiosque da Praça Santo Amaro Localizada em Ponta de Pedras Rua Projetada,sn, Praça Santo Amaro, Praia de Ponta de Pedras, Goiana, Pernambuco
A3: MEMORIA DE CALCULO
A4: Item | B4: Descrição | C4: Und | D4: Quant. | E4: Observações
A5: 1 | B5: ADMINISTRAÇÃO LOCAL
A6: 1.1 | B6: ENGENHEIRO CIVIL DE OBRA PLENO COM ENCARGOS COMPLEMENTARES | C6: H | D6: 30 | E6: Horas:1 × 20 × 1,5 = 30h | G6: =1*20*1.5 -> 30
A7: 1.2 | B7: ENCARREGADO GERAL COM ENCARGOS COMPLEMENTARES | C7: H | D7: 160 | E7: Horas: 4 × 20 × 2 = 160h | G7: =4*20*2 -> 160
A8: 2 | B8: Serviços Preliminares
A9: 2.1 | B9: LIMPEZA MANUAL DE VEGETAÇÃO EM TERRENO COM ENXADA. AF_03/2024 | C9: m² | D9: 27.47 | E9: Critério adotado: A limpeza deve abranger toda a área de implantação da edificação. Conforme projeto arquitetônico Área construída = 25,47 m² Considerando margem operacional para circulação e regularização (+ ~2 m²): Quantitativo adotado: 27,47 m²
A10: 2.2 | B10: LOCAÇÃO DE BANHEIRO QUÍMICO - INCLUSO TRANSPORTE, INSTALAÇÃO E MANUTENÇÃO | C10: UNXMÊS | D10: 2 | E10: Critério adotado: Obra com duração prevista de 2 meses. Quantidade de banheiros: 1 unidade atende obra de pequeno porte.
A11: 2.3 | B11: FORNECIMENTO E INSTALAÇÃO DE PLACA DE OBRA COM CHAPA GALVANIZADA E ESTRUTURA DE MADEIRA. AF_03/2022_PS | C11: m² | D11: 12 | E11: Critério adotado: Placa padrão obra pública geralmente: 4,00 m × 3,00 m = 12,00 m²
A12: 2.4 | B12: Barracão fechado porte pequeno para depósito de cimento e almoxarifado (s=38,72 m2) com materiais novos | C12: un | D12: 1 | E12: Área padrão do item: 38,72 m² 01 unidade
A13: 3 | B13: Fundação
A14: 3.1 | B14: ESCAVAÇÃO MANUAL DE VALA. AF_09/2024 | C14: m³ | D14: 4.8 | E14: Premissa adotada: 8 cavas para sapatas (1 por pilar). Dimensão da cava (execução): 1,00 × 1,00 × 0,60 m V=1,00×1,00×0,60=0,60m3 8×0,60=4,80m3
A15: 3.2 | B15: ATERRO MANUAL DE VALAS COM SOLO ARGILO-ARENOSO. AF_08/2023 | C15: m³ | D15: 3.82 | E15: V=25,47×0,15=3,8205m3≈3,82m3
A16: 3.3 | B16: LASTRO DE CONCRETO MAGRO, APLICADO EM PISOS, LAJES SOBRE SOLO OU RADIERS. AF_01/2024 | C16: m³ | D16: 0.324 | E16: V=0,90×0,90×0,05=0,0405m3 8×0,0405=0,324m3
A17: 3.4 | B17: CONCRETO PRE-MISTURADO FCK 30 MPa | C17: m³ | D17: 1.536 | E17: Premissa: 8 sapatas 0,80×0,80×0,30 m V=0,80×0,80×0,30=0,192m3 8×0,192=1,536m3
A18: 3.5 | B18: Forma plana para sapatas, em madeira maciça, 04 usos, inclusive escoramento | C18: m² | D18: 7.68 | E18: Perímetro da sapata: 4 x 0,80 = 3,20 m Altura: 0,30 m Área por unidade: 3,20 x 0,30 = 0,96 m² Área total: 8 x 0,96 = 7,68 m²
A19: 3.6 | B19: ARMAÇÃO DE PILAR OU VIGA DE ESTRUTURA CONVENCIONAL DE CONCRETO ARMADO UTILIZANDO AÇO CA-50 DE 10,0 MM - MONTAGEM. AF_06/2022 | C19: KG | D19: 57 | E19: Armadura longitudinal e arranques da fundação. Quantidade total conforme planilha: 57,0 kg
A20: 3.7 | B20: ARMAÇÃO DE PILAR OU VIGA DE ESTRUTURA CONVENCIONAL DE CONCRETO ARMADO UTILIZANDO AÇO CA-50 DE 8,0 MM - MONTAGEM. AF_06/2022 | C20: KG | D20: 26 | E20: Malha superior/distribuição da fundação. Quantidade total conforme planilha: 26,0 kg
A21: 3.8 | B21: ARMAÇÃO DE PILAR OU VIGA DE ESTRUTURA DE CONCRETO ARMADO EMBUTIDA EM ALVENARIA DE VEDAÇÃO UTILIZANDO AÇO CA-60 DE 5,0 MM - MONTAGEM. AF_06/2022 | C21: KG | D21: 11.8 | E21: Estribos e amarrações da fundação. Quantidade total conforme planilha: 11,8 kg
A22: 4 | B22: Pilares
A23: 4.1 | B23: CONCRETO PRE-MISTURADO FCK 30 MPa | C23: m³ | D23: 0.96 | E23: Seção do pilar: 0,20 x 0,20 m Altura: 3,00 m Volume por unidade: 0,20 x 0,20 x 3,00 = 0,12 m³ Quantidade de pilares: 8 un Volume total: 8 x 0,12 = 0,96 m³
A24: 4.2 | B24: ARMAÇÃO DE PILAR OU VIGA DE ESTRUTURA CONVENCIONAL DE CONCRETO ARMADO UTILIZANDO AÇO CA-50 DE 8,0 MM - MONTAGEM. AF_06/2022 | C24: KG | D24: 63.2 | E24: Quantidade de barras por pilar: 4 un Comprimento por barra: 3,20 m (incluindo ancoragens) Comprimento total: 8 x 4 x 3,20 = 102,40 m Peso unitário Ø10: 0,617 kg/m Peso total: 102,40 x 0,617 = 63,20 kg
A25: 4.3 | B25: ARMAÇÃO DE PILAR OU VIGA DE ESTRUTURA DE CONCRETO ARMADO EMBUTIDA EM ALVENARIA DE VEDAÇÃO UTILIZANDO AÇO CA-60 DE 5,0 MM - MONTAGEM. AF_06/2022 | C25: KG | D25: 26.32 | E25: Espaçamento: 15 cm Quantidade por pilar: 3,00 / 0,15 = 20 estribos (aprox. 21 adotado) Total de estribos: 8 x 21 = 168 un Comprimento médio por estribo: 0,64 m Comprimento total: 168 x 0,64 = 107,52 m Peso unitário Ø6,3: 0,245 kg/m Peso total: 107,52 x 0,245 = 26,32 kg
A26: 4.4 | B26: Forma plana para pilares, em compensado plastificado de 14mm, 04 usos, inclusive escoramento | C26: m² | D26: 19.2 | E26: • Seção do pilar: 0,20 × 0,20 m • Altura: 3,00 m • Perímetro do pilar: 2×(0,20+0,20)=0,80 m2 \times (0,20 + 0,20) = 0,80 \, m2×(0,20+0,20)=0,80m • Área de forma por pilar: 0,80×3,00=2,40 m20,80 \times 3,00 = 2,40 \, m²0,80×3,00=2,40m2 • Quantidade de pilares: 8 un • Área total de forma: 8×2,40=19,20 m28 \times 2,40 = 19,20 \, m²8×2,40=19,20m2
A27: 5 | B27: VIgas
A28: 5.1 | B28: CONCRETO PRE-MISTURADO FCK 30 MPa | C28: m³ | D28: 2.862 | E28: Seção da viga: 0,15 x 0,30 m Comprimento total: 63,60 m Volume total: 0,15 x 0,30 x 63,60 = 2,862 m³
A29: 5.2 | B29: Forma plana para pilares, em compensado plastificado de 14mm, 04 usos, inclusive escoramento | C29: m² | D29: 47.7 | E29: Área por metro linear: (2 x 0,30) + 0,15 = 0,75 m²/m Área total: 63,60 x 0,75 = 47,70 m²
A30: 5.3 | B30: ARMAÇÃO DE PILAR OU VIGA DE ESTRUTURA CONVENCIONAL DE CONCRETO ARMADO UTILIZANDO AÇO CA-50 DE 10,0 MM - MONTAGEM. AF_06/2022 | C30: KG | D30: 157 | E30: Quantidade de barras longitudinais: 4 un Comprimento total: 4 x 63,60 = 254,40 m Peso unitário Ø10: 0,617 kg/m Peso total: 254,40 x 0,617 = 157,00 kg
A31: 5.4 | B31: ARMAÇÃO DE ESTRUTURAS DIVERSAS DE CONCRETO ARMADO, EXCETO VIGAS, PILARES, LAJES E FUNDAÇÕES, UTILIZANDO AÇO CA-60 DE 5,0 MM - MONTAGEM. AF_06/2022 | C31: KG | D31: 114.3 | E31: Espaçamento: 15 cm Quantidade estimada: 63,60 / 0,15 = 424 un Comprimento médio por estribo: 1,10 m Comprimento total: 424 x 1,10 = 466,40 m Peso unitário Ø6,3: 0,245 kg/m Peso total: 466,40 x 0,245 = 114,30 kg
A32: 6 | B32: Paredes
A33: 6.1 | B33: ALVENARIA EM TIJOLO ECOLOGICO DE SOLO-CIMENTO,MEDINDO APROXI MADAMENTE (12,5X25X7)CM,EM PAREDES DE 12,5CM,ESTRUTURADA COM BARRAS DE ACO CA-50,COLA,REJUNTE E GROUT NO ENTORNO DOS VAO S,VERGAS BLOCOS E CALHAS,EXCLUSIVE CINTA DE AMARRACAO E ALIC ERCE | C33: m² | D33: 84.6 | E33: Área de paredes a construir conforme quadro/legenda do projeto: • Parede a construir = 84,60 m²
A34: 6.2 | B34: TEXTURA ACRÍLICA 1 DEMÃO EM PAREDES INTERNAS | C34: m² | D34: 67.66 | E34: Área de revestimento em textura conforme especificação do projeto: • Revestimento em textura (cimento queimado / textura acrílica) = 67,66 m²
A35: 7 | B35: Piso
A36: 7.1 | B36: Revestimento cerâmico para piso ou parede, 45 x 45 cm, Eliane, linha cargo plus white ou similar, aplicado com argamassa industrializada ac-ii, rejuntado,exclusive regularização de base ou emboço | C36: m² | D36: 20.79 | E36: Memória de cálculo: Área de piso cerâmico conforme quadro do projeto: Piso cerâmico a construir = 20,79 m²
A37: 7.2 | B37: CONTRAPISO EM CONCRETO FCK=15MPa PREPARO MANUAL, ESPESSURA DE 5CM | C37: M² | D37: 20.79 | E37: Memória de cálculo: O contrapiso é executado em toda a área que receberá o piso cerâmico: Área de contrapiso = Área de piso cerâmico = 20,79 m²
A38: 7.3 | B38: RODAPÉ CERÂMICO DE 7CM DE ALTURA COM PLACAS TIPO ESMALTADA DE DIMENSÕES 80X80CM. AF_02/2023 | C38: M | D38: 13.8 | E38: 1. Perímetro interno bruto: P=2×(10,50+2,70)=2×13,20=26,40 mP = 2 \times (10,50 + 2,70) = 2 \times 3. 13,20 = 26,40 \, mP=2×(10,50+2,70)=2×13,20=26,40m 4. Desconto de vãos (portas): • 3 portas de giro: 3 × 0,90 = 2,70 m • 3 portas de enrolar: 3 × 3,30 = 9,90 m Total vãos = 2,70 + 9,90 = 12,60 m 3. Rodapé total: 26,40−12,60=13,80 m26,40 - 12,60 = 13,80 \, m26,40−12,60=13,80m Quantidade adotada: 13,80 m
A39: 8 | B39: Coberta
A40: 8.1 | B40: TELHA ECOLÓGICA ONDULINE CLÁSSICA MARRON | C40: m² | D40: 35.99 | E40: Área de cobertura conforme quadro do projeto: Telha ecológica clássica acetinada (cor marrom) = 35,99 m²
...

Sheet CPUs - Nao Desonerada 
C1: Composições Analíticas com Preço Unitário | E1: Bancos | G1: B.D.I. | I1: Encargos Sociais
C2: Construção dos Quiosque da Praça Santo Amaro Localizada em Ponta de Pedras Rua Projetada,sn, Praça Santo Amaro, Praia de Ponta de Pedras, Goiana, Pernambuco | E2: SINAPI - 12/2025 - Pernambuco ORSE - 12/2025 - Sergipe SEINFRA - 028 - Ceará | G2: 0.2223 | I2: Não Desonerado: embutido nos preços unitário dos insumos de mão de obra, de acordo com as bases.
A3: Composições Analíticas com Preço Unitário
A4: Composições Principais
A5: 6.1 | B5: Código | C5: Banco | D5: Descrição | E5: Tipo | G5: Und | H5: Quant. | I5: Valor Unit | J5: Total
A6: Composição | B6: COC-004 | C6: Próprio | D6: ALVENARIA EM TIJOLO ECOLOGICO DE SOLO-CIMENTO,MEDINDO APROXI MADAMENTE (12,5X25X7)CM,EM PAREDES DE 12,5CM,ESTRUTURADA COM BARRAS DE ACO CA-50,COLA,REJUNTE E GROUT NO ENTORNO DOS VAO S,VERGAS BLOCOS E CALHAS,EXCLUSIVE CINTA DE AMARRACAO E ALIC ERCE | E6: 12 | G6: m² | H6: 1 | I6: 185.43 | J6: =SUM(J7:J14) -> 187.35
A7: Composição Auxiliar | B7: 88316 | C7: SINAPI | D7: SERVENTE COM ENCARGOS COMPLEMENTARES | E7: Livro SINAPI: Cálculos e Parâmetros | G7: H | H7: 0.865 | I7: 24.08 | J7: =TRUNC(H7*I7,2) -> 20.82
A8: Composição Auxiliar | B8: 88309 | C8: SINAPI | D8: PEDREIRO COM ENCARGOS COMPLEMENTARES | E8: Livro SINAPI: Cálculos e Parâmetros | G8: H | H8: 1.62 | I8: 29.85 | J8: =TRUNC(H8*I8,2) -> 48.35
A9: Composição Auxiliar | B9: 88245 | C9: SINAPI | D9: ARMADOR COM ENCARGOS COMPLEMENTARES | E9: Livro SINAPI: Cálculos e Parâmetros | G9: H | H9: 0.055 | I9: 29.63 | J9: =TRUNC(H9*I9,2) -> 1.62
A10: Composição Auxiliar | B10: 92803 | C10: SINAPI | D10: CORTE E DOBRA DE AÇO CA-50, DIÂMETRO DE 10,0 MM. AF_06/2022 | E10: Armação para Estruturas de Concreto Armado | G10: KG | H10: 0.5255 | I10: 8.58 | J10: =TRUNC(H10*I10,2) -> 4.5
A11: Composição Auxiliar | B11: 94966 | C11: SINAPI | D11: CONCRETO FCK = 30MPA, TRAÇO 1:2,1:2,5 (EM MASSA SECA DE CIMENTO/ AREIA MÉDIA/ BRITA 1) - PREPARO MECÂNICO COM BETONEIRA 400 L. AF_05/2021 | E11: Produção de Concreto | G11: m³ | H11: 0.0105 | I11: 578.37 | J11: =TRUNC(H11*I11,2) -> 6.07
A12: Composição Auxiliar | B12: 103670 | C12: SINAPI | D12: LANÇAMENTO COM USO DE BALDES, ADENSAMENTO E ACABAMENTO DE CONCRETO EM ESTRUTURAS. AF_02/2022 | E12: Concretagem para Estruturas de Concreto Armado | G12: m³ | H12: 0.0105 | I12: 325.6 | J12: =TRUNC(H12*I12,2) -> 3.41
A13: Composição Auxiliar | B13: 87292 | C13: SINAPI | D13: ARGAMASSA TRAÇO 1:2:8 (EM VOLUME DE CIMENTO, CAL E AREIA MÉDIA ÚMIDA) PARA EMBOÇO/MASSA ÚNICA/ASSENTAMENTO DE ALVENARIA DE VEDAÇÃO, PREPARO MECÂNICO COM BETONEIRA 400 L. AF_08/2019 | E13: Argamassas | G13: m³ | H13: 0.008 | I13: 742.6 | J13: =TRUNC(H13*I13,2) -> 5.94
A14: Insumo | B14: 44466 | C14: SINAPI | D14: BLOCO CERAMICO / TIJOLO VAZADO PARA ALVENARIA DE VEDACAO, FUROS NA VERTICAL DE 11,5 X 19 X 29 CM (L X A X C) | E14: Material | G14: UN | H14: 64 | I14: =VLOOKUP(B14,ISD!A:E,5,0) -> 1.51 | J14: =TRUNC(H14*I14,2) -> 96.64
A18: 7.2 | B18: Código | C18: Banco | D18: Descrição | E18: Tipo | G18: Und | H18: Quant. | I18: Valor Unit | J18: Total
A19: Composição | B19: CP - 0001 | C19: Próprio | D19: CONTRAPISO EM CONCRETO FCK=15MPa PREPARO MANUAL, ESPESSURA DE 5CM | E19: FUES - FUNDAÇÕES E ESTRUTURAS | G19: M² | H19: 1 | I19: =J19 -> 41.57 | J19: =SUM(J20:J22) -> 41.57
A20: Composição Auxiliar | B20: 94975 | C20: SINAPI | D20: CONCRETO FCK = 15MPA, TRAÇO 1:3,4:3,5 (EM MASSA SECA DE CIMENTO/ AREIA MÉDIA/ BRITA 1) - PREPARO MANUAL. AF_05/2021 | E20: Produção de Concreto | G20: m³ | H20: 0.0565 | I20: =VLOOKUP(B20,CSD!A:D,4,0) -> 560.83 | J20: =TRUNC(H20*I20,2) -> 31.68
A21: Composição Auxiliar | B21: 88309 | C21: SINAPI | D21: PEDREIRO COM ENCARGOS COMPLEMENTARES | E21: Livro SINAPI: Cálculos e Parâmetros | G21: H | H21: 0.2718 | I21: =VLOOKUP(B21,CSD!A:D,4,0) -> 29.85 | J21: =TRUNC(H21*I21,2) -> 8.11
A22: Composição Auxiliar | B22: 88316 | C22: SINAPI | D22: SERVENTE COM ENCARGOS COMPLEMENTARES | E22: Livro SINAPI: Cálculos e Parâmetros | G22: H | H22: 0.0741 | I22: =VLOOKUP(B22,CSD!A:D,4,0) -> 24.08 | J22: =TRUNC(H22*I22,2) -> 1.78
A26: 8.1 | B26: Código | C26: Banco | D26: Descrição | E26: Tipo | G26: Und | H26: Quant. | I26: Valor Unit | J26: Total
A27: Composição | B27: COC-014 | C27: Próprio | D27: TELHA ECOLÓGICA ONDULINE CLÁSSICA MARRON | E27: COBE - COBERTURA | G27: m² | H27: 1 | I27: =J27 -> 416.05 | J27: =SUM(J28:J32) -> 416.05
A28: Composição Auxiliar | B28: 88323 | C28: SINAPI | D28: TELHADISTA COM ENCARGOS COMPLEMENTARES | E28: Livro SINAPI: Cálculos e Parâmetros | G28: H | H28: 0.3 | I28: =VLOOKUP(B28,CSD!A:D,4,0) -> 29.13 | J28: =TRUNC(H28*I28,2) -> 8.73
