Workbook

Sheet Orçamento NÃO DESONERADO
D1: PREFEITURA MUNICIPAL DE GOIANA | E1: Bancos | G1: B.D.I. | I1: Encargos Sociais
D2: OBJETO: RECOMPOSIÇÃO DE PARALELEPÍPEDO E SISTEMAS DE DRENAGEM DO BAIRRO DA BOA VISTA, GOIANA/PE ENDEREÇO: GOIANA/PE. DATA: MAIO/ 2026 | E2: SINAPI - 04/2026 - Pernambuco ORSE - 02/2026 - Sergipe SEINFRA - 028 - Ceará | G2: 19,45% | I2: Não Desonerado: embutido nos preços unitário dos insumos de mão de obra, de acordo com as bases.
A3: Orçamento Sintético
A4: Item | B4: Código | C4: Banco | D4: Descrição | E4: Und | F4: Quant. | G4: Valor Unit | H4: Valor Unit com BDI | I4: Total
A5: 1.0 | D5: META 01 | I5: =I6 -> 39239.3
A6: 1.1 | D6: RUA 01 (ATRÁS DA ESCOLA MUNICIPAL DA BOA VISTA) - COORDENADAS: 277516.73 m E 9163899.52 m S | I6: =SUM(I7:I18) -> 39239.3
A7: 1.1.1 | B7: 90777 | C7: SINAPI | D7: ENGENHEIRO CIVIL DE OBRA JUNIOR COM ENCARGOS COMPLEMENTARES | E7: H | F7: 4.4 | G7: 141.74 | H7: 169.3 | I7: =TRUNC(H7*F7,2) -> 744.92
A8: 1.1.2 | B8: 90776 | C8: SINAPI | D8: ENCARREGADO GERAL COM ENCARGOS COMPLEMENTARES | E8: H | F8: 55 | G8: 43.7 | H8: 52.19 | I8: 2870.45
A9: 1.1.3 | B9: 103689 | C9: SINAPI | D9: FORNECIMENTO E INSTALAÇÃO DE PLACA DE OBRA COM CHAPA GALVANIZADA E ESTRUTURA DE MADEIRA. AF_03/2022_PS | E9: m² | F9: 6.48 | G9: 502.34 | H9: 600.04 | I9: 3888.25
A10: 1.1.4 | B10: 94316 | C10: SINAPI | D10: ATERRO MECANIZADO DE VALA COM RETROESCAVADEIRA (CAPACIDADE DA CAÇAMBA DA RETRO: 0,26 M³ / POTÊNCIA: 88 HP), LARGURA ATÉ 1,5 M, PROFUNDIDADE ATÉ 1,5 M, COM SOLO ARGILO-ARENOSO. AF_08/2023 | E10: m³ | F10: 40.8 | G10: 75.52 | H10: 90.2 | I10: 3680.16
A11: 1.1.5 | B11: 101169 | C11: SINAPI | D11: EXECUÇÃO DE PAVIMENTO EM PARALELEPÍPEDOS, REJUNTAMENTO COM ARGAMASSA TRAÇO 1:3 (CIMENTO E AREIA). AF_05/2020 | E11: m² | F11: 10 | G11: 93.57 | H11: 111.76 | I11: 1117.6
A12: 1.1.6 | B12: 94274 | C12: SINAPI | D12: ASSENTAMENTO DE GUIA (MEIO-FIO) EM TRECHO CURVO, CONFECCIONADA EM CONCRETO PRÉ-FABRICADO, DIMENSÕES 100X15X13X30 CM (COMPRIMENTO X BASE INFERIOR X BASE SUPERIOR X ALTURA). AF_01/2024 | E12: M | F12: 10 | G12: 52.47 | H12: 62.67 | I12: 626.7
A13: 1.1.7 | B13: 94994 | C13: SINAPI | D13: EXECUÇÃO DE PASSEIO (CALÇADA) OU PISO DE CONCRETO COM CONCRETO MOLDADO IN LOCO, FEITO EM OBRA, ACABAMENTO CONVENCIONAL, ESPESSURA 8 CM, ARMADO. AF_08/2022 | E13: m² | F13: 15 | G13: 99.46 | H13: 118.8 | I13: 1782
A14: 1.1.8 | B14: 101852 | C14: SINAPI | D14: REASSENTAMENTO DE PARALELEPÍPEDOS, REJUNTAMENTO COM ARGAMASSA, COM REAPROVEITAMENTO DOS PARALELEPÍPEDOS - INCLUSO RETIRADA E COLOCAÇÃO DO MATERIAL. AF_12/2020 | E14: m² | F14: 81.6 | G14: 86.1 | H14: 102.84 | I14: 8391.74
A15: 1.1.9 | B15: 100978 | C15: SINAPI | D15: CARGA, MANOBRA E DESCARGA DE SOLOS E MATERIAIS GRANULARES EM CAMINHÃO BASCULANTE 10 M³ - CARGA COM ESCAVADEIRA HIDRÁULICA (CAÇAMBA DE 1,20 M³ / 155 HP) E DESCARGA LIVRE (UNIDADE: M3). AF_02/2026 | E15: m³ | F15: 60.72 | G15: 7.69 | H15: 9.18 | I15: 557.4
A16: 1.1.10 | B16: 95878 | C16: SINAPI | D16: TRANSPORTE COM CAMINHÃO BASCULANTE DE 10 M³, EM VIA URBANA PAVIMENTADA, DMT ATÉ 30 KM (UNIDADE: TXKM). AF_02/2026 | E16: TXKM | F16: 2886 | G16: 1.97 | H16: 2.35 | I16: 6782.1
A17: 1.1.11 | B17: 93596 | C17: SINAPI | D17: TRANSPORTE COM CAMINHÃO BASCULANTE DE 10 M³, EM VIA URBANA PAVIMENTADA, ADICIONAL PARA DMT EXCEDENTE A 30 KM (UNIDADE: TXKM). AF_02/2026 | E17: TXKM | F17: 2886 | G17: 0.75 | H17: 0.89 | I17: 2568.54
A18: 1.1.12 | B18: 103800 | C18: SINAPI | D18: PEDRA ARGAMASSADA COM CIMENTO E AREIA 1:3, 40% DE ARGAMASSA EM VOLUME - AREIA E PEDRA DE MÃO COMERCIAIS - FORNECIMENTO E ASSENTAMENTO. AF_08/2022 | E18: m³ | F18: 9 | G18: 579.46 | H18: 692.16 | I18: 6229.44
A19: 2.0 | D19: META 02 | I19: =I20 -> 22899.73
A20: 2.1 | D20: RUA 02 - COORDENADAS: 277471.08 m E 9163870.24 m S | I20: =SUM(I21:I30) -> 22899.73
A21: 2.1.1 | B21: 90777 | C21: SINAPI | D21: ENGENHEIRO CIVIL DE OBRA JUNIOR COM ENCARGOS COMPLEMENTARES | E21: H | F21: 4.4 | G21: 141.74 | H21: 169.3 | I21: 744.92
A22: 2.1.2 | B22: 90776 | C22: SINAPI | D22: ENCARREGADO GERAL COM ENCARGOS COMPLEMENTARES | E22: H | F22: 33 | G22: 43.7 | H22: 52.19 | I22: 1722.27
A23: 2.1.3 | B23: 94316 | C23: SINAPI | D23: ATERRO MECANIZADO DE VALA COM RETROESCAVADEIRA (CAPACIDADE DA CAÇAMBA DA RETRO: 0,26 M³ / POTÊNCIA: 88 HP), LARGURA ATÉ 1,5 M, PROFUNDIDADE ATÉ 1,5 M, COM SOLO ARGILO-ARENOSO. AF_08/2023 | E23: m³ | F23: 33 | G23: 75.52 | H23: 90.2 | I23: 2976.6
A24: 2.1.4 | B24: 101169 | C24: SINAPI | D24: EXECUÇÃO DE PAVIMENTO EM PARALELEPÍPEDOS, REJUNTAMENTO COM ARGAMASSA TRAÇO 1:3 (CIMENTO E AREIA). AF_05/2020 | E24: m² | F24: 10 | G24: 93.57 | H24: 111.76 | I24: 1117.6
A25: 2.1.5 | B25: 94274 | C25: SINAPI | D25: ASSENTAMENTO DE GUIA (MEIO-FIO) EM TRECHO CURVO, CONFECCIONADA EM CONCRETO PRÉ-FABRICADO, DIMENSÕES 100X15X13X30 CM (COMPRIMENTO X BASE INFERIOR X BASE SUPERIOR X ALTURA). AF_01/2024 | E25: M | F25: 10 | G25: 52.47 | H25: 62.67 | I25: 626.7
A26: 2.1.6 | B26: 94994 | C26: SINAPI | D26: EXECUÇÃO DE PASSEIO (CALÇADA) OU PISO DE CONCRETO COM CONCRETO MOLDADO IN LOCO, FEITO EM OBRA, ACABAMENTO CONVENCIONAL, ESPESSURA 8 CM, ARMADO. AF_08/2022 | E26: m² | F26: 15 | G26: 99.46 | H26: 118.8 | I26: 1782
A27: 2.1.7 | B27: 101852 | C27: SINAPI | D27: REASSENTAMENTO DE PARALELEPÍPEDOS, REJUNTAMENTO COM ARGAMASSA, COM REAPROVEITAMENTO DOS PARALELEPÍPEDOS - INCLUSO RETIRADA E COLOCAÇÃO DO MATERIAL. AF_12/2020 | E27: m² | F27: 66 | G27: 86.1 | H27: 102.84 | I27: 6787.44
A28: 2.1.8 | B28: 100978 | C28: SINAPI | D28: CARGA, MANOBRA E DESCARGA DE SOLOS E MATERIAIS GRANULARES EM CAMINHÃO BASCULANTE 10 M³ - CARGA COM ESCAVADEIRA HIDRÁULICA (CAÇAMBA DE 1,20 M³ / 155 HP) E DESCARGA LIVRE (UNIDADE: M3). AF_02/2026 | E28: m³ | F28: 51.56 | G28: 7.69 | H28: 9.18 | I28: 473.32
A29: 2.1.9 | B29: 95878 | C29: SINAPI | D29: TRANSPORTE COM CAMINHÃO BASCULANTE DE 10 M³, EM VIA URBANA PAVIMENTADA, DMT ATÉ 30 KM (UNIDADE: TXKM). AF_02/2026 | E29: TXKM | F29: 2058.3 | G29: 1.97 | H29: 2.35 | I29: 4837
A30: 2.1.10 | B30: 93596 | C30: SINAPI | D30: TRANSPORTE COM CAMINHÃO BASCULANTE DE 10 M³, EM VIA URBANA PAVIMENTADA, ADICIONAL PARA DMT EXCEDENTE A 30 KM (UNIDADE: TXKM). AF_02/2026 | E30: TXKM | F30: 2058.3 | G30: 0.75 | H30: 0.89 | I30: 1831.88
A31: 3.0 | D31: META 03 | I31: =I32 -> 52612.09
A32: 3.1 | D32: RUA 03 - COORDENADAS: 277489.02 m E 9163817.88 m S | I32: =SUM(I33:I45) -> 52612.09
A33: 3.1.1 | B33: 90777 | C33: SINAPI | D33: ENGENHEIRO CIVIL DE OBRA JUNIOR COM ENCARGOS COMPLEMENTARES | E33: H | F33: 4.4 | G33: 141.74 | H33: 169.3 | I33: 744.92
A34: 3.1.2 | B34: 90776 | C34: SINAPI | D34: ENCARREGADO GERAL COM ENCARGOS COMPLEMENTARES | E34: H | F34: 77 | G34: 43.7 | H34: 52.19 | I34: 4018.63
A35: 3.1.3 | B35: 94316 | C35: SINAPI | D35: ATERRO MECANIZADO DE VALA COM RETROESCAVADEIRA (CAPACIDADE DA CAÇAMBA DA RETRO: 0,26 M³ / POTÊNCIA: 88 HP), LARGURA ATÉ 1,5 M, PROFUNDIDADE ATÉ 1,5 M, COM SOLO ARGILO-ARENOSO. AF_08/2023 | E35: m³ | F35: 42.75 | G35: 75.52 | H35: 90.2 | I35: 3856.05
A36: 3.1.4 | B36: 101169 | C36: SINAPI | D36: EXECUÇÃO DE PAVIMENTO EM PARALELEPÍPEDOS, REJUNTAMENTO COM ARGAMASSA TRAÇO 1:3 (CIMENTO E AREIA). AF_05/2020 | E36: m² | F36: 10 | G36: 93.57 | H36: 111.76 | I36: 1117.6
A37: 3.1.5 | B37: 94274 | C37: SINAPI | D37: ASSENTAMENTO DE GUIA (MEIO-FIO) EM TRECHO CURVO, CONFECCIONADA EM CONCRETO PRÉ-FABRICADO, DIMENSÕES 100X15X13X30 CM (COMPRIMENTO X BASE INFERIOR X BASE SUPERIOR X ALTURA). AF_01/2024 | E37: M | F37: 10 | G37: 52.47 | H37: 62.67 | I37: 626.7
A38: 3.1.6 | B38: 94994 | C38: SINAPI | D38: EXECUÇÃO DE PASSEIO (CALÇADA) OU PISO DE CONCRETO COM CONCRETO MOLDADO IN LOCO, FEITO EM OBRA, ACABAMENTO CONVENCIONAL, ESPESSURA 8 CM, ARMADO. AF_08/2022 | E38: m² | F38: 15 | G38: 99.46 | H38: 118.8 | I38: 1782
A39: 3.1.7 | B39: 101852 | C39: SINAPI | D39: REASSENTAMENTO DE PARALELEPÍPEDOS, REJUNTAMENTO COM ARGAMASSA, COM REAPROVEITAMENTO DOS PARALELEPÍPEDOS - INCLUSO RETIRADA E COLOCAÇÃO DO MATERIAL. AF_12/2020 | E39: m² | F39: 36 | G39: 86.1 | H39: 102.84 | I39: 3702.24
A40: 3.1.8 | B40: 100978 | C40: SINAPI | D40: CARGA, MANOBRA E DESCARGA DE SOLOS E MATERIAIS GRANULARES EM CAMINHÃO BASCULANTE 10 M³ - CARGA COM ESCAVADEIRA HIDRÁULICA (CAÇAMBA DE 1,20 M³ / 155 HP) E DESCARGA LIVRE (UNIDADE: M3). AF_02/2026 | E40: m³ | F40: 49.29 | G40: 7.69 | H40: 9.18 | I40: 452.48
...

Sheet BDI NÃO DESONERADO PAV
A1: PREFEITURA MUNICIPAL DE GOIANA
B2: OBJETO: RECOMPOSIÇÃO DE PARALELEPÍPEDO E SISTEMAS DE DRENAGEM DO BAIRRO DA BOA VISTA, GOIANA/PE ENDEREÇO: GOIANA/PE. DATA: MAIO/ 2026
H5: VALORES BDI POR TIPO DE OBRAS
A6: MUNICÍPIO DE GOIANA | D6: SELECIONE UM TIPO DE SERVIÇO | I6: 1°QUARTIL | J6: MÉDIO | K6: 3°QUARTIL
A7: ITEM | B7: COMPOSIÇÃO BDI (NÃO DESONERADO) | C7: % | D7: CONSTRUÇÃO DE RODOVIAS E FERROVIAS | H7: CONSTRUÇÃO DE EDIFÍCIOS | I7: 0.2034 | J7: 0.2212 | K7: 0.25
A8: ADMINISTRAÇÃO CENTRAL | H8: CONSTRUÇÃO DE RODOVIAS E FERROVIAS | I8: 0.196 | J8: 0.2097 | K8: 0.2423
A9: AC | B9: ADMINISTRAÇÃO CENTRAL | C9: =D9 -> 0.038 | D9: =IF(D7=H7,I12,IF(D7=H8,I13,I14)) -> 0.038 | H9: MERO FORNECIMENTO DE MATERIAIS E EQUIPAMENTOS | I9: 0.111 | J9: 0.1402 | K9: 0.168
A10: DF | B10: DESPESAS FINANCEIRAS | C10: =D10 -> 0.0102 | D10: =IF(D7=H7,J12,IF(D7=H8,J13,J14)) -> 0.0102
A11: R | B11: RISCOS | C11: =D11 -> 0.005 | D11: =IF(D7=H7,K12,IF(D7=H8,K13,K14)) -> 0.005 | I11: AC | J11: DF | K11: R | L11: S+G | M11: L | O11: BDI
A12: S+G | B12: SEGUROS E GARANTIAS CONTRATUAIS | C12: =D12 -> 0.0032 | D12: =IF(D7=H7,L12,IF(D7=H8,L13,L14)) -> 0.0032 | H12: CONSTRUÇÃO DE EDIFÍCIOS | I12: 0.03 | J12: 0.0059 | K12: 0.0097 | L12: 0.008 | M12: 0.0616 | O12: 0.1858
H13: CONSTRUÇÃO DE RODOVIAS E FERROVIAS | I13: 0.038 | J13: 0.0102 | K13: 0.005 | L13: 0.0032 | M13: 0.0664 | O13: 0.1945
A14: LUCRO | H14: MERO FORNECIMENTO DE MATERIAIS E EQUIPAMENTOS | I14: 0.015 | J14: 0.0085 | K14: 0.0056 | L14: 0.003 | M14: 0.035 | O14: 0.1089 | Q14: DESCONSIDERAR ISS
A15: L | B15: LUCRO OPERACIONAL | C15: =D15 -> 0.0664 | D15: =IF(D7=H7,M12,IF(D7=H8,M13,M14)) -> 0.0664
A17: TRIBUTOS | D17: =SUM(C18:C21) -> 0.0565
A18: I.1 PIS | C18: 0.0065
A19: I.2 COFINS | C19: 0.03
A20: I.3 ISSQN | C20: =D20 -> 0.02 | D20: 0.02
A21: I.4 CONTRIBUIÇÃO PREVIDENCIÁRIA SOBRE A RENDA BRUTA | C21: 0 | F21: =ROUND(((((1+(C9+C11+C12))*(1+C10)*(1+C15))/(1-D17))-1),4) -> 0.1945
A23: BDI COM TRIBUTOS (%) | C23: =F21 -> 0.1945
A24: FÓRMULA: OBSERVAÇÕES: Onde: AC = taxa de rateio da administração central S = taxa representativa de seguros R = taxa representativa correspondente os riscos e imprevistos G = taxa que representa o ônus das garantias exigidas em edital DF = taxa representativa das despesas financeiras L = corresponde à remuneração bruta do construtor I = taxa representativa dos tributos incidentes sobre o preço de venda (PIS, Cofins, CPRB e ISS).
A25: REFERÊNCIAS NORMATIVAS: • Lei nº 12.546/2011, arts. 7º, 7º-A, 9º, 9º-A e 9º-B • Lei nº 14.973/2024 — regime de transição 2025-2027 • Lei nº 14.133/2021 — arts. 23, 124, 130 e 134 • Acórdão TCU nº 2.622/2013 — Plenário (fórmula e faixas por tipo de obra) • Súmula TCU nº 253/2010 (BDI reduzido para mero fornecimento) • Instrução Normativa DNIT nº 62/2021 (obrigatoriedade de elaborar as duas condições) • Memorando-Circular 03-DIREX/DNIT (BDI diferenciado para materiais betuminosos) • Orientação SEGES/MGI de fevereiro de 2025 • Legislação tributária municipal de Goiana/PE (ISSQN = 2,00%)

Sheet Cronograma
B1: PREFEITURA MUNICIPAL DE GOIANA | C1: Bancos | E1: Encargos Sociais
B2: ='Orçamento NÃO DESONERADO'!D2 -> OBJETO: RECOMPOSIÇÃO DE PARALELEPÍPEDO E SISTEMAS DE DRENAGEM DO BAIRRO DA BOA VISTA, GOIANA/PE ENDEREÇO: GOIANA/PE. DATA: MAIO/ 2026 | C2: SINAPI - 04/2026 - Pernambuco ORSE - 02/2026 - Sergipe SEINFRA - 028 - Ceará | D2: 0.1945 | E2: Não Desonerado: embutido nos preços unitário dos insumos de mão de obra, de acordo com as bases.
A3: Cronograma Físico e Financeiro - Desonerado
A4: Item | B4: Descrição | C4: Total Por Etapa | D4: % DO ITEM | E4: 30 dias
A5: 1.0 | B5: ='Orçamento NÃO DESONERADO'!D5 -> META 01 | C5: ='Orçamento NÃO DESONERADO'!I5 -> 39239.3 | D5: =C5/C11 -> 0.34195135 | E5: 1 | F5: =SUM(E5:E5) -> 1
E6: =(E5*C5) -> 39239.3 | F6: =SUM(E6:E6) -> 39239.3 | G6: =C5-F6 -> 0 | I6: =#REF!+#REF!+E6 -> #REF! | J6: =C5-I6 -> #REF!
A7: 2.0 | B7: ='Orçamento NÃO DESONERADO'!D19 -> META 02 | C7: ='Orçamento NÃO DESONERADO'!I19 -> 22899.73 | D7: =C7/C11 -> 0.19955997 | E7: 1 | F7: =SUM(E7:E7) -> 1 | I7: =#REF!+#REF!+E7 -> #REF!
E8: =(E7*C7) -> 22899.73 | F8: =SUM(E8:E8) -> 22899.73 | G8: =C7-F8 -> 0 | I8: =#REF!+#REF!+E8 -> #REF! | J8: =C7-I8 -> #REF!
A9: 3.0 | B9: ='Orçamento NÃO DESONERADO'!D31 -> META 03 | C9: ='Orçamento NÃO DESONERADO'!I31 -> 52612.09 | D9: =C9/C11 -> 0.45848868 | E9: 1 | F9: =SUM(E9:E9) -> 1 | I9: =#REF!+#REF!+E9 -> #REF!
E10: =(E9*C9) -> 52612.09 | F10: =SUM(E10:E10) -> 52612.09 | G10: =C9-F10 -> 0 | I10: =#REF!+#REF!+E10 -> #REF! | J10: =C9-I10 -> #REF!
B11: TOTAL GERAL | C11: =SUM(C5:C10) -> 114751.12 | D11: =SUM(D5:D10) -> 1 | F11: =SUM(F6,#REF!,F8,F10,#REF!,#REF!,#REF!,#REF!,#REF!,#REF!,#REF!,#REF!,#REF!,#REF!) -> #REF! | G11: =SUM(G6:G10) -> 0
A12: Porcentagem | E12: =E13/C11 -> 1 | F12: =SUM(E12:E12) -> 1
A13: Custo | E13: =E6+E8+E10 -> 114751.12 | F13: =SUM(E13:E13) -> 114751.12 | G13: =C11-F13 -> 0
A14: Porcentagem Acumulado | E14: =E12 -> 1
A15: Custo Acumulado | E15: =E13 -> 114751.12

Sheet Memória de Calculo
B1: PREFEITURA MUNICIPAL DE GOIANA | C1: Bancos | D1: B.D.I. | E1: Encargos Sociais
B2: OBJETO: RECOMPOSIÇÃO DE PARALELEPÍPEDO E SISTEMAS DE DRENAGEM DO BAIRRO DA BOA VISTA, GOIANA/PE ENDEREÇO: GOIANA/PE. DATA: MAIO/ 2026 | C2: SINAPI - 04/2026 - Pernambuco ORSE - 02/2026 - Sergipe SEINFRA - 028 - Ceará | D2: 0.1945 | E2: Não Desonerado: embutido nos preços unitário dos insumos de mão de obra, de acordo com as bases.
A3: Me
A4: Item | B4: ='[2]Orçamento Desonerado'!D4 -> Descrição | C4: Und | D4: Quant. | E4: Observações
A5: 1.0 | B5: META 01
A6: 1.1 | B6: RUA 01 (ATRÁS DA ESCOLA MUNICIPAL DA BOA VISTA) - COORDENADAS: 277516.73 m E 9163899.52 m S
A7: 1.1.1 | B7: ENGENHEIRO CIVIL DE OBRA JUNIOR COM ENCARGOS COMPLEMENTARES | C7: H | D7: 4.4 | E7: =1 MÊS * 0,2 HORAS POR DIA * 22 DIAS ÚTEIS NO MÊS | F7: =1*0.2*22 -> 4.4
A8: 1.1.2 | B8: ENCARREGADO GERAL COM ENCARGOS COMPLEMENTARES | C8: H | D8: 55 | E8: =1 MÊS * 2,5 HORAS POR DIA * 22 DIAS ÚTEIS NO MÊS | F8: =1*2.5*22 -> 55
A9: 1.1.3 | B9: FORNECIMENTO E INSTALAÇÃO DE PLACA DE OBRA COM CHAPA GALVANIZADA E ESTRUTURA DE MADEIRA. AF_03/2022_PS | C9: m² | D9: 6.48 | E9: = 3,60 COMP * 1,80 LARG = 6,48 M²
A10: 1.1.4 | B10: ATERRO MECANIZADO DE VALA COM RETROESCAVADEIRA (CAPACIDADE DA CAÇAMBA DA RETRO: 0,26 M³ / POTÊNCIA: 88 HP), LARGURA ATÉ 1,5 M, PROFUNDIDADE ATÉ 1,5 M, COM SOLO ARGILO-ARENOSO. AF_08/2023 | C10: m³ | D10: 40.8 | E10: =34,00 COMP * 6,00 LARG * 40% * 0,50 ALT = 40,80 M³ | F10: 34 | G10: 0.4 | H10: 6 | I10: =H10*G10*F10 -> 81.6 | J10: 0.5 | K10: =J10*I10 -> 40.8
A11: 1.1.5 | B11: EXECUÇÃO DE PAVIMENTO EM PARALELEPÍPEDOS, REJUNTAMENTO COM ARGAMASSA TRAÇO 1:3 (CIMENTO E AREIA). AF_05/2020 | C11: m² | D11: 10 | E11: =2,5 COMP * 4,0 LARG = 10,00M²
A12: 1.1.6 | B12: ASSENTAMENTO DE GUIA (MEIO-FIO) EM TRECHO CURVO, CONFECCIONADA EM CONCRETO PRÉ-FABRICADO, DIMENSÕES 100X15X13X30 CM (COMPRIMENTO X BASE INFERIOR X BASE SUPERIOR X ALTURA). AF_01/2024 | C12: M | D12: 10 | E12: 5 M LADO ESQUERDO + 5 M LADO DIREITO = 10 M
A13: 1.1.7 | B13: EXECUÇÃO DE PASSEIO (CALÇADA) OU PISO DE CONCRETO COM CONCRETO MOLDADO IN LOCO, FEITO EM OBRA, ACABAMENTO CONVENCIONAL, ESPESSURA 8 CM, ARMADO. AF_08/2022 | C13: m² | D13: 15 | E13: 5 M LADO ESQUERDO + 5 M LADO DIREITO = 10 M * 1,5M LARG = 15M²
A14: 1.1.8 | B14: REASSENTAMENTO DE PARALELEPÍPEDOS, REJUNTAMENTO COM ARGAMASSA, COM REAPROVEITAMENTO DOS PARALELEPÍPEDOS - INCLUSO RETIRADA E COLOCAÇÃO DO MATERIAL. AF_12/2020 | C14: m² | D14: 81.6 | E14: =34,00 COMP * 6,00 LARG * 40% = 81,60 M²
A15: 1.1.9 | B15: CARGA, MANOBRA E DESCARGA DE SOLOS E MATERIAIS GRANULARES EM CAMINHÃO BASCULANTE 10 M³ - CARGA COM ESCAVADEIRA HIDRÁULICA (CAÇAMBA DE 1,20 M³ / 155 HP) E DESCARGA LIVRE (UNIDADE: M3). AF_02/2026 | C15: m³ | D15: 60.72 | E15: =SOLO DO ITEM 3.1 + PEDRA ARGAMASSADA ITEM 3.10 + AREIA PAV. ITENS 3.5 E 3.2 + PEDRA PARALELEPÍPEDO = 40,80M³+8,18M³+1,14M³+9,30M³+1,3M³= 60,72M³
A16: 1.1.10 | B16: TRANSPORTE COM CAMINHÃO BASCULANTE DE 10 M³, EM VIA URBANA PAVIMENTADA, DMT ATÉ 30 KM (UNIDADE: TXKM). AF_02/2026 | C16: TXKM | D16: 2886 | E16: =SOLO DO ITEM 3.1 + PEDRA ARGAMASSADA ITEM 3.10 + AREIA PAV. ITENS 3.5 E 3.2 + PEDRA PARALELEPÍPEDO = ((40,80M³ * 1,6T/M3) + (8,18M³*1,5T/M³) + ((1,14M³+9,30M³)*1,6T/M³) + (1,3M³*1,5T/M³)) 30KM = 96,20T * 30KM = 2886,00 TXKM | F16: =40.8*1.6 -> 65.28 | G16: =8.18*1.5 -> 12.27 | H16: =10.44*1.6 -> 16.704 | I16: =1.3*1.5 -> 1.95
A17: 1.1.11 | B17: TRANSPORTE COM CAMINHÃO BASCULANTE DE 10 M³, EM VIA URBANA PAVIMENTADA, ADICIONAL PARA DMT EXCEDENTE A 30 KM (UNIDADE: TXKM). AF_02/2026 | C17: TXKM | D17: 2886 | E17: =SOLO DO ITEM 3.1 + PEDRA ARGAMASSADA ITEM 3.10 + AREIA PAV. ITENS 3.5 E 3.2 + PEDRA PARALELEPÍPEDO = ((40,80M³ * 1,6T/M3) + (8,18M³*1,5T/M³) + ((1,14M³+9,30M³)*1,6T/M³) + (1,3M³*1,5T/M³)) 30KM = 96,20T * 30KM = 2886,00 TXKM
A18: 1.1.12 | B18: PEDRA ARGAMASSADA COM CIMENTO E AREIA 1:3, 40% DE ARGAMASSA EM VOLUME - AREIA E PEDRA DE MÃO COMERCIAIS - FORNECIMENTO E ASSENTAMENTO. AF_08/2022 | C18: m³ | D18: 9 | E18: =6,00 COMP * 3,00 ALT * 0,50 ESP = 9,00M³
A19: 2.0 | B19: META 02
A20: 2.1 | B20: RUA 02 - COORDENADAS: 277471.08 m E 9163870.24 m S
A21: 2.1.1 | B21: ENGENHEIRO CIVIL DE OBRA JUNIOR COM ENCARGOS COMPLEMENTARES | C21: H | D21: 4.4 | E21: =1 MÊS * 0,2 HORAS POR DIA * 22 DIAS ÚTEIS NO MÊS
A22: 2.1.2 | B22: ENCARREGADO GERAL COM ENCARGOS COMPLEMENTARES | C22: H | D22: 33 | E22: =1 MÊS * 1,5 HORAS POR DIA * 22 DIAS ÚTEIS NO MÊS | G22: =1*1.5*22 -> 33
A23: #REF! | B23: ATERRO MECANIZADO DE VALA COM RETROESCAVADEIRA (CAPACIDADE DA CAÇAMBA DA RETRO: 0,26 M³ / POTÊNCIA: 88 HP), LARGURA ATÉ 1,5 M, PROFUNDIDADE ATÉ 1,5 M, COM SOLO ARGILO-ARENOSO. AF_08/2023 | C23: m³ | D23: 33 | E23: =55,00 COMP * 6,00 LARG * 20% * 0,50 ALT = 33,00 M³ | F23: COMPRIMENTO | G23: TAXA | H23: LARG | I23: M2 | K23: M3
A24: 2.1.3 | B24: EXECUÇÃO DE PAVIMENTO EM PARALELEPÍPEDOS, REJUNTAMENTO COM ARGAMASSA TRAÇO 1:3 (CIMENTO E AREIA). AF_05/2020 | C24: m² | D24: 10 | E24: =2,5 COMP * 4,0 LARG = 10,00M² | F24: 55 | G24: 0.2 | H24: 6 | I24: =H24*G24*F24 -> 66 | J24: 0.5 | K24: =J24*I24 -> 33
A25: 2.1.4 | B25: ASSENTAMENTO DE GUIA (MEIO-FIO) EM TRECHO CURVO, CONFECCIONADA EM CONCRETO PRÉ-FABRICADO, DIMENSÕES 100X15X13X30 CM (COMPRIMENTO X BASE INFERIOR X BASE SUPERIOR X ALTURA). AF_01/2024 | C25: M | D25: 10 | E25: 5 M LADO ESQUERDO + 5 M LADO DIREITO = 10 M
A26: 2.1.5 | B26: EXECUÇÃO DE PASSEIO (CALÇADA) OU PISO DE CONCRETO COM CONCRETO MOLDADO IN LOCO, FEITO EM OBRA, ACABAMENTO CONVENCIONAL, ESPESSURA 8 CM, ARMADO. AF_08/2022 | C26: m² | D26: 15 | E26: 5 M LADO ESQUERDO + 5 M LADO DIREITO = 10 M * 1,5M LARG = 15M²
A27: 2.1.6 | B27: REASSENTAMENTO DE PARALELEPÍPEDOS, REJUNTAMENTO COM ARGAMASSA, COM REAPROVEITAMENTO DOS PARALELEPÍPEDOS - INCLUSO RETIRADA E COLOCAÇÃO DO MATERIAL. AF_12/2020 | C27: m² | D27: 66 | E27: =55,00 COMP * 6,00 LARG * 20% = 66,00 M²
A28: 2.1.7 | B28: CARGA, MANOBRA E DESCARGA DE SOLOS E MATERIAIS GRANULARES EM CAMINHÃO BASCULANTE 10 M³ - CARGA COM ESCAVADEIRA HIDRÁULICA (CAÇAMBA DE 1,20 M³ / 155 HP) E DESCARGA LIVRE (UNIDADE: M3). AF_02/2026 | C28: m³ | D28: 51.56 | E28: =SOLO DO ITEM 4.1 + AREIA PAV. ITENS 4.5 E 4.2 + PEDRA PARALELEPÍPEDO = 33,00M³+7,52M³+1,14M³+1,3M³= 42,96M³
A29: 2.1.8 | B29: TRANSPORTE COM CAMINHÃO BASCULANTE DE 10 M³, EM VIA URBANA PAVIMENTADA, DMT ATÉ 30 KM (UNIDADE: TXKM). AF_02/2026 | C29: TXKM | D29: 2058.3 | E29: =SOLO DO ITEM 4.1 + AREIA PAV. ITENS 4.5 E 4.2 + PEDRA PARALELEPÍPEDO = ((33,00M³ * 1,6T/M3) + ((1,14M³+7,52M³)*1,6T/M³) + (1,3M³*1,5T/M³)) 30KM = 68,61T * 30KM = 2058,30 TXKM | F29: =33*1.6 -> 52.8 | G29: =(1.14+7.52)*1.6 -> 13.856 | H29: =1.3*1.5 -> 1.95 | I29: 68.61 | J29: =I29*30 -> 2058.3
A30: 2.1.9 | B30: TRANSPORTE COM CAMINHÃO BASCULANTE DE 10 M³, EM VIA URBANA PAVIMENTADA, ADICIONAL PARA DMT EXCEDENTE A 30 KM (UNIDADE: TXKM). AF_02/2026 | C30: TXKM | D30: 2058.3 | E30: =SOLO DO ITEM 4.1 + AREIA PAV. ITENS 4.5 E 4.2 + PEDRA PARALELEPÍPEDO = ((33,00M³ * 1,6T/M3) + ((1,14M³+7,52M³)*1,6T/M³) + (1,3M³*1,5T/M³)) 30KM = 68,61T * 30KM = 2058,30 TXKM
A31: 3.0 | B31: META 03
A32: 3.1 | B32: RUA 03 - COORDENADAS: 277489.02 m E 9163817.88 m S
A33: 3.1.1 | B33: ENGENHEIRO CIVIL DE OBRA JUNIOR COM ENCARGOS COMPLEMENTARES | C33: H | D33: 4.4 | E33: =1 MÊS * 0,2 HORAS POR DIA * 22 DIAS ÚTEIS NO MÊS
A34: 3.1.2 | B34: ENCARREGADO GERAL COM ENCARGOS COMPLEMENTARES | C34: H | D34: 77 | E34: =1 MÊS * 3,5 HORAS POR DIA * 22 DIAS ÚTEIS NO MÊS | F34: =22*1*3.5 -> 77
A35: 3.1.3 | B35: ATERRO MECANIZADO DE VALA COM RETROESCAVADEIRA (CAPACIDADE DA CAÇAMBA DA RETRO: 0,26 M³ / POTÊNCIA: 88 HP), LARGURA ATÉ 1,5 M, PROFUNDIDADE ATÉ 1,5 M, COM SOLO ARGILO-ARENOSO. AF_08/2023 | C35: m³ | D35: 42.75 | E35: =30,00 COMP * 6,00 LARG * 20% * 0,50 ALT = 18,00 M³ + (33,00*0,5*1,5) = 42,75 m³
A36: 3.1.4 | B36: EXECUÇÃO DE PAVIMENTO EM PARALELEPÍPEDOS, REJUNTAMENTO COM ARGAMASSA TRAÇO 1:3 (CIMENTO E AREIA). AF_05/2020 | C36: m² | D36: 10 | E36: =2,5 COMP * 4,0 LARG = 10,00M² | F36: COMPRIMENTO | G36: TAXA | H36: LARG | I36: M2 | K36: M3
A37: 3.1.5 | B37: ASSENTAMENTO DE GUIA (MEIO-FIO) EM TRECHO CURVO, CONFECCIONADA EM CONCRETO PRÉ-FABRICADO, DIMENSÕES 100X15X13X30 CM (COMPRIMENTO X BASE INFERIOR X BASE SUPERIOR X ALTURA). AF_01/2024 | C37: M | D37: 10 | E37: 5 M LADO ESQUERDO + 5 M LADO DIREITO = 10 M | F37: 30 | G37: 0.2 | H37: 6 | I37: =H37*G37*F37 -> 36 | J37: 0.5 | K37: =J37*I37 -> 18
A38: 3.1.6 | B38: EXECUÇÃO DE PASSEIO (CALÇADA) OU PISO DE CONCRETO COM CONCRETO MOLDADO IN LOCO, FEITO EM OBRA, ACABAMENTO CONVENCIONAL, ESPESSURA 8 CM, ARMADO. AF_08/2022 | C38: m² | D38: 15 | E38: 5 M LADO ESQUERDO + 5 M LADO DIREITO = 10 M * 1,5M LARG = 15M²
A39: 3.1.7 | B39: REASSENTAMENTO DE PARALELEPÍPEDOS, REJUNTAMENTO COM ARGAMASSA, COM REAPROVEITAMENTO DOS PARALELEPÍPEDOS - INCLUSO RETIRADA E COLOCAÇÃO DO MATERIAL. AF_12/2020 | C39: m² | D39: 36 | E39: =30,00 COMP * 6,00 LARG * 20% = 36,00 M²
A40: 3.1.8 | B40: CARGA, MANOBRA E DESCARGA DE SOLOS E MATERIAIS GRANULARES EM CAMINHÃO BASCULANTE 10 M³ - CARGA COM ESCAVADEIRA HIDRÁULICA (CAÇAMBA DE 1,20 M³ / 155 HP) E DESCARGA LIVRE (UNIDADE: M3). AF_02/2026 | C40: m³ | D40: 49.29 | E40: =SOLO DO ITEM 5.1 + AREIA PAV. ITENS 5.5 E 5.2 + PEDRA PARALELEPÍPEDO = 18,00M³+4,10M³+1,14M³+1,3M³= 24,54M³ + 24,75 m³ = 49,29 m³
...

Sheet GEORREFERENCIA E FOTOS
D1: PREFEITURA MUNICIPAL DE GOIANA | E1: Bancos | G1: B.D.I. | J1: Encargos Sociais
D2: ='Orçamento NÃO DESONERADO'!D2 -> OBJETO: RECOMPOSIÇÃO DE PARALELEPÍPEDO E SISTEMAS DE DRENAGEM DO BAIRRO DA BOA VISTA, GOIANA/PE ENDEREÇO: GOIANA/PE. DATA: MAIO/ 2026 | M2: 1.2297
A3: Orçamento Sintético
A4: Item | D4: Descrição
A5: 1.1 | D5: RUA 01 (ATRÁS DA ESCOLA MUNICIPAL DA BOA VISTA) - COORDENADAS: 277516.73 m E 9163899.52 m S
A7: COORDENADAS UTM: | C7: LONGITUDE: | D7: 277516.73 m E | E7: LATITUDE: | G7: 9163899.52 m S
A8: 2.1 | D8: RUA 02 - COORDENADAS: 277471.08 m E 9163870.24 m S
A10: COORDENADAS UTM: | C10: LONGITUDE: | D10: 277471.08 m E | E10: LATITUDE: | G10: 9163870.24 m S
A11: 3.1 | D11: RUA 03 - COORDENADAS: 277489.02 m E 9163817.88 m S
A13: COORDENADAS UTM: | C13: LONGITUDE: | D13: 277489.02 m E | E13: LATITUDE: | G13: 9163817.88 m S
D14: ARRIMO DO CANAL - COORDENADAS: 277482.27 m E 9163842.14 m S
A16: COORDENADAS UTM: | C16: LONGITUDE: | D16: 277482.27 m E | E16: LATITUDE: | G16: 9163842.14 m S
A18: RUAS CONTEMPLADAS NO ORÇAMENTO

Sheet MODELO PLACA DE OBRAS
B1: PREFEITURA MUNICIPAL DE GOIANA | C1: Bancos | D1: B.D.I. | E1: Encargos Sociais
B2: ='GEORREFERENCIA E FOTOS'!D2 -> OBJETO: RECOMPOSIÇÃO DE PARALELEPÍPEDO E SISTEMAS DE DRENAGEM DO BAIRRO DA BOA VISTA, GOIANA/PE ENDEREÇO: GOIANA/PE. DATA: MAIO/ 2026 | C2: SINAPI - 04/2026 - Pernambuco ORSE - 02/2026 - Sergipe SEINFRA - 028 - Ceará
A3: MODELO DE PLACA DE OBRA PARA SER CONFECCIONADO *ALTERAR OS DADOS ABAIXO*
A37: * | B37: UTILIZAR DADOS REFERENTE À OBRA
A38: ** | B38: UTILIZAR LOGO DA PREFEITURA MUNICIPAL DE GOIANA
