Workbook

Sheet RESUMO PROPOSTA MAIS VANTAJOSA
C1: PREFEITURA MUNICIPAL DE GOIANA
C2: SECRETARIA DE DESENVOLVIMENTO URBANO E OBRAS
A3: CONTRATAÇÃO DE EMPRESA ESPECIALIZADA EM ENGENHARIA PARA EXECUÇÃO DE MURETAS PARA CONTENÇÃO E ISOLAMENTO DO RESERVATÓRIO DE ÁGUA DO POVOADO DE SÃO LOURENÇO, DISTRITO DE GOIANA/PE.
A4: BDI PARA CONSTRUÇÃO (NÃO DESONERADA) | J4: 0.1858
A5: BDI PARA CONSTRUÇÃO (DESONERADA) | J5: 0.2207
A6: RESUMO DA PROPOSTA MAIS VANTAJOSA
A7: 1.0 | B7: PLANILHA DE QUANTITATIVOS E ESTIMATIVA DE PREÇOS - DESONERADA | H7: VALOR DA PROPOSTA | J7: 546223.24
H8: quinhentos e quarenta e seis mil, duzentos e vinte e três reais e vinte e quatro centavos.
A9: 2.0 | B9: PLANILHA DE QUANTITATIVOS E ESTIMATIVA DE PREÇOS - NÃO DESONERADA | H9: VALOR DA PROPOSTA | J9: 544770.29 | K9: =J7-J9 -> 1452.95
H10: quinhentos e quarenta e quatro mil, setecentos e setenta reais e vinte e nove centavos.
A11: FOI ESCOLHIDO O ORÇAMENTO UTILIZANDO AS TABELAS DE REFERÊNCIA NÃO DESONERADA POR APRESENTAR VALOR GLOBAL MAIS VANTAJOSOS PARA O MUNICÍPIO. PROPORCIONANDO UMA ECONOMIA DE R$ 1.452,95.

Sheet Orçamento NÃO DESONERADO (2)
D1: Obra | E1: Bancos | G1: B.D.I. | I1: Encargos Sociais
D2: CONTRATAÇÃO DE EMPRESA ESPECIALIZADA EM ENGENHARIA PARA EXECUÇÃO DE MURETAS PARA CONTENÇÃO E ISOLAMENTO DO RESERVATÓRIO DE ÁGUA DO POVOADO DE SÃO LOURENÇO, DISTRITO DE GOIANA/PE. | E2: SINAPI - 04/2026 - Pernambuco ORSE - 02/2026 - Sergipe SEINFRA - 028 - Ceará | G2: 18,58% | I2: Não Desonerado: embutido nos preços unitário dos insumos de mão de obra, de acordo com as bases.
A3: Orçamento Sintético Não Desonerado
A4: Item | B4: Código | C4: Banco | D4: Descrição | E4: Und | F4: Quant. | G4: Valor Unit | H4: Valor Unit com BDI | I4: Total | J4: Peso (%)
A5: 1 | D5: ADMINISTRAÇÃO LOCAL | I5: =I6+I7 -> 42375.87 | J5: =I5/$H$141 -> 0.077786676
A6: 1.1 | B6: 90777 | C6: SINAPI | D6: ENGENHEIRO CIVIL DE OBRA JUNIOR COM ENCARGOS COMPLEMENTARES | E6: H | F6: 44.88 | G6: 141.74 | H6: 168.07 | I6: =TRUNC(H6*F6,2) -> 7542.98
A7: 1.2 | B7: 90776 | C7: SINAPI | D7: ENCARREGADO GERAL COM ENCARGOS COMPLEMENTARES | E7: H | F7: 672.32 | G7: 43.7 | H7: 51.81 | I7: =TRUNC(H7*F7,2) -> 34832.89
A8: 2 | D8: SERVIÇOS PRELIMINARES | I8: =SUM(I9:I20) -> 100959.88 | J8: =I8/$H$141 -> 0.1853256
A9: 2.1 | B9: 103689 | C9: SINAPI | D9: FORNECIMENTO E INSTALAÇÃO DE PLACA DE OBRA COM CHAPA GALVANIZADA E ESTRUTURA DE MADEIRA. AF_03/2022_PS | E9: m² | F9: 6 | G9: 502.34 | H9: 595.67 | I9: =TRUNC(H9*F9,2) -> 3574.02
A10: 2.2 | B10: 98525 | C10: SINAPI | D10: LIMPEZA MECANIZADA DE CAMADA VEGETAL, VEGETAÇÃO E PEQUENAS ÁRVORES (DIÂMETRO DE TRONCO MENOR QUE 0,20 M), COM TRATOR DE ESTEIRAS. AF_03/2024 | E10: m² | F10: 1041 | G10: 0.7 | H10: 0.83 | I10: =TRUNC(H10*F10,2) -> 864.03
A11: 2.3 | B11: 97622 | C11: SINAPI | D11: DEMOLIÇÃO DE ALVENARIA DE BLOCO FURADO, DE FORMA MANUAL, SEM REAPROVEITAMENTO. AF_09/2023 | E11: m³ | F11: 19.61 | G11: 63.85 | H11: 75.71 | I11: =TRUNC(H11*F11,2) -> 1484.67
A12: 2.4 | B12: 100981 | C12: SINAPI | D12: CARGA, MANOBRA E DESCARGA DE ENTULHO EM CAMINHÃO BASCULANTE 6 M³ - CARGA COM ESCAVADEIRA HIDRÁULICA (CAÇAMBA DE 0,80 M³ / 111 HP) E DESCARGA LIVRE (UNIDADE: M3). AF_02/2026 | E12: m³ | F12: 19.61 | G12: 10.23 | H12: 12.13 | I12: =TRUNC(H12*F12,2) -> 237.86
A13: 2.5 | B13: 90781 | C13: SINAPI | D13: TOPOGRAFO COM ENCARGOS COMPLEMENTARES | E13: H | F13: 176 | G13: 37.34 | H13: 44.27 | I13: =TRUNC(H13*F13,2) -> 7791.52
A14: 2.6 | B14: 88253 | C14: SINAPI | D14: AUXILIAR DE TOPÓGRAFO COM ENCARGOS COMPLEMENTARES | E14: H | F14: 176 | G14: 19.92 | H14: 23.62 | I14: =TRUNC(H14*F14,2) -> 4157.12
A15: 2.7 | B15: 99059 | C15: SINAPI | D15: LOCAÇÃO CONVENCIONAL DE OBRA, UTILIZANDO GABARITO DE TÁBUAS CORRIDAS PONTALETADAS A CADA 2,00M - 2 UTILIZAÇÕES. AF_03/2024 | E15: M | F15: 177.55 | G15: 71.78 | H15: 85.11 | I15: =TRUNC(H15*F15,2) -> 15111.28
A16: 2.8 | B16: 98459 | C16: SINAPI | D16: TAPUME COM TELHA METÁLICA. AF_03/2024 | E16: m² | F16: 339.13 | G16: 100.2 | H16: 118.81 | I16: =TRUNC(H16*F16,2) -> 40292.03
A17: 2.9 | B17: C0002 | C17: SEINFRA | D17: ABRIGO PROVISÓRIO C/1 PAVIMENTO P/ALOJAMENTO E DEPÓSITO | E17: m² | F17: 16 | G17: 1070.19 | H17: 1269.03 | I17: =TRUNC(H17*F17,2) -> 20304.48
A18: 2.10 | B18: C5208 | C18: SEINFRA | D18: LOCAÇÃO DE BANHEIRO QUÍMICO - INCLUSO TRANSPORTE, INSTALAÇÃO E MANUTENÇÃO | E18: UNXMÊS | F18: 4 | G18: 950 | H18: 1126.51 | I18: =TRUNC(H18*F18,2) -> 4506.04
A19: 2.11 | B19: C2850 | C19: SEINFRA | D19: INSTALAÇÕES PROVISÓRIAS DE LUZ , FORÇA,TELEFONE E LÓGICA | E19: UN | F19: 1 | G19: 1676.69 | H19: 1988.21 | I19: =TRUNC(H19*F19,2) -> 1988.21
A20: 2.12 | B20: C3442 | C20: SEINFRA | D20: CAIXA D´ÁGUA EM FYBERGLASS - CAP. 1000L | E20: UN | F20: 1 | G20: 546.99 | H20: 648.62 | I20: =TRUNC(H20*F20,2) -> 648.62
A21: 3 | D21: MURETA 1 | I21: =SUM(I22:I30) -> 44835.83 | J21: =I21/$H$141 -> 0.082302267
A22: 3.1 | B22: 96527 | C22: SINAPI | D22: ESCAVAÇÃO MANUAL PARA VIGA BALDRAME OU SAPATA CORRIDA (INCLUINDO ESCAVAÇÃO PARA COLOCAÇÃO DE FÔRMAS). AF_01/2024 | E22: m³ | F22: 25.99 | G22: 115.32 | H22: 136.74 | I22: =TRUNC(H22*F22,2) -> 3553.87
A23: 3.2 | B23: 96619 | C23: SINAPI | D23: LASTRO DE CONCRETO MAGRO, APLICADO EM BLOCOS DE COROAMENTO OU SAPATAS, ESPESSURA DE 5 CM. AF_01/2024 | E23: m² | F23: 13.2 | G23: 44.44 | H23: 52.69 | I23: =TRUNC(H23*F23,2) -> 695.5
A24: 3.3 | B24: 96532 | C24: SINAPI | D24: FABRICAÇÃO, MONTAGEM E DESMONTAGEM DE FÔRMA PARA SAPATA, EM MADEIRA SERRADA, E=25 MM, 2 UTILIZAÇÕES. AF_01/2024 | E24: m² | F24: 52.8 | G24: 201.39 | H24: 238.8 | I24: =TRUNC(H24*F24,2) -> 12608.64
A25: 3.4 | B25: 104916 | C25: SINAPI | D25: ARMAÇÃO DE SAPATA ISOLADA, VIGA BALDRAME E SAPATA CORRIDA UTILIZANDO AÇO CA-60 DE 5 MM - MONTAGEM. AF_01/2024 | E25: KG | F25: 80.26 | G25: 16.77 | H25: 19.88 | I25: =TRUNC(H25*F25,2) -> 1595.56
A26: 3.5 | B26: 104919 | C26: SINAPI | D26: ARMAÇÃO DE SAPATA ISOLADA, VIGA BALDRAME E SAPATA CORRIDA UTILIZANDO AÇO CA-50 DE 10 MM - MONTAGEM. AF_01/2024 | E26: KG | F26: 166.32 | G26: 12.38 | H26: 14.68 | I26: =TRUNC(H26*F26,2) -> 2441.57
A27: 3.6 | B27: 96557 | C27: SINAPI | D27: CONCRETAGEM DE BLOCO DE COROAMENTO OU VIGA BALDRAME, FCK 30 MPA, COM USO DE BOMBA - LANÇAMENTO, ADENSAMENTO E ACABAMENTO. AF_01/2024 | E27: m³ | F27: 5.28 | G27: 800.44 | H27: 949.16 | I27: =TRUNC(H27*F27,2) -> 5011.56
A28: 3.7 | B28: 98557 | C28: SINAPI | D28: IMPERMEABILIZAÇÃO DE SUPERFÍCIE COM EMULSÃO ASFÁLTICA, 2 DEMÃOS. AF_09/2023 | E28: m² | F28: 66 | G28: 46.95 | H28: 55.67 | I28: =TRUNC(H28*F28,2) -> 3674.22
A29: 3.8 | B29: 102362 | C29: SINAPI | D29: ALAMBRADO PARA QUADRA POLIESPORTIVA, ESTRUTURADO POR TUBOS DE AÇO GALVANIZADO, (MONTANTES COM DIÂMETRO 2", TRAVESSAS E ESCORAS COM DIÂMETRO 1 ¼"), COM TELA DE ARAME GALVANIZADO, FIO 14 BWG E MALHA QUADRADA 5X5CM (EXCETO MURETA). AF_12/2025 | E29: m² | F29: 66 | G29: 142.21 | H29: 168.63 | I29: =TRUNC(H29*F29,2) -> 11129.58
A30: 3.9 | B30: 89470 | C30: SINAPI | D30: ALVENARIA DE BLOCOS DE CONCRETO ESTRUTURAL 14X19X39 CM (ESPESSURA 14 CM), FBK = 4,5 MPA, UTILIZANDO COLHER DE PEDREIRO. AF_10/2022 | E30: m² | F30: 33 | G30: 105.43 | H30: 125.01 | I30: =TRUNC(H30*F30,2) -> 4125.33
A31: 4 | D31: MURETA 2 | I31: =SUM(I32:I41) -> 25481.2 | J31: =I31/$H$141 -> 0.04677421
A32: 4.1 | B32: 96527 | C32: SINAPI | D32: ESCAVAÇÃO MANUAL PARA VIGA BALDRAME OU SAPATA CORRIDA (INCLUINDO ESCAVAÇÃO PARA COLOCAÇÃO DE FÔRMAS). AF_01/2024 | E32: m³ | F32: 14.38 | G32: 115.32 | H32: 136.74 | I32: =TRUNC(H32*F32,2) -> 1966.32
A33: 4.2 | B33: 96619 | C33: SINAPI | D33: LASTRO DE CONCRETO MAGRO, APLICADO EM BLOCOS DE COROAMENTO OU SAPATAS, ESPESSURA DE 5 CM. AF_01/2024 | E33: m² | F33: 7.3 | G33: 44.44 | H33: 52.69 | I33: =TRUNC(H33*F33,2) -> 384.63
A34: 4.3 | B34: 96532 | C34: SINAPI | D34: FABRICAÇÃO, MONTAGEM E DESMONTAGEM DE FÔRMA PARA SAPATA, EM MADEIRA SERRADA, E=25 MM, 2 UTILIZAÇÕES. AF_01/2024 | E34: m² | F34: 29.2 | G34: 201.39 | H34: 238.8 | I34: =TRUNC(H34*F34,2) -> 6972.96
A35: 4.4 | B35: 104916 | C35: SINAPI | D35: ARMAÇÃO DE SAPATA ISOLADA, VIGA BALDRAME E SAPATA CORRIDA UTILIZANDO AÇO CA-60 DE 5 MM - MONTAGEM. AF_01/2024 | E35: KG | F35: 44.38 | G35: 16.77 | H35: 19.88 | I35: =TRUNC(H35*F35,2) -> 882.27
A36: 4.5 | B36: 104919 | C36: SINAPI | D36: ARMAÇÃO DE SAPATA ISOLADA, VIGA BALDRAME E SAPATA CORRIDA UTILIZANDO AÇO CA-50 DE 10 MM - MONTAGEM. AF_01/2024 | E36: KG | F36: 91.98 | G36: 12.38 | H36: 14.68 | I36: =TRUNC(H36*F36,2) -> 1350.26
A37: 4.6 | B37: 96557 | C37: SINAPI | D37: CONCRETAGEM DE BLOCO DE COROAMENTO OU VIGA BALDRAME, FCK 30 MPA, COM USO DE BOMBA - LANÇAMENTO, ADENSAMENTO E ACABAMENTO. AF_01/2024 | E37: m³ | F37: 2.92 | G37: 800.44 | H37: 949.16 | I37: =TRUNC(H37*F37,2) -> 2771.54
A38: 4.7 | B38: 98557 | C38: SINAPI | D38: IMPERMEABILIZAÇÃO DE SUPERFÍCIE COM EMULSÃO ASFÁLTICA, 2 DEMÃOS. AF_09/2023 | E38: m² | F38: 36.5 | G38: 46.95 | H38: 55.67 | I38: =TRUNC(H38*F38,2) -> 2031.95
A39: 4.8 | B39: 102362 | C39: SINAPI | D39: ALAMBRADO PARA QUADRA POLIESPORTIVA, ESTRUTURADO POR TUBOS DE AÇO GALVANIZADO, (MONTANTES COM DIÂMETRO 2", TRAVESSAS E ESCORAS COM DIÂMETRO 1 ¼"), COM TELA DE ARAME GALVANIZADO, FIO 14 BWG E MALHA QUADRADA 5X5CM (EXCETO MURETA). AF_12/2025 | E39: m² | F39: 36.5 | G39: 142.21 | H39: 168.63 | I39: =TRUNC(H39*F39,2) -> 6154.99
A40: 4.9 | B40: 89470 | C40: SINAPI | D40: ALVENARIA DE BLOCOS DE CONCRETO ESTRUTURAL 14X19X39 CM (ESPESSURA 14 CM), FBK = 4,5 MPA, UTILIZANDO COLHER DE PEDREIRO. AF_10/2022 | E40: m² | F40: 18.25 | G40: 105.43 | H40: 125.01 | I40: =TRUNC(H40*F40,2) -> 2281.43
...

Sheet BDI N DES
D1: Obra | E1: Bancos | F1: B.D.I. | I1: Encargos Sociais
D2: CONTRATAÇÃO DE EMPRESA ESPECIALIZADA EM ENGENHARIA PARA EXECUÇÃO DE MURETAS PARA CONTENÇÃO E ISOLAMENTO DO RESERVATÓRIO DE ÁGUA DO POVOADO DE SÃO LOURENÇO, DISTRITO DE GOIANA/PE. | E2: SINAPI - 04/2026 - Pernambuco ORSE - 02/2026 - Sergipe SEINFRA - 028 - Ceará | F2: 18,58% | I2: Não Desonerado: embutido nos preços unitário dos insumos de mão de obra, de acordo com as bases.
A3: BDI - BDI ATUALIZADO 2026 NÃO DESONERADO
A4: GRUPO A | B4: TAXA ADMINISTRATIVA DA ADMINISTRAÇÃO CENTRAL
A5: 1 | B5: Administração Central | L5: 3,00%
B6: Total do Grupo | L6: 3,00%
A7: GRUPO B | B7: TAXA REPRESENTATIVA DOS RISCOS
A8: 1 | B8: Riscos | L8: 0,97%
B9: Total do Grupo | L9: 0,97%
A10: GRUPO C | B10: TAXA REPRESENTATIVA SEGURO GARANTIA
A11: 1 | B11: Risco | L11: 0,80%
B12: Total do Grupo | L12: 0,80%
A13: GRUPO D | B13: TAXA REPRESENTATIVA DAS DESPESAS FINANCEIRAS
A14: 1 | B14: Despesas Financeiras | L14: 0,59%
B15: Total do Grupo | L15: 0,59%
A16: GRUPO E | B16: TAXA REPRESENTATIVA DO LUCRO
A17: 1 | B17: Lucro | L17: 6,16%
B18: Total do Grupo | L18: 6,16%
A19: GRUPO F | B19: TAXA REPRESENTATIVA DA INCIDÊNCIA DOS IMPOSTOS ( SOBRE O FATURAMENTO DA EMPRESA )
A20: 1 | B20: ISS (IMPOSTO SOBRE SERVIÇOS) - MUNICIPAL | L20: 2,00%
A21: 2 | B21: COFINS - FEDERAL | L21: 3,00%
A22: 3 | B22: PIS (PROGRAMA DE INTREGRAÇÃO SOCIAL) - FEDERAL | L22: 0,65%
A23: 4 | B23: CRB -CONTRIBUIÇÂO INSS (DESONERAÇÂO) | L23: 0,00%
B24: Total do Grupo | L24: 5,65%
A26: FÓRMULA PARA O CÁLCULO DO BDI | I26: (((1+A+B+C)*(1+D)*(1+E)/(1-F))-1)
A28: Bonificação sobre despesas indiretas (B.D.I)= | L28: 18,58%

Sheet CPUs (2)
C1: Composições Analíticas com Preço Unitário | E1: Bancos | G1: B.D.I. | I1: Encargos Sociais
C2: CONTRATAÇÃO DE EMPRESA ESPECIALIZADA EM ENGENHARIA PARA EXECUÇÃO DE MURETAS PARA CONTENÇÃO E ISOLAMENTO DO RESERVATÓRIO DE ÁGUA DO POVOADO DE SÃO LOURENÇO, DISTRITO DE GOIANA/PE. | E2: SINAPI - 04/2026 - Pernambuco ORSE - 02/2026 - Sergipe SEINFRA - 028 - Ceará | G2: 18,58% | I2: Não Desonerado: embutido nos preços unitário dos insumos de mão de obra, de acordo com as bases.
A3: Composições Analíticas com Preço Unitário
A4: COMPOSIÇÕES PRÓPRIAS
A6: 10.20 | B6: Código | C6: Banco | D6: Descrição | E6: Tipo | G6: Und | H6: Quant. | I6: Valor Unit | J6: Total
A7: Composição | B7: CP - 466 | C7: Próprio | D7: DISPOSITIVO DE PROTEÇÃO CONTRA SURTOS DE TENSÃO - DPS's - 40 KA/440V | E7: OUTROS ELEMENTOS | G7: UN | H7: 1 | I7: 133.83 | J7: 133.83
A8: Insumo | B8: I8442 | C8: SEINFRA | D8: DISPOSITIVO DE PROTEÇÃO CONTRA SURTOS DE TENSÃO - DPS's - 40 KA/440V - FORNECIMENTO E INSTALAÇÃO | E8: Material | G8: UN | H8: 1 | I8: 133.83 | J8: 133.83
E9: MO sem LS => | F9: 0 | G9: LS => | H9: 0 | I9: MO com LS => | J9: 0
E10: Valor do BDI => | F10: 24.86 | H10: Valor com BDI => | J10: 158.69
A12: 10.21 | B12: Código | C12: Banco | D12: Descrição | E12: Tipo | G12: Und | H12: Quant. | I12: Valor Unit | J12: Total
A13: Composição | B13: 5045 | C13: Próprio | D13: ENTRADA DE ENERGIA ELÉTRICA, AÉREA, TRIFÁSICA, COM CAIXA DE EMBUTIR, CABO DE 16 MM2 E DISJUNTOR DIN 50A (INCLUSO O POSTE DE CONCRETO). | E13: INEL - INSTALAÇÃO ELÉTRICA/ELETRIFICAÇÃO E ILUMINAÇÃO EXTERNA | G13: UND | H13: 1 | I13: 3557.37 | J13: 3557.37
A14: Composição Auxiliar | B14: 100578 | C14: SINAPI | D14: ASSENTAMENTO DE POSTE DE CONCRETO COM COMPRIMENTO NOMINAL DE 9 M, CARGA NOMINAL MENOR OU IGUAL A 1000 DAN, ENGASTAMENTO SIMPLES COM 1,5 M DE SOLO (NÃO INCLUI FORNECIMENTO). AF_04/2025 | E14: Postes de Concreto e Metálicos | G14: UN | H14: 1 | I14: 666.57 | J14: 666.57
A15: Composição Auxiliar | B15: 87367 | C15: SINAPI | D15: ARGAMASSA TRAÇO 1:1:6 (EM VOLUME DE CIMENTO, CAL E AREIA MÉDIA ÚMIDA) PARA EMBOÇO/MASSA ÚNICA/ASSENTAMENTO DE ALVENARIA DE VEDAÇÃO, PREPARO MANUAL. AF_08/2019 | E15: Argamassas | G15: m³ | H15: 0.0194 | I15: 874.7 | J15: 16.96
A16: Composição Auxiliar | B16: 96986 | C16: SINAPI | D16: HASTE DE ATERRAMENTO, DIÂMETRO 3/4", COM 3 METROS - FORNECIMENTO E INSTALAÇÃO. AF_08/2023 | E16: Sistema de Proteção contra Descargas Atmosféricas - SPDA | G16: UN | H16: 1 | I16: 164.26 | J16: 164.26
A17: Composição Auxiliar | B17: 2842 | C17: ORSE | D17: Fornecimento de armação secundária 1 estribo | E17: Fornecimento de Materiais para Redes de Energia Elétrica e Iluminação | G17: un | H17: 1 | I17: 26.08 | J17: 26.08
A18: Composição Auxiliar | B18: 91885 | C18: SINAPI | D18: LUVA PARA ELETRODUTO, PVC, ROSCÁVEL, DN 32 MM (1"), PARA CIRCUITOS TERMINAIS, INSTALADA EM PAREDE - FORNECIMENTO E INSTALAÇÃO. AF_03/2023 | E18: Instalações Elétricas - Eletrodutos Embutidos, Cabos, Caixas, Tomadas e Interruptores | G18: UN | H18: 1 | I18: 14.45 | J18: 14.45
A19: Composição Auxiliar | B19: 88247 | C19: SINAPI | D19: AUXILIAR DE ELETRICISTA COM ENCARGOS COMPLEMENTARES | E19: Livro SINAPI: Cálculos e Parâmetros | G19: H | H19: 0.5238 | I19: 25.7 | J19: 13.46
A20: Composição Auxiliar | B20: 91872 | C20: SINAPI | D20: ELETRODUTO RÍGIDO ROSCÁVEL, PVC, DN 32 MM (1"), PARA CIRCUITOS TERMINAIS, INSTALADO EM PAREDE - FORNECIMENTO E INSTALAÇÃO. AF_03/2023 | E20: Instalações Elétricas - Eletrodutos Embutidos, Cabos, Caixas, Tomadas e Interruptores | G20: M | H20: 6.05 | I20: 19.56 | J20: 118.33
A21: Composição Auxiliar | B21: 93673 | C21: SINAPI | D21: DISJUNTOR TRIPOLAR TIPO DIN, CORRENTE NOMINAL DE 50A - FORNECIMENTO E INSTALAÇÃO. AF_07/2025 | E21: Instalações Elétricas - Quadros, Cabos, Disjuntores, Contatores e Barramentos Blindados | G21: UN | H21: 1 | I21: 107.02 | J21: 107.02
A22: Composição Auxiliar | B22: 104749 | C22: SINAPI | D22: CONECTOR GRAMPO METÁLICO TIPO OLHAL, PARA SPDA, PARA HASTE DE ATERRAMENTO DE 3/4'' E CABOS DE 10 A 50 MM2 - FORNECIMENTO E INSTALAÇÃO. AF_08/2023 | E22: Sistema de Proteção contra Descargas Atmosféricas - SPDA | G22: UN | H22: 1 | I22: 25.18 | J22: 25.18
A23: Composição Auxiliar | B23: 88264 | C23: SINAPI | D23: ELETRICISTA COM ENCARGOS COMPLEMENTARES | E23: Livro SINAPI: Cálculos e Parâmetros | G23: H | H23: 2.619 | I23: 30.42 | J23: 79.66
A24: Composição Auxiliar | B24: 91919 | C24: SINAPI | D24: CURVA 180 GRAUS PARA ELETRODUTO, PVC, ROSCÁVEL, DN 32 MM (1"), PARA CIRCUITOS TERMINAIS, INSTALADA EM PAREDE - FORNECIMENTO E INSTALAÇÃO. AF_03/2023 | E24: Instalações Elétricas - Eletrodutos Embutidos, Cabos, Caixas, Tomadas e Interruptores | G24: UN | H24: 1 | I24: 26.43 | J24: 26.43
... A36: Insumo | B36: 00034643 | C36: SINAPI | D36: CAIXA DE INSPECAO PARA ATERRAMENTO E PARA RAIOS, EM POLIPROPILENO, DIAMETRO = 300 MM X ALTURA = 400 MM (INCLUIDA TAMPA SEM ESCOTILHA) | E36: Material | G36: UN | H36: 1 | I36: 46.57 | J36: 46.57
E37: MO sem LS => | F37: 459.33 | G37: LS => | H37: 0 | I37: MO com LS => | J37: 459.33
E38: Valor do BDI => | F38: 660.95 | H38: Valor com BDI => | J38: 4218.32

Sheet MEMÓRIA DE CÁLCULO
B1: ='Orçamento NÃO DESONERADO (2)'!D1 -> Obra | C1: Bancos
B2: ='Orçamento NÃO DESONERADO (2)'!D2 -> CONTRATAÇÃO DE EMPRESA ESPECIALIZADA EM ENGENHARIA PARA EXECUÇÃO DE MURETAS PARA CONTENÇÃO E ISOLAMENTO DO RESERVATÓRIO DE ÁGUA DO POVOADO DE SÃO LOURENÇO, DISTRITO DE GOIANA/PE. | C2: SINAPI - 04/2026 - Pernambuco ORSE - 02/2026 - Sergipe SEINFRA - 028 - Ceará
A3: Memória de Cálculo
A4: Item | B4: Descrição | C4: Und | D4: Quant. | E4: Memória de Cálculo
A5: ='Orçamento NÃO DESONERADO (2)'!A5 -> 1 | B5: ='Orçamento NÃO DESONERADO (2)'!D5 -> ADMINISTRAÇÃO LOCAL
A6: ='Orçamento NÃO DESONERADO (2)'!A6 -> 1.1 | B6: ='Orçamento NÃO DESONERADO (2)'!D6 -> ENGENHEIRO CIVIL DE OBRA JUNIOR COM ENCARGOS COMPLEMENTARES | C6: ='Orçamento NÃO DESONERADO (2)'!E6 -> H | D6: ='Orçamento NÃO DESONERADO (2)'!F6 -> 44.88 | E6: = Horas x Dias x nº meses = Total = 0,51* 22 * 4 = 44,88 HORAS
A7: ='Orçamento NÃO DESONERADO (2)'!A7 -> 1.2 | B7: ='Orçamento NÃO DESONERADO (2)'!D7 -> ENCARREGADO GERAL COM ENCARGOS COMPLEMENTARES | C7: ='Orçamento NÃO DESONERADO (2)'!E7 -> H | D7: ='Orçamento NÃO DESONERADO (2)'!F7 -> 672.32 | E7: = Horas x Dias x nº meses = Total =7,64 * 22 * 4 = 672,32 HORAS
A8: ='Orçamento NÃO DESONERADO (2)'!A8 -> 2 | B8: ='Orçamento NÃO DESONERADO (2)'!D8 -> SERVIÇOS PRELIMINARES
A9: ='Orçamento NÃO DESONERADO (2)'!A9 -> 2.1 | B9: ='Orçamento NÃO DESONERADO (2)'!D9 -> FORNECIMENTO E INSTALAÇÃO DE PLACA DE OBRA COM CHAPA GALVANIZADA E ESTRUTURA DE MADEIRA. AF_03/2022_PS | C9: ='Orçamento NÃO DESONERADO (2)'!E9 -> m² | D9: ='Orçamento NÃO DESONERADO (2)'!F9 -> 6 | E9: = 3 m x 2 m = 6 m²
A10: ='Orçamento NÃO DESONERADO (2)'!A10 -> 2.2 | B10: ='Orçamento NÃO DESONERADO (2)'!D10 -> LIMPEZA MECANIZADA DE CAMADA VEGETAL, VEGETAÇÃO E PEQUENAS ÁRVORES (DIÂMETRO DE TRONCO MENOR QUE 0,20 M), COM TRATOR DE ESTEIRAS. AF_03/2024 | C10: ='Orçamento NÃO DESONERADO (2)'!E10 -> m² | D10: ='Orçamento NÃO DESONERADO (2)'!F10 -> 1041 | E10: = ÁREA DAS MURETAS 01,02 E 03 + CASA DE MÁQUINAS = 484,20 + 256,50+285,86+ 14,44 = 1.041,00 m²
A11: ='Orçamento NÃO DESONERADO (2)'!A11 -> 2.3 | B11: ='Orçamento NÃO DESONERADO (2)'!D11 -> DEMOLIÇÃO DE ALVENARIA DE BLOCO FURADO, DE FORMA MANUAL, SEM REAPROVEITAMENTO. AF_09/2023 | C11: ='Orçamento NÃO DESONERADO (2)'!E11 -> m³ | D11: ='Orçamento NÃO DESONERADO (2)'!F11 -> 19.61 | E11: VOLUME DA CASA DE MÁQUINA EXISTENTE DA MURETA 3 = CONSIDERE DIÂMETRO DE 3,25 E H = 2,20 m. Vcírculo = π r² h (V= 3,14 . (1,63) ² * 2,20 = 1,26 m³) = 18,35 m³ VOLUME DA LAJE DA CASA DE MÁQUINA = CONSIDERE A ESPESSURA DA LAJE DE 12 CM E DIÂMETRO DE 3,65 Vcírculo = π r² h (V= 3,14 . (1,83) ²*0,12 = 1,26 m³) TOTAL = 18,35 + 1,26 = 19,61 m³
A12: ='Orçamento NÃO DESONERADO (2)'!A12 -> 2.4 | B12: ='Orçamento NÃO DESONERADO (2)'!D12 -> CARGA, MANOBRA E DESCARGA DE ENTULHO EM CAMINHÃO BASCULANTE 6 M³ - CARGA COM ESCAVADEIRA HIDRÁULICA (CAÇAMBA DE 0,80 M³ / 111 HP) E DESCARGA LIVRE (UNIDADE: M3). AF_02/2026 | C12: ='Orçamento NÃO DESONERADO (2)'!E12 -> m³ | D12: ='Orçamento NÃO DESONERADO (2)'!F12 -> 19.61 | E12: VOLUME DA CASA DE MÁQUINA EXISTENTE DA MURETA 3 = CONSIDERE DIÂMETRO DE 3,25 E H = 2,20 m. Vcírculo = π r² h (V= 3,14 . (1,63) ² * 2,20 = 1,26 m³) = 18,35 m³ VOLUME DA LAJE DA CASA DE MÁQUINA = CONSIDERE A ESPESSURA DA LAJE DE 12 CM E DIÂMETRO DE 3,65 Vcírculo = π r² h (V= 3,14 . (1,83) ²*0,12 = 1,26 m³) TOTAL = 18,35 + 1,26 = 19,61 m³
A13: ='Orçamento NÃO DESONERADO (2)'!A13 -> 2.5 | B13: ='Orçamento NÃO DESONERADO (2)'!D13 -> TOPOGRAFO COM ENCARGOS COMPLEMENTARES | C13: ='Orçamento NÃO DESONERADO (2)'!E13 -> H | D13: ='Orçamento NÃO DESONERADO (2)'!F13 -> 176 | E13: = Horas x Dias x nº meses = Total = 8* 22 * 1 = 16 HORAS
A14: ='Orçamento NÃO DESONERADO (2)'!A14 -> 2.6 | B14: ='Orçamento NÃO DESONERADO (2)'!D14 -> AUXILIAR DE TOPÓGRAFO COM ENCARGOS COMPLEMENTARES | C14: ='Orçamento NÃO DESONERADO (2)'!E14 -> H | D14: ='Orçamento NÃO DESONERADO (2)'!F14 -> 176 | E14: = Horas x Dias x nº meses = Total = 8* 22 * 1 = 16 HORAS
A15: ='Orçamento NÃO DESONERADO (2)'!A15 -> 2.7 | B15: ='Orçamento NÃO DESONERADO (2)'!D15 -> LOCAÇÃO CONVENCIONAL DE OBRA, UTILIZANDO GABARITO DE TÁBUAS CORRIDAS PONTALETADAS A CADA 2,00M - 2 UTILIZAÇÕES. AF_03/2024 | C15: ='Orçamento NÃO DESONERADO (2)'!E15 -> M | D15: ='Orçamento NÃO DESONERADO (2)'!F15 -> 177.55 | E15: = PERÍMETRO DAS MURETAS 01,02 E 03 + CASA DE MÁQUINAS COM AFASTAMENTO DE 1 METRO = 69 m + 38,50 m + 50,85 + 19,20 = 177,55 m (P MURETA 01 = 23 m + 23 m + 23 m = 69 m) (P MURETA 02 = 28 m + 10.50 m = 38.50 m) (P MURETA 03 = 24,10 m + 12,35 m + 14,40 m = 50,85 m) ( P CASA DE MÁQUINAS = 4,80 + 4,80 + 4,80 + 4,80= 19,20 m)
A16: ='Orçamento NÃO DESONERADO (2)'!A16 -> 2.8 | B16: ='Orçamento NÃO DESONERADO (2)'!D16 -> TAPUME COM TELHA METÁLICA. AF_03/2024 | C16: ='Orçamento NÃO DESONERADO (2)'!E16 -> m² | D16: ='Orçamento NÃO DESONERADO (2)'!F16 -> 339.13 | E16: PERÍMETRO * ALTURA MURETA 1 (66 * 2.20 = 145,20 m²) MURETA 2 = ((9,50+27) * 2.20)) = 80,30 m² MURETA 3 = ((11,35+23,10+13,40 + 3,80) * 2.20 =113,63 m² TOTAL = 145,20 + 80,30 + 113,63= 339,13 m²
A17: ='Orçamento NÃO DESONERADO (2)'!A17 -> 2.9 | B17: ='Orçamento NÃO DESONERADO (2)'!D17 -> ABRIGO PROVISÓRIO C/1 PAVIMENTO P/ALOJAMENTO E DEPÓSITO | C17: ='Orçamento NÃO DESONERADO (2)'!E17 -> m² | D17: ='Orçamento NÃO DESONERADO (2)'!F17 -> 16 | E17: 4 m * 4 m = 16 m²
A18: ='Orçamento NÃO DESONERADO (2)'!A18 -> 2.10 | B18: ='Orçamento NÃO DESONERADO (2)'!D18 -> LOCAÇÃO DE BANHEIRO QUÍMICO - INCLUSO TRANSPORTE, INSTALAÇÃO E MANUTENÇÃO | C18: ='Orçamento NÃO DESONERADO (2)'!E18 -> UNXMÊS | D18: ='Orçamento NÃO DESONERADO (2)'!F18 -> 4 | E18: = PERÍODO DE EXECUÇÃO DA OBRA
A19: ='Orçamento NÃO DESONERADO (2)'!A19 -> 2.11 | B19: ='Orçamento NÃO DESONERADO (2)'!D19 -> INSTALAÇÕES PROVISÓRIAS DE LUZ , FORÇA,TELEFONE E LÓGICA | C19: ='Orçamento NÃO DESONERADO (2)'!E19 -> UN | D19: ='Orçamento NÃO DESONERADO (2)'!F19 -> 1 | E19: 1 UNIDADE
A20: ='Orçamento NÃO DESONERADO (2)'!A20 -> 2.12 | B20: ='Orçamento NÃO DESONERADO (2)'!D20 -> CAIXA D´ÁGUA EM FYBERGLASS - CAP. 1000L | C20: ='Orçamento NÃO DESONERADO (2)'!E20 -> UN | D20: ='Orçamento NÃO DESONERADO (2)'!F20 -> 1 | E20: 1 UNIDADE
A21: ='Orçamento NÃO DESONERADO (2)'!A21 -> 3 | B21: ='Orçamento NÃO DESONERADO (2)'!D21 -> MURETA 1
A22: ='Orçamento NÃO DESONERADO (2)'!A22 -> 3.1 | B22: ='Orçamento NÃO DESONERADO (2)'!D22 -> ESCAVAÇÃO MANUAL PARA VIGA BALDRAME OU SAPATA CORRIDA (INCLUINDO ESCAVAÇÃO PARA COLOCAÇÃO DE FÔRMAS). AF_01/2024 | C22: ='Orçamento NÃO DESONERADO (2)'!E22 -> m³ | D22: ='Orçamento NÃO DESONERADO (2)'!F22 -> 25.99 | E22: VIGA BALDRAME = (0,05 DE CONCRETO MAGRO + 0,40 DE PROFUNDIDADE ) * ( 0,20 DA LARGURA REAL + 0,50 DE FOLGA PARA COLOCAÇÃO DAS FORMAS, CONSIDERANDO 25 CM PARA CADA LADO) * COMPRIMENTO DA VIGA MURETA 01 = (V1, V2 E V3 = 3*((0,05+0.40) *( 0,20 + 0.50) * 22)) = 20,79 m³ * 25% DE EMPOLAMENTO = 25,99 m³
A23: ='Orçamento NÃO DESONERADO (2)'!A23 -> 3.2 | B23: ='Orçamento NÃO DESONERADO (2)'!D23 -> LASTRO DE CONCRETO MAGRO, APLICADO EM BLOCOS DE COROAMENTO OU SAPATAS, ESPESSURA DE 5 CM. AF_01/2024 | C23: ='Orçamento NÃO DESONERADO (2)'!E23 -> m² | D23: ='Orçamento NÃO DESONERADO (2)'!F23 -> 13.2 | E23: (COMP. DAS VIGAS BALDRAMES * (LARG.DA VIGA) MURETA 1 = ( 22+22+22 ) = 66 * (0.20) = 13,20 m²)
A24: ='Orçamento NÃO DESONERADO (2)'!A24 -> 3.3 | B24: ='Orçamento NÃO DESONERADO (2)'!D24 -> FABRICAÇÃO, MONTAGEM E DESMONTAGEM DE FÔRMA PARA SAPATA, EM MADEIRA SERRADA, E=25 MM, 2 UTILIZAÇÕES. AF_01/2024 | C24: ='Orçamento NÃO DESONERADO (2)'!E24 -> m² | D24: ='Orçamento NÃO DESONERADO (2)'!F24 -> 52.8 | E24: CÁLCULO: FÔRMAS = COMP DA VIGA * N° DE FACES * PROFUNDIDADE MURETA 01 = (VIGA1 = 22* 2 * 0.40= 17,60 m²) + (VIGA 2 = 22*2*0.40= 17,60 m²)+(VIGA 3 = 22*2*0.40= 17,60 m²) = 52,80 m²
A25: ='Orçamento NÃO DESONERADO (2)'!A25 -> 3.4 | B25: ='Orçamento NÃO DESONERADO (2)'!D25 -> ARMAÇÃO DE SAPATA ISOLADA, VIGA BALDRAME E SAPATA CORRIDA UTILIZANDO AÇO CA-60 DE 5 MM - MONTAGEM. AF_01/2024 | C25: ='Orçamento NÃO DESONERADO (2)'!E25 -> KG | D25: ='Orçamento NÃO DESONERADO (2)'!F25 -> 80.26 | E25: PARA O CÁLCULO FOU UTILIZADO ESPAÇAMEMTO DE 0,15 m E COBRIMENTO DE 0,03 m, ESTRIBO COM COMPRIMENTO DE 1,14 m CADA. CÁLCULO: COMPRIMENTO DO ESTRIBO(*QUIANTIDADE(COMPRIMENTO DA BARRA/ESPAÇAMENTO)) * PESO DA BARRA POR METRO). MURETA 1 (V1,V2,V3) = 3*((1,14*(22/0,15)*0,16)= 80,26 KG
A26: ='Orçamento NÃO DESONERADO (2)'!A26 -> 3.5 | B26: ='Orçamento NÃO DESONERADO (2)'!D26 -> ARMAÇÃO DE SAPATA ISOLADA, VIGA BALDRAME E SAPATA CORRIDA UTILIZANDO AÇO CA-50 DE 10 MM - MONTAGEM. AF_01/2024 | C26: ='Orçamento NÃO DESONERADO (2)'!E26 -> KG | D26: ='Orçamento NÃO DESONERADO (2)'!F26 -> 166.32 | E26: CÁLCULO: COMPRIMENTO * QUANTIDADE DE BARRAS POR VIGA * PESO POR METRO MURETA 1 = 3 *((22*4*(0,63)) = 166,32 KG
A27: ='Orçamento NÃO DESONERADO (2)'!A27 -> 3.6 | B27: ='Orçamento NÃO DESONERADO (2)'!D27 -> CONCRETAGEM DE BLOCO DE COROAMENTO OU VIGA BALDRAME, FCK 30 MPA, COM USO DE BOMBA - LANÇAMENTO, ADENSAMENTO E ACABAMENTO. AF_01/2024 | C27: ='Orçamento NÃO DESONERADO (2)'!E27 -> m³ | D27: ='Orçamento NÃO DESONERADO (2)'!F27 -> 5.28 | E27: CÁLCULO: (COMP. DAS VIGAS BALDRAMES * (LARG.DA VIGA )* ALTURA MURETA 1 = ( 22+22+22 ) = (66 * 0.20.0.40) = 5,28 m³
A28: ='Orçamento NÃO DESONERADO (2)'!A28 -> 3.7 | B28: ='Orçamento NÃO DESONERADO (2)'!D28 -> IMPERMEABILIZAÇÃO DE SUPERFÍCIE COM EMULSÃO ASFÁLTICA, 2 DEMÃOS. AF_09/2023 | C28: ='Orçamento NÃO DESONERADO (2)'!E28 -> m² | D28: ='Orçamento NÃO DESONERADO (2)'!F28 -> 66 | E28: IMPERMEABILIZAÇÃO BALDRAMES - PARA O CÁLCULO:(ALTURA*2 + LARGURA) * COMPRIMENTO DA VIGA. MURETA 1 = V01,V02 E V03 = 3 * ((0,40 * 2 + 0,20) * 22) = 66 m²
A29: ='Orçamento NÃO DESONERADO (2)'!A29 -> 3.8 | B29: ='Orçamento NÃO DESONERADO (2)'!D29 -> ALAMBRADO PARA QUADRA POLIESPORTIVA, ESTRUTURADO POR TUBOS DE AÇO GALVANIZADO, (MONTANTES COM DIÂMETRO 2", TRAVESSAS E ESCORAS COM DIÂMETRO 1 ¼"), COM TELA DE ARAME GALVANIZADO, FIO 14 BWG E MALHA QUADRADA 5X5CM (EXCETO MURETA). AF_12/2025 | C29: ='Orçamento NÃO DESONERADO (2)'!E29 -> m² | D29: ='Orçamento NÃO DESONERADO (2)'!F29 -> 66 | E29: MURETA 1 ( 3 *( 22*1)) = 66 m²
A30: ='Orçamento NÃO DESONERADO (2)'!A30 -> 3.9 | B30: ='Orçamento NÃO DESONERADO (2)'!D30 -> ALVENARIA DE BLOCOS DE CONCRETO ESTRUTURAL 14X19X39 CM (ESPESSURA 14 CM), FBK = 4,5 MPA, UTILIZANDO COLHER DE PEDREIRO. AF_10/2022 | C30: ='Orçamento NÃO DESONERADO (2)'!E30 -> m² | D30: ='Orçamento NÃO DESONERADO (2)'!F30 -> 33 | E30: PERÍMETRO * ALTURA MURETA 1 (66 * 0.50 = 33 m²)
A31: ='Orçamento NÃO DESONERADO (2)'!A31 -> 4 | B31: ='Orçamento NÃO DESONERADO (2)'!D31 -> MURETA 2
A32: ='Orçamento NÃO DESONERADO (2)'!A32 -> 4.1 | B32: ='Orçamento NÃO DESONERADO (2)'!D32 -> ESCAVAÇÃO MANUAL PARA VIGA BALDRAME OU SAPATA CORRIDA (INCLUINDO ESCAVAÇÃO PARA COLOCAÇÃO DE FÔRMAS). AF_01/2024 | C32: ='Orçamento NÃO DESONERADO (2)'!E32 -> m³ | D32: ='Orçamento NÃO DESONERADO (2)'!F32 -> 14.38 | E32: VIGA BALDRAME = (0,05 DE CONCRETO MAGRO + 0,40 DE PROFUNDIDADE ) * ( 0,20 DA LARGURA REAL + 0,50 DE FOLGA PARA COLOCAÇÃO DAS FORMAS, CONSIDERANDO 25 CM PARA CADA LADO) * COMPRIMENTO DA VIGA MURETA 02 = (V1 = ((0,05 + 0.40) * (0.20 + 0,50) * 9.50)) = 2,99 m³ + (V2= ((0,05 + 0.40) *( 0,20 + 0.50)*27)) = 8,51 m³ = 11,50m³ * 25 % DE EMPOLAMENTO = 14,38 m³
A33: ='Orçamento NÃO DESONERADO (2)'!A33 -> 4.2 | B33: ='Orçamento NÃO DESONERADO (2)'!D33 -> LASTRO DE CONCRETO MAGRO, APLICADO EM BLOCOS DE COROAMENTO OU SAPATAS, ESPESSURA DE 5 CM. AF_01/2024 | C33: ='Orçamento NÃO DESONERADO (2)'!E33 -> m² | D33: ='Orçamento NÃO DESONERADO (2)'!F33 -> 7.3 | E33: (COMP. DAS VIGAS BALDRAMES * (LARG.DA VIGA) MURETA 02 ((9,50+27)*(0.20) = 7.30 m²
A34: ='Orçamento NÃO DESONERADO (2)'!A34 -> 4.3 | B34: ='Orçamento NÃO DESONERADO (2)'!D34 -> FABRICAÇÃO, MONTAGEM E DESMONTAGEM DE FÔRMA PARA SAPATA, EM MADEIRA SERRADA, E=25 MM, 2 UTILIZAÇÕES. AF_01/2024 | C34: ='Orçamento NÃO DESONERADO (2)'!E34 -> m² | D34: ='Orçamento NÃO DESONERADO (2)'!F34 -> 29.2 | E34: CÁLCULO: FÔRMAS = COMP DA VIGA * N° DE FACES * PROFUNDIDADE MURETA 02 = (VIGA1 = 9,50 *2*0,40 =7,60 m² )+ (VIGA2 = 27*2*0,40 = 21,60 m²) = 29.2 m²
A35: ='Orçamento NÃO DESONERADO (2)'!A35 -> 4.4 | B35: ='Orçamento NÃO DESONERADO (2)'!D35 -> ARMAÇÃO DE SAPATA ISOLADA, VIGA BALDRAME E SAPATA CORRIDA UTILIZANDO AÇO CA-60 DE 5 MM - MONTAGEM. AF_01/2024 | C35: ='Orçamento NÃO DESONERADO (2)'!E35 -> KG | D35: ='Orçamento NÃO DESONERADO (2)'!F35 -> 44.38 | E35: PARA O CÁLCULO FOU UTILIZADO ESPAÇAMEMTO DE 0,15 m E COBRIMENTO DE 0,03 m, ESTRIBO COM COMPRIMENTO DE 1,14 m CADA. CÁLCULO: COMPRIMENTO DO ESTRIBO(*QUIANTIDADE(COMPRIMENTO DA BARRA/ESPAÇAMENTO)) * PESO DA BARRA POR METRO). MURETA 2 V1 = (1,14*(9,50/0,15)*(0,16))= 11,55 KG V2 =(1,14*(27/0,15)*(0,16)) = 32,83 KG (44,38 KG)
A36: ='Orçamento NÃO DESONERADO (2)'!A36 -> 4.5 | B36: ='Orçamento NÃO DESONERADO (2)'!D36 -> ARMAÇÃO DE SAPATA ISOLADA, VIGA BALDRAME E SAPATA CORRIDA UTILIZANDO AÇO CA-50 DE 10 MM - MONTAGEM. AF_01/2024 | C36: ='Orçamento NÃO DESONERADO (2)'!E36 -> KG | D36: ='Orçamento NÃO DESONERADO (2)'!F36 -> 91.98 | E36: CÁLCULO: COMPRIMENTO * QUANTIDADE DE BARRAS POR VIGA * PESO POR METRO MURETA 2 = ((9,50 + 27) * 4 * (0,63)) = 91,98 KG
A37: ='Orçamento NÃO DESONERADO (2)'!A37 -> 4.6 | B37: ='Orçamento NÃO DESONERADO (2)'!D37 -> CONCRETAGEM DE BLOCO DE COROAMENTO OU VIGA BALDRAME, FCK 30 MPA, COM USO DE BOMBA - LANÇAMENTO, ADENSAMENTO E ACABAMENTO. AF_01/2024 | C37: ='Orçamento NÃO DESONERADO (2)'!E37 -> m³ | D37: ='Orçamento NÃO DESONERADO (2)'!F37 -> 2.92 | E37: CÁLCULO: (COMP. DAS VIGAS BALDRAMES * (LARG.DA VIGA )* ALTURA MURETA 02 ((9,50+27)*0,20* 0.40) = 2,92 m³
A38: ='Orçamento NÃO DESONERADO (2)'!A38 -> 4.7 | B38: ='Orçamento NÃO DESONERADO (2)'!D38 -> IMPERMEABILIZAÇÃO DE SUPERFÍCIE COM EMULSÃO ASFÁLTICA, 2 DEMÃOS. AF_09/2023 | C38: ='Orçamento NÃO DESONERADO (2)'!E38 -> m² | D38: ='Orçamento NÃO DESONERADO (2)'!F38 -> 36.5 | E38: IMPERMEABILIZAÇÃO BALDRAMES - PARA O CÁLCULO:(ALTURA*2 + LARGURA) * COMPRIMENTO DA VIGA. MURETA 2= V01 = ((0,40*2 +0,20) * 9,50) = 9,50 m² + V02 = ((0,40*2 +0,20) *27) = 27 m² = 36,50 m²
A39: ='Orçamento NÃO DESONERADO (2)'!A39 -> 4.8 | B39: ='Orçamento NÃO DESONERADO (2)'!D39 -> ALAMBRADO PARA QUADRA POLIESPORTIVA, ESTRUTURADO POR TUBOS DE AÇO GALVANIZADO, (MONTANTES COM DIÂMETRO 2", TRAVESSAS E ESCORAS COM DIÂMETRO 1 ¼"), COM TELA DE ARAME GALVANIZADO, FIO 14 BWG E MALHA QUADRADA 5X5CM (EXCETO MURETA). AF_12/2025 | C39: ='Orçamento NÃO DESONERADO (2)'!E39 -> m² | D39: ='Orçamento NÃO DESONERADO (2)'!F39 -> 36.5 | E39: MURETA 2 ((9,50 +27) * 1 = 36,50 m²
A40: ='Orçamento NÃO DESONERADO (2)'!A40 -> 4.9 | B40: ='Orçamento NÃO DESONERADO (2)'!D40 -> ALVENARIA DE BLOCOS DE CONCRETO ESTRUTURAL 14X19X39 CM (ESPESSURA 14 CM), FBK = 4,5 MPA, UTILIZANDO COLHER DE PEDREIRO. AF_10/2022 | C40: ='Orçamento NÃO DESONERADO (2)'!E40 -> m² | D40: ='Orçamento NÃO DESONERADO (2)'!F40 -> 18.25 | E40: MURETA 2 = ((9,50+27) *0.50)) = 18.25 m²
...

Sheet CRONOGRAMA Ñ DES.
B1: ='Orçamento NÃO DESONERADO (2)'!D2 -> CONTRATAÇÃO DE EMPRESA ESPECIALIZADA EM ENGENHARIA PARA EXECUÇÃO DE MURETAS PARA CONTENÇÃO E ISOLAMENTO DO RESERVATÓRIO DE ÁGUA DO POVOADO DE SÃO LOURENÇO, DISTRITO DE GOIANA/PE.
A3: Cronograma Físico e Financeiro
A4: ITEM | B4: DISCRIMINAÇÃO DOS SERVIÇOS | G4: VALOR DA | H4: PERCENT | I4: PERÍODO:
G5: ETAPA(R$) | H5: % | I5: 30 DIAS | J5: 60 DIAS | K5: 90 DIAS | L5: 120 DIAS
H6: =G7/$G$42 -> 0.077786676 | I6: 0.237 | J6: 0.151 | K6: 0.27 | L6: 0.342 | N6: =SUM(I6:L6) -> 1
A7: 1.0 | B7: ADMINISTRAÇÃO LOCAL | G7: ='Orçamento NÃO DESONERADO (2)'!I5 -> 42375.87 | N7: =SUM(I7:L7) -> 0 | O7: =G7=N8 -> TRUE
I8: =ROUND(G7*$I$6,2) -> 10043.08 | J8: =ROUND(G7*J6,2) -> 6398.76 | K8: =ROUND(G7*K6,2) -> 11441.48 | L8: =ROUND(G7*L6,2) -> 14492.55 | N8: =SUM(I8:L8) -> 42375.87
H9: =G10/$G$42 -> 0.1853256 | I9: 1 | N9: =SUM(I9:L9) -> 1
A10: 2.0 | B10: SERVIÇOS PRELIMINARES | G10: ='Orçamento NÃO DESONERADO (2)'!I8 -> 100959.88 | N10: =SUM(I10:L10) -> 0 | O10: =G10=N11 -> TRUE
I11: =ROUND(G10*I9,2) -> 100959.88 | N11: =SUM(I11:L11) -> 100959.88
H12: =G13/$G$42 -> 0.082302267 | I12: 0.45 | J12: 0.55 | N12: =SUM(I12:L12) -> 1
A13: 3.0 | B13: MURETA 1 | G13: ='Orçamento NÃO DESONERADO (2)'!I21 -> 44835.83 | N13: =SUM(I13:L13) -> 0 | O13: =G13=N14 -> TRUE | V13: ADMINISTRAÇÃO LOCAL
I14: =ROUND(G13*I12,2) -> 20176.12 | J14: =ROUND(G13*J12,2) -> 24659.71 | N14: =SUM(I14:L14) -> 44835.83 | V14: SERVIÇOS PRELIMINARES
H15: =G16/$G$42 -> 0.04677421 | I15: 0.15 | J15: 0.41 | K15: 0.44 | N15: =SUM(I15:L15) -> 1 | V15: MURETA 1
A16: 4.0 | B16: MURETA 2 | G16: ='Orçamento NÃO DESONERADO (2)'!I31 -> 25481.2 | N16: =SUM(I16:L16) -> 0 | O16: =G16=N17 -> TRUE | V16: MURETA 2
I17: =ROUND(G16*I15,2) -> 3822.18 | J17: =ROUND(G16*J15,2) -> 10447.29 | K17: =ROUND(G16*K15,2) -> 11211.73 | N17: =SUM(I17:L17) -> 25481.2 | V17: MURETA 3
H18: =G19/$G$42 -> 0.26889622 | J18: 0.21 | K18: 0.39 | L18: 0.4 | N18: =SUM(I18:L18) -> 1 | V18: LAJE - CASA DE MÁQUINA
A19: 5.0 | B19: MURETA 3 | G19: ='Orçamento NÃO DESONERADO (2)'!I42 -> 146486.67 | N19: =SUM(I19:L19) -> 0 | O19: =G19=N20 -> TRUE | V19: ALVENARIA - MURETA 3 E CASA DE MÁQUINAS
J20: =ROUND(G19*J18,2) -> 30762.2 | K20: =ROUND(G19*K18,2) -> 57129.8 | L20: =ROUND(L18*G19,2) -> 58594.67 | N20: =SUM(I20:L20) -> 146486.67 | V20: PISO - CASA DE MÁQUINAS
H21: =G22/$G$42 -> 0.01807303 | K21: 1 | N21: =SUM(I21:L21) -> 1 | V21: ESQUADRIAS- CASA DE MÁQUINAS
A22: 6.0 | B22: LAJE - CASA DE MÁQUINA | G22: ='Orçamento NÃO DESONERADO (2)'!I56 -> 9845.65 | N22: =SUM(I22:L22) -> 0 | O22: =G22=N23 -> TRUE | V22: INST.ELÉTRICAS- CASA DE MÁQUINAS
K23: =ROUND(K21*G22,2) -> 9845.65 | N23: =SUM(I23:L23) -> 9845.65 | V23: INST. HIDRÁULICAS - CASA DE MÁQUINAS
H24: =G25/$G$42 -> 0.097209743 | J24: 0.2 | K24: 0.615 | L24: 0.185 | N24: =SUM(I24:L24) -> 1 | V24: SERVIÇOS FINAIS
A25: 7.0 | B25: ALVENARIA - MURETA 3 E CASA DE MÁQUINAS | G25: ='Orçamento NÃO DESONERADO (2)'!I61 -> 52956.98 | N25: =SUM(I25:L25) -> 0 | O25: =G25=N26 -> TRUE
J26: =ROUND(J24*G25,2) -> 10591.4 | K26: =ROUND(G25*K24,2) -> 32568.54 | L26: =ROUND(G25*L24,2) -> 9797.04 | N26: =SUM(I26:L26) -> 52956.98
H27: =G28/$G$42 -> 0.012350178 | L27: 1 | N27: =SUM(I27:L27) -> 1
A28: 8.0 | B28: PISO - CASA DE MÁQUINAS | G28: ='Orçamento NÃO DESONERADO (2)'!I67 -> 6728.01 | N28: =SUM(I28:L28) -> 0 | O28: =G28=N29 -> TRUE
L29: =ROUND(G28*L27,2) -> 6728.01 | N29: =SUM(I29:L29) -> 6728.01
H30: =G31/$G$42 -> 0.0079024133 | L30: 1 | N30: =SUM(I30:L30) -> 1
A31: 9.0 | B31: ESQUADRIAS- CASA DE MÁQUINAS | G31: ='Orçamento NÃO DESONERADO (2)'!I70 -> 4305 | N31: =SUM(I31:L31) -> 0 | O31: =G31=N32 -> TRUE
L32: =ROUND(G31*L30,2) -> 4305 | N32: =SUM(I32:L32) -> 4305
H33: =G34/$G$42 -> 0.053259219 | K33: 0.3 | L33: 0.7 | N33: =SUM(I33:L33) -> 1
A34: 10.0 | B34: INST.ELÉTRICAS- CASA DE MÁQUINAS | G34: ='Orçamento NÃO DESONERADO (2)'!I76 -> 29014.04 | N34: =SUM(I34:L34) -> 0 | O34: =G34=N35 -> TRUE
K35: =ROUND(K33*G34,2) -> 8704.21 | L35: =ROUND(G34*L33,2) -> 20309.83 | N35: =SUM(I35:L35) -> 29014.04
H36: =G37/$G$42 -> 0.11574445 | K36: 0.2 | L36: 0.8 | N36: =SUM(I36:L36) -> 1
A37: 11.0 | B37: INST. HIDRÁULICAS - CASA DE MÁQUINAS | G37: ='Orçamento NÃO DESONERADO (2)'!I100 -> 63054.14 | N37: =SUM(I37:L37) -> 0 | O37: =G37=N38 -> TRUE
K38: =ROUND(K36*G37,2) -> 12610.83 | L38: =ROUND(G37*L36,2) -> 50443.31 | N38: =SUM(I38:L38) -> 63054.14
H39: =G40/$G$42 -> 0.034375994 | L39: 1 | N39: =SUM(I39:L39) -> 1
A40: 12.0 | B40: SERVIÇOS FINAIS | G40: ='Orçamento NÃO DESONERADO (2)'!I135 -> 18727.02 | N40: =SUM(I40:L40) -> 0 | O40: =G40=N41 -> TRUE
L41: =ROUND(G40*L39,2) -> 18727.02 | N41: =SUM(I41:L41) -> 18727.02
...

Sheet Orçamento Sintético DESONERADO
D1: Obra | E1: Bancos | G1: B.D.I. | I1: Encargos Sociais
D2: CONTRATAÇÃO DE EMPRESA ESPECIALIZADA EM ENGENHARIA PARA EXECUÇÃO DE MURETAS PARA CONTENÇÃO E ISOLAMENTO DO RESERVATÓRIO DE ÁGUA DO POVOADO DE SÃO LOURENÇO, DISTRITO DE GOIANA/PE. | E2: SINAPI - 04/2026 - Pernambuco ORSE - 02/2026 - Sergipe SEINFRA - 028.1 - Ceará | G2: 22,07% | I2: Desonerado: embutido nos preços unitário dos insumos de mão de obra, de acordo com as bases.
A3: Orçamento Sintético Desonerado
A4: Item | B4: Código | C4: Banco | D4: Descrição | E4: Und | F4: Quant. | G4: Valor Unit | H4: Valor Unit com BDI | I4: Total | J4: Peso (%)
A5: 1 | D5: ADMINISTRAÇÃO LOCAL | F5: 1 | I5: =I6+I7 -> 40817.01
A6: 1.1 | B6: 90777 | C6: SINAPI | D6: ENGENHEIRO CIVIL DE OBRA JUNIOR COM ENCARGOS COMPLEMENTARES | E6: H | F6: 44.88 | G6: 131.69 | H6: 160.75 | I6: =TRUNC(H6*F6,2) -> 7214.46
A7: 1.2 | B7: 90776 | C7: SINAPI | D7: ENCARREGADO GERAL COM ENCARGOS COMPLEMENTARES | E7: H | F7: 672.32 | G7: 40.95 | H7: 49.98 | I7: =TRUNC(H7*F7,2) -> 33602.55
A8: 2 | D8: SERVIÇOS PRELIMINARES | I8: =SUM(I9:I20) -> 100528.03
A9: 2.1 | B9: 103689 | C9: SINAPI | D9: FORNECIMENTO E INSTALAÇÃO DE PLACA DE OBRA COM CHAPA GALVANIZADA E ESTRUTURA DE MADEIRA. AF_03/2022_PS | E9: m² | F9: 6 | G9: 499.92 | H9: 610.25 | I9: =TRUNC(H9*F9,2) -> 3661.5
A10: 2.2 | B10: 98525 | C10: SINAPI | D10: LIMPEZA MECANIZADA DE CAMADA VEGETAL, VEGETAÇÃO E PEQUENAS ÁRVORES (DIÂMETRO DE TRONCO MENOR QUE 0,20 M), COM TRATOR DE ESTEIRAS. AF_03/2024 | E10: m² | F10: 1041 | G10: 0.67 | H10: 0.81 | I10: =TRUNC(H10*F10,2) -> 843.21
A11: 2.3 | B11: 97622 | C11: SINAPI | D11: DEMOLIÇÃO DE ALVENARIA DE BLOCO FURADO, DE FORMA MANUAL, SEM REAPROVEITAMENTO. AF_09/2023 | E11: m³ | F11: 19.61 | G11: 60.46 | H11: 73.8 | I11: =TRUNC(H11*F11,2) -> 1447.21
A12: 2.4 | B12: 100981 | C12: SINAPI | D12: CARGA, MANOBRA E DESCARGA DE ENTULHO EM CAMINHÃO BASCULANTE 6 M³ - CARGA COM ESCAVADEIRA HIDRÁULICA (CAÇAMBA DE 0,80 M³ / 111 HP) E DESCARGA LIVRE (UNIDADE: M3). AF_02/2026 | E12: m³ | F12: 19.61 | G12: 10.11 | H12: 12.34 | I12: =TRUNC(H12*F12,2) -> 241.98
A13: 2.5 | B13: 90781 | C13: SINAPI | D13: TOPOGRAFO COM ENCARGOS COMPLEMENTARES | E13: H | F13: 176 | G13: 35.01 | H13: 42.73 | I13: =TRUNC(H13*F13,2) -> 7520.48
A14: 2.6 | B14: 88253 | C14: SINAPI | D14: AUXILIAR DE TOPÓGRAFO COM ENCARGOS COMPLEMENTARES | E14: H | F14: 176 | G14: 18.87 | H14: 23.03 | I14: =TRUNC(H14*F14,2) -> 4053.28
A15: 2.7 | B15: 99059 | C15: SINAPI | D15: LOCAÇÃO CONVENCIONAL DE OBRA, UTILIZANDO GABARITO DE TÁBUAS CORRIDAS PONTALETADAS A CADA 2,00M - 2 UTILIZAÇÕES. AF_03/2024 | E15: M | F15: 177.55 | G15: 69.52 | H15: 84.86 | I15: =TRUNC(H15*F15,2) -> 15066.89
A16: 2.8 | B16: 98459 | C16: SINAPI | D16: TAPUME COM TELHA METÁLICA. AF_03/2024 | E16: m² | F16: 339.13 | G16: 98.21 | H16: 119.88 | I16: =TRUNC(H16*F16,2) -> 40654.9
A17: 2.9 | B17: C0002 | C17: SEINFRA | D17: ABRIGO PROVISÓRIO C/1 PAVIMENTO P/ALOJAMENTO E DEPÓSITO | E17: m² | F17: 16 | G17: 1007.98 | H17: 1230.44 | I17: =TRUNC(H17*F17,2) -> 19687.04
A18: 2.10 | B18: C5208 | C18: SEINFRA | D18: LOCAÇÃO DE BANHEIRO QUÍMICO - INCLUSO TRANSPORTE, INSTALAÇÃO E MANUTENÇÃO | E18: UNXMÊS | F18: 4 | G18: 950 | H18: 1159.66 | I18: =TRUNC(H18*F18,2) -> 4638.64
A19: 2.11 | B19: C2850 | C19: SEINFRA | D19: INSTALAÇÕES PROVISÓRIAS DE LUZ , FORÇA,TELEFONE E LÓGICA | E19: UN | F19: 1 | G19: 1676.69 | H19: 2046.73 | I19: =TRUNC(H19*F19,2) -> 2046.73
A20: 2.12 | B20: C3442 | C20: SEINFRA | D20: CAIXA D´ÁGUA EM FYBERGLASS - CAP. 1000L | E20: UN | F20: 1 | G20: 545.73 | H20: 666.17 | I20: =TRUNC(H20*F20,2) -> 666.17
A21: 3 | D21: MURETA 1 | I21: =SUM(I22:I30) -> 45115.4
A22: 3.1 | B22: 96527 | C22: SINAPI | D22: ESCAVAÇÃO MANUAL PARA VIGA BALDRAME OU SAPATA CORRIDA (INCLUINDO ESCAVAÇÃO PARA COLOCAÇÃO DE FÔRMAS). AF_01/2024 | E22: m³ | F22: 25.99 | G22: 109.17 | H22: 133.26 | I22: =TRUNC(H22*F22,2) -> 3463.42
A23: 3.2 | B23: 96619 | C23: SINAPI | D23: LASTRO DE CONCRETO MAGRO, APLICADO EM BLOCOS DE COROAMENTO OU SAPATAS, ESPESSURA DE 5 CM. AF_01/2024 | E23: m² | F23: 13.2 | G23: 43.41 | H23: 52.99 | I23: =TRUNC(H23*F23,2) -> 699.46
A24: 3.3 | B24: 96532 | C24: SINAPI | D24: FABRICAÇÃO, MONTAGEM E DESMONTAGEM DE FÔRMA PARA SAPATA, EM MADEIRA SERRADA, E=25 MM, 2 UTILIZAÇÕES. AF_01/2024 | E24: m² | F24: 52.8 | G24: 194.49 | H24: 237.41 | I24: =TRUNC(H24*F24,2) -> 12535.24
A25: 3.4 | B25: 104916 | C25: SINAPI | D25: ARMAÇÃO DE SAPATA ISOLADA, VIGA BALDRAME E SAPATA CORRIDA UTILIZANDO AÇO CA-60 DE 5 MM - MONTAGEM. AF_01/2024 | E25: KG | F25: 80.26 | G25: 16.3 | H25: 19.89 | I25: =TRUNC(H25*F25,2) -> 1596.37
A26: 3.5 | B26: 104919 | C26: SINAPI | D26: ARMAÇÃO DE SAPATA ISOLADA, VIGA BALDRAME E SAPATA CORRIDA UTILIZANDO AÇO CA-50 DE 10 MM - MONTAGEM. AF_01/2024 | E26: KG | F26: 166.32 | G26: 12.18 | H26: 14.86 | I26: =TRUNC(H26*F26,2) -> 2471.51
A27: 3.6 | B27: 96557 | C27: SINAPI | D27: CONCRETAGEM DE BLOCO DE COROAMENTO OU VIGA BALDRAME, FCK 30 MPA, COM USO DE BOMBA - LANÇAMENTO, ADENSAMENTO E ACABAMENTO. AF_01/2024 | E27: m³ | F27: 5.28 | G27: 799.24 | H27: 975.63 | I27: =TRUNC(H27*F27,2) -> 5151.32
A28: 3.7 | B28: 98557 | C28: SINAPI | D28: IMPERMEABILIZAÇÃO DE SUPERFÍCIE COM EMULSÃO ASFÁLTICA, 2 DEMÃOS. AF_09/2023 | E28: m² | F28: 66 | G28: 46.1 | H28: 56.27 | I28: =TRUNC(H28*F28,2) -> 3713.82
A29: 3.8 | B29: 102362 | C29: SINAPI | D29: ALAMBRADO PARA QUADRA POLIESPORTIVA, ESTRUTURADO POR TUBOS DE AÇO GALVANIZADO, (MONTANTES COM DIÂMETRO 2", TRAVESSAS E ESCORAS COM DIÂMETRO 1 ¼"), COM TELA DE ARAME GALVANIZADO, FIO 14 BWG E MALHA QUADRADA 5X5CM (EXCETO MURETA). AF_12/2025 | E29: m² | F29: 66 | G29: 140.45 | H29: 171.44 | I29: =TRUNC(H29*F29,2) -> 11315.04
A30: 3.9 | B30: 89470 | C30: SINAPI | D30: ALVENARIA DE BLOCOS DE CONCRETO ESTRUTURAL 14X19X39 CM (ESPESSURA 14 CM), FBK = 4,5 MPA, UTILIZANDO COLHER DE PEDREIRO. AF_10/2022 | E30: m² | F30: 33 | G30: 103.5 | H30: 126.34 | I30: =TRUNC(H30*F30,2) -> 4169.22
A31: 4 | D31: MURETA 2 | I31: =SUM(I32:I41) -> 25642.72
A32: 4.1 | B32: 96527 | C32: SINAPI | D32: ESCAVAÇÃO MANUAL PARA VIGA BALDRAME OU SAPATA CORRIDA (INCLUINDO ESCAVAÇÃO PARA COLOCAÇÃO DE FÔRMAS). AF_01/2024 | E32: m³ | F32: 14.38 | G32: 109.17 | H32: 133.26 | I32: =TRUNC(H32*F32,2) -> 1916.27
A33: 4.2 | B33: 96619 | C33: SINAPI | D33: LASTRO DE CONCRETO MAGRO, APLICADO EM BLOCOS DE COROAMENTO OU SAPATAS, ESPESSURA DE 5 CM. AF_01/2024 | E33: m² | F33: 7.3 | G33: 43.41 | H33: 52.99 | I33: =TRUNC(H33*F33,2) -> 386.82
A34: 4.3 | B34: 96532 | C34: SINAPI | D34: FABRICAÇÃO, MONTAGEM E DESMONTAGEM DE FÔRMA PARA SAPATA, EM MADEIRA SERRADA, E=25 MM, 2 UTILIZAÇÕES. AF_01/2024 | E34: m² | F34: 29.2 | G34: 194.49 | H34: 237.41 | I34: =TRUNC(H34*F34,2) -> 6932.37
A35: 4.4 | B35: 104916 | C35: SINAPI | D35: ARMAÇÃO DE SAPATA ISOLADA, VIGA BALDRAME E SAPATA CORRIDA UTILIZANDO AÇO CA-60 DE 5 MM - MONTAGEM. AF_01/2024 | E35: KG | F35: 44.38 | G35: 16.3 | H35: 19.89 | I35: =TRUNC(H35*F35,2) -> 882.71
A36: 4.5 | B36: 104919 | C36: SINAPI | D36: ARMAÇÃO DE SAPATA ISOLADA, VIGA BALDRAME E SAPATA CORRIDA UTILIZANDO AÇO CA-50 DE 10 MM - MONTAGEM. AF_01/2024 | E36: KG | F36: 91.98 | G36: 12.18 | H36: 14.86 | I36: =TRUNC(H36*F36,2) -> 1366.82
A37: 4.6 | B37: 96557 | C37: SINAPI | D37: CONCRETAGEM DE BLOCO DE COROAMENTO OU VIGA BALDRAME, FCK 30 MPA, COM USO DE BOMBA - LANÇAMENTO, ADENSAMENTO E ACABAMENTO. AF_01/2024 | E37: m³ | F37: 2.92 | G37: 799.24 | H37: 975.63 | I37: =TRUNC(H37*F37,2) -> 2848.83
A38: 4.7 | B38: 98557 | C38: SINAPI | D38: IMPERMEABILIZAÇÃO DE SUPERFÍCIE COM EMULSÃO ASFÁLTICA, 2 DEMÃOS. AF_09/2023 | E38: m² | F38: 36.5 | G38: 46.1 | H38: 56.27 | I38: =TRUNC(H38*F38,2) -> 2053.85
A39: 4.8 | B39: 102362 | C39: SINAPI | D39: ALAMBRADO PARA QUADRA POLIESPORTIVA, ESTRUTURADO POR TUBOS DE AÇO GALVANIZADO, (MONTANTES COM DIÂMETRO 2", TRAVESSAS E ESCORAS COM DIÂMETRO 1 ¼"), COM TELA DE ARAME GALVANIZADO, FIO 14 BWG E MALHA QUADRADA 5X5CM (EXCETO MURETA). AF_12/2025 | E39: m² | F39: 36.5 | G39: 140.45 | H39: 171.44 | I39: =TRUNC(H39*F39,2) -> 6257.56
A40: 4.9 | B40: 89470 | C40: SINAPI | D40: ALVENARIA DE BLOCOS DE CONCRETO ESTRUTURAL 14X19X39 CM (ESPESSURA 14 CM), FBK = 4,5 MPA, UTILIZANDO COLHER DE PEDREIRO. AF_10/2022 | E40: m² | F40: 18.25 | G40: 103.5 | H40: 126.34 | I40: =TRUNC(H40*F40,2) -> 2305.7
...

Sheet BDI DESONERADO
D1: Obra | E1: Bancos | F1: B.D.I. | I1: Encargos Sociais
D2: CONTRATAÇÃO DE EMPRESA ESPECIALIZADA EM ENGENHARIA PARA EXECUÇÃO DE MURETAS PARA CONTENÇÃO E ISOLAMENTO DO RESERVATÓRIO DE ÁGUA DO POVOADO DE SÃO LOURENÇO, DISTRITO DE GOIANA/PE. | E2: SINAPI - 04/2026 - Pernambuco ORSE - 02/2026 - Sergipe SEINFRA - 028.1 - Ceará | F2: 22,07% | I2: Desonerado: embutido nos preços unitário dos insumos de mão de obra, de acordo com as bases.
A3: BDI - BDI ATUALIZADO 2026 DESONERADO
A4: GRUPO A | B4: TAXA ADMINISTRATIVA DA ADMINISTRAÇÃO CENTRAL
A5: 1 | B5: Administração Central | L5: 3,00%
B6: Total do Grupo | L6: 3,00%
A7: GRUPO B | B7: TAXA REPRESENTATIVA DOS RISCOS
A8: 1 | B8: Riscos | L8: 0,97%
B9: Total do Grupo | L9: 0,97%
A10: GRUPO C | B10: TAXA REPRESENTATIVA SEGURO GARANTIA
A11: 1 | B11: Risco | L11: 0,80%
B12: Total do Grupo | L12: 0,80%
A13: GRUPO D | B13: TAXA REPRESENTATIVA DAS DESPESAS FINANCEIRAS
A14: 1 | B14: Despesas Financeiras | L14: 0,59%
B15: Total do Grupo | L15: 0,59%
A16: GRUPO E | B16: TAXA REPRESENTATIVA DO LUCRO
A17: 1 | B17: Lucro | L17: 6,16%
B18: Total do Grupo | L18: 6,16%
A19: GRUPO F | B19: TAXA REPRESENTATIVA DA INCIDÊNCIA DOS IMPOSTOS ( SOBRE O FATURAMENTO DA EMPRESA )
A20: 1 | B20: ISS (IMPOSTO SOBRE SERVIÇOS) - MUNICIPAL | L20: 2,00%
A21: 2 | B21: COFINS - FEDERAL | L21: 3,00%
A22: 3 | B22: PIS (PROGRAMA DE INTREGRAÇÃO SOCIAL) - FEDERAL | L22: 0,65%
A23: 4 | B23: CRB -CONTRIBUIÇÂO INSS (DESONERAÇÂO) | L23: 2,70%
B24: Total do Grupo | L24: 8,35%
A26: FÓRMULA PARA O CÁLCULO DO BDI | I26: (((1+A+B+C)*(1+D)*(1+E)/(1-F))-1)
A28: Bonificação sobre despesas indiretas (B.D.I)= | L28: 22,07%
