Workbook
Name AreaTeste: #REF!
Name AreaTeste: #REF!
Name AreaTeste: #REF!
Name AreaTeste2: #REF!
Name AreaTeste2: #REF!
Name AreaTeste2: #REF!
Name CélulaInicioPlanilha: #REF!
Name CélulaInicioPlanilha: #REF!
Name CélulaInicioPlanilha: #REF!
Name CélulaResumo: #REF!
Name CélulaResumo: #REF!
Name CélulaResumo: #REF!
Name fdfd: #REF!
Name fdfd: #REF!
Name jfhdskjg: #REF!
Name jfhdskjg: #REF!
Name ok: #REF!
Name ok: #REF!
Name orçamento: #REF!
Name orçamento: #REF!
Name TABELA: '[1]PLANILHA FONTE'!$B$1:$G$290

Sheet ORÇAMENTO
A1: PLANILHA ORÇAMENTÁRIA
A4: OBRA: PROJETO DE CONSTRUÇÃO DO ESPAÇO ESPORTIVO COMUNITÁRIO
A5: LOCALIZAÇÃO: ALIANÇA-PE
A6: FONTES DE PREÇOS: SINAPI DEZEMBRO-25 / COMPOSIÇÕES / SEM DESONERAÇÃO (BDI = 20,50%) - (BDI DIFERENCIADO = 13,24%)
A7: DATA: FEVEREIRO/2026
G9: BDI (EDIFICAÇÕES) = | I9: 0.205
G10: BDI (DIFERENCIADO) = | I10: 0.1324
A11: ITEM | B11: TABELA | C11: CÓDIGO | D11: DESCRIÇÃO | E11: UN. | F11: QUANTIDADE | G11: VALOR UNITÁRIO S/BDI, SEM DES. | H11: VALOR UNITÁRIO C/BDI | I11: BDI | J11: VALOR TOTAL
A13: 1.0 | D13: SERVIÇO PREELIMINARES | J13: =SUM(J14:J16) -> 53772.821
A14: 1.1 | B14: SINAPI | C14: 103689 | D14: FORNECIMENTO E INSTALAÇÃO DE PLACA DE OBRA COM CHAPA GALVANIZADA E ESTRUTURA DE MADEIRA. AF_03/2022_PS | E14: M2 | F14: 6.48 | G14: 468.43 | H14: 564.45815 | I14: 0.205 | J14: =ROUND(H14,2)*F14 -> 3657.7008 | K14: 3657.7
A15: 1.2 | B15: SINAPI | C15: 90777 | D15: ENGENHEIRO CIVIL DE OBRA JUNIOR COM ENCARGOS COMPLEMENTARES | E15: H | F15: 96 | G15: 132.34 | H15: 159.4697 | I15: 0.205 | J15: =ROUND(H15,2)*F15 -> 15309.12
A16: 1.3 | B16: SINAPI | C16: 90776 | D16: ENCARREGADO GERAL COM ENCARGOS COMPLEMENTARES | E16: H | F16: 600 | G16: 48.14 | H16: 58.0087 | I16: 0.205 | J16: =ROUND(H16,2)*F16 -> 34806
A17: 2.0 | D17: CAMPO DE FUTEBOL COM GRAMA SINTÉTICA | J17: =SUM(J18:J40) -> 640124.16
A18: 2.1 | B18: SINAPI | C18: 97082 | D18: ESCAVAÇÃO MANUAL DE VIGA DE BORDA PARA RADIER. AF_09/2021 | E18: M3 | F18: 32.5 | G18: 69.92 | H18: 84.2536 | I18: 0.205 | J18: =ROUND(H18,2)*F18 -> 2738.125
A19: 2.2 | B19: SINAPI | C19: 97084 | D19: COMPACTAÇÃO MECÂNICA DE SOLO PARA EXECUÇÃO DE RADIER, PISO DE CONCRETO OU LAJE SOBRE SOLO, COM COMPACTADOR DE SOLOS TIPO PLACA VIBRATÓRIA. AF_09/2021 | E19: M2 | F19: 130 | G19: 0.76 | H19: 0.9158 | I19: 0.205 | J19: =ROUND(H19,2)*F19 -> 119.6
A20: 2.3 | B20: SINAPI | C20: 95241 | D20: LASTRO DE CONCRETO MAGRO, APLICADO EM PISOS, LAJES SOBRE SOLO OU RADIERS, ESPESSURA DE 5 CM. AF_01/2024 | E20: M2 | F20: 78 | G20: 40.45 | H20: 48.74225 | I20: 0.205 | J20: =ROUND(H20,2)*F20 -> 3801.72
A21: 2.4 | B21: SINAPI | C21: 89470 | D21: ALVENARIA DE BLOCOS DE CONCRETO ESTRUTURAL 14X19X39 CM (ESPESSURA 14 CM), FBK = 4,5 MPA, UTILIZANDO COLHER DE PEDREIRO. AF_10/2022 | E21: M2 | F21: 64 | G21: 104.69 | H21: 126.15145 | I21: 0.205 | J21: =ROUND(H21,2)*F21 -> 8073.6
A22: 2.5 | B22: SINAPI | C22: 100576 | D22: REGULARIZAÇÃO E COMPACTAÇÃO DE SUBLEITO DE SOLO PREDOMINANTEMENTE ARGILOSO, PARA OBRAS DE CONSTRUÇÃO DE PAVIMENTOS. AF_09/2024 | E22: M2 | F22: 1500 | G22: 2.77 | H22: 3.33785 | I22: 0.205 | J22: =ROUND(H22,2)*F22 -> 5010
A23: 2.6 | B23: Composição | C23: C001 | D23: LASTRO COM MATERIAL GRANULAR (PEDRA BRITADA N.1), ESPESSURA DE 10 CM | E23: M3 | F23: 140 | G23: 153.03 | H23: 184.40115 | I23: 0.205 | J23: =ROUND(H23,2)*F23 -> 25816
A24: 2.7 | B24: Composição | C24: C002 | D24: LASTRO COM MATERIAL GRANULAR (PEDRA BRITADA N.0), ESPESSURA DE 5 CM | E24: M3 | F24: 70 | G24: 177.4 | H24: 213.767 | I24: 0.205 | J24: =ROUND(H24,2)*F24 -> 14963.9
A25: 2.8 | B25: Composição | C25: C003 | D25: LASTRO COM MATERIAL GRANULAR (PÓ DE BRITA), ESPESSURA DE 5 CM | E25: M3 | F25: 70 | G25: 177.4 | H25: 213.767 | I25: 0.205 | J25: =ROUND(H25,2)*F25 -> 14963.9
A26: 2.9 | B26: Composição | C26: C004 | D26: GRAMA SINTÉTICA ESPORTIVA PARA FUTEBOL EM POLIETILENO, COM ALTURA MINIMA DE 42 MM (FORNECIMENTO E COLOCAÇÃO) | E26: M2 | F26: 1400 | G26: 169.73 | H26: 204.52465 | I26: 0.205 | J26: =ROUND(H26,2)*F26 -> 286328
A27: 2.10 | B27: SINAPI | C27: 95241 | D27: LASTRO DE CONCRETO MAGRO, APLICADO EM PISOS, LAJES SOBRE SOLO OU RADIERS, ESPESSURA DE 5 CM. AF_01/2024 | E27: M2 | F27: 99 | G27: 40.45 | H27: 48.74225 | I27: 0.205 | J27: =ROUND(H27,2)*F27 -> 4825.26
A28: 2.11 | B28: Composição | C28: C008 | D28: EXECUÇÃO DE PASSEIO (CALÇADA) OU PISO DE CONCRETO COM CONCRETO MOLDADO IN LOCO, FEITO EM OBRA, ACABAMENTO CONVENCIONAL, ESPESSURA 6 CM | E28: M2 | F28: 99 | G28: 55.14 | H28: 66.4437 | I28: 0.205 | J28: =ROUND(H28,2)*F28 -> 6577.56
A29: 2.12 | B29: SINAPI | C29: 96542 | D29: FABRICAÇÃO, MONTAGEM E DESMONTAGEM DE FÔRMA PARA VIGA BALDRAME, EM CHAPA DE MADEIRA COMPENSADA RESINADA, E=17 MM, 4 UTILIZAÇÕES. AF_01/2024 | E29: M2 | F29: 80.6 | G29: 100.32 | H29: 120.8856 | I29: 0.205 | J29: =ROUND(H29,2)*F29 -> 9743.734
... A40: 2.23 | B40: Composição | C40: C005 | D40: CONJUNTO PARA FUTEBOL DE CAMPO COM PAR DE TRAVES OFICIAIS DE 5,00 X 2,20 M EM TUBO DE ACO GALVANIZADO 4", PINTURA EM PRIMER COM TINTA ESMALTE SINTETICO E REDES DE POLIETILENO FIO 3 MM - FORNECIMENTO E INSTALAÇÃO | E40: UN | F40: 1 | G40: 4562.76 | H40: 5498.1258 | I40: 0.205 | J40: =ROUND(H40,2)*F40 -> 5498.13
A41: 3.0 | D41: MEIA QUADRA DE BASQUETE | J41: =SUM(J42:J50) -> 195496.61
A42: 3.1 | B42: SINAPI | C42: 97082 | D42: ESCAVAÇÃO MANUAL DE VIGA DE BORDA PARA RADIER. AF_09/2021 | E42: M3 | F42: 10.5 | G42: 69.92 | H42: 84.2536 | I42: 0.205 | J42: =ROUND(H42,2)*F42 -> 884.625
A43: 3.2 | B43: SINAPI | C43: 97084 | D43: COMPACTAÇÃO MECÂNICA DE SOLO PARA EXECUÇÃO DE RADIER, PISO DE CONCRETO OU LAJE SOBRE SOLO, COM COMPACTADOR DE SOLOS TIPO PLACA VIBRATÓRIA. AF_09/2021 | E43: M2 | F43: 30 | G43: 0.76 | H43: 0.9158 | I43: 0.205 | J43: =ROUND(H43,2)*F43 -> 27.6
A44: 3.3 | B44: SINAPI | C44: 95241 | D44: LASTRO DE CONCRETO MAGRO, APLICADO EM PISOS, LAJES SOBRE SOLO OU RADIERS, ESPESSURA DE 5 CM. AF_01/2024 | E44: M2 | F44: 18 | G44: 40.45 | H44: 48.74225 | I44: 0.205 | J44: =ROUND(H44,2)*F44 -> 877.32
A45: 3.4 | B45: SINAPI | C45: 89470 | D45: ALVENARIA DE BLOCOS DE CONCRETO ESTRUTURAL 14X19X39 CM (ESPESSURA 14 CM), FBK = 4,5 MPA, UTILIZANDO COLHER DE PEDREIRO. AF_10/2022 | E45: M2 | F45: 24 | G45: 104.69 | H45: 126.15145 | I45: 0.205 | J45: =ROUND(H45,2)*F45 -> 3027.6
A46: 3.5 | B46: SINAPI | C46: 100576 | D46: REGULARIZAÇÃO E COMPACTAÇÃO DE SUBLEITO DE SOLO PREDOMINANTEMENTE ARGILOSO, PARA OBRAS DE CONSTRUÇÃO DE PAVIMENTOS. AF_09/2024 | E46: M2 | F46: 221 | G46: 2.77 | H46: 3.33785 | I46: 0.205 | J46: =ROUND(H46,2)*F46 -> 738.14
A47: 3.6 | B47: SINAPI | C47: 95241 | D47: LASTRO DE CONCRETO MAGRO, APLICADO EM PISOS, LAJES SOBRE SOLO OU RADIERS, ESPESSURA DE 5 CM. AF_01/2024 | E47: M2 | F47: 221 | G47: 40.45 | H47: 48.74225 | I47: 0.205 | J47: =ROUND(H47,2)*F47 -> 10771.54
A48: 3.7 | B48: SINAPI | C48: 94994 | D48: EXECUÇÃO DE PASSEIO (CALÇADA) OU PISO DE CONCRETO COM CONCRETO MOLDADO IN LOCO, FEITO EM OBRA, ACABAMENTO CONVENCIONAL, ESPESSURA 8 CM, ARMADO. AF_08/2022 | E48: M2 | F48: 221 | G48: 96.55 | H48: 116.34275 | I48: 0.205 | J48: =ROUND(H48,2)*F48 -> 25711.14
A49: 3.8 | B49: Cotação | C49: COT-010 | D49: PISO MODULAR EM POLIPROPILENO DE ALTO IMPACTO E RESISTÊNCIA, PROTEÇÃO UV, INCLUINDO DEMARCAÇÃO DA QUADRA COM TINTA À BASE DE PU - FORNECIMENTO E INSTALAÇÃO | E49: UN | F49: 1 | G49: 133870.75 | H49: 151595.24 | I49: 0.1324 | J49: =ROUND(H49,2)*F49 -> 151595.24
A50: 3.9 | B50: Composição | C50: C006 | D50: TABELA DE BASQUETE DE COMPENSADO NAVAL, COM AROS, REDES E ESTRUTURA EM TUBO GALVANIZADO - FORNECIMENTO E INSTALAÇÃO. | E50: UN | F50: 1 | G50: 1546.4 | H50: 1863.412 | I50: 0.205 | J50: =ROUND(H50,2)*F50 -> 1863.41
A51: 4.0 | D51: PARQUINHO INFANTIL | J51: =SUM(J52:J64)+0.01 -> 192606.66
A52: 4.1 | B52: SINAPI | C52: 97082 | D52: ESCAVAÇÃO MANUAL DE VIGA DE BORDA PARA RADIER. AF_09/2021 | E52: M3 | F52: 8.75 | G52: 69.92 | H52: 84.2536 | I52: 0.205 | J52: =ROUND(H52,2)*F52 -> 737.1875
A53: 4.2 | B53: SINAPI | C53: 97084 | D53: COMPACTAÇÃO MECÂNICA DE SOLO PARA EXECUÇÃO DE RADIER, PISO DE CONCRETO OU LAJE SOBRE SOLO, COM COMPACTADOR DE SOLOS TIPO PLACA VIBRATÓRIA. AF_09/2021 | E53: M2 | F53: 25 | G53: 0.76 | H53: 0.9158 | I53: 0.205 | J53: =ROUND(H53,2)*F53 -> 23
A54: 4.3 | B54: SINAPI | C54: 95241 | D54: LASTRO DE CONCRETO MAGRO, APLICADO EM PISOS, LAJES SOBRE SOLO OU RADIERS, ESPESSURA DE 5 CM. AF_01/2024 | E54: M2 | F54: 15 | G54: 40.45 | H54: 48.74225 | I54: 0.205 | J54: =ROUND(H54,2)*F54 -> 731.1
...

Sheet CRONOGRAMA
B1: CRONOGRAMA FÍSICO-FINANCEIRO
B3: =ORÇAMENTO!A4 -> OBRA: PROJETO DE CONSTRUÇÃO DO ESPAÇO ESPORTIVO COMUNITÁRIO
B5: =#REF! -> #REF!
B7: ETAPA | C7: SERVIÇO | D7: TOTAL ETAPA (R$) | E7: MÊS / DESEMBOLSO
E8: 1º MÊS | F8: 2º MÊS | G8: 3º MÊS | H8: 4º MÊS | I8: 5º MÊS | J8: 6º MÊS
B10: 1.0 | C10: =#REF! -> #REF! | D10: =ORÇAMENTO!J13 -> 53772.821 | E10: =ROUND($D10*E11,2) -> 29575.05 | F10: =ROUND($D10*F11,2) -> 5377.28 | G10: =ROUND($D10*G11,2) -> 5377.28 | H10: =ROUND($D10*H11,2) -> 5377.28 | I10: =ROUND($D10*I11,2) -> 5377.28 | J10: =ROUND($D10*J11,2) -> 2688.64 | K10: =SUM(E10:J10) -> 53772.81
E11: 0.55 | F11: 0.1 | G11: 0.1 | H11: 0.1 | I11: 0.1 | J11: 0.05 | K11: =SUM(E11:J11)-1 -> 0
B13: 2.0 | C13: =ORÇAMENTO!D17 -> CAMPO DE FUTEBOL COM GRAMA SINTÉTICA | D13: =ORÇAMENTO!J17 -> 640124.16 | E13: =ROUND($D13*E14,2) -> 128024.83 | F13: =ROUND($D13*F14,2) -> 128024.83 | G13: =ROUND($D13*G14,2) -> 128024.83 | H13: =ROUND($D13*H14,2) -> 128024.83 | I13: =ROUND($D13*I14,2) -> 64012.42 | J13: =ROUND($D13*J14,2) -> 64012.42 | K13: =SUM(E13:J13) -> 640124.16
E14: 0.2 | F14: 0.2 | G14: 0.2 | H14: 0.2 | I14: 0.1 | J14: 0.1 | K14: =SUM(E14:J14)-1 -> 0
B16: 3.0 | C16: =ORÇAMENTO!D41 -> MEIA QUADRA DE BASQUETE | D16: =ORÇAMENTO!J41 -> 195496.61 | E16: =ROUND($D16*E17,2) -> 39099.32 | F16: =ROUND($D16*F17,2) -> 39099.32 | G16: =ROUND($D16*G17,2) -> 39099.32 | H16: =ROUND($D16*H17,2) -> 39099.32 | I16: =ROUND($D16*I17,2) -> 19549.66 | J16: =ROUND($D16*J17,2) -> 19549.66 | K16: =SUM(E16:J16) -> 195496.6
E17: 0.2 | F17: 0.2 | G17: 0.2 | H17: 0.2 | I17: 0.1 | J17: 0.1 | K17: =SUM(E17:J17)-1 -> 0
B19: 4.0 | C19: =ORÇAMENTO!D51 -> PARQUINHO INFANTIL | D19: =ORÇAMENTO!J51 -> 192606.66 | E19: =ROUND($D19*E20,2) -> 38521.33 | F19: =ROUND($D19*F20,2) -> 38521.33 | G19: =ROUND($D19*G20,2) -> 38521.33 | H19: =ROUND($D19*H20,2) -> 38521.33 | I19: =ROUND($D19*I20,2) -> 19260.67 | J19: =ROUND($D19*J20,2) -> 19260.67 | K19: =SUM(E19:J19) -> 192606.66
E20: 0.2 | F20: 0.2 | G20: 0.2 | H20: 0.2 | I20: 0.1 | J20: 0.1 | K20: =SUM(E20:J20)-1 -> 0
B22: 5.0 | C22: =ORÇAMENTO!D65 -> PISTA DE CAMINHADA | D22: =ORÇAMENTO!J65 -> 171093.62 | E22: =ROUND($D22*E23,2) -> 34218.72 | F22: =ROUND($D22*F23,2) -> 34218.72 | G22: =ROUND($D22*G23,2) -> 34218.72 | H22: =ROUND($D22*H23,2) -> 34218.72 | I22: =ROUND($D22*I23,2) -> 17109.36 | J22: =ROUND($D22*J23,2) -> 17109.36 | K22: =SUM(E22:J22) -> 171093.6
E23: 0.2 | F23: 0.2 | G23: 0.2 | H23: 0.2 | I23: 0.1 | J23: 0.1 | K23: =SUM(E23:J23)-1 -> 0
B25: 6.0 | C25: =ORÇAMENTO!D71 -> IMPLANTAÇÃO GERAL | D25: =ORÇAMENTO!J71 -> 249529.66 | I25: =ROUND($D25*I26,2) -> 124764.83 | J25: =ROUND($D25*J26,2) -> 124764.83 | K25: =SUM(E25:J25) -> 249529.66
I26: 0.5 | J26: 0.5 | K26: =SUM(E26:J26)-1 -> 0
C28: TOTAL | D28: =SUM(D10:D27) -> 1502623.5
B31: TOTAIS PARCIAIS | E31: =SUM(E13,E10,E16,E22,E19,E25) -> 269439.25 | F31: =SUM(F13,F10,F16,F22,F19,F25) -> 245241.48 | G31: =SUM(G13,G10,G16,G22,G19,G25) -> 245241.48 | H31: =SUM(H13,H10,H16,H22,H19,H25) -> 245241.48 | I31: =SUM(I13,I10,I16,I22,I19,I25) -> 250074.22 | J31: =SUM(J13,J10,J16,J22,J19,J25) -> 247385.58 | K31: =SUM(E31:J31) -> 1502623.5
E32: =E31/($D$28) -> 0.17931254 | F32: =F31/($D$28) -> 0.16320886 | G32: =G31/($D$28) -> 0.16320886 | H32: =H31/($D$28) -> 0.16320886 | I32: =I31/($D$28) -> 0.16642506 | J32: =J31/($D$28) -> 0.16463577 | K32: =SUM(E32:J32)-1 -> -3.5071991e-08
B34: TOTAIS ACUMULADOS | E34: =E31 -> 269439.25 | F34: =F31+E34 -> 514680.73 | G34: =G31+F34 -> 759922.21 | H34: =H31+G34 -> 1005163.7 | I34: =I31+H34 -> 1255237.9 | J34: =J31+I34+0.04 -> 1502623.5
E35: =E34/($D$28) -> 0.17931254 | F35: =F34/($D$28) -> 0.34252141 | G35: =G34/($D$28) -> 0.50573027 | H35: =H34/($D$28) -> 0.66893913 | I35: =I34/($D$28) -> 0.8353642 | J35: =J34/($D$28) -> 0.99999999
B37: TOTAL GERAL | E37: =D28 -> 1502623.5 | L37: =#REF! -> #REF! | M37: =E37-L37 -> #REF!
L39: =L37/3 -> #REF!
