Workbook

Sheet Orçamento Sintético
D1: Obra | E1: Bancos | G1: B.D.I. | I1: Encargos Sociais
D2: URBANIZAÇÃO DA ORLA DO RIO ARAGUAIA EM SANTA MARIA DAS BARREIRAS | E2: SINAPI - 02/2026 - Pará | G2: 0.25 | I2: Desonerado: embutido nos preços unitário dos insumos de mão de obra, de acordo com as bases.
A3: Orçamento Sintético
A4: Item | B4: Código | C4: Banco | D4: Descrição | E4: Und | F4: Quant. | G4: Valor Unit | H4: Valor Unit com BDI | I4: Total | J4: Peso (%)
A5: 1 | D5: SERVIÇOS PRELIMINARES | I5: =SUM(I6:I7) -> 74022.44 | J5: 0.023200459
A6: 1.1 | B6: 103689 | C6: SINAPI | D6: FORNECIMENTO E INSTALAÇÃO DE PLACA DE OBRA COM CHAPA GALVANIZADA E ESTRUTURA DE MADEIRA. AF_03/2022_PS | E6: m² | F6: 6 | G6: 473.56 | H6: =ROUND(G6+G6*$G$2,2) -> 591.95 | I6: =ROUND(F6*H6,2) -> 3551.7 | J6: 0.0010209439
A7: 1.2 | B7: 98459 | C7: SINAPI | D7: TAPUME COM TELHA METÁLICA. AF_03/2024 | E7: m² | F7: 572.7 | G7: 98.44 | H7: =ROUND(G7+G7*$G$2,2) -> 123.05 | I7: =ROUND(F7*H7,2) -> 70470.74 | J7: 0.022179515
A8: 2 | D8: MOBILIZAÇÃO/DESMOBILIZAÇÃO | I8: =SUM(I9:I10) -> 7610.1 | J8: 0.0081874982
A9: 2.1 | B9: MOB | C9: Próprio | D9: MOBILIZAÇÃO | E9: UN | F9: 1 | G9: =MOBILIZAÇÃO!I15 -> 3044.04 | H9: =ROUND(G9+G9*$G$2,2) -> 3805.05 | I9: =ROUND(F9*H9,2) -> 3805.05 | J9: 0.0081874982
B10: MOB | C10: Próprio | D10: DESMOBILIZAÇÃO | E10: UM | F10: 1 | G10: =MOBILIZAÇÃO!I15 -> 3044.04 | H10: =ROUND(G10+G10*$G$2,2) -> 3805.05 | I10: =ROUND(F10*H10,2) -> 3805.05
A11: 3 | D11: ADMINISTRAÇÃO LOCAL DA OBRA | I11: =I12 -> 51012.6 | J11: 0.013378678
A12: 3.1 | B12: ADMCAM | C12: Próprio | D12: ADMINISTRAÇÃO LOCAL | E12: UND | F12: 1 | G12: ='ADM LOCAL'!I15 -> 40810.08 | H12: =ROUND(G12+G12*$G$2,2) -> 51012.6 | I12: =ROUND(F12*H12,2) -> 51012.6 | J12: 0.013378678
A13: 4 | D13: INSTALAÇÃO DE CANTEIRO DE OBRA | I13: =SUM(I14:I15) -> 15058.25 | J13: 0.0041374885
A14: 4.1 | B14: BAR DE OBRA | C14: Próprio | D14: BARRACÃO DE OBRA | E14: UN | F14: 1 | G14: =COMPOSIÇÕES!I34 -> 9926.85 | H14: =ROUND(G14+G14*$G$2,2) -> 12408.56 | I14: =ROUND(F14*H14,2) -> 12408.56 | J14: 0.0034119816
A15: 4.2 | B15: 101505 | C15: SINAPI | D15: ENTRADA DE ENERGIA ELÉTRICA, AÉREA, TRIFÁSICA, COM CAIXA DE SOBREPOR, CABO DE 10 MM2 E DISJUNTOR DIN 50A (NÃO INCLUSO O POSTE DE CONCRETO). AF_07/2020_PS | E15: UN | F15: 1 | G15: 2119.75 | H15: =ROUND(G15+G15*$G$2,2) -> 2649.69 | I15: =ROUND(F15*H15,2) -> 2649.69 | J15: 0.00072550695
A16: 5.0 | D16: MURO TRECHO 1- 172,81 M | I16: =I17+I20+I23+I28+I30+I36+I38+I45+I71 -> 1550362.7 | J16: 0.40985485
A17: 5.1 | D17: SERVIÇOS PRELIMINARES | I17: =SUM(I18:I19) -> 19862.54 | J17: 0.0036454759
A18: 5.1.1 | B18: 98524 | C18: SINAPI | D18: LIMPEZA MANUAL DE VEGETAÇÃO EM TERRENO COM ENXADA. AF_03/2024 | E18: m² | F18: 600 | G18: 5.47 | H18: =ROUND(G18+G18*$G$2,2) -> 6.84 | I18: =ROUND(F18*H18,2) -> 4104 | J18: 0.0010916664
A19: 5.1.2 | B19: 99059 | C19: SINAPI | D19: LOCAÇÃO CONVENCIONAL DE OBRA, UTILIZANDO GABARITO DE TÁBUAS CORRIDAS PONTALETADAS A CADA 2,00M - 2 UTILIZAÇÕES. AF_03/2024 | E19: M | F19: 172.81 | G19: 72.95 | H19: =ROUND(G19+G19*$G$2,2) -> 91.19 | I19: =ROUND(F19*H19,2) -> 15758.54 | J19: 0.0025538095
A20: 5.2 | D20: FUNDAÇÃO | I20: =SUM(I21:I22) -> 207677.89 | J20: 0.048334739
A21: 5.2.1 | B21: 102487 | C21: SINAPI | D21: CONCRETO CICLÓPICO FCK = 15MPA, 30% PEDRA DE MÃO EM VOLUME REAL, INCLUSIVE LANÇAMENTO. AF_05/2021 | E21: m³ | F21: 195.32 | G21: 846.61 | H21: =ROUND(G21+G21*$G$2,2) -> 1058.26 | I21: =ROUND(F21*H21,2) -> 206699.34 | J21: 0.04811109
A22: 5.2.2 | B22: 101115 | C22: SINAPI | D22: ESCAVAÇÃO HORIZONTAL EM SOLO DE 1A CATEGORIA COM TRATOR DE ESTEIRAS (150HP/LÂMINA: 3,18M3). AF_07/2020 | E22: m³ | F22: 195.32 | G22: 4.01 | H22: =ROUND(G22+G22*$G$2,2) -> 5.01 | I22: =ROUND(F22*H22,2) -> 978.55 | J22: 0.00022364897
A23: 5.3 | D23: ESTRUTURA | I23: =SUM(I24:I27) -> 847591.43 | J23: 0.23195567
A24: 5.3.1 | B24: 102487 | C24: SINAPI | D24: CONCRETO CICLÓPICO FCK = 15MPA, 30% PEDRA DE MÃO EM VOLUME REAL, INCLUSIVE LANÇAMENTO. AF_05/2021 | E24: m³ | F24: 768.27 | G24: =G21 -> 846.61 | H24: =ROUND(G24+G24*$G$2,2) -> 1058.26 | I24: =ROUND(F24*H24,2) -> 813029.41 | J24: 0.20848139
A25: 5.3.2 | B25: 100341 | C25: SINAPI | D25: FABRICAÇÃO E MONTAGEM E DESMONTAGEM DE FORMA PARA CORTINA, 10 UTILIZAÇÕS | E25: m² | F25: 464.14 | G25: 44.53 | H25: =ROUND(G25+G25*$G$2,2) -> 55.66 | I25: =ROUND(F25*H25,2) -> 25834.03 | J25: 0.021629094
A26: 5.3.3 | B26: 92762 | C26: SINAPI | D26: ARMAÇÃO DE PILAR OU VIGA DE ESTRUTURA CONVENCIONAL DE CONCRETO ARMADO UTILIZANDO AÇO CA-50 DE 10,0 MM - MONTAGEM. AF_06/2022 | E26: KG | F26: 469.14 | G26: 10.64 | H26: =ROUND(G26+G26*$G$2,2) -> 13.3 | I26: =ROUND(F26*H26,2) -> 6239.56 | J26: 0.0012253766
A27: 5.3.4 | B27: 92759 | C27: SINAPI | D27: ARMAÇÃO DE PILAR OU VIGA DE ESTRUTURA CONVENCIONAL DE CONCRETO ARMADO UTILIZANDO AÇO CA-60 DE 5,0 MM - MONTAGEM. AF_06/2022 | E27: KG | F27: 140.51 | G27: 14.17 | H27: =ROUND(G27+G27*$G$2,2) -> 17.71 | I27: =ROUND(F27*H27,2) -> 2488.43 | J27: 0.00061981035
A28: 5.4 | D28: DRENAGEM | I28: =I29 -> 11945.4 | J28: 0.0032780297
A29: 5.4.1 | B29: BARB | C29: Próprio | D29: BARBACAN COM TUBO 50 MM | E29: UN | F29: 129 | G29: =COMPOSIÇÕES!I44 -> 74.08 | H29: =ROUND(G29+G29*$G$2,2) -> 92.6 | I29: =ROUND(F29*H29,2) -> 11945.4 | J29: 0.0032780297
A30: 5.5 | D30: TERRAPLENAGEM | I30: =SUM(I31:I35) -> 93340.85 | J30: 0.021602681
A31: 5.5.1 | B31: 101115 | C31: SINAPI | D31: ESCAVAÇÃO HORIZONTAL EM SOLO DE 1A CATEGORIA COM TRATOR DE ESTEIRAS (150HP/LÂMINA: 3,18M3). AF_07/2020 | E31: m³ | F31: 1620.01 | G31: 4.01 | H31: =ROUND(G31+G31*$G$2,2) -> 5.01 | I31: =ROUND(F31*H31,2) -> 8116.25 | J31: 0.0018146
A32: 5.5.2 | B32: 100973 | C32: SINAPI | D32: CARGA, MANOBRA E DESCARGA DE SOLOS E MATERIAIS GRANULARES EM CAMINHÃO BASCULANTE 6 M³ - CARGA COM PÁ CARREGADEIRA (CAÇAMBA DE 1,7 A 2,8 M³ / 128 HP) E DESCARGA LIVRE (UNIDADE: M3). AF_07/2020 | E32: m³ | F32: 2025.01 | G32: 9.03 | H32: =ROUND(G32+G32*$G$2,2) -> 11.29 | I32: =ROUND(F32*H32,2) -> 22862.36 | J32: 0.0056658535
A33: 5.5.3 | B33: 97913 | C33: SINAPI | D33: TRANSPORTE COM CAMINHÃO BASCULANTE DE 6 M³, EM VIA URBANA EM REVESTIMENTO PRIMÁRIO (UNIDADE: M3XKM). AF_07/2020 | E33: M3XKM | F33: 10125.05 | G33: 3.6 | H33: =ROUND(G33+G33*$G$2,2) -> 4.5 | I33: =ROUND(F33*H33,2) -> 45562.73 | J33: 0.01014993
A34: 5.5.4 | B34: 100574 | C34: SINAPI | D34: ESPALHAMENTO DE MATERIAL COM TRATOR DE ESTEIRAS. AF_09/2024 | E34: m³ | F34: 1620.01 | G34: 1.49 | H34: =ROUND(G34+G34*$G$2,2) -> 1.86 | I34: =ROUND(F34*H34,2) -> 3013.22 | J34: 0.0006785682
A35: 5.5.5 | B35: 96386 | C35: SINAPI | D35: EXECUÇÃO E COMPACTAÇÃO DE CORPO DE ATERRO (95% DE ENERGIA DO PROCTOR NORMAL) COM SOLO PREDOMINANTEMENTE ARENOSO ESPESSURA 15CM - EXCLUSIVE MATERIAL, ESCAVAÇÃO, CARGA E TRANSPORTE. AF_09/2024 | E35: m³ | F35: 1620.01 | G35: 6.81 | H35: =ROUND(G35+G35*$G$2,2) -> 8.51 | I35: =ROUND(F35*H35,2) -> 13786.29 | J35: 0.0032937294
A36: 5.6 | D36: SERVIÇOS COMPLEMENTARES | I36: =I37 -> 93108.3 | J36: 0.021634861
A37: 5.6.1 | B37: GCMURO | C37: Próprio | D37: GUARDA CORPO MURO | E37: M | F37: 172.81 | G37: =COMPOSIÇÕES!I58 -> 431.03 | H37: =ROUND(G37+G37*$G$2,2) -> 538.79 | I37: =ROUND(F37*H37,2) -> 93108.3 | J37: 0.021634861
A38: 5.7 | D38: RAMPA DE EMBARQUE E DESEMBARQUE | I38: =SUM(I39:I44) -> 77625.12 | J38: 0.014040507
A39: 5.7.1 | B39: 100575 | C39: SINAPI | D39: REGULARIZAÇÃO DE SUPERFÍCIES COM MOTONIVELADORA. AF_09/2024 | E39: m² | F39: 390.5 | G39: 0.55 | H39: =ROUND(G39+G39*$G$2,2) -> 0.69 | I39: =ROUND(F39*H39,2) -> 269.45 | J39: 4.2502213e-05
A40: 5.7.2 | B40: 97083 | C40: SINAPI | D40: COMPACTAÇÃO MECÂNICA DE SOLO PARA EXECUÇÃO DE RADIER, PISO DE CONCRETO OU LAJE SOBRE SOLO, COM COMPACTADOR DE SOLOS A PERCUSSÃO. AF_09/2021 | E40: m² | F40: 390.5 | G40: 3.86 | H40: =ROUND(G40+G40*$G$2,2) -> 4.83 | I40: =ROUND(F40*H40,2) -> 1886.12 | J40: 0.00025850661
...

Sheet ADM LOCAL
A2: PREFEITURA MUNICIPAL DE SANTA MARIA DAS BARREIRAS
A3: SECRETARIA MUNICIPAL DE OBRAS PÚBLICAS
A4: PLANILHA ORÇAMENTÁRIA
A5: OBRA : | B5: AMPLIAÇÃO DA ORLA DE SANTA MARIA DAS BARREIRAS
A6: LOCAL: | B6: SEDE DO MUNICIPIO
A7: DATA BASE: | B7: SINAPI FEV/2026
A8: =[1]ORÇAMENTO!A19 -> 3.0 | B8: =[1]ORÇAMENTO!C19 -> ADMINISTRAÇÃO LOCAL DA OBRA
A10: CPU-02 | B10: COMPOSIÇÃO
A11: FONTE | B11: CÓDIGO | C11: DESCRIÇÃO | F11: UND. | G11: QUANT. | H11: PREÇO (R$)
H12: UNITÁRIO | I12: TOTAL
A13: SINAPI | B13: 90777 | C13: ENGENHEIRO CIVIL DE OBRA JUNIORCOM ENCARGOS COMPLEMENTARES | F13: H | G13: =G19 -> 24 | H13: 137.06 | I13: =ROUND(G13*H13,2) -> 3289.44
A14: SINAPI | B14: 90776 | C14: ENCARREGADO GERAL COM ENCARGOS COMPLEMENTARES | F14: H | G14: =G20 -> 1152 | H14: 32.57 | I14: =ROUND(G14*H14,2) -> 37520.64
A15: TOTAL | I15: =SUM(I13:I14) -> 40810.08
A17: MEMÓRIA DE CÁLCULO
A18: Ref. | C18: h/dia | D18: dias/mês | E18: quant. Meses | F18: Quant
A19: Engenheiro Civil | C19: 2 | D19: 2 | E19: 6 | F19: 1 | G19: =ROUND((C19*D19*E19),2) -> 24
A20: Encarregado Geral | C20: 8 | D20: 24 | E20: 6 | F20: 1 | G20: =ROUND((C20*D20*E20*F20),2) -> 1152

Sheet MOBILIZAÇÃO
A2: PREFEITURA MUNICIPAL DE SANTA MARIA DAS BARREIRAS
A3: SECRETARIA MUNICIPAL DE OBRAS PÚBLICAS
A4: PLANILHA ORÇAMENTÁRIA
A5: OBRA : | B5: AMPLIAÇÃO DA ORLA DE SANTA MARIA DAS BARREIRAS
A6: LOCAL: | B6: SEDE DO MUNICIPIO- SANTA MARIA DAS BARREIRAS
A7: DATA BASE: | B7: SINAPI FEV/2026
A8: 2.0 | B8: MOBILIZAÇÃO E DESMOBILIZAÇÃO
A10: CPU-02 | B10: COMPOSIÇÃO
A11: FONTE | B11: CÓDIGO | C11: DESCRIÇÃO | F11: UND. | G11: QUANT. | H11: PREÇO (R$)
H12: UNITÁRIO | I12: TOTAL
A13: SINAPI | B13: 88316 | C13: SERVENTE DE DOBRA C/ ENCARGOS COMPLEMENTARES | F13: H | G13: 12 | H13: 25.66 | I13: =ROUND(G13*H13,2) -> 307.92
A14: SINAPI | B14: 5894 | C14: CAMINHÃO TOCO | F14: H | G14: 12 | H14: 228.01 | I14: =ROUND(G14*H14,2) -> 2736.12
A15: TOTAL | I15: =SUM(I13:I14) -> 3044.04

Sheet COMPOSIÇÕES
A2: PREFEITURA MUNICIPAL DE SANTA MARIA DAS BARREIRAS
A3: SECRETARIA MUNICIPAL DE OBRAS PÚBLICAS
A4: PLANILHA ORÇAMENTÁRIA
A5: OBRA : | B5: AMPLIAÇÃO DA ORLA DE SANTA MARIA DAS BARREIRAS
A6: LOCAL: | B6: SEDE DO MUNICIPIO- SANTA MARIA DAS BARREIRAS
A7: DATA BASE: | B7: SINAPI FEV/2026
A8: BAR OBRA | B8: BARRACÃO DA OBRA(3 X 4 M)
A10: CPU-03 | B10: COMPOSIÇÃO
A11: FONTE | B11: CÓDIGO | C11: DESCRIÇÃO | F11: UND. | G11: QUANT. | H11: PREÇO (R$)
H12: UNITÁRIO | I12: TOTAL
A13: SINAPI | B13: 88262 | C13: CARPINTEIRO COM ENCARGOS COMPLEMENTARES | F13: H | G13: 10 | H13: 30.5 | I13: =ROUND(G13*H13,2) -> 305
A14: SINAPI | B14: 88267 | C14: ENCANADOR COM ENCARGOS COMPLEMENTAES | F14: H | G14: 4 | H14: 30.54 | I14: =ROUND(G14*H14,2) -> 122.16
A15: SINAPI | B15: 98441 | C15: PAREDE DE MADEIRA COMPENSADA EM HAPA SIMPLES | F15: M² | G15: 39.75 | H15: 110.88 | I15: =ROUND(G15*H15,2) -> 4407.48
A16: SINAPI | B16: 98443 | C16: PAREDE DE MADEIRA COMPENSADA INTERNA | F16: M² | G16: 7.5 | H16: 87.54 | I16: =ROUND(G16*H16,2) -> 656.55
A17: SINAPI | B17: 88309 | C17: PEDREIRO COM ENCARGOS COMPLEMENTARES | F17: H | G17: 10 | H17: 31.1 | I17: =ROUND(G17*H17,2) -> 311
A18: SINAPI | B18: 98460 | C18: PISO PARA CONSTRUÇÃO TEMPORARIA EM MADEIRA | F18: M² | G18: 13.5 | H18: 88.22 | I18: =ROUND(G18*H18,2) -> 1190.97
A19: SINAPI | B19: 88316 | C19: SERVENTE COM ENCARGOS COMPLEMENTARES | F19: H | G19: 10 | H19: 25.66 | I19: =ROUND(G19*H19,2) -> 256.6
A20: SINAPI | B20: 94207 | C20: TELHAMENTO COM TELHA ONDULADA 6 MM | F20: M² | G20: 22 | H20: 72.73 | I20: =ROUND(G20*H20,2) -> 1600.06
A21: SINAPI | B21: 92544 | C21: TRAMA DE MADEIRA COMPOSTA POR TERÇAS | F21: M² | G21: 22 | H21: 23.63 | I21: =ROUND(G21*H21,2) -> 519.86
A22: SINAPI | B22: 119 | C22: ADESIVO PLASTICO BISNAGA 75 G | F22: UND. | G22: 0.5 | H22: 9.38 | I22: =ROUND(G22*H22,2) -> 4.69
A23: SINAPI | B23: 370 | C23: AREIA MEDIA | F23: M³ | G23: 0.27 | H23: 120 | I23: =ROUND(G23*H23,2) -> 32.4
A24: SINAPI | B24: 1030 | C24: CAIXA DE DESCARGA PLASTICA | F24: UND. | G24: 1 | H24: 49.45 | I24: =ROUND(G24*H24,2) -> 49.45
... A33: SINAPI | B33: 9868 | C33: TUBO PVC 25 MM | F33: M | G33: 18 | H33: 4.99 | I33: =ROUND(G33*H33,2) -> 89.82
A34: TOTAL | I34: =SUM(I13:I33) -> 9926.85
A36: CPU 4 | B36: BARBACAN - M
A38: BARB | B38: COMPOSIÇÃO
A39: FONTE | B39: CÓDIGO | C39: DESCRIÇÃO | F39: UND. | G39: QUANT. | H39: PREÇO (R$)
H40: UNITÁRIO | I40: TOTAL
A41: SINAPI | B41: 102715 | C41: GEOTEXTIL INSTALADO EM DRENO | F41: M² | G41: 1.2 | H41: 28.24 | I41: =ROUND(G41*H41,2) -> 33.89
A42: SINAPI | B42: 4718 | C42: PEDRA BRITADA Nº 2 | F42: M³ | G42: 0.045 | H42: 253.48 | I42: =ROUND(G42*H42,2) -> 11.41
A43: SINAPI | B43: 36084 | C43: TUBO PVC 50 MM | F43: M | G43: 1.8 | H43: 15.99 | I43: =ROUND(G43*H43,2) -> 28.78
A44: TOTAL | I44: =SUM(I41:I43) -> 74.08
A46: CPU 5 | B46: GUARDA CORPO- M
A48: GC MURO | B48: COMPOSIÇÃO
A49: FONTE | B49: CÓDIGO | C49: DESCRIÇÃO | F49: UND. | G49: QUANT. | H49: PREÇO (R$)
H50: UNITÁRIO | I50: TOTAL
A51: SINAPI | B51: 92759 | C51: ARMAÇÃO AÇO 5, 0MM | F51: M² | G51: 1.2 | H51: 14.17 | I51: =ROUND(G51*H51,2) -> 17
A52: SINAPI | B52: 92761 | C52: ARMAÇÃO AÇO 8.0 MM | F52: M³ | G52: 0.045 | H52: 12.04 | I52: =ROUND(G52*H52,2) -> 0.54
A53: SINAPI | B53: 102487 | C53: CONCRETO FCK =15 MPA | F53: M³ | G53: 0.05 | H53: 620.31 | I53: =ROUND(G53*H53,2) -> 31.02
A54: SINAPI | B54: 103670 | C54: LANÇAMENTO DE CONCRETO C/ USO DE BALDES | F54: M³ | G54: 0.05 | H54: 343.13 | I54: =ROUND(G54*H54,2) -> 17.16
...

Sheet QCI
A7: PREFEITURA MUNICIPAL DE SANTA MARIA DAS BARREIRAS
A8: SECRETARIA MUNICIPAL DE OBRAS PÚBLICAS
A9: PLANILHA ORÇAMENTÁRIA
A10: OBRA : | B10: =CRONOGRAMA!B5 -> AMPLIAÇÃO DA ORLA DE SANTA MARIA DAS BARREIRAS
A11: LOCAL: | B11: =CRONOGRAMA!B6 -> SEDE DO MUNICIPIO- ZONA RURAL DE SANTA MARIA DAS BARREIRAS-PA
A12: DATA BASE: | B12: =CRONOGRAMA!B7 -> SINAPI FEV/2026 COM DESONERAÇÃO
A13: QCI- QUADRO DE COMPOSIÇÃO DE INVESTIMENTO
A16: 1 | B16: CONCEDENTE | C16: 2870210 | D16: =C16/C22 -> 0.82379098
A19: 2 | B19: PROPONENTE | C19: =C22-C16 -> 613938.37 | D19: =C19/C22 -> 0.17620902
A22: 3 | B22: TOTAL | C22: 3484148.4 | D22: =SUM(D16:D21) -> 1

Sheet CRONOGRAMA
A2: PREFEITURA MUNICIPAL DE SANTA MARIA DAS BARREIRAS
A3: SECRETARIA MUNICIPAL DE OBRAS PÚBLICAS
A4: PLANILHA ORÇAMENTÁRIA
A5: OBRA : | B5: AMPLIAÇÃO DA ORLA DE SANTA MARIA DAS BARREIRAS
A6: LOCAL: | B6: SEDE DO MUNICIPIO- ZONA RURAL DE SANTA MARIA DAS BARREIRAS-PA
A7: DATA BASE: | B7: SINAPI FEV/2026 COM DESONERAÇÃO
A8: Cronograma Físico- Financeiro
E10: MÊS 01 | F10: MÊS 02 | G10: MÊS 03 | H10: MÊS 04 | I10: MÊS 05 | J10: MÊS 06
A11: 1 | B11: ='Orçamento Sintético'!D5 -> SERVIÇOS PRELIMINARES | C11: ='Orçamento Sintético'!I5 -> 74022.44 | D11: =C11/$C$29 -> 0.02124549 | E11: 1
E12: =E11*+$C$11 -> 74022.44
A14: 2 | B14: ='Orçamento Sintético'!D8 -> MOBILIZAÇÃO/DESMOBILIZAÇÃO | C14: ='Orçamento Sintético'!I8 -> 7610.1 | D14: =C14/$C$29 -> 0.0021842066 | E14: 0.5 | J14: 0.5
E15: =E14*+$C$14 -> 3805.05 | F15: =F14*+$C$14 -> 0 | G15: =G14*+$C$14 -> 0 | H15: =H14*+$C$14 -> 0 | I15: =I14*+$C$14 -> 0 | J15: =J14*+$C$14 -> 3805.05
A17: 3 | B17: ='Orçamento Sintético'!D11 -> ADMINISTRAÇÃO LOCAL DA OBRA | C17: ='Orçamento Sintético'!I11 -> 51012.6 | D17: =C17/$C$29 -> 0.01464134 | E17: 0.1666 | F17: 0.1666 | G17: 0.1666 | H17: 0.1666 | I17: 0.1666 | J17: 0.1667
E18: =E17*+$C$17 -> 8498.6992 | F18: =F17*+$C$17 -> 8498.6992 | G18: =G17*+$C$17 -> 8498.6992 | H18: =H17*+$C$17 -> 8498.6992 | I18: =I17*+$C$17 -> 8498.6992 | J18: 8519.1
A20: 4 | B20: ='Orçamento Sintético'!D13 -> INSTALAÇÃO DE CANTEIRO DE OBRA | C20: ='Orçamento Sintético'!I13 -> 15058.25 | D20: =C20/$C$29 -> 0.0043219313 | E20: 1
E21: =C20 -> 15058.25
A23: 5 | B23: ='Orçamento Sintético'!D16 -> MURO TRECHO 1- 172,81 M | C23: ='Orçamento Sintético'!I16 -> 1550362.7 | D23: =C23/$C$29 -> 0.4449761 | E23: 0.2 | F23: 0.4 | G23: 0.4
E24: =E23*+$C$23 -> 310072.55 | F24: =F23*+$C$23 -> 620145.1 | G24: =G23*+$C$23 -> 620145.1
A26: 6 | B26: ='Orçamento Sintético'!D77 -> MURO TRECHO 2- 160 METROS | C26: ='Orçamento Sintético'!I77 -> 1786082.2 | D26: =C26/$C$29 -> 0.51263094 | F26: 0.1 | G26: 0.2 | H26: 0.2 | I26: 0.25 | J26: 0.25
E27: =E26*+$C$26 -> 0 | F27: =F26*+$C$26 -> 178608.22 | G27: =G26*+$C$26 -> 357216.45 | H27: =H26*+$C$26 -> 357216.45 | I27: =I26*+$C$26 -> 446520.56 | J27: =J26*+$C$26 -> 446520.56
A29: TOTAL | B29: TOTAL | C29: =SUM(C11:C28) -> 3484148.4 | D29: =SUM(D11:D28) -> 1 | E29: =E12+E15+E24+E27+E18+E21 -> 411456.99 | F29: =F12+F15+F24+F27+F18+F21 -> 807252.02 | G29: =G12+G15+G24+G27+G18+G21 -> 985860.24 | H29: =H12+H15+H24+H27+H18+H21 -> 365715.15 | I29: =I12+I15+I24+I27+I18+I21 -> 455019.26 | J29: =J12+J15+J24+J27+J18+J21 -> 458844.71
B30: ACUMULADO | C30: =1*C29 -> 3484148.4 | D30: 100 | E30: =E29 -> 411456.99 | F30: =F29+E30 -> 1218709 | G30: =G29+F30 -> 2204569.2 | H30: =H29+G30 -> 2570284.4 | I30: =I29+H30 -> 3025303.7 | J30: =J29+I30 -> 3484148.4
