Workbook

Sheet CRONOGRAMA
A1: CRONOGRAMA FÍSICO-FINANCEIRO
A3: OBJETO: CONTRATAÇÃO DE EMPRESA PARA PRESTAÇÃO DE SERVIÇOS TÉCNICOS ESPECIALIZADOS DE ENGENHARIA PARA ELABORAÇÃO INTEGRADA DE PROJETOS DE ARQUITETURA E ENGENHARIA, BÁSICO E EXECUTIVO, COM COMPATIBILIZAÇÃO ENTRE DISCIPLINAS E OBSERVÂNCIA RIGOROSA ÀS NORMAS TÉCNICAS E REGULATÓRIAS APLICÁVEIS, DA CONSTRUÇÃO DO ANEL VIÁRIO DA ITAGIBA E DA CONSTRUÇÃO DO ANEL VIÁRIO DA NOELÂNDIA, BOM JARDIM/PE
A4: REFERÊNCIAS: SINAPI SETEMBRO/2025 / SICRO-DNIT CONSULTORIAS JULHO/2025
A5: DATA-BASE: JANEIRO/2026
A7: ITEM | B7: DISCRIMINAÇÃO | C7: VALOR DA ETAPA | D7: MÊS 1 | E7: MÊS 2 | F7: MÊS 3
A9: 3 | B9: Elaboração dos Estudos Preliminares, Projetos Básicos e Executivos de Arquitetura e Engenharia para Construção do Anel Viário da Itagiba, Bom Jardim/PE (2km de pavimentação, urbanização e drenagem) e para Construção do Anel Viário da Noelândia, Bom Jardim/PE (600m de pavimentação, urbanização e drenagem) | C9: ='COMPOSIÇÃO 003'!$H$72 -> 346737.96 | D9: =ROUND($C9*D10,2) -> 104021.39 | E9: =ROUND($C9*E10,2) -> 138695.18 | F9: =ROUND($C9*F10,2) -> 104021.39
D10: 0.3 | E10: 0.4 | F10: 0.3
C11: =SUM(C8:C10) -> 346737.96
A12: PERÍODO | D12: =D9 -> 104021.39 | E12: =E9 -> 138695.18 | F12: =F9 -> 104021.39
D13: =D12/$C$11 -> 0.30000001 | E13: =E12/$C$11 -> 0.39999999 | F13: =F12/$C$11 -> 0.30000001
A14: ACUMULADO | D14: =D12 -> 104021.39 | E14: =D14+E12 -> 242716.57 | F14: =E14+F12 -> 346737.96 | G14: =C11-F14 -> 0
D15: =D13 -> 0.30000001 | E15: =D15+E13 -> 0.69999999 | F15: =E15+F13 -> 1

Sheet ORÇAMENTO
A1: PLANILHA ORÇAMENTÁRIA RESUMO
A3: OBJETO: CONTRATAÇÃO DE EMPRESA PARA PRESTAÇÃO DE SERVIÇOS TÉCNICOS ESPECIALIZADOS DE ENGENHARIA PARA ELABORAÇÃO INTEGRADA DE PROJETOS DE ARQUITETURA E ENGENHARIA, BÁSICO E EXECUTIVO, COM COMPATIBILIZAÇÃO ENTRE DISCIPLINAS E OBSERVÂNCIA RIGOROSA ÀS NORMAS TÉCNICAS E REGULATÓRIAS APLICÁVEIS, DA CONSTRUÇÃO DO ANEL VIÁRIO DA ITAGIBA E DA CONSTRUÇÃO DO ANEL VIÁRIO DA NOELÂNDIA, BOM JARDIM/PE
A4: REFERÊNCIAS: SINAPI SETEMBRO/2025 / SICRO-DNIT CONSULTORIAS JULHO/2025
A5: DATA-BASE: JANEIRO/2026
A7: ITEM | B7: FONTE | C7: CÓDIGO | D7: DISCRIMINAÇÃO | E7: UNID. | F7: QUANT. | G7: VALOR UNITÁRIO (R$) | H7: VALOR TOTAL (R$)
K8: Estimado obra | L8: %
A9: 1 | B9: COMPOSIÇÃO | C9: 3 | D9: Elaboração dos Estudos Preliminares, Projetos Básicos e Executivos de Arquitetura e Engenharia para Construção do Anel Viário da Itagiba, Bom Jardim/PE (2km de pavimentação, urbanização e drenagem) e para Construção do Anel Viário da Noelândia, Bom Jardim/PE (600m de pavimentação, urbanização e drenagem) | E9: UN | F9: 1 | G9: ='COMPOSIÇÃO 003'!$H$72 -> 346737.96 | H9: =F9*G9 -> 346737.96 | K9: =10000000+5000000 -> 15000000 | L9: =G9/K9 -> 0.023115864
A11: PREÇO ESTIMADO TOTAL | H11: =SUM(H8:H10) -> 346737.96 | K11: =SUM(K9:K10) -> 15000000 | L11: =H11/K11 -> 0.023115864

Sheet COMPOSIÇÃO 003
A1: COMPOSIÇÃO DE CUSTO DE REFERENCIA - COMPOSIÇÃO 003
A3: OBJETO: ELABORAÇÃO DOS ESTUDOS PRELIMINARES, PROJETO BÁSICO E EXECUTIVO DE ARQUITETURA E ENGENHARIA PARA "CONSTRUÇÃO DO ANEL VIÁRIO DA ITAGIBA, BOM JARDIM/PE" E PARA "CONSTRUÇÃO DO ANEL VIÁRIO DA NOELÂNDIA, BOM JARDIM/PE"
A4: PRAZO DO OBJETO: 03 MESES
A5: =ORÇAMENTO!A4 -> REFERÊNCIAS: SINAPI SETEMBRO/2025 / SICRO-DNIT CONSULTORIAS JULHO/2025
A6: =ORÇAMENTO!A5 -> DATA-BASE: JANEIRO/2026
A8: ITEM | B8: FONTE DE REFERENCIA | C8: CÓDIGO | D8: DESCRIÇÃO | E8: UNIDADE | F8: QUANT. | G8: PREÇO
A9: ITEM | B9: FONTE | C9: CÓDIGO | D9: DISCRIMINAÇÃO | E9: UNID. | F9: QUANT. | G9: UNITÁRIO (R$) | H9: TOTAL (R$)
A11: A | D11: MÃO DE OBRA
A13: 1.0 | D13: EQUIPE - NÍVEL SUPERIOR
A14: 1.1 | B14: SICRO CONSULTORIAS JULHO/2025 | C14: P8067 | D14: Engenheiro de projetos sênior | E14: HOMEMxMÊS | F14: =1*(3/30)*10 -> 1 | G14: 16952.51 | H14: =TRUNC(G14*F14,2) -> 16952.51
D15: ENGENHEIRO COORDENADOR E COMPATIBILIZADOR: 1 profissional x 10 dias por mês x 3 meses
A17: 1.2 | B17: SICRO CONSULTORIAS JULHO/2025 | C17: P8066 | D17: Engenheiro de projetos pleno | E17: HOMEMxMÊS | F17: =1*(30/30)*3 -> 3 | G17: 14698.04 | H17: =TRUNC(G17*F17,2) -> 44094.12
D18: PROJETOS ESPECIALIZADOS: 1 profissional x 30 dias por mês x 3 meses
A20: 1.3 | B20: SICRO CONSULTORIAS JULHO/2025 | C20: P8065 | D20: Engenheiro de projetos júnior | E20: HOMEMxMÊS | F20: =1*(30/30)*3 -> 3 | G20: 12443.57 | H20: =TRUNC(G20*F20,2) -> 37330.71
D21: DETALHAMENTO DOS PROJETOS DE ENGENHARIA: 1 profissional x 30 dias por mês x 3 meses
A23: 1.4 | B23: SICRO CONSULTORIAS JULHO/2025 | C23: P8013 | D23: Arquiteto júnior | E23: HOMEMxMÊS | F23: =1*(30/30)*1 -> 1 | G23: 12443.57 | H23: =TRUNC(G23*F23,2) -> 12443.57
D24: DETALHAMENTO DOS PROJETOS DE ARQUITETURA: 1 profissional x 30 dias por mês x 1 mês
A26: Subtotal 1 | H26: =SUM(H14:H25) -> 110820.91
A28: 2.0 | D28: EQUIPE - NÍVEL TÉCNICO
A29: 2.1 | B29: SICRO CONSULTORIAS JULHO/2025 | C29: P8147 | D29: Técnico de obras | E29: HOMEMxMÊS | F29: =2*(30/30)*3 -> 6 | G29: 3323.33 | H29: =TRUNC(G29*F29,2) -> 19939.98
D30: AUXILIAR TÉCNICO/ DESENHISTA: 2 profissionais x 30 dias por mês x 3 meses
A32: 2.2 | B32: SICRO CONSULTORIAS JULHO/2025 | C32: P8163 | D32: Topógrafo | E32: HOMEMxMÊS | F32: =1*(15/30)*1 -> 0.5 | G32: 2627.36 | H32: =TRUNC(G32*F32,2) -> 1313.68
D33: TOPÓGRAFO: 1 profissional x 15 dias por mês x 1 mês
A35: 2.3 | B35: SICRO CONSULTORIAS JULHO/2025 | C35: P8028 | D35: Auxiliar de topografia | E35: HOMEMxMÊS | F35: =2*(15/30)*1 -> 1 | G35: 1706.03 | H35: =TRUNC(G35*F35,2) -> 1706.03
D36: AUXILIAR DE TOPOGRAFIA: 2 profissionais x 15 dias por mês x 1 mês)
A38: 2.4 | B38: SICRO CONSULTORIAS JULHO/2025 | C38: P8139 | D38: Sondador | E38: HOMEMxMÊS | F38: =3*(10/30)*1 -> 1 | G38: 2219.18 | H38: =TRUNC(G38*F38,2) -> 2219.18
D39: EQUIPE DE SONDAGEM: 3 profissionais x 10 dias por mês x 1 mês)
A41: Subtotal 2 | H41: =SUM(H29:H40) -> 25178.87
G42: Subtotal 1 + Subtotal 2
A43: 3.0 | B43: SINAPI-PE SET/2025 | C43: (ONERADO) | D43: ENCARGOS SOCIAIS (MENSALISTA) | E43: % | F43: 0.7011 | G43: =H26+H41 -> 135999.78 | H43: =TRUNC(G43*F43,2) -> 95349.44
G44: Subtotal 1 + Subtotal 2 + Encargos sociais
A45: 4.0 | B45: CAIXA/SICRO | D45: CUSTOS ADMINISTRATIVOS | E45: % | F45: 0.2 | G45: =G43+H43 -> 231349.22 | H45: =TRUNC(G45*F45,2) -> 46269.84
A46: TOTAL A (Subtotal 1 + Subtotal 2 + 3.0 + 4.0) | H46: =SUM(H43:H45,H41,H26) -> 277619.06
A48: B | D48: EQUIPAMENTOS E MATERIAIS
A49: 5.0 | D49: SERVIÇOS DE APOIO
A50: 5.1 | B50: SICRO CONSULTORIAS JULHO/2025 | C50: E8889 | D50: Veículo leve - 53 kW (sem motorista)
D51: (1 equipe em campo x 10 dias úteis = 10 dias x veículo) 10 dias x 4 horas em deslocamento (CHP) = 40 horas | E51: CHP | F51: =10*4 -> 40 | G51: 36.65 | H51: =TRUNC(G51*F51,2) -> 1466
D52: (1 equipe em campo x 10 dias úteis = 10 dias x veículo) 10 dias x 8 horas parado (CHI) = 80 horas | E52: CHI | F52: =10*8 -> 80 | G52: 6.69 | H52: =TRUNC(G52*F52,2) -> 535.2
A54: 5.2 | B54: SICRO CONSULTORIAS JULHO/2025 | C54: B8958 | D54: Cesta das Instalações - Topografia | E54: EQUIP x MÊS | F54: =F32 -> 0.5 | G54: 5426.19 | H54: =TRUNC(G54*F54,2) -> 2713.09
D55: INSTRUMENTAL DE TOPOGRAFIA: 1 equipamento x 15 dias por mês x 1 mês
...

Sheet DESPESAS FISCAIS
A1: DETALHAMENTO DEPESAS FISCAIS
A3: =ORÇAMENTO!A3 -> OBJETO: CONTRATAÇÃO DE EMPRESA PARA PRESTAÇÃO DE SERVIÇOS TÉCNICOS ESPECIALIZADOS DE ENGENHARIA PARA ELABORAÇÃO INTEGRADA DE PROJETOS DE ARQUITETURA E ENGENHARIA, BÁSICO E EXECUTIVO, COM COMPATIBILIZAÇÃO ENTRE DISCIPLINAS E OBSERVÂNCIA RIGOROSA ÀS NORMAS TÉCNICAS E REGULATÓRIAS APLICÁVEIS, DA CONSTRUÇÃO DO ANEL VIÁRIO DA ITAGIBA E DA CONSTRUÇÃO DO ANEL VIÁRIO DA NOELÂNDIA, BOM JARDIM/PE
A4: =ORÇAMENTO!A4 -> REFERÊNCIAS: SINAPI SETEMBRO/2025 / SICRO-DNIT CONSULTORIAS JULHO/2025
A5: =ORÇAMENTO!A5 -> DATA-BASE: JANEIRO/2026
A7: DISCRIMINAÇÃO | F7: %
A9: ISS | F9: 0.05
A10: PIS | F10: 0.0065
A11: COFINS | F11: 0.03
A13: TOTAL | F13: =SUM(F9:F12) -> 0.0865
A15: DESPESAS FISCAIS = (1/(1-0,865)-1)*100 | F15: =(1/(1-F13)-1) -> 0.09469075
A17: (Conforme Decreto nº 36.872 de 28/07/2011 do Governo do Estado de Pernambuco)

Sheet ENCARGOS SOCIAIS
A1: DETALHAMENTO ENCARGOS SOCIAIS
A3: =ORÇAMENTO!A3 -> OBJETO: CONTRATAÇÃO DE EMPRESA PARA PRESTAÇÃO DE SERVIÇOS TÉCNICOS ESPECIALIZADOS DE ENGENHARIA PARA ELABORAÇÃO INTEGRADA DE PROJETOS DE ARQUITETURA E ENGENHARIA, BÁSICO E EXECUTIVO, COM COMPATIBILIZAÇÃO ENTRE DISCIPLINAS E OBSERVÂNCIA RIGOROSA ÀS NORMAS TÉCNICAS E REGULATÓRIAS APLICÁVEIS, DA CONSTRUÇÃO DO ANEL VIÁRIO DA ITAGIBA E DA CONSTRUÇÃO DO ANEL VIÁRIO DA NOELÂNDIA, BOM JARDIM/PE
A4: =ORÇAMENTO!A4 -> REFERÊNCIAS: SINAPI SETEMBRO/2025 / SICRO-DNIT CONSULTORIAS JULHO/2025
A5: =ORÇAMENTO!A5 -> DATA-BASE: JANEIRO/2026
A7: CÓD. | B7: DESCRIÇÃO | C7: MENSALISTA (%)
A9: GRUPO A
A10: A1 | B10: INSS | C10: 20
A11: A2 | B11: SESI | C11: 1.5
A12: A3 | B12: SENAI | C12: 1
A13: A4 | B13: INCRA | C13: 0.2
A14: A5 | B14: SEBRAE | C14: 0.6
A15: A6 | B15: Salário Educação | C15: 2.5
A16: A7 | B16: Seguro Contra Acidentes de Trabalho | C16: 3
A17: A8 | B17: FGTS | C17: 8
A18: A9 | B18: SECONCI | C18: 0
A19: A | B19: TOTAL | C19: =SUM(C10:C18) -> 36.8
A21: GRUPO B
A22: B1 | B22: Repouso Semanal Remunerado | C22: Não incide
A23: B2 | B23: Feriados | C23: Não incide
A24: B3 | B24: Auxílio - Enfermidade | C24: 0.65
A25: B4 | B25: 13º Salário | C25: 8.33
A26: B5 | B26: Licença Paternidade | C26: 0.05
A27: B6 | B27: Faltas Justificadas | C27: 0.56
A28: B7 | B28: Dias de Chuvas | C28: Não incide
A29: B8 | B29: Auxílio Acidente de Trabalho | C29: 0.07
A30: B9 | B30: Férias Gozadas | C30: 7.56
A31: B10 | B31: Salário Maternidade | C31: 0.03
A32: B | B32: TOTAL | C32: =SUM(C22:C31) -> 17.25
A34: GRUPO C
A35: C1 | B35: Aviso Prévio Indenizado | C35: 3.63
A36: C2 | B36: Aviso Prévio Trabalhado | C36: 0.09
A37: C3 | B37: Férias Indenizadas | C37: 3.03
A38: C4 | B38: Depósito Rescisão Sem Justa Causa | C38: 2.33
A39: C5 | B39: Indenização Adicional | C39: 0.31
A40: C | B40: TOTAL | C40: =SUM(C35:C39) -> 9.39
A42: GRUPO D
A43: D1 | B43: Reincidência de Grupo A sobre Grupo B | C43: =ROUND((C19*C32)/100,2) -> 6.35
A44: D2 | B44: Reincidência de Grupo A sobre Aviso Prévio Trabalhado e Reincidência do FGTS sobre Aviso Prévio Indenizado | C44: =ROUND(((C19*C36)/100)+((C17*C35)/100),2) -> 0.32
A45: D | B45: TOTAL | C45: =SUM(C43:C44) -> 6.67
A47: TOTAL GERAL (A+B+C+D) | C47: =C19+C32+C40+C45 -> 70.11
...
