Workbook

Sheet RESUMO
C1: RESUMO DOS ITENS DE CADA ETAPA DA OBRA
B2: ITEM | C2: DESCRIÇÃO | D2: P. UNIT C/ BDI | E2: PESO(%)
B4: 1 | C4: =VLOOKUP(B4,'PLANILHA CONSOLIDADA'!$A:$P,4,0) -> SERVIÇOS PRELIMINARES | D4: =VLOOKUP(B4,'PLANILHA CONSOLIDADA'!$A:$P,16,0) -> 138669.88 | E4: =D4/$D$12 -> 0.043064303
B5: 2 | C5: =VLOOKUP(B5,'PLANILHA CONSOLIDADA'!$A:$P,4,0) -> TERRAPLENAGEM | D5: =VLOOKUP(B5,'PLANILHA CONSOLIDADA'!$A:$P,16,0) -> 367290.28 | E5: =D5/$D$12 -> 0.11406298
B6: 3 | C6: =VLOOKUP(B6,'PLANILHA CONSOLIDADA'!$A:$P,4,0) -> PAVIMENTO | D6: =VLOOKUP(B6,'PLANILHA CONSOLIDADA'!$A:$P,16,0) -> 1966917 | E6: =D6/$D$12 -> 0.61083137
B7: 4 | C7: =VLOOKUP(B7,'PLANILHA CONSOLIDADA'!$A:$P,4,0) -> MEIO FIO E SARJETA | D7: =VLOOKUP(B7,'PLANILHA CONSOLIDADA'!$A:$P,16,0) -> 245324.06 | E7: =D7/$D$12 -> 0.076186047
B8: 5 | C8: =VLOOKUP(B8,'PLANILHA CONSOLIDADA'!$A:$P,4,0) -> PASSEIO | D8: =VLOOKUP(B8,'PLANILHA CONSOLIDADA'!$A:$P,16,0) -> 270111.96 | E8: =D8/$D$12 -> 0.083883996
B9: 6 | C9: =VLOOKUP(B9,'PLANILHA CONSOLIDADA'!$A:$P,4,0) -> SINALIZAÇÃO | D9: =VLOOKUP(B9,'PLANILHA CONSOLIDADA'!$A:$P,16,0) -> 49351.2 | E9: =D9/$D$12 -> 0.015326148
B10: 7 | C10: =VLOOKUP(B10,'PLANILHA CONSOLIDADA'!$A:$P,4,0) -> ADMINISTRAÇÃO | D10: =VLOOKUP(B10,'PLANILHA CONSOLIDADA'!$A:$P,16,0) -> 182401.1 | E10: =D10/$D$12 -> 0.056645153
B11: 8 | C11: =VLOOKUP(B11,'PLANILHA CONSOLIDADA'!$A:$P,4,0) -> PAISAGISMO | D11: =VLOOKUP(B11,'PLANILHA CONSOLIDADA'!$A:$P,16,0) -> 0 | E11: =D11/$D$12 -> 0
C12: TOTAL | D12: =SUM(D4:D11) -> 3220065.5 | E12: =SUM(E4:E11) -> 1
B13: Consta o preço individual cada etapa da obra incluso o BDI, seja para serviço, seja para fornecimento de material, cujo está detalhado em composição de custos

Sheet BDI
B1: BONIFICAÇÃO E DESPESAS INDIRETAS - BDI PRINCIPAL E DIFERENCIADO
A2: OBRAS CIVIS NA CIDADE DE PETROLINA
A3: SINAPI (12/2024 - PE - NÃO DESONERADA) / SICRO OUTUBRO DE 2024 / ORSE DEZEMBRO DE 2024
A4: Tipo de obra, conforme Acórdão nº 2622/2013 - TCU: CONSTRUÇÃO DE RODOVIAS E FERROVIAS
A5: CONSTRUÇÃO DO BDI PRINCIPAL | F5: CONSTRUÇÃO DOBDI DIFERENCIADO
A6: SIGLA | B6: ITEM | C6: MÍNIMO | D6: % ADOTADO | E6: MÁXIMO | F6: SIGLA | G6: ITEM | H6: MÍNIMO | I6: % ADOTADO | J6: MÁXIMO
A7: AC | B7: Administração central | C7: 0.038 | D7: 0.039 | E7: 0.0467 | F7: AC | G7: Administração central | H7: 0.015 | I7: 0.03 | J7: 0.0449
A8: DF | B8: Despesas financeiras | C8: 0.0102 | D8: 0.011 | E8: 0.0121 | F8: DF | G8: Despesas financeiras | H8: 0.0085 | I8: 0.0095 | J8: 0.0111
A9: R | B9: Riscos | C9: 0.005 | D9: 0.007 | E9: 0.0097 | F9: R | G9: Riscos | H9: 0.0056 | I9: 0.0056 | J9: 0.0089
A10: S + G | B10: Seguro + Garantia | C10: 0.0032 | D10: 0.0064 | E10: 0.0074 | F10: S + G | G10: Seguro + Garantia | H10: 0.003 | I10: 0.0032 | J10: 0.0082
A11: L | B11: Lucro | C11: 0.0664 | D11: 0.0798 | E11: 0.0869 | F11: L | G11: Lucro | H11: 0.035 | I11: 0.0554 | J11: 0.0622
A12: T | B12: Tributos (soma) | D12: 0.0665 | F12: T | G12: Tributos (soma) | I12: 0.0365
B13: COFINS | D13: 0.03 | G13: COFINS | I13: 0.03
B14: PIS | D14: 0.0065 | G14: PIS | I14: 0.0065
B15: ISS | D15: 0.03 | G15: ISS | I15: 0
B16: BDI ADOTADO ------------------------------------------------------------ | D16: =D12+D11+D10+D9+D8+D7 -> 0.2097 | G16: BDI ADOTADO ------------------------------------------------------------ | I16: =I12+I11+I10+I9+I8+I7 -> 0.1402
A17: Fórmula de Cálculo do BDI com base no TCU: | F17: Fórmula de Cálculo do BDI com base no TCU:
A18: BDI= | B18: (1+(AC+R+S+G))*(1+DF)*(1+L) | E18: -1 | F18: BDI= | G18: (1+(AC+R+S+G))*(1+DF)*(1+L) | J18: -1
B19: (1-T) | G19: (1-T)
A20: Em caso de obra pública, faz-se necessário verificar os seguintes limites para o BDI: | F20: Em caso de obra pública, faz-se necessário verificar os seguintes limites para o BDI:
A21: MÍNIMO | B21: BDI | E21: MÁXIMO | F21: MÍNIMO | G21: BDI | J21: MÁXIMO
A22: 0.196 | B22: 0.2097 | E22: 0.2423 | F22: 0.111 | G22: 0.1402 | J22: 0.168

Sheet ABC-consolidada
D1: CURVA ABC CONSOLIDADA, COM AS RESPECTIVA PORCENTAGEM DE IMPORTÂNCIA
A2: Item | B2: Código | C2: Banco | D2: Serviço | E2: Valor Consolidado | F2: % do item | G2: % acumulada | H2: Curva | J2: Curva | K2: %
A3: 1 | D3: TRANSPORTES CAMINHÃO BASCULANTE | E3: ='ABC-detalhada'!O17 -> 763050 | F3: =E3/$E$26 -> 0.23696723 | G3: =F3 -> 0.23696723 | H3: =IF(G3<=$K$3,"A",IF(G3<=$K$4,"B","C")) -> A | J3: A | K3: 0.8
A4: 2 | D4: CONCRETO ASFÁLTICO USINADO À QUENTE (CAUQ) | E4: ='ABC-detalhada'!O4 -> 629562.06 | F4: =E4/$E$26 -> 0.19551219 | G4: =F4+G3 -> 0.43247942 | H4: =IF(G4<=$K$3,"A",IF(G4<=$K$4,"B","C")) -> A | J4: B | K4: 0.95
A5: 3 | D5: EXECUÇÃO DE PISO E PASSEIO INTERTRAVADO | E5: ='ABC-detalhada'!O40 -> 258715.63 | F5: =E5/$E$26 -> 0.080344835 | G5: =F5+G4 -> 0.51282426 | H5: =IF(G5<=$K$3,"A",IF(G5<=$K$4,"B","C")) -> A | J5: C | K5: 1
A6: 4 | D6: EXECUÇÃO DE BASE E SUB-BASE | E6: ='ABC-detalhada'!O7 -> 552769.29 | F6: =E6/$E$26 -> 0.17166399 | G6: =F6+G5 -> 0.68448825 | H6: =IF(G6<=$K$3,"A",IF(G6<=$K$4,"B","C")) -> A
A7: 5 | B7: CPU 03 | C7: Próprio | D7: ADMINISTRAÇÃO LOCAL | E7: ='ABC-detalhada'!O44 -> 182401.1 | F7: =E7/$E$26 -> 0.056645153 | G7: =F7+G6 -> 0.7411334 | H7: =IF(G7<=$K$3,"A",IF(G7<=$K$4,"B","C")) -> A
A8: 6 | B8: 94273 | C8: SINAPI | D8: ASSENTAMENTO DE GUIA (MEIO-FIO) EM TRECHO RETO, CONFECCIONADA EM CONCRETO PRÉ-FABRICADO, DIMENSÕES 100X15X13X30 CM (COMPRIMENTO X BASE INFERIOR X BASE SUPERIOR X ALTURA). AF_01/2024 | E8: ='ABC-detalhada'!O45 -> 137812.3 | F8: =E8/$E$26 -> 0.042797981 | G8: =F8+G7 -> 0.78393138 | H8: =IF(G8<=$K$3,"A",IF(G8<=$K$4,"B","C")) -> A
A9: 7 | B9: 4011486 | C9: SICRO3 | D9: RECICLAGEM COM INCORPORAÇÃO DO REVESTIMENTO ASFÁLTICO À BASE E ADIÇÃO DE 3% DE CIMENTO E DE BRITA COMERCIAL | E9: ='ABC-detalhada'!O46 -> 181839.18 | F9: =E9/$E$26 -> 0.056470647 | G9: =F9+G8 -> 0.84040203 | H9: =IF(G9<=$K$3,"A",IF(G9<=$K$4,"B","C")) -> B
A10: 8 | D10: DEMOLIÇÃO | E10: ='ABC-detalhada'!O30 -> 97873.146 | F10: =E10/$E$26 -> 0.030394769 | G10: =F10+G9 -> 0.8707968 | H10: =IF(G10<=$K$3,"A",IF(G10<=$K$4,"B","C")) -> B
A11: 9 | B11: 94289 | C11: SINAPI | D11: EXECUÇÃO DE SARJETA DE CONCRETO USINADO, MOLDADA IN LOCO EM TRECHO RETO, 45 CM BASE X 10 CM ALTURA. AF_01/2024 | E11: ='ABC-detalhada'!O47 -> 107511.76 | F11: =E11/$E$26 -> 0.033388066 | G11: =F11+G10 -> 0.90418486 | H11: =IF(G11<=$K$3,"A",IF(G11<=$K$4,"B","C")) -> B
A12: 10 | B12: 00004743 | C12: SINAPI | D12: CASCALHO DE CAVA | E12: ='ABC-detalhada'!O11 -> 50031.99 | F12: =E12/$E$26 -> 0.015537569 | G12: =F12+G11 -> 0.91972243 | H12: =IF(G12<=$K$3,"A",IF(G12<=$K$4,"B","C")) -> B
A13: 11 | B13: 101124 | C13: SINAPI | D13: ESCAVAÇÃO HORIZONTAL, INCLUINDO CARGA E DESCARGA EM SOLO DE 1A CATEGORIA COM TRATOR DE ESTEIRAS (100HP/LÂMINA: 2,19M3). AF_07/2020 | E13: ='ABC-detalhada'!O28 -> 42736.68 | F13: =E13/$E$26 -> 0.013271991 | G13: =F13+G12 -> 0.93299442 | H13: =IF(G13<=$K$3,"A",IF(G13<=$K$4,"B","C")) -> B
A14: 12 | B14: 102512 | C14: SINAPI | D14: PINTURA DE EIXO VIÁRIO SOBRE ASFALTO COM TINTA RETRORREFLETIVA A BASE DE RESINA ACRÍLICA COM MICROESFERAS DE VIDRO, APLICAÇÃO MECÂNICA COM DEMARCADORA AUTOPROPELIDA. AF_05/2021 | E14: ='ABC-detalhada'!O48 -> 49351.2 | F14: =E14/$E$26 -> 0.015326148 | G14: =F14+G13 -> 0.94832057 | H14: =IF(G14<=$K$3,"A",IF(G14<=$K$4,"B","C")) -> B
A15: 13 | D15: CARGA | E15: ='ABC-detalhada'!O12 -> 37946.2 | F15: =E15/$E$26 -> 0.011784295 | G15: =F15+G14 -> 0.96010487 | H15: =IF(G15<=$K$3,"A",IF(G15<=$K$4,"B","C")) -> C
A16: 14 | D16: TRANSPORTE COM CAMINHÃO TANQUE 30000L | E16: ='ABC-detalhada'!O25 -> 28808.79 | F16: =E16/$E$26 -> 0.0089466473 | G16: =F16+G15 -> 0.96905151 | H16: =IF(G16<=$K$3,"A",IF(G16<=$K$4,"B","C")) -> C
A17: 15 | D17: IMPRIMAÇÃO ASFÁLTICA | E17: ='ABC-detalhada'!O34 -> 33427.75 | F17: =E17/$E$26 -> 0.010381078 | G17: =F17+G16 -> 0.97943259 | H17: =IF(G17<=$K$3,"A",IF(G17<=$K$4,"B","C")) -> C
A18: 16 | D18: PINTURA DE LIGAÇÃO | E18: ='ABC-detalhada'!O37 -> 22945.1 | F18: =E18/$E$26 -> 0.0071256626 | G18: =F18+G17 -> 0.98655825 | H18: =IF(G18<=$K$3,"A",IF(G18<=$K$4,"B","C")) -> C
A19: 17 | B19: 5502978 | C19: SICRO3 | D19: COMPACTAÇÃO DE ATERROS A 100% DO PROCTOR NORMAL | E19: ='ABC-detalhada'!O29 -> 13666.64 | F19: =E19/$E$26 -> 0.0042442118 | G19: =F19+G18 -> 0.99080247 | H19: =IF(G19<=$K$3,"A",IF(G19<=$K$4,"B","C")) -> C
A20: 18 | B20: 100577 | C20: SINAPI | D20: REGULARIZAÇÃO E COMPACTAÇÃO DE SUBLEITO DE SOLO PREDOMINANTEMENTE ARENOSO. AF_11/2019 | E20: ='ABC-detalhada'!O49 -> 13802.25 | F20: =E20/$E$26 -> 0.0042863259 | G20: =F20+G19 -> 0.99508879 | H20: =IF(G20<=$K$3,"A",IF(G20<=$K$4,"B","C")) -> C
A21: 19 | B21: 12214 | C21: ORSE | D21: RAMPA PADRÃO PARA ACESSO DE DEFICIENTES EM PASSEIO PÚBLICO, EM CONCRETO SIMPLES FCK=25MPa, DESEMPOLADA, COM PINTURA INDICATIVA EM NOVACOR, 02 DEMÃOS | E21: ='ABC-detalhada'!O50 -> 0 | F21: =E21/$E$26 -> 0 | G21: =F21+G20 -> 0.99508879 | H21: =IF(G21<=$K$3,"A",IF(G21<=$K$4,"B","C")) -> C
A22: 20 | B22: CPU 02 | C22: Próprio | D22: LIMPEZA DE SUPERFICIE (VARRIÇÃO E REMOÇÃO DE ENTULHOS) | E22: ='ABC-detalhada'!O51 -> 8582.22 | F22: =E22/$E$26 -> 0.0026652315 | G22: =F22+G21 -> 0.99775402 | H22: =IF(G22<=$K$3,"A",IF(G22<=$K$4,"B","C")) -> C
A23: 21 | B23: CPU 01 | C23: Próprio | D23: PLACA DE OBRA EM CHAPA DE AÇO GALVANIZADA | E23: ='ABC-detalhada'!O52 -> 5429.58 | F23: =E23/$E$26 -> 0.0016861707 | G23: =F23+G22 -> 0.99944019 | H23: =IF(G23<=$K$3,"A",IF(G23<=$K$4,"B","C")) -> C
A24: 22 | B24: 1600441 | C24: SICRO3 | D24: REMOÇÃO DE PARALELEPÍPEDOS | E24: ='ABC-detalhada'!O53 -> 1802.61 | F24: =E24/$E$26 -> 0.00055980539 | G24: =F24+G23 -> 1 | H24: =IF(G24<=$K$3,"A",IF(G24<=$K$4,"B","C")) -> C
A25: 23 | D25: PAISAGISMO | E25: ='ABC-detalhada'!O54 -> 0 | F25: =E25/$E$26 -> 0 | G25: =F25+G24 -> 1 | H25: =IF(G25<=$K$3,"A",IF(G25<=$K$4,"B","C")) -> C
E26: =SUM(E3:E25) -> 3220065.5

Sheet ABC-detalhada
D1: ITENS DA COMPOSIÇÃO DETALHADA PARA ELABORAÇÃO DA CURVA ABC CONSOLIDADA
E2: Quantitativo Obras | J2: Quantitativo Total
A3: Item | B3: Código | C3: Banco | D3: Serviço | F3: I | G3: II | H3: III | I3: IV | M3: Valor do item + BDI | N3: Valor Final do Item | O3: Valor Consolidado | P3: I | Q3: II | R3: III | S3: IV | T3: TOT | U3: DIF | V3: % do item | W3: % acumulada | X3: Classe
A4: 1 | D4: CONCRETO ASFÁLTICO USINADO À QUENTE (CAUQ) | O4: =SUM(N5:N6) -> 629562.06 | V4: =O4/N58 -> 0.19551219 | W4: =V4 -> 0.19551219 | X4: =IF(W5<=$AA$5,"A",IF(W5<=$AA$6,"B","C")) -> A | Z4: Classe | AA4: %
B5: 4011463 | C5: SICRO3 | D5: CONCRETO ASFÁLTICO - FAIXA C - AREIA E BRITA COMERCIAIS | E5: t | F5: =VLOOKUP($D$5,'PLANILHA CONSOLIDADA'!$D$3:$I$61,3,0) -> 444.1944 | G5: =VLOOKUP($D$5,'PLANILHA CONSOLIDADA'!$D$3:$I$61,4,0) -> 1010.6174 | H5: =VLOOKUP($D$5,'PLANILHA CONSOLIDADA'!$D$3:$I$61,5,0) -> 431.30755 | I5: =VLOOKUP($D$5,'PLANILHA CONSOLIDADA'!$D$3:$I$61,6,0) -> 1015.6452 | J5: =SUM(F5:G5) -> 1454.8118 | K5: =VLOOKUP(D5,'PLANILHA CONSOLIDADA'!$D$6:$P$61,7,0) -> 1454.8118 | L5: =J5-K5 -> 0 | M5: =VLOOKUP(D5,'PLANILHA CONSOLIDADA'!$D$6:$P$61,8,0) -> 237.37919 | N5: ='PLANILHA CONSOLIDADA'!P33 -> 345342.03 | P5: =VLOOKUP(D5,'PLANILHA CONSOLIDADA'!D4:O64,9,0) -> 105442.5 | Q5: =VLOOKUP(D5,'PLANILHA CONSOLIDADA'!D4:O64,10,0) -> 239899.53 | R5: =VLOOKUP(D5,'PLANILHA CONSOLIDADA'!D4:O64,11,0) -> 102383.43 | S5: =VLOOKUP(D5,'PLANILHA CONSOLIDADA'!D4:O64,12,0) -> 241093.03 | T5: =SUM(P5:S5) -> 688818.49 | U5: =T5-N5 -> 343476.46 | Z5: A | AA5: 0.8 | AB5: ok
B6: ANP | C6: ANP | D6: CIMENTO ASFÁLTICO DE PETRÓLEO - CAP 50/70 | E6: t | F6: =VLOOKUP(D6,'PLANILHA CONSOLIDADA'!$D$3:$I$61,3,0) -> 28.646097 | G6: =VLOOKUP(D6,'PLANILHA CONSOLIDADA'!$D$3:$I$61,4,0) -> 33.230435 | H6: =VLOOKUP(D6,'PLANILHA CONSOLIDADA'!$D$3:$I$61,5,0) -> 27.815024 | I6: =VLOOKUP(D6,'PLANILHA CONSOLIDADA'!$D$3:$I$61,6,0) -> 65.498959 | J6: =SUM(F6:G6) -> 61.876532 | K6: =VLOOKUP(D6,'PLANILHA CONSOLIDADA'!$D$6:$P$61,7,0) -> 61.876532 | L6: =J6-K6 -> 0 | M6: ='PLANILHA CONSOLIDADA'!K42 -> 4593.3413 | N6: ='PLANILHA CONSOLIDADA'!P42 -> 284220.03 | P6: =VLOOKUP(D6,'PLANILHA CONSOLIDADA'!D4:O63,9,0) -> 131581.3 | Q6: =VLOOKUP(D6,'PLANILHA CONSOLIDADA'!D4:O63,10,0) -> 152638.73 | R6: =VLOOKUP(D6,'PLANILHA CONSOLIDADA'!D4:O63,11,0) -> 127763.89 | S6: =VLOOKUP(D6,'PLANILHA CONSOLIDADA'!D4:O63,12,0) -> 300859.07 | T6: =SUM(P6:S6) -> 712842.99 | U6: =T6-N6 -> 428622.96 | Z6: B | AA6: 0.95 | AB6: ok
A7: 2 | D7: EXECUÇÃO DE BASE E SUB-BASE | O7: =SUM(N8:N10) -> 552769.29 | V7: =O7/N58 -> 0.17166399 | W7: =V7+W4 -> 0.36717618 | X7: =IF(W5<=$AA$5,"A",IF(W5<=$AA$6,"B","C")) -> A
B8: 96397 | C8: SINAPI | D8: EXECUÇÃO E COMPACTAÇÃO DE BASE E OU SUB BASE PARA PAVIMENTAÇÃO DE BRITA GRADUADA SIMPLES TRATADA COM CIMENTO - EXCLUSIVE CARGA E TRANSPORTE. AF_11/2019 | E8: m³ | F8: =VLOOKUP(D8,'PLANILHA CONSOLIDADA'!D4:P61,3,0) -> 0 | G8: =VLOOKUP(D8,'PLANILHA CONSOLIDADA'!$D$3:$I$61,4,0) -> 762.06274 | H8: =VLOOKUP(D8,'PLANILHA CONSOLIDADA'!$D$3:$I$61,5,0) -> 0 | I8: =VLOOKUP(D8,'PLANILHA CONSOLIDADA'!$D$3:$I$61,6,0) -> 828.652 | J8: =SUM(F8:G8) -> 762.06274 | K8: =VLOOKUP(D8,'PLANILHA CONSOLIDADA'!$D$6:$P$61,7,0) -> 762.06274 | L8: =J8-K8 -> 0 | M8: =VLOOKUP(D8,'PLANILHA CONSOLIDADA'!$D$6:$P$61,8,0) -> 283.59451 | N8: ='PLANILHA CONSOLIDADA'!P25 -> 216116.8 | AB8: ok
B9: 100565 | C9: SINAPI | D9: EXECUÇÃO E COMPACTAÇÃO DE BASE E OU SUB-BASE PARA PAVIMENTAÇÃO DE SOLO (PREDOMINANTEMENTE ARENOSO) BRITA - 50/50 - EXCLUSIVE SOLO, ESCAVAÇÃO, CARGA E TRANSPORTE. AF_11/2019 | E9: m³ | F9: =VLOOKUP(D9,'PLANILHA CONSOLIDADA'!$D$3:$I$61,3,0) -> 390.4 | G9: =VLOOKUP(D9,'PLANILHA CONSOLIDADA'!$D$3:$I$61,4,0) -> 762.06274 | H9: =VLOOKUP(D9,'PLANILHA CONSOLIDADA'!$D$3:$I$61,5,0) -> 718.84592 | I9: =VLOOKUP(D9,'PLANILHA CONSOLIDADA'!$D$3:$I$61,6,0) -> 828.652 | J9: =SUM(F9:G9) -> 1152.4627 | K9: =VLOOKUP(D9,'PLANILHA CONSOLIDADA'!$D$6:$P$61,7,0) -> 1152.4627 | L9: =J9-K9 -> 0 | M9: =VLOOKUP(D9,'PLANILHA CONSOLIDADA'!$D$6:$P$61,8,0) -> 113.03518 | N9: ='PLANILHA CONSOLIDADA'!P23 -> 130268.82 | AB9: ok
B10: 96396 | C10: SINAPI | D10: EXECUÇÃO E COMPACTAÇÃO DE BASE E OU SUB BASE PARA PAVIMENTAÇÃO DE BRITA GRADUADA SIMPLES - EXCLUSIVE CARGA E TRANSPORTE. AF_11/2019 | E10: m³ | F10: =VLOOKUP(D10,'PLANILHA CONSOLIDADA'!$D$3:$I$61,3,0) -> 979.6 | G10: =VLOOKUP(D10,'PLANILHA CONSOLIDADA'!$D$3:$I$61,4,0) -> 0 | H10: =VLOOKUP(D10,'PLANILHA CONSOLIDADA'!$D$3:$I$61,5,0) -> 718.84592 | I10: =VLOOKUP(D10,'PLANILHA CONSOLIDADA'!$D$3:$I$61,6,0) -> 0 | J10: =SUM(F10:G10) -> 979.6 | K10: =VLOOKUP(D10,'PLANILHA CONSOLIDADA'!$D$6:$P$61,7,0) -> 979.6 | L10: =J10-K10 -> 0 | M10: =VLOOKUP(D10,'PLANILHA CONSOLIDADA'!$D$6:$P$61,8,0) -> 210.68158 | N10: ='PLANILHA CONSOLIDADA'!P26 -> 206383.67 | AB10: ok
A11: 3 | B11: 00004743 | C11: SINAPI | D11: CASCALHO DE CAVA | E11: m³ | F11: =VLOOKUP(D11,'PLANILHA CONSOLIDADA'!$D$3:$I$61,3,0) -> 244 | G11: =VLOOKUP(D11,'PLANILHA CONSOLIDADA'!$D$3:$I$61,4,0) -> 476.28921 | H11: =VLOOKUP(D11,'PLANILHA CONSOLIDADA'!$D$3:$I$61,5,0) -> 449.2787 | I11: =VLOOKUP(D11,'PLANILHA CONSOLIDADA'!$D$3:$I$61,6,0) -> 517.9075 | J11: =SUM(F11:I11) -> 1687.4754 | K11: =VLOOKUP(D11,'PLANILHA CONSOLIDADA'!$D$6:$P$61,7,0) -> 720.28921 | L11: =J11-K11 -> 967.1862 | M11: =VLOOKUP(D11,'PLANILHA CONSOLIDADA'!$D$6:$P$61,8,0) -> 69.460984 | N11: ='PLANILHA CONSOLIDADA'!P24 -> 50031.99 | O11: =N11 -> 50031.99 | AB11: ok
A12: 4 | D12: CARGA | O12: =SUM(N13:N16) -> 37946.2
B13: 100977 | C13: SINAPI | D13: CARGA, MANOBRA E DESCARGA DE SOLOS E MATERIAIS GRANULARES EM CAMINHÃO BASCULANTE 6 M³ - CARGA COM ESCAVADEIRA HIDRÁULICA (CAÇAMBA DE 1,20 M³ / 155 HP) E DESCARGA LIVRE (UNIDADE: M3). AF_07/2020 - BASE | E13: m³ | F13: =VLOOKUP(D13,'PLANILHA CONSOLIDADA'!$D$3:$I$61,3,0) -> 1712.5 | G13: =VLOOKUP(D13,'PLANILHA CONSOLIDADA'!$D$3:$I$61,4,0) -> 1905.1569 | H13: =VLOOKUP(D13,'PLANILHA CONSOLIDADA'!$D$3:$I$61,5,0) -> 1797.1148 | I13: =VLOOKUP(D13,'PLANILHA CONSOLIDADA'!$D$3:$I$61,6,0) -> 2071.63 | J13: =SUM(F13:G13) -> 3617.6569 | K13: ='PLANILHA CONSOLIDADA'!#REF! -> #REF! | L13: =J13-K13 -> #REF! | M13: =VLOOKUP(D13,'PLANILHA CONSOLIDADA'!$D$6:$P$61,8,0) -> 9.4444932 | N13: ='PLANILHA CONSOLIDADA'!P27 -> 34166.93 | AB13: ok
B14: 100977 | C14: SINAPI | D14: CARGA, MANOBRA E DESCARGA DE SOLOS E MATERIAIS GRANULARES EM CAMINHÃO BASCULANTE 6 M³ - CARGA COM ESCAVADEIRA HIDRÁULICA (CAÇAMBA DE 1,20 M³ / 155 HP) E DESCARGA LIVRE (UNIDADE: M3). AF_07/2020 - BASE2 | E14: m³ | F14: =VLOOKUP(D14,'PLANILHA CONSOLIDADA'!$D$3:$I$61,3,0) -> 0 | G14: =VLOOKUP(D14,'PLANILHA CONSOLIDADA'!$D$3:$I$61,4,0) -> 0 | H14: =VLOOKUP(D14,'PLANILHA CONSOLIDADA'!$D$3:$I$61,5,0) -> 193.92916 | I14: =VLOOKUP(D14,'PLANILHA CONSOLIDADA'!$D$3:$I$61,6,0) -> 0 | J14: =SUM(F14:G14) -> 0 | K14: ='PLANILHA CONSOLIDADA'!#REF! -> #REF! | L14: =J14-K14 -> #REF! | M14: =VLOOKUP(D14,'PLANILHA CONSOLIDADA'!$D$6:$P$61,8,0) -> 9.4444932 | N14: =TRUNC(M14*J14,2) -> 0 | AB14: ok
B15: 100977 | C15: SINAPI | D15: CARGA, MANOBRA E DESCARGA DE SOLOS E MATERIAIS GRANULARES EM CAMINHÃO BASCULANTE 6 M³ - CARGA COM ESCAVADEIRA HIDRÁULICA (CAÇAMBA DE 1,20 M³ / 155 HP) E DESCARGA LIVRE (UNIDADE: M3). AF_07/2020 - AREIA E PÓ DE PEDRA | E15: m³ | F15: =VLOOKUP(D15,'PLANILHA CONSOLIDADA'!$D$3:$I$61,3,0) -> 101.37053 | G15: =VLOOKUP(D15,'PLANILHA CONSOLIDADA'!$D$3:$I$61,4,0) -> 12.761892 | H15: =VLOOKUP(D15,'PLANILHA CONSOLIDADA'!$D$3:$I$61,5,0) -> 303.67784 | I15: =VLOOKUP(D15,'PLANILHA CONSOLIDADA'!$D$3:$I$61,6,0) -> 11.359962 | J15: =SUM(F15:G15) -> 114.13242 | K15: ='PLANILHA CONSOLIDADA'!#REF! -> #REF! | L15: =J15-K15 -> #REF! | M15: =VLOOKUP(D15,'PLANILHA CONSOLIDADA'!$D$6:$P$61,8,0) -> 9.4444932 | N15: ='PLANILHA CONSOLIDADA'!P52 -> 1077.91
B16: 100977 | C16: SINAPI | D16: CARGA, MANOBRA E DESCARGA DE SOLOS E MATERIAIS GRANULARES EM CAMINHÃO BASCULANTE 6 M³ - CARGA COM ESCAVADEIRA HIDRÁULICA (CAÇAMBA DE 1,20 M³ / 155 HP) E DESCARGA LIVRE (UNIDADE: M3). AF_07/2020 - ENTULHO | E16: m³ | F16: =VLOOKUP($D$16,'PLANILHA CONSOLIDADA'!$D$6:$K$12,3,0) -> 262.025 | G16: =VLOOKUP($D$16,'PLANILHA CONSOLIDADA'!$D$6:$K$12,4,0) -> 24.00075 | H16: =VLOOKUP($D$16,'PLANILHA CONSOLIDADA'!$D$6:$K$12,5,0) -> 496.98951 | I16: =VLOOKUP($D$16,'PLANILHA CONSOLIDADA'!$D$6:$K$12,6,0) -> 62.6218 | J16: =SUM(F16:G16) -> 286.02575 | K16: =VLOOKUP($D$16,'PLANILHA CONSOLIDADA'!$D$6:$K$12,3,0) -> 262.025 | L16: =VLOOKUP($D$16,'PLANILHA CONSOLIDADA'!$D$6:$K$12,3,0) -> 262.025 | M16: =VLOOKUP($D$16,'PLANILHA CONSOLIDADA'!$D$6:$K$12,8,0) -> 9.4444932 | N16: ='PLANILHA CONSOLIDADA'!P11 -> 2701.36 | V16: =O16/$N$58 -> 0 | W16: =V16+W53 -> #REF!
A17: 5 | D17: TRANSPORTES CAMINHÃO BASCULANTE | O17: =SUM(N18:N24) -> 763050
B18: 95875 | C18: SINAPI | D18: TRANSPORTE COM CAMINHÃO BASCULANTE DE 10 M³, EM VIA URBANA PAVIMENTADA, DMT ATÉ 30 KM (UNIDADE: M3XKM). AF_07/2020 - BASE | E18: m³xKm | F18: =VLOOKUP($D$18,'PLANILHA CONSOLIDADA'!$D$3:$I$61,3,0) -> 51375 | G18: =VLOOKUP($D$18,'PLANILHA CONSOLIDADA'!$D$3:$I$61,4,0) -> 57154.706 | H18: =VLOOKUP($D$18,'PLANILHA CONSOLIDADA'!$D$3:$I$61,5,0) -> 53913.444 | I18: =VLOOKUP($D$18,'PLANILHA CONSOLIDADA'!$D$3:$I$61,6,0) -> 62148.9 | J18: =SUM(F18:G18) -> 108529.71 | K18: =VLOOKUP($D$18,'PLANILHA CONSOLIDADA'!$D$3:$I$61,3,0) -> 51375 | L18: =VLOOKUP($D$18,'PLANILHA CONSOLIDADA'!$D$3:$I$61,3,0) -> 51375 | M18: ='PLANILHA CONSOLIDADA'!K28 -> 3.0135829 | N18: ='PLANILHA CONSOLIDADA'!P28 -> 327063.25 | AB18: ok
B19: 95875 | C19: SINAPI | D19: TRANSPORTE COM CAMINHÃO BASCULANTE DE 10 M³, EM VIA URBANA PAVIMENTADA, DMT ATÉ 30 KM (UNIDADE: M3XKM). AF_07/2020 - CBUQ | E19: m³xKm | F19: =VLOOKUP($D$19,'PLANILHA CONSOLIDADA'!$D$3:$I$61,3,0) -> 5552.43 | G19: =VLOOKUP($D$19,'PLANILHA CONSOLIDADA'!$D$3:$I$61,4,0) -> 12632.717 | H19: =VLOOKUP($D$19,'PLANILHA CONSOLIDADA'!$D$3:$I$61,5,0) -> 5817.8747 | I19: =VLOOKUP($D$19,'PLANILHA CONSOLIDADA'!$D$3:$I$61,6,0) -> 12695.565 | J19: =SUM(F19:G19) -> 18185.147 | M19: ='OBRA 01 - SINTÉTICA'!H44 -> 3.0135829 | N19: ='PLANILHA CONSOLIDADA'!P36 -> 54802.44 | Z19: C | AA19: 1 | AB19: ok
B20: 97914 | C20: SINAPI | D20: TRANSPORTE COM CAMINHÃO BASCULANTE DE 6 M³, EM VIA URBANA PAVIMENTADA, DMT ATÉ 30 KM (UNIDADE: M3XKM). AF_07/2020 - SOLO | E20: m³xKm | F20: =VLOOKUP($D$20,'PLANILHA CONSOLIDADA'!$D$16:$K$18,3,0) -> 29280 | G20: =VLOOKUP($D$20,'PLANILHA CONSOLIDADA'!$D$16:$K$18,4,0) -> 57154.706 | H20: =VLOOKUP($D$20,'PLANILHA CONSOLIDADA'!$D$16:$K$18,5,0) -> 53913.444 | I20: =VLOOKUP($D$20,'PLANILHA CONSOLIDADA'!$D$16:$K$18,6,0) -> 62148.9 | J20: =SUM(F20:G20) -> 86434.706 | K20: =VLOOKUP($D$20,'PLANILHA CONSOLIDADA'!$D$16:$K$18,3,0) -> 29280 | L20: =VLOOKUP($D$20,'PLANILHA CONSOLIDADA'!$D$16:$K$18,3,0) -> 29280 | M20: =VLOOKUP($D$20,'PLANILHA CONSOLIDADA'!$D$16:$K$18,8,0) -> 3.5967841 | N20: ='PLANILHA CONSOLIDADA'!P18 -> 310886.96 | AB20: ok
B21: 97914 | C21: SINAPI | D21: TRANSPORTE COM CAMINHÃO BASCULANTE DE 6 M³, EM VIA URBANA PAVIMENTADA, DMT ATÉ 30 KM (UNIDADE: M3XKM). AF_07/2020 - ENTULHO | E21: m³xKm | F21: =VLOOKUP($D$21,'PLANILHA CONSOLIDADA'!$D$6:$O$12,3,0) -> 7860.75 | G21: =VLOOKUP($D$21,'PLANILHA CONSOLIDADA'!$D$6:$O$12,4,0) -> 720.0225 | H21: =VLOOKUP($D$21,'PLANILHA CONSOLIDADA'!$D$6:$O$12,5,0) -> 14909.685 | I21: =VLOOKUP($D$21,'PLANILHA CONSOLIDADA'!$D$6:$O$12,6,0) -> 1878.654 | J21: =SUM(F21:G21) -> 8580.7725 | K21: =VLOOKUP($D$21,'PLANILHA CONSOLIDADA'!$D$6:$O$12,3,0) -> 7860.75 | L21: =VLOOKUP($D$21,'PLANILHA CONSOLIDADA'!$D$6:$O$12,3,0) -> 7860.75 | M21: =VLOOKUP($D$21,'PLANILHA CONSOLIDADA'!$D$6:$O$12,8,0) -> 3.5967841 | N21: =TRUNC(M21*J21,2) -> 30863.18 | AB21: ok
B22: 95875 | C22: SINAPI | D22: TRANSPORTE COM CAMINHÃO BASCULANTE DE 10 M³, EM VIA URBANA PAVIMENTADA, DMT ATÉ 30 KM (UNIDADE: M3XKM). AF_07/2020 - AREIA E PÓ DE PEDRA | E22: m³xKm | F22: =VLOOKUP($D$22,'PLANILHA CONSOLIDADA'!$D$49:$K$53,3,0) -> 3041.1158 | G22: =VLOOKUP($D$22,'PLANILHA CONSOLIDADA'!$D$49:$K$53,4,0) -> 382.85676 | H22: =VLOOKUP($D$22,'PLANILHA CONSOLIDADA'!$D$49:$K$53,5,0) -> 9110.3353 | I22: =VLOOKUP($D$22,'PLANILHA CONSOLIDADA'!$D$49:$K$53,6,0) -> 340.79886 | J22: =SUM(F22:G22) -> 3423.9726 | K22: =VLOOKUP($D$22,'PLANILHA CONSOLIDADA'!$D$49:$K$53,3,0) -> 3041.1158 | L22: =VLOOKUP($D$22,'PLANILHA CONSOLIDADA'!$D$49:$K$53,3,0) -> 3041.1158 | M22: =VLOOKUP($D$22,'PLANILHA CONSOLIDADA'!$D$49:$K$53,8,0) -> 3.0135829 | N22: ='PLANILHA CONSOLIDADA'!P53 -> 10318.42 | AB22: ok
B23: 95875 | C23: SINAPI | D23: TRANSPORTE COM CAMINHÃO BASCULANTE DE 10 M³, EM VIA URBANA PAVIMENTADA, DMT ATÉ 30 KM (UNIDADE: M3XKM). AF_07/2020 - AREIA E PÓ DE PEDRA - PAVIMENTO | E23: m³xKm | F23: =VLOOKUP($D$23,'PLANILHA CONSOLIDADA'!$D$30:$K$44,3,0) -> 0 | G23: =VLOOKUP($D$23,'PLANILHA CONSOLIDADA'!$D$30:$K$44,4,0) -> 0 | H23: =VLOOKUP($D$23,'PLANILHA CONSOLIDADA'!$D$30:$K$44,5,0) -> 5391.3444 | I23: =VLOOKUP($D$23,'PLANILHA CONSOLIDADA'!$D$30:$K$44,6,0) -> 0 | J23: =SUM(F23:G23) -> 0 | K23: =VLOOKUP($D$23,'PLANILHA CONSOLIDADA'!$D$30:$K$44,3,0) -> 0 | L23: =VLOOKUP($D$23,'PLANILHA CONSOLIDADA'!$D$30:$K$44,3,0) -> 0 | M23: =VLOOKUP($D$23,'PLANILHA CONSOLIDADA'!$D$30:$K$44,8,0) -> 3.0135829 | N23: =TRUNC(M23*J23,2) -> 0 | AB23: ok
B24: 95875 | C24: SINAPI | D24: TRANSPORTE COM CAMINHÃO BASCULANTE DE 10 M³, EM VIA URBANA PAVIMENTADA, DMT ATÉ 30 KM (UNIDADE: M3XKM). AF_07/2020 - BRITA | E24: m³xKm | F24: =VLOOKUP($D$24,'PLANILHA CONSOLIDADA'!$D$30:$K$44,3,0) -> 0 | G24: =VLOOKUP($D$24,'PLANILHA CONSOLIDADA'!$D$30:$K$44,4,0) -> 9661.5081 | H24: =VLOOKUP($D$24,'PLANILHA CONSOLIDADA'!$D$30:$K$44,5,0) -> 0 | I24: =VLOOKUP($D$24,'PLANILHA CONSOLIDADA'!$D$30:$K$44,6,0) -> 9721.0125 | J24: =SUM(F24:G24) -> 9661.5081 | K24: =VLOOKUP($D$24,'PLANILHA CONSOLIDADA'!$D$30:$K$44,3,0) -> 0 | L24: =VLOOKUP($D$24,'PLANILHA CONSOLIDADA'!$D$30:$K$44,3,0) -> 0 | M24: =VLOOKUP($D$24,'PLANILHA CONSOLIDADA'!$D$30:$K$44,8,0) -> 3.0135829 | N24: ='PLANILHA CONSOLIDADA'!P38 -> 29115.75 | AB24: ok
A25: 6 | D25: TRANSPORTE COM CAMINHÃO TANQUE 30000L | O25: =SUM(N26:N27) -> 28808.79
B26: 102331 | C26: SINAPI | D26: TRANSPORTE COM CAMINHÃO TANQUE DE TRANSPORTE DE MATERIAL ASFÁLTICO DE 30000 L, EM VIA URBANA PAVIMENTADA, ADICIONAL PARA DMT EXCEDENTE A 30 KM (UNIDADE: TXKM). AF_07/2020 | E26: TxKm | F26: =VLOOKUP(D26,'PLANILHA CONSOLIDADA'!$D$3:$I$61,3,0) -> 16508.248 | G26: =VLOOKUP(D26,'PLANILHA CONSOLIDADA'!$D$3:$I$61,4,0) -> 19921.608 | H26: =VLOOKUP(D26,'PLANILHA CONSOLIDADA'!$D$3:$I$61,5,0) -> 16029.315 | I26: =VLOOKUP(D26,'PLANILHA CONSOLIDADA'!$D$3:$I$61,6,0) -> 35106.117 | J26: =SUM(F26:G26) -> 36429.856 | K26: =VLOOKUP(D26,'PLANILHA CONSOLIDADA'!$D$6:$P$61,7,0) -> 36429.856 | L26: =J26-K26 -> 0 | M26: =VLOOKUP(D26,'PLANILHA CONSOLIDADA'!$D$6:$P$61,8,0) -> 0.68072843 | N26: ='PLANILHA CONSOLIDADA'!P35 -> 24798.83 | P26: =VLOOKUP(D26,'PLANILHA CONSOLIDADA'!D21:O81,9,0) -> 11237.63 | Q26: =VLOOKUP(D26,'PLANILHA CONSOLIDADA'!D21:O81,10,0) -> 13561.2 | R26: =VLOOKUP(D26,'PLANILHA CONSOLIDADA'!D21:O81,11,0) -> 10911.61 | S26: =VLOOKUP(D26,'PLANILHA CONSOLIDADA'!D21:O81,12,0) -> 23897.73 | T26: =SUM(P26:S26) -> 59608.17 | U26: =T26-N26 -> 34809.34 | V26: =O26/$N$58 -> 0 | W26: =V26+W48 -> #REF! | X26: =IF(W26<=$AA$5,"A",IF(W26<=$AA$6,"B","C")) -> #REF! | AB26: ok
B27: 102330 | C27: SINAPI | D27: TRANSPORTE COM CAMINHÃO TANQUE DE TRANSPORTE DE MATERIAL ASFÁLTICO DE 30000 L, EM VIA URBANA PAVIMENTADA, DMT ATÉ 30KM (UNIDADE: TXKM). AF_07/2020 | E27: TxKm | F27: =VLOOKUP(D27,'PLANILHA CONSOLIDADA'!$D$3:$I$61,3,0) -> 1053.718 | G27: =VLOOKUP(D27,'PLANILHA CONSOLIDADA'!$D$3:$I$61,4,0) -> 1271.592 | H27: =VLOOKUP(D27,'PLANILHA CONSOLIDADA'!$D$3:$I$61,5,0) -> 1023.1478 | I27: =VLOOKUP(D27,'PLANILHA CONSOLIDADA'!$D$3:$I$61,6,0) -> 2240.816 | J27: =SUM(F27:G27) -> 2325.31 | K27: =VLOOKUP(D27,'PLANILHA CONSOLIDADA'!$D$6:$P$61,7,0) -> 2325.31 | L27: =J27-K27 -> 0 | M27: =VLOOKUP(D27,'PLANILHA CONSOLIDADA'!$D$6:$P$61,8,0) -> 1.7244854 | N27: ='PLANILHA CONSOLIDADA'!P34 -> 4009.96 | P27: =VLOOKUP(D27,'PLANILHA CONSOLIDADA'!D29:O90,9,0) -> 1817.12 | Q27: =VLOOKUP(D27,'PLANILHA CONSOLIDADA'!D29:O90,10,0) -> 2192.84 | R27: =VLOOKUP(D27,'PLANILHA CONSOLIDADA'!D29:O90,11,0) -> 1764.4 | S27: =VLOOKUP(D27,'PLANILHA CONSOLIDADA'!D29:O90,12,0) -> 3864.25 | T27: =SUM(P27:S27) -> 9638.61 | U27: =T27-N27 -> 5628.65 | V27: =O27/$N$58 -> 0 | W27: =V27+W52 -> #REF! | X27: =IF(W27<=$AA$5,"A",IF(W27<=$AA$6,"B","C")) -> #REF! | AB27: ok
A28: 7 | B28: 101124 | C28: SINAPI | D28: ESCAVAÇÃO HORIZONTAL, INCLUINDO CARGA E DESCARGA EM SOLO DE 1A CATEGORIA COM TRATOR DE ESTEIRAS (100HP/LÂMINA: 2,19M3). AF_07/2020 | E28: m³ | F28: =VLOOKUP(D28,'PLANILHA CONSOLIDADA'!$D$3:$I$61,3,0) -> 780.8 | G28: =VLOOKUP(D28,'PLANILHA CONSOLIDADA'!$D$3:$I$61,4,0) -> 1524.1255 | H28: =VLOOKUP(D28,'PLANILHA CONSOLIDADA'!$D$3:$I$61,5,0) -> 1437.6918 | I28: =VLOOKUP(D28,'PLANILHA CONSOLIDADA'!$D$3:$I$61,6,0) -> 2071.63 | J28: =SUM(F28:G28) -> 2304.9255 | K28: =VLOOKUP(D28,'PLANILHA CONSOLIDADA'!$D$6:$P$61,7,0) -> 2304.9255 | L28: =J28-K28 -> 0 | M28: =VLOOKUP(D28,'PLANILHA CONSOLIDADA'!$D$6:$P$61,8,0) -> 18.541465 | N28: ='PLANILHA CONSOLIDADA'!P16 -> 42736.68 | O28: =N28 -> 42736.68 | V28: =O28/$O$57 -> 0.013271991 | AB28: ok
A29: 8 | B29: 5502978 | C29: SICRO3 | D29: COMPACTAÇÃO DE ATERROS A 100% DO PROCTOR NORMAL | E29: m³ | F29: =VLOOKUP(D29,'PLANILHA CONSOLIDADA'!$D$3:$I$61,3,0) -> 780.8 | G29: =VLOOKUP(D29,'PLANILHA CONSOLIDADA'!$D$3:$I$61,4,0) -> 1524.1255 | H29: =VLOOKUP(D29,'PLANILHA CONSOLIDADA'!$D$3:$I$61,5,0) -> 1437.6918 | I29: =VLOOKUP(D29,'PLANILHA CONSOLIDADA'!$D$3:$I$61,6,0) -> 2071.63 | J29: =SUM(F29:G29) -> 2304.9255 | K29: =VLOOKUP(D29,'PLANILHA CONSOLIDADA'!$D$6:$P$61,7,0) -> 2304.9255 | L29: =J29-K29 -> 0 | M29: =VLOOKUP(D29,'PLANILHA CONSOLIDADA'!$D$6:$P$61,8,0) -> 5.9293249 | N29: ='PLANILHA CONSOLIDADA'!P17 -> 13666.64 | O29: =N29 -> 13666.64 | V29: =O29/$O$57 -> 0.0042442118 | AB29: ok
A30: 9 | D30: DEMOLIÇÃO | O30: =SUM(N31:N33) -> 97873.146 | V30: =O30/N58 -> 0.030394769 | W30: =V30+#REF! -> #REF! | X30: =IF(W5<=$AA$5,"A",IF(W5<=$AA$6,"B","C")) -> A
B31: 21 | C31: ORSE | D31: DEMOLIÇÃO DE MEIO-FIO GRANÍTICO OU PRE-MOLDADO | E31: m | F31: =VLOOKUP(D31,'PLANILHA CONSOLIDADA'!$D$3:$I$61,3,0) -> 732 | G31: =VLOOKUP(D31,'PLANILHA CONSOLIDADA'!$D$3:$I$61,4,0) -> 533.35 | H31: =VLOOKUP(D31,'PLANILHA CONSOLIDADA'!$D$3:$I$61,5,0) -> 1391.37 | I31: =VLOOKUP(D31,'PLANILHA CONSOLIDADA'!$D$3:$I$61,6,0) -> 66.36 | J31: =SUM(F31:G31) -> 1265.35 | K31: =VLOOKUP(D31,'PLANILHA CONSOLIDADA'!$D$6:$P$61,7,0) -> 1265.35 | L31: =J31-K31 -> 0 | M31: =VLOOKUP(D31,'PLANILHA CONSOLIDADA'!$D$6:$P$61,8,0) -> 11.871391 | N31: ='PLANILHA CONSOLIDADA'!P9 -> 15021.456 | AB31: ok
B32: 97636 | C32: SINAPI | D32: DEMOLIÇÃO PARCIAL DE PAVIMENTO ASFÁLTICO, DE FORMA MECANIZADA, SEM REAPROVEITAMENTO. AF_09/2023 | E32: m² | F32: =VLOOKUP(D32,'PLANILHA CONSOLIDADA'!$D$3:$I$61,3,0) -> 2946 | G32: =VLOOKUP(D32,'PLANILHA CONSOLIDADA'!$D$3:$I$61,4,0) -> 0 | H32: =VLOOKUP(D32,'PLANILHA CONSOLIDADA'!$D$3:$I$61,5,0) -> 113.0973 | I32: =VLOOKUP(D32,'PLANILHA CONSOLIDADA'!$D$3:$I$61,6,0) -> 156.11 | J32: =SUM(F32:G32) -> 2946 | K32: =VLOOKUP(D32,'PLANILHA CONSOLIDADA'!$D$6:$P$61,7,0) -> 2946 | L32: =J32-K32 -> 0 | M32: =VLOOKUP(D32,'PLANILHA CONSOLIDADA'!$D$6:$P$61,8,0) -> 27.400257 | N32: ='PLANILHA CONSOLIDADA'!P7 -> 80721.15 | AB32: ok
B33: 1600989 | C33: SICRO3 | D33: DEMOLIÇÃO DE CONCRETO SIMPLES COM MARTELETE | E33: m³ | F33: =VLOOKUP(D33,'PLANILHA CONSOLIDADA'!$D$3:$I$61,3,0) -> 4.5 | G33: =VLOOKUP(D33,'PLANILHA CONSOLIDADA'!$D$3:$I$61,4,0) -> 0 | H33: =VLOOKUP(D33,'PLANILHA CONSOLIDADA'!$D$3:$I$61,5,0) -> 428.723 | I33: =VLOOKUP(D33,'PLANILHA CONSOLIDADA'!$D$3:$I$61,6,0) -> 51.8301 | J33: =SUM(F33:G33) -> 4.5 | K33: =VLOOKUP(D33,'PLANILHA CONSOLIDADA'!$D$6:$P$61,7,0) -> 4.5 | L33: =J33-K33 -> 0 | M33: =VLOOKUP(D33,'PLANILHA CONSOLIDADA'!$D$6:$P$61,8,0) -> 473.45342 | N33: ='PLANILHA CONSOLIDADA'!P10 -> 2130.54 | AB33: ok
A34: 10 | D34: IMPRIMAÇÃO ASFÁLTICA | O34: =SUM(N35:N36) -> 33427.75 | V34: =O34/N58 -> 0.010381078 | W34: =V34+W30 -> #REF! | X34: =IF(W5<=$AA$5,"A",IF(W5<=$AA$6,"B","C")) -> A
B35: ANP | C35: ANP | D35: EMULSÃO ASFÁLTICA PARA SERVIÇO DE IMPRIMAÇÃO - EAI | E35: t | F35: =VLOOKUP(D35,'PLANILHA CONSOLIDADA'!$D$3:$I$61,3,0) -> 4.812106 | G35: =VLOOKUP(D35,'PLANILHA CONSOLIDADA'!$D$3:$I$61,4,0) -> 5.3661504 | H35: =VLOOKUP(D35,'PLANILHA CONSOLIDADA'!$D$3:$I$61,5,0) -> 4.6724985 | I35: =VLOOKUP(D35,'PLANILHA CONSOLIDADA'!$D$3:$I$61,6,0) -> 5.386238 | J35: =SUM(F35:G35) -> 10.178256 | K35: =VLOOKUP(D35,'PLANILHA CONSOLIDADA'!$D$6:$P$61,7,0) -> 10.178256 | L35: =J35-K35 -> 0 | M35: =VLOOKUP(D35,'PLANILHA CONSOLIDADA'!$D$6:$P$61,8,0) -> 2913.0286 | N35: ='PLANILHA CONSOLIDADA'!P41 -> 29649.54 | AB35: ok
B36: 4011352 | C36: SICRO3 | D36: IMPRIMAÇÃO COM EMULSÃO ASFÁLTICA | E36: m² | F36: =VLOOKUP(D36,'PLANILHA CONSOLIDADA'!$D$3:$I$61,3,0) -> 3701.62 | G36: =VLOOKUP(D36,'PLANILHA CONSOLIDADA'!$D$3:$I$61,4,0) -> 4127.808 | H36: =VLOOKUP(D36,'PLANILHA CONSOLIDADA'!$D$3:$I$61,5,0) -> 3594.2296 | I36: =VLOOKUP(D36,'PLANILHA CONSOLIDADA'!$D$3:$I$61,6,0) -> 4143.26 | J36: =SUM(F36:G36) -> 7829.428 | K36: =VLOOKUP(D36,'PLANILHA CONSOLIDADA'!$D$6:$P$61,7,0) -> 7829.428 | L36: =J36-K36 -> 0 | M36: =VLOOKUP(D36,'PLANILHA CONSOLIDADA'!$D$6:$P$61,8,0) -> 0.48256612 | N36: ='PLANILHA CONSOLIDADA'!P31 -> 3778.21 | AB36: ok
A37: 11 | D37: PINTURA DE LIGAÇÃO | O37: =SUM(N38:N39) -> 22945.1 | V37: =O37/N58 -> 0.0071256626 | W37: =V37+W34 -> #REF! | X37: =IF(W5<=$AA$5,"A",IF(W5<=$AA$6,"B","C")) -> A
B38: ANP | C38: ANP | D38: EMULSÕES ASFÁLTICAS RR-2C | E38: t | F38: =VLOOKUP(D38,'PLANILHA CONSOLIDADA'!$D$3:$I$61,3,0) -> 1.665729 | G38: =VLOOKUP(D38,'PLANILHA CONSOLIDADA'!$D$3:$I$61,4,0) -> 3.7898152 | H38: =VLOOKUP(D38,'PLANILHA CONSOLIDADA'!$D$3:$I$61,5,0) -> 1.6174033 | I38: =VLOOKUP(D38,'PLANILHA CONSOLIDADA'!$D$3:$I$61,6,0) -> 3.8086695 | J38: =SUM(F38:G38) -> 5.4555442 | K38: =VLOOKUP(D38,'PLANILHA CONSOLIDADA'!$D$6:$P$61,7,0) -> 5.4555442 | L38: =J38-K38 -> 0 | M38: =VLOOKUP(D38,'PLANILHA CONSOLIDADA'!$D$6:$P$61,8,0) -> 3463.3233 | N38: ='PLANILHA CONSOLIDADA'!P40 -> 18894.3 | AB38: ok
B39: 4011353 | C39: SICRO3 | D39: PINTURA DE LIGAÇÃO | E39: m² | F39: =VLOOKUP(D39,'PLANILHA CONSOLIDADA'!$D$3:$I$61,3,0) -> 3701.62 | G39: =VLOOKUP(D39,'PLANILHA CONSOLIDADA'!$D$3:$I$61,4,0) -> 8421.8116 | H39: =VLOOKUP(D39,'PLANILHA CONSOLIDADA'!$D$3:$I$61,5,0) -> 3594.2296 | I39: =VLOOKUP(D39,'PLANILHA CONSOLIDADA'!$D$3:$I$61,6,0) -> 8463.71 | J39: =SUM(F39:G39) -> 12123.432 | K39: =VLOOKUP(D39,'PLANILHA CONSOLIDADA'!$D$6:$P$61,7,0) -> 12123.432 | L39: =J39-K39 -> 0 | M39: =VLOOKUP(D39,'PLANILHA CONSOLIDADA'!$D$6:$P$61,8,0) -> 0.33413027 | N39: ='PLANILHA CONSOLIDADA'!P32 -> 4050.8 | AB39: ok
A40: 12 | D40: EXECUÇÃO DE PISO E PASSEIO INTERTRAVADO | O40: =SUM(N41:N43) -> 258715.63 | V40: =O40/N58 -> 0.080344835 | W40: =V40+W37 -> #REF! | X40: =IF(W5<=$AA$5,"A",IF(W5<=$AA$6,"B","C")) -> A
...

Sheet PLANILHA CONSOLIDADA
D1: PLANILHA CONSOLIDADA DO CONJUNTO DAS DUAS OBRAS COM QUANTITATIVOS E VALORES TOTAIS
A2: ITEM | B2: CÓDIGO | C2: BANCO | D2: DESCRIÇÃO | E2: UNID | F2: QUANTIDADES | J2: QUANT TOTAL | K2: P. UNIT C/ BDI | L2: VALORES (R$) | P2: VALOR (R$)
F3: I | G3: II | H3: III | I3: IV | L3: I | M3: II | N3: III | O3: IV | P3: TOTAL
A4: 1 | D4: SERVIÇOS PRELIMINARES | L4: =SUM(L6:L12) -> 126807.05 | M4: =SUM(M6:M12) -> 11862.826 | N4: =SUM(N6:N12) -> 287800.7 | O4: =SUM(O6:O12) -> 39667.69 | P4: =SUM(P6:P12) -> 138669.88
A6: 1.1 | B6: CPU 01 | C6: Próprio | D6: PLACA DE OBRA EM CHAPA DE AÇO GALVANIZADA | E6: m² | F6: =SUMIF('OBRA 01 - SINTÉTICA'!$D$7:$D$50,'PLANILHA CONSOLIDADA'!D6,'OBRA 01 - SINTÉTICA'!$F$7:$F$50) -> 6 | G6: =SUMIF('OBRA 02 - SINTÉTICA'!$D$7:$D$50,'PLANILHA CONSOLIDADA'!D6,'OBRA 02 - SINTÉTICA'!$F$7:$F$50) -> 6 | H6: =SUMIF('OBRA 03 - SINTÉTICA'!$D$7:$D$57,'PLANILHA CONSOLIDADA'!D6,'OBRA 03 - SINTÉTICA'!$F$7:$F$57) -> 6 | I6: =SUMIF('OBRA 04 - SINTÉTICA'!$D$7:$D$52,'PLANILHA CONSOLIDADA'!D6,'OBRA 04 - SINTÉTICA'!$F$7:$F$52) -> 6 | J6: =SUM(F6:G6) -> 12 | K6: =Q6 -> 452.46639 | L6: =TRUNC(F6*K6,2) -> 2714.79 | M6: =TRUNC(G6*K6,2) -> 2714.79 | N6: =TRUNC(H6*K6,2) -> 2714.79 | O6: =TRUNC(I6*K6,2) -> 2714.79 | P6: =SUM(L6:M6) -> 5429.58 | Q6: ='OBRA 01 - SINTÉTICA'!H8 -> 452.46639 | R6: =SUM(L6:L12) -> 126807.05 | S6: =SUM(M6:M12) -> 11862.826 | T6: =SUM(N6:N12) -> 287800.7 | U6: =SUM(O6:O12) -> 39667.69 | V6: =SUM(#REF!) -> #REF! | W6: =SUM(R6:V6) -> #REF! | X6: =R6/R61 -> 0.033828811 | Y6: =S6/S61 -> 0.0031096999 | Z6: =T6/#REF! -> #REF! | AA6: =U6/#REF! -> #REF! | AB6: =V6/#REF! -> #REF! | AC6: =W6/#REF! -> #REF!
A7: 1.2 | B7: 97636 | C7: SINAPI | D7: DEMOLIÇÃO PARCIAL DE PAVIMENTO ASFÁLTICO, DE FORMA MECANIZADA, SEM REAPROVEITAMENTO. AF_09/2023 | E7: m² | F7: =SUMIF('OBRA 01 - SINTÉTICA'!$D$7:$D$50,'PLANILHA CONSOLIDADA'!D7,'OBRA 01 - SINTÉTICA'!$F$7:$F$50) -> 2946 | G7: =SUMIF('OBRA 02 - SINTÉTICA'!$D$7:$D$50,'PLANILHA CONSOLIDADA'!D7,'OBRA 02 - SINTÉTICA'!$F$7:$F$50) -> 0 | H7: =SUMIF('OBRA 03 - SINTÉTICA'!$D$7:$D$57,'PLANILHA CONSOLIDADA'!D7,'OBRA 03 - SINTÉTICA'!$F$7:$F$57) -> 113.0973 | I7: =SUMIF('OBRA 04 - SINTÉTICA'!$D$7:$D$52,'PLANILHA CONSOLIDADA'!D7,'OBRA 04 - SINTÉTICA'!$F$7:$F$52) -> 156.11 | J7: =SUM(F7:G7) -> 2946 | K7: =Q7 -> 27.400257 | L7: =TRUNC(F7*K7,2) -> 80721.15 | M7: =TRUNC(G7*K7,2) -> 0 | N7: =TRUNC(H7*K7,2) -> 3098.89 | O7: =TRUNC(I7*K7,2) -> 4277.45 | P7: =SUM(L7:M7) -> 80721.15 | Q7: ='OBRA 01 - SINTÉTICA'!H9 -> 27.400257 | X7: =X6 -> 0.033828811 | Y7: =Y6 -> 0.0031096999 | Z7: =Z6 -> #REF! | AA7: =AA6 -> #REF! | AB7: =AB6 -> #REF! | AC7: =AC6 -> #REF!
A8: 1.3 | B8: 1600441 | C8: SICRO3 | D8: REMOÇÃO DE PARALELEPÍPEDOS | E8: m² | F8: =SUMIF('OBRA 01 - SINTÉTICA'!$D$7:$D$50,'PLANILHA CONSOLIDADA'!D8,'OBRA 01 - SINTÉTICA'!$F$7:$F$50) -> 380.8 | G8: =SUMIF('OBRA 02 - SINTÉTICA'!$D$7:$D$50,'PLANILHA CONSOLIDADA'!D8,'OBRA 02 - SINTÉTICA'!$F$7:$F$50) -> 0 | H8: =SUMIF('OBRA 03 - SINTÉTICA'!$D$7:$D$57,'PLANILHA CONSOLIDADA'!D8,'OBRA 03 - SINTÉTICA'!$F$7:$F$57) -> 880.5757 | I8: =SUMIF('OBRA 04 - SINTÉTICA'!$D$7:$D$52,'PLANILHA CONSOLIDADA'!D8,'OBRA 04 - SINTÉTICA'!$F$7:$F$52) -> 0 | J8: =SUM(F8:G8) -> 380.8 | K8: =Q8 -> 4.7337573 | L8: =TRUNC(F8*K8,2) -> 1802.61 | M8: =TRUNC(G8*K8,2) -> 0 | N8: =TRUNC(H8*K8,2) -> 4168.43 | O8: =TRUNC(I8*K8,2) -> 0 | P8: =SUM(L8:M8) -> 1802.61 | Q8: ='OBRA 01 - SINTÉTICA'!H10 -> 4.7337573
A9: 1.4 | B9: 21 | C9: ORSE | D9: DEMOLIÇÃO DE MEIO-FIO GRANÍTICO OU PRE-MOLDADO | E9: m | F9: =SUMIF('OBRA 01 - SINTÉTICA'!$D$7:$D$50,'PLANILHA CONSOLIDADA'!D9,'OBRA 01 - SINTÉTICA'!$F$7:$F$50) -> 732 | G9: =SUMIF('OBRA 02 - SINTÉTICA'!$D$7:$D$50,'PLANILHA CONSOLIDADA'!D9,'OBRA 02 - SINTÉTICA'!$F$7:$F$50) -> 533.35 | H9: =SUMIF('OBRA 03 - SINTÉTICA'!$D$7:$D$57,'PLANILHA CONSOLIDADA'!D9,'OBRA 03 - SINTÉTICA'!$F$7:$F$57) -> 1391.37 | I9: =SUMIF('OBRA 04 - SINTÉTICA'!$D$7:$D$52,'PLANILHA CONSOLIDADA'!D9,'OBRA 04 - SINTÉTICA'!$F$7:$F$52) -> 66.36 | J9: =SUM(F9:G9) -> 1265.35 | K9: =Q9 -> 11.871391 | L9: =TRUNC(F9*K9,2) -> 8689.85 | M9: =K9*G9 -> 6331.6064 | N9: =TRUNC(H9*K9,2) -> 16517.49 | O9: =TRUNC(I9*K9,2) -> 787.78 | P9: =SUM(L9:M9) -> 15021.456 | Q9: ='OBRA 01 - SINTÉTICA'!H11 -> 11.871391 | R9: 11.871391
A10: 1.5 | B10: 1600989 | C10: SICRO3 | D10: DEMOLIÇÃO DE CONCRETO SIMPLES COM MARTELETE | E10: m³ | F10: =SUMIF('OBRA 01 - SINTÉTICA'!$D$7:$D$50,'PLANILHA CONSOLIDADA'!D10,'OBRA 01 - SINTÉTICA'!$F$7:$F$50) -> 4.5 | G10: =SUMIF('OBRA 02 - SINTÉTICA'!$D$7:$D$50,'PLANILHA CONSOLIDADA'!D10,'OBRA 02 - SINTÉTICA'!$F$7:$F$50) -> 0 | H10: =SUMIF('OBRA 03 - SINTÉTICA'!$D$7:$D$57,'PLANILHA CONSOLIDADA'!D10,'OBRA 03 - SINTÉTICA'!$F$7:$F$57) -> 428.723 | I10: =SUMIF('OBRA 04 - SINTÉTICA'!$D$7:$D$52,'PLANILHA CONSOLIDADA'!D10,'OBRA 04 - SINTÉTICA'!$F$7:$F$52) -> 51.8301 | J10: =SUM(F10:G10) -> 4.5 | K10: =Q10 -> 473.45342 | L10: =TRUNC(F10*K10,2) -> 2130.54 | M10: =TRUNC(G10*K10,2) -> 0 | N10: =TRUNC(H10*K10,2) -> 202980.37 | O10: =TRUNC(I10*K10,2) -> 24539.13 | P10: =SUM(L10:M10) -> 2130.54 | Q10: ='OBRA 01 - SINTÉTICA'!H12 -> 473.45342
A11: 1.6 | B11: 100977 | C11: SINAPI | D11: CARGA, MANOBRA E DESCARGA DE SOLOS E MATERIAIS GRANULARES EM CAMINHÃO BASCULANTE 6 M³ - CARGA COM ESCAVADEIRA HIDRÁULICA (CAÇAMBA DE 1,20 M³ / 155 HP) E DESCARGA LIVRE (UNIDADE: M3). AF_07/2020 - ENTULHO | E11: m³ | F11: =SUMIF('OBRA 01 - SINTÉTICA'!$D$7:$D$50,'PLANILHA CONSOLIDADA'!D11,'OBRA 01 - SINTÉTICA'!$F$7:$F$50) -> 262.025 | G11: =SUMIF('OBRA 02 - SINTÉTICA'!$D$7:$D$50,'PLANILHA CONSOLIDADA'!D11,'OBRA 02 - SINTÉTICA'!$F$7:$F$50) -> 24.00075 | H11: =SUMIF('OBRA 03 - SINTÉTICA'!$D$7:$D$57,'PLANILHA CONSOLIDADA'!D11,'OBRA 03 - SINTÉTICA'!$F$7:$F$57) -> 496.98951 | I11: =SUMIF('OBRA 04 - SINTÉTICA'!$D$7:$D$52,'PLANILHA CONSOLIDADA'!D11,'OBRA 04 - SINTÉTICA'!$F$7:$F$52) -> 62.6218 | J11: =SUM(F11:G11) -> 286.02575 | K11: =Q11 -> 9.4444932 | L11: =TRUNC(F11*K11,2) -> 2474.69 | M11: =TRUNC(G11*K11,2) -> 226.67 | N11: =TRUNC(H11*K11,2) -> 4693.81 | O11: =TRUNC(I11*K11,2) -> 591.43 | P11: =SUM(L11:M11) -> 2701.36 | Q11: ='OBRA 01 - SINTÉTICA'!H13 -> 9.4444932
A12: 1.7 | B12: 97914 | C12: SINAPI | D12: TRANSPORTE COM CAMINHÃO BASCULANTE DE 6 M³, EM VIA URBANA PAVIMENTADA, DMT ATÉ 30 KM (UNIDADE: M3XKM). AF_07/2020 - ENTULHO | E12: M3XKM | F12: =SUMIF('OBRA 01 - SINTÉTICA'!$D$7:$D$50,'PLANILHA CONSOLIDADA'!D12,'OBRA 01 - SINTÉTICA'!$F$7:$F$50) -> 7860.75 | G12: =SUMIF('OBRA 02 - SINTÉTICA'!$D$7:$D$50,'PLANILHA CONSOLIDADA'!D12,'OBRA 02 - SINTÉTICA'!$F$7:$F$50) -> 720.0225 | H12: ='OBRA 03 - MEMÓRIA'!O23 -> 14909.685 | I12: =SUMIF('OBRA 04 - SINTÉTICA'!$D$7:$D$52,'PLANILHA CONSOLIDADA'!D12,'OBRA 04 - SINTÉTICA'!$F$7:$F$52) -> 1878.654 | J12: =SUM(F12:G12) -> 8580.7725 | K12: =Q12 -> 3.5967841 | L12: =TRUNC(F12*K12,2) -> 28273.42 | M12: =TRUNC(G12*K12,2) -> 2589.76 | N12: =K12*H12 -> 53626.919 | O12: =TRUNC(I12*K12,2) -> 6757.11 | P12: =SUM(L12:M12) -> 30863.18 | Q12: ='OBRA 01 - SINTÉTICA'!H14 -> 3.5967841 | R12: =J12+J18 -> 95015.478 | S12: =R12*K12 -> 341750.16 | T12: =L12+L18 -> 133587.25 | U12: =M12+M18 -> 208162.89 | V12: =N12+N18 -> 247541.93 | W12: =O12+O18 -> 230293.28
R13: =J28+J36+J37+J38+J53 -> 139800.33 | S13: =R13*K28 -> 421299.89
A14: 2 | D14: TERRAPLENAGEM | L14: =SUM(L16:L18) -> 124420.61 | M14: =SUM(M16:M18) -> 242869.67 | N14: =SUM(N16:N18) -> 229096.46 | O14: =SUM(O16:O18) -> 274230.58 | P14: =SUM(P16:P18) -> 367290.28 | R14: =J11+J27+J52 -> 4017.815 | S14: =R14*K11 -> 37946.227
A16: 2.1 | B16: 101124 | C16: SINAPI | D16: ESCAVAÇÃO HORIZONTAL, INCLUINDO CARGA E DESCARGA EM SOLO DE 1A CATEGORIA COM TRATOR DE ESTEIRAS (100HP/LÂMINA: 2,19M3). AF_07/2020 | E16: m³ | F16: =SUMIF('OBRA 01 - SINTÉTICA'!$D$7:$D$50,'PLANILHA CONSOLIDADA'!D16,'OBRA 01 - SINTÉTICA'!$F$7:$F$50) -> 780.8 | G16: =SUMIF('OBRA 02 - SINTÉTICA'!$D$7:$D$50,'PLANILHA CONSOLIDADA'!D16,'OBRA 02 - SINTÉTICA'!$F$7:$F$50) -> 1524.1255 | H16: =SUMIF('OBRA 03 - SINTÉTICA'!$D$7:$D$57,'PLANILHA CONSOLIDADA'!D16,'OBRA 03 - SINTÉTICA'!$F$7:$F$57) -> 1437.6918 | I16: =SUMIF('OBRA 04 - SINTÉTICA'!$D$7:$D$52,'PLANILHA CONSOLIDADA'!D16,'OBRA 04 - SINTÉTICA'!$F$7:$F$52) -> 2071.63 | J16: =SUM(F16:G16) -> 2304.9255 | K16: =Q16 -> 18.541465 | L16: =TRUNC(F16*K16,2) -> 14477.17 | M16: =TRUNC(G16*K16,2) -> 28259.51 | N16: =TRUNC(H16*K16,2) -> 26656.91 | O16: =TRUNC(I16*K16,2) -> 38411.05 | P16: =SUM(L16:M16) -> 42736.68 | Q16: ='OBRA 01 - SINTÉTICA'!H16 -> 18.541465 | R16: =SUM(L16:L17) -> 19106.78 | S16: =SUM(M16:M17) -> 37296.54 | T16: =SUM(N16:N17) -> 35181.45 | U16: =SUM(O16:O17) -> 50694.41 | V16: =SUM(#REF!) -> #REF! | W16: =SUM(R16:V16) -> #REF! | X16: =R16/R61 -> 0.0050971902 | Y16: =S16/S61 -> 0.0097768478 | Z16: =T16/#REF! -> #REF! | AA16: =U16/#REF! -> #REF! | AB16: =V16/#REF! -> #REF! | AC16: =W16/#REF! -> #REF!
A17: 2.2 | B17: 5502978 | C17: SICRO3 | D17: COMPACTAÇÃO DE ATERROS A 100% DO PROCTOR NORMAL | E17: m³ | F17: =SUMIF('OBRA 01 - SINTÉTICA'!$D$7:$D$50,'PLANILHA CONSOLIDADA'!D17,'OBRA 01 - SINTÉTICA'!$F$7:$F$50) -> 780.8 | G17: =SUMIF('OBRA 02 - SINTÉTICA'!$D$7:$D$50,'PLANILHA CONSOLIDADA'!D17,'OBRA 02 - SINTÉTICA'!$F$7:$F$50) -> 1524.1255 | H17: =SUMIF('OBRA 03 - SINTÉTICA'!$D$7:$D$57,'PLANILHA CONSOLIDADA'!D17,'OBRA 03 - SINTÉTICA'!$F$7:$F$57) -> 1437.6918 | I17: =SUMIF('OBRA 04 - SINTÉTICA'!$D$7:$D$52,'PLANILHA CONSOLIDADA'!D17,'OBRA 04 - SINTÉTICA'!$F$7:$F$52) -> 2071.63 | J17: =SUM(F17:G17) -> 2304.9255 | K17: =Q17 -> 5.9293249 | L17: =TRUNC(F17*K17,2) -> 4629.61 | M17: =TRUNC(G17*K17,2) -> 9037.03 | N17: =TRUNC(H17*K17,2) -> 8524.54 | O17: =TRUNC(I17*K17,2) -> 12283.36 | P17: =SUM(L17:M17) -> 13666.64 | Q17: ='OBRA 01 - SINTÉTICA'!H17 -> 5.9293249 | X17: =X16+X7 -> 0.038926001 | Y17: =Y16+Y7 -> 0.012886548 | Z17: =Z16+Z7 -> #REF! | AA17: =AA16+AA7 -> #REF! | AB17: =AB16+AB7 -> #REF! | AC17: =AC16+AC7 -> #REF!
A18: 2.3 | B18: 97914 | C18: SINAPI | D18: TRANSPORTE COM CAMINHÃO BASCULANTE DE 6 M³, EM VIA URBANA PAVIMENTADA, DMT ATÉ 30 KM (UNIDADE: M3XKM). AF_07/2020 - SOLO | E18: M3XKM | F18: =SUMIF('OBRA 01 - SINTÉTICA'!$D$7:$D$50,'PLANILHA CONSOLIDADA'!D18,'OBRA 01 - SINTÉTICA'!$F$7:$F$50) -> 29280 | G18: =SUMIF('OBRA 02 - SINTÉTICA'!$D$7:$D$50,'PLANILHA CONSOLIDADA'!D18,'OBRA 02 - SINTÉTICA'!$F$7:$F$50) -> 57154.706 | H18: =SUMIF('OBRA 03 - SINTÉTICA'!$D$7:$D$57,'PLANILHA CONSOLIDADA'!D18,'OBRA 03 - SINTÉTICA'!$F$7:$F$57) -> 53913.444 | I18: =SUMIF('OBRA 04 - SINTÉTICA'!$D$7:$D$52,'PLANILHA CONSOLIDADA'!D18,'OBRA 04 - SINTÉTICA'!$F$7:$F$52) -> 62148.9 | J18: =SUM(F18:G18) -> 86434.706 | K18: =Q18 -> 3.5967841 | L18: =TRUNC(F18*K18,2) -> 105313.83 | M18: =TRUNC(G18*K18,2) -> 205573.13 | N18: =TRUNC(H18*K18,2) -> 193915.01 | O18: =TRUNC(I18*K18,2) -> 223536.17 | P18: =SUM(L18:M18) -> 310886.96 | Q18: ='OBRA 01 - SINTÉTICA'!H18 -> 3.5967841 | R18: 3.5967841
A20: 3 | D20: PAVIMENTO | L20: =SUM(L22:L43) -> 735374.61 | M20: =SUM(M22:M43) -> 1231542.4 | N20: =SUM(N22:N44) -> 1038449.2 | O20: =SUM(O22:O43) -> 1441350.1 | P20: =SUM(P22:P44) -> 1966917
D21: BASE | R21: =SUM(O22:O28) -> 581422.88 | S21: =SUM(O30:O44) -> 859927.17 | T21: =SUM(R21:S21) -> 1441350.1
A22: 3.1 | B22: 100577 | C22: SINAPI | D22: REGULARIZAÇÃO E COMPACTAÇÃO DE SUBLEITO DE SOLO PREDOMINANTEMENTE ARENOSO. AF_11/2019 | E22: m² | F22: ='OBRA 01 - MEMÓRIA'!O34 -> 1952 | G22: =SUMIF('OBRA 02 - SINTÉTICA'!$D$7:$D$50,'PLANILHA CONSOLIDADA'!D22,'OBRA 02 - SINTÉTICA'!$F$7:$F$50) -> 3810.3137 | H22: =SUMIF('OBRA 03 - SINTÉTICA'!$D$7:$D$57,'PLANILHA CONSOLIDADA'!D22,'OBRA 03 - SINTÉTICA'!$F$7:$F$57) -> 3594.2296 | I22: =SUMIF('OBRA 04 - SINTÉTICA'!$D$7:$D$52,'PLANILHA CONSOLIDADA'!D22,'OBRA 04 - SINTÉTICA'!$F$7:$F$52) -> 4143.26 | J22: =SUM(F22:G22) -> 5762.3137 | K22: =Q22 -> 2.3952638 | L22: =TRUNC(F22*K22,2) -> 4675.55 | M22: =TRUNC(G22*K22,2) -> 9126.7 | N22: =TRUNC(H22*K22,2) -> 8609.12 | O22: =TRUNC(I22*K22,2) -> 9924.2 | P22: =SUM(L22:M22) -> 13802.25 | Q22: ='OBRA 01 - SINTÉTICA'!H21 -> 2.3952638 | R22: =SUM(L22:L43) -> 735374.61 | S22: =SUM(M22:M43) -> 1231542.4 | T22: =SUM(N22:N43) -> 1036617.6 | U22: =SUM(O22:O43) -> 1441350.1 | V22: =SUM(#REF!) -> #REF! | W22: =SUM(R22:V22) -> #REF! | X22: =R22/R61 -> 0.19617875 | Y22: =S22/S61 -> 0.3228343 | Z22: =T22/#REF! -> #REF! | AA22: =U22/#REF! -> #REF! | AB22: =V22/#REF! -> #REF! | AC22: =W22/#REF! -> #REF!
A23: 3.2 | B23: 100565 | C23: SINAPI | D23: EXECUÇÃO E COMPACTAÇÃO DE BASE E OU SUB-BASE PARA PAVIMENTAÇÃO DE SOLO (PREDOMINANTEMENTE ARENOSO) BRITA - 50/50 - EXCLUSIVE SOLO, ESCAVAÇÃO, CARGA E TRANSPORTE. AF_11/2019 | E23: m³ | F23: =SUMIF('OBRA 01 - SINTÉTICA'!$D$7:$D$50,'PLANILHA CONSOLIDADA'!D23,'OBRA 01 - SINTÉTICA'!$F$7:$F$50) -> 390.4 | G23: =SUMIF('OBRA 02 - SINTÉTICA'!$D$7:$D$50,'PLANILHA CONSOLIDADA'!D23,'OBRA 02 - SINTÉTICA'!$F$7:$F$50) -> 762.06274 | H23: =SUMIF('OBRA 03 - SINTÉTICA'!$D$7:$D$57,'PLANILHA CONSOLIDADA'!D23,'OBRA 03 - SINTÉTICA'!$F$7:$F$57) -> 718.84592 | I23: =SUMIF('OBRA 04 - SINTÉTICA'!$D$7:$D$52,'PLANILHA CONSOLIDADA'!D23,'OBRA 04 - SINTÉTICA'!$F$7:$F$52) -> 828.652 | J23: =SUM(F23:G23) -> 1152.4627 | K23: =Q23 -> 113.03518 | L23: =TRUNC(F23*K23,2) -> 44128.93 | M23: =TRUNC(G23*K23,2) -> 86139.89 | N23: =TRUNC(H23*K23,2) -> 81254.87 | O23: =TRUNC(I23*K23,2) -> 93666.82 | P23: =SUM(L23:M23) -> 130268.82 | Q23: ='OBRA 01 - SINTÉTICA'!H22 -> 113.03518 | R23: =SUM(N22:N28) -> 451964.38 | X23: =X22+X17 -> 0.23510475 | Y23: =Y22+Y17 -> 0.33572085 | Z23: =Z22+Z17 -> #REF! | AA23: =AA22+AA17 -> #REF! | AB23: =AB22+AB17 -> #REF! | AC23: =AC22+AC17 -> #REF!
A24: 3.3 | B24: 00004743 | C24: SINAPI | D24: CASCALHO DE CAVA | E24: m³ | F24: =SUMIF('OBRA 01 - SINTÉTICA'!$D$7:$D$50,'PLANILHA CONSOLIDADA'!D24,'OBRA 01 - SINTÉTICA'!$F$7:$F$50) -> 244 | G24: =SUMIF('OBRA 02 - SINTÉTICA'!$D$7:$D$50,'PLANILHA CONSOLIDADA'!D24,'OBRA 02 - SINTÉTICA'!$F$7:$F$50) -> 476.28921 | H24: =SUMIF('OBRA 03 - SINTÉTICA'!$D$7:$D$57,'PLANILHA CONSOLIDADA'!D24,'OBRA 03 - SINTÉTICA'!$F$7:$F$57) -> 449.2787 | I24: =SUMIF('OBRA 04 - SINTÉTICA'!$D$7:$D$52,'PLANILHA CONSOLIDADA'!D24,'OBRA 04 - SINTÉTICA'!$F$7:$F$52) -> 517.9075 | J24: =SUM(F24:G24) -> 720.28921 | K24: =Q24 -> 69.460984 | L24: =TRUNC(F24*K24,2) -> 16948.48 | M24: =TRUNC(G24*K24,2) -> 33083.51 | N24: =TRUNC(H24*K24,2) -> 31207.34 | O24: =TRUNC(I24*K24,2) -> 35974.36 | P24: =SUM(L24:M24) -> 50031.99 | Q24: ='OBRA 01 - SINTÉTICA'!H23 -> 69.460984
A25: 3.4 | B25: 96397 | C25: SINAPI | D25: EXECUÇÃO E COMPACTAÇÃO DE BASE E OU SUB BASE PARA PAVIMENTAÇÃO DE BRITA GRADUADA SIMPLES TRATADA COM CIMENTO - EXCLUSIVE CARGA E TRANSPORTE. AF_11/2019 | E25: m³ | F25: =SUMIF('OBRA 01 - SINTÉTICA'!$D$7:$D$50,'PLANILHA CONSOLIDADA'!D25,'OBRA 01 - SINTÉTICA'!$F$7:$F$50) -> 0 | G25: ='OBRA 02 - SINTÉTICA'!F19 -> 762.06274 | H25: =SUMIF('OBRA 03 - SINTÉTICA'!$D$7:$D$57,'PLANILHA CONSOLIDADA'!D25,'OBRA 03 - SINTÉTICA'!$F$7:$F$57) -> 0 | I25: =SUMIF('OBRA 04 - SINTÉTICA'!$D$7:$D$52,'PLANILHA CONSOLIDADA'!D25,'OBRA 04 - SINTÉTICA'!$F$7:$F$52) -> 828.652 | J25: =SUM(F25:G25) -> 762.06274 | K25: =Q25 -> 283.59451 | L25: =TRUNC(F25*K25,2) -> 0 | M25: =TRUNC(G25*K25,2) -> 216116.8 | N25: =TRUNC(H25*K25,2) -> 0 | O25: =TRUNC(I25*K25,2) -> 235001.15 | P25: =SUM(L25:M25) -> 216116.8 | Q25: ='OBRA 02 - ANALÍTICA'!J144 -> 283.59451
A26: 3.5 | B26: 96396 | C26: SINAPI | D26: EXECUÇÃO E COMPACTAÇÃO DE BASE E OU SUB BASE PARA PAVIMENTAÇÃO DE BRITA GRADUADA SIMPLES - EXCLUSIVE CARGA E TRANSPORTE. AF_11/2019 | E26: m³ | F26: =SUMIF('OBRA 01 - SINTÉTICA'!$D$7:$D$50,'PLANILHA CONSOLIDADA'!D26,'OBRA 01 - SINTÉTICA'!$F$7:$F$50) -> 979.6 | G26: 0 | H26: =SUMIF('OBRA 03 - SINTÉTICA'!$D$7:$D$57,'PLANILHA CONSOLIDADA'!D26,'OBRA 03 - SINTÉTICA'!$F$7:$F$57) -> 718.84592 | I26: =SUMIF('OBRA 04 - SINTÉTICA'!$D$7:$D$52,'PLANILHA CONSOLIDADA'!D26,'OBRA 04 - SINTÉTICA'!$F$7:$F$52) -> 0 | J26: =SUM(F26:G26) -> 979.6 | K26: =Q26 -> 210.68158 | L26: =TRUNC(F26*K26,2) -> 206383.67 | M26: =TRUNC(G26*K26,2) -> 0 | N26: =TRUNC(H26*K26,2) -> 151447.59 | O26: =TRUNC(I26*K26,2) -> 0 | P26: =SUM(L26:M26) -> 206383.67 | Q26: ='OBRA 01 - SINTÉTICA'!H24 -> 210.68158
A27: 3.6 | B27: 100977 | C27: SINAPI | D27: CARGA, MANOBRA E DESCARGA DE SOLOS E MATERIAIS GRANULARES EM CAMINHÃO BASCULANTE 6 M³ - CARGA COM ESCAVADEIRA HIDRÁULICA (CAÇAMBA DE 1,20 M³ / 155 HP) E DESCARGA LIVRE (UNIDADE: M3). AF_07/2020 - BASE | E27: m³ | F27: =SUMIF('OBRA 01 - SINTÉTICA'!$D$7:$D$50,'PLANILHA CONSOLIDADA'!D27,'OBRA 01 - SINTÉTICA'!$F$7:$F$50) -> 1712.5 | G27: =SUMIF('OBRA 02 - SINTÉTICA'!$D$7:$D$50,'PLANILHA CONSOLIDADA'!D27,'OBRA 02 - SINTÉTICA'!$F$7:$F$50) -> 1905.1569 | H27: ='OBRA 03 - MEMÓRIA'!O42 -> 1797.1148 | I27: =SUMIF('OBRA 04 - SINTÉTICA'!$D$7:$D$52,'PLANILHA CONSOLIDADA'!D27,'OBRA 04 - SINTÉTICA'!$F$7:$F$52) -> 2071.63 | J27: =SUM(F27:G27) -> 3617.6569 | K27: =Q27 -> 9.4444932 | L27: =TRUNC(F27*K27,2) -> 16173.69 | M27: =TRUNC(G27*K27,2) -> 17993.24 | N27: =TRUNC(H27*K27,2) -> 16972.83 | O27: =TRUNC(I27*K27,2) -> 19565.49 | P27: =SUM(L27:M27) -> 34166.93 | Q27: ='OBRA 01 - SINTÉTICA'!H25 -> 9.4444932
A28: 3.7 | B28: 95875 | C28: SINAPI | D28: TRANSPORTE COM CAMINHÃO BASCULANTE DE 10 M³, EM VIA URBANA PAVIMENTADA, DMT ATÉ 30 KM (UNIDADE: M3XKM). AF_07/2020 - BASE | E28: M3XKM | F28: =SUMIF('OBRA 01 - SINTÉTICA'!$D$7:$D$50,'PLANILHA CONSOLIDADA'!D28,'OBRA 01 - SINTÉTICA'!$F$7:$F$50) -> 51375 | G28: =SUMIF('OBRA 02 - SINTÉTICA'!$D$7:$D$50,'PLANILHA CONSOLIDADA'!D28,'OBRA 02 - SINTÉTICA'!$F$7:$F$50) -> 57154.706 | H28: =SUMIF('OBRA 03 - SINTÉTICA'!$D$7:$D$57,'PLANILHA CONSOLIDADA'!D28,'OBRA 03 - SINTÉTICA'!$F$7:$F$57) -> 53913.444 | I28: =SUMIF('OBRA 04 - SINTÉTICA'!$D$7:$D$52,'PLANILHA CONSOLIDADA'!D28,'OBRA 04 - SINTÉTICA'!$F$7:$F$52) -> 62148.9 | J28: =SUM(F28:G28) -> 108529.71 | K28: =Q28 -> 3.0135829 | L28: =TRUNC(F28*K28,2) -> 154822.81 | M28: =TRUNC(G28*K28,2) -> 172240.44 | N28: =TRUNC(H28*K28,2) -> 162472.63 | O28: =TRUNC(I28*K28,2) -> 187290.86 | P28: =SUM(L28:M28) -> 327063.25 | Q28: ='OBRA 01 - SINTÉTICA'!H26 -> 3.0135829 | R28: =R29+'OBRA 03 - SINTÉTICA'!I32 -> 600900.5
D29: PAVIMENTAÇÃO | R29: =SUM(N30:N43) -> 584653.24
A30: 3.8 | B30: 4011486 | C30: SICRO3 | D30: RECICLAGEM COM INCORPORAÇÃO DO REVESTIMENTO ASFÁLTICO À BASE E ADIÇÃO DE 3% DE CIMENTO E DE BRITA COMERCIAL | E30: m³ | F30: =SUMIF('OBRA 01 - SINTÉTICA'!$D$7:$D$50,'PLANILHA CONSOLIDADA'!D30,'OBRA 01 - SINTÉTICA'!$F$7:$F$50) -> 0 | G30: =SUMIF('OBRA 02 - SINTÉTICA'!$D$7:$D$50,'PLANILHA CONSOLIDADA'!D30,'OBRA 02 - SINTÉTICA'!$F$7:$F$50) -> 1288.2011 | H30: =SUMIF('OBRA 03 - SINTÉTICA'!$D$7:$D$57,'PLANILHA CONSOLIDADA'!D30,'OBRA 03 - SINTÉTICA'!$F$7:$F$57) -> 0 | I30: =SUMIF('OBRA 04 - SINTÉTICA'!$D$7:$D$52,'PLANILHA CONSOLIDADA'!D30,'OBRA 04 - SINTÉTICA'!$F$7:$F$52) -> 1296.135 | J30: =SUM(F30:G30) -> 1288.2011 | K30: =Q30 -> 141.15746 | L30: =TRUNC(F30*K30,2) -> 0 | M30: =TRUNC(G30*K30,2) -> 181839.18 | N30: =TRUNC(H30*K30,2) -> 0 | O30: =TRUNC(I30*K30,2) -> 182959.12 | P30: =SUM(L30:M30) -> 181839.18 | Q30: ='OBRA 02 - ANALÍTICA'!J204 -> 141.15746 | R30: =J30*L30 -> 0 | S30: =SUM(M30:R30) -> 546778.64
A31: 3.9 | B31: 4011352 | C31: SICRO3 | D31: IMPRIMAÇÃO COM EMULSÃO ASFÁLTICA | E31: m² | F31: =SUMIF('OBRA 01 - SINTÉTICA'!$D$7:$D$50,'PLANILHA CONSOLIDADA'!D31,'OBRA 01 - SINTÉTICA'!$F$7:$F$50) -> 3701.62 | G31: =SUMIF('OBRA 02 - SINTÉTICA'!$D$7:$D$50,'PLANILHA CONSOLIDADA'!D31,'OBRA 02 - SINTÉTICA'!$F$7:$F$50) -> 4127.808 | H31: =SUMIF('OBRA 03 - SINTÉTICA'!$D$7:$D$57,'PLANILHA CONSOLIDADA'!D31,'OBRA 03 - SINTÉTICA'!$F$7:$F$57) -> 3594.2296 | I31: =SUMIF('OBRA 04 - SINTÉTICA'!$D$7:$D$52,'PLANILHA CONSOLIDADA'!D31,'OBRA 04 - SINTÉTICA'!$F$7:$F$52) -> 4143.26 | J31: =SUM(F31:G31) -> 7829.428 | K31: =Q31 -> 0.48256612 | L31: =TRUNC(F31*K31,2) -> 1786.27 | M31: =TRUNC(G31*K31,2) -> 1991.94 | N31: =TRUNC(H31*K31,2) -> 1734.45 | O31: =TRUNC(I31*K31,2) -> 1999.39 | P31: =SUM(L31:M31) -> 3778.21 | Q31: ='OBRA 01 - SINTÉTICA'!H28 -> 0.48256612
A32: 3.10 | B32: 4011353 | C32: SICRO3 | D32: PINTURA DE LIGAÇÃO | E32: m² | F32: =SUMIF('OBRA 01 - SINTÉTICA'!$D$7:$D$50,'PLANILHA CONSOLIDADA'!D32,'OBRA 01 - SINTÉTICA'!$F$7:$F$50) -> 3701.62 | G32: =SUMIF('OBRA 02 - SINTÉTICA'!$D$7:$D$50,'PLANILHA CONSOLIDADA'!D32,'OBRA 02 - SINTÉTICA'!$F$7:$F$50) -> 8421.8116 | H32: =SUMIF('OBRA 03 - SINTÉTICA'!$D$7:$D$57,'PLANILHA CONSOLIDADA'!D32,'OBRA 03 - SINTÉTICA'!$F$7:$F$57) -> 3594.2296 | I32: =SUMIF('OBRA 04 - SINTÉTICA'!$D$7:$D$52,'PLANILHA CONSOLIDADA'!D32,'OBRA 04 - SINTÉTICA'!$F$7:$F$52) -> 8463.71 | J32: =SUM(F32:G32) -> 12123.432 | K32: =Q32 -> 0.33413027 | L32: =TRUNC(F32*K32,2) -> 1236.82 | M32: =TRUNC(G32*K32,2) -> 2813.98 | N32: =TRUNC(H32*K32,2) -> 1200.94 | O32: =TRUNC(I32*K32,2) -> 2827.98 | P32: =SUM(L32:M32) -> 4050.8 | Q32: ='OBRA 01 - SINTÉTICA'!H29 -> 0.33413027
A33: 3.11 | B33: 4011463 | C33: SICRO3 | D33: CONCRETO ASFÁLTICO - FAIXA C - AREIA E BRITA COMERCIAIS | E33: t | F33: =SUMIF('OBRA 01 - SINTÉTICA'!$D$7:$D$50,'PLANILHA CONSOLIDADA'!D33,'OBRA 01 - SINTÉTICA'!$F$7:$F$50) -> 444.1944 | G33: =SUMIF('OBRA 02 - SINTÉTICA'!$D$7:$D$50,'PLANILHA CONSOLIDADA'!D33,'OBRA 02 - SINTÉTICA'!$F$7:$F$50) -> 1010.6174 | H33: =SUMIF('OBRA 03 - SINTÉTICA'!$D$7:$D$57,'PLANILHA CONSOLIDADA'!D33,'OBRA 03 - SINTÉTICA'!$F$7:$F$57) -> 431.30755 | I33: =SUMIF('OBRA 04 - SINTÉTICA'!$D$7:$D$52,'PLANILHA CONSOLIDADA'!D33,'OBRA 04 - SINTÉTICA'!$F$7:$F$52) -> 1015.6452 | J33: =SUM(F33:G33) -> 1454.8118 | K33: =Q33 -> 237.37919 | L33: =TRUNC(F33*K33,2) -> 105442.5 | M33: =TRUNC(G33*K33,2) -> 239899.53 | N33: =TRUNC(H33*K33,2) -> 102383.43 | O33: =TRUNC(I33*K33,2) -> 241093.03 | P33: =SUM(L33:M33) -> 345342.03 | Q33: ='OBRA 01 - SINTÉTICA'!H30 -> 237.37919
A34: 3.12 | B34: 102330 | C34: SINAPI | D34: TRANSPORTE COM CAMINHÃO TANQUE DE TRANSPORTE DE MATERIAL ASFÁLTICO DE 30000 L, EM VIA URBANA PAVIMENTADA, DMT ATÉ 30KM (UNIDADE: TXKM). AF_07/2020 | E34: TXKM | F34: =SUMIF('OBRA 01 - SINTÉTICA'!$D$7:$D$50,'PLANILHA CONSOLIDADA'!D34,'OBRA 01 - SINTÉTICA'!$F$7:$F$50) -> 1053.718 | G34: =SUMIF('OBRA 02 - SINTÉTICA'!$D$7:$D$50,'PLANILHA CONSOLIDADA'!D34,'OBRA 02 - SINTÉTICA'!$F$7:$F$50) -> 1271.592 | H34: =SUMIF('OBRA 03 - SINTÉTICA'!$D$7:$D$57,'PLANILHA CONSOLIDADA'!D34,'OBRA 03 - SINTÉTICA'!$F$7:$F$57) -> 1023.1478 | I34: =SUMIF('OBRA 04 - SINTÉTICA'!$D$7:$D$52,'PLANILHA CONSOLIDADA'!D34,'OBRA 04 - SINTÉTICA'!$F$7:$F$52) -> 2240.816 | J34: =SUM(F34:G34) -> 2325.31 | K34: =Q34 -> 1.7244854 | L34: =TRUNC(F34*K34,2) -> 1817.12 | M34: =TRUNC(G34*K34,2) -> 2192.84 | N34: =TRUNC(H34*K34,2) -> 1764.4 | O34: =TRUNC(I34*K34,2) -> 3864.25 | P34: =SUM(L34:M34) -> 4009.96 | Q34: ='OBRA 01 - SINTÉTICA'!H32 -> 1.7244854
A35: 3.13 | B35: 102331 | C35: SINAPI | D35: TRANSPORTE COM CAMINHÃO TANQUE DE TRANSPORTE DE MATERIAL ASFÁLTICO DE 30000 L, EM VIA URBANA PAVIMENTADA, ADICIONAL PARA DMT EXCEDENTE A 30 KM (UNIDADE: TXKM). AF_07/2020 | E35: TXKM | F35: =SUMIF('OBRA 01 - SINTÉTICA'!$D$7:$D$50,'PLANILHA CONSOLIDADA'!D35,'OBRA 01 - SINTÉTICA'!$F$7:$F$50) -> 16508.248 | G35: =SUMIF('OBRA 02 - SINTÉTICA'!$D$7:$D$50,'PLANILHA CONSOLIDADA'!D35,'OBRA 02 - SINTÉTICA'!$F$7:$F$50) -> 19921.608 | H35: =SUMIF('OBRA 03 - SINTÉTICA'!$D$7:$D$57,'PLANILHA CONSOLIDADA'!D35,'OBRA 03 - SINTÉTICA'!$F$7:$F$57) -> 16029.315 | I35: =SUMIF('OBRA 04 - SINTÉTICA'!$D$7:$D$52,'PLANILHA CONSOLIDADA'!D35,'OBRA 04 - SINTÉTICA'!$F$7:$F$52) -> 35106.117 | J35: =SUM(F35:G35) -> 36429.856 | K35: =Q35 -> 0.68072843 | L35: =TRUNC(F35*K35,2) -> 11237.63 | M35: =TRUNC(G35*K35,2) -> 13561.2 | N35: =TRUNC(H35*K35,2) -> 10911.61 | O35: =TRUNC(I35*K35,2) -> 23897.73 | P35: =SUM(L35:M35) -> 24798.83 | Q35: ='OBRA 01 - SINTÉTICA'!H33 -> 0.68072843
A36: 3.14 | B36: 95875 | C36: SINAPI | D36: TRANSPORTE COM CAMINHÃO BASCULANTE DE 10 M³, EM VIA URBANA PAVIMENTADA, DMT ATÉ 30 KM (UNIDADE: M3XKM). AF_07/2020 - CBUQ | E36: M3XKM | F36: =SUMIF('OBRA 01 - SINTÉTICA'!$D$7:$D$50,'PLANILHA CONSOLIDADA'!D36,'OBRA 01 - SINTÉTICA'!$F$7:$F$50) -> 5552.43 | G36: =SUMIF('OBRA 02 - SINTÉTICA'!$D$7:$D$50,'PLANILHA CONSOLIDADA'!D36,'OBRA 02 - SINTÉTICA'!$F$7:$F$50) -> 12632.717 | H36: =SUMIF('OBRA 03 - SINTÉTICA'!$D$7:$D$57,'PLANILHA CONSOLIDADA'!D36,'OBRA 03 - SINTÉTICA'!$F$7:$F$57) -> 5817.8747 | I36: =SUMIF('OBRA 04 - SINTÉTICA'!$D$7:$D$52,'PLANILHA CONSOLIDADA'!D36,'OBRA 04 - SINTÉTICA'!$F$7:$F$52) -> 12695.565 | J36: =SUM(F36:G36) -> 18185.147 | K36: =Q36 -> 3.0135829 | L36: =TRUNC(F36*K36,2) -> 16732.7 | M36: =TRUNC(G36*K36,2) -> 38069.74 | N36: =TRUNC(H36*K36,2) -> 17532.64 | O36: =TRUNC(I36*K36,2) -> 38259.13 | P36: =SUM(L36:M36) -> 54802.44 | Q36: ='OBRA 01 - SINTÉTICA'!H31 -> 3.0135829
B37: 95875 | C37: SINAPI | D37: TRANSPORTE COM CAMINHÃO BASCULANTE DE 10 M³, EM VIA URBANA PAVIMENTADA, DMT ATÉ 30 KM (UNIDADE: M3XKM). AF_07/2020 - AREIA E PÓ DE PEDRA - PAVIMENTO | E37: M3XKM | F37: =SUMIF('OBRA 01 - SINTÉTICA'!$D$7:$D$50,'PLANILHA CONSOLIDADA'!D37,'OBRA 01 - SINTÉTICA'!$F$7:$F$50) -> 0 | G37: =SUMIF('OBRA 02 - SINTÉTICA'!$D$7:$D$50,'PLANILHA CONSOLIDADA'!D37,'OBRA 02 - SINTÉTICA'!$F$7:$F$50) -> 0 | H37: =SUMIF('OBRA 03 - SINTÉTICA'!$D$7:$D$57,'PLANILHA CONSOLIDADA'!D37,'OBRA 03 - SINTÉTICA'!$F$7:$F$57) -> 5391.3444 | I37: =SUMIF('OBRA 04 - SINTÉTICA'!$D$7:$D$52,'PLANILHA CONSOLIDADA'!D37,'OBRA 04 - SINTÉTICA'!$F$7:$F$52) -> 0 | J37: =SUM(F37:G37) -> 0 | K37: =Q37 -> 3.0135829 | L37: =TRUNC(F37*K37,2) -> 0 | M37: =TRUNC(G37*K37,2) -> 0 | N37: =TRUNC(H37*K37,2) -> 16247.26 | O37: =TRUNC(I37*K37,2) -> 0 | P37: =SUM(L37:M37) -> 0 | Q37: ='OBRA 01 - SINTÉTICA'!H26 -> 3.0135829
A38: 3.15 | B38: 95875 | C38: SINAPI | D38: TRANSPORTE COM CAMINHÃO BASCULANTE DE 10 M³, EM VIA URBANA PAVIMENTADA, DMT ATÉ 30 KM (UNIDADE: M3XKM). AF_07/2020 - BRITA | E38: M3XKM | F38: =SUMIF('OBRA 01 - SINTÉTICA'!$D$7:$D$50,'PLANILHA CONSOLIDADA'!D38,'OBRA 01 - SINTÉTICA'!$F$7:$F$50) -> 0 | G38: =SUMIF('OBRA 02 - SINTÉTICA'!$D$7:$D$50,'PLANILHA CONSOLIDADA'!D38,'OBRA 02 - SINTÉTICA'!$F$7:$F$50) -> 9661.5081 | H38: =SUMIF('OBRA 03 - SINTÉTICA'!$D$7:$D$57,'PLANILHA CONSOLIDADA'!D38,'OBRA 03 - SINTÉTICA'!$F$7:$F$57) -> 0 | I38: ='OBRA 04 - MEMÓRIA'!O58 -> 9721.0125 | J38: =SUM(F38:G38) -> 9661.5081 | K38: =Q38 -> 3.0135829 | L38: =TRUNC(F38*K38,2) -> 0 | M38: =TRUNC(G38*K38,2) -> 29115.75 | N38: =TRUNC(H38*K38,2) -> 0 | O38: =TRUNC(I38*K38,2) -> 29295.07 | P38: =SUM(L38:M38) -> 29115.75 | Q38: =Q37 -> 3.0135829
A39: 3.16 | B39: CPU 02 | C39: Próprio | D39: LIMPEZA DE SUPERFICIE (VARRIÇÃO E REMOÇÃO DE ENTULHOS) | E39: m² | F39: =SUMIF('OBRA 01 - SINTÉTICA'!$D$7:$D$50,'PLANILHA CONSOLIDADA'!D39,'OBRA 01 - SINTÉTICA'!$F$7:$F$50) -> 3701.62 | G39: =SUMIF('OBRA 02 - SINTÉTICA'!$D$7:$D$50,'PLANILHA CONSOLIDADA'!D39,'OBRA 02 - SINTÉTICA'!$F$7:$F$50) -> 8421.8116 | H39: =SUMIF('OBRA 03 - SINTÉTICA'!$D$7:$D$57,'PLANILHA CONSOLIDADA'!D39,'OBRA 03 - SINTÉTICA'!$F$7:$F$57) -> 3594.2296 | I39: =SUMIF('OBRA 04 - SINTÉTICA'!$D$7:$D$52,'PLANILHA CONSOLIDADA'!D39,'OBRA 04 - SINTÉTICA'!$F$7:$F$52) -> 8463.71 | J39: =SUM(F39:G39) -> 12123.432 | K39: =Q39 -> 0.70790434 | L39: =TRUNC(F39*K39,2) -> 2620.39 | M39: =TRUNC(G39*K39,2) -> 5961.83 | N39: =TRUNC(H39*K39,2) -> 2544.37 | O39: =TRUNC(I39*K39,2) -> 5991.49 | P39: =SUM(L39:M39) -> 8582.22 | Q39: ='OBRA 01 - SINTÉTICA'!H34 -> 0.70790434
