Workbook
Name JR_PAGE_ANCHOR_0_1: 'CURVA ABC SERVICOS'!$A$1
Name JR_PAGE_ANCHOR_0_1: 'PLANILHA ORCAMENTARIA'!$A$1
Name JR_PAGE_ANCHOR_1_1: RESUMO!$A$1
Name JR_PAGE_ANCHOR_2_1: 'COMPOSICOES PROPRIAS'!$A$1
Name JR_PAGE_ANCHOR_3_1: #REF!
Name JR_PAGE_ANCHOR_4_1: 'CURVA ABC INSUMOS'!$A$1
Name JR_PAGE_ANCHOR_5_1: CRONOGRAMA!$A$1
Name JR_PAGE_ANCHOR_6_1: BDI!$A$1
Name medidas: #REF!
Name medidas: #REF!
Name Print_Area: 'Memória de Cálculo'!$A$1:$J$9
Name TABELA: '[2]PLANILHA FONTE'!$B$2:$G$290

Sheet RESUMO
A4: 1 | B4: PAVIMENTAÇÃO | D4: 5685898.4 | E4: 90.424981
A5: 1.1 | B5: RUA MANOEL BENÍCIO - PIEDADE | D5: 757147.32 | E5: 12.041199
A6: 1.2 | B6: RUA GOIANINHA - JARDIM JORDÃO | D6: 284551.62 | E6: 4.5253315
A7: 1.3 | B7: RUA RENASCENÇA - CAJUEIRO SECO | D7: 1062806.7 | E7: 16.902215
A8: 1.4 | B8: RUA MARACANÃ - SOTAVE | D8: 1007912.4 | E8: 16.02921
A9: 1.5 | B9: RUA MARANDANE - SOTAVE | D9: 342941.99 | E9: 5.4539355
A10: 1.6 | B10: RUA NOVA VIDA - GUARARAPES | D10: 384780.74 | E10: 6.1193129
A11: 1.7 | B11: RUA VALMIRO PAULO DA SILVA - BARRA DE JANGADA | D11: 464222.44 | E11: 7.3827042
A12: 1.8 | B12: RUA MOEDA DE BRONZE - JABOATÃO CENTRO | D12: 586818.35 | E12: 9.3323931
A13: 1.9 | B13: RUA RECIFE - SOCORRO | D13: 794716.79 | E13: 12.63868
A14: 2 | B14: CALÇADAS | D14: 602074.58 | E14: 9.5750186
A15: 2.1 | B15: REQUALIFICAÇÃO DE CALÇADAS | D15: 602074.58 | E15: 9.5750186
C16: VALOR BDI TOTAL: | D16: 782360.41 | E16: 100
C17: VALOR ORÇAMENTO: | D17: 5505612.5
C18: VALOR TOTAL: | D18: 6287972.9

Sheet PLANILHA ORCAMENTARIA
A2: ITEM | B2: CÓDIGO | C2: REF. | D2: DESCRIÇÃO | E2: UNID. | F2: QUANT. | G2: CUSTO UNITÁRIO | H2: BDI (%) | I2: PREÇO UNITÁRIO | J2: PREÇO DO SERVIÇO
A3: 1 | B3: PAVIMENTAÇÃO | J3: 5685898.4
A4: 1.1 | B4: RUA MANOEL BENÍCIO - PIEDADE | J4: 757147.32
A5: 1.1.1 | B5: INSTALAÇÕES PROVISÓRIAS | J5: 7783.05
A6: 1.1.1.1 | B6: CP-74209/001-15055090 | C6: Composições Próprias | D6: PLACA DE OBRA EM CHAPA DE ACO GALVANIZADO | E6: M2 | F6: 8 | G6: 564.99 | H6: 17.57 | I6: 664.26 | J6: 5314.08
A7: 1.1.1.2 | B7: COMP-07440249 | C7: Composições Próprias | D7: BANHEIRO QUÍMICO, COM LOCAÇÃO, TRANSPORTE E LIMPEZA | E7: MÊS | F7: 3 | G7: 700 | H7: 17.57 | I7: 822.99 | J7: 2468.97
A8: 1.1.2 | B8: ADMINISTRAÇÃO LOCAL | J8: 26597.11
A9: 1.1.2.1 | B9: 93565 | C9: SINAPI | D9: ENGENHEIRO CIVIL DE OBRA JUNIOR COM ENCARGOS COMPLEMENTARES | E9: MES | F9: 0.75 | G9: 16819.14 | H9: 17.57 | I9: 19774.26 | J9: 14830.7
A10: 1.1.2.2 | B10: 93572 | C10: SINAPI | D10: ENCARREGADO GERAL DE OBRAS COM ENCARGOS COMPLEMENTARES | E10: MES | F10: 1.5 | G10: 6672 | H10: 17.57 | I10: 7844.27 | J10: 11766.41
A11: 1.1.3 | B11: SERVIÇOS PRELIMINARES | J11: 16063.34
A12: 1.1.3.1 | B12: 99064 | C12: SINAPI | D12: LOCAÇÃO DE PAVIMENTAÇÃO. AF_10/2018 | E12: M | F12: 388.6 | G12: 0.49 | H12: 17.57 | I12: 0.58 | J12: 225.39
A13: 1.1.3.2 | B13: COMP-17562084 | C13: Composições Próprias | D13: DEMOLIÇÃO MANUAL DE CONCRETO SIMPLES | E13: M³ | F13: 57.82 | G13: 212.24 | H13: 17.57 | I13: 249.53 | J13: 14427.82
A14: 1.1.3.3 | B14: COMP-01471766 | C14: Composições Próprias | D14: DEMOLIÇÃO DE MEIO-FIO | E14: M | F14: 52.82 | G14: 11.13 | H14: 17.57 | I14: 13.09 | J14: 691.41
A15: 1.1.3.4 | B15: COMP-35145154 | C15: Composições Próprias | D15: CARGA E DESCARGA MECANICA DE SOLO UTILIZANDO CAMINHAO BASCULANTE 14,0M3/36T E PA CARREGADEIRA SOBRE PNEUS 128 HP, CAPACIDADE DA CAÇAMBA 1,7 A 2,8 M3, PESO OPERACIONAL 11632 KH | E15: M³ | F15: 75.25 | G15: 2.9 | H15: 17.57 | I15: 3.41 | J15: 256.6
A16: 1.1.3.5 | B16: 95876 | C16: SINAPI | D16: TRANSPORTE COM CAMINHÃO BASCULANTE DE 14 M³, EM VIA URBANA PAVIMENTADA, DMT ATÉ 30 KM (UNIDADE: M3XKM). AF_07/2020 | E16: M3XKM | F16: 173.08 | G16: 2.27 | H16: 17.57 | I16: 2.67 | J16: 462.12
A17: 1.1.4 | B17: TERRAPLANAGEM | J17: 37121.15
A18: 1.1.4.1 | B18: CP-74205/001-17324935 | C18: Composições Próprias | D18: ESCAVAÇÃO MECÂNICA DE MATERIAL 1A. CATEGORIA, PROVENIENTE DE CORTE DE SUBLEITO (C/TRATOR ESTEIRAS 160HP) | E18: M3 | F18: 2476.6 | G18: 2.59 | H18: 17.57 | I18: 3.05 | J18: 7553.63
A19: 1.1.4.2 | B19: COMP-35145154 | C19: Composições Próprias | D19: CARGA E DESCARGA MECANICA DE SOLO UTILIZANDO CAMINHAO BASCULANTE 14,0M3/36T E PA CARREGADEIRA SOBRE PNEUS 128 HP, CAPACIDADE DA CAÇAMBA 1,7 A 2,8 M3, PESO OPERACIONAL 11632 KH | E19: M³ | F19: 3095.75 | G19: 2.9 | H19: 17.57 | I19: 3.41 | J19: 10556.51
A20: 1.1.4.3 | B20: 95876 | C20: SINAPI | D20: TRANSPORTE COM CAMINHÃO BASCULANTE DE 14 M³, EM VIA URBANA PAVIMENTADA, DMT ATÉ 30 KM (UNIDADE: M3XKM). AF_07/2020 | E20: M3XKM | F20: 7120.23 | G20: 2.27 | H20: 17.57 | I20: 2.67 | J20: 19011.01
A21: 1.1.5 | B21: PAVIMENTAÇÃO | J21: 325065.58
A22: 1.1.5.1 | B22: 100576 | C22: SINAPI | D22: REGULARIZAÇÃO E COMPACTAÇÃO DE SUBLEITO DE SOLO PREDOMINANTEMENTE ARGILOSO. AF_11/2019 | E22: M2 | F22: 2732.83 | G22: 2.79 | H22: 17.57 | I22: 3.28 | J22: 8963.68
A23: 1.1.5.2 | B23: COMP-47176600 | C23: Composições Próprias | D23: EXEC. DE ATERRO COM AREIA COM ADENSAMENTO HIDRAULICO | E23: M³ | F23: 1002.29 | G23: 104.33 | H23: 17.57 | I23: 122.66 | J23: 122940.89
A24: 1.1.5.3 | B24: COMP-28881239 | C24: Composições Próprias | D24: Base ou sub-base de macadame hidráulico com brita comercial - EXCLUSIVE MATERIAL, CARGA E TRANSPORTE - NÃO DESONERADO | E24: m³ | F24: 421.28 | G24: 11.4 | H24: 17.57 | I24: 13.4 | J24: 5645.15
A25: 1.1.5.4 | B25: CP-96396-26507981 | C25: Composições Próprias | D25: EXECUÇÃO E COMPACTAÇÃO DE BASE E OU SUB BASE PARA PAVIMENTAÇÃO DE BRITA GRADUADA SIMPLES - EXCLUSIVE MATERIAL, CARGA E TRANSPORTE | E25: M3 | F25: 474.97 | G25: 14.44 | H25: 17.57 | I25: 16.98 | J25: 8064.99
A26: 1.1.5.5 | B26: COMP-35145154 | C26: Composições Próprias | D26: CARGA E DESCARGA MECANICA DE SOLO UTILIZANDO CAMINHAO BASCULANTE 14,0M3/36T E PA CARREGADEIRA SOBRE PNEUS 128 HP, CAPACIDADE DA CAÇAMBA 1,7 A 2,8 M3, PESO OPERACIONAL 11632 KH | E26: M³ | F26: 1120.31 | G26: 2.9 | H26: 17.57 | I26: 3.41 | J26: 3820.26
A27: 1.1.5.6 | B27: COMP-83526730 | C27: Composições Próprias | D27: TRANSPORTE COMERCIAL DE BRITA | E27: M³XKM | F27: 9634.67 | G27: 1.37 | H27: 17.57 | I27: 1.61 | J27: 15511.82
A28: 1.1.5.7 | B28: CP-92399-27762594 | C28: Composições Próprias | D28: EXECUÇÃO DE VIA EM PISO INTERTRAVADO, COM BLOCO RETANGULAR COR NATURAL/COLORIDO DE 20 X 10 CM, ESPESSURA 8 CM - (SEM O MATERIAL BLOQUETE/PISO INTERTRAVADO) | E28: M2 | F28: 227.11 | G28: 20.41 | H28: 17.57 | I28: 24 | J28: 5450.64
A29: 1.1.5.8 | B29: COMP-62038505 | C29: Composições Próprias | D29: EXECUÇÃO DE IMPRIMAÇÃO COM ASFALTO DILUÍDO CM-30 - SERVIÇO UTILIZADO NOS LOTES | E29: M2 | F29: 1935.14 | G29: 7.62 | H29: 17.57 | I29: 8.96 | J29: 17338.85
A30: 1.1.5.9 | B30: CP-95995-51339760 | C30: Composições Próprias | D30: EXECUÇÃO DE PAVIMENTO COM APLICAÇÃO DE CONCRETO ASFÁLTICO, CAMADA DE ROLAMENTO - EXCLUSIVE CARGA E TRANSPORTE E CONCRETO BETUMINOSO | E30: M3 | F30: 96.76 | G30: 133.37 | H30: 17.57 | I30: 156.8 | J30: 15171.97
A31: 1.1.5.10 | B31: COMP-10034101 | C31: Composições Próprias | D31: CARGA, MANOBRAS E DESCARGA DE MISTURA BETUMINOSA A QUENTE, COM CAMINHAO BASCULANTE 6 M3, DESCARGA EM VIBRO-ACABADORA | E31: M³ | F31: 96.76 | G31: 7.86 | H31: 17.57 | I31: 9.24 | J31: 894.06
A32: 1.1.5.11 | B32: CP-95303-56931542 | C32: Composições Próprias | D32: TRANSPORTE COM CAMINHÃO BASCULANTE 10 M3 DE MASSA ASFALTICA PARA PAVIMENTAÇÃO URBANA | E32: M3XKM | F32: 1722.33 | G32: 1.77 | H32: 17.57 | I32: 2.08 | J32: 3582.45
A33: 1.1.5.12 | B33: CP-97084-89637704 | C33: Composições Próprias | D33: REGULARIZACAO E COMPACTAÇÃO MANUAL DE TERRENO COM PLACA VIBRATÓRIA | E33: M2 | F33: 1897.96 | G33: 0.65 | H33: 17.57 | I33: 0.76 | J33: 1442.45
... A39: 1.1.5.18 | B39: 98504 | C39: SINAPI | D39: PLANTIO DE GRAMA BATATAIS EM PLACAS. AF_05/2018 | E39: M2 | F39: 105 | G39: 13.8 | H39: 17.57 | I39: 16.22 | J39: 1703.1
A40: 1.1.6 | B40: DRENAGEM | J40: 2150.05
A41: 1.1.6.1 | B41: 93358 | C41: SINAPI | D41: ESCAVAÇÃO MANUAL DE VALA COM PROFUNDIDADE MENOR OU IGUAL A 1,30 M. AF_02/2021 | E41: M3 | F41: 0.99 | G41: 78.32 | H41: 17.57 | I41: 92.08 | J41: 91.16
A42: 1.1.6.2 | B42: 94974 | C42: SINAPI | D42: CONCRETO MAGRO PARA LASTRO, TRAÇO 1:4,5:4,5 (EM MASSA SECA DE CIMENTO/ AREIA MÉDIA/ BRITA 1) - PREPARO MANUAL. AF_05/2021 | E42: M3 | F42: 0.62 | G42: 436.13 | H42: 17.57 | I42: 512.76 | J42: 317.91
A43: 1.1.6.3 | B43: 94971 | C43: SINAPI | D43: CONCRETO FCK = 25MPA, TRAÇO 1:2,3:2,7 (EM MASSA SECA DE CIMENTO/ AREIA MÉDIA/ BRITA 1) - PREPARO MECÂNICO COM BETONEIRA 600 L. AF_05/2021 | E43: M3 | F43: 0.99 | G43: 472.74 | H43: 17.57 | I43: 555.8 | J43: 550.24
A44: 1.1.6.4 | B44: CP-74157/004-48264518 | C44: Composições Próprias | D44: LANCAMENTO/APLICACAO MANUAL DE CONCRETO EM FUNDACOES (concreto magro) | E44: M3 | F44: 1.61 | G44: 129.79 | H44: 17.57 | I44: 152.59 | J44: 245.67
A45: 1.1.6.5 | B45: CP-S03639-45770834 | C45: Composições Próprias | D45: Fornecimento e instalação de tela aço soldada nervurada CA-60, Q-283, malha 10x10cm, ferro 6.02mm (4,48 kg/m2), painel 2,45x6,0m, Telcon ou similar | E45: m2 | F45: 12.32 | G45: 65.25 | H45: 17.57 | I45: 76.71 | J45: 945.07
A46: 1.1.7 | B46: SINALIZAÇÃO | J46: 13597.48
...

Sheet Memória de Cálculo
A1: PREFEITURA MUNICIPAL DO JABOATÃO DOS GUARARAPES
A2: SECRETARIA DE INFRAESTRUTURA - SEINFRA.
A3: SECRETARIA EXECUTIVA DE OBRAS
A5: MEMÓRIA DE CÁLCULO
A6: ='[3]Planilha Orçamentária'!A6:K6 -> Objeto: PAVIMENTAÇÃO, DRENAGEM E ADEQUAÇÃO DE VIAS EM DIVERSOS BAIRROS
A7: Local: Jaboatão dos Guararapes
A8: Município: Jaboatão dos Guararapes/PE | J8: {='[3]Planilha Orçamentária'!A8:F8} -> Data: SETEMBRO/2022 | K8: 0 | L8: 0 | M8: 0 | N8: 0 | O8: 0
A9: Item | B9: Código | C9: Descrição | D9: Und | E9: Taxa | F9: Comp. | G9: Larg. | H9: Alt. | I9: QTDE | J9: Total
A10: ='[3]Planilha Orçamentária'!A13 -> 1.1 | B10: =VLOOKUP(A10,'[3]Planilha Orçamentária'!A:K,3,0) -> RUA MANOEL BENÍCIO - PIEDADE
A11: ='[3]Planilha Orçamentária'!A14 -> 1.1.1 | C11: =VLOOKUP(A11,'[3]Planilha Orçamentária'!A:K,3,0) -> INSTALAÇÕES PROVISÓRIAS
A13: ='[3]Planilha Orçamentária'!A15 -> 1.1.1.1 | B13: =VLOOKUP(A13,'[3]Planilha Orçamentária'!A:K,2,0) -> CP-74209/001-15055090 | C13: =VLOOKUP(A13,'[3]Planilha Orçamentária'!A:K,3,0) -> PLACA DE OBRA EM CHAPA DE ACO GALVANIZADO | D13: =VLOOKUP(A13,'[3]Planilha Orçamentária'!A:K,4,0) -> M2 | J13: =ROUND(SUM(J15:J15),2) -> 8
F14: COMPRIMENTO | G14: LARGURA | I14: QUANTIDADE DE PLACAS
F15: 2 | G15: 4 | I15: 1 | J15: =ROUND(PRODUCT(E15:I15),2) -> 8
A17: ='[3]Planilha Orçamentária'!A16 -> 1.1.1.2 | B17: =VLOOKUP(A17,'[3]Planilha Orçamentária'!A:K,2,0) -> COMP-07440249 | C17: =VLOOKUP(A17,'[3]Planilha Orçamentária'!A:K,3,0) -> BANHEIRO QUÍMICO, COM LOCAÇÃO, TRANSPORTE E LIMPEZA | D17: =VLOOKUP(A17,'[3]Planilha Orçamentária'!A:K,4,0) -> MÊS | J17: =ROUND(SUM(J19:J19),2) -> 3
I18: QUANTIDADE DE MESES
I19: 3 | J19: =ROUND(PRODUCT(E19:I19),2) -> 3
A21: ='[3]Planilha Orçamentária'!A17 -> 1.1.2 | C21: =VLOOKUP(A21,'[3]Planilha Orçamentária'!A:K,3,0) -> ADMINISTRAÇÃO LOCAL
A22: ='[3]Planilha Orçamentária'!A18 -> 1.1.2.1 | B22: =VLOOKUP(A22,'[3]Planilha Orçamentária'!A:K,2,0) -> 93565 | C22: =VLOOKUP(A22,'[3]Planilha Orçamentária'!A:K,3,0) -> ENGENHEIRO CIVIL DE OBRA JUNIOR COM ENCARGOS COMPLEMENTARES | D22: =VLOOKUP(A22,'[3]Planilha Orçamentária'!A:K,4,0) -> MES | J22: =ROUND(SUM(J25),2) -> 0.75
C23: 3 meses de obra com 22 dias trabalhados e 2h por dia
C24: 2 x 22 dias = 44 horas no mês
C25: 1 mês tem 22 dias x 8 horas = 176 horas | E25: =44/176 -> 0.25 | I25: =I19 -> 3 | J25: =ROUND(PRODUCT(E25:I25),2) -> 0.75
A27: ='[3]Planilha Orçamentária'!A19 -> 1.1.2.2 | B27: =VLOOKUP(A27,'[3]Planilha Orçamentária'!A:K,2,0) -> 93572 | C27: =VLOOKUP(A27,'[3]Planilha Orçamentária'!A:K,3,0) -> ENCARREGADO GERAL DE OBRAS COM ENCARGOS COMPLEMENTARES | D27: =VLOOKUP(A27,'[3]Planilha Orçamentária'!A:K,4,0) -> MES | J27: =ROUND(SUM(J30),2) -> 1.5
C28: 3 meses de obra com 22 dias trabalhados e 4h por dia
C29: 4 horas x 22 dias = 88 horas no mês
C30: 1 mês tem 22 dias x 8 horas = 176 horas | E30: =88/176 -> 0.5 | I30: =I19 -> 3 | J30: =ROUND(PRODUCT(E30:I30),2) -> 1.5
A32: ='[3]Planilha Orçamentária'!A20 -> 1.1.3 | C32: =VLOOKUP(A32,'[3]Planilha Orçamentária'!A:K,3,0) -> SERVIÇOS PRELIMINARES
A33: ='[3]Planilha Orçamentária'!A21 -> 1.1.3.1 | B33: =VLOOKUP(A33,'[3]Planilha Orçamentária'!A:K,2,0) -> 99064 | C33: =VLOOKUP(A33,'[3]Planilha Orçamentária'!A:K,3,0) -> LOCAÇÃO DE PAVIMENTAÇÃO. AF_10/2018 | D33: =VLOOKUP(A33,'[3]Planilha Orçamentária'!A:K,4,0) -> M | J33: =ROUND(SUM(J35:J37),2) -> 388.6
F34: COMPRIMENTO
C35: E0+ 5,33 A E6 + 12,12 | F35: =[3]PARÂMETROS!B9 -> 126.79 | J35: =ROUND(PRODUCT(E35:I35),2) -> 126.79
C36: E8+ 5,23 A E13 + 10,17 | F36: =[3]PARÂMETROS!B10 -> 104.94 | J36: =ROUND(PRODUCT(E36:I36),2) -> 104.94
C37: E14 + 16,62 A E22 + 13,49 | F37: =[3]PARÂMETROS!B11 -> 156.87 | J37: =ROUND(PRODUCT(E37:I37),2) -> 156.87
A39: ='[3]Planilha Orçamentária'!A22 -> 1.1.3.2 | B39: =VLOOKUP(A39,'[3]Planilha Orçamentária'!A:K,2,0) -> COMP-17562084 | C39: =VLOOKUP(A39,'[3]Planilha Orçamentária'!A:K,3,0) -> DEMOLIÇÃO MANUAL DE CONCRETO SIMPLES | D39: =VLOOKUP(A39,'[3]Planilha Orçamentária'!A:K,4,0) -> M3 | J39: =ROUND(SUM(J41),2) -> 57.82
C40: PROJETO: DEM_PLA_R MANOEL BENÍCIO_R00 | H40: ESPESSURA | I40: ÁREA
C41: Passeio à demolir (quantidade de acordo com o quadro de especificações) | H41: 0.07 | I41: 825.95 | J41: =ROUND(PRODUCT(E41:I41),2) -> 57.82
A43: ='[3]Planilha Orçamentária'!A23 -> 1.1.3.3 | B43: =VLOOKUP(A43,'[3]Planilha Orçamentária'!A:K,2,0) -> COMP-01471766 | C43: =VLOOKUP(A43,'[3]Planilha Orçamentária'!A:K,3,0) -> DEMOLIÇÃO DE MEIO-FIO | D43: =VLOOKUP(A43,'[3]Planilha Orçamentária'!A:K,4,0) -> M | J43: =ROUND(SUM(J45),2) -> 52.82
C44: PROJETO: DEM_PLA_R MANOEL BENÍCIO_R00 | F44: COMPRIMENTO
C45: Passeio à demolir (quantidade de acordo com o quadro de especificações) | F45: 52.82 | J45: =ROUND(PRODUCT(E45:I45),2) -> 52.82
A47: ='[3]Planilha Orçamentária'!A24 -> 1.1.3.4 | B47: =VLOOKUP(A47,'[3]Planilha Orçamentária'!A:K,2,0) -> COMP-35145154 | C47: =VLOOKUP(A47,'[3]Planilha Orçamentária'!A:K,3,0) -> CARGA E DESCARGA MECANICA DE SOLO UTILIZANDO CAMINHAO BASCULANTE 14,0M3/36T E PA CARREGADEIRA SOBRE PNEUS 128 HP, CAPACIDADE DA CAÇAMBA 1,7 A 2,8 M3, PESO OPERACIONAL 11632 KH | D47: =VLOOKUP(A47,'[3]Planilha Orçamentária'!A:K,4,0) -> M3 | J47: =ROUND(SUM(J49:J51),2) -> 75.25
E48: EMPOLAMENTO | I48: VOLUME
C49: Passeio - Volume a ser demolido x empolamento | E49: 1.25 | I49: =J39 -> 57.82 | J49: =ROUND(PRODUCT(E49:I49),2) -> 72.28
...

Sheet COMPOSICOES PROPRIAS
A3: CP-74209/001-15055090 - PLACA DE OBRA EM CHAPA DE ACO GALVANIZADO (M2)
A4: Material | D4: FONTE | F4: UNID | G4: COEFICIENTE | H4: PREÇO UNITÁRIO | I4: TOTAL
A5: 00004813 | B5: PLACA DE OBRA (PARA CONSTRUCAO CIVIL) EM CHAPA GALVANIZADA *N. 22*, ADESIVADA, DE *2,4 X 1,2* M (SEM POSTES PARA FIXACAO) | D5: SINAPI | F5: M2 | G5: 1 | H5: 445 | I5: 445
A6: 00004491 | B6: PONTALETE *7,5 X 7,5* CM EM PINUS, MISTA OU EQUIVALENTE DA REGIAO - BRUTA | D6: SINAPI | F6: M | G6: 4 | H6: 10.85 | I6: 43.4
A7: 00005075 | B7: PREGO DE ACO POLIDO COM CABECA 18 X 30 (2 3/4 X 10) | D7: SINAPI | F7: KG | G7: 0.11 | H7: 23.4 | I7: 2.574
A8: 00004417 | B8: SARRAFO NAO APARELHADO *2,5 X 7* CM, EM MACARANDUBA, ANGELIM OU EQUIVALENTE DA REGIAO - BRUTA | D8: SINAPI | F8: M | G8: 1 | H8: 6.12 | I8: 6.12
G9: TOTAL Material: | I9: 497.09
A10: Mão de Obra com Encargos Complementares | D10: FONTE | F10: UNID | G10: COEFICIENTE | H10: PREÇO UNITÁRIO | I10: TOTAL
A11: 88262 | B11: CARPINTEIRO DE FORMAS COM ENCARGOS COMPLEMENTARES | D11: SINAPI | F11: H | G11: 1 | H11: 24.39 | I11: 24.39
A12: 88316 | B12: SERVENTE COM ENCARGOS COMPLEMENTARES | D12: SINAPI | F12: H | G12: 2 | H12: 19.8 | I12: 39.6
G13: TOTAL Mão de Obra com Encargos Complementares: | I13: 63.99
A14: Serviço | D14: FONTE | F14: UNID | G14: COEFICIENTE | H14: PREÇO UNITÁRIO | I14: TOTAL
A15: 94962 | B15: CONCRETO MAGRO PARA LASTRO, TRAÇO 1:4,5:4,5 (EM MASSA SECA DE CIMENTO/ AREIA MÉDIA/ BRITA 1) - PREPARO MECÂNICO COM BETONEIRA 400 L. AF_05/2021 | D15: SINAPI | F15: M3 | G15: 0.01 | H15: 390.79 | I15: 3.9079
G16: TOTAL Serviço: | I16: 3.91
A17: Observações: BASEADA NO SINAPI 74209/001 | G17: VALOR: | I17: 564.99
A19: COMP-07440249 - BANHEIRO QUÍMICO, COM LOCAÇÃO, TRANSPORTE E LIMPEZA (MÊS)
A20: Equipamento | D20: FONTE | F20: UNID | G20: COEFICIENTE | H20: PREÇO UNITÁRIO | I20: TOTAL
A21: INS-256943 | B21: BANHEIRO QUÍMICO, COM LOCAÇÃO, TRANSPORTE E LIMPEZA | D21: Composições | F21: MÊS | G21: 1 | H21: 700 | I21: 700
G22: TOTAL Equipamento: | I22: 700
A23: Observações: COTAÇÃO OBTIDA PARA LOCAÇÃO DO SERVIÇO DE BANHEIRO QUÍMICO PARA OBRA | G23: VALOR: | I23: 700
A26: COMP-17562084 - DEMOLIÇÃO MANUAL DE CONCRETO SIMPLES (M³)
A27: Mão de Obra com Encargos Complementares | D27: FONTE | F27: UNID | G27: COEFICIENTE | H27: PREÇO UNITÁRIO | I27: TOTAL
A28: 88309 | B28: PEDREIRO COM ENCARGOS COMPLEMENTARES | D28: SINAPI | F28: H | G28: 1.3 | H28: 24.66 | I28: 32.058
A29: 88316 | B29: SERVENTE COM ENCARGOS COMPLEMENTARES | D29: SINAPI | F29: H | G29: 9.1 | H29: 19.8 | I29: 180.18
G30: TOTAL Mão de Obra com Encargos Complementares: | I30: 212.24
A31: Observações: BASEADO 73616 Sinapi Novembro/2017 | G31: VALOR: | I31: 212.24
A33: COMP-01471766 - DEMOLIÇÃO DE MEIO-FIO (M)
A34: Mão de Obra com Encargos Complementares | D34: FONTE | F34: UNID | G34: COEFICIENTE | H34: PREÇO UNITÁRIO | I34: TOTAL
A35: 88309 | B35: PEDREIRO COM ENCARGOS COMPLEMENTARES | D35: SINAPI | F35: H | G35: 0.05 | H35: 24.66 | I35: 1.233
A36: 88316 | B36: SERVENTE COM ENCARGOS COMPLEMENTARES | D36: SINAPI | F36: H | G36: 0.5 | H36: 19.8 | I36: 9.9
G37: TOTAL Mão de Obra com Encargos Complementares: | I37: 11.13
A38: Observações: Baseado na composição 00021/ORSE Ago/2021 | G38: VALOR: | I38: 11.13
A40: COMP-35145154 - CARGA E DESCARGA MECANICA DE SOLO UTILIZANDO CAMINHAO BASCULANTE 14,0M3 E PA CARREGADEIRA SOBRE PNEUS 128 HP, CAPACIDADE DA CAÇAMBA 1,7 A 2,8 M3, PESO OPERACIONAL 11632 KG (M³)
A41: Equipamento Custo Horário | D41: FONTE | F41: UNID | G41: COEFICIENTE | H41: PREÇO UNITÁRIO | I41: TOTAL
A42: 89876 | B42: CAMINHÃO BASCULANTE 14 M3, COM CAVALO MECÂNICO DE CAPACIDADE MÁXIMA DE TRAÇÃO COMBINADO DE 36000 KG, POTÊNCIA 286 CV, INCLUSIVE SEMIREBOQUE COM CAÇAMBA METÁLICA - CHP DIURNO. AF_12/2014 | D42: SINAPI | F42: CHP | G42: 0.003 | H42: 354.67 | I42: 1.06401
A43: 5940 | B43: PÁ CARREGADEIRA SOBRE RODAS, POTÊNCIA LÍQUIDA 128 HP, CAPACIDADE DA CAÇAMBA 1,7 A 2,8 M3, PESO OPERACIONAL 11632 KG - CHP DIURNO. AF_06/2014 | D43: SINAPI | F43: CHP | G43: 0.008 | H43: 209.48 | I43: 1.67584
G44: TOTAL Equipamento Custo Horário: | I44: 2.74
A45: Mão de Obra com Encargos Complementares | D45: FONTE | F45: UNID | G45: COEFICIENTE | H45: PREÇO UNITÁRIO | I45: TOTAL
A46: 88316 | B46: SERVENTE COM ENCARGOS COMPLEMENTARES | D46: SINAPI | F46: H | G46: 0.008 | H46: 19.8 | I46: 0.1584
G47: TOTAL Mão de Obra com Encargos Complementares: | I47: 0.16
...

Sheet CURVA ABC SERVICOS
A3: CÓDIGO | B3: DESCRIÇÃO | C3: FONTE | D3: TIPO | E3: UNIDADE | F3: QUANTIDADE | G3: PREÇO UNITÁRIO | H3: PREÇO TOTAL | I3: % | J3: ACUMUL. % | K3: CL
A4: CP-92399-27762594 | B4: EXECUÇÃO DE VIA EM PISO INTERTRAVADO, COM BLOCO RETANGULAR COR NATURAL/COLORIDO DE 20 X 10 CM, ESPESSURA 8 CM - (SEM O MATERIAL BLOQUETE/PISO INTERTRAVADO) | C4: Composições | D4: Serviço | E4: M2 | F4: 21794.04 | G4: 24 | H4: 523056.96 | I4: =H4/$I$87 -> 0.15692505 | J4: =I4 -> 0.15692505 | K4: A
A5: 94273 | B5: ASSENTAMENTO DE GUIA (MEIO-FIO) EM TRECHO RETO, CONFECCIONADA EM CONCRETO PRÉ-FABRICADO, DIMENSÕES 100X15X13X30 CM (COMPRIMENTO X BASE INFERIOR X BASE SUPERIOR X ALTURA), PARA VIAS URBANAS (USO VIÁRIO). AF_06/2016 | C5: SINAPI | D5: Serviço | E5: M | F5: 7072.95 | G5: 66.39 | H5: 469573.15 | I5: =H5/$I$87 -> 0.14087909 | J5: =I5+J4 -> 0.29780413 | K5: A
A6: 95876 | B6: TRANSPORTE COM CAMINHÃO BASCULANTE DE 14 M³, EM VIA URBANA PAVIMENTADA, DMT ATÉ 30 KM (UNIDADE: M3XKM). AF_07/2020 | C6: SINAPI | D6: Serviço | E6: M3XKM | F6: 79968.18 | G6: 2.67 | H6: 213515.04 | I6: =H6/$I$87 -> 0.06405776 | J6: =I6+J5 -> 0.36186189 | K6: A
A7: 92771 | B7: ARMAÇÃO DE LAJE DE ESTRUTURA CONVENCIONAL DE CONCRETO ARMADO UTILIZANDO AÇO CA-50 DE 10,0 MM - MONTAGEM. AF_06/2022 | C7: SINAPI | D7: Serviço | E7: KG | F7: 10662.24 | G7: 17.8 | H7: 189787.87 | I7: =H7/$I$87 -> 0.056939249 | J7: =I7+J6 -> 0.41880114 | K7: A
A8: COMP-47176600 | B8: EXEC. DE ATERRO COM AREIA COM ADENSAMENTO HIDRAULICO | C8: Composições | D8: Serviço | E8: M³ | F8: 1148.83 | G8: 122.66 | H8: 140915.49 | I8: =H8/$I$87 -> 0.04227679 | J8: =I8+J7 -> 0.46107793 | K8: A
A9: COMP-83526730 | B9: TRANSPORTE COMERCIAL DE BRITA | C9: Composições | D9: Serviço | E9: M³XKM | F9: 74687.64 | G9: 1.61 | H9: 120247.1 | I9: =H9/$I$87 -> 0.036075959 | J9: =I9+J8 -> 0.49715389 | K9: A
A10: 94971 | B10: CONCRETO FCK = 25MPA, TRAÇO 1:2,3:2,7 (EM MASSA SECA DE CIMENTO/ AREIA MÉDIA/ BRITA 1) - PREPARO MECÂNICO COM BETONEIRA 600 L. AF_05/2021 | C10: SINAPI | D10: Serviço | E10: M3 | F10: 205.54 | G10: 555.8 | H10: 114239.13 | I10: =H10/$I$87 -> 0.034273477 | J10: =I10+J9 -> 0.53142737 | K10: A
A11: CP-97635-02989626 | B11: DEMOLIÇÃO DE CALÇADA E PAVIMENTOS DIVERSOS REGULARIZADO | C11: Composições | D11: Serviço | E11: M2 | F11: 5609.46 | G11: 16.91 | H11: 94855.969 | I11: =H11/$I$87 -> 0.028458234 | J11: =I11+J10 -> 0.5598856 | K11: A
A12: CP-95467-90315369 | B12: EMBASAMENTO C/PEDRA ARGAMASSADA UTILIZANDO ARG.CIM/AREIA 1:6 | C12: Composições | D12: Serviço | E12: M3 | F12: 151.18 | G12: 596.61 | H12: 90195.5 | I12: =H12/$I$87 -> 0.027060022 | J12: =I12+J11 -> 0.58694563 | K12: A
A13: 94287 | B13: EXECUÇÃO DE SARJETA DE CONCRETO USINADO, MOLDADA IN LOCO EM TRECHO RETO, 30 CM BASE X 10 CM ALTURA. AF_06/2016 | C13: SINAPI | D13: Serviço | E13: M | F13: 1882.97 | G13: 46.76 | H13: 88047.677 | I13: =H13/$I$87 -> 0.026415643 | J13: =I13+J12 -> 0.61336127 | K13: A
A14: 100576 | B14: REGULARIZAÇÃO E COMPACTAÇÃO DE SUBLEITO DE SOLO PREDOMINANTEMENTE ARGILOSO. AF_11/2019 | C14: SINAPI | D14: Serviço | E14: M2 | F14: 25119.65 | G14: 3.28 | H14: 82392.452 | I14: =H14/$I$87 -> 0.024718989 | J14: =I14+J13 -> 0.63808026 | K14: A
A15: COMP-35145154 | B15: CARGA E DESCARGA MECANICA DE SOLO UTILIZANDO CAMINHAO BASCULANTE 14,0M3/36T E PA CARREGADEIRA SOBRE PNEUS 128 HP, CAPACIDADE DA CAÇAMBA 1,7 A 2,8 M3, PESO OPERACIONAL 11632 KH | C15: Composições | D15: Serviço | E15: M³ | F15: 23373.34 | G15: 3.41 | H15: 79703.089 | I15: =H15/$I$87 -> 0.023912139 | J15: =I15+J14 -> 0.6619924 | K15: A
A16: 103320 | B16: ALVENARIA DE VEDAÇÃO DE BLOCOS VAZADOS DE CONCRETO DE 19X19X39 CM (ESPESSURA 19 CM) E ARGAMASSA DE ASSENTAMENTO COM PREPARO EM BETONEIRA. AF_12/2021 | C16: SINAPI | D16: Serviço | E16: M2 | F16: 615.06 | G16: 124.18 | H16: 76378.151 | I16: =H16/$I$87 -> 0.022914607 | J16: =I16+J15 -> 0.684907 | K16: A
... A85: CP-83729-53696259 | B85: FORNECIMENTO/INSTALACAO DE MANTA BIDIM RT-31 | C85: Composições | D85: Serviço | E85: M2 | F85: 4.73 | G85: 38.93 | H85: 184.1389 | I85: =H85/$I$87 -> 5.5244471e-05 | J85: =I85+J84 -> 1 | K85: B
G87: Valor total do Orçamento: | I87: =SUM(H4:H85) -> 3333164.3

Sheet CURVA ABC ADM
A1: PREFEITURA MUNICIPAL DO JABOATÃO DOS GUARARAPES
A2: SECRETARIA DE INFRAESTRUTURA - SEINFRA.
A3: SECRETARIA EXECUTIVA DE SERVIÇOS URBANOS E MANUTENÇÃO - SEMAN
A4: GERÊNCIA DE MANUTENÇÃO - GEMAN
A5: OBJETO: Pavimentação e Drenagem, Recapeamento, Contenção de Encostas, Adequação de vias, Ciclofaixa, Pontes e Travessias em desnivel, Demolição E Remoção de Pavimentos em diversos bairros - LOTE 1 - NÃO DESONERADO_R05
A6: MUNICÍPIO: Jaboatão dos Guararapes
A7: CURVA ABC - NÃO DESONERADA - ADM
A8: CÓDIGO | B8: DESCRIÇÃO | C8: FONTE | D8: TIPO | E8: UNIDADE | F8: QUANTIDADE | G8: PREÇO UNITÁRIO | H8: PREÇO TOTAL | I8: % | J8: ACUMUL. % | K8: CL
A9: 93572 | B9: ENCARREGADO GERAL DE OBRAS COM ENCARGOS COMPLEMENTARES | C9: SINAPI | D9: Mão de Obra com Encargos Complementares | E9: MES | F9: 17.76 | G9: 7844.27 | H9: 139314.24 | I9: =H9/$I$13 -> 0.58392841 | J9: =I9 -> 0.58392841 | K9: A
A10: 93565 | B10: ENGENHEIRO CIVIL DE OBRA JUNIOR COM ENCARGOS COMPLEMENTARES | C10: SINAPI | D10: Mão de Obra com Encargos Complementares | E10: MES | F10: 5.02 | G10: 19774.26 | H10: 99266.785 | I10: =H10/$I$13 -> 0.41607159 | J10: =I10+J9 -> 1 | K10: A
G13: Total até 100,00% | I13: =H9+H10 -> 238581.02

Sheet CURVA ABC INSUMOS
A3: CÓDIGO | B3: DESCRIÇÃO | C3: FONTE | D3: TIPO | E3: UNIDADE | F3: QUANTIDADE | G3: PREÇO UNITÁRIO | H3: PREÇO TOTAL | I3: % | J3: ACUMUL. % | K3: CL
A4: 00036170 | B4: BLOQUETE/PISO INTERTRAVADO DE CONCRETO - MODELO ONDA/16 FACES/RETANGULAR/TIJOLINHO/PAVER/HOLANDES/PARALELEPIPEDO, *22 CM X 11* CM, E = 8 CM, RESISTENCIA DE 35 MPA (NBR 9781), COR NATURAL | C4: SINAPI | D4: Material | E4: M2 | F4: 16162.89 | G4: 49 | H4: 791981.61 | I4: 12.595182 | J4: 12.595182 | K4: A
A5: E9514 | B5: Distribuidor de agregados sobre pneus autopropelido - 130 kW (PRODUTIVO) | C5: SICRO | D5: Equipamento Custo Horário | E5: CHP | F5: 2387.92 | G5: 280.7372 | H5: 670377.97 | I5: 10.661273 | J5: 23.256455 | K5: A
A6: E9571 | B6: Caminhão tanque com capacidade de 10.000 l - 188 kW (PRODUTIVO) | C6: SICRO | D6: Equipamento Custo Horário | E6: CHP | F6: 1814.8192 | G6: 346.7634 | H6: 629312.88 | I6: 10.008199 | J6: 33.264654 | K6: A
A7: E9762 | B7: Rolo compactador de pneus autopropelido de 27 t - 85 kW (PRODUTIVO) | C7: SICRO | D7: Equipamento Custo Horário | E7: CHP | F7: 2101.3696 | G7: 229.6774 | H7: 482637.11 | I7: 7.6755595 | J7: 40.940214 | K7: A
A8: 00001518 | B8: CONCRETO BETUMINOSO USINADO A QUENTE (CBUQ) PARA PAVIMENTACAO ASFALTICA, PADRAO DNIT, FAIXA C, COM CAP 50/70 - AQUISICAO POSTO USINA | C8: SINAPI | D8: Material | E8: T | F8: 737.7 | G8: 522.5 | H8: 385448.25 | I8: 6.1299286 | J8: 47.070142 | K8: A
A9: E9530 | B9: Rolo compactador liso vibratório autopropelido por pneus de 11 t - 97 kW (PRODUTIVO) | C9: SICRO | D9: Equipamento Custo Horário | E9: CHP | F9: 1695.4232 | G9: 199.582 | H9: 338375.95 | I9: 5.3813201 | J9: 52.451463 | K9: B
A10: 00006111 | B10: SERVENTE DE OBRAS | C10: SINAPI | D10: Mão de Obra | E10: H | F10: 23578.89 | G10: 14.19 | H10: 334584.45 | I10: 5.3210225 | J10: 57.772485 | K10: B
A11: 00036154 | B11: BLOQUETE/PISO INTERTRAVADO DE CONCRETO - MODELO ONDA/16 FACES/RETANGULAR/TIJOLINHO/PAVER/HOLANDES/PARALELEPIPEDO, 20 CM X 10 CM, E = 8 CM, RESISTENCIA DE 35 MPA (NBR 9781), COLORIDO | C11: SINAPI | D11: Material | E11: M2 | F11: 5916.65 | G11: 53.92 | H11: 319025.77 | I11: 5.0735868 | J11: 62.846072 | K11: B
A12: 00004221 | B12: OLEO DIESEL COMBUSTIVEL COMUM | C12: SINAPI | D12: Material | E12: L | F12: 35996.799 | G12: 7.64 | H12: 275015.55 | I12: 4.3736758 | J12: 67.219748 | K12: B
A13: M0808 | B13: Brita 4 | C13: SICRO | D13: Material | E13: m³ | F13: 3008.78 | G13: 90.74 | H13: 273016.7 | I13: 4.3418873 | J13: 71.561635 | K13: B
A14: 00004059 | B14: MEIO-FIO OU GUIA DE CONCRETO, PRE-MOLDADO, COMP 1 M, *30 X 12/15* CM (H X L1/L2) | C14: SINAPI | D14: Material | E14: M | F14: 7362.4793 | G14: 36.61 | H14: 269540.37 | I14: 4.2866019 | J14: 75.848237 | K14: B
A15: INS-185032 | B15: BRITA GRADUADA SIMPLES (BGS) | C15: Composições | D15: Material | E15: M³ | F15: 4304.48 | G15: 56.1 | H15: 241481.33 | I15: 3.8403684 | J15: 79.688605 | K15: B
... A250: E9579 | B250: Caminhão basculante com capacidade de 10 m³ - 188 kW (IMPRODUTIVO) | C250: SICRO | D250: Equipamento Custo Horário | E250: CHI | F250: 0 | G250: 83.0368 | H250: 0 | I250: 0 | J250: 123.87601 | K250: C
G252: Subtotal até 123,88% | I252: 7789290.2
G253: Outros: | I253: -1501317.2
G254: Valor total do Orçamento: | I254: 6287972.9

Sheet CRONOGRAMA
A2: ITEM | B2: DESCRIÇÃO | C2: VALOR (R$) | D2: MÊS 1 | E2: MÊS 2 | F2: MÊS 3 | G2: MÊS 4 | H2: MÊS 5 | J2: MÊS 6 | K2: MÊS 7 | L2: MÊS 8 | M2: MÊS 9 | N2: MÊS 10 | O2: MÊS 11 | P2: MÊS 12 | Q2: MÊS 13 | R2: MÊS 14 | S2: MÊS 15 | T2: MÊS 16 | U2: MÊS 17 | V2: MÊS 18 | W2: MÊS 19 | X2: MÊS 20 | Y2: MÊS 21 | Z2: MÊS 22 | AA2: MÊS 23 | AB2: MÊS 24 | AC2: Total parcela
A3: 1 | B3: PAVIMENTAÇÃO | C3: 5685898.4 | D3: 0.0287 | E3: 0.0842 | F3: 0.0751 | G3: 0.095 | H3: 0.1141 | J3: 0.0765 | K3: 0.06 | L3: 0.0167 | M3: 0.0175 | N3: 0.0246 | O3: 0.018 | P3: 0.0175 | Q3: 0.0247 | R3: 0.0257 | S3: 0.0224 | T3: 0.0329 | U3: 0.0268 | V3: 0.0268 | W3: 0.0333 | X3: 0.0249 | Y3: 0.0479 | Z3: 0.0585 | AA3: 0.0302 | AB3: 0.018 | AC3: 1
D4: 162144.48 | E4: 476093.19 | F4: 424540.2 | G4: 537237.67 | H4: 645371.57 | J4: 432643.32 | K4: 339695.68 | L4: 94691.94 | M4: 101489.86 | N4: 139485.15 | O4: 101966.98 | P4: 99255.38 | Q4: 139832.37 | R4: 145692.99 | S4: 126696.38 | T4: 186040.77 | U4: 151485.29 | V4: 157494.88 | W4: 193913.81 | X4: 146517.81 | Y4: 276590.79 | Z4: 332708.05 | AA4: 171689.71 | AB4: 102620.09 | AC4: 5685898.4
A5: 1.1 | B5: RUA MANOEL BENÍCIO - PIEDADE | C5: 757147.32 | D5: 0.2143 | E5: 0.4309 | F5: 0.3548 | AC5: 1
D6: 162144.48 | E6: 326343.22 | F6: 268659.62 | AC6: 757147.32
A7: 1.1.1 | B7: INSTALAÇÕES PROVISÓRIAS | C7: 7783.05 | D7: 1 | AC7: 1
D8: 7783.05 | AC8: 7783.05
A9: 1.1.2 | B9: ADMINISTRAÇÃO LOCAL | C9: 26597.11 | D9: 0.3333 | E9: 0.3333 | F9: 0.3334 | AC9: 1
D10: 8864.82 | E10: 8864.82 | F10: 8867.47 | AC10: 26597.11
A11: 1.1.3 | B11: SERVIÇOS PRELIMINARES | C11: 16063.34 | D11: 1 | AC11: 1
D12: 16063.34 | AC12: 16063.34
A13: 1.1.4 | B13: TERRAPLANAGEM | C13: 37121.15 | D13: 0.6 | E13: 0.4 | AC13: 1
D14: 22272.69 | E14: 14848.46 | AC14: 37121.15
A15: 1.1.5 | B15: PAVIMENTAÇÃO | C15: 325065.58 | E15: 0.6 | F15: 0.4 | AC15: 1
E16: 195039.35 | F16: 130026.23 | AC16: 325065.58
A17: 1.1.6 | B17: DRENAGEM | C17: 2150.05 | D17: 0.4 | E17: 0.6 | AC17: 1
D18: 860.02 | E18: 1290.03 | AC18: 2150.05
A19: 1.1.7 | B19: SINALIZAÇÃO | C19: 13597.48 | F19: 1 | AC19: 1
F20: 13597.48 | AC20: 13597.48
A21: 1.1.8 | B21: ACESSIBILIDADE | C21: 9836 | F21: 1 | AC21: 1
F22: 9836 | AC22: 9836
A23: 1.1.9 | B23: MATERIAIS | C23: 318933.56 | D23: 0.3333 | E23: 0.3333 | F23: 0.3334 | AC23: 1
D24: 106300.56 | E24: 106300.56 | F24: 106332.44 | AC24: 318933.56
A25: 1.2 | B25: RUA GOIANINHA - JARDIM JORDÃO | C25: 284551.62 | G25: 0.4765 | H25: 0.5235 | AC25: 1
G26: 135591.68 | H26: 148959.94 | AC26: 284551.62
A27: 1.2.1 | B27: INSTALAÇÕES PROVISÓRIAS | C27: 6960.06 | G27: 1 | AC27: 1
G28: 6960.06 | AC28: 6960.06
A29: 1.2.2 | B29: ADMINISTRAÇÃO LOCAL | C29: 12787.84 | G29: 0.5 | H29: 0.5 | AC29: 1
G30: 6393.92 | H30: 6393.92 | AC30: 12787.84
A31: 1.2.3 | B31: SERVIÇOS PRELIMINARES | C31: 1260.8 | G31: 1 | AC31: 1
G32: 1260.8 | AC32: 1260.8
A33: 1.2.4 | B33: TERRAPLANAGEM | C33: 18611.17 | G33: 0.6 | H33: 0.4 | AC33: 1
G34: 11166.7 | H34: 7444.47 | AC34: 18611.17
A35: 1.2.5 | B35: PAVIMENTAÇÃO | C35: 105028 | G35: 0.4 | H35: 0.6 | AC35: 1
G36: 42011.2 | H36: 63016.8 | AC36: 105028
A37: 1.2.6 | B37: DRENAGEM | C37: 7441.58 | G37: 0.6 | H37: 0.4 | AC37: 1
G38: 4464.95 | H38: 2976.63 | AC38: 7441.58
A39: 1.2.7 | B39: SINALIZAÇÃO | C39: 5381.98 | H39: 1 | AC39: 1
H40: 5381.98 | AC40: 5381.98
A41: 1.2.8 | B41: ACESSIBILIDADE | C41: 412.09 | H41: 1 | AC41: 1
...

Sheet mapa cotação
A6: MAPA DE COTAÇÕES - CADASTRO DE FORNECEDORES
A8: Fornecedor | B8: Razão Social | C8: CNPJ | E8: Nome do Contato: | F8: Telefone 1 | G8: Telefone 2 | H8: Email/Website
A9: F.01 | B9: TERPAV ENGENHARIA LTDA | C9: 19.993.011/0001-48 | E9: Fernando Odilon | F9: (81) 9.8501-4732
A10: F.02 | B10: BRASILAR COMÉRCIO, INDÚSTRIA E SERVIÇOS DE CONSTRUÇÃO LTDA | C10: 02.173.244/0001-00 | F10: (81) 3429-2902
A11: F.03 | B11: SÓPEDRA TRANSPORTE COMÉRCIO E CONSTRUÇÃO LTDA | C11: 07.305.450/0001-31 | F11: (81) 9.9961-1833 | H11: sopedralima@hotmail.com
A13: MAPA DE COTAÇÕES - PREÇOS
A15: CÓDIGO | B15: DESCRIÇÃO | C15: UNID | D15: MENOR | E15: Fornecedores | F15: Fornecedor A | G15: Fornecedor B | H15: Fornecedor C
A17: COTAÇÃO 01 | B17: PARALELEPÍPEDO GRANÍTICO OU BASÁLTICO, PARA PAVIMENTAÇÃO | C17: MIL | D17: =MEDIAN(F24:H24) -> 495 | E17: Razão Social: | F17: =B9 -> TERPAV ENGENHARIA LTDA | G17: =B10 -> BRASILAR COMÉRCIO, INDÚSTRIA E SERVIÇOS DE CONSTRUÇÃO LTDA | H17: =B11 -> SÓPEDRA TRANSPORTE COMÉRCIO E CONSTRUÇÃO LTDA
E18: CNPJ: | F18: =C9 -> 19.993.011/0001-48 | G18: =C10 -> 02.173.244/0001-00 | H18: =C11 -> 07.305.450/0001-31
E19: Nome do Contato: | F19: =E9 -> Fernando Odilon | G19: =E10 -> 0 | H19: =E11 -> 0
E20: Data do Contato: | F20: 30/02/2019 | G20: 29/02/2019 | H20: 29/02/2019
E21: Telefone: | F21: =F9 -> (81) 9.8501-4732 | G21: =F10 -> (81) 3429-2902 | H21: =F11 -> (81) 9.9961-1833
E22: Preço Produto: | F22: 420 | G22: 450 | H22: 450
E23: Frete | F23: =F22*0.1 -> 42 | G23: =G22*0.1 -> 45 | H23: =H22*0.1 -> 45
E24: Preço total: | F24: =F22+F23 -> 462 | G24: =G22+G23 -> 495 | H24: =H22+H23 -> 495
A26: Fornecedor | B26: Razão Social | C26: CNPJ | E26: Nome do Contato: | F26: Telefone 1 | G26: Telefone 2 | H26: Email/Website
A27: F.01 | B27: Litoral banheiros quimicos | C27: 11.761.604/0001-77 | E27: =F37 -> IANA | F27: (81) 99812-5679 | G27: (81) 3083-1372 | H27: litoralbanheirosquimicos@gmail.com
A28: F.02 | B28: LIMPEX | C28: =G36 -> 11.356.463/0001-07 | E28: Brisa Luanna | F28: (81) 3251-0850 | H28: contato@limpexsolucoesambientais.com.br
A29: F.03 | B29: BW LOCAÇÕES | C29: 03.609.5070001-35 | E29: Luiz Bezerra | F29: (81) 3339-1469 | G29: (81) 3339-0354 | H29: bwlocacoes@gmail.com
A31: MAPA DE COTAÇÕES - PREÇOS
A33: CÓDIGO | B33: DESCRIÇÃO | C33: UNID | D33: MENOR | E33: Fornecedores | F33: Fornecedor A | G33: Fornecedor B | H33: Fornecedor C
A35: COTAÇÃO 1 | B35: BANHEIRO QUÍMICO, COM LOCAÇÃO, TRANSPORTE E LIMPEZA | C35: MÊS | D35: =MIN(F42:H42) -> 700 | E35: Razão Social: | F35: =B27 -> Litoral banheiros quimicos | G35: Limpex | H35: =B29 -> BW LOCAÇÕES
E36: CNPJ: | F36: =C27 -> 11.761.604/0001-77 | G36: 11.356.463/0001-07 | H36: =C29 -> 03.609.5070001-35
E37: Nome do Contato: | F37: IANA | G37: =E28 -> Brisa Luanna | H37: =E29 -> Luiz Bezerra
E38: Data do Contato: | F38: 44637 | G38: 44608 | H38: 44608
E39: Telefone: | F39: =F27 -> (81) 99812-5679 | G39: 81 - 3251-0850 | H39: =F29 -> (81) 3339-1469
E40: Preço Produto: | F40: 700 | G40: 700 | H40: 800
E41: Frete e limpeza incluso | F41: 0 | G41: 0 | H41: 0
E42: Preço total: | F42: =F40+F41 -> 700 | G42: =G40+G41 -> 700 | H42: =H40+H41 -> 800
A43: INS-54745269 | B43: ASFALTO DILUÍDO CM - 30 - JUNHO/22 | C43: KG | D43: =MIN(F50:H50) -> 5.32 | E43: Razão Social: | F43: SBC - RECIFE - JULHO/22 | G43: EMOPE - JUNHO/22 | H43: ANP -JUNHO/22
E44: CNPJ: | F44: CODIGO - I000089 | G44: CODIGO - 14603
E45: Nome do Contato: | F45: 6.16 | G45: 7.49 | H45: 5.32
E46: Data do Contato: | F46: 44777 | G46: 44679 | H46: 44777
E47: Contato:
E48: Preço Produto: | F48: =F45 -> 6.16 | G48: =G45 -> 7.49 | H48: =H45 -> 5.32
E49: Frete:
E50: Preço Total: | F50: =F48+F49 -> 6.16 | G50: =G48+G49 -> 7.49 | H50: =H48+H49 -> 5.32
A51: INS-185032 | B51: BRITA GRADUADA SIMPLES (BGS) | C51: M3 | D51: =MIN(F58:H58) -> 56.1 | E51: Razão Social: | F51: MEGA MINERAÇÃO | G51: PEDREIRA GUARANY | H51: POLIMIX AGREGADOS
E52: CNPJ: | F52: 28.952.592/0001-60 | G52: 11.502.366/0002-66 | H52: 29.067.113/0001-96
E53: Nome do Contato:
...

Sheet BDI
A3: COD | B3: DESCRIÇÃO | C3: %
B5: Benefício
A6: S + G | B6: Garantia/seguros | C6: 0.32
A7: L | B7: Lucro | C7: 2.73
B8: TOTAL | C8: 3.05
B11: Despesas Indiretas
A12: AC | B12: Administração central | C12: 3.8
A13: DF | B13: Despesas financeiras | C13: 1.02
A14: R | B14: Riscos | C14: 0.5
B15: TOTAL | C15: 5.32
A18: I | B18: Impostos
B19: COFINS | C19: 3
B20: ISS | C20: 4
B21: PIS | C21: 0.65
B22: TOTAL | C22: 7.65
B24: BDI = 17,57%
B25: (1+AC+S+R+G)*(1+DF)*(1+L)/(1-I)-1
A27: COD | B27: DESCRIÇÃO | C27: %
B29: Benefício
A30: S + G | B30: Garantia/seguros | C30: 0.3
A31: L | B31: Lucro | C31: 2.73
B32: TOTAL | C32: 3.03
B35: Despesas Indiretas
A36: AC | B36: Administração central | C36: 1.5
A37: DF | B37: Despesas financeiras | C37: 0.85
A38: R | B38: Riscos | C38: 0.56
B39: TOTAL | C39: 2.91
A42: I | B42: Impostos
B43: COFINS | C43: 3
B44: PIS | C44: 0.65
B45: TOTAL | C45: 3.65
B47: BDI = 10,07%
B48: (1+AC+S+R+G)*(1+DF)*(1+L)/(1-I)-1
