Workbook
Name JR_PAGE_ANCHOR_0_1: CRONOGRAMA!$A$1
Name JR_PAGE_ANCHOR_0_1: 'CURVA ABC SERVIÇOS'!$A$1
Name JR_PAGE_ANCHOR_0_1: 'PLANILHA ORCAMENTARIA'!$A$1
Name JR_PAGE_ANCHOR_1_1: RESUMO!$A$1
Name JR_PAGE_ANCHOR_2_1: 'COMPOSICOES PROPRIAS'!$A$1
Name JR_PAGE_ANCHOR_3_1: #REF!
Name JR_PAGE_ANCHOR_4_1: 'CURVA ABC INSUMOS'!$A$1
Name JR_PAGE_ANCHOR_5_1: #REF!
Name JR_PAGE_ANCHOR_6_1: BDI!$A$1
Name medidas: #REF!
Name medidas: #REF!
Name Print_Area: 'Memória de Cálculo'!$A$1:$J$9
Name TABELA: '[2]PLANILHA FONTE'!$B$2:$G$290

Sheet RESUMO
A4: 1 | B4: PAVIMENTAÇÃO | D4: 13273615 | E4: 99.674648
A5: 1.1 | B5: RUA EQUADOR - CAJUEIRO SECO | D5: 1061838.8 | E5: 7.9735934
A6: 1.2 | B6: RUA PASTOS BONS - CAJUEIRO SECO | D6: 78047.82 | E6: 0.58607915
A7: 1.3 | B7: RUA VICÊNCIA - CAJUEIRO SECO | D7: 146237.7 | E7: 1.0981328
A8: 1.4 | B8: RUA LUÍS GONZAGA - BARRA DE JANGADA | D8: 108371.72 | E8: 0.81378834
A9: 1.5 | B9: RUA PLANALTINA - PIEDADE | D9: 548707.43 | E9: 4.1203712
A10: 1.6 | B10: RUA JESUS DE NAZARÉ - CURADO IV | D10: 721603.77 | E10: 5.4186898
A11: 1.7 | B11: RUA TALCI - DOIS CARNEIROS | D11: 339989.1 | E11: 2.5530569
A12: 1.8 | B12: RUA LEÃO MARINHO - DOIS CARNEIROS | D12: 236285.57 | E12: 1.7743231
A13: 1.9 | B13: RUA DO FOGO - CURCURANA | D13: 320478.02 | E13: 2.4065437
A14: 1.10 | B14: RUA 11 - CURCURANA | D14: 557762.54 | E14: 4.1883681
A15: 1.11 | B15: RUA PETROLÂNDIA - PIEDADE | D15: 338289.11 | E15: 2.5402913
... A21: 2.1 | B21: CICLOFAIXA - AVENIDA BARRETO DE MENEZES | D21: 43327 | E21: 0.32535248
C22: VALOR BDI TOTAL: | D22: 1677077.5 | E22: 100
C23: VALOR ORÇAMENTO: | D23: 11639864
C24: VALOR TOTAL: | D24: 13316942

Sheet PLANILHA ORCAMENTARIA
A2: ITEM | B2: CÓDIGO | C2: REF. | D2: DESCRIÇÃO | E2: UNID. | F2: QUANT. | G2: CUSTO UNITÁRIO | H2: BDI (%) | I2: PREÇO UNITÁRIO | J2: PREÇO DO SERVIÇO
A3: 1 | B3: PAVIMENTAÇÃO | J3: 13273615
A4: 1.1 | B4: RUA EQUADOR - CAJUEIRO SECO | J4: 1061838.8
A5: 1.1.1 | B5: INSTALAÇÕES PROVISÓRIAS | J5: 10252.02
A6: 1.1.1.1 | B6: CP-74209/001-15055090 | C6: Composições Próprias | D6: PLACA DE OBRA EM CHAPA DE ACO GALVANIZADO | E6: M2 | F6: 8 | G6: 564.99 | H6: 17.57 | I6: 664.26 | J6: 5314.08
A7: 1.1.1.2 | B7: COMP-07440249 | C7: Composições Próprias | D7: BANHEIRO QUÍMICO, COM LOCAÇÃO, TRANSPORTE E LIMPEZA | E7: MÊS | F7: 6 | G7: 700 | H7: 17.57 | I7: 822.99 | J7: 4937.94
A8: 1.1.2 | B8: ADMINISTRAÇÃO LOCAL | J8: 38363.51
A9: 1.1.2.1 | B9: 93565 | C9: SINAPI | D9: ENGENHEIRO CIVIL DE OBRA JUNIOR COM ENCARGOS COMPLEMENTARES | E9: MES | F9: 0.75 | G9: 16819.14 | H9: 17.57 | I9: 19774.26 | J9: 14830.7
A10: 1.1.2.2 | B10: 93572 | C10: SINAPI | D10: ENCARREGADO GERAL DE OBRAS COM ENCARGOS COMPLEMENTARES | E10: MES | F10: 3 | G10: 6672 | H10: 17.57 | I10: 7844.27 | J10: 23532.81
A11: 1.1.3 | B11: SERVIÇOS PRELIMINARES | J11: 72916.73
A12: 1.1.3.1 | B12: 99064 | C12: SINAPI | D12: LOCAÇÃO DE PAVIMENTAÇÃO. AF_10/2018 | E12: M | F12: 614.67 | G12: 0.49 | H12: 17.57 | I12: 0.58 | J12: 356.51
A13: 1.1.3.2 | B13: COMP-17562084 | C13: Composições Próprias | D13: DEMOLIÇÃO MANUAL DE CONCRETO SIMPLES | E13: M³ | F13: 211.49 | G13: 212.24 | H13: 17.57 | I13: 249.53 | J13: 52773.1
A14: 1.1.3.3 | B14: COMP-01471766 | C14: Composições Próprias | D14: DEMOLIÇÃO DE MEIO-FIO | E14: M | F14: 1279.92 | G14: 11.13 | H14: 17.57 | I14: 13.09 | J14: 16754.15
A15: 1.1.3.4 | B15: COMP-35145154 | C15: Composições Próprias | D15: CARGA E DESCARGA MECANICA DE SOLO UTILIZANDO CAMINHAO BASCULANTE 14,0M3/36T E PA CARREGADEIRA SOBRE PNEUS 128 HP, CAPACIDADE DA CAÇAMBA 1,7 A 2,8 M3, PESO OPERACIONAL 11632 KH | E15: M³ | F15: 336.36 | G15: 2.9 | H15: 17.57 | I15: 3.41 | J15: 1146.99
A16: 1.1.3.5 | B16: 95876 | C16: SINAPI | D16: TRANSPORTE COM CAMINHÃO BASCULANTE DE 14 M³, EM VIA URBANA PAVIMENTADA, DMT ATÉ 30 KM (UNIDADE: M3XKM). AF_07/2020 | E16: M3XKM | F16: 706.36 | G16: 2.27 | H16: 17.57 | I16: 2.67 | J16: 1885.98
A17: 1.1.4 | B17: TERRAPLANAGEM | J17: 30382.37
A18: 1.1.4.1 | B18: CP-74205/001-17324935 | C18: Composições Próprias | D18: ESCAVAÇÃO MECÂNICA DE MATERIAL 1A. CATEGORIA, PROVENIENTE DE CORTE DE SUBLEITO (C/TRATOR ESTEIRAS 160HP) | E18: M3 | F18: 2121.49 | G18: 2.59 | H18: 17.57 | I18: 3.05 | J18: 6470.54
A19: 1.1.4.2 | B19: COMP-35145154 | C19: Composições Próprias | D19: CARGA E DESCARGA MECANICA DE SOLO UTILIZANDO CAMINHAO BASCULANTE 14,0M3/36T E PA CARREGADEIRA SOBRE PNEUS 128 HP, CAPACIDADE DA CAÇAMBA 1,7 A 2,8 M3, PESO OPERACIONAL 11632 KH | E19: M³ | F19: 2651.86 | G19: 2.9 | H19: 17.57 | I19: 3.41 | J19: 9042.84
A20: 1.1.4.3 | B20: 95876 | C20: SINAPI | D20: TRANSPORTE COM CAMINHÃO BASCULANTE DE 14 M³, EM VIA URBANA PAVIMENTADA, DMT ATÉ 30 KM (UNIDADE: M3XKM). AF_07/2020 | E20: M3XKM | F20: 5568.91 | G20: 2.27 | H20: 17.57 | I20: 2.67 | J20: 14868.99
A21: 1.1.5 | B21: PAVIMENTAÇÃO | J21: 230771.49
A22: 1.1.5.1 | B22: 100576 | C22: SINAPI | D22: REGULARIZAÇÃO E COMPACTAÇÃO DE SUBLEITO DE SOLO PREDOMINANTEMENTE ARGILOSO. AF_11/2019 | E22: M2 | F22: 4302.69 | G22: 2.79 | H22: 17.57 | I22: 3.28 | J22: 14112.82
A23: 1.1.5.2 | B23: COMP-28881239 | C23: Composições Próprias | D23: Base ou sub-base de macadame hidráulico com brita comercial - EXCLUSIVE MATERIAL, CARGA E TRANSPORTE - NÃO DESONERADO | E23: m³ | F23: 553.2 | G23: 11.4 | H23: 17.57 | I23: 13.4 | J23: 7412.88
A24: 1.1.5.3 | B24: CP-96396-26507981 | C24: Composições Próprias | D24: EXECUÇÃO E COMPACTAÇÃO DE BASE E OU SUB BASE PARA PAVIMENTAÇÃO DE BRITA GRADUADA SIMPLES - EXCLUSIVE MATERIAL, CARGA E TRANSPORTE | E24: M3 | F24: 614.67 | G24: 14.44 | H24: 17.57 | I24: 16.98 | J24: 10437.1
A25: 1.1.5.4 | B25: COMP-35145154 | C25: Composições Próprias | D25: CARGA E DESCARGA MECANICA DE SOLO UTILIZANDO CAMINHAO BASCULANTE 14,0M3/36T E PA CARREGADEIRA SOBRE PNEUS 128 HP, CAPACIDADE DA CAÇAMBA 1,7 A 2,8 M3, PESO OPERACIONAL 11632 KH | E25: M³ | F25: 1459.84 | G25: 2.9 | H25: 17.57 | I25: 3.41 | J25: 4978.05
A26: 1.1.5.5 | B26: COMP-83526730 | C26: Composições Próprias | D26: TRANSPORTE COMERCIAL DE BRITA | E26: M³XKM | F26: 10218.88 | G26: 1.37 | H26: 17.57 | I26: 1.61 | J26: 16452.4
A27: 1.1.5.6 | B27: CP-96401-52745838 | C27: Composições Próprias | D27: EXECUÇÃO DE IMPRIMAÇÃO COM ASFALTO DILUÍDO CM-30, EXCLUSIVE MATERIAL. | E27: M2 | F27: 3068.17 | G27: 1.24 | H27: 17.57 | I27: 1.46 | J27: 4479.53
A28: 1.1.5.7 | B28: CP-95995-51339760 | C28: Composições Próprias | D28: EXECUÇÃO DE PAVIMENTO COM APLICAÇÃO DE CONCRETO ASFÁLTICO, CAMADA DE ROLAMENTO - EXCLUSIVE CARGA E TRANSPORTE E CONCRETO BETUMINOSO | E28: M3 | F28: 153.41 | G28: 133.37 | H28: 17.57 | I28: 156.8 | J28: 24054.69
A29: 1.1.5.8 | B29: COMP-10034101 | C29: Composições Próprias | D29: CARGA, MANOBRAS E DESCARGA DE MISTURA BETUMINOSA A QUENTE, COM CAMINHAO BASCULANTE 6 M3, DESCARGA EM VIBRO-ACABADORA | E29: M³ | F29: 153.41 | G29: 7.86 | H29: 17.57 | I29: 9.24 | J29: 1417.51
A30: 1.1.5.9 | B30: CP-95303-56931542 | C30: Composições Próprias | D30: TRANSPORTE COM CAMINHÃO BASCULANTE 10 M3 DE MASSA ASFALTICA PARA PAVIMENTAÇÃO URBANA | E30: M3XKM | F30: 2316.49 | G30: 1.77 | H30: 17.57 | I30: 2.08 | J30: 4818.3
A31: 1.1.5.10 | B31: CP-97084-89637704 | C31: Composições Próprias | D31: REGULARIZACAO E COMPACTAÇÃO MANUAL DE TERRENO COM PLACA VIBRATÓRIA | E31: M2 | F31: 3007.49 | G31: 0.65 | H31: 17.57 | I31: 0.76 | J31: 2285.69
A32: 1.1.5.11 | B32: CP-94991-12549457 | C32: Composições Próprias | D32: EXECUÇÃO DE PASSEIO (CALÇADA) OU PISO DE CONCRETO COM CONCRETO MOLDADO IN LOCO, USINADO, ACABAMENTO CONVENCIONAL, NÃO ARMADO - EXCLUINDO O CONCRETO USINADO 20MPA | E32: M3 | F32: 208.83 | G32: 112.75 | H32: 17.57 | I32: 132.56 | J32: 27682.5
A33: 1.1.5.12 | B33: 94273 | C33: SINAPI | D33: ASSENTAMENTO DE GUIA (MEIO-FIO) EM TRECHO RETO, CONFECCIONADA EM CONCRETO PRÉ-FABRICADO, DIMENSÕES 100X15X13X30 CM (COMPRIMENTO X BASE INFERIOR X BASE SUPERIOR X ALTURA), PARA VIAS URBANAS (USO VIÁRIO). AF_06/2016 | E33: M | F33: 1282.38 | G33: 56.47 | H33: 17.57 | I33: 66.39 | J33: 85137.21
... A39: 1.1.5.18 | B39: 98504 | C39: SINAPI | D39: PLANTIO DE GRAMA BATATAIS EM PLACAS. AF_05/2018 | E39: M2 | F39: 55 | G39: 13.8 | H39: 17.57 | I39: 16.22 | J39: 892.1
A40: 1.1.6 | B40: DRENAGEM | J40: 148501.4
A41: 1.1.6.1 | B41: 90091 | C41: SINAPI | D41: ESCAVAÇÃO MECANIZADA DE VALA COM PROF. ATÉ 1,5 M (MÉDIA MONTANTE E JUSANTE/UMA COMPOSIÇÃO POR TRECHO), ESCAVADEIRA (0,8 M3), LARG. DE 1,5 M A 2,5 M, EM SOLO DE 1A CATEGORIA, LOCAIS COM BAIXO NÍVEL DE INTERFERÊNCIA. AF_02/2021 | E41: M3 | F41: 71.61 | G41: 6.48 | H41: 17.57 | I41: 7.62 | J41: 545.67
A42: 1.1.6.2 | B42: 93367 | C42: SINAPI | D42: REATERRO MECANIZADO DE VALA COM ESCAVADEIRA HIDRÁULICA (CAPACIDADE DA CAÇAMBA: 0,8 M³ / POTÊNCIA: 111 HP), LARGURA DE 1,5 A 2,5 M, PROFUNDIDADE ATÉ 1,5 M, COM SOLO DE 1ª CATEGORIA EM LOCAIS COM BAIXO NÍVEL DE INTERFERÊNCIA. AF_04/2016 | E42: M3 | F42: 26.85 | G42: 23.75 | H42: 17.57 | I42: 27.92 | J42: 749.65
A43: 1.1.6.3 | B43: COMP-35145154 | C43: Composições Próprias | D43: CARGA E DESCARGA MECANICA DE SOLO UTILIZANDO CAMINHAO BASCULANTE 14,0M3/36T E PA CARREGADEIRA SOBRE PNEUS 128 HP, CAPACIDADE DA CAÇAMBA 1,7 A 2,8 M3, PESO OPERACIONAL 11632 KH | E43: M³ | F43: 55.95 | G43: 2.9 | H43: 17.57 | I43: 3.41 | J43: 190.79
A44: 1.1.6.4 | B44: 95876 | C44: SINAPI | D44: TRANSPORTE COM CAMINHÃO BASCULANTE DE 14 M³, EM VIA URBANA PAVIMENTADA, DMT ATÉ 30 KM (UNIDADE: M3XKM). AF_07/2020 | E44: M3XKM | F44: 117.5 | G44: 2.27 | H44: 17.57 | I44: 2.67 | J44: 313.73
A45: 1.1.6.5 | B45: 94971 | C45: SINAPI | D45: CONCRETO FCK = 25MPA, TRAÇO 1:2,3:2,7 (EM MASSA SECA DE CIMENTO/ AREIA MÉDIA/ BRITA 1) - PREPARO MECÂNICO COM BETONEIRA 600 L. AF_05/2021 | E45: M3 | F45: 38.03 | G45: 472.74 | H45: 17.57 | I45: 555.8 | J45: 21137.07
A46: 1.1.6.6 | B46: 94974 | C46: SINAPI | D46: CONCRETO MAGRO PARA LASTRO, TRAÇO 1:4,5:4,5 (EM MASSA SECA DE CIMENTO/ AREIA MÉDIA/ BRITA 1) - PREPARO MANUAL. AF_05/2021 | E46: M3 | F46: 29.84 | G46: 436.13 | H46: 17.57 | I46: 512.76 | J46: 15300.76
...

Sheet Memória de Cálculo
A1: PREFEITURA MUNICIPAL DO JABOATÃO DOS GUARARAPES
A2: SECRETARIA DE INFRAESTRUTURA - SEINFRA.
A3: SECRETARIA EXECUTIVA DE OBRAS
A5: MEMÓRIA DE CÁLCULO
A6: ='[3]Planilha Orçamentária'!A6:K6 -> Objeto: PAVIMENTAÇÃO E DRENAGEM, RECAPEAMENTO, CONTENÇÃO DE ENCOSTAS, ADEQUAÇÃO DE VIAS, CICLOFAIXA, PONTES E TRAVESSIAS EM DESNÍVEL, DEMOLIÇÃO E REMOÇÃO DE PAVIMENTOS EM DIVERSOS BAIRROS
A7: Local: Jaboatão dos Guararapes
A8: Município: Jaboatão dos Guararapes/PE | J8: {='[3]Planilha Orçamentária'!A8:F8} -> Data: SETEMBRO/2022 | K8: 0 | L8: 0 | M8: 0 | N8: 0 | O8: 0
A9: Item | B9: Código | C9: Descrição | D9: Und | E9: Taxa | F9: Comp. | G9: Larg. | H9: Alt. | I9: QTDE | J9: Total
A10: ='[3]Planilha Orçamentária'!A13 -> 1.1 | B10: =VLOOKUP(A10,'[3]Planilha Orçamentária'!A:K,3,0) -> RUA EQUADOR - CAJUEIRO SECO
A11: ='[3]Planilha Orçamentária'!A14 -> 1.1.1 | C11: =VLOOKUP(A11,'[3]Planilha Orçamentária'!A:K,3,0) -> INSTALAÇÕES PROVISÓRIAS
A12: ='[3]Planilha Orçamentária'!A15 -> 1.1.1.1 | B12: =VLOOKUP(A12,'[3]Planilha Orçamentária'!A:K,2,0) -> CP-74209/001-15055090 | C12: =VLOOKUP(A12,'[3]Planilha Orçamentária'!A:K,3,0) -> PLACA DE OBRA EM CHAPA DE ACO GALVANIZADO | D12: =VLOOKUP(A12,'[3]Planilha Orçamentária'!A:K,4,0) -> M2 | F12: COMPRIMENTO | G12: LARGURA | I12: QUANTIDADE DE PLACAS | J12: =ROUND(SUM(J14:J14),2) -> 8
F14: 2 | G14: 4 | I14: 1 | J14: =ROUND(PRODUCT(E14:I14),2) -> 8
A16: ='[3]Planilha Orçamentária'!A16 -> 1.1.1.2 | B16: =VLOOKUP(A16,'[3]Planilha Orçamentária'!A:K,2,0) -> COMP-07440249 | C16: =VLOOKUP(A16,'[3]Planilha Orçamentária'!A:K,3,0) -> BANHEIRO QUÍMICO, COM LOCAÇÃO, TRANSPORTE E LIMPEZA | D16: =VLOOKUP(A16,'[3]Planilha Orçamentária'!A:K,4,0) -> MÊS | J16: =ROUND(SUM(J19:J19),2) -> 6
I17: QUANTIDADE DE MESES
I19: 6 | J19: =ROUND(PRODUCT(E19:I19),2) -> 6
A21: ='[3]Planilha Orçamentária'!A17 -> 1.1.2 | C21: =VLOOKUP(A21,'[3]Planilha Orçamentária'!A:K,3,0) -> ADMINISTRAÇÃO LOCAL
A22: ='[3]Planilha Orçamentária'!A18 -> 1.1.2.1 | B22: =VLOOKUP(A22,'[3]Planilha Orçamentária'!A:K,2,0) -> 93565 | C22: =VLOOKUP(A22,'[3]Planilha Orçamentária'!A:K,3,0) -> ENGENHEIRO CIVIL DE OBRA JUNIOR COM ENCARGOS COMPLEMENTARES | D22: =VLOOKUP(A22,'[3]Planilha Orçamentária'!A:K,4,0) -> MES | J22: =ROUND(SUM(J24),2) -> 0.75
C24: 6 meses de obra com 22 dias trabalhados e 1h por dia | E24: =22/176 -> 0.125 | I24: =I19 -> 6 | J24: =ROUND(PRODUCT(E24:I24),2) -> 0.75
C25: 1 horas x 22 dias = 22 horas no mês
C26: 1 mês tem 22 dias x 8 horas = 176 horas
A28: ='[3]Planilha Orçamentária'!A19 -> 1.1.2.2 | B28: =VLOOKUP(A28,'[3]Planilha Orçamentária'!A:K,2,0) -> 93572 | C28: =VLOOKUP(A28,'[3]Planilha Orçamentária'!A:K,3,0) -> ENCARREGADO GERAL DE OBRAS COM ENCARGOS COMPLEMENTARES | D28: =VLOOKUP(A28,'[3]Planilha Orçamentária'!A:K,4,0) -> MES | J28: =ROUND(SUM(J30),2) -> 3
C29: 6 meses de obra com 22 dias trabalhados e 4h por dia
C30: 4 horas x 22 dias = 88 horas no mês | E30: =88/176 -> 0.5 | I30: =I19 -> 6 | J30: =ROUND(PRODUCT(E30:I30),2) -> 3
C31: 1 mês tem 22 dias x 8 horas = 176 horas
A33: ='[3]Planilha Orçamentária'!A20 -> 1.1.3 | C33: =VLOOKUP(A33,'[3]Planilha Orçamentária'!A:K,3,0) -> SERVIÇOS PRELIMINARES
A34: ='[3]Planilha Orçamentária'!A21 -> 1.1.3.1 | B34: =VLOOKUP(A34,'[3]Planilha Orçamentária'!A:K,2,0) -> 99064 | C34: =VLOOKUP(A34,'[3]Planilha Orçamentária'!A:K,3,0) -> LOCAÇÃO DE PAVIMENTAÇÃO. AF_10/2018 | D34: =VLOOKUP(A34,'[3]Planilha Orçamentária'!A:K,4,0) -> M | J34: =ROUND(SUM(J36:J38),2) -> 614.67
F35: COMPRIMENTO
C36: E0+ 0,00 A E15 + 17,47 | F36: =[3]PARÂMETROS!B124 -> 317.47 | J36: =ROUND(PRODUCT(E36:I36),2) -> 317.47
C37: E16 + 10,08 A E23 + 17,24 | F37: =[3]PARÂMETROS!B125 -> 147.16 | J37: =ROUND(PRODUCT(E37:I37),2) -> 147.16
C38: E24 + 4,28 A E31 + 14,32 | F38: =[3]PARÂMETROS!B126 -> 150.04 | J38: =ROUND(PRODUCT(E38:I38),2) -> 150.04
A40: ='[3]Planilha Orçamentária'!A22 -> 1.1.3.2 | B40: =VLOOKUP(A40,'[3]Planilha Orçamentária'!A:K,2,0) -> COMP-17562084 | C40: =VLOOKUP(A40,'[3]Planilha Orçamentária'!A:K,3,0) -> DEMOLIÇÃO MANUAL DE CONCRETO SIMPLES | D40: =VLOOKUP(A40,'[3]Planilha Orçamentária'!A:K,4,0) -> M3 | J40: =ROUND(SUM(J42),2) -> 211.49
C41: PROJETO: DEM_PLA_RUA EQUADOR_R00 | H41: ESPESSURA | I41: ÁREA
C42: Passeio à demolir (quantidade de acordo com o quadro de especificações) | H42: 0.07 | I42: 3021.34 | J42: =ROUND(PRODUCT(E42:I42),2) -> 211.49
A44: ='[3]Planilha Orçamentária'!A23 -> 1.1.3.3 | B44: =VLOOKUP(A44,'[3]Planilha Orçamentária'!A:K,2,0) -> COMP-01471766 | C44: =VLOOKUP(A44,'[3]Planilha Orçamentária'!A:K,3,0) -> DEMOLIÇÃO DE MEIO-FIO | D44: =VLOOKUP(A44,'[3]Planilha Orçamentária'!A:K,4,0) -> M | J44: =ROUND(SUM(J46),2) -> 1279.92
C45: PROJETO: DEM_PLA_RUA EQUADOR_R00 | F45: COMPRIMENTO
C46: Meio-fio à demolir (quantidade de acordo com o quadro de especificações) | F46: 1279.92 | J46: =ROUND(PRODUCT(E46:I46),2) -> 1279.92
A48: ='[3]Planilha Orçamentária'!A24 -> 1.1.3.4 | B48: =VLOOKUP(A48,'[3]Planilha Orçamentária'!A:K,2,0) -> COMP-35145154 | C48: =VLOOKUP(A48,'[3]Planilha Orçamentária'!A:K,3,0) -> CARGA E DESCARGA MECANICA DE SOLO UTILIZANDO CAMINHAO BASCULANTE 14,0M3/36T E PA CARREGADEIRA SOBRE PNEUS 128 HP, CAPACIDADE DA CAÇAMBA 1,7 A 2,8 M3, PESO OPERACIONAL 11632 KH | D48: =VLOOKUP(A48,'[3]Planilha Orçamentária'!A:K,4,0) -> M3 | J48: =ROUND(SUM(J50:J52),2) -> 336.36
E49: EMPOLAMENTO | I49: VOLUME
C50: Passeio - Volume a ser demolido x empolamento | E50: 1.25 | I50: =J40 -> 211.49 | J50: =ROUND(PRODUCT(E50:I50),2) -> 264.36
E51: EMPOLAMENTO | F51: COMPRIMENTO | G51: LARGURA | H51: ESPESSURA
...

Sheet COMPOSICOES PROPRIAS
A3: CP-74209/001-15055090 - PLACA DE OBRA EM CHAPA DE ACO GALVANIZADO (M2)
A4: Material | D4: FONTE | F4: UNID | G4: COEFICIENTE | H4: PREÇO UNITÁRIO | I4: TOTAL
A5: 00004813 | B5: PLACA DE OBRA (PARA CONSTRUCAO CIVIL) EM CHAPA GALVANIZADA *N. 22*, ADESIVADA, DE *2,4 X 1,2* M (SEM POSTES PARA FIXACAO) | D5: SINAPI | F5: M2 | G5: 1 | H5: 445 | I5: 445
A6: 00004491 | B6: PONTALETE *7,5 X 7,5* CM EM PINUS, MISTA OU EQUIVALENTE DA REGIAO - BRUTA | D6: SINAPI | F6: M | G6: 4 | H6: 10.85 | I6: 43.4
A7: 00005075 | B7: PREGO DE ACO POLIDO COM CABECA 18 X 30 (2 3/4 X 10) | D7: SINAPI | F7: KG | G7: 0.11 | H7: 23.4 | I7: 2.574
A8: 00004417 | B8: SARRAFO NAO APARELHADO *2,5 X 7* CM, EM MACARANDUBA, ANGELIM OU EQUIVALENTE DA REGIAO - BRUTA | D8: SINAPI | F8: M | G8: 1 | H8: 6.12 | I8: 6.12
G9: TOTAL Material: | I9: 497.09
A10: Mão de Obra com Encargos Complementares | D10: FONTE | F10: UNID | G10: COEFICIENTE | H10: PREÇO UNITÁRIO | I10: TOTAL
A11: 88262 | B11: CARPINTEIRO DE FORMAS COM ENCARGOS COMPLEMENTARES | D11: SINAPI | F11: H | G11: 1 | H11: 24.39 | I11: 24.39
A12: 88316 | B12: SERVENTE COM ENCARGOS COMPLEMENTARES | D12: SINAPI | F12: H | G12: 2 | H12: 19.8 | I12: 39.6
G13: TOTAL Mão de Obra com Encargos Complementares: | I13: 63.99
A14: Serviço | D14: FONTE | F14: UNID | G14: COEFICIENTE | H14: PREÇO UNITÁRIO | I14: TOTAL
A15: 94962 | B15: CONCRETO MAGRO PARA LASTRO, TRAÇO 1:4,5:4,5 (EM MASSA SECA DE CIMENTO/ AREIA MÉDIA/ BRITA 1) - PREPARO MECÂNICO COM BETONEIRA 400 L. AF_05/2021 | D15: SINAPI | F15: M3 | G15: 0.01 | H15: 390.79 | I15: 3.9079
G16: TOTAL Serviço: | I16: 3.91
A17: Observações: BASEADA NO SINAPI 74209/001 | G17: VALOR: | I17: 564.99
A19: COMP-07440249 - BANHEIRO QUÍMICO, COM LOCAÇÃO, TRANSPORTE E LIMPEZA (MÊS)
A20: Equipamento | D20: FONTE | F20: UNID | G20: COEFICIENTE | H20: PREÇO UNITÁRIO | I20: TOTAL
A21: INS-256943 | B21: BANHEIRO QUÍMICO, COM LOCAÇÃO, TRANSPORTE E LIMPEZA | D21: Composições | F21: MÊS | G21: 1 | H21: 700 | I21: 700
G22: TOTAL Equipamento: | I22: 700
A23: Observações: COTAÇÃO OBTIDA PARA LOCAÇÃO DO SERVIÇO DE BANHEIRO QUÍMICO PARA OBRA | G23: VALOR: | I23: 700
A26: COMP-17562084 - DEMOLIÇÃO MANUAL DE CONCRETO SIMPLES (M³)
A27: Mão de Obra com Encargos Complementares | D27: FONTE | F27: UNID | G27: COEFICIENTE | H27: PREÇO UNITÁRIO | I27: TOTAL
A28: 88309 | B28: PEDREIRO COM ENCARGOS COMPLEMENTARES | D28: SINAPI | F28: H | G28: 1.3 | H28: 24.66 | I28: 32.058
A29: 88316 | B29: SERVENTE COM ENCARGOS COMPLEMENTARES | D29: SINAPI | F29: H | G29: 9.1 | H29: 19.8 | I29: 180.18
G30: TOTAL Mão de Obra com Encargos Complementares: | I30: 212.24
A31: Observações: BASEADO 73616 Sinapi Novembro/2017 | G31: VALOR: | I31: 212.24
A33: COMP-01471766 - DEMOLIÇÃO DE MEIO-FIO (M)
A34: Mão de Obra com Encargos Complementares | D34: FONTE | F34: UNID | G34: COEFICIENTE | H34: PREÇO UNITÁRIO | I34: TOTAL
A35: 88309 | B35: PEDREIRO COM ENCARGOS COMPLEMENTARES | D35: SINAPI | F35: H | G35: 0.05 | H35: 24.66 | I35: 1.233
A36: 88316 | B36: SERVENTE COM ENCARGOS COMPLEMENTARES | D36: SINAPI | F36: H | G36: 0.5 | H36: 19.8 | I36: 9.9
G37: TOTAL Mão de Obra com Encargos Complementares: | I37: 11.13
A38: Observações: Baseado na composição 00021/ORSE Ago/2021 | G38: VALOR: | I38: 11.13
A40: COMP-35145154 - CARGA E DESCARGA MECANICA DE SOLO UTILIZANDO CAMINHAO BASCULANTE 14,0M3 E PA CARREGADEIRA SOBRE PNEUS 128 HP, CAPACIDADE DA CAÇAMBA 1,7 A 2,8 M3, PESO OPERACIONAL 11632 KG (M³)
A41: Equipamento Custo Horário | D41: FONTE | F41: UNID | G41: COEFICIENTE | H41: PREÇO UNITÁRIO | I41: TOTAL
A42: 89876 | B42: CAMINHÃO BASCULANTE 14 M3, COM CAVALO MECÂNICO DE CAPACIDADE MÁXIMA DE TRAÇÃO COMBINADO DE 36000 KG, POTÊNCIA 286 CV, INCLUSIVE SEMIREBOQUE COM CAÇAMBA METÁLICA - CHP DIURNO. AF_12/2014 | D42: SINAPI | F42: CHP | G42: 0.003 | H42: 354.67 | I42: 1.06401
A43: 5940 | B43: PÁ CARREGADEIRA SOBRE RODAS, POTÊNCIA LÍQUIDA 128 HP, CAPACIDADE DA CAÇAMBA 1,7 A 2,8 M3, PESO OPERACIONAL 11632 KG - CHP DIURNO. AF_06/2014 | D43: SINAPI | F43: CHP | G43: 0.008 | H43: 209.48 | I43: 1.67584
G44: TOTAL Equipamento Custo Horário: | I44: 2.74
A45: Mão de Obra com Encargos Complementares | D45: FONTE | F45: UNID | G45: COEFICIENTE | H45: PREÇO UNITÁRIO | I45: TOTAL
A46: 88316 | B46: SERVENTE COM ENCARGOS COMPLEMENTARES | D46: SINAPI | F46: H | G46: 0.008 | H46: 19.8 | I46: 0.1584
G47: TOTAL Mão de Obra com Encargos Complementares: | I47: 0.16
...

Sheet CURVA ABC SERVIÇOS
A3: CÓDIGO | B3: DESCRIÇÃO | C3: FONTE | D3: TIPO | E3: UNIDADE | F3: QUANTIDADE | G3: PREÇO UNITÁRIO | H3: PREÇO TOTAL | I3: % | J3: ACUMUL. % | K3: CL
A4: 94273 | B4: ASSENTAMENTO DE GUIA (MEIO-FIO) EM TRECHO RETO, CONFECCIONADA EM CONCRETO PRÉ-FABRICADO, DIMENSÕES 100X15X13X30 CM (COMPRIMENTO X BASE INFERIOR X BASE SUPERIOR X ALTURA), PARA VIAS URBANAS (USO VIÁRIO). AF_06/2016 | C4: SINAPI | D4: Serviço | E4: M | F4: 12702.35 | G4: 66.39 | H4: 843309.02 | I4: =H4/$I$77 -> 0.11348653 | J4: =I4 -> 0.11348653 | K4: A
A5: 95876 | B5: TRANSPORTE COM CAMINHÃO BASCULANTE DE 14 M³, EM VIA URBANA PAVIMENTADA, DMT ATÉ 30 KM (UNIDADE: M3XKM). AF_07/2020 | C5: SINAPI | D5: Serviço | E5: M3XKM | F5: 273834.23 | G5: 2.67 | H5: 731137.39 | I5: =H5/$I$77 -> 0.098391267 | J5: =I5+J4 -> 0.21187779 | K5: A
A6: 92771 | B6: ARMAÇÃO DE LAJE DE ESTRUTURA CONVENCIONAL DE CONCRETO ARMADO UTILIZANDO AÇO CA-50 DE 10,0 MM - MONTAGEM. AF_06/2022 | C6: SINAPI | D6: Serviço | E6: KG | F6: 34349.39 | G6: 17.8 | H6: 611419.14 | I6: =H6/$I$77 -> 0.082280437 | J6: =I6+J5 -> 0.29415823 | K6: A
A7: 103320 | B7: ALVENARIA DE VEDAÇÃO DE BLOCOS VAZADOS DE CONCRETO DE 19X19X39 CM (ESPESSURA 19 CM) E ARGAMASSA DE ASSENTAMENTO COM PREPARO EM BETONEIRA. AF_12/2021 | C7: SINAPI | D7: Serviço | E7: M2 | F7: 4564.06 | G7: 124.18 | H7: 566764.97 | I7: =H7/$I$77 -> 0.076271196 | J7: =I7+J6 -> 0.37042943 | K7: A
A8: COMP-47176600 | B8: EXEC. DE ATERRO COM AREIA COM ADENSAMENTO HIDRAULICO | C8: Composições | D8: Serviço | E8: M³ | F8: 4364.59 | G8: 122.66 | H8: 535360.61 | I8: =H8/$I$77 -> 0.072045021 | J8: =I8+J7 -> 0.44247445 | K8: A
A9: COMP-83526730 | B9: TRANSPORTE COMERCIAL DE BRITA | C9: Composições | D9: Serviço | E9: M³XKM | F9: 181922.96 | G9: 1.61 | H9: 292895.97 | I9: =H9/$I$77 -> 0.039415855 | J9: =I9+J8 -> 0.4818903 | K9: A
A10: CP-95995-51339760 | B10: EXECUÇÃO DE PAVIMENTO COM APLICAÇÃO DE CONCRETO ASFÁLTICO, CAMADA DE ROLAMENTO - EXCLUSIVE CARGA E TRANSPORTE E CONCRETO BETUMINOSO | C10: Composições | D10: Serviço | E10: M3 | F10: 1739.09 | G10: 156.8 | H10: 272689.31 | I10: =H10/$I$77 -> 0.036696587 | J10: =I10+J9 -> 0.51858689 | K10: A
A11: 94975 | B11: CONCRETO FCK = 15MPA, TRAÇO 1:3,4:3,5 (EM MASSA SECA DE CIMENTO/ AREIA MÉDIA/ BRITA 1) - PREPARO MANUAL. AF_05/2021 | C11: SINAPI | D11: Serviço | E11: M3 | F11: 485.43 | G11: 551.9 | H11: 267908.82 | I11: =H11/$I$77 -> 0.036053262 | J11: =I11+J10 -> 0.55464015 | K11: A
A12: 94971 | B12: CONCRETO FCK = 25MPA, TRAÇO 1:2,3:2,7 (EM MASSA SECA DE CIMENTO/ AREIA MÉDIA/ BRITA 1) - PREPARO MECÂNICO COM BETONEIRA 600 L. AF_05/2021 | C12: SINAPI | D12: Serviço | E12: M3 | F12: 471.91 | G12: 555.8 | H12: 262287.58 | I12: =H12/$I$77 -> 0.035296796 | J12: =I12+J11 -> 0.58993695 | K12: A
A13: CP-94991-12549457 | B13: EXECUÇÃO DE PASSEIO (CALÇADA) OU PISO DE CONCRETO COM CONCRETO MOLDADO IN LOCO, USINADO, ACABAMENTO CONVENCIONAL, NÃO ARMADO - EXCLUINDO O CONCRETO USINADO 20MPA | C13: Composições | D13: Serviço | E13: M3 | F13: 1529.79 | G13: 132.56 | H13: 202788.96 | I13: =H13/$I$77 -> 0.027289895 | J13: =I13+J12 -> 0.61722684 | K13: A
A14: CP-74157/004-48264518 | B14: LANCAMENTO/APLICACAO MANUAL DE CONCRETO EM FUNDACOES (concreto magro) | C14: Composições | D14: Serviço | E14: M3 | F14: 1278.39 | G14: 152.59 | H14: 195069.53 | I14: =H14/$I$77 -> 0.026251069 | J14: =I14+J13 -> 0.64347791 | K14: A
A15: 94974 | B15: CONCRETO MAGRO PARA LASTRO, TRAÇO 1:4,5:4,5 (EM MASSA SECA DE CIMENTO/ AREIA MÉDIA/ BRITA 1) - PREPARO MANUAL. AF_05/2021 | C15: SINAPI | D15: Serviço | E15: M3 | F15: 380.1 | G15: 512.76 | H15: 194900.08 | I15: =H15/$I$77 -> 0.026228265 | J15: =I15+J14 -> 0.66970618 | K15: A
A16: 94287 | B16: EXECUÇÃO DE SARJETA DE CONCRETO USINADO, MOLDADA IN LOCO EM TRECHO RETO, 30 CM BASE X 10 CM ALTURA. AF_06/2016 | C16: SINAPI | D16: Serviço | E16: M | F16: 3978.83 | G16: 46.76 | H16: 186050.09 | I16: =H16/$I$77 -> 0.025037297 | J16: =I16+J15 -> 0.69474347 | K16: A
... A75: 96385 | B75: EXECUÇÃO E COMPACTAÇÃO DE ATERRO COM SOLO PREDOMINANTEMENTE ARGILOSO - EXCLUSIVE SOLO, ESCAVAÇÃO, CARGA E TRANSPORTE. AF_11/2019 | C75: SINAPI | D75: Serviço | E75: M3 | F75: 13.85 | G75: 15.31 | H75: 212.0435 | I75: =H75/$I$77 -> 2.8535305e-05 | J75: =I75+J74 -> 1 | K75: B
G77: Valor total do Orçamento: | I77: =SUM(H4:H76) -> 7430917.5

Sheet CURVA ABC ADM
A1: PREFEITURA MUNICIPAL DO JABOATÃO DOS GUARARAPES
A2: SECRETARIA DE INFRAESTRUTURA - SEINFRA.
A3: SECRETARIA EXECUTIVA DE SERVIÇOS URBANOS E MANUTENÇÃO - SEMAN
A4: GERÊNCIA DE MANUTENÇÃO - GEMAN
A5: OBJETO: Pavimentação e Drenagem, Recapeamento, Contenção de Encostas, Adequação de vias, Ciclofaixa, Pontes e Travessias em desnivel, Demolição E Remoção de Pavimentos em diversos bairros - LOTE 2 - NÃO DESONERADO_R05
A6: MUNICÍPIO: Jaboatão dos Guararapes
A7: CURVA ABC - NÃO DESONERADA - ADM
A8: CÓDIGO | B8: DESCRIÇÃO | C8: FONTE | D8: TIPO | E8: UNIDADE | F8: QUANTIDADE | G8: PREÇO UNITÁRIO | H8: PREÇO TOTAL | I8: % | J8: ACUMUL. % | K8: CL
A9: 93572 | B9: ENCARREGADO GERAL DE OBRAS COM ENCARGOS COMPLEMENTARES | C9: SINAPI | D9: Mão de Obra com Encargos Complementares | E9: MES | F9: 31.63 | G9: 7844.27 | H9: 248114.26 | I9: =H9/$I$13 -> 0.51854202 | J9: =I9 -> 0.51854202 | K9: A
A10: 93565 | B10: ENGENHEIRO CIVIL DE OBRA JUNIOR COM ENCARGOS COMPLEMENTARES | C10: SINAPI | D10: Mão de Obra com Encargos Complementares | E10: MES | F10: 11.65 | G10: 19774.26 | H10: 230370.13 | I10: =H10/$I$13 -> 0.48145798 | J10: =I10+J9 -> 1 | K10: A
G13: Total até 100,00% | I13: =H9+H10 -> 478484.39

Sheet CURVA ABC INSUMOS
A3: CÓDIGO | B3: DESCRIÇÃO | C3: FONTE | D3: TIPO | E3: UNIDADE | F3: QUANTIDADE | G3: PREÇO UNITÁRIO | H3: PREÇO TOTAL | I3: % | J3: ACUMUL. % | K3: CL
A4: 00001518 | B4: CONCRETO BETUMINOSO USINADO A QUENTE (CBUQ) PARA PAVIMENTACAO ASFALTICA, PADRAO DNIT, FAIXA C, COM CAP 50/70 - AQUISICAO POSTO USINA | C4: SINAPI | D4: Material | E4: T | F4: 4443.02 | G4: 522.5 | H4: 2321478 | I4: 17.432516 | J4: 17.432516 | K4: A
A5: 00034492 | B5: CONCRETO USINADO BOMBEAVEL, CLASSE DE RESISTENCIA C20, COM BRITA 0 E 1, SLUMP = 100 +/- 20 MM, EXCLUI SERVICO DE BOMBEAMENTO (NBR 8953) | C5: SINAPI | D5: Material | E5: M3 | F5: 2016.7935 | G5: 422.5 | H5: 852095.25 | I5: 6.3985806 | J5: 23.831096 | K5: A
A6: 00004221 | B6: OLEO DIESEL COMBUSTIVEL COMUM | C6: SINAPI | D6: Material | E6: L | F6: 110772.72 | G6: 7.64 | H6: 846303.59 | I6: 6.3550897 | J6: 30.186186 | K6: A
A7: M0808 | B7: Brita 4 | C7: SICRO | D7: Material | E7: m³ | F7: 7409.05 | G7: 90.74 | H7: 672297.2 | I7: 5.0484353 | J7: 35.234621 | K7: A
A8: 00006111 | B8: SERVENTE DE OBRAS | C8: SINAPI | D8: Mão de Obra | E8: H | F8: 41164.999 | G8: 14.19 | H8: 584131.33 | I8: 4.3863774 | J8: 39.620999 | K8: A
A9: 00004059 | B9: MEIO-FIO OU GUIA DE CONCRETO, PRE-MOLDADO, COMP 1 M, *30 X 12/15* CM (H X L1/L2) | C9: SINAPI | D9: Material | E9: M | F9: 13558.184 | G9: 36.61 | H9: 496365.1 | I9: 3.7273205 | J9: 43.348319 | K9: A
A10: 00000034 | B10: ACO CA-50, 10,0 MM, VERGALHAO | C10: SINAPI | D10: Material | E10: KG | F10: 38359.91 | G10: 12.12 | H10: 464922.11 | I10: 3.4912078 | J10: 46.839527 | K10: A
A11: 00004750 | B11: PEDREIRO (HORISTA) | C11: SINAPI | D11: Mão de Obra | E11: H | F11: 19606.258 | G11: 18.85 | H11: 369577.97 | I11: 2.7752465 | J11: 49.614773 | K11: A
A12: 00000368 | B12: AREIA PARA ATERRO - POSTO JAZIDA/FORNECEDOR (RETIRADO NA JAZIDA, SEM TRANSPORTE) | C12: SINAPI | D12: Material | E12: M3 | F12: 5712.7665 | G12: 64.5 | H12: 368473.44 | I12: 2.7669524 | J12: 52.381726 | K12: B
A13: 00001379 | B13: CIMENTO PORTLAND COMPOSTO CP II-32 | C13: SINAPI | D13: Material | E13: KG | F13: 470142.42 | G13: 0.68 | H13: 319696.84 | I13: 2.4006776 | J13: 54.782403 | K13: B
A14: INS-185032 | B14: BRITA GRADUADA SIMPLES (BGS) | C14: Composições | D14: Material | E14: M³ | F14: 4817.1 | G14: 56.1 | H14: 270239.31 | I14: 2.0292896 | J14: 56.811693 | K14: B
A15: 00000654 | B15: BLOCO DE VEDACAO DE CONCRETO 19 X 19 X 39 CM (CLASSE C - NBR 6136) | C15: SINAPI | D15: Material | E15: UN | F15: 63981.472 | G15: 4 | H15: 255925.89 | I15: 1.9218068 | J15: 58.7335 | K15: B
... A257: M0067 | B257: Tubo PEAD PE 100 PN 10 com flanges - D = 160 mm | C257: SICRO | D257: Material | E257: m | F257: 1.6720176e-05 | G257: 188.9906 | H257: 0.0031599561 | I257: 2.3728842e-08 | J257: 87.551596 | K257: C
G259: Subtotal até 87,55% | I259: 11659195
G260: Outros: | I260: 1657746.7
G261: Valor total do Orçamento: | I261: 13316942

Sheet CRONOGRAMA
A2: ITEM | B2: DESCRIÇÃO | C2: VALOR (R$) | D2: MÊS 1 | E2: MÊS 2 | F2: MÊS 3 | G2: MÊS 4 | H2: MÊS 5 | J2: MÊS 6 | K2: MÊS 7 | L2: MÊS 8 | M2: MÊS 9 | N2: MÊS 10 | O2: MÊS 11 | P2: MÊS 12 | Q2: MÊS 13 | R2: MÊS 14 | S2: MÊS 15 | T2: MÊS 16 | U2: MÊS 17 | V2: MÊS 18 | W2: MÊS 19 | X2: MÊS 20 | Y2: MÊS 21 | Z2: MÊS 22 | AA2: MÊS 23 | AB2: MÊS 24 | AC2: Total parcela
A3: 1 | B3: PAVIMENTAÇÃO | C3: 13273615 | D3: 0.0234 | E3: 0.0409 | F3: 0.0505 | G3: 0.0284 | H3: 0.0286 | J3: 0.0199 | K3: 0.0221 | L3: 0.0243 | M3: 0.0249 | N3: 0.0275 | O3: 0.056 | P3: 0.0508 | Q3: 0.0505 | R3: 0.0611 | S3: 0.0833 | T3: 0.0701 | U3: 0.0623 | V3: 0.0405 | W3: 0.0568 | X3: 0.0578 | Y3: 0.0475 | Z3: 0.0298 | AA3: 0.0247 | AB3: 0.0183 | AC3: 1
D4: 309055.97 | E4: 537900.97 | F4: 664323.13 | G4: 371740.81 | H4: 391906.34 | J4: 273303.1 | K4: 287971.14 | L4: 316025.69 | M4: 323880.87 | N4: 358486.29 | O4: 729388.17 | P4: 661949.79 | Q4: 658040.61 | R4: 795736.91 | S4: 1089392.5 | T4: 916786.58 | U4: 815071 | V4: 530824.68 | W4: 773482.63 | X4: 791429.16 | Y4: 658048.44 | Z4: 421656.47 | AA4: 354978.06 | AB4: 242235.54 | AC4: 13273615
A5: 1.1 | B5: RUA EQUADOR - CAJUEIRO SECO | C5: 1061838.8 | D5: 0.1412 | E5: 0.1316 | F5: 0.1908 | G5: 0.2285 | H5: 0.2006 | J5: 0.1073 | AC5: 1
D6: 149889.17 | E6: 139637.14 | F6: 202657.16 | G6: 242734.99 | H6: 213034.7 | J6: 113885.63 | AC6: 1061838.8
A7: 1.1.1 | B7: INSTALAÇÕES PROVISÓRIAS | C7: 10252.02 | D7: 1 | AC7: 1
D8: 10252.02 | AC8: 10252.02
A9: 1.1.2 | B9: ADMINISTRAÇÃO LOCAL | C9: 38363.51 | D9: 0.1666 | E9: 0.1666 | F9: 0.1666 | G9: 0.1666 | H9: 0.1666 | J9: 0.167 | AC9: 1
D10: 6391.36 | E10: 6391.36 | F10: 6391.36 | G10: 6391.36 | H10: 6391.36 | J10: 6406.71 | AC10: 38363.51
A11: 1.1.3 | B11: SERVIÇOS PRELIMINARES | C11: 72916.73 | D11: 0.5 | E11: 0.5 | AC11: 1
D12: 36458.37 | E12: 36458.36 | AC12: 72916.73
A13: 1.1.4 | B13: TERRAPLANAGEM | C13: 30382.37 | D13: 0.4 | E13: 0.4 | F13: 0.2 | AC13: 1
D14: 12152.95 | E14: 12152.95 | F14: 6076.47 | AC14: 30382.37
A15: 1.1.5 | B15: PAVIMENTAÇÃO | C15: 230771.49 | F15: 0.2 | G15: 0.4 | H15: 0.4 | AC15: 1
F16: 46154.3 | G16: 92308.6 | H16: 92308.59 | AC16: 230771.49
A17: 1.1.6 | B17: DRENAGEM | C17: 148501.4 | F17: 0.4 | G17: 0.4 | H17: 0.2 | AC17: 1
F18: 59400.56 | G18: 59400.56 | H18: 29700.28 | AC18: 148501.4
A19: 1.1.7 | B19: SINALIZAÇÃO | C19: 19447.54 | J19: 1 | AC19: 1
J20: 19447.54 | AC20: 19447.54
A21: 1.1.8 | B21: ACESSIBILIDADE | C21: 3193.69 | J21: 1 | AC21: 1
J22: 3193.69 | AC22: 3193.69
A23: 1.1.9 | B23: MATERIAIS | C23: 508010.04 | D23: 0.1666 | E23: 0.1666 | F23: 0.1666 | G23: 0.1666 | H23: 0.1666 | J23: 0.167 | AC23: 1
D24: 84634.47 | E24: 84634.47 | F24: 84634.47 | G24: 84634.47 | H24: 84634.47 | J24: 84837.69 | AC24: 508010.04
A25: 1.2 | B25: RUA PASTOS BONS - CAJUEIRO SECO | C25: 78047.82 | K25: 1 | AC25: 1
K26: 78047.82 | AC26: 78047.82
A27: 1.2.1 | B27: INSTALAÇÕES PROVISÓRIAS | C27: 6137.07 | K27: 1 | AC27: 1
K28: 6137.07 | AC28: 6137.07
A29: 1.2.2 | B29: ADMINISTRAÇÃO LOCAL | C29: 3590.41 | K29: 1 | AC29: 1
K30: 3590.41 | AC30: 3590.41
A31: 1.2.3 | B31: SERVIÇOS PRELIMINARES | C31: 3156.04 | K31: 1 | AC31: 1
K32: 3156.04 | AC32: 3156.04
A33: 1.2.4 | B33: TERRAPLANAGEM | C33: 1438.12 | K33: 1 | AC33: 1
K34: 1438.12 | AC34: 1438.12
A35: 1.2.5 | B35: PAVIMENTAÇÃO | C35: 10970.73 | K35: 1 | AC35: 1
K36: 10970.73 | AC36: 10970.73
A37: 1.2.6 | B37: DRENAGEM | C37: 28124.68 | K37: 1 | AC37: 1
K38: 28124.68 | AC38: 28124.68
A39: 1.2.7 | B39: SINALIZAÇÃO | C39: 2171.76 | K39: 1 | AC39: 1
K40: 2171.76 | AC40: 2171.76
A41: 1.2.8 | B41: ACESSIBILIDADE | C41: 1088.34 | K41: 1 | AC41: 1
...

Sheet BDI
A3: COD | B3: DESCRIÇÃO | C3: %
B5: Benefício
A6: S + G | B6: Garantia/seguros | C6: 0.32
A7: L | B7: Lucro | C7: 2.73
B8: TOTAL | C8: 3.05
B11: Despesas Indiretas
A12: AC | B12: Administração central | C12: 3.8
A13: DF | B13: Despesas financeiras | C13: 1.02
A14: R | B14: Riscos | C14: 0.5
B15: TOTAL | C15: 5.32
A18: I | B18: Impostos
B19: COFINS | C19: 3
B20: ISS | C20: 4
B21: PIS | C21: 0.65
B22: TOTAL | C22: 7.65
B24: BDI = 17,57%
B25: (1+AC+S+R+G)*(1+DF)*(1+L)/(1-I)-1
A27: COD | B27: DESCRIÇÃO | C27: %
B29: Benefício
A30: S + G | B30: Garantia/seguros | C30: 0.3
A31: L | B31: Lucro | C31: 2.73
B32: TOTAL | C32: 3.03
B35: Despesas Indiretas
A36: AC | B36: Administração central | C36: 1.5
A37: DF | B37: Despesas financeiras | C37: 0.85
A38: R | B38: Riscos | C38: 0.56
B39: TOTAL | C39: 2.91
A42: I | B42: Impostos
B43: COFINS | C43: 3
B44: PIS | C44: 0.65
B45: TOTAL | C45: 3.65
B47: BDI = 10,07%
B48: (1+AC+S+R+G)*(1+DF)*(1+L)/(1-I)-1

Sheet mapa cotação
A6: MAPA DE COTAÇÕES - CADASTRO DE FORNECEDORES
A8: Fornecedor | B8: Razão Social | C8: CNPJ | E8: Nome do Contato: | F8: Telefone 1 | G8: Telefone 2 | H8: Email/Website
A9: F.01 | B9: TERPAV ENGENHARIA LTDA | C9: 19.993.011/0001-48 | E9: Fernando Odilon | F9: (81) 9.8501-4732
A10: F.02 | B10: BRASILAR COMÉRCIO, INDÚSTRIA E SERVIÇOS DE CONSTRUÇÃO LTDA | C10: 02.173.244/0001-00 | F10: (81) 3429-2902
A11: F.03 | B11: SÓPEDRA TRANSPORTE COMÉRCIO E CONSTRUÇÃO LTDA | C11: 07.305.450/0001-31 | F11: (81) 9.9961-1833 | H11: sopedralima@hotmail.com
A13: MAPA DE COTAÇÕES - PREÇOS
A15: CÓDIGO | B15: DESCRIÇÃO | C15: UNID | D15: MENOR | E15: Fornecedores | F15: Fornecedor A | G15: Fornecedor B | H15: Fornecedor C
A17: COTAÇÃO 01 | B17: PARALELEPÍPEDO GRANÍTICO OU BASÁLTICO, PARA PAVIMENTAÇÃO | C17: MIL | D17: =MEDIAN(F24:H24) -> 495 | E17: Razão Social: | F17: =B9 -> TERPAV ENGENHARIA LTDA | G17: =B10 -> BRASILAR COMÉRCIO, INDÚSTRIA E SERVIÇOS DE CONSTRUÇÃO LTDA | H17: =B11 -> SÓPEDRA TRANSPORTE COMÉRCIO E CONSTRUÇÃO LTDA
E18: CNPJ: | F18: =C9 -> 19.993.011/0001-48 | G18: =C10 -> 02.173.244/0001-00 | H18: =C11 -> 07.305.450/0001-31
E19: Nome do Contato: | F19: =E9 -> Fernando Odilon | G19: =E10 -> 0 | H19: =E11 -> 0
E20: Data do Contato: | F20: 30/02/2019 | G20: 29/02/2019 | H20: 29/02/2019
E21: Telefone: | F21: =F9 -> (81) 9.8501-4732 | G21: =F10 -> (81) 3429-2902 | H21: =F11 -> (81) 9.9961-1833
E22: Preço Produto: | F22: 420 | G22: 450 | H22: 450
E23: Frete | F23: =F22*0.1 -> 42 | G23: =G22*0.1 -> 45 | H23: =H22*0.1 -> 45
E24: Preço total: | F24: =F22+F23 -> 462 | G24: =G22+G23 -> 495 | H24: =H22+H23 -> 495
A26: Fornecedor | B26: Razão Social | C26: CNPJ | E26: Nome do Contato: | F26: Telefone 1 | G26: Telefone 2 | H26: Email/Website
A27: F.01 | B27: Litoral banheiros quimicos | C27: 11.761.604/0001-77 | E27: =F37 -> IANA | F27: (81) 99812-5679 | G27: (81) 3083-1372 | H27: litoralbanheirosquimicos@gmail.com
A28: F.02 | B28: LIMPEX | C28: =G36 -> 11.356.463/0001-07 | E28: Brisa Luanna | F28: (81) 3251-0850 | H28: contato@limpexsolucoesambientais.com.br
A29: F.03 | B29: BW LOCAÇÕES | C29: 03.609.5070001-35 | E29: Luiz Bezerra | F29: (81) 3339-1469 | G29: (81) 3339-0354 | H29: bwlocacoes@gmail.com
A31: MAPA DE COTAÇÕES - PREÇOS
A33: CÓDIGO | B33: DESCRIÇÃO | C33: UNID | D33: MENOR | E33: Fornecedores | F33: Fornecedor A | G33: Fornecedor B | H33: Fornecedor C
A35: COTAÇÃO 1 | B35: BANHEIRO QUÍMICO, COM LOCAÇÃO, TRANSPORTE E LIMPEZA | C35: MÊS | D35: =MIN(F42:H42) -> 700 | E35: Razão Social: | F35: =B27 -> Litoral banheiros quimicos | G35: Limpex | H35: =B29 -> BW LOCAÇÕES
E36: CNPJ: | F36: =C27 -> 11.761.604/0001-77 | G36: 11.356.463/0001-07 | H36: =C29 -> 03.609.5070001-35
E37: Nome do Contato: | F37: IANA | G37: =E28 -> Brisa Luanna | H37: =E29 -> Luiz Bezerra
E38: Data do Contato: | F38: 44637 | G38: 44608 | H38: 44608
E39: Telefone: | F39: =F27 -> (81) 99812-5679 | G39: 81 - 3251-0850 | H39: =F29 -> (81) 3339-1469
E40: Preço Produto: | F40: 700 | G40: 700 | H40: 800
E41: Frete e limpeza incluso | F41: 0 | G41: 0 | H41: 0
E42: Preço total: | F42: =F40+F41 -> 700 | G42: =G40+G41 -> 700 | H42: =H40+H41 -> 800
A43: INS-54745269 | B43: ASFALTO DILUÍDO CM - 30 - JUNHO/22 | C43: KG | D43: =MIN(F50:H50) -> 5.32 | E43: Razão Social: | F43: SBC - RECIFE - JULHO/22 | G43: EMOPE - JUNHO/22 | H43: ANP -JUNHO/22
E44: CNPJ: | F44: CODIGO - I000089 | G44: CODIGO - 14603
E45: Nome do Contato: | F45: 6.16 | G45: 7.49 | H45: 5.32
E46: Data do Contato: | F46: 44777 | G46: 44679 | H46: 44777
E47: Contato:
E48: Preço Produto: | F48: =F45 -> 6.16 | G48: =G45 -> 7.49 | H48: =H45 -> 5.32
E49: Frete:
E50: Preço Total: | F50: =F48+F49 -> 6.16 | G50: =G48+G49 -> 7.49 | H50: =H48+H49 -> 5.32
A51: INS-185032 | B51: BRITA GRADUADA SIMPLES (BGS) | C51: M3 | D51: =MIN(F58:H58) -> 56.1 | E51: Razão Social: | F51: MEGA MINERAÇÃO | G51: PEDREIRA GUARANY | H51: POLIMIX AGREGADOS
E52: CNPJ:
E53: Nome do Contato:
...
