Workbook
Name _: NA()
Name _____TOT2: NA()
Name ____ACA25: NA()
Name ____ACA50: NA()
Name ____CCM30: NA()
Name ____CMM30: NA()
Name ____KM406407: NA()
Name ____la2: NA()
Name ____PCM30: NA()
Name ____PL1: NA()
Name ____PLA2: NA()
Name ____PNV2002: NA()
Name ____PNV2003: NA()
Name ____PNV2009: NA()
Name ____PTB10: NA()
Name ____TB10: NA()
Name ____TOT1: NA()
Name ____TOT2: NA()
Name ____TOT3: NA()
Name ____TOT4: NA()
Name ____TOT5: NA()
Name ____TOT6: NA()
Name ____TOT7: NA()
Name ____tota: NA()
Name ____TSD2: NA()
Name ___ACA25: NA()
Name ___ACA50: NA()
Name ___CCM30: NA()
Name ___CMM30: NA()
Name ___KM406407: NA()
Name ___la2: NA()
Name ___PCM30: NA()
Name ___PL1: NA()
Name ___PLA2: NA()
Name ___PNV2002: NA()
Name ___PNV2003: NA()
Name ___PNV2009: NA()
Name ___PTB10: NA()
Name ___TB10: NA()
Name ___TOT1: NA()
Name ___TOT2: NA()
Name ___TOT3: NA()
Name ___TOT4: NA()
Name ___TOT5: NA()
Name ___TOT6: NA()
Name ___TOT7: NA()
Name ___TSD2: NA()
Name __ACA25: NA()
Name __ACA50: NA()
Name __CCM30: NA()
Name __CMM30: NA()
Name __KM406407: NA()
Name __la2: NA()
Name __PCM30: NA()
Name __PL1: NA()
Name __PLA2: NA()
Name __PNV2002: NA()
Name __PNV2003: NA()
Name __PNV2009: NA()
Name __PTB10: NA()

Sheet RESUMO
A2: ITEM | B2: DESCRIÇÃO | C2: CUSTO DIRETO (R$) | G2: PREÇO TOTAL (R$) | H2: %
C3: MÃO DE OBRA | D3: MATERIAL | E3: EQUIPAMENTO | F3: OUTROS
A4: 1 | B4: RUA JARANGUARI | C4: 45981.81 | D4: 177682.2 | E4: 17925.45 | F4: 16145.76 | G4: 297313.93 | H4: 38.052202
A5: 2 | B5: RUA GUANANBI | C5: 44115.98 | D5: 167209.81 | E5: 12850.21 | F5: 15614.91 | G5: 276453.01 | H5: 35.382283
A6: 3 | B6: RUA JOSÉ PAULINO | C6: 38138.95 | D6: 115712.43 | E6: 11855.27 | F6: 13559.2 | G6: 207564.8 | H6: 26.565515
B7: TOTAL: | C7: 128236.74 | D7: 460604.44 | E7: 42630.93 | F7: 45319.87 | G7: 781331.74 | H7: 100
E9: VALOR BDI TOTAL: | G9: 104539.73
E10: VALOR ORÇAMENTO: | G10: 676792.01
E11: VALOR TOTAL: | G11: 781331.74
A12: EVERALDO MERGULHÃO - CREA Nº 1818551071

Sheet PLANILHA ORCAMENTARIA
A2: ITEM | B2: CÓDIGO | C2: REF. | D2: DESCRIÇÃO | E2: UNID. | F2: QUANT. | G2: PREÇO UNIT SEM BDI R$ | H2: BDI (%) | I2: PREÇO UNIT COM BDI R$ | J2: PREÇO TOTAL R$
A3: 1 | B3: RUA JARANGUARI | G3: =ROUND(F4*G4,2)+ROUND(F10*G10,2)+ROUND(F14*G14,2)+ROUND(F18*G18,2)+ROUND(F27*G27,2)+ROUND(F33*G33,2)+ROUND(F39*G39,2) -> 0 | J3: =ROUND(J4+J10+J14+J18+J27+J33+J39,2) -> 297313.93
A4: 1.1 | B4: INSTALAÇÕES PROVISÓRIAS | G4: =ROUND(F5*G5,2)+ROUND(F6*G6,2)+ROUND(F7*G7,2)+ROUND(F8*G8,2)+ROUND(F9*G9,2) -> 7885.28 | J4: =ROUND(SUM(J5:J9),2) -> 9270.71
A5: 1.1.1 | B5: 103689 | C5: SINAPI | D5: FORNECIMENTO E INSTALAÇÃO DE PLACA DE OBRA COM CHAPA GALVANIZADA E ESTRUTURA DE MADEIRA. AF_03/2022_PS | E5: M2 | F5: 4.32 | G5: 468.43 | H5: 17.57 | I5: =ROUND(G5*ROUND(1+(H5/100),4),2) -> 550.73 | J5: =ROUND(ROUND(F5,2)*ROUND(I5,2),2) -> 2379.15
A6: 1.1.2 | B6: INS-13695818 | C6: Composições Próprias | D6: ALUGUEL DE BANHEIRO QUÍMICO INCLUSIVE LOCAÇÃO, TRANSPORTE E LIMPEZA | E6: MÊS | F6: 2 | G6: 1200 | H6: 17.57 | I6: =ROUND(G6*ROUND(1+(H6/100),4),2) -> 1410.84 | J6: =ROUND(ROUND(F6,2)*ROUND(I6,2),2) -> 2821.68
A7: 1.1.3 | B7: 00010775 | C7: SINAPI | D7: LOCACAO DE CONTAINER 2,30 X 6,00 M, ALT. 2,50 M, COM 1 SANITARIO, PARA ESCRITORIO, COMPLETO, SEM DIVISORIAS INTERNAS (NAO INCLUI MOBILIZACAO/DESMOBILIZACAO) | E7: MES | F7: 2 | G7: 847.5 | H7: 17.57 | I7: =ROUND(G7*ROUND(1+(H7/100),4),2) -> 996.41 | J7: =ROUND(ROUND(F7,2)*ROUND(I7,2),2) -> 1992.82
A8: 1.1.4 | B8: COMP-20511029 | C8: Composições Próprias | D8: MOBILIZAÇÃO DE CONTAINER_JANEIRO/2026 | E8: UND | F8: 1 | G8: 883.33 | H8: 17.57 | I8: =ROUND(G8*ROUND(1+(H8/100),4),2) -> 1038.53 | J8: =ROUND(ROUND(F8,2)*ROUND(I8,2),2) -> 1038.53
A9: 1.1.5 | B9: COMP-38919866 | C9: Composições Próprias | D9: DESMOBILIZAÇÃO DE CONTAINER_JANEIRO/2026 | E9: UND | F9: 1 | G9: 883.33 | H9: 17.57 | I9: =ROUND(G9*ROUND(1+(H9/100),4),2) -> 1038.53 | J9: =ROUND(ROUND(F9,2)*ROUND(I9,2),2) -> 1038.53
A10: 1.2 | B10: ADMINISTRAÇÃO LOCAL | G10: =ROUND(F11*G11,2)+ROUND(F12*G12,2)+ROUND(F13*G13,2) -> 17779.96 | J10: =ROUND(SUM(J11:J13),2) -> 20903.9
A11: 1.2.1 | B11: 93565 | C11: SINAPI | D11: ENGENHEIRO CIVIL DE OBRA JUNIOR COM ENCARGOS COMPLEMENTARES | E11: MES | F11: 0.25 | G11: 23154.54 | H11: 17.57 | I11: =ROUND(G11*ROUND(1+(H11/100),4),2) -> 27222.79 | J11: =ROUND(ROUND(F11,2)*ROUND(I11,2),2) -> 6805.7
A12: 1.2.2 | B12: 93572 | C12: SINAPI | D12: ENCARREGADO GERAL DE OBRAS COM ENCARGOS COMPLEMENTARES | E12: MES | F12: 1 | G12: 8475.47 | H12: 17.57 | I12: =ROUND(G12*ROUND(1+(H12/100),4),2) -> 9964.61 | J12: =ROUND(ROUND(F12,2)*ROUND(I12,2),2) -> 9964.61
A13: 1.2.3 | B13: CP-94296-25656932 | C13: Composições Próprias | D13: TOPOGRAFO COM ENCARGOS COMPLEMENTARES | E13: MES | F13: 0.5 | G13: 7031.7 | H13: 17.57 | I13: =ROUND(G13*ROUND(1+(H13/100),4),2) -> 8267.17 | J13: =ROUND(ROUND(F13,2)*ROUND(I13,2),2) -> 4133.59
A14: 1.3 | B14: TERRAPLANAGEM | G14: =ROUND(F15*G15,2)+ROUND(F16*G16,2)+ROUND(F17*G17,2) -> 23136.73 | J14: =ROUND(SUM(J15:J17),2) -> 27185.56
A15: 1.3.1 | B15: CP-74205/001-17324935 | C15: Composições Próprias | D15: ESCAVAÇÃO MECÂNICA DE MATERIAL 1A. CATEGORIA, PROVENIENTE DE CORTE DE SUBLEITO (C/TRATOR ESTEIRAS 160HP) | E15: M3 | F15: 1459.04 | G15: 2.4 | H15: 17.57 | I15: =ROUND(G15*ROUND(1+(H15/100),4),2) -> 2.82 | J15: =ROUND(ROUND(F15,2)*ROUND(I15,2),2) -> 4114.49
A16: 1.3.2 | B16: COMP-35145154 | C16: Composições Próprias | D16: CARGA E DESCARGA MECANICA DE SOLO UTILIZANDO CAMINHAO BASCULANTE 14,0M3/36T E PA CARREGADEIRA SOBRE PNEUS 128 HP, CAPACIDADE DA CAÇAMBA 1,7 A 2,8 M3, PESO OPERACIONAL 11632 KH | E16: M³ | F16: 1823.8 | G16: 2.52 | H16: 17.57 | I16: =ROUND(G16*ROUND(1+(H16/100),4),2) -> 2.96 | J16: =ROUND(ROUND(F16,2)*ROUND(I16,2),2) -> 5398.45
A17: 1.3.3 | B17: 95876 | C17: SINAPI | D17: TRANSPORTE COM CAMINHÃO BASCULANTE DE 14 M³, EM VIA URBANA PAVIMENTADA, DMT ATÉ 30 KM (UNIDADE: M3XKM). AF_07/2020 | E17: M3XKM | F17: 6930.44 | G17: 2.17 | H17: 17.57 | I17: =ROUND(G17*ROUND(1+(H17/100),4),2) -> 2.55 | J17: =ROUND(ROUND(F17,2)*ROUND(I17,2),2) -> 17672.62
A18: 1.4 | B18: PAVIMENTAÇÃO | G18: =ROUND(F19*G19,2)+ROUND(F20*G20,2)+ROUND(F21*G21,2)+ROUND(F22*G22,2)+ROUND(F23*G23,2)+ROUND(F24*G24,2)+ROUND(F25*G25,2)+ROUND(F26*G26,2) -> 172755.83 | J18: =ROUND(SUM(J19:J26),2) -> 197419.72
A19: 1.4.1 | B19: 100576 | C19: SINAPI | D19: REGULARIZAÇÃO E COMPACTAÇÃO DE SUBLEITO DE SOLO PREDOMINANTEMENTE ARGILOSO, PARA OBRAS DE CONSTRUÇÃO DE PAVIMENTOS. AF_09/2024 | E19: M2 | F19: 1067.96 | G19: 2.77 | H19: 17.57 | I19: =ROUND(G19*ROUND(1+(H19/100),4),2) -> 3.26 | J19: =ROUND(ROUND(F19,2)*ROUND(I19,2),2) -> 3481.55
A20: 1.4.2 | B20: 105730 | C20: SINAPI | D20: CONSTRUÇÃO DE BASE E SUB-BASE PARA PAVIMENTAÇÃO DE BRITA GRADUADA SIMPLES, COM ESPESSURA DE 20 CM - EXCLUSIVE CARGA E TRANSPORTE. AF_09/2024 | E20: M3 | F20: 213.59 | G20: 173.93 | H20: 17.57 | I20: =ROUND(G20*ROUND(1+(H20/100),4),2) -> 204.49 | J20: =ROUND(ROUND(F20,2)*ROUND(I20,2),2) -> 43677.02
A21: 1.4.3 | B21: COMP-35145154 | C21: Composições Próprias | D21: CARGA E DESCARGA MECANICA DE SOLO UTILIZANDO CAMINHAO BASCULANTE 14,0M3/36T E PA CARREGADEIRA SOBRE PNEUS 128 HP, CAPACIDADE DA CAÇAMBA 1,7 A 2,8 M3, PESO OPERACIONAL 11632 KH | E21: M³ | F21: 266.99 | G21: 2.52 | H21: 17.57 | I21: =ROUND(G21*ROUND(1+(H21/100),4),2) -> 2.96 | J21: =ROUND(ROUND(F21,2)*ROUND(I21,2),2) -> 790.29
A22: 1.4.4 | B22: COMP-83526730 | C22: Composições Próprias | D22: TRANSPORTE COMERCIAL DE BRITA | E22: M³XKM | F22: 2589.8 | G22: 1.25 | H22: 17.57 | I22: =ROUND(G22*ROUND(1+(H22/100),4),2) -> 1.47 | J22: =ROUND(ROUND(F22,2)*ROUND(I22,2),2) -> 3807.01
A23: 1.4.5 | B23: CP-92399-27762594 | C23: Composições Próprias | D23: EXECUÇÃO DE VIA EM PISO INTERTRAVADO, COM BLOCO RETANGULAR COR NATURAL/COLORIDO DE 20 X 10 CM, ESPESSURA 8 CM - (SEM O MATERIAL BLOQUETE/PISO INTERTRAVADO) | E23: M2 | F23: 1067.96 | G23: 23.95 | H23: 17.57 | I23: =ROUND(G23*ROUND(1+(H23/100),4),2) -> 28.16 | J23: =ROUND(ROUND(F23,2)*ROUND(I23,2),2) -> 30073.75
A24: 1.4.6 | B24: 00036170 | C24: SINAPI | D24: BLOQUETE/PISO INTERTRAVADO DE CONCRETO - MODELO ONDA/16 FACES/RETANGULAR/TIJOLINHO/PAVER/HOLANDES/PARALELEPIPEDO, *20 X 10* CM, E = 8 CM, RESISTENCIA DE 35 MPA, COR NATURAL - BDI = 10,07 | E24: M2 | F24: 743.45 | G24: 64.5 | H24: 10.07 | I24: =ROUND(G24*ROUND(1+(H24/100),4),2) -> 71 | J24: =ROUND(ROUND(F24,2)*ROUND(I24,2),2) -> 52784.95
A25: 1.4.7 | B25: 00036154 | C25: SINAPI | D25: BLOQUETE/PISO INTERTRAVADO DE CONCRETO - MODELO ONDA/16 FACES/RETANGULAR/TIJOLINHO/PAVER/HOLANDES/PARALELEPIPEDO, *20 X 10* CM, E = 8 CM, RESISTENCIA DE 35 MPA, COLORIDO - BDI = 10,07 | E25: M2 | F25: 328.76 | G25: 85.33 | H25: 10.07 | I25: =ROUND(G25*ROUND(1+(H25/100),4),2) -> 93.92 | J25: =ROUND(ROUND(F25,2)*ROUND(I25,2),2) -> 30877.14
A26: 1.4.8 | B26: 94273 | C26: SINAPI | D26: ASSENTAMENTO DE GUIA (MEIO-FIO) EM TRECHO RETO, CONFECCIONADA EM CONCRETO PRÉ-FABRICADO, DIMENSÕES 100X15X13X30 CM (COMPRIMENTO X BASE INFERIOR X BASE SUPERIOR X ALTURA). AF_01/2024 | E26: M | F26: 516.05 | G26: 52.62 | H26: 17.57 | I26: =ROUND(G26*ROUND(1+(H26/100),4),2) -> 61.87 | J26: =ROUND(ROUND(F26,2)*ROUND(I26,2),2) -> 31928.01
A27: 1.5 | B27: DRENAGEM | G27: =ROUND(F28*G28,2)+ROUND(F29*G29,2)+ROUND(F30*G30,2)+ROUND(F31*G31,2)+ROUND(F32*G32,2) -> 9114.13 | J27: =ROUND(SUM(J28:J32),2) -> 10715.78
A28: 1.5.1 | B28: 93358 | C28: SINAPI | D28: ESCAVAÇÃO MANUAL DE VALA. AF_09/2024 | E28: M3 | F28: 5.04 | G28: 95.25 | H28: 17.57 | I28: =ROUND(G28*ROUND(1+(H28/100),4),2) -> 111.99 | J28: =ROUND(ROUND(F28,2)*ROUND(I28,2),2) -> 564.43
A29: 1.5.2 | B29: 94974 | C29: SINAPI | D29: CONCRETO MAGRO PARA LASTRO, TRAÇO 1:4,5:4,5 (EM MASSA SECA DE CIMENTO/ AREIA MÉDIA/ BRITA 1) - PREPARO MANUAL. AF_05/2021 | E29: M3 | F29: 3.15 | G29: 519.13 | H29: 17.57 | I29: =ROUND(G29*ROUND(1+(H29/100),4),2) -> 610.34 | J29: =ROUND(ROUND(F29,2)*ROUND(I29,2),2) -> 1922.57
A30: 1.5.3 | B30: 94971 | C30: SINAPI | D30: CONCRETO FCK = 25MPA, TRAÇO 1:2,3:2,7 (EM MASSA SECA DE CIMENTO/ AREIA MÉDIA/ BRITA 1) - PREPARO MECÂNICO COM BETONEIRA 600 L. AF_05/2021 | E30: M3 | F30: 5.04 | G30: 552.76 | H30: 17.57 | I30: =ROUND(G30*ROUND(1+(H30/100),4),2) -> 649.88 | J30: =ROUND(ROUND(F30,2)*ROUND(I30,2),2) -> 3275.4
A31: 1.5.4 | B31: CP-74157/004-48264518 | C31: Composições Próprias | D31: LANCAMENTO/APLICACAO MANUAL DE CONCRETO EM FUNDACOES (concreto magro) | E31: M3 | F31: 8.19 | G31: 157.61 | H31: 17.57 | I31: =ROUND(G31*ROUND(1+(H31/100),4),2) -> 185.3 | J31: =ROUND(ROUND(F31,2)*ROUND(I31,2),2) -> 1517.61
A32: 1.5.5 | B32: CP-S03639-45770834 | C32: Composições Próprias | D32: Fornecimento e instalação de tela aço soldada nervurada CA-60, Q-283, malha 10x10cm, ferro 6.02mm (4,48 kg/m2), painel 2,45x6,0m, Telcon ou similar | E32: m2 | F32: 63.03 | G32: 46.36 | H32: 17.57 | I32: =ROUND(G32*ROUND(1+(H32/100),4),2) -> 54.51 | J32: =ROUND(ROUND(F32,2)*ROUND(I32,2),2) -> 3435.77
A33: 1.6 | B33: SINALIZAÇÃO | G33: =ROUND(F34*G34,2)+ROUND(F35*G35,2)+ROUND(F36*G36,2)+ROUND(F37*G37,2)+ROUND(F38*G38,2) -> 5953.11 | J33: =ROUND(SUM(J34:J38),2) -> 6999.1
A34: 1.6.1 | B34: 5213416 | C34: SICRO NOVO | D34: Confecção de placa em aço nº 16 galvanizado, com película tipo I + I | E34: m² | F34: 6.6 | G34: 407.21 | H34: 17.57 | I34: =ROUND(G34*ROUND(1+(H34/100),4),2) -> 478.76 | J34: =ROUND(ROUND(F34,2)*ROUND(I34,2),2) -> 3159.82
A35: 1.6.2 | B35: 5213421 | C35: SICRO NOVO | D35: Confecção de placa em aço nº 16 galvanizado, com película tipo I + IV | E35: m² | F35: 6.6 | G35: 401.42 | H35: 17.57 | I35: =ROUND(G35*ROUND(1+(H35/100),4),2) -> 471.95 | J35: =ROUND(ROUND(F35,2)*ROUND(I35,2),2) -> 3114.87
A36: 1.6.3 | B36: 103695 | C36: SINAPI | D36: FORNECIMENTO E INSTALAÇÃO DE SUPORTE DE MADEIRA PARA PLACAS DE SINALIZAÇÃO, EM SOLO, COM H= DE 2,0 M E SEÇÃO DE 7,5 X 7,5 CM. AF_03/2022 | E36: UN | F36: 3 | G36: 104.87 | H36: 17.57 | I36: =ROUND(G36*ROUND(1+(H36/100),4),2) -> 123.3 | J36: =ROUND(ROUND(F36,2)*ROUND(I36,2),2) -> 369.9
A37: 1.6.4 | B37: COMP-58084869 | C37: Composições Próprias | D37: PLACA ESMALTADA PARA IDENTIFICAÇÃO NR DE RUA, DIMENSÕES 45X25CM | E37: UND | F37: 1 | G37: 142.87 | H37: 17.57 | I37: =ROUND(G37*ROUND(1+(H37/100),4),2) -> 167.97 | J37: =ROUND(ROUND(F37,2)*ROUND(I37,2),2) -> 167.97
A38: 1.6.5 | B38: CP-72947-21572945 | C38: Composições Próprias | D38: SINALIZACAO HORIZONTAL COM TINTA RETRORREFLETIVA A BASE DE RESINA ACRILICA COM MICROESFERAS DE VIDRO | E38: M2 | F38: 4.32 | G38: 36.73 | H38: 17.57 | I38: =ROUND(G38*ROUND(1+(H38/100),4),2) -> 43.18 | J38: =ROUND(ROUND(F38,2)*ROUND(I38,2),2) -> 186.54
A39: 1.7 | B39: SERVIÇOS COMPLEMENTARES | G39: =ROUND(F40*G40,2)+ROUND(F41*G41,2)+ROUND(F42*G42,2) -> 21110.2 | J39: =ROUND(SUM(J40:J42),2) -> 24819.16
A40: 1.7.1 | B40: 97896 | C40: SINAPI | D40: CAIXA ENTERRADA HIDRÁULICA RETANGULAR, EM CONCRETO PRÉ-MOLDADO, DIMENSÕES INTERNAS: 0,4X0,4X0,4 M. AF_12/2020 | E40: UN | F40: 32 | G40: 283.1 | H40: 17.57 | I40: =ROUND(G40*ROUND(1+(H40/100),4),2) -> 332.84 | J40: =ROUND(ROUND(F40,2)*ROUND(I40,2),2) -> 10650.88
A41: 1.7.2 | B41: 102264 | C41: SINAPI | D41: TUBO DE PVC BRANCO PARA REDE COLETORA DE ESGOTO CONDOMINIAL DE PAREDE MACIÇA, DN 100 MM, JUNTA ELÁSTICA - FORNECIMENTO E ASSENTAMENTO. AF_01/2021 | E41: M | F41: 300 | G41: 17.31 | H41: 17.57 | I41: =ROUND(G41*ROUND(1+(H41/100),4),2) -> 20.35 | J41: =ROUND(ROUND(F41,2)*ROUND(I41,2),2) -> 6105
...

Sheet JARANGUARI
C1: PREFEITURA MUNICIPAL DO JABOATÃO DOS GUARARAPES
C2: SECRETARIA MUNICIPAL DE PLANEJAMENTO E GESTÃO
C3: SECRETARIA EXECUTIVA DE PROJETOS DE ARQUITETURA E URBANISMO
A4: MEMÓRIA DE CÁLCULO
A5: Objeto: ORÇAMENTO PARA PAVIMENTAÇÃO E DRENAGEM DAS RUAS JARANGUARI, GUANANBI E JOSÉ PAULINO
A6: Local: Jaboatão dos Guararapes
A7: Município: Jaboatão dos Guararapes/PE | J7: {='[9]Planilha Orçamentária'!A8:F8} -> Data: AGOSTO/2022 | K7: #REF! | L7: #REF! | M7: #REF! | N7: #REF! | O7: #REF!
A8: Item | B8: Código | C8: Descrição | D8: Und | E8: Taxa | F8: Comp. | G8: Larg. | H8: Alt. | I8: QTDE | J8: Total
A9: 1.0 | B9: RUA JARANGUARI
A10: 1.1 | C10: INSTALAÇÕES PROVISÓRIAS
A11: 1.1.1 | B11: =VLOOKUP(A11,'PLANILHA ORCAMENTARIA'!A:J,2,0) -> 103689 | C11: =VLOOKUP(A11,'PLANILHA ORCAMENTARIA'!A:J,4,0) -> FORNECIMENTO E INSTALAÇÃO DE PLACA DE OBRA COM CHAPA GALVANIZADA E ESTRUTURA DE MADEIRA. AF_03/2022_PS | D11: =VLOOKUP(A11,'PLANILHA ORCAMENTARIA'!A:J,5,0) -> M2 | F11: COMPRIMENTO | G11: LARGURA | I11: QUANTIDADE DE PLACAS | J11: =ROUND(SUM(J13:J13),2) -> 4.32 | K11: =SUBSTITUTE(A11,4,1,1) -> 1.1.1
K12: =SUBSTITUTE(A12,4,1,1)
F13: 3.6 | G13: 1.2 | I13: 1 | J13: =ROUND(PRODUCT(E13:I13),2) -> 4.32 | K13: =SUBSTITUTE(A13,4,1,1)
K14: =SUBSTITUTE(A14,4,1,1)
A15: 1.1.2 | B15: =VLOOKUP(A15,'PLANILHA ORCAMENTARIA'!A:J,2,0) -> INS-13695818 | C15: =VLOOKUP(A15,'PLANILHA ORCAMENTARIA'!A:J,4,0) -> ALUGUEL DE BANHEIRO QUÍMICO INCLUSIVE LOCAÇÃO, TRANSPORTE E LIMPEZA | D15: =VLOOKUP(A15,'PLANILHA ORCAMENTARIA'!A:J,5,0) -> MÊS | J15: =ROUND(SUM(J18:J18),2) -> 2 | K15: =SUBSTITUTE(A15,4,1,1) -> 1.1.2
I16: QUANTIDADE DE MESES | K16: =SUBSTITUTE(A16,4,1,1)
K17: =SUBSTITUTE(A17,4,1,1)
I18: 2 | J18: =ROUND(PRODUCT(E18:I18),2) -> 2 | K18: =SUBSTITUTE(A18,4,1,1)
K19: =SUBSTITUTE(A19,4,1,1)
A20: 1.1.3 | B20: =VLOOKUP(A20,'PLANILHA ORCAMENTARIA'!A:J,2,0) -> 00010775 | C20: =VLOOKUP(A20,'PLANILHA ORCAMENTARIA'!A:J,4,0) -> LOCACAO DE CONTAINER 2,30 X 6,00 M, ALT. 2,50 M, COM 1 SANITARIO, PARA ESCRITORIO, COMPLETO, SEM DIVISORIAS INTERNAS (NAO INCLUI MOBILIZACAO/DESMOBILIZACAO) | D20: =VLOOKUP(A20,'PLANILHA ORCAMENTARIA'!A:J,5,0) -> MES | J20: =ROUND(SUM(J22:J22),2) -> 2 | K20: =SUBSTITUTE(A20,4,1,1) -> 1.1.3
I21: QUANTIDADE | K21: =SUBSTITUTE(A21,4,1,1)
I22: =I18 -> 2 | J22: =ROUND(PRODUCT(E22:I22),2) -> 2 | K22: =SUBSTITUTE(A22,4,1,1)
K23: =SUBSTITUTE(A23,4,1,1)
A24: 1.1.4 | B24: =VLOOKUP(A24,'PLANILHA ORCAMENTARIA'!A:J,2,0) -> COMP-20511029 | C24: =VLOOKUP(A24,'PLANILHA ORCAMENTARIA'!A:J,4,0) -> MOBILIZAÇÃO DE CONTAINER_JANEIRO/2026 | D24: =VLOOKUP(A24,'PLANILHA ORCAMENTARIA'!A:J,5,0) -> UND | J24: =ROUND(SUM(J26:J26),2) -> 1 | K24: =SUBSTITUTE(A24,4,1,1) -> 1.1.1
I25: QUANTIDADE | K25: =SUBSTITUTE(A25,4,1,1)
I26: 1 | J26: =ROUND(PRODUCT(E26:I26),2) -> 1 | K26: =SUBSTITUTE(A26,4,1,1)
K27: =SUBSTITUTE(A27,4,1,1)
A28: 1.1.5 | B28: =VLOOKUP(A28,'PLANILHA ORCAMENTARIA'!A:J,2,0) -> COMP-38919866 | C28: =VLOOKUP(A28,'PLANILHA ORCAMENTARIA'!A:J,4,0) -> DESMOBILIZAÇÃO DE CONTAINER_JANEIRO/2026 | D28: =VLOOKUP(A28,'PLANILHA ORCAMENTARIA'!A:J,5,0) -> UND | J28: =ROUND(SUM(J30:J30),2) -> 1 | K28: =SUBSTITUTE(A28,4,1,1) -> 1.1.5
I29: QUANTIDADE | K29: =SUBSTITUTE(A29,4,1,1)
I30: 1 | J30: =ROUND(PRODUCT(E30:I30),2) -> 1 | K30: =SUBSTITUTE(A30,4,1,1)
K31: =SUBSTITUTE(A31,4,1,1)
A32: 1.2 | C32: ADMINISTRAÇÃO LOCAL | K32: =SUBSTITUTE(A32,4,1,1) -> 1.2
A33: 1.2.1 | B33: =VLOOKUP(A33,'PLANILHA ORCAMENTARIA'!A:J,2,0) -> 93565 | C33: =VLOOKUP(A33,'PLANILHA ORCAMENTARIA'!A:J,4,0) -> ENGENHEIRO CIVIL DE OBRA JUNIOR COM ENCARGOS COMPLEMENTARES | D33: =VLOOKUP(A33,'PLANILHA ORCAMENTARIA'!A:J,5,0) -> MES | J33: =ROUND(SUM(J35),2) -> 0.25 | K33: =SUBSTITUTE(A33,4,1,1) -> 1.2.1
C34: 2 meses de obra | K34: =SUBSTITUTE(A34,4,1,1)
C35: 2 meses de obra com 22 dias trabalhados e 1h por dia | E35: =22/176 -> 0.125 | I35: =I18 -> 2 | J35: =ROUND(PRODUCT(E35:I35),2) -> 0.25 | K35: =SUBSTITUTE(A35,4,1,1)
C36: 1 horas x 22 dias = 22 horas no mês | K36: =SUBSTITUTE(A36,4,1,1)
C37: 1 mês tem 22 dias x 8 horas = 176 horas | K37: =SUBSTITUTE(A37,4,1,1)
K38: =SUBSTITUTE(A38,4,1,1)
A39: 1.2.2 | B39: =VLOOKUP(A39,'PLANILHA ORCAMENTARIA'!A:J,2,0) -> 93572 | C39: =VLOOKUP(A39,'PLANILHA ORCAMENTARIA'!A:J,4,0) -> ENCARREGADO GERAL DE OBRAS COM ENCARGOS COMPLEMENTARES | D39: =VLOOKUP(A39,'PLANILHA ORCAMENTARIA'!A:J,5,0) -> MES | J39: =ROUND(SUM(J41),2) -> 1 | K39: =SUBSTITUTE(A39,4,1,1) -> 1.2.2
C40: 2 meses de obra | K40: =SUBSTITUTE(A40,4,1,1)
...

Sheet GUANAMBI
C1: PREFEITURA MUNICIPAL DO JABOATÃO DOS GUARARAPES
C2: SECRETARIA MUNICIPAL DE PLANEJAMENTO E GESTÃO
C3: SECRETARIA EXECUTIVA DE PROJETOS DE ARQUITETURA E URBANISMO
A4: MEMÓRIA DE CÁLCULO
A5: Objeto: ORÇAMENTO PARA PAVIMENTAÇÃO E DRENAGEM DAS RUAS JARANGUARI, GUANANBI E JOSÉ PAULINO
A6: Local: Jaboatão dos Guararapes
A7: Município: Jaboatão dos Guararapes/PE | J7: {='[9]Planilha Orçamentária'!A8:F8} -> Data: AGOSTO/2022 | K7: #REF! | L7: #REF! | M7: #REF! | N7: #REF! | O7: #REF!
A8: Item | B8: Código | C8: Descrição | D8: Und | E8: Taxa | F8: Comp. | G8: Larg. | H8: Alt. | I8: QTDE | J8: Total
A9: 2.0 | B9: RUA JARANGUARI
A10: 2.1 | C10: INSTALAÇÕES PROVISÓRIAS
A11: 2.1.1 | B11: =VLOOKUP(A11,'PLANILHA ORCAMENTARIA'!A:J,2,0) -> 103689 | C11: =VLOOKUP(A11,'PLANILHA ORCAMENTARIA'!A:J,4,0) -> FORNECIMENTO E INSTALAÇÃO DE PLACA DE OBRA COM CHAPA GALVANIZADA E ESTRUTURA DE MADEIRA. AF_03/2022_PS | D11: =VLOOKUP(A11,'PLANILHA ORCAMENTARIA'!A:J,5,0) -> M2 | F11: COMPRIMENTO | G11: LARGURA | I11: QUANTIDADE DE PLACAS | J11: =ROUND(SUM(J13:J13),2) -> 4.32 | K11: =SUBSTITUTE(A11,1,2,1) -> 2.2.1
K12: =SUBSTITUTE(A12,1,2,1)
F13: 3.6 | G13: 1.2 | I13: 1 | J13: =ROUND(PRODUCT(E13:I13),2) -> 4.32 | K13: =SUBSTITUTE(A13,1,2,1)
K14: =SUBSTITUTE(A14,1,2,1)
A15: 2.1.2 | B15: =VLOOKUP(A15,'PLANILHA ORCAMENTARIA'!A:J,2,0) -> INS-13695818 | C15: =VLOOKUP(A15,'PLANILHA ORCAMENTARIA'!A:J,4,0) -> ALUGUEL DE BANHEIRO QUÍMICO INCLUSIVE LOCAÇÃO, TRANSPORTE E LIMPEZA | D15: =VLOOKUP(A15,'PLANILHA ORCAMENTARIA'!A:J,5,0) -> MÊS | J15: =ROUND(SUM(J18:J18),2) -> 2 | K15: =SUBSTITUTE(A15,1,2,1) -> 2.2.2
I16: QUANTIDADE DE MESES | K16: =SUBSTITUTE(A16,1,2,1)
K17: =SUBSTITUTE(A17,1,2,1)
I18: 2 | J18: =ROUND(PRODUCT(E18:I18),2) -> 2 | K18: =SUBSTITUTE(A18,1,2,1)
K19: =SUBSTITUTE(A19,1,2,1)
A20: 2.1.3 | B20: =VLOOKUP(A20,'PLANILHA ORCAMENTARIA'!A:J,2,0) -> 00010775 | C20: =VLOOKUP(A20,'PLANILHA ORCAMENTARIA'!A:J,4,0) -> LOCACAO DE CONTAINER 2,30 X 6,00 M, ALT. 2,50 M, COM 1 SANITARIO, PARA ESCRITORIO, COMPLETO, SEM DIVISORIAS INTERNAS (NAO INCLUI MOBILIZACAO/DESMOBILIZACAO) | D20: =VLOOKUP(A20,'PLANILHA ORCAMENTARIA'!A:J,5,0) -> MES | J20: =ROUND(SUM(J22:J22),2) -> 2 | K20: =SUBSTITUTE(A20,1,2,1) -> 2.2.3
I21: QUANTIDADE DE MESES | K21: =SUBSTITUTE(A21,1,2,1)
I22: =I18 -> 2 | J22: =ROUND(PRODUCT(E22:I22),2) -> 2 | K22: =SUBSTITUTE(A22,1,2,1)
K23: =SUBSTITUTE(A23,1,2,1)
A24: 2.1.4 | B24: =VLOOKUP(A24,'PLANILHA ORCAMENTARIA'!A:J,2,0) -> COMP-20511029 | C24: =VLOOKUP(A24,'PLANILHA ORCAMENTARIA'!A:J,4,0) -> MOBILIZAÇÃO DE CONTAINER_JANEIRO/2026 | D24: =VLOOKUP(A24,'PLANILHA ORCAMENTARIA'!A:J,5,0) -> UND | J24: =ROUND(SUM(J26:J26),2) -> 1 | K24: =SUBSTITUTE(A24,4,1,1) -> 2.1.1
I25: QUANTIDADE | K25: =SUBSTITUTE(A25,4,1,1)
I26: 1 | J26: =ROUND(PRODUCT(E26:I26),2) -> 1 | K26: =SUBSTITUTE(A26,4,1,1)
K27: =SUBSTITUTE(A27,4,1,1)
A28: 2.1.5 | B28: =VLOOKUP(A28,'PLANILHA ORCAMENTARIA'!A:J,2,0) -> COMP-38919866 | C28: =VLOOKUP(A28,'PLANILHA ORCAMENTARIA'!A:J,4,0) -> DESMOBILIZAÇÃO DE CONTAINER_JANEIRO/2026 | D28: =VLOOKUP(A28,'PLANILHA ORCAMENTARIA'!A:J,5,0) -> UND | J28: =ROUND(SUM(J30:J30),2) -> 1 | K28: =SUBSTITUTE(A28,4,1,1) -> 2.1.5
I29: QUANTIDADE | K29: =SUBSTITUTE(A29,4,1,1)
I30: 1 | J30: =ROUND(PRODUCT(E30:I30),2) -> 1 | K30: =SUBSTITUTE(A30,4,1,1)
K31: =SUBSTITUTE(A31,4,1,1)
A32: 2.2 | C32: ADMINISTRAÇÃO LOCAL | K32: =SUBSTITUTE(A32,1,2,1) -> 2.2
A33: 2.2.1 | B33: =VLOOKUP(A33,'PLANILHA ORCAMENTARIA'!A:J,2,0) -> 93565 | C33: =VLOOKUP(A33,'PLANILHA ORCAMENTARIA'!A:J,4,0) -> ENGENHEIRO CIVIL DE OBRA JUNIOR COM ENCARGOS COMPLEMENTARES | D33: =VLOOKUP(A33,'PLANILHA ORCAMENTARIA'!A:J,5,0) -> MES | J33: =ROUND(SUM(J35),2) -> 0.25 | K33: =SUBSTITUTE(A33,1,2,1) -> 2.2.2
C34: 2 meses de obra | K34: =SUBSTITUTE(A34,1,2,1)
C35: 2 meses de obra com 22 dias trabalhados e 1h por dia | E35: =22/176 -> 0.125 | I35: =I18 -> 2 | J35: =ROUND(PRODUCT(E35:I35),2) -> 0.25 | K35: =SUBSTITUTE(A35,1,2,1)
C36: 1 horas x 22 dias = 22 horas no mês | K36: =SUBSTITUTE(A36,1,2,1)
C37: 1 mês tem 22 dias x 8 horas = 176 horas | K37: =SUBSTITUTE(A37,1,2,1)
K38: =SUBSTITUTE(A38,1,2,1)
A39: 2.2.2 | B39: =VLOOKUP(A39,'PLANILHA ORCAMENTARIA'!A:J,2,0) -> 93572 | C39: =VLOOKUP(A39,'PLANILHA ORCAMENTARIA'!A:J,4,0) -> ENCARREGADO GERAL DE OBRAS COM ENCARGOS COMPLEMENTARES | D39: =VLOOKUP(A39,'PLANILHA ORCAMENTARIA'!A:J,5,0) -> MES | J39: =ROUND(SUM(J41),2) -> 1 | K39: =SUBSTITUTE(A39,1,2,1) -> 2.2.2
C40: 2 meses de obra | K40: =SUBSTITUTE(A40,1,2,1)
...

Sheet JOSÉ PAULINO
C1: PREFEITURA MUNICIPAL DO JABOATÃO DOS GUARARAPES
C2: SECRETARIA MUNICIPAL DE PLANEJAMENTO E GESTÃO
C3: SECRETARIA EXECUTIVA DE PROJETOS DE ARQUITETURA E URBANISMO
A4: MEMÓRIA DE CÁLCULO
A5: Objeto: ORÇAMENTO PARA PAVIMENTAÇÃO E DRENAGEM DAS RUAS JARANGUARI, GUANANBI E JOSÉ PAULINO
A6: Local: Jaboatão dos Guararapes
A7: Município: Jaboatão dos Guararapes/PE | J7: {='[9]Planilha Orçamentária'!A8:F8} -> Data: AGOSTO/2022 | K7: #REF! | L7: #REF! | M7: #REF! | N7: #REF! | O7: #REF!
A8: Item | B8: Código | C8: Descrição | D8: Und | E8: Taxa | F8: Comp. | G8: Larg. | H8: Alt. | I8: QTDE | J8: Total
A9: 1.0 | B9: RUA JARANGUARI
A10: 1.1 | C10: INSTALAÇÕES PROVISÓRIAS
A11: 3.1.1 | B11: =VLOOKUP(A11,'PLANILHA ORCAMENTARIA'!A:J,2,0) -> 103689 | C11: =VLOOKUP(A11,'PLANILHA ORCAMENTARIA'!A:J,4,0) -> FORNECIMENTO E INSTALAÇÃO DE PLACA DE OBRA COM CHAPA GALVANIZADA E ESTRUTURA DE MADEIRA. AF_03/2022_PS | D11: =VLOOKUP(A11,'PLANILHA ORCAMENTARIA'!A:J,5,0) -> M2 | F11: COMPRIMENTO | G11: LARGURA | I11: QUANTIDADE DE PLACAS | J11: =ROUND(SUM(J13:J13),2) -> 4.32 | K11: =SUBSTITUTE(A11,1,3,1) -> 3.3.1
K12: =SUBSTITUTE(A12,1,3,1)
F13: 3.6 | G13: 1.2 | I13: 1 | J13: =ROUND(PRODUCT(E13:I13),2) -> 4.32 | K13: =SUBSTITUTE(A13,1,3,1)
K14: =SUBSTITUTE(A14,1,3,1)
A15: 3.1.2 | B15: =VLOOKUP(A15,'PLANILHA ORCAMENTARIA'!A:J,2,0) -> INS-13695818 | C15: =VLOOKUP(A15,'PLANILHA ORCAMENTARIA'!A:J,4,0) -> ALUGUEL DE BANHEIRO QUÍMICO INCLUSIVE LOCAÇÃO, TRANSPORTE E LIMPEZA | D15: =VLOOKUP(A15,'PLANILHA ORCAMENTARIA'!A:J,5,0) -> MÊS | J15: =ROUND(SUM(J18:J18),2) -> 2 | K15: =SUBSTITUTE(A15,1,3,1) -> 3.3.2
I16: QUANTIDADE DE MESES | K16: =SUBSTITUTE(A16,1,3,1)
K17: =SUBSTITUTE(A17,1,3,1)
I18: 2 | J18: =ROUND(PRODUCT(E18:I18),2) -> 2 | K18: =SUBSTITUTE(A18,1,3,1)
K19: =SUBSTITUTE(A19,1,3,1)
A20: 3.1.3 | B20: =VLOOKUP(A20,'PLANILHA ORCAMENTARIA'!A:J,2,0) -> 00010775 | C20: =VLOOKUP(A20,'PLANILHA ORCAMENTARIA'!A:J,4,0) -> LOCACAO DE CONTAINER 2,30 X 6,00 M, ALT. 2,50 M, COM 1 SANITARIO, PARA ESCRITORIO, COMPLETO, SEM DIVISORIAS INTERNAS (NAO INCLUI MOBILIZACAO/DESMOBILIZACAO) | D20: =VLOOKUP(A20,'PLANILHA ORCAMENTARIA'!A:J,5,0) -> MES | J20: =ROUND(SUM(J22:J22),2) -> 2 | K20: =SUBSTITUTE(A20,1,3,1) -> 3.3.3
I21: QUANTIDADE DE MESES | K21: =SUBSTITUTE(A21,1,3,1)
I22: =I18 -> 2 | J22: =ROUND(PRODUCT(E22:I22),2) -> 2 | K22: =SUBSTITUTE(A22,1,3,1)
K23: =SUBSTITUTE(A23,1,3,1)
A24: 3.1.4 | B24: =VLOOKUP(A24,'PLANILHA ORCAMENTARIA'!A:J,2,0) -> COMP-20511029 | C24: =VLOOKUP(A24,'PLANILHA ORCAMENTARIA'!A:J,4,0) -> MOBILIZAÇÃO DE CONTAINER_JANEIRO/2026 | D24: =VLOOKUP(A24,'PLANILHA ORCAMENTARIA'!A:J,5,0) -> UND | J24: =ROUND(SUM(J26:J26),2) -> 1 | K24: =SUBSTITUTE(A24,4,1,1) -> 3.1.1
I25: QUANTIDADE | K25: =SUBSTITUTE(A25,4,1,1)
I26: 1 | J26: =ROUND(PRODUCT(E26:I26),2) -> 1 | K26: =SUBSTITUTE(A26,4,1,1)
K27: =SUBSTITUTE(A27,4,1,1)
A28: 3.1.5 | B28: =VLOOKUP(A28,'PLANILHA ORCAMENTARIA'!A:J,2,0) -> COMP-38919866 | C28: =VLOOKUP(A28,'PLANILHA ORCAMENTARIA'!A:J,4,0) -> DESMOBILIZAÇÃO DE CONTAINER_JANEIRO/2026 | D28: =VLOOKUP(A28,'PLANILHA ORCAMENTARIA'!A:J,5,0) -> UND | J28: =ROUND(SUM(J30:J30),2) -> 1 | K28: =SUBSTITUTE(A28,4,1,1) -> 3.1.5
I29: QUANTIDADE | K29: =SUBSTITUTE(A29,4,1,1)
I30: 1 | J30: =ROUND(PRODUCT(E30:I30),2) -> 1 | K30: =SUBSTITUTE(A30,4,1,1)
K31: =SUBSTITUTE(A31,4,1,1)
A32: 3.2 | C32: ADMINISTRAÇÃO LOCAL | K32: =SUBSTITUTE(A32,1,3,1) -> 3.2
A33: 3.2.1 | B33: =VLOOKUP(A33,'PLANILHA ORCAMENTARIA'!A:J,2,0) -> 93565 | C33: =VLOOKUP(A33,'PLANILHA ORCAMENTARIA'!A:J,4,0) -> ENGENHEIRO CIVIL DE OBRA JUNIOR COM ENCARGOS COMPLEMENTARES | D33: =VLOOKUP(A33,'PLANILHA ORCAMENTARIA'!A:J,5,0) -> MES | J33: =ROUND(SUM(J35),2) -> 0.25 | K33: =SUBSTITUTE(A33,1,3,1) -> 3.2.3
C34: 2 meses de obra | K34: =SUBSTITUTE(A34,1,3,1)
C35: 2 meses de obra com 22 dias trabalhados e 1h por dia | E35: =22/176 -> 0.125 | I35: =I18 -> 2 | J35: =ROUND(PRODUCT(E35:I35),2) -> 0.25 | K35: =SUBSTITUTE(A35,1,3,1)
C36: 1 horas x 22 dias = 22 horas no mês | K36: =SUBSTITUTE(A36,1,3,1)
C37: 1 mês tem 22 dias x 8 horas = 176 horas | K37: =SUBSTITUTE(A37,1,3,1)
K38: =SUBSTITUTE(A38,1,3,1)
A39: 3.2.2 | B39: =VLOOKUP(A39,'PLANILHA ORCAMENTARIA'!A:J,2,0) -> 93572 | C39: =VLOOKUP(A39,'PLANILHA ORCAMENTARIA'!A:J,4,0) -> ENCARREGADO GERAL DE OBRAS COM ENCARGOS COMPLEMENTARES | D39: =VLOOKUP(A39,'PLANILHA ORCAMENTARIA'!A:J,5,0) -> MES | J39: =ROUND(SUM(J41),2) -> 1 | K39: =SUBSTITUTE(A39,1,3,1) -> 3.2.2
C40: 2 meses de obra | K40: =SUBSTITUTE(A40,1,3,1)
...

Sheet COMPOSICOES PROPRIAS
A3: INS-13695818 ALUGUEL DE BANHEIRO QUÍMICO INCLUSIVE LOCAÇÃO, TRANSPORTE E LIMPEZA (MÊS)
A4: Cotação | C4: FONTE | D4: UNID | E4: COEFICIENTE | F4: PREÇO UNITÁRIO | G4: TOTAL
A5: INS-13695818 | B5: ALUGUEL DE BANHEIRO QUÍMICO INCLUSIVE LOCAÇÃO, TRANSPORTE E LIMPEZA | C5: Composições | D5: MÊS | E5: 1 | F5: 1200 | G5: =ROUND(ROUND(E5,8)*F5,2) -> 1200
E6: TOTAL Cotação: | G6: =SUM(G5:G5) -> 1200
E7: VALOR: | G7: =ROUND(SUM(G6),2) -> 1200
A9: COMP-20511029 MOBILIZAÇÃO DE CONTAINER_JANEIRO/2026 (UND)
A10: Cotação | C10: FONTE | D10: UNID | E10: COEFICIENTE | F10: PREÇO UNITÁRIO | G10: TOTAL
A11: COMP-20511029 | B11: MOBILIZAÇÃO DE CONTAINER_JANEIRO/2026 | C11: Composições | D11: UND | E11: 1 | F11: 883.33 | G11: =ROUND(ROUND(E11,8)*F11,2) -> 883.33
E12: TOTAL Cotação: | G12: =SUM(G11:G11) -> 883.33
E13: VALOR: | G13: =ROUND(SUM(G12),2) -> 883.33
A15: COMP-38919866 DESMOBILIZAÇÃO DE CONTAINER_JANEIRO/2026 (UND)
A16: Cotação | C16: FONTE | D16: UNID | E16: COEFICIENTE | F16: PREÇO UNITÁRIO | G16: TOTAL
A17: COMP-38919866 | B17: DESMOBILIZAÇÃO DE CONTAINER_JANEIRO/2026 | C17: Composições | D17: UND | E17: 1 | F17: 883.33 | G17: =ROUND(ROUND(E17,8)*F17,2) -> 883.33
E18: TOTAL Cotação: | G18: =SUM(G17:G17) -> 883.33
E19: VALOR: | G19: =ROUND(SUM(G18),2) -> 883.33
A21: CP-94296-25656932 TOPOGRAFO COM ENCARGOS COMPLEMENTARES (MES)
A22: Encargos Complementares | C22: FONTE | D22: UNID | E22: COEFICIENTE | F22: PREÇO UNITÁRIO | G22: TOTAL
A23: 00043505 | B23: EPI - FAMILIA TOPOGRAFO - MENSALISTA (ENCARGOS COMPLEMENTARES - COLETADO CAIXA) | C23: SINAPI | D23: MES | E23: 1 | F23: 138.98 | G23: =ROUND(ROUND(E23,8)*F23,2) -> 138.98
A24: 00040863 | B24: EXAMES - MENSALISTA (COLETADO CAIXA - ENCARGOS COMPLEMENTARES) | C24: SINAPI | D24: MES | E24: 1 | F24: 270.51 | G24: =ROUND(ROUND(E24,8)*F24,2) -> 270.51
A25: 00043481 | B25: FERRAMENTAS - FAMILIA TOPOGRAFO - MENSALISTA (ENCARGOS COMPLEMENTARES - COLETADO CAIXA) | C25: SINAPI | D25: MES | E25: 1 | F25: 9.89 | G25: =ROUND(ROUND(E25,8)*F25,2) -> 9.89
A26: 00040864 | B26: SEGURO - MENSALISTA (COLETADO CAIXA - ENCARGOS COMPLEMENTARES) | C26: SINAPI | D26: MES | E26: 1 | F26: 15.46 | G26: =ROUND(ROUND(E26,8)*F26,2) -> 15.46
E27: TOTAL Encargos Complementares: | G27: =SUM(G23:G26) -> 434.84
A28: Equipamento | C28: FONTE | D28: UNID | E28: COEFICIENTE | F28: PREÇO UNITÁRIO | G28: TOTAL
A29: 00007252 | B29: LOCACAO DE NIVEL OPTICO, COM PRECISAO DE 0,7 MM, AUMENTO DE 32X | C29: SINAPI | D29: H | E29: 220 | F29: 2.48 | G29: =ROUND(ROUND(E29,8)*F29,2) -> 545.6
A30: 00007247 | B30: LOCACAO DE TEODOLITO ELETRONICO, PRECISAO ANGULAR DE 5 A 7 SEGUNDOS, INCLUINDO TRIPE | C30: SINAPI | D30: H | E30: 220 | F30: 2.48 | G30: =ROUND(ROUND(E30,8)*F30,2) -> 545.6
E31: TOTAL Equipamento: | G31: =SUM(G29:G30) -> 1091.2
A32: Mão de Obra | C32: FONTE | D32: UNID | E32: COEFICIENTE | F32: PREÇO UNITÁRIO | G32: TOTAL
A33: 00040820 | B33: TOPOGRAFO (MENSALISTA) | C33: SINAPI | D33: MES | E33: 1 | F33: 5471.41 | G33: =ROUND(ROUND(E33,8)*F33,2) -> 5471.41
E34: TOTAL Mão de Obra: | G34: =SUM(G33:G33) -> 5471.41
A35: Serviço | C35: FONTE | D35: UNID | E35: COEFICIENTE | F35: PREÇO UNITÁRIO | G35: TOTAL
A36: 95424 | B36: CURSO DE CAPACITAÇÃO PARA TOPÓGRAFO (ENCARGOS COMPLEMENTARES) - MENSALISTA | C36: SINAPI | D36: MES | E36: 1 | F36: 34.25 | G36: =ROUND(ROUND(E36,8)*F36,2) -> 34.25
E37: TOTAL Serviço: | G37: =SUM(G36:G36) -> 34.25
E38: VALOR: | G38: =ROUND(SUM(G27,G31,G34,G37),2) -> 7031.7
A40: CP-74205/001-17324935 ESCAVAÇÃO MECÂNICA DE MATERIAL 1A. CATEGORIA, PROVENIENTE DE CORTE DE SUBLEITO (C/TRATOR ESTEIRAS 160HP) (M3)
A41: Equipamento Custo Horário | C41: FONTE | D41: UNID | E41: COEFICIENTE | F41: PREÇO UNITÁRIO | G41: TOTAL
A42: 5847 | B42: TRATOR DE ESTEIRAS, POTÊNCIA 170 HP, PESO OPERACIONAL 19 T, CAÇAMBA 5,2 M3 - CHP DIURNO. AF_06/2014 | C42: SINAPI | D42: CHP | E42: 0.00794 | F42: 280.26 | G42: =ROUND(ROUND(E42,8)*F42,2) -> 2.23
E43: TOTAL Equipamento Custo Horário: | G43: =SUM(G42:G42) -> 2.23
A44: Mão de Obra com Encargos Complementares | C44: FONTE | D44: UNID | E44: COEFICIENTE | F44: PREÇO UNITÁRIO | G44: TOTAL
A45: 88316 | B45: SERVENTE COM ENCARGOS COMPLEMENTARES | C45: SINAPI | D45: H | E45: 0.0069 | F45: 24.08 | G45: =ROUND(ROUND(E45,8)*F45,2) -> 0.17
E46: TOTAL Mão de Obra com Encargos Complementares: | G46: =SUM(G45:G45) -> 0.17
...

Sheet COMPOSICOES AUXILIARES
A3: 88629 ARGAMASSA TRAÇO 1:3 (EM VOLUME DE CIMENTO E AREIA MÉDIA ÚMIDA), PREPARO MANUAL. AF_08/2019 (M3)
A4: Material | D4: FONTE | F4: UNID | G4: COEFICIENTE | I4: PREÇO UNITÁRIO | K4: TOTAL
A5: 00000370 | B5: AREIA MEDIA - POSTO JAZIDA/FORNECEDOR (RETIRADO NA JAZIDA, SEM TRANSPORTE) | D5: SINAPI | F5: M3 | G5: 1.07 | I5: 145 | K5: =ROUND(ROUND(G5,8)*I5,2) -> 155.15
A6: 00001379 | B6: CIMENTO PORTLAND COMPOSTO CP II-32 | D6: SINAPI | F6: KG | G6: 482.96 | I6: 0.84 | K6: =ROUND(ROUND(G6,8)*I6,2) -> 405.69
G7: TOTAL Material: | K7: =SUM(K5:K6) -> 560.84
A8: Mão de Obra com Encargos Complementares | D8: FONTE | F8: UNID | G8: COEFICIENTE | I8: PREÇO UNITÁRIO | K8: TOTAL
A9: 88316 | B9: SERVENTE COM ENCARGOS COMPLEMENTARES | D9: SINAPI | F9: H | G9: 8.57 | I9: 24.08 | K9: =ROUND(ROUND(G9,8)*I9,2) -> 206.37
G10: TOTAL Mão de Obra com Encargos Complementares: | K10: =SUM(K9:K9) -> 206.37
G11: VALOR: | K11: =ROUND(SUM(K7,K10),2) -> 767.21
A13: 88245 ARMADOR COM ENCARGOS COMPLEMENTARES (H)
A14: Encargos Complementares | D14: FONTE | F14: UNID | G14: COEFICIENTE | I14: PREÇO UNITÁRIO | K14: TOTAL
A15: 00037370 | B15: ALIMENTACAO - HORISTA (COLETADO CAIXA - ENCARGOS COMPLEMENTARES) | D15: SINAPI | F15: H | G15: 1 | I15: 2.79 | K15: =ROUND(ROUND(G15,8)*I15,2) -> 2.79
A16: 00043489 | B16: EPI - FAMILIA PEDREIRO - HORISTA (ENCARGOS COMPLEMENTARES - COLETADO CAIXA) | D16: SINAPI | F16: H | G16: 1 | I16: 1.31 | K16: =ROUND(ROUND(G16,8)*I16,2) -> 1.31
A17: 00037372 | B17: EXAMES - HORISTA (COLETADO CAIXA - ENCARGOS COMPLEMENTARES) | D17: SINAPI | F17: H | G17: 1 | I17: 1.43 | K17: =ROUND(ROUND(G17,8)*I17,2) -> 1.43
A18: 00043465 | B18: FERRAMENTAS - FAMILIA PEDREIRO - HORISTA (ENCARGOS COMPLEMENTARES - COLETADO CAIXA) | D18: SINAPI | F18: H | G18: 1 | I18: 0.78 | K18: =ROUND(ROUND(G18,8)*I18,2) -> 0.78
A19: 00037373 | B19: SEGURO - HORISTA (COLETADO CAIXA - ENCARGOS COMPLEMENTARES) | D19: SINAPI | F19: H | G19: 1 | I19: 0.08 | K19: =ROUND(ROUND(G19,8)*I19,2) -> 0.08
A20: 00037371 | B20: TRANSPORTE - HORISTA (COLETADO CAIXA - ENCARGOS COMPLEMENTARES) | D20: SINAPI | F20: H | G20: 1 | I20: 0.54 | K20: =ROUND(ROUND(G20,8)*I20,2) -> 0.54
G21: TOTAL Encargos Complementares: | K21: =SUM(K15:K20) -> 6.93
A22: Mão de Obra | D22: FONTE | F22: UNID | G22: COEFICIENTE | I22: PREÇO UNITÁRIO | K22: TOTAL
A23: 00000378 | B23: ARMADOR (HORISTA) | D23: SINAPI | F23: H | G23: 1 | I23: 22.45 | K23: =ROUND(ROUND(G23,8)*I23,2) -> 22.45
G24: TOTAL Mão de Obra: | K24: =SUM(K23:K23) -> 22.45
A25: Serviço | D25: FONTE | F25: UNID | G25: COEFICIENTE | I25: PREÇO UNITÁRIO | K25: TOTAL
A26: 95314 | B26: CURSO DE CAPACITAÇÃO PARA ARMADOR (ENCARGOS COMPLEMENTARES) - HORISTA | D26: SINAPI | F26: H | G26: 1 | I26: 0.25 | K26: =ROUND(ROUND(G26,8)*I26,2) -> 0.25
G27: TOTAL Serviço: | K27: =SUM(K26:K26) -> 0.25
G28: VALOR: | K28: =ROUND(SUM(K21,K24,K27),2) -> 29.63
A30: 88246 ASSENTADOR DE TUBOS COM ENCARGOS COMPLEMENTARES (H)
A31: Encargos Complementares | D31: FONTE | F31: UNID | G31: COEFICIENTE | I31: PREÇO UNITÁRIO | K31: TOTAL
A32: 00037370 | B32: ALIMENTACAO - HORISTA (COLETADO CAIXA - ENCARGOS COMPLEMENTARES) | D32: SINAPI | F32: H | G32: 1 | I32: 2.79 | K32: =ROUND(ROUND(G32,8)*I32,2) -> 2.79
A33: 00043488 | B33: EPI - FAMILIA OPERADOR ESCAVADEIRA - HORISTA (ENCARGOS COMPLEMENTARES - COLETADO CAIXA) | D33: SINAPI | F33: H | G33: 1 | I33: 0.89 | K33: =ROUND(ROUND(G33,8)*I33,2) -> 0.89
A34: 00037372 | B34: EXAMES - HORISTA (COLETADO CAIXA - ENCARGOS COMPLEMENTARES) | D34: SINAPI | F34: H | G34: 1 | I34: 1.43 | K34: =ROUND(ROUND(G34,8)*I34,2) -> 1.43
A35: 00043464 | B35: FERRAMENTAS - FAMILIA OPERADOR ESCAVADEIRA - HORISTA (ENCARGOS COMPLEMENTARES - COLETADO CAIXA) | D35: SINAPI | F35: H | G35: 1 | I35: 0.01 | K35: =ROUND(ROUND(G35,8)*I35,2) -> 0.01
A36: 00037373 | B36: SEGURO - HORISTA (COLETADO CAIXA - ENCARGOS COMPLEMENTARES) | D36: SINAPI | F36: H | G36: 1 | I36: 0.08 | K36: =ROUND(ROUND(G36,8)*I36,2) -> 0.08
A37: 00037371 | B37: TRANSPORTE - HORISTA (COLETADO CAIXA - ENCARGOS COMPLEMENTARES) | D37: SINAPI | F37: H | G37: 1 | I37: 0.54 | K37: =ROUND(ROUND(G37,8)*I37,2) -> 0.54
G38: TOTAL Encargos Complementares: | K38: =SUM(K32:K37) -> 5.74
A39: Mão de Obra | D39: FONTE | F39: UNID | G39: COEFICIENTE | I39: PREÇO UNITÁRIO | K39: TOTAL
A40: 00040331 | B40: ASSENTADOR DE MANILHAS (HORISTA) | D40: SINAPI | F40: H | G40: 1 | I40: 12.8 | K40: =ROUND(ROUND(G40,8)*I40,2) -> 12.8
G41: TOTAL Mão de Obra: | K41: =SUM(K40:K40) -> 12.8
A42: Serviço | D42: FONTE | F42: UNID | G42: COEFICIENTE | I42: PREÇO UNITÁRIO | K42: TOTAL
A43: 95315 | B43: CURSO DE CAPACITAÇÃO PARA ASSENTADOR DE TUBOS (ENCARGOS COMPLEMENTARES) - HORISTA | D43: SINAPI | F43: H | G43: 1 | I43: 0.18 | K43: =ROUND(ROUND(G43,8)*I43,2) -> 0.18
G44: TOTAL Serviço: | K44: =SUM(K43:K43) -> 0.18
...

Sheet CURVA ABC SERVICOS
A3: CÓDIGO | B3: DESCRIÇÃO | C3: FONTE | D3: TIPO | E3: UNIDADE | F3: QUANTIDADE | G3: PREÇO UNITÁRIO | H3: PREÇO TOTAL | I3: % | J3: ACUMUL. % | K3: CL
A4: 00036170 | B4: BLOQUETE/PISO INTERTRAVADO DE CONCRETO - MODELO ONDA/16 FACES/RETANGULAR/TIJOLINHO/PAVER/HOLANDES/PARALELEPIPEDO, *20 X 10* CM, E = 8 CM, RESISTENCIA DE 35 MPA, COR NATURAL | C4: SINAPI | D4: Material | E4: M2 | F4: 2117 | G4: 71 | H4: =ROUND(F4*G4,2) -> 150307 | I4: =H4/VALOR_TOTAL*100 -> 19.237283 | J4: =I4 -> 19.237283 | K4: =IF(J4<=80,"A",IF(J4<=90,"B","C")) -> A
A5: 105730 | B5: CONSTRUÇÃO DE BASE E SUB-BASE PARA PAVIMENTAÇÃO DE BRITA GRADUADA SIMPLES, COM ESPESSURA DE 20 CM - EXCLUSIVE CARGA E TRANSPORTE. AF_09/2024 | C5: SINAPI | D5: Serviço | E5: M3 | F5: 547.17 | G5: 204.49 | H5: =ROUND(F5*G5,2) -> 111890.79 | I5: =H5/VALOR_TOTAL*100 -> 14.320523 | J5: =I5+J4 -> 33.557806 | K5: =IF(J5<=80,"A",IF(J5<=90,"B","C")) -> A
A6: 94273 | B6: ASSENTAMENTO DE GUIA (MEIO-FIO) EM TRECHO RETO, CONFECCIONADA EM CONCRETO PRÉ-FABRICADO, DIMENSÕES 100X15X13X30 CM (COMPRIMENTO X BASE INFERIOR X BASE SUPERIOR X ALTURA). AF_01/2024 | C6: SINAPI | D6: Serviço | E6: M | F6: 1371.96 | G6: 61.87 | H6: =ROUND(F6*G6,2) -> 84883.17 | I6: =H6/VALOR_TOTAL*100 -> 10.863909 | J6: =I6+J5 -> 44.421715 | K6: =IF(J6<=80,"A",IF(J6<=90,"B","C")) -> A
A7: CP-92399-27762594 | B7: EXECUÇÃO DE VIA EM PISO INTERTRAVADO, COM BLOCO RETANGULAR COR NATURAL/COLORIDO DE 20 X 10 CM, ESPESSURA 8 CM - (SEM O MATERIAL BLOQUETE/PISO INTERTRAVADO) | C7: Composições | D7: Serviço | E7: M2 | F7: 2735.83 | G7: 28.16 | H7: =ROUND(F7*G7,2) -> 77040.97 | I7: =H7/VALOR_TOTAL*100 -> 9.8602125 | J7: =I7+J6 -> 54.281928 | K7: =IF(J7<=80,"A",IF(J7<=90,"B","C")) -> A
A8: 00036154 | B8: BLOQUETE/PISO INTERTRAVADO DE CONCRETO - MODELO ONDA/16 FACES/RETANGULAR/TIJOLINHO/PAVER/HOLANDES/PARALELEPIPEDO, *20 X 10* CM, E = 8 CM, RESISTENCIA DE 35 MPA, COLORIDO | C8: SINAPI | D8: Material | E8: M2 | F8: 644.93 | G8: 93.92 | H8: =ROUND(F8*G8,2) -> 60571.83 | I8: =H8/VALOR_TOTAL*100 -> 7.7523831 | J8: =I8+J7 -> 62.034311 | K8: =IF(J8<=80,"A",IF(J8<=90,"B","C")) -> A
A9: 95876 | B9: TRANSPORTE COM CAMINHÃO BASCULANTE DE 14 M³, EM VIA URBANA PAVIMENTADA, DMT ATÉ 30 KM (UNIDADE: M3XKM). AF_07/2020 | C9: SINAPI | D9: Serviço | E9: M3XKM | F9: 14365.21 | G9: 2.55 | H9: =ROUND(F9*G9,2) -> 36631.29 | I9: =H9/VALOR_TOTAL*100 -> 4.6883146 | J9: =I9+J8 -> 66.722625 | K9: =IF(J9<=80,"A",IF(J9<=90,"B","C")) -> A
A10: 97896 | B10: CAIXA ENTERRADA HIDRÁULICA RETANGULAR, EM CONCRETO PRÉ-MOLDADO, DIMENSÕES INTERNAS: 0,4X0,4X0,4 M. AF_12/2020 | C10: SINAPI | D10: Serviço | E10: UN | F10: 96 | G10: 332.84 | H10: =ROUND(F10*G10,2) -> 31952.64 | I10: =H10/VALOR_TOTAL*100 -> 4.08951 | J10: =I10+J9 -> 70.812135 | K10: =IF(J10<=80,"A",IF(J10<=90,"B","C")) -> A
A11: 93572 | B11: ENCARREGADO GERAL DE OBRAS COM ENCARGOS COMPLEMENTARES | C11: SINAPI | D11: Mão de Obra com Encargos Complementares | E11: MES | F11: 3 | G11: 9964.61 | H11: =ROUND(F11*G11,2) -> 29893.83 | I11: =H11/VALOR_TOTAL*100 -> 3.8260099 | J11: =I11+J10 -> 74.638145 | K11: =IF(J11<=80,"A",IF(J11<=90,"B","C")) -> A
A12: 93358 | B12: ESCAVAÇÃO MANUAL DE VALA. AF_09/2024 | C12: SINAPI | D12: Serviço | E12: M3 | F12: 233 | G12: 111.99 | H12: =ROUND(F12*G12,2) -> 26093.67 | I12: =H12/VALOR_TOTAL*100 -> 3.3396403 | J12: =I12+J11 -> 77.977786 | K12: =IF(J12<=80,"A",IF(J12<=90,"B","C")) -> A
A13: 93565 | B13: ENGENHEIRO CIVIL DE OBRA JUNIOR COM ENCARGOS COMPLEMENTARES | C13: SINAPI | D13: Mão de Obra com Encargos Complementares | E13: MES | F13: 0.75 | G13: 27222.79 | H13: =ROUND(F13*G13,2) -> 20417.09 | I13: =H13/VALOR_TOTAL*100 -> 2.6131141 | J13: =I13+J12 -> 80.5909 | K13: =IF(J13<=80,"A",IF(J13<=90,"B","C")) -> B
A14: 102264 | B14: TUBO DE PVC BRANCO PARA REDE COLETORA DE ESGOTO CONDOMINIAL DE PAREDE MACIÇA, DN 100 MM, JUNTA ELÁSTICA - FORNECIMENTO E ASSENTAMENTO. AF_01/2021 | C14: SINAPI | D14: Serviço | E14: M | F14: 907.88 | G14: 20.35 | H14: =ROUND(F14*G14,2) -> 18475.36 | I14: =H14/VALOR_TOTAL*100 -> 2.3645987 | J14: =I14+J13 -> 82.955499 | K14: =IF(J14<=80,"A",IF(J14<=90,"B","C")) -> B
A15: COMP-35145154 | B15: CARGA E DESCARGA MECANICA DE SOLO UTILIZANDO CAMINHAO BASCULANTE 14,0M3/36T E PA CARREGADEIRA SOBRE PNEUS 128 HP, CAPACIDADE DA CAÇAMBA 1,7 A 2,8 M3, PESO OPERACIONAL 11632 KH | C15: Composições | D15: Serviço | E15: M³ | F15: 4760.73 | G15: 2.96 | H15: =ROUND(F15*G15,2) -> 14091.76 | I15: =H15/VALOR_TOTAL*100 -> 1.8035566 | J15: =I15+J14 -> 84.759055 | K15: =IF(J15<=80,"A",IF(J15<=90,"B","C")) -> B
A16: CP-94296-25656932 | B16: TOPOGRAFO COM ENCARGOS COMPLEMENTARES | C16: Composições | D16: Mão de Obra com Encargos Complementares | E16: MES | F16: 1.5 | G16: 8267.17 | H16: =ROUND(F16*G16,2) -> 12400.76 | I16: =H16/VALOR_TOTAL*100 -> 1.5871312 | J16: =I16+J15 -> 86.346186 | K16: =IF(J16<=80,"A",IF(J16<=90,"B","C")) -> B
... A33: COMP-58084869 | B33: PLACA ESMALTADA PARA IDENTIFICAÇÃO NR DE RUA, DIMENSÕES 45X25CM | C33: Composições | D33: Serviço | E33: UND | F33: 3 | G33: 167.97 | H33: =ROUND(F33*G33,2) -> 503.91 | I33: =H33/VALOR_TOTAL*100 -> 0.064493732 | J33: =I33+J32 -> 99.999995 | K33: =IF(J33<=80,"A",IF(J33<=90,"B","C")) -> C
G35: ="Subtotal até "&TRUNC(J33,2)&"%" -> Subtotal até 99,99% | I35: =SUM(H4:H33) -> 781331.7
G36: Outros: | I36: =I37-I35 -> 0.04
G37: Valor total do Orçamento: | I37: 781331.74
A38: EVERALDO MERGULHÃO - CREA Nº 1818551071

Sheet CRONOGRAMA
A2: ITEM | B2: DESCRIÇÃO | C2: % | D2: VALOR (R$) | E2: MÊS 1 | G2: MÊS 2 | I2: MÊS 3 | K2: MÊS 4 | N2: MÊS 5 | P2: MÊS 6 | R2: Total parcela
E3: % | F3: R$ | G3: % | H3: R$ | I3: % | J3: R$ | K3: % | L3: R$ | N3: % | O3: R$ | P3: % | Q3: R$ | R3: % | S3: R$
A4: 1 | B4: RUA JARANGUARI | C4: =D4/C7*100 -> 38.052202 | D4: 297313.93 | E4: 50.4 | F4: =IF(E4>0,IF(AND(SUM(0,E4)=100,R4=100),D4-SUM(0),ROUND(D4*E4/100,2)),"") -> 149846.22 | G4: 49.6 | H4: =IF(G4>0,IF(AND(SUM(0,E4,G4)=100,R4=100),D4-SUM(0,F4),ROUND(D4*G4/100,2)),"") -> 147467.71 | J4: =IF(I4>0,IF(AND(SUM(0,E4,G4,I4)=100,R4=100),D4-SUM(0,F4,H4),ROUND(D4*I4/100,2)),"") | L4: =IF(K4>0,IF(AND(SUM(0,E4,G4,I4,K4)=100,R4=100),D4-SUM(0,F4,H4,J4),ROUND(D4*K4/100,2)),"") | O4: =IF(N4>0,IF(AND(SUM(0,E4,G4,I4,K4,N4)=100,R4=100),D4-SUM(0,F4,H4,J4,L4),ROUND(D4*N4/100,2)),"") | Q4: =IF(P4>0,IF(AND(SUM(0,E4,G4,I4,K4,N4,P4)=100,R4=100),D4-SUM(0,F4,H4,J4,L4,O4),ROUND(D4*P4/100,2)),"") | R4: =SUM(0,E4,G4,I4,K4,N4,P4) -> 100 | S4: =SUM(0,F4,H4,J4,L4,O4,Q4) -> 297313.93
A5: 2 | B5: RUA GUANANBI | C5: =D5/C7*100 -> 35.382283 | D5: 276453.01 | F5: =IF(E5>0,IF(AND(SUM(0,E5)=100,R5=100),D5-SUM(0),ROUND(D5*E5/100,2)),"") | H5: =IF(G5>0,IF(AND(SUM(0,E5,G5)=100,R5=100),D5-SUM(0,F5),ROUND(D5*G5/100,2)),"") | I5: 50 | J5: =IF(I5>0,IF(AND(SUM(0,E5,G5,I5)=100,R5=100),D5-SUM(0,F5,H5),ROUND(D5*I5/100,2)),"") -> 138226.51 | K5: 50 | L5: =IF(K5>0,IF(AND(SUM(0,E5,G5,I5,K5)=100,R5=100),D5-SUM(0,F5,H5,J5),ROUND(D5*K5/100,2)),"") -> 138226.5 | O5: =IF(N5>0,IF(AND(SUM(0,E5,G5,I5,K5,N5)=100,R5=100),D5-SUM(0,F5,H5,J5,L5),ROUND(D5*N5/100,2)),"") | Q5: =IF(P5>0,IF(AND(SUM(0,E5,G5,I5,K5,N5,P5)=100,R5=100),D5-SUM(0,F5,H5,J5,L5,O5),ROUND(D5*P5/100,2)),"") | R5: =SUM(0,E5,G5,I5,K5,N5,P5) -> 100 | S5: =SUM(0,F5,H5,J5,L5,O5,Q5) -> 276453.01
A6: 3 | B6: RUA JOSÉ PAULINO | C6: =D6/C7*100 -> 26.565515 | D6: 207564.8 | F6: =IF(E6>0,IF(AND(SUM(0,E6)=100,R6=100),D6-SUM(0),ROUND(D6*E6/100,2)),"") | H6: =IF(G6>0,IF(AND(SUM(0,E6,G6)=100,R6=100),D6-SUM(0,F6),ROUND(D6*G6/100,2)),"") | J6: =IF(I6>0,IF(AND(SUM(0,E6,G6,I6)=100,R6=100),D6-SUM(0,F6,H6),ROUND(D6*I6/100,2)),"") | L6: =IF(K6>0,IF(AND(SUM(0,E6,G6,I6,K6)=100,R6=100),D6-SUM(0,F6,H6,J6),ROUND(D6*K6/100,2)),"") | N6: 50 | O6: =IF(N6>0,IF(AND(SUM(0,E6,G6,I6,K6,N6)=100,R6=100),D6-SUM(0,F6,H6,J6,L6),ROUND(D6*N6/100,2)),"") -> 103782.4 | P6: 50 | Q6: =IF(P6>0,IF(AND(SUM(0,E6,G6,I6,K6,N6,P6)=100,R6=100),D6-SUM(0,F6,H6,J6,L6,O6),ROUND(D6*P6/100,2)),"") -> 103782.4 | R6: =SUM(0,E6,G6,I6,K6,N6,P6) -> 100 | S6: =SUM(0,F6,H6,J6,L6,O6,Q6) -> 207564.8
C7: =SUM(D4,D5,D6) -> 781331.74 | E7: =F7/C7*100 -> 19.17831 | F7: =SUM(F4,F5,F6) -> 149846.22 | G7: =H7/C7*100 -> 18.873892 | H7: =SUM(H4,H5,H6) -> 147467.71 | I7: =J7/C7*100 -> 17.691142 | J7: =SUM(J4,J5,J6) -> 138226.51 | K7: =L7/C7*100 -> 17.691141 | L7: =SUM(L4,L5,L6) -> 138226.5 | N7: =O7/C7*100 -> 13.282757 | O7: =SUM(O4,O5,O6) -> 103782.4 | P7: =Q7/C7*100 -> 13.282757 | Q7: =SUM(Q4,Q5,Q6) -> 103782.4 | S7: =Q8 -> 781331.74
E8: =F8/C7*100 -> 19.17831 | F8: =F7 -> 149846.22 | G8: =H8/C7*100 -> 38.052202 | H8: =H7+F8 -> 297313.93 | I8: =J8/C7*100 -> 55.743344 | J8: =J7+H8 -> 435540.44 | K8: =L8/C7*100 -> 73.434485 | L8: =L7+J8 -> 573766.94 | N8: =O8/C7*100 -> 86.717243 | O8: =O7+L8 -> 677549.34 | P8: =Q8/C7*100 -> 100 | Q8: =Q7+O8 -> 781331.74
A9: EVERALDO MERGULHÃO - CREA Nº 1818551071

Sheet BDI
A3: COD | B3: DESCRIÇÃO | C3: %
B5: Benefício
A6: S + G | B6: Garantia/seguros | C6: 0.32
A7: L | B7: Lucro | C7: 2.73
B8: TOTAL | C8: 3.05
B11: Despesas Indiretas
A12: AC | B12: Administração central | C12: 3.8
A13: DF | B13: Despesas financeiras | C13: 1.02
A14: R | B14: Riscos | C14: 0.5
B15: TOTAL | C15: 5.32
A18: I | B18: Impostos
B19: COFINS | C19: 3
B20: ISS | C20: 4
B21: PIS | C21: 0.65
B22: TOTAL | C22: 7.65
B24: BDI = 17,57%
A27: COD | B27: DESCRIÇÃO | C27: %
B29: Benefício
A30: S + G | B30: Garantia/seguros | C30: 0.3
A31: L | B31: Lucro | C31: 2.73
B32: TOTAL | C32: 3.03
B35: Despesas Indiretas
A36: AC | B36: Administração central | C36: 1.5
A37: DF | B37: Despesas financeiras | C37: 0.85
A38: R | B38: Riscos | C38: 0.56
B39: TOTAL | C39: 2.91
A42: I | B42: Impostos
B43: COFINS | C43: 3
B44: PIS | C44: 0.65
B45: TOTAL | C45: 3.65
B47: BDI = 10,07%
A49: EVERALDO MERGULHÃO - CREA Nº 1818551071

Sheet ENCARGOS SOCIAIS
A3: COD | B3: DESCRIÇÃO | C3: HORISTA % | E3: MENSALISTA %
A5: A | B5: GRUPO A
A6: A1 | B6: INSS | C6: 20 | E6: 20
A7: A2 | B7: SESI | C7: 1.5 | E7: 1.5
A8: A3 | B8: SENAI | C8: 1 | E8: 1
A9: A4 | B9: INCRA | C9: 0.2 | E9: 0.2
A10: A5 | B10: SEBRAE | C10: 0.6 | E10: 0.6
A11: A6 | B11: Salário Educação | C11: 2.5 | E11: 2.5
A12: A7 | B12: Seguro Contra Acidentes de Trabalho | C12: 3 | E12: 3
A13: A8 | B13: FGTS | C13: 8 | E13: 8
A14: A9 | B14: SECONCI | C14: 0 | E14: 0
B15: TOTAL | C15: 36.8 | E15: 36.8
A17: B | B17: GRUPO B
A18: B1 | B18: Repouso Semanal Remunerado | C18: 18.01 | E18: 0
A19: B2 | B19: Feriados | C19: 4.32 | E19: 0
A20: B3 | B20: Auxílio - Enfermidade | C20: 0.86 | E20: 0.65
A21: B4 | B21: 13º Salário | C21: 10.97 | E21: 8.33
A22: B5 | B22: Licença Paternidade | C22: 0.07 | E22: 0.05
A23: B6 | B23: Faltas Justificadas | C23: 0.73 | E23: 0.56
A24: B7 | B24: Dias de Chuvas | C24: 1.96 | E24: 0
A25: B8 | B25: Auxílio Acidente de Trabalho | C25: 0.1 | E25: 0.07
A26: B9 | B26: Férias Gozadas | C26: 9.95 | E26: 7.56
A27: B10 | B27: Salário Maternidade | C27: 0.03 | E27: 0.03
B28: TOTAL | C28: 47 | E28: 17.25
A30: C | B30: GRUPO C
A31: C1 | B31: Aviso Prévio Indenizado | C31: 4.77 | E31: 3.63
A32: C2 | B32: Aviso Prévio Trabalhado | C32: 0.11 | E32: 0.09
A33: C3 | B33: Férias Indenizadas | C33: 3.98 | E33: 3.03
A34: C4 | B34: Depósito Rescisão Sem Justa Causa | C34: 3.06 | E34: 2.33
A35: C5 | B35: Indenização Adicional | C35: 0.4 | E35: 0.31
B36: TOTAL | C36: 12.32 | E36: 9.39
A38: D | B38: GRUPO D
A39: D1 | B39: Reincidência de Grupo A sobre Grupo B | C39: 17.3 | E39: 6.35
A40: D2 | B40: Reincidência de Grupo A sobre Aviso Prévio Trabalhado e Reincidência do FGTS sobre Aviso Prévio Indenizado | C40: 0.42 | E40: 0.32
B41: TOTAL | C41: 17.72 | E41: 6.67
B43: A + B + C + D = | C43: 113.84 | E43: 70.11
A44: EVERALDO MERGULHÃO - CREA Nº 1818551071

Sheet MAPA COTAÇÃO
A6: MAPA DE COTAÇÕES - CADASTRO DE FORNECEDORES
A8: MAPA DE COTAÇÕES - PREÇOS
A10: CÓDIGO | B10: DESCRIÇÃO | C10: UNID | D10: MÉDIA | E10: MEDIANA | F10: MENOR | G10: Fornecedores | H10: Fornecedor A | I10: Fornecedor B | J10: Fornecedor C
A11: COMP-20511029 | B11: MOBILIZAÇÃO DE CONTAINER | C11: UND | D11: =AVERAGE(H18:J18) -> 883.33333 | E11: =MEDIAN(H18:J18) -> 900 | F11: =MIN(D11:E18) -> 883.33333 | G11: Razão Social: | H11: LOKTAINER LOCAÇÃO DE CONTAINER | I11: BRAVO LOCAÇÃO DE MÁQUINAS E EQUIPAMENTOS | J11: PIRAJU EQUIPAMENTOS
G12: CNPJ: | H12: 25.259.985/0004-48 | I12: 14.543.772/0001-84 | J12: 02.527.674/0001-74
G13: Nome do Contato: | H13: COMERCIAL | I13: COMERCIAL | J13: COMERCIAL
G14: Data do Contato: | H14: 46028 | I14: 46035 | J14: 46034
G15: Telefone: | J15: 81 98138-3377
G16: Preço Produto: | H16: 900 | I16: 850 | J16: 900
G17: Frete e limpeza: | H17: 0 | I17: 0 | J17: 0
G18: Preço total: | H18: =H16+H17 -> 900 | I18: =I16+I17 -> 850 | J18: =J16+J17 -> 900
A20: CÓDIGO | B20: DESCRIÇÃO | C20: UNID | D20: MÉDIA | E20: MEDIANA | F20: MENOR | G20: Fornecedores | H20: Fornecedor A | I20: Fornecedor B | J20: Fornecedor C
A21: COMP-38919866 | B21: DESMOBILIZAÇÃO DE CONTAINER | C21: UND | D21: =ROUND(AVERAGE(H28:J28),2) -> 883.33 | E21: =ROUND(MEDIAN(H28:J28),2) -> 900 | F21: =MIN(D21:E28) -> 883.33 | G21: Razão Social: | H21: LOKTAINER LOCAÇÃO DE CONTAINER | I21: BRAVO LOCAÇÃO DE MÁQUINAS E EQUIPAMENTOS | J21: PIRAJU EQUIPAMENTOS
G22: CNPJ: | H22: 25.259.985/0004-48 | I22: 14.543.772/0001-84 | J22: 02.527.674/0001-74
G23: Nome do Contato: | H23: COMERCIAL | I23: COMERCIAL | J23: COMERCIAL
G24: Data do Contato: | H24: 46028 | I24: 46035 | J24: 46034
G25: Telefone/E-mail: | J25: 81 98138-3377
G26: Preço Produto: | H26: 900 | I26: 850 | J26: 900
G27: Frete: | H27: 0 | I27: 0 | J27: 0
G28: Preço total: | H28: =H26+H27 -> 900 | I28: =I26+I27 -> 850 | J28: =J26+J27 -> 900
A30: CÓDIGO | B30: DESCRIÇÃO | C30: UNID | D30: MÉDIA | E30: MEDIANA | F30: MENOR | G30: Fornecedores | H30: Fornecedor A | I30: Fornecedor B | J30: Fornecedor C
A31: COMP-57092914 | B31: LOCAÇÃO DE CONTAINER PARA ESCRITORIO SEM BANHEIRO | C31: MÊS | D31: =ROUND(AVERAGE(H38:J38),2) -> 1000 | E31: =ROUND(MEDIAN(H38:J38),2) -> 1100 | F31: =MIN(D31:E38) -> 1000 | G31: Razão Social: | H31: LOKTAINER LOCAÇÃO DE CONTAINER | I31: BRAVO LOCAÇÃO DE MÁQUINAS E EQUIPAMENTOS | J31: PIRAJU EQUIPAMENTOS
G32: CNPJ: | H32: 25.259.985/0004-48 | I32: 14.543.772/0001-84 | J32: 02.527.674/0001-74
G33: Nome do Contato: | H33: COMERCIAL | I33: COMERCIAL | J33: COMERCIAL
G34: Data do Contato: | H34: 46028 | I34: 46035 | J34: 46034
G35: Telefone/E-mail: | J35: 81 98138-3377
G36: Preço Produto: | H36: 800 | I36: 1100 | J36: 1100
G37: Frete: | H37: 0 | I37: 0 | J37: 0
G38: Preço total: | H38: =H36+H37 -> 800 | I38: =I36+I37 -> 1100 | J38: =J36+J37 -> 1100
A40: CÓDIGO | B40: DESCRIÇÃO | C40: UNID | D40: MÉDIA | E40: MEDIANA | F40: MENOR | G40: Fornecedores | H40: Fornecedor A | I40: Fornecedor B | J40: Fornecedor C
A41: COMP-15514540 | B41: LOCAÇÃO DE CONTAINER PARA ESCRITORIO COM BANHEIRO | C41: MÊS | D41: =ROUND(AVERAGE(H48:J48),2) -> 1083.33 | E41: =ROUND(MEDIAN(H48:J48),2) -> 1200 | F41: =MIN(D41:E48) -> 1083.33 | G41: Razão Social: | H41: LOKTAINER LOCAÇÃO DE CONTAINER | I41: BRAVO LOCAÇÃO DE MÁQUINAS E EQUIPAMENTOS | J41: PIRAJU EQUIPAMENTOS
G42: CNPJ: | H42: 25.259.985/0004-48 | I42: 14.543.772/0001-84 | J42: 02.527.674/0001-74
G43: Nome do Contato: | H43: COMERCIAL | I43: COMERCIAL | J43: COMERCIAL
G44: Data do Contato: | H44: 46028 | I44: 46035 | J44: 46034
G45: Telefone/E-mail: | J45: 81 98138-3377
G46: Preço Produto: | H46: 850 | I46: 1200 | J46: 1200
G47: Frete: | H47: 0 | I47: 0 | J47: 0
G48: Preço total: | H48: =H46+H47 -> 850 | I48: =I46+I47 -> 1200 | J48: =J46+J47 -> 1200
A50: CÓDIGO | B50: DESCRIÇÃO | C50: UNID | D50: MÉDIA | E50: MEDIANA | F50: MENOR | G50: Fornecedores | H50: Fornecedor A | I50: Fornecedor B | J50: Fornecedor C
A51: INS-13695818 | B51: ALUGUEL DE BANHEIRO QUÍMICO INCLUSIVE LOCAÇÃO, TRANSPORTE E LIMPEZA | C51: MÊS | D51: =AVERAGE(H58:J58) -> 1296.6667 | E51: =MEDIAN(H58:J58) -> 1200 | F51: =MIN(D51:E58) -> 1200 | G51: Razão Social: | H51: LITORAL BANHEIROS QUÍMICOS | I51: BW LOCAÇÕES E SERVIÇOS | J51: WC LOC
...
