Workbook
Name \C: #REF!
Name \C: #REF!
Name \C: #REF!
Name \C: #REF!
Name \D: #REF!
Name \D: #REF!
Name \D: #REF!
Name \F: #REF!
Name \F: #REF!
Name \F: #REF!
Name \G: #REF!
Name \I: #REF!
Name \I: #REF!
Name \l: #REF!
Name \M: #REF!
Name \P: #REF!
Name \R: #REF!
Name \S: [1]COMPOS1!#REF!
Name \S: [1]COMPOS1!#REF!
Name \S: [1]COMPOS1!#REF!
Name \t: #REF!
Name \t: #REF!
Name \Y: #REF!
Name \Y: #REF!
Name _: #REF!
Name _: #REF!
Name __________________mar2: '[2]RESTAURAÇÃO '!#REF!
Name __________________mar2: '[2]RESTAURAÇÃO '!#REF!
Name __________________mar2: '[2]RESTAURAÇÃO '!#REF!
Name __________________mar2: '[2]RESTAURAÇÃO '!#REF!
Name __________________mar2: '[2]RESTAURAÇÃO '!#REF!
Name ________________mar2: '[2]RESTAURAÇÃO '!#REF!
Name ________________mar2: '[2]RESTAURAÇÃO '!#REF!
Name ________________mar2: '[2]RESTAURAÇÃO '!#REF!
Name ________________mar2: '[2]RESTAURAÇÃO '!#REF!
Name ______________mar2: '[2]RESTAURAÇÃO '!#REF!
Name ______________mar2: '[2]RESTAURAÇÃO '!#REF!
Name ______________mar2: '[2]RESTAURAÇÃO '!#REF!
Name ______________mar2: '[2]RESTAURAÇÃO '!#REF!
Name ____________mar2: '[2]RESTAURAÇÃO '!#REF!
Name ____________mar2: '[2]RESTAURAÇÃO '!#REF!
Name ____________mar2: '[2]RESTAURAÇÃO '!#REF!
Name ____________mar2: '[2]RESTAURAÇÃO '!#REF!
Name ___________mar2: '[2]RESTAURAÇÃO '!#REF!
Name ___________mar2: '[2]RESTAURAÇÃO '!#REF!
Name ___________mar2: '[2]RESTAURAÇÃO '!#REF!
Name __________mar2: '[2]RESTAURAÇÃO '!#REF!
Name __________mar2: '[2]RESTAURAÇÃO '!#REF!
Name _________mar2: '[2]RESTAURAÇÃO '!#REF!
Name _________mar2: '[2]RESTAURAÇÃO '!#REF!
Name ________mar2: '[2]RESTAURAÇÃO '!#REF!
Name ________mar2: '[2]RESTAURAÇÃO '!#REF!
Name _______mar2: '[2]RESTAURAÇÃO '!#REF!
Name _______mar2: '[2]RESTAURAÇÃO '!#REF!
Name ______mar2: '[2]RESTAURAÇÃO '!#REF!
Name ______mar2: '[2]RESTAURAÇÃO '!#REF!
Name _____mar2: '[2]RESTAURAÇÃO '!#REF!
Name _____mar2: '[2]RESTAURAÇÃO '!#REF!
Name _____R: #REF!
Name _____R: #REF!

Sheet QCI 
A1: PREFEITURA MUNICIPAL DE OLINDA
A2: SECRETARIA DE OBRAS
A3: SECRETARIA EXECUTIVA DE OBRAS
A4: Empreendimento
A5: =Resumo!B5 -> CONTRATAÇÃO DE EMPRESA ESPECIALIZADA PARA EXECUÇÃO DE OBRAS DE TERRAPLENAGEM, PAVIMENTAÇÃO, DRENAGEM, ACESSIBILIDADE E SINALIZAÇÃO DA RUA CACIMBÃO NO BAIRRO DE SALGADINHO E RUA COMPOSITOR ATAULFO ALVES NO BAIRRO FRAGOSO, NO MUNICÍPIO DE OLINDA-PE, CONTRATO DE REPASSE: 1088.389-47/2023. | H5: REPASSE | I5: CONTRAPARTIDA | J5: TOTAL
A6: Agente Executor | H6: 960019 | I6: 39981 | J6: =F18 -> 1000000
A7: PREFEITURA MUNICIPAL DE OLINDA - SECRETARIA DE OBRAS/ SECRETARIA EXECUTIVA DE OBRAS | H7: =H6/J6 -> 0.960019 | I7: =I6/J6 -> 0.039981 | J7: =SUM(H7:I8) -> 1
A9: Programa | C9: Modalidade
A10: MINISTÉRIO DAS CIDADES
A11: CR 1088.389-47/2023 | H11: REPASSE | I11: CONTRAPARTIDA | J11: TOTAL
A12: Quadro de Composição de Investimento - QCI - OGU | H12: 960019 | I12: =J12-H12 -> #N/A | J12: =F40 -> #N/A | L12: =H12/6 -> 160003.17 | M12: =I12/6 -> #N/A | N12: =J12/6 -> #N/A
A13: Item | B13: Discriminação | C13: Investimento total (R$) | F13: Total | H13: =H12/J12 -> #N/A | I13: =J13-H13 -> #N/A | J13: 1
C14: Recursos da União | E14: Contrapartida
A15: 1.0 | B15: ETAPA CONCLUÍDA | I15: RUA 28
A16: 1.1 | B16: =H10 -> 0 | C16: =F16-E16 -> #VALUE! | E16: =F16*K7 -> #VALUE! | F16: =H11 -> REPASSE | I16: ='[40]PLANILHA CONSOLIDADA'!M132 -> 100754.03
A17: 1.2 | B17: =H13 -> #N/A | C17: =F17-E17 -> 0 | E17: =F17*K7 -> 0 | F17: =H14 -> 0 | I17: RUA 20
C18: =H6 -> 960019 | E18: =I6 -> 39981 | F18: =SUM(C18+E18) -> 1000000
A20: 1 | B20: ETAPA PROPOSTA
A21: 1.0 | B21: =Resumo!B11 -> RUA DO CACIMBÃO | C21: =SUM(C22:C28) -> #N/A | E21: =SUM(E22:E28) -> #N/A | F21: =SUM(F22:F28) -> 410073.98
B22: =Resumo!B12 -> ADMINISTRAÇÃO LOCAL DA OBRA | C22: =F22*$H$13 -> #N/A | E22: =F22*$I$13 -> #N/A | F22: =G22 -> 17736.48 | G22: =Resumo!C12 -> 17736.48
B23: =Resumo!B13 -> SERVIÇOS PRELIMINARES | C23: =F23*$H$13 -> #N/A | E23: =F23*$I$13 -> #N/A | F23: =G23 -> 20110.53 | G23: =Resumo!C13 -> 20110.53
B24: =Resumo!B14 -> DRENAGEM | C24: =F24*$H$13 -> #N/A | E24: =F24*$I$13 -> #N/A | F24: =G24 -> 89743.98 | G24: =Resumo!C14 -> 89743.98
B25: =Resumo!B15 -> TERRAPLENAGEM | C25: =F25*$H$13 -> #N/A | E25: =F25*$I$13 -> #N/A | F25: =G25 -> 82368.14 | G25: =Resumo!C15 -> 82368.14
B26: =Resumo!B16 -> PAVIMENTAÇÃO | C26: =F26*$H$13 -> #N/A | E26: =F26*$I$13 -> #N/A | F26: =G26 -> 124382.69 | G26: =Resumo!C16 -> 124382.69
B27: =Resumo!B17 -> PASSEIOS | C27: =F27*$H$13 -> #N/A | E27: =F27*$I$13 -> #N/A | F27: =G27 -> 59080.97 | G27: =Resumo!C17 -> 59080.97
B28: =Resumo!B18 -> SINALIZAÇÃO | C28: =F28*$H$13 -> #N/A | E28: =F28*$I$13 -> #N/A | F28: =G28 -> 16651.19 | G28: =Resumo!C18 -> 16651.19
A29: 2.0 | B29: =Resumo!B19 -> RUA COMPOSITOR ATAULFO ALVES | C29: =SUM(C30:C36) -> #N/A | E29: =SUM(E30:E36) -> #N/A | F29: =SUM(F30:F36) -> 603092.56
B30: =Resumo!B20 -> ADMINISTRAÇÃO LOCAL DA OBRA | C30: =F30*$H$13 -> #N/A | E30: =F30*$I$13 -> #N/A | F30: =G30 -> 17736.48 | G30: =Resumo!C20 -> 17736.48
B31: =Resumo!B21 -> SERVIÇOS PRELIMINARES | C31: =F31*$H$13 -> #N/A | E31: =F31*$I$13 -> #N/A | F31: =G31 -> 20312.16 | G31: =Resumo!C21 -> 20312.16
B32: =Resumo!B22 -> TERRAPLENAGEM E MOVIMENTO DE TERRA | C32: =F32*$H$13 -> #N/A | E32: =F32*$I$13 -> #N/A | F32: =G32 -> 205914.16 | G32: =Resumo!C22 -> 205914.16
B33: =Resumo!B23 -> DRENAGEM | C33: =F33*$H$13 -> #N/A | E33: =F33*$I$13 -> #N/A | F33: =G33 -> 7264.25 | G33: =Resumo!C23 -> 7264.25
B34: =Resumo!B24 -> PAVIMENTAÇÃO | C34: =F34*$H$13 -> #N/A | E34: =F34*$I$13 -> #N/A | F34: =G34 -> 244208.91 | G34: =Resumo!C24 -> 244208.91
B35: =Resumo!B25 -> PASSEIOS | C35: =F35*$H$13 -> #N/A | E35: =F35*$I$13 -> #N/A | F35: =G35 -> 93671.89 | G35: =Resumo!C25 -> 93671.89
B36: =Resumo!B26 -> SINALIZAÇÃO | C36: =F36*$H$13 -> #N/A | E36: =F36*$I$13 -> #N/A | F36: =G36 -> 13984.71 | G36: =Resumo!C26 -> 13984.71
A38: ETAPA PROPOSTA | C38: =C21+C29 -> #N/A | E38: =E21+E29 -> #N/A | F38: =F21+F29 -> 1013166.5
A40: TOTAL | C40: =C38 -> #N/A | E40: =E38 -> #N/A | F40: =C40+E40 -> #N/A
C41: 0.91578339
A42: Olinda, _____/_____/_______
A43: Local / Data
A44: Assinatura do representante da equipe técnica
...

Sheet Resumo
A1: =Orçamento!A1 -> PREFEITURA MUNICIPAL DE OLINDA
A2: =Orçamento!A2 -> SECRETARIA DE OBRAS
A3: =Orçamento!A3 -> SECRETARIA EXECUTIVA DE OBRAS
A5: OBJETO: | B5: CONTRATAÇÃO DE EMPRESA ESPECIALIZADA PARA EXECUÇÃO DE OBRAS DE TERRAPLENAGEM, PAVIMENTAÇÃO, DRENAGEM, ACESSIBILIDADE E SINALIZAÇÃO DA RUA CACIMBÃO NO BAIRRO DE SALGADINHO E RUA COMPOSITOR ATAULFO ALVES NO BAIRRO FRAGOSO, NO MUNICÍPIO DE OLINDA-PE, CONTRATO DE REPASSE: 1088.389-47/2023.
A6: Localização: | B6: OLINDA - PE | C6: CR 1088.389-47/2023
C7: Data base: | D7: 45786
A9: PLANILHA RESUMO | H9: 960019 | J9: 39981 | L9: =H9+J9 -> 1000000
A10: ITEM | B10: DISCRIMINAÇÃO DOS SERVIÇOS | C10: VALOR ONERADO | D10: %
B11: =Orçamento!E12 -> RUA DO CACIMBÃO | C11: =SUM(C12:C18) -> 410073.98 | D11: =C11/$C$27 -> 0.40474489 | H11: =H9/L9 -> 0.960019 | J11: =J9/L9 -> 0.039981
A12: 1.0 | B12: =VLOOKUP(A12,Orçamento!A:K,5,0) -> ADMINISTRAÇÃO LOCAL DA OBRA | C12: =VLOOKUP(A12,Orçamento!A:K,11,0) -> 17736.48 | D12: =C12/$C$27 -> 0.017505987
A13: 2.0 | B13: =VLOOKUP(A13,Orçamento!A:K,5,0) -> SERVIÇOS PRELIMINARES | C13: =VLOOKUP(A13,Orçamento!A:K,11,0) -> 20110.53 | D13: =C13/$C$27 -> 0.019849185
A14: 3.0 | B14: =VLOOKUP(A14,Orçamento!A:K,5,0) -> DRENAGEM | C14: =VLOOKUP(A14,Orçamento!A:K,11,0) -> 89743.98 | D14: =C14/$C$27 -> 0.088577718 | H14: =H9 -> 960019 | J14: =L14-H14 -> 53147.54 | L14: =C27 -> 1013166.5
A15: 4.0 | B15: =VLOOKUP(A15,Orçamento!A:K,5,0) -> TERRAPLENAGEM | C15: =VLOOKUP(A15,Orçamento!A:K,11,0) -> 82368.14 | D15: =C15/$C$27 -> 0.08129773 | H15: =H14/L14 -> 0.94754314 | J15: =J14/L14 -> 0.052456865
A16: 5.0 | B16: =VLOOKUP(A16,Orçamento!A:K,5,0) -> PAVIMENTAÇÃO | C16: =VLOOKUP(A16,Orçamento!A:K,11,0) -> 124382.69 | D16: =C16/$C$27 -> 0.12276628 | F16: cacimbão | H16: =L16*$H$15 -> 388562.78 | I16: =M16*$H$11 -> 0 | J16: =L16*$J$15 -> 21511.195 | L16: =C11 -> 410073.98
A17: 6.0 | B17: =VLOOKUP(A17,Orçamento!A:K,5,0) -> PASSEIOS | C17: =VLOOKUP(A17,Orçamento!A:K,11,0) -> 59080.97 | D17: =C17/$C$27 -> 0.058313187
A18: 7.0 | B18: =VLOOKUP(A18,Orçamento!A:K,5,0) -> SINALIZAÇÃO | C18: =VLOOKUP(A18,Orçamento!A:K,11,0) -> 16651.19 | D18: =C18/$C$27 -> 0.016434801 | F18: ataulfo | H18: =L18*$H$15 -> 571456.22 | J18: =L18*$J$15 -> 31636.345 | L18: =C19 -> 603092.56
B19: =Orçamento!E67 -> RUA COMPOSITOR ATAULFO ALVES | C19: =SUM(C20:C26) -> 603092.56 | D19: =C19/$C$27 -> 0.59525511
A20: =Orçamento!A68 -> 8.0 | B20: =VLOOKUP(A20,Orçamento!A:K,5,0) -> ADMINISTRAÇÃO LOCAL DA OBRA | C20: =VLOOKUP(A20,Orçamento!A:K,11,0) -> 17736.48 | D20: =C20/$C$27 -> 0.017505987
A21: =Orçamento!A71 -> 9.0 | B21: =VLOOKUP(A21,Orçamento!A:K,5,0) -> SERVIÇOS PRELIMINARES | C21: =VLOOKUP(A21,Orçamento!A:K,11,0) -> 20312.16 | D21: =C21/$C$27 -> 0.020048195
A22: =Orçamento!A77 -> 10.0 | B22: =VLOOKUP(A22,Orçamento!A:K,5,0) -> TERRAPLENAGEM E MOVIMENTO DE TERRA | C22: =VLOOKUP(A22,Orçamento!A:K,11,0) -> 205914.16 | D22: =C22/$C$27 -> 0.20323822
A23: =Orçamento!A87 -> 11.0 | B23: =VLOOKUP(A23,Orçamento!A:K,5,0) -> DRENAGEM | C23: =VLOOKUP(A23,Orçamento!A:K,11,0) -> 7264.25 | D23: =C23/$C$27 -> 0.0071698479
A24: =Orçamento!A90 -> 12.0 | B24: =VLOOKUP(A24,Orçamento!A:K,5,0) -> PAVIMENTAÇÃO | C24: =VLOOKUP(A24,Orçamento!A:K,11,0) -> 244208.91 | D24: =C24/$C$27 -> 0.24103531
A25: =Orçamento!A96 -> 13.0 | B25: =VLOOKUP(A25,Orçamento!A:K,5,0) -> PASSEIOS | C25: =VLOOKUP(A25,Orçamento!A:K,11,0) -> 93671.89 | D25: =C25/$C$27 -> 0.092454583
A26: =Orçamento!A102 -> 14.0 | B26: =VLOOKUP(A26,Orçamento!A:K,5,0) -> SINALIZAÇÃO | C26: =VLOOKUP(A26,Orçamento!A:K,11,0) -> 13984.71 | D26: =C26/$C$27 -> 0.013802973
A27: TOTAL GERAL | C27: =C19+C11 -> 1013166.5 | D27: =D11+D19 -> 1

Sheet Orçamento
A1: PREFEITURA MUNICIPAL DE OLINDA
A2: SECRETARIA DE OBRAS
A3: SECRETARIA EXECUTIVA DE OBRAS
A4: =Resumo!A5 -> OBJETO: | B4: =Resumo!B5 -> CONTRATAÇÃO DE EMPRESA ESPECIALIZADA PARA EXECUÇÃO DE OBRAS DE TERRAPLENAGEM, PAVIMENTAÇÃO, DRENAGEM, ACESSIBILIDADE E SINALIZAÇÃO DA RUA CACIMBÃO NO BAIRRO DE SALGADINHO E RUA COMPOSITOR ATAULFO ALVES NO BAIRRO FRAGOSO, NO MUNICÍPIO DE OLINDA-PE, CONTRATO DE REPASSE: 1088.389-47/2023.
A5: DATA BASE: 09/05/2025 | E5: Tabelas de referência: SINAPI (03/2025) e COMPESA (2024.2) | H5: ONERADO
H6: BDI Serviços | J6: SERVIÇOS | K6: 0.2199
A7: CR 1088.389-47/2023 | F7: ENC. SOCIAIS NÃO DESONERADOS: 113,84% (HORA) / 70,11% (MÊS) | L7: =K10-K13-K68 -> 977693.58
A8: PLANILHA ORÇAMENTÁRIA
A10: ITEM | B10: CÓDIGO | C10: FONTE | D10: TIPO | E10: DISCRIMINAÇÃO | F10: UNID | G10: QUANT. | H10: ONERADO | J10: TOTAL | K10: =K12+K67 -> 1013166.5
H11: UNIT. S/ BDI | I11: BDI | J11: UNIT. C/ BDI | K11: TOTAL COM BDI
E12: RUA DO CACIMBÃO | K12: =SUM(K13,K16,K22,K27,K37,K41,K54) -> 410073.98
A13: 1.0 | E13: ADMINISTRAÇÃO LOCAL DA OBRA | K13: =SUM(K14:K15) -> 17736.48
A14: 1.1 | B14: 90776 | C14: SINAPI SERVIÇO | D14: SERVIÇOS | E14: ENCARREGADO GERAL COM ENCARGOS COMPLEMENTARES. | F14: H | G14: =TRUNC(VLOOKUP(A14,'Memória de cálculo'!$A:$N,14,0),2) -> 144 | H14: =VLOOKUP(B14,COMP_MAR_25,4,0) -> 36.19 | I14: =VLOOKUP(D14,$J$6:$K$6,2,0) -> 0.2199 | J14: =ROUND(H14*(I14+1),2) -> 44.15 | K14: =ROUND(G14*J14,2) -> 6357.6 | M14: =G14*H14 -> 5211.36
A15: 1.2 | B15: 90777 | C15: SINAPI SERVIÇO | D15: SERVIÇOS | E15: ENGENHEIRO CIVIL DE OBRA JUNIOR COM ENCARGOS COMPLEMENTARES. | F15: H | G15: =TRUNC(VLOOKUP(A15,'Memória de cálculo'!$A:$N,14,0),2) -> 72 | H15: =VLOOKUP(B15,COMP_MAR_25,4,0) -> 129.55 | I15: =VLOOKUP(D15,$J$6:$K$6,2,0) -> 0.2199 | J15: =ROUND(H15*(I15+1),2) -> 158.04 | K15: =ROUND(G15*J15,2) -> 11378.88 | M15: =G15*H15 -> 9327.6
A16: 2.0 | E16: SERVIÇOS PRELIMINARES | K16: =SUM(K17:K21) -> 20110.53
A17: 2.1 | B17: 103689 | C17: SINAPI SERVIÇO | D17: SERVIÇOS | E17: FORNECIMENTO E INSTALAÇÃO DE PLACA DE OBRA COM CHAPA GALVANIZADA E ESTRUTURA DE MADEIRA. | F17: M2 | G17: =TRUNC(VLOOKUP(A17,'Memória de cálculo'!$A:$N,14,0),2) -> 6 | H17: =VLOOKUP(B17,COMP_MAR_25,4,0) -> 465.89 | I17: =VLOOKUP(D17,$J$6:$K$6,2,0) -> 0.2199 | J17: =ROUND(H17*(I17+1),2) -> 568.34 | K17: =ROUND(G17*J17,2) -> 3410.04 | M17: =G17*H17 -> 2795.34
A18: 2.2 | B18: COMPOSIÇÃO 07 | C18: COMPOSIÇÃO | D18: SERVIÇOS | E18: LOCAÇÃO DE BANHEIRO QUÍMICO COM LIMPEZA DIÁRIA INCLUSO COLETA E DESTINAÇÃO FINAL DE EFLUENTES. | F18: MÊS | G18: =TRUNC(VLOOKUP(A18,'Memória de cálculo'!$A:$N,14,0),2) -> 3 | H18: =VLOOKUP(B18,COMP,7,0) -> 4161.92 | I18: =VLOOKUP(D18,$J$6:$K$6,2,0) -> 0.2199 | J18: =ROUND(H18*(I18+1),2) -> 5077.13 | K18: =ROUND(G18*J18,2) -> 15231.39 | M18: =G18*H18 -> 12485.76
A19: 2.3 | B19: COMPOSIÇÃO 03 | C19: COMPOSIÇÃO | D19: SERVIÇOS | E19: SINALIZAÇÃO DIURNA COM CONES E TELA PLÁSTICA TIPO LARANJA (REF.SINAPI 72947 COM ADAPTAÇÕES). | F19: M | G19: =TRUNC(VLOOKUP(A19,'Memória de cálculo'!$A:$N,14,0),2) -> 36.28 | H19: =VLOOKUP(B19,COMP,7,0) -> 7.73 | I19: =VLOOKUP(D19,$J$6:$K$6,2,0) -> 0.2199 | J19: =ROUND(H19*(I19+1),2) -> 9.43 | K19: =ROUND(G19*J19,2) -> 342.12 | M19: =G19*H19 -> 280.4444
A20: 2.4 | B20: COMPOSIÇÃO 04 | C20: COMPOSIÇÃO | D20: SERVIÇOS | E20: SINALIZAÇÃO DE TRÂNSITO - NOTURNA. | F20: M | G20: =TRUNC(VLOOKUP(A20,'Memória de cálculo'!$A:$N,14,0),2) -> 36.28 | H20: =VLOOKUP(B20,COMP,7,0) -> 3.17 | I20: =VLOOKUP(D20,$J$6:$K$6,2,0) -> 0.2199 | J20: =ROUND(H20*(I20+1),2) -> 3.87 | K20: =ROUND(G20*J20,2) -> 140.4 | M20: =G20*H20 -> 115.0076
A21: 2.5 | B21: COMPOSIÇÃO 05 | C21: COMPOSIÇÃO | D21: SERVIÇOS | E21: CAVALETE METÁLICO (COMP. PRÓPRIA BASEADOS NO QUANTITATIVOS PROJETO DE CAVALETE DE SINALIZAÇÃO EM ANEXO). | F21: UN | G21: =TRUNC(VLOOKUP(A21,'Memória de cálculo'!$A:$N,14,0),2) -> 2 | H21: =VLOOKUP(B21,COMP,7,0) -> 404.37 | I21: =VLOOKUP(D21,$J$6:$K$6,2,0) -> 0.2199 | J21: =ROUND(H21*(I21+1),2) -> 493.29 | K21: =ROUND(G21*J21,2) -> 986.58 | M21: =G21*H21 -> 808.74
A22: 3.0 | E22: DRENAGEM | K22: =SUM(K23:K26) -> 89743.98
A23: 3.1 | B23: 98525 | C23: SINAPI SERVIÇO | D23: SERVIÇOS | E23: LIMPEZA MECANIZADA DE CAMADA VEGETAL, VEGETAÇÃO E PEQUENAS ÁRVORES (DIÂMETRO DE TRONCO MENOR QUE 0,20 M), COM TRATOR DE ESTEIRAS. | F23: M2 | G23: =TRUNC(VLOOKUP(A23,'Memória de cálculo'!$A:$N,14,0),2) -> 745.06 | H23: =VLOOKUP(B23,COMP_MAR_25,4,0) -> 0.66 | I23: =VLOOKUP(D23,$J$6:$K$6,2,0) -> 0.2199 | J23: =ROUND(H23*(I23+1),2) -> 0.81 | K23: =ROUND(G23*J23,2) -> 603.5 | M23: =G23*H23 -> 491.7396
A24: 3.2 | B24: 100980 | C24: SINAPI SERVIÇO | D24: SERVIÇOS | E24: CARGA, MANOBRA E DESCARGA DE SOLOS E MATERIAIS GRANULARES EM CAMINHÃO BASCULANTE 18 M³ - CARGA COM ESCAVADEIRA HIDRÁULICA (CAÇAMBA DE 1,20 M³ / 155 HP) E DESCARGA LIVRE (UNIDADE: M3). | F24: M3 | G24: =TRUNC(VLOOKUP(A24,'Memória de cálculo'!$A:$N,14,0),2) -> 93.13 | H24: =VLOOKUP(B24,COMP_MAR_25,4,0) -> 6.39 | I24: =VLOOKUP(D24,$J$6:$K$6,2,0) -> 0.2199 | J24: =ROUND(H24*(I24+1),2) -> 7.8 | K24: =ROUND(G24*J24,2) -> 726.41 | M24: =G24*H24 -> 595.1007
A25: 3.3 | B25: 95877 | C25: SINAPI SERVIÇO | D25: SERVIÇOS | E25: TRANSPORTE COM CAMINHÃO BASCULANTE DE 18 M³, EM VIA URBANA PAVIMENTADA, DMT ATÉ 30 KM (UNIDADE: M3XKM). | F25: M3XKM | G25: =TRUNC(VLOOKUP(A25,'Memória de cálculo'!$A:$N,14,0),2) -> 428.39 | H25: =VLOOKUP(B25,COMP_MAR_25,4,0) -> 1.85 | I25: =VLOOKUP(D25,$J$6:$K$6,2,0) -> 0.2199 | J25: =ROUND(H25*(I25+1),2) -> 2.26 | K25: =ROUND(G25*J25,2) -> 968.16 | M25: =G25*H25 -> 792.5215
A26: 3.4 | B26: COMPOSIÇÃO 18 | C26: COMPOSIÇÃO | D26: SERVIÇOS | E26: CANALETA DE DRENAGEM EM ALVENARIA DE BLOCO DE CONCRETO, DIMENSÕES INTERNAS 40 X 60CM, COM TAMPA DE CONCRETO ARMADO (0,50 X 1,00M X 0,10M). | F26: M | G26: =TRUNC(VLOOKUP(A26,'Memória de cálculo'!$A:$N,14,0),2) -> 180.13 | H26: =VLOOKUP(B26,COMP,7,0) -> 397.95 | I26: =VLOOKUP(D26,$J$6:$K$6,2,0) -> 0.2199 | J26: =ROUND(H26*(I26+1),2) -> 485.46 | K26: =ROUND(G26*J26,2) -> 87445.91 | M26: =G26*H26 -> 71682.734
A27: 4.0 | E27: TERRAPLENAGEM | K27: =SUM(K28:K36) -> 82368.14
A28: 4.1 | B28: COMPOSIÇÃO 06 | C28: COMPOSIÇÃO | D28: SERVIÇOS | E28: SERVIÇOS TOPOGRÁFICOS PARA PAVIMENTAÇÃO, INCLUSIVE NOTA DE SERVIÇOS, ACOMPANHAMENTO E GREIDE. | F28: M2 | G28: =TRUNC(VLOOKUP(A28,'Memória de cálculo'!$A:$N,14,0),2) -> 980.86 | H28: =VLOOKUP(B28,COMP,7,0) -> 0.35 | I28: =VLOOKUP(D28,$J$6:$K$6,2,0) -> 0.2199 | J28: =ROUND(H28*(I28+1),2) -> 0.43 | K28: =ROUND(G28*J28,2) -> 421.77 | M28: =G28*H28 -> 343.301
A29: 4.2 | B29: 101116 | C29: SINAPI SERVIÇO | D29: SERVIÇOS | E29: ESCAVAÇÃO HORIZONTAL EM SOLO DE 1A CATEGORIA COM TRATOR DE ESTEIRAS (170HP/LÂMINA: 5,20M3). | F29: M3 | G29: =TRUNC(VLOOKUP(A29,'Memória de cálculo'!$A:$N,14,0),2) -> 507.49 | H29: =VLOOKUP(B29,COMP_MAR_25,4,0) -> 2.35 | I29: =VLOOKUP(D29,$J$6:$K$6,2,0) -> 0.2199 | J29: =ROUND(H29*(I29+1),2) -> 2.87 | K29: =ROUND(G29*J29,2) -> 1456.5 | M29: =G29*H29 -> 1192.6015
A30: 4.3 | B30: 100980 | C30: SINAPI SERVIÇO | D30: SERVIÇOS | E30: CARGA, MANOBRA E DESCARGA DE SOLOS E MATERIAIS GRANULARES EM CAMINHÃO BASCULANTE 18 M³ - CARGA COM ESCAVADEIRA HIDRÁULICA (CAÇAMBA DE 1,20 M³ / 155 HP) E DESCARGA LIVRE (UNIDADE: M3). | F30: M3 | G30: =TRUNC(VLOOKUP(A30,'Memória de cálculo'!$A:$N,14,0),2) -> 585 | H30: =VLOOKUP(B30,COMP_MAR_25,4,0) -> 6.39 | I30: =VLOOKUP(D30,$J$6:$K$6,2,0) -> 0.2199 | J30: =ROUND(H30*(I30+1),2) -> 7.8 | K30: =ROUND(G30*J30,2) -> 4563 | M30: =G30*H30 -> 3738.15
A31: 4.4 | B31: 96386 | C31: SINAPI SERVIÇO | D31: SERVIÇOS | E31: EXECUÇÃO E COMPACTAÇÃO DE CORPO DE ATERRO (95% DE ENERGIA DO PROCTOR NORMAL) COM SOLO PREDOMINANTEMENTE ARENOSO ESPESSURA 15CM - EXCLUSIVE MATERIAL, ESCAVAÇÃO, CARGA E TRANSPORTE. | F31: M3 | G31: =TRUNC(VLOOKUP(A31,'Memória de cálculo'!$A:$N,14,0),2) -> 39.49 | H31: =VLOOKUP(B31,COMP_MAR_25,4,0) -> 6.36 | I31: =VLOOKUP(D31,$J$6:$K$6,2,0) -> 0.2199 | J31: =ROUND(H31*(I31+1),2) -> 7.76 | K31: =ROUND(G31*J31,2) -> 306.44 | M31: =G31*H31 -> 251.1564
A32: 4.5 | B32: 95875 | C32: SINAPI SERVIÇO | D32: SERVIÇOS | E32: TRANSPORTE COM CAMINHÃO BASCULANTE DE 10 M³, EM VIA URBANA PAVIMENTADA, DMT ATÉ 30 KM (UNIDADE: M3XKM). | F32: M3XKM | G32: =TRUNC(VLOOKUP(A32,'Memória de cálculo'!$A:$N,14,0),2) -> 2691 | H32: =VLOOKUP(B32,COMP_MAR_25,4,0) -> 2.59 | I32: =VLOOKUP(D32,$J$6:$K$6,2,0) -> 0.2199 | J32: =ROUND(H32*(I32+1),2) -> 3.16 | K32: =ROUND(G32*J32,2) -> 8503.56 | M32: =G32*H32 -> 6969.69
A33: 4.6 | B33: 100576 | C33: SINAPI SERVIÇO | D33: SERVIÇOS | E33: REGULARIZAÇÃO E COMPACTAÇÃO DE SUBLEITO DE SOLO PREDOMINANTEMENTE ARGILOSO, PARA OBRAS DE CONSTRUÇÃO DE PAVIMENTOS. | F33: M2 | G33: =TRUNC(VLOOKUP(A33,'Memória de cálculo'!$A:$N,14,0),2) -> 980.86 | H33: =VLOOKUP(B33,COMP_MAR_25,4,0) -> 1.93 | I33: =VLOOKUP(D33,$J$6:$K$6,2,0) -> 0.2199 | J33: =ROUND(H33*(I33+1),2) -> 2.35 | K33: =ROUND(G33*J33,2) -> 2305.02 | M33: =G33*H33 -> 1893.0598
A34: 4.7 | B34: 96396 | C34: SINAPI SERVIÇO | D34: SERVIÇOS | E34: CONSTRUÇÃO DE BASE E SUB-BASE PARA PAVIMENTAÇÃO DE BRITA GRADUADA SIMPLES, COM ESPESSURA DE 15 CM - EXCLUSIVE CARGA E TRANSPORTE. AF_09/2024 | F34: M3 | G34: =TRUNC(VLOOKUP(A34,'Memória de cálculo'!$A:$N,14,0),2) -> 196.17 | H34: =VLOOKUP(B34,COMP_MAR_25,4,0) -> 172.82 | I34: =VLOOKUP(D34,$J$6:$K$6,2,0) -> 0.2199 | J34: =ROUND(H34*(I34+1),2) -> 210.82 | K34: =ROUND(G34*J34,2) -> 41356.56 | M34: =G34*H34 -> 33902.099
A35: 4.8 | B35: 100974 | C35: SINAPI SERVIÇO | D35: SERVIÇOS | E35: CARGA, MANOBRA E DESCARGA DE SOLOS E MATERIAIS GRANULARES EM CAMINHÃO BASCULANTE 10 M³ - CARGA COM PÁ CARREGADEIRA (CAÇAMBA DE 1,7 A 2,8 M³ / 128 HP) E DESCARGA LIVRE (UNIDADE: M3). | F35: M3 | G35: =TRUNC(VLOOKUP(A35,'Memória de cálculo'!$A:$N,14,0),2) -> 245.21 | H35: =VLOOKUP(B35,COMP_MAR_25,4,0) -> 8.73 | I35: =VLOOKUP(D35,$J$6:$K$6,2,0) -> 0.2199 | J35: =ROUND(H35*(I35+1),2) -> 10.65 | K35: =ROUND(G35*J35,2) -> 2611.49 | M35: =G35*H35 -> 2140.6833
A36: 4.9 | B36: 95875 | C36: SINAPI SERVIÇO | D36: SERVIÇOS | E36: TRANSPORTE COM CAMINHÃO BASCULANTE DE 10 M³, EM VIA URBANA PAVIMENTADA, DMT ATÉ 30 KM (UNIDADE: M3XKM). | F36: M3XKM | G36: =TRUNC(VLOOKUP(A36,'Memória de cálculo'!$A:$N,14,0),2) -> 6596.14 | H36: =VLOOKUP(B36,COMP_MAR_25,4,0) -> 2.59 | I36: =VLOOKUP(D36,$J$6:$K$6,2,0) -> 0.2199 | J36: =ROUND(H36*(I36+1),2) -> 3.16 | K36: =ROUND(G36*J36,2) -> 20843.8 | M36: =G36*H36 -> 17084.003
A37: 5.0 | E37: PAVIMENTAÇÃO | K37: =SUM(K38:K40) -> 124382.69
A38: 5.1 | B38: 101169 | C38: SINAPI SERVIÇO | D38: SERVIÇOS | E38: EXECUÇÃO DE PAVIMENTO EM PARALELEPÍPEDOS, REJUNTAMENTO COM ARGAMASSA TRAÇO 1:3 (CIMENTO E AREIA). | F38: M2 | G38: =TRUNC(VLOOKUP(A38,'Memória de cálculo'!$A:$N,14,0),2) -> 745.06 | H38: =VLOOKUP(B38,COMP_MAR_25,4,0) -> 85.89 | I38: =VLOOKUP(D38,$J$6:$K$6,2,0) -> 0.2199 | J38: =ROUND(H38*(I38+1),2) -> 104.78 | K38: =ROUND(G38*J38,2) -> 78067.39 | M38: =G38*H38 -> 63993.203
A39: 5.2 | B39: 94273 | C39: SINAPI SERVIÇO | D39: SERVIÇOS | E39: ASSENTAMENTO DE GUIA (MEIO-FIO) EM TRECHO RETO, CONFECCIONADA EM CONCRETO PRÉ-FABRICADO, DIMENSÕES 100X15X13X30 CM (COMPRIMENTO X BASE INFERIOR X BASE SUPERIOR X ALTURA). | F39: M | G39: =TRUNC(VLOOKUP(A39,'Memória de cálculo'!$A:$N,14,0),2) -> 712.86 | H39: =VLOOKUP(B39,COMP_MAR_25,4,0) -> 51.25 | I39: =VLOOKUP(D39,$J$6:$K$6,2,0) -> 0.2199 | J39: =ROUND(H39*(I39+1),2) -> 62.52 | K39: =ROUND(G39*J39,2) -> 44568.01 | M39: =G39*H39 -> 36534.075
A40: 5.3 | B40: 94274 | C40: SINAPI SERVIÇO | D40: SERVIÇOS | E40: ASSENTAMENTO DE GUIA (MEIO-FIO) EM TRECHO CURVO, CONFECCIONADA EM CONCRETO PRÉ-FABRICADO, DIMENSÕES 100X15X13X30 CM (COMPRIMENTO X BASE INFERIOR X BASE SUPERIOR X ALTURA). | F40: M | G40: =TRUNC(VLOOKUP(A40,'Memória de cálculo'!$A:$N,14,0),2) -> 26.45 | H40: =VLOOKUP(B40,COMP_MAR_25,4,0) -> 54.15 | I40: =VLOOKUP(D40,$J$6:$K$6,2,0) -> 0.2199 | J40: =ROUND(H40*(I40+1),2) -> 66.06 | K40: =ROUND(G40*J40,2) -> 1747.29 | M40: =G40*H40 -> 1432.2675
A41: 6.0 | E41: PASSEIOS | K41: =SUM(K42:K53) -> 59080.97
...

Sheet Memória de cálculo
A1: =Orçamento!A1 -> PREFEITURA MUNICIPAL DE OLINDA
A2: =Orçamento!A2 -> SECRETARIA DE OBRAS
A3: =Orçamento!A3 -> SECRETARIA EXECUTIVA DE OBRAS
A4: OBJETO: | B4: =Resumo!B5 -> CONTRATAÇÃO DE EMPRESA ESPECIALIZADA PARA EXECUÇÃO DE OBRAS DE TERRAPLENAGEM, PAVIMENTAÇÃO, DRENAGEM, ACESSIBILIDADE E SINALIZAÇÃO DA RUA CACIMBÃO NO BAIRRO DE SALGADINHO E RUA COMPOSITOR ATAULFO ALVES NO BAIRRO FRAGOSO, NO MUNICÍPIO DE OLINDA-PE, CONTRATO DE REPASSE: 1088.389-47/2023.
A5: =[41]Resumo!A6 -> Localização: | B5: =Resumo!B6 -> OLINDA - PE | L5: CR 1088.389-47/2023
A6: MEMÓRIA DE CÁLCULO
A8: ITEM | B8: CÓDIGO | C8: FONTE | D8: DESCRIÇÃO | E8: UND. | F8: TAXA | G8: COMP. | H8: LARG. | I8: ALT. | J8: ÁREA (M2) | K8: VOL. (M3) | L8: PESO (T/KG) | M8: QUANT. | N8: TOTAL
A9: =Orçamento!E12 -> RUA DO CACIMBÃO
A10: 1.0 | D10: =VLOOKUP(A10,Orçamento!A:G,5,0) -> ADMINISTRAÇÃO LOCAL DA OBRA
A11: 1.1 | B11: =VLOOKUP(A11,Orçamento!A:G,2,0) -> 90776 | C11: =VLOOKUP(A11,Orçamento!A:G,3,0) -> SINAPI SERVIÇO | D11: =VLOOKUP(A11,Orçamento!A:G,5,0) -> ENCARREGADO GERAL COM ENCARGOS COMPLEMENTARES. | E11: =VLOOKUP(A11,Orçamento!A:G,6,0) -> H | F11: HORAS POR SEMANA | M11: SEMANAS | N11: =SUM(N12:N13) -> 144
N12: =PRODUCT(F12:M12) -> 0
D13: Rua do Cacimbão | F13: 12 | M13: =4*3 -> 12 | N13: =TRUNC(PRODUCT(F13:M13),2) -> 144
A15: 1.2 | B15: =VLOOKUP(A15,Orçamento!A:G,2,0) -> 90777 | C15: =VLOOKUP(A15,Orçamento!A:G,3,0) -> SINAPI SERVIÇO | D15: =VLOOKUP(A15,Orçamento!A:G,5,0) -> ENGENHEIRO CIVIL DE OBRA JUNIOR COM ENCARGOS COMPLEMENTARES. | E15: =VLOOKUP(A15,Orçamento!A:G,6,0) -> H | F15: HORAS POR SEMANA | M15: SEMANAS | N15: =SUM(N16:N18) -> 72
N16: =PRODUCT(F16:M16) -> 0
D17: Rua do Cacimbão | F17: 6 | M17: =3*4 -> 12 | N17: =TRUNC(PRODUCT(F17:M17),2) -> 72
N18: =PRODUCT(F18:M18) -> 0
A19: 2.0 | D19: =VLOOKUP(A19,Orçamento!$A:$K,5,FALSE) -> SERVIÇOS PRELIMINARES
A21: 2.1 | B21: =VLOOKUP(A21,Orçamento!$A:$K,2,FALSE) -> 103689 | C21: =VLOOKUP(A21,Orçamento!$A:$K,3,FALSE) -> SINAPI SERVIÇO | D21: =VLOOKUP(A21,Orçamento!$A:$K,5,FALSE) -> FORNECIMENTO E INSTALAÇÃO DE PLACA DE OBRA COM CHAPA GALVANIZADA E ESTRUTURA DE MADEIRA. | E21: =VLOOKUP(A21,Orçamento!$A:$K,6,FALSE) -> M2 | N21: =SUM(N22) -> 6
G22: 2 | I22: 3 | N22: =TRUNC(PRODUCT(F22:M22),2) -> 6 | O22: ok
A24: 2.2 | B24: =VLOOKUP(A24,Orçamento!$A:$K,2,FALSE) -> COMPOSIÇÃO 07 | C24: =VLOOKUP(A24,Orçamento!$A:$K,3,FALSE) -> COMPOSIÇÃO | D24: =VLOOKUP(A24,Orçamento!$A:$K,5,FALSE) -> LOCAÇÃO DE BANHEIRO QUÍMICO COM LIMPEZA DIÁRIA INCLUSO COLETA E DESTINAÇÃO FINAL DE EFLUENTES. | E24: =VLOOKUP(A24,Orçamento!$A:$K,6,FALSE) -> MÊS | F24: PERÍODO DA OBRA (3 MESES) | N24: =SUM(N25) -> 3
M25: 3 | N25: =TRUNC(PRODUCT(F25:M25),2) -> 3
A27: 2.3 | B27: =VLOOKUP(A27,Orçamento!$A:$K,2,FALSE) -> COMPOSIÇÃO 03 | C27: =VLOOKUP(A27,Orçamento!$A:$K,3,FALSE) -> COMPOSIÇÃO | D27: =VLOOKUP(A27,Orçamento!$A:$K,5,FALSE) -> SINALIZAÇÃO DIURNA COM CONES E TELA PLÁSTICA TIPO LARANJA (REF.SINAPI 72947 COM ADAPTAÇÕES). | E27: =VLOOKUP(A27,Orçamento!$A:$K,6,FALSE) -> M | N27: =SUM(N28) -> 36.28
D28: Comprimento Total Sinalização Diurna - Extensão da via x 20% | F28: 0.2 | G28: 181.4 | N28: =TRUNC(PRODUCT(F28:M28),2) -> 36.28
A30: 2.4 | B30: =VLOOKUP(A30,Orçamento!$A:$K,2,FALSE) -> COMPOSIÇÃO 04 | C30: =VLOOKUP(A30,Orçamento!$A:$K,3,FALSE) -> COMPOSIÇÃO | D30: =VLOOKUP(A30,Orçamento!$A:$K,5,FALSE) -> SINALIZAÇÃO DE TRÂNSITO - NOTURNA. | E30: =VLOOKUP(A30,Orçamento!$A:$K,6,FALSE) -> M | N30: =SUM(N31) -> 36.28
D31: Comprimento Total Sinalização Diurna - Extensão da via x 20% Considera-se o mesmo da Sinalização Diurna | F31: 0.2 | G31: 181.4 | N31: =TRUNC(PRODUCT(F31:M31),2) -> 36.28
A33: 2.5 | B33: =VLOOKUP(A33,Orçamento!$A:$K,2,FALSE) -> COMPOSIÇÃO 05 | C33: =VLOOKUP(A33,Orçamento!$A:$K,3,FALSE) -> COMPOSIÇÃO | D33: =VLOOKUP(A33,Orçamento!$A:$K,5,FALSE) -> CAVALETE METÁLICO (COMP. PRÓPRIA BASEADOS NO QUANTITATIVOS PROJETO DE CAVALETE DE SINALIZAÇÃO EM ANEXO). | E33: =VLOOKUP(A33,Orçamento!$A:$K,6,FALSE) -> UN | N33: =SUM(N34) -> 2 | O33: OK
D34: 2 cavaletes por rua | M34: 2 | N34: =TRUNC(PRODUCT(F34:M34),2) -> 2
A36: 3.0 | D36: =VLOOKUP(A36,Orçamento!$A:$K,5,FALSE) -> DRENAGEM
A37: 3.1 | B37: =VLOOKUP(A37,Orçamento!$A:$K,2,FALSE) -> 98525 | C37: =VLOOKUP(A37,Orçamento!$A:$K,3,FALSE) -> SINAPI SERVIÇO | D37: =VLOOKUP(A37,Orçamento!$A:$K,5,FALSE) -> LIMPEZA MECANIZADA DE CAMADA VEGETAL, VEGETAÇÃO E PEQUENAS ÁRVORES (DIÂMETRO DE TRONCO MENOR QUE 0,20 M), COM TRATOR DE ESTEIRAS. | E37: =VLOOKUP(A37,Orçamento!$A:$K,6,FALSE) -> M2 | N37: =SUM(N38:N38) -> 745.06
D38: Rua Cacimbão | G38: 181.4 | H38: 4.1073 | N38: =TRUNC(PRODUCT(F38:M38),2) -> 745.06
A40: 3.2 | B40: =VLOOKUP(A40,Orçamento!$A:$K,2,FALSE) -> 100980 | C40: =VLOOKUP(A40,Orçamento!$A:$K,3,FALSE) -> SINAPI SERVIÇO | D40: =VLOOKUP(A40,Orçamento!$A:$K,5,FALSE) -> CARGA, MANOBRA E DESCARGA DE SOLOS E MATERIAIS GRANULARES EM CAMINHÃO BASCULANTE 18 M³ - CARGA COM ESCAVADEIRA HIDRÁULICA (CAÇAMBA DE 1,20 M³ / 155 HP) E DESCARGA LIVRE (UNIDADE: M3). | E40: =VLOOKUP(A40,Orçamento!$A:$K,6,FALSE) -> M3 | F40: EMPOLAMENTO | N40: =SUM(N41:N41) -> 93.13
D41: Camada vegetal + volume de bota fora escavação da canaleta | F41: 1.25 | K41: =N37 -> 745.06 | L41: 0.1 | N41: =TRUNC(PRODUCT(F41:M41),2) -> 93.13
A43: 3.3 | B43: =VLOOKUP(A43,Orçamento!$A:$K,2,FALSE) -> 95877 | C43: =VLOOKUP(A43,Orçamento!$A:$K,3,FALSE) -> SINAPI SERVIÇO | D43: =VLOOKUP(A43,Orçamento!$A:$K,5,FALSE) -> TRANSPORTE COM CAMINHÃO BASCULANTE DE 18 M³, EM VIA URBANA PAVIMENTADA, DMT ATÉ 30 KM (UNIDADE: M3XKM). | E43: =VLOOKUP(A43,Orçamento!$A:$K,6,FALSE) -> M3XKM | F43: DMT(KM) - ATERRO INOVE | N43: =SUM(N44:N44) -> 428.39
D44: Rua Cacimbão | F44: 4.6 | K44: =N40 -> 93.13 | N44: =TRUNC(PRODUCT(F44:M44),2) -> 428.39
A46: 3.4 | B46: =VLOOKUP(A46,Orçamento!$A:$K,2,FALSE) -> COMPOSIÇÃO 18 | C46: =VLOOKUP(A46,Orçamento!$A:$K,3,FALSE) -> COMPOSIÇÃO | D46: =VLOOKUP(A46,Orçamento!$A:$K,5,FALSE) -> CANALETA DE DRENAGEM EM ALVENARIA DE BLOCO DE CONCRETO, DIMENSÕES INTERNAS 40 X 60CM, COM TAMPA DE CONCRETO ARMADO (0,50 X 1,00M X 0,10M). | E46: =VLOOKUP(A46,Orçamento!$A:$K,6,FALSE) -> M | N46: =SUM(N47:N48) -> 180.13
D47: Rua Cacimbão - Conforme projeto de drenagem | G47: 180.13 | N47: =TRUNC(PRODUCT(F47:M47),2) -> 180.13
N48: =PRODUCT(F48:M48) -> 0
A49: 4.0 | D49: =VLOOKUP(A49,Orçamento!$A:$K,5,FALSE) -> TERRAPLENAGEM
A50: 4.1 | B50: =VLOOKUP(A50,Orçamento!$A:$K,2,FALSE) -> COMPOSIÇÃO 06 | C50: =VLOOKUP(A50,Orçamento!$A:$K,3,FALSE) -> COMPOSIÇÃO | D50: =VLOOKUP(A50,Orçamento!$A:$K,5,FALSE) -> SERVIÇOS TOPOGRÁFICOS PARA PAVIMENTAÇÃO, INCLUSIVE NOTA DE SERVIÇOS, ACOMPANHAMENTO E GREIDE. | E50: =VLOOKUP(A50,Orçamento!$A:$K,6,FALSE) -> M2 | N50: =SUM(N51:N51) -> 980.86
D51: Rua do Cacimbão - E0+3.51 A E9+4.91 | G51: 181.4 | H51: 5.4072 | N51: =TRUNC(PRODUCT(F51:M51),2) -> 980.86
...

Sheet COMPOSIÇÕES 
A1: =Orçamento!A1 -> PREFEITURA MUNICIPAL DE OLINDA
A2: =Orçamento!A2 -> SECRETARIA DE OBRAS
A3: =Orçamento!A3 -> SECRETARIA EXECUTIVA DE OBRAS
A4: =Resumo!A5 -> OBJETO: | B4: =Resumo!B5 -> CONTRATAÇÃO DE EMPRESA ESPECIALIZADA PARA EXECUÇÃO DE OBRAS DE TERRAPLENAGEM, PAVIMENTAÇÃO, DRENAGEM, ACESSIBILIDADE E SINALIZAÇÃO DA RUA CACIMBÃO NO BAIRRO DE SALGADINHO E RUA COMPOSITOR ATAULFO ALVES NO BAIRRO FRAGOSO, NO MUNICÍPIO DE OLINDA-PE, CONTRATO DE REPASSE: 1088.389-47/2023.
A5: =Resumo!A6 -> Localização: | B5: =Resumo!B6 -> OLINDA - PE | E5: CR 1088.389-47/2023
A6: COMPOSIÇÕES
A8: CÓDIGO | B8: FONTE | C8: DISCRIMINAÇÃO | D8: UNID. | E8: QUANT. | F8: ONERADO
F9: UNIT. | G9: TOTAL
A11: COMPOSIÇÃO 02 | C11: PLACA EM CHAPA ESMALTADA DIM 45X20CM PARA IDENTIFICAÇÃO DE LOGRADOUROS. | D11: UN | G11: =SUM(G13:G16) -> 145.77
A12: Os consumos foram baseados na COMPOSIÇÃO 2555/orse MAIO/2022
A13: 88309 | B13: SINAPI SERVIÇO | C13: PEDREIRO COM ENCARGOS COMPLEMENTARES. | D13: H | E13: 0.2 | F13: =VLOOKUP(A13,COMP_MAR_25,4,0) -> 28.34 | G13: =TRUNC($E13*F13,2) -> 5.66
A14: 88316 | B14: SINAPI SERVIÇO | C14: SERVENTE COM ENCARGOS COMPLEMENTARES. | D14: H | E14: 0.2 | F14: =VLOOKUP(A14,COMP_MAR_25,4,0) -> 22.95 | G14: =TRUNC($E14*F14,2) -> 4.59
A15: 13521 | B15: SINAPI INSUMO | C15: PLACA DE ACO ESMALTADA PARA IDENTIFICACAO DE RUA, *45 CM X 20* CM. | D15: UN | E15: 1 | F15: =VLOOKUP(A15,INSU_MAR_25,4,0) -> 132 | G15: =TRUNC($E15*F15,2) -> 132
A16: 4350 | B16: SINAPI INSUMO | C16: BUCHA DE NYLON, DIAMETRO DO FURO 8 MM, COMPRIMENTO 40 MM, COM PARAFUSO DE ROSCA SOBERBA, CABECA CHATA, FENDA SIMPLES, 4,8 X 50 MM. | D16: UN | E16: 4 | F16: =VLOOKUP(A16,INSU_MAR_25,4,0) -> 0.88 | G16: =TRUNC($E16*F16,2) -> 3.52
A18: COMPOSIÇÃO 03 | C18: SINALIZAÇÃO DIURNA COM CONES E TELA PLÁSTICA TIPO LARANJA (REF.SINAPI 72947 COM ADAPTAÇÕES). | D18: M | G18: =SUM(G19:G32) -> 7.73
A19: 88316 | B19: SINAPI SERVIÇO | C19: SERVENTE COM ENCARGOS COMPLEMENTARES. | D19: H | E19: 0.11 | F19: =VLOOKUP(A19,COMP_MAR_25,4,0) -> 22.95 | G19: =TRUNC($E19*F19,2) -> 2.52
A20: 88262 | B20: SINAPI SERVIÇO | C20: CARPINTEIRO DE FORMAS COM ENCARGOS COMPLEMENTARES. | D20: H | E20: 0.01 | F20: =VLOOKUP(A20,COMP_MAR_25,4,0) -> 27.92 | G20: =TRUNC($E20*F20,2) -> 0.27
A21: 88309 | B21: SINAPI SERVIÇO | C21: PEDREIRO COM ENCARGOS COMPLEMENTARES. | D21: H | E21: 0.0024 | F21: =VLOOKUP(A21,COMP_MAR_25,4,0) -> 28.34 | G21: =TRUNC($E21*F21,2) -> 0.06
A22: 37524 | B22: SINAPI INSUMO | C22: TELA PLASTICA LARANJA, TIPO TAPUME PARA SINALIZACAO, MALHA RETANGULAR, ROLO 1.20 X 50 M (L X C). | D22: M | E22: 0.094 | F22: =VLOOKUP(A22,INSU_MAR_25,4,0) -> 2.96 | G22: =TRUNC($E22*F22,2) -> 0.27
A23: 34498 | B23: SINAPI INSUMO | C23: CONE DE SINALIZACAO EM PVC FLEXIVEL, H = 70 / 76 CM (NBR 15071). | D23: UN | E23: 0.01 | F23: =VLOOKUP(A23,INSU_MAR_25,4,0) -> 142.54 | G23: =TRUNC($E23*F23,2) -> 1.42
A24: 20209 | B24: SINAPI INSUMO | C24: CAIBRO APARELHADO *7,5 X 7,5* CM, EM MACARANDUBA/MASSARANDUBA, ANGELIM OU EQUIVALENTE DA REGIAO. | D24: M | E24: 0.09 | F24: =VLOOKUP(A24,INSU_MAR_25,4,0) -> 29.7 | G24: =TRUNC($E24*F24,2) -> 2.67
A25: 5061 | B25: SINAPI INSUMO | C25: PREGO DE ACO POLIDO COM CABECA 18 X 27 (2 1/2 X 10). | D25: KG | E25: 0.001 | F25: =VLOOKUP(A25,INSU_MAR_25,4,0) -> 15.7 | G25: =TRUNC($E25*F25,2) -> 0.01
A26: 10567 | B26: SINAPI INSUMO | C26: TABUA *2,5 X 23* CM EM PINUS, MISTA OU EQUIVALENTE DA REGIAO - BRUTA. | D26: M | E26: 0.01 | F26: =VLOOKUP(A26,INSU_MAR_25,4,0) -> 12.04 | G26: =TRUNC($E26*F26,2) -> 0.12
A27: 4718 | B27: SINAPI INSUMO | C27: PEDRA BRITADA N. 2 (19 A 38 MM) POSTO PEDREIRA/FORNECEDOR, SEM FRETE. | D27: M3 | E27: 0.001 | F27: =VLOOKUP(A27,INSU_MAR_25,4,0) -> 101.14 | G27: =TRUNC($E27*F27,2) -> 0.1
A28: 4721 | B28: SINAPI INSUMO | C28: PEDRA BRITADA N. 1 (9,5 A 19 MM) POSTO PEDREIRA/FORNECEDOR, SEM FRETE. | D28: M3 | E28: 0.001 | F28: =VLOOKUP(A28,INSU_MAR_25,4,0) -> 100.61 | G28: =TRUNC($E28*F28,2) -> 0.1
A29: 2692 | B29: SINAPI INSUMO | C29: DESMOLDANTE PROTETOR PARA FORMAS DE MADEIRA, DE BASE OLEOSA EMULSIONADA EM AGUA. | D29: L | E29: 0.01 | F29: =VLOOKUP(A29,INSU_MAR_25,4,0) -> 7.19 | G29: =TRUNC($E29*F29,2) -> 0.07
A30: 4512 | B30: SINAPI INSUMO | C30: SARRAFO *2,5 X 5* CM EM PINUS, MISTA OU EQUIVALENTE DA REGIAO - BRUTA. | D30: M | E30: 0.01 | F30: =VLOOKUP(A30,INSU_MAR_25,4,0) -> 2.58 | G30: =TRUNC($E30*F30,2) -> 0.02
A31: 20209 | B31: SINAPI INSUMO | C31: CAIBRO APARELHADO *7,5 X 7,5* CM, EM MACARANDUBA/MASSARANDUBA, ANGELIM OU EQUIVALENTE DA REGIAO. | D31: M | E31: 0.001 | F31: =VLOOKUP(A31,INSU_MAR_25,4,0) -> 29.7 | G31: =TRUNC($E31*F31,2) -> 0.02
A32: 1379 | B32: SINAPI INSUMO | C32: CIMENTO PORTLAND COMPOSTO CP II-32. | D32: KG | E32: 0.123 | F32: =VLOOKUP(A32,INSU_MAR_25,4,0) -> 0.7 | G32: =TRUNC($E32*F32,2) -> 0.08
A34: COMPOSIÇÃO 04 | C34: SINALIZAÇÃO DE TRÂNSITO - NOTURNA | D34: M | G34: =SUM(G36:G42) -> 3.17
A35: Apropriada
A36: 939 | B36: SINAPI INSUMO | C36: FIO DE COBRE, SOLIDO, CLASSE 1, ISOLACAO EM PVC/A, ANTICHAMA BWF-B, 450/750V, SECAO NOMINAL 2,5 MM2. | D36: M | E36: 0.3 | F36: =VLOOKUP(A36,INSU_MAR_25,4,0) -> 2.62 | G36: =TRUNC($E36*F36,2) -> 0.78
A37: 2705 | B37: SINAPI INSUMO | C37: ENERGIA ELETRICA ATE 2000 KWH INDUSTRIAL, SEM DEMANDA. | D37: KWH | E37: 0.24 | F37: =VLOOKUP(A37,INSU_MAR_25,4,0) -> 0.97 | G37: =TRUNC($E37*F37,2) -> 0.23
A38: 38194 | B38: SINAPI INSUMO | C38: LAMPADA LED 10 W BIVOLT BRANCA, FORMATO TRADICIONAL (BASE E27). | D38: UN | E38: 0.009 | F38: =VLOOKUP(A38,INSU_MAR_25,4,0) -> 7.18 | G38: =TRUNC($E38*F38,2) -> 0.06
A39: 4815 | B39: SINAPI INSUMO | C39: BALDE VERMELHO PARA SINALIZACAO DE VIAS. | D39: UN | E39: 0.009 | F39: =VLOOKUP(A39,INSU_MAR_25,4,0) -> 7.05 | G39: =TRUNC($E39*F39,2) -> 0.06
A40: 12294 | B40: SINAPI INSUMO | C40: SOQUETE DE PORCELANA BASE E27, PARA USO AO TEMPO, PARA LAMPADAS. | D40: UN | E40: 0.05 | F40: =VLOOKUP(A40,INSU_MAR_25,4,0) -> 11.93 | G40: =TRUNC($E40*F40,2) -> 0.59
A41: 88264 | B41: SINAPI SERVIÇO | C41: ELETRICISTA COM ENCARGOS COMPLEMENTARES. | D41: H | E41: 0.05 | F41: =VLOOKUP(A41,COMP_MAR_25,4,0) -> 28.71 | G41: =TRUNC($E41*F41,2) -> 1.43
A42: 88316 | B42: SINAPI SERVIÇO | C42: SERVENTE COM ENCARGOS COMPLEMENTARES. | D42: H | E42: 0.001 | F42: =VLOOKUP(A42,COMP_MAR_25,4,0) -> 22.95 | G42: =TRUNC($E42*F42,2) -> 0.02
A44: COMPOSIÇÃO 05 | C44: CAVALETE METÁLICO (COMP. PRÓPRIA BASEADOS NO QUANTITATIVOS PROJETO DE CAVALETE DE SINALIZAÇÃO EM ANEXO). | D44: UN | G44: =SUM(G46:G52) -> 404.37
A45: Apropriada
...

Sheet COMPOSIÇÕES AUX.
A1: =Orçamento!A1 -> PREFEITURA MUNICIPAL DE OLINDA
A2: =Orçamento!A2 -> SECRETARIA DE OBRAS
A3: =Orçamento!A3 -> SECRETARIA EXECUTIVA DE OBRAS
A4: =Resumo!A5 -> OBJETO: | B4: =Resumo!B5 -> CONTRATAÇÃO DE EMPRESA ESPECIALIZADA PARA EXECUÇÃO DE OBRAS DE TERRAPLENAGEM, PAVIMENTAÇÃO, DRENAGEM, ACESSIBILIDADE E SINALIZAÇÃO DA RUA CACIMBÃO NO BAIRRO DE SALGADINHO E RUA COMPOSITOR ATAULFO ALVES NO BAIRRO FRAGOSO, NO MUNICÍPIO DE OLINDA-PE, CONTRATO DE REPASSE: 1088.389-47/2023.
A5: =Resumo!A6 -> Localização: | B5: =Resumo!B6 -> OLINDA - PE | D5: CR 1088.389-47/2023
A6: COMPOSIÇÕES AUXILIARES
A8: CÓDIGO | B8: FONTE | C8: DISCRIMINAÇÃO | D8: UNID. | E8: QUANT. | F8: ONERADO
F9: UNIT. | G9: TOTAL
A10: AUX.001 | B10: AUXILIAR | C10: CONCRETAGEM, FCK 25 MPA, COM USO DE JERICA, LANÇAMENTO, ADENSAMENTO E ACABAMENTO. | D10: M3 | G10: =SUM(G12:G16) -> 684.88
A11: x
A12: 88309 | B12: SINAPI SERVIÇO | C12: PEDREIRO COM ENCARGOS COMPLEMENTARES. | D12: H | E12: 2.386 | F12: =VLOOKUP(A12,COMP_MAR_25,4,0) -> 28.34 | G12: =TRUNC($E12*F12,2) -> 67.61 | I12: 1.16
A13: 88316 | B13: SINAPI SERVIÇO | C13: SERVENTE COM ENCARGOS COMPLEMENTARES. | D13: H | E13: 2.45 | F13: =VLOOKUP(A13,COMP_MAR_25,4,0) -> 22.95 | G13: =TRUNC($E13*F13,2) -> 56.22 | I13: 2.425
A14: 90586 | B14: SINAPI SERVIÇO | C14: VIBRADOR DE IMERSÃO, DIÂMETRO DE PONTEIRA 45MM, MOTOR ELÉTRICO TRIFÁSICO POTÊNCIA DE 2 CV - CHP DIURNO. | D14: CHP | E14: 0.314 | F14: =VLOOKUP(A14,COMP_MAR_25,4,0) -> 1.36 | G14: =TRUNC($E14*F14,2) -> 0.42 | I14: 2.882
A15: 90587 | B15: SINAPI SERVIÇO | C15: VIBRADOR DE IMERSÃO, DIÂMETRO DE PONTEIRA 45MM, MOTOR ELÉTRICO TRIFÁSICO POTÊNCIA DE 2 CV - CHI DIURNO. | D15: CHI | E15: 0.911 | F15: =VLOOKUP(A15,COMP_MAR_25,4,0) -> 0.53 | G15: =TRUNC($E15*F15,2) -> 0.48 | I15: 1.101
A16: 94971 | B16: SINAPI SERVIÇO | C16: CONCRETO FCK = 25MPA, TRAÇO 1:2,3:2,7 (EM MASSA SECA DE CIMENTO/ AREIA MÉDIA/ BRITA 1) - PREPARO MECÂNICO COM BETONEIRA 600 L. | D16: M3 | E16: 1.15 | F16: =VLOOKUP(A16,COMP_MAR_25,4,0) -> 487.09 | G16: =TRUNC($E16*F16,2) -> 560.15 | I16: 0.34
A18: AUX.002 | B18: AUXILIAR | C18: MEIO-FIO OU GUIA DE CONCRETO PRE-MOLDADO, TIPO CHAPEU PARA BOCA DE LOBO, DIMENSOES *1,20* X 0,15 X 0,40 M. | D18: UN | G18: =SUM(G20:G32) -> 129.04
A19: Apropriada
A20: 94971 | B20: SINAPI SERVIÇO | C20: CONCRETO FCK = 25MPA, TRAÇO 1:2,3:2,7 (EM MASSA SECA DE CIMENTO/ AREIA MÉDIA/ BRITA 1) - PREPARO MECÂNICO COM BETONEIRA 600 L. | D20: M3 | E20: =((0.12*1.2*0.15)+(0.15*0.25*0.2*2))*1.1 -> 0.04026 | F20: =VLOOKUP(A20,COMP_MAR_25,4,0) -> 487.09 | G20: =TRUNC($E20*F20,2) -> 19.61
A21: 1345 | B21: SINAPI INSUMO | C21: CHAPA/PAINEL DE MADEIRA COMPENSADA PLASTIFICADA (MADEIRITE PLASTIFICADO) PARA FORMA DE CONCRETO, DE 2200 X 1100 MM, E = *17* MM. | D21: M2 | E21: =(((0.15*0.14*2)+(0.25*0.2*4)+(0.25*0.15*2)+(((((0.15+0.12)/2)*0.25)+(0.15*0.12))*2)+(0.8*0.15))*1.1)/4 -> 0.1486375 | F21: =VLOOKUP(A21,INSU_MAR_25,4,0) -> 74.05 | G21: =TRUNC($E21*F21,2) -> 11
A22: 2692 | B22: SINAPI INSUMO | C22: DESMOLDANTE PROTETOR PARA FORMAS DE MADEIRA, DE BASE OLEOSA EMULSIONADA EM AGUA. | D22: L | E22: =0.01*E21 -> 0.001486375 | F22: =VLOOKUP(A22,INSU_MAR_25,4,0) -> 7.19 | G22: =TRUNC($E22*F22,2) -> 0.01
A23: 5073 | B23: SINAPI INSUMO | C23: PREGO DE ACO POLIDO COM CABECA 17 X 24 (2 1/4 X 11). | D23: KG | E23: =0.069*E21 -> 0.010255988 | F23: =VLOOKUP(A23,INSU_MAR_25,4,0) -> 16.28 | G23: =TRUNC($E23*F23,2) -> 0.16
A24: 5074 | B24: SINAPI INSUMO | C24: PREGO DE ACO POLIDO COM CABECA 15 X 18 (1 1/2 X 13). | D24: KG | E24: =0.013*E21 -> 0.0019322875 | F24: =VLOOKUP(A24,INSU_MAR_25,4,0) -> 17.89 | G24: =TRUNC($E24*F24,2) -> 0.03
A25: 20247 | B25: SINAPI INSUMO | C25: PREGO DE ACO POLIDO COM CABECA 15 X 15 (1 1/4 X 13). | D25: KG | E25: =0.016*E21 -> 0.0023782 | F25: =VLOOKUP(A25,INSU_MAR_25,4,0) -> 17.68 | G25: =TRUNC($E25*F25,2) -> 0.04
A26: 40304 | B26: SINAPI INSUMO | C26: PREGO DE ACO POLIDO COM CABECA DUPLA 17 X 27 (2 1/2 X 11). | D26: KG | E26: =0.024*E21 -> 0.0035673 | F26: =VLOOKUP(A26,INSU_MAR_25,4,0) -> 19.71 | G26: =TRUNC($E26*F26,2) -> 0.07
A27: 88239 | B27: SINAPI SERVIÇO | C27: AJUDANTE DE CARPINTEIRO COM ENCARGOS COMPLEMENTARES. | D27: H | E27: =1.423*E21 -> 0.21151116 | F27: =VLOOKUP(A27,COMP_MAR_25,4,0) -> 23.69 | G27: =TRUNC($E27*F27,2) -> 5.01
A28: 88262 | B28: SINAPI SERVIÇO | C28: CARPINTEIRO DE FORMAS COM ENCARGOS COMPLEMENTARES. | D28: H | E28: =3.787*E21 -> 0.56289021 | F28: =VLOOKUP(A28,COMP_MAR_25,4,0) -> 27.92 | G28: =TRUNC($E28*F28,2) -> 15.71
A29: 91692 | B29: SINAPI SERVIÇO | C29: SERRA CIRCULAR DE BANCADA COM MOTOR ELÉTRICO POTÊNCIA DE 5HP, COM COIFA PARA DISCO 10" - CHP DIURNO. | D29: CHP | E29: =0.072*E21 -> 0.0107019 | F29: =VLOOKUP(A29,COMP_MAR_25,4,0) -> 25.84 | G29: =TRUNC($E29*F29,2) -> 0.27
A30: 91693 | B30: SINAPI SERVIÇO | C30: SERRA CIRCULAR DE BANCADA COM MOTOR ELÉTRICO POTÊNCIA DE 5HP, COM COIFA PARA DISCO 10" - CHI DIURNO. | D30: CHI | E30: =0.141*E21 -> 0.020957887 | F30: =VLOOKUP(A30,COMP_MAR_25,4,0) -> 24.46 | G30: =TRUNC($E30*F30,2) -> 0.51
A31: 92915 | B31: SINAPI SERVIÇO | C31: ARMAÇÃO DE ESTRUTURAS DIVERSAS DE CONCRETO ARMADO, EXCETO VIGAS, PILARES, LAJES E FUNDAÇÕES, UTILIZANDO AÇO CA-60 DE 5,0 MM - MONTAGEM. | D31: KG | E31: 2 | F31: =VLOOKUP(A31,COMP_MAR_25,4,0) -> 17.13 | G31: =TRUNC($E31*F31,2) -> 34.26
A32: 92917 | B32: SINAPI SERVIÇO | C32: ARMAÇÃO DE ESTRUTURAS DIVERSAS DE CONCRETO ARMADO, EXCETO VIGAS, PILARES, LAJES E FUNDAÇÕES, UTILIZANDO AÇO CA-50 DE 8,0 MM - MONTAGEM. | D32: KG | E32: 3 | F32: =VLOOKUP(A32,COMP_MAR_25,4,0) -> 14.12 | G32: =TRUNC($E32*F32,2) -> 42.36
A34: AUX.003 | B34: AUXILIAR | C34: CONCRETO ESTRUTURAL FCK 20MPA. | D34: M3 | G34: =SUM(G35:G37) -> 548.06
A35: 88304 | B35: SINAPI SERVIÇO | C35: OPERADOR DE USINA DE ASFALTO, DE SOLOS OU DE CONCRETO COM ENCARGOS COMPLEMENTARES. | D35: H | E35: 0.971 | F35: =VLOOKUP(A35,COMP_MAR_25,4,0) -> 29.08 | G35: =TRUNC($E35*F35,2) -> 28.23
A36: 88243 | B36: SINAPI SERVIÇO | C36: AJUDANTE ESPECIALIZADO COM ENCARGOS COMPLEMENTARES. | D36: H | E36: 0.971 | F36: =VLOOKUP(A36,COMP_MAR_25,4,0) -> 23.92 | G36: =TRUNC($E36*F36,2) -> 23.22
A37: 1524 | B37: SINAPI INSUMO | C37: CONCRETO USINADO BOMBEAVEL, CLASSE DE RESISTENCIA C20, BRITA 0 E 1, SLUMP = 100 +/- 20 MM, COM BOMBEAMENTO (DISPONIBILIZACAO DE BOMBA), SEM O LANCAMENTO (NBR 8953). | D37: M3 | E37: 1 | F37: =VLOOKUP(A37,INSU_MAR_25,4,0) -> 496.61 | G37: =TRUNC($E37*F37,2) -> 496.61
A39: AUX.004 | B39: AUXILIAR | C39: TAMPA DE CONCRETO ARMADO (0,50 X 1,00 X 0,10M) PARA CANALETA EM ALVENARIA DE BLOCOS ESTRUTURAIS. | D39: UND | G39: =SUM(G40:G44) -> 73.38
A40: 1527 | B40: SINAPI INSUMO | C40: CONCRETO USINADO BOMBEAVEL, CLASSE DE RESISTENCIA C25, BRITA 0 E 1, SLUMP = 100 +/- 20 MM, COM BOMBEAMENTO (DISPONIBILIZACAO DE BOMBA), SEM O LANCAMENTO (NBR 8953). | D40: M3 | E40: =H40*$I$40 -> 0.05 | F40: =VLOOKUP(A40,INSU_MAR_25,4,0) -> 512.38 | G40: =TRUNC($E40*F40,2) -> 25.61 | H40: 0.1 | I40: 0.5 | J40: (m2)
A41: 92921 | B41: SINAPI SERVIÇO | C41: ARMAÇÃO DE ESTRUTURAS DIVERSAS DE CONCRETO ARMADO, EXCETO VIGAS, PILARES, LAJES E FUNDAÇÕES, UTILIZANDO AÇO CA-50 DE 12,5 MM - MONTAGEM. | D41: KG | E41: =H41*$I$40 -> 1.25 | F41: =VLOOKUP(A41,COMP_MAR_25,4,0) -> 10.11 | G41: =TRUNC($E41*F41,2) -> 12.63 | H41: 2.5
A42: 88262 | B42: SINAPI SERVIÇO | C42: CARPINTEIRO DE FORMAS COM ENCARGOS COMPLEMENTARES. | D42: H | E42: =H42*$I$40 -> 0.5 | F42: =VLOOKUP(A42,COMP_MAR_25,4,0) -> 27.92 | G42: =TRUNC($E42*F42,2) -> 13.96 | H42: 1
A43: 6212 | B43: SINAPI INSUMO | C43: TABUA *2,5 X 30 CM EM PINUS, MISTA OU EQUIVALENTE DA REGIAO - BRUTA. | D43: M | E43: =H43*$I$40 -> 1 | F43: =VLOOKUP(A43,INSU_MAR_25,4,0) -> 17.67 | G43: =TRUNC($E43*F43,2) -> 17.67 | H43: 2
A44: 5068 | B44: SINAPI INSUMO | C44: PREGO DE ACO POLIDO COM CABECA 17 X 21 (2 X 11). | D44: KG | E44: =H44*$I$40 -> 0.22 | F44: =VLOOKUP(A44,INSU_MAR_25,4,0) -> 15.97 | G44: =TRUNC($E44*F44,2) -> 3.51 | H44: 0.44
...

Sheet BDI
A1: Prefeitura Municipal de Olinda - PMO Secretaria de Obras - SO Secretaria Executiva de Habitação - Coordenação de Pavimentação | D1: Prefeitura Municipal de Olinda - PMO Secretaria de Obras - SO Secretaria Executiva de Obras - SEO
A2: DESONERADO | D2: NÃO DESONERADO
A3: COMPOSIÇÃO DO BDI (ACÓRDÃO 2.622 / 2013 - TCU) | D3: COMPOSIÇÃO DO BDI (ACÓRDÃO 2.622 / 2013 - TCU)
A5: 1. TIPO DE OBRA: RODOVIAS E FERROVIAS | D5: 1. TIPO DE OBRA: RODOVIAS E FERROVIAS
A8: 2. VALORES REFERENCIAIS PARA COMPOSIÇÃO DE BDI | D8: 2. VALORES REFERENCIAIS PARA COMPOSIÇÃO DE BDI
A11: ADMINISTRAÇÃO CENTRAL ( AC ) | C11: 0.038 | D11: ADMINISTRAÇÃO CENTRAL ( AC ) | F11: 0.038
A13: RISCO ( R ) | C13: 0.005 | D13: RISCO ( R ) | F13: 0.005
A15: SEGUROS E GARANTIAS ( SG ) | C15: 0.0032 | D15: SEGUROS E GARANTIAS ( SG ) | F15: 0.0032
A17: DESPESAS FINANCEIRAS ( DF ) | C17: 0.0102 | D17: DESPESAS FINANCEIRAS ( DF ) | F17: 0.0102
A19: LUCRO BRUTO ( L ) | C19: 0.0664 | D19: LUCRO BRUTO ( L ) | F19: 0.0664
A21: TRIBUTOS ( T ) | C21: =SUM(B22:B24) -> 0.0766 | D21: TRIBUTOS ( T ) | F21: =SUM(E22:E24) -> 0.0761
A22: PIS | B22: 0.0065 | D22: PIS | E22: 0.0065
A23: COFINS | B23: 0.03 | D23: COFINS | E23: 0.03
A24: ISS (Adotado no Município) | B24: 0.0401 | D24: ISS (Adotado no Município) | E24: 0.0396
A26: 3. FÓRMULA BDI (ACÓRDÃO Nº 2.369 / 2011 - TCU) | D26: 3. FÓRMULA BDI (ACÓRDÃO Nº 2.369 / 2011 - TCU)
A28: ONDE: | D28: ONDE:
A29: AC = TAXA DE ADMINISTRAÇÃO CENTRAL | D29: AC = TAXA DE ADMINISTRAÇÃO CENTRAL
A30: R = RISCOS | D30: R = RISCOS
A31: SG = SEGUROS E GARANTIAS | D31: SG = SEGUROS E GARANTIAS
A32: DF = DESPESAS FINANCEIRAS | D32: DF = DESPESAS FINANCEIRAS
A33: L = TAXA DE LUCRO | D33: L = TAXA DE LUCRO
A34: T = TAXA DE TRIBUTOS | D34: T = TAXA DE TRIBUTOS
A36: 4. VALOR DO BDI PARA O TIPO DE OBRA ADOTADO | D36: 4. VALOR DO BDI PARA O TIPO DE OBRA ADOTADO
A38: BDI = | B38: =(((1+C11+C13+C15)*(1+C17)*(1+C19))/(1-C21))-1 -> 0.22054093 | D38: BDI = | E38: =(((1+F11+F13+F15)*(1+F17)*(1+F19))/(1-F21))-1 -> 0.21988039 | I38: 0.21988039

Sheet Cronograma
A1: =Orçamento!A1 -> PREFEITURA MUNICIPAL DE OLINDA
A2: =Orçamento!A2 -> SECRETARIA DE OBRAS
A3: =Orçamento!A3 -> SECRETARIA EXECUTIVA DE OBRAS
A5: OBJETO: | B5: =Resumo!B5 -> CONTRATAÇÃO DE EMPRESA ESPECIALIZADA PARA EXECUÇÃO DE OBRAS DE TERRAPLENAGEM, PAVIMENTAÇÃO, DRENAGEM, ACESSIBILIDADE E SINALIZAÇÃO DA RUA CACIMBÃO NO BAIRRO DE SALGADINHO E RUA COMPOSITOR ATAULFO ALVES NO BAIRRO FRAGOSO, NO MUNICÍPIO DE OLINDA-PE, CONTRATO DE REPASSE: 1088.389-47/2023.
A6: =[42]Resumo!A6 -> Localização: | B6: =Resumo!B6 -> OLINDA - PE | H6: CR 1088.389-47/2023
A7: CRONOGRAMA FÍSICO-FINANCEIRO
A8: ITEM | B8: DESCRIÇÃO | C8: VALOR DO ITEM | D8: DIAS
D9: 30 | E9: 60 | F9: 90 | G9: 120 | H9: 150 | I9: 180
B11: =Resumo!B11 -> RUA DO CACIMBÃO
A12: 1.0 | B12: =VLOOKUP(A12,Resumo!A:C,2,0) -> ADMINISTRAÇÃO LOCAL DA OBRA | C12: =VLOOKUP(A12,Resumo!A:C,3,0) -> 17736.48 | D12: =L16 -> 0.37411456 | E12: =M12/K12 -> 0.33559061 | F12: =N12/K12 -> 0.29029483 | K12: =SUM(C14:C25) -> 392337.5 | L12: =D15+D17+D19+D21+D23+D25 -> 146779.17 | M12: =E15+E17+E19+E21+E23+E25 -> 131664.78 | N12: =F15+F17+F19+F21+F23+F25 -> 113893.55
D13: =C12*$D$12 -> 6635.4754 | E13: =C12*$E$12 -> 5952.1961 | F13: =C12*$F$12 -> 5148.8084 | L13: =L12/$K$12 -> 0.37411456 | M13: =M12/$K$12 -> 0.33559061 | N13: =N12/$K$12 -> 0.29029483
A14: 2.0 | B14: =VLOOKUP(A14,Resumo!A:C,2,0) -> SERVIÇOS PRELIMINARES | C14: =VLOOKUP(A14,Resumo!A:C,3,0) -> 20110.53 | D14: 1
D15: =D14*$C$14 -> 20110.53 | K15: =D13+E13+F13 -> 17736.48 | L15: =D15+D17+D19+D21 -> 146779.17 | M15: =E17+E19+E21+E23 -> 131664.78 | N15: =F17+F21+F23+F25 -> 113893.55
A16: 3.0 | B16: =VLOOKUP(A16,Resumo!A:C,2,0) -> DRENAGEM | C16: =VLOOKUP(A16,Resumo!A:C,3,0) -> 89743.98 | D16: 0.4 | E16: 0.4 | F16: 0.2 | L16: =L15/K12 -> 0.37411456 | M16: =M15/K12 -> 0.33559061 | N16: =N15/K12 -> 0.29029483 | O16: =SUM(L16:N16) -> 1
D17: =D16*$C$16 -> 35897.592 | E17: =E16*$C$16 -> 35897.592 | F17: =F16*$C$16 -> 17948.796
A18: 4.0 | B18: =VLOOKUP(A18,Resumo!A:C,2,0) -> TERRAPLENAGEM | C18: =VLOOKUP(A18,Resumo!A:C,3,0) -> 82368.14 | D18: 0.8 | E18: 0.2 | K18: =D12+E12+F12 -> 1
D19: =D18*$C$18 -> 65894.512 | E19: =E18*$C$18 -> 16473.628
A20: 5.0 | B20: =VLOOKUP(A20,Resumo!A:C,2,0) -> PAVIMENTAÇÃO | C20: =VLOOKUP(A20,Resumo!A:C,3,0) -> 124382.69 | D20: 0.2 | E20: 0.4 | F20: 0.4 | L20: =D21+D19+D17+D15 -> 146779.17 | M20: =L20/K12 -> 0.37411456
D21: =D20*$C$20 -> 24876.538 | E21: =E20*$C$20 -> 49753.076 | F21: =F20*$C$20 -> 49753.076
A22: 6.0 | B22: =VLOOKUP(A22,Resumo!A:C,2,0) -> PASSEIOS | C22: =VLOOKUP(A22,Resumo!A:C,3,0) -> 59080.97 | E22: 0.5 | F22: 0.5
E23: =E22*$C$22 -> 29540.485 | F23: =F22*$C$22 -> 29540.485
A24: 7.0 | B24: =VLOOKUP(A24,Resumo!A:C,2,0) -> SINALIZAÇÃO | C24: =VLOOKUP(A24,Resumo!A:C,3,0) -> 16651.19 | F24: 1
F25: =F24*$C$24 -> 16651.19
B26: =Resumo!B19 -> RUA COMPOSITOR ATAULFO ALVES
A27: =Orçamento!A68 -> 8.0 | B27: =VLOOKUP(A27,Resumo!A:C,2,0) -> ADMINISTRAÇÃO LOCAL DA OBRA | C27: =VLOOKUP(A27,Resumo!A:C,3,0) -> 17736.48 | G27: =L27/K27 -> 0.26877829 | H27: =M27/K27 -> 0.39008397 | I27: =N27/K27 -> 0.34113774 | K27: =SUM(C29:C40) -> 585356.08 | L27: =G30+G32+G34+G36+G38+G40 -> 157331.01 | M27: =H30+H32+H34+H36+H38+H40 -> 228338.02 | N27: =I30+I32+I34+I36+I38+I40 -> 199687.05
G28: =C27*$G$27 -> 4767.1808 | H28: =C27*$H$27 -> 6918.7165 | I28: =C27*$I$27 -> 6050.5827 | L28: =L27/K27 -> 0.26877829 | M28: =M27/K27 -> 0.39008397 | N28: =N27/K27 -> 0.34113774
A29: =Orçamento!A71 -> 9.0 | B29: =VLOOKUP(A29,Resumo!A:C,2,0) -> SERVIÇOS PRELIMINARES | C29: =VLOOKUP(A29,Resumo!A:C,3,0) -> 20312.16 | G29: 1
G30: =G29*$C$29 -> 20312.16 | K30: =G28+H28+I28 -> 17736.48 | L30: =K15+K30 -> 35472.96
A31: =Orçamento!A77 -> 10.0 | B31: =VLOOKUP(A31,Resumo!A:C,2,0) -> TERRAPLENAGEM E MOVIMENTO DE TERRA | C31: =VLOOKUP(A31,Resumo!A:C,3,0) -> 205914.16 | G31: 0.4 | H31: 0.4 | I31: 0.2
G32: =G31*$C$31 -> 82365.664 | H32: =H31*$C$31 -> 82365.664 | I32: =I31*$C$31 -> 41182.832 | K32: =G27+H27+I27 -> 1 | L32: =K18+K32 -> 2
A33: =Orçamento!A87 -> 11.0 | B33: =VLOOKUP(A33,Resumo!A:C,2,0) -> DRENAGEM | C33: =VLOOKUP(A33,Resumo!A:C,3,0) -> 7264.25 | G33: 0.8 | H33: 0.2
G34: =G33*$C$33 -> 5811.4 | H34: =H33*$C$33 -> 1452.85
A35: =Orçamento!A90 -> 12.0 | B35: =VLOOKUP(A35,Resumo!A:C,2,0) -> PAVIMENTAÇÃO | C35: =VLOOKUP(A35,Resumo!A:C,3,0) -> 244208.91 | G35: 0.2 | H35: 0.4 | I35: 0.4
G36: =G35*$C$35 -> 48841.782 | H36: =H35*$C$35 -> 97683.564 | I36: =I35*$C$35 -> 97683.564
A37: =Orçamento!A96 -> 13.0 | B37: =VLOOKUP(A37,Resumo!A:C,2,0) -> PASSEIOS | C37: =VLOOKUP(A37,Resumo!A:C,3,0) -> 93671.89 | H37: 0.5 | I37: 0.5
H38: =H37*$C$37 -> 46835.945 | I38: =I37*$C$37 -> 46835.945
A39: =Orçamento!A102 -> 14.0 | B39: =VLOOKUP(A39,Resumo!A:C,2,0) -> SINALIZAÇÃO | C39: =VLOOKUP(A39,Resumo!A:C,3,0) -> 13984.71 | I39: 1
I40: =I39*$C$39 -> 13984.71
B41: TOTAL ADMINISTRAÇÃO DA OBRA | C41: =C12+C27 -> 35472.96
B42: TOTAL DOS SERVIÇOS SEM ADMINISTRAÇÃO DA OBRA | C42: =C14+C16+C18+C20+C22+C24+C29+C31+C33+C35+C37+C39 -> 977693.58
...

Sheet Enc. sociais mão de obra
A1: Encargos Sociais – Pernambuco
A2: PERNAMBUCO VIGÊNCIA A PARTIR DE 01/2025
A4: ENCARGOS SOCIAIS SOBRE A MÃO DE OBRA
A5: CÓDIGO | B5: DESCRIÇÃO | C5: COM DESONERAÇÃO | E5: SEM DESONERAÇÃO
C6: HORISTA % | D6: MENSALISTA % | E6: HORISTA % | F6: MENSALISTA %
A7: GRUPO A
A8: A1 | B8: INSS | C8: 0.05 | D8: 0.05 | E8: 0.2 | F8: 0.2
A9: A2 | B9: SESI | C9: 0.015 | D9: 0.015 | E9: 0.015 | F9: 0.015
A10: A3 | B10: SENAI | C10: 0.01 | D10: 0.01 | E10: 0.01 | F10: 0.01
A11: A4 | B11: INCRA | C11: 0.002 | D11: 0.002 | E11: 0.002 | F11: 0.002
A12: A5 | B12: SEBRAE | C12: 0.006 | D12: 0.006 | E12: 0.006 | F12: 0.006
A13: A6 | B13: Salário Educação | C13: 0.025 | D13: 0.025 | E13: 0.025 | F13: 0.025
A14: A7 | B14: Seguro Contra Acidentes de Trabalho | C14: 0.03 | D14: 0.03 | E14: 0.03 | F14: 0.03
A15: A8 | B15: FGTS | C15: 0.08 | D15: 0.08 | E15: 0.08 | F15: 0.08
A16: A9 | B16: SECONCI | C16: 0 | D16: 0 | E16: 0 | F16: 0
A17: A | B17: Total | C17: =SUM(C8:C16) -> 0.218 | D17: =SUM(D8:D16) -> 0.218 | E17: =SUM(E8:E16) -> 0.368 | F17: =SUM(F8:F16) -> 0.368
A18: GRUPO B
A19: B1 | B19: Repouso Semanal Remunerado | C19: 0.1801 | D19: Não incide | E19: 0.1801 | F19: Não incide
A20: B2 | B20: Feriados | C20: 0.0432 | D20: Não incide | E20: 0.0432 | F20: Não incide
A21: B3 | B21: Auxílio - Enfermidade | C21: 0.0086 | D21: 0.0065 | E21: 0.0086 | F21: 0.0065
A22: B4 | B22: 13º Salário | C22: 0.1097 | D22: 0.0833 | E22: 0.1097 | F22: 0.0833
A23: B5 | B23: Licença Paternidade | C23: 0.0007 | D23: 0.0005 | E23: 0.0007 | F23: 0.0005
A24: B6 | B24: Faltas Justificadas | C24: 0.0073 | D24: 0.0056 | E24: 0.0073 | F24: 0.0056
A25: B7 | B25: Dias de Chuvas | C25: 0.0196 | D25: Não incide | E25: 0.0196 | F25: Não incide
A26: B8 | B26: Auxílio Acidente de Trabalho | C26: 0.001 | D26: 0.0007 | E26: 0.001 | F26: 0.0007
A27: B9 | B27: Férias Gozadas | C27: 0.0995 | D27: 0.0756 | E27: 0.0995 | F27: 0.0756
A28: B10 | B28: Salário Maternidade | C28: 0.0003 | D28: 0.0003 | E28: 0.0003 | F28: 0.0003
A29: B | B29: Total | C29: =SUM(C19:C28) -> 0.47 | D29: =SUM(D19:D28) -> 0.1725 | E29: =SUM(E19:E28) -> 0.47 | F29: =SUM(F19:F28) -> 0.1725
A30: GRUPO C
A31: C1 | B31: Aviso Prévio Indenizado | C31: 0.0477 | D31: 0.0363 | E31: 0.0477 | F31: 0.0363
A32: C2 | B32: Aviso Prévio Trabalhado | C32: 0.0011 | D32: 0.0009 | E32: 0.0011 | F32: 0.0009
A33: C3 | B33: Férias Indenizadas | C33: 0.0398 | D33: 0.0303 | E33: 0.0398 | F33: 0.0303
A34: C4 | B34: Depósito Rescisão Sem Justa Causa | C34: 0.0306 | D34: 0.0233 | E34: 0.0306 | F34: 0.0233
A35: C5 | B35: Indenização Adicional | C35: 0.004 | D35: 0.0031 | E35: 0.004 | F35: 0.0031
A36: C | B36: Total | C36: =SUM(C31:C35) -> 0.1232 | D36: =SUM(D31:D35) -> 0.0939 | E36: =SUM(E31:E35) -> 0.1232 | F36: =SUM(F31:F35) -> 0.0939
A37: GRUPO D
A38: D1 | B38: Reincidência de Grupo A sobre Grupo B (sem considerar INNS sobre 13º, conforme Lei nº 14.973/2024) | C38: 0.097 | D38: 0.0334 | E38: 0.173 | F38: 0.0635
A39: D2 | B39: Reincidência de Grupo A sobre Aviso Prévio Trabalhado e Reincidência do FGTS sobre Aviso Prévio Indenizado | C39: 0.0041 | D39: 0.0031 | E39: 0.0042 | F39: 0.0032
A40: D | B40: Total | C40: =SUM(C38:C39) -> 0.1011 | D40: =SUM(D38:D39) -> 0.0365 | E40: =SUM(E38:E39) -> 0.1772 | F40: =SUM(F38:F39) -> 0.0667
A41: TOTAL(A+B+C+D) | C41: =SUM(C40,C36,C29,C17) -> 0.9123 | D41: =SUM(D40,D36,D29,D17) -> 0.5209 | E41: =SUM(E40,E36,E29,E17) -> 1.1384 | F41: =SUM(F40,F36,F29,F17) -> 0.7011
...

Sheet Planilha1
A4: CÓDIGO | B4: DESCRIÇÃO | C4: QUANTIDADE | D4: PREÇO UNIT C/ BDI (R$) | E4: PREÇO TOTAL (R$) | F4: % | G4: % ACUM. | H4: =SUM(E5:E50) -> 1013166.5
A5: 101169 | B5: =VLOOKUP(A5,Orçamento!B:K,4,FALSE) -> EXECUÇÃO DE PAVIMENTO EM PARALELEPÍPEDOS, REJUNTAMENTO COM ARGAMASSA TRAÇO 1:3 (CIMENTO E AREIA). | C5: =M5 -> 2492.82 | D5: =N5 -> 104.78 | E5: =C5*D5 -> 261197.68 | F5: =E5/(SUM($E$5:$E$50)) -> 0.2578033 | G5: =SUM(F5,G4) -> 0.2578033 | M5: =SUMIF(Orçamento!B:B,A5,Orçamento!G:G) -> 2492.82 | N5: =VLOOKUP(A5,Orçamento!B:K,9,FALSE) -> 104.78
A6: 96396 | B6: =VLOOKUP(A6,Orçamento!B:K,4,FALSE) -> CONSTRUÇÃO DE BASE E SUB-BASE PARA PAVIMENTAÇÃO DE BRITA GRADUADA SIMPLES, COM ESPESSURA DE 15 CM - EXCLUSIVE CARGA E TRANSPORTE. AF_09/2024 | C6: =M6 -> 641.31 | D6: =N6 -> 210.82 | E6: =C6*D6 -> 135200.97 | F6: =E6/(SUM($E$5:$E$50)) -> 0.13344398 | G6: =SUM(F6,G5) -> 0.39124728 | M6: =SUMIF(Orçamento!B:B,A6,Orçamento!G:G) -> 641.31 | N6: =VLOOKUP(A6,Orçamento!B:K,9,FALSE) -> 210.82
A7: 94990 | B7: =VLOOKUP(A7,Orçamento!B:K,4,FALSE) -> EXECUÇÃO DE PASSEIO (CALÇADA) OU PISO DE CONCRETO COM CONCRETO MOLDADO IN LOCO, FEITO EM OBRA, ACABAMENTO CONVENCIONAL, NÃO ARMADO. | C7: =M7 -> 129.14 | D7: =N7 -> 945.54 | E7: =C7*D7 -> 122107.04 | F7: =E7/(SUM($E$5:$E$50)) -> 0.1205202 | G7: =SUM(F7,G6) -> 0.51176748 | M7: =SUMIF(Orçamento!B:B,A7,Orçamento!G:G) -> 129.14 | N7: =VLOOKUP(A7,Orçamento!B:K,9,FALSE) -> 945.54
A8: COMPOSIÇÃO 18 | B8: =VLOOKUP(A8,Orçamento!B:K,4,FALSE) -> CANALETA DE DRENAGEM EM ALVENARIA DE BLOCO DE CONCRETO, DIMENSÕES INTERNAS 40 X 60CM, COM TAMPA DE CONCRETO ARMADO (0,50 X 1,00M X 0,10M). | C8: =M8 -> 180.13 | D8: =N8 -> 485.46 | E8: =C8*D8 -> 87445.91 | F8: =E8/(SUM($E$5:$E$50)) -> 0.086309512 | G8: =SUM(F8,G7) -> 0.59807699 | M8: =SUMIF(Orçamento!B:B,A8,Orçamento!G:G) -> 180.13 | N8: =VLOOKUP(A8,Orçamento!B:K,9,FALSE) -> 485.46
A9: 95877 | B9: =VLOOKUP(A9,Orçamento!B:K,4,FALSE) -> TRANSPORTE COM CAMINHÃO BASCULANTE DE 18 M³, EM VIA URBANA PAVIMENTADA, DMT ATÉ 30 KM (UNIDADE: M3XKM). | C9: =M9 -> 36221.16 | D9: =N9 -> 2.26 | E9: =C9*D9 -> 81859.822 | F9: =E9/(SUM($E$5:$E$50)) -> 0.080796017 | G9: =SUM(F9,G8) -> 0.67887301 | M9: =SUMIF(Orçamento!B:B,A9,Orçamento!G:G) -> 36221.16 | N9: =VLOOKUP(A9,Orçamento!B:K,9,FALSE) -> 2.26
A10: 94273 | B10: =VLOOKUP(A10,Orçamento!B:K,4,FALSE) -> ASSENTAMENTO DE GUIA (MEIO-FIO) EM TRECHO RETO, CONFECCIONADA EM CONCRETO PRÉ-FABRICADO, DIMENSÕES 100X15X13X30 CM (COMPRIMENTO X BASE INFERIOR X BASE SUPERIOR X ALTURA). | C10: =M10 -> 1153.44 | D10: =N10 -> 62.52 | E10: =C10*D10 -> 72113.069 | F10: =E10/(SUM($E$5:$E$50)) -> 0.071175928 | G10: =SUM(F10,G9) -> 0.75004894 | M10: =SUMIF(Orçamento!B:B,A10,Orçamento!G:G) -> 1153.44 | N10: =VLOOKUP(A10,Orçamento!B:K,9,FALSE) -> 62.52
A11: COMPOSIÇÃO 07 | B11: =VLOOKUP(A11,Orçamento!B:K,4,FALSE) -> LOCAÇÃO DE BANHEIRO QUÍMICO COM LIMPEZA DIÁRIA INCLUSO COLETA E DESTINAÇÃO FINAL DE EFLUENTES. | C11: =M11 -> 6 | D11: =N11 -> 5077.13 | E11: =C11*D11 -> 30462.78 | F11: =E11/(SUM($E$5:$E$50)) -> 0.030066903 | G11: =SUM(F11,G10) -> 0.78011584 | M11: =SUMIF(Orçamento!B:B,A11,Orçamento!G:G) -> 6 | N11: =VLOOKUP(A11,Orçamento!B:K,9,FALSE) -> 5077.13
A12: 95875 | B12: =VLOOKUP(A12,Orçamento!B:K,4,FALSE) -> TRANSPORTE COM CAMINHÃO BASCULANTE DE 10 M³, EM VIA URBANA PAVIMENTADA, DMT ATÉ 30 KM (UNIDADE: M3XKM). | C12: =M12 -> 9287.46 | D12: =N12 -> 3.16 | E12: =C12*D12 -> 29348.374 | F12: =E12/(SUM($E$5:$E$50)) -> 0.028966979 | G12: =SUM(F12,G11) -> 0.80908282 | M12: =SUMIF(Orçamento!B:B,A12,Orçamento!G:G) -> 9287.46 | N12: =VLOOKUP(A12,Orçamento!B:K,9,FALSE) -> 3.16
A13: 90777 | B13: =VLOOKUP(A13,Orçamento!B:K,4,FALSE) -> ENGENHEIRO CIVIL DE OBRA JUNIOR COM ENCARGOS COMPLEMENTARES. | C13: =M13 -> 144 | D13: =N13 -> 158.04 | E13: =C13*D13 -> 22757.76 | F13: =E13/(SUM($E$5:$E$50)) -> 0.022462013 | G13: =SUM(F13,G12) -> 0.83154483 | M13: =SUMIF(Orçamento!B:B,A13,Orçamento!G:G) -> 144 | N13: =VLOOKUP(A13,Orçamento!B:K,9,FALSE) -> 158.04
A14: 94281 | B14: =VLOOKUP(A14,Orçamento!B:K,4,FALSE) -> EXECUÇÃO DE SARJETA DE CONCRETO USINADO, MOLDADA IN LOCO EM TRECHO RETO, 30 CM BASE X 15 CM ALTURA. | C14: =M14 -> 394.03 | D14: =N14 -> 52.38 | E14: =C14*D14 -> 20639.291 | F14: =E14/(SUM($E$5:$E$50)) -> 0.020371075 | G14: =SUM(F14,G13) -> 0.85191591 | M14: =SUMIF(Orçamento!B:B,A14,Orçamento!G:G) -> 394.03 | N14: =VLOOKUP(A14,Orçamento!B:K,9,FALSE) -> 52.38
A15: 100980 | B15: =VLOOKUP(A15,Orçamento!B:K,4,FALSE) -> CARGA, MANOBRA E DESCARGA DE SOLOS E MATERIAIS GRANULARES EM CAMINHÃO BASCULANTE 18 M³ - CARGA COM ESCAVADEIRA HIDRÁULICA (CAÇAMBA DE 1,20 M³ / 155 HP) E DESCARGA LIVRE (UNIDADE: M3). | C15: =M15 -> 2290.63 | D15: =N15 -> 7.8 | E15: =C15*D15 -> 17866.914 | F15: =E15/(SUM($E$5:$E$50)) -> 0.017634726 | G15: =SUM(F15,G14) -> 0.86955063 | M15: =SUMIF(Orçamento!B:B,A15,Orçamento!G:G) -> 2290.63 | N15: =VLOOKUP(A15,Orçamento!B:K,9,FALSE) -> 7.8
A16: 105002 | B16: =VLOOKUP(A16,Orçamento!B:K,4,FALSE) -> RAMPA DE ACESSIBILIDADE EM CONCRETO MOLDADO IN LOCO, EM CALÇADA NOVA COM LARGURA MAIOR OU IGUAL À 3,00 M, FCK 25MPA, COM PISO PODOTÁTIL. | C16: =M16 -> 18 | D16: =N16 -> 864.32 | E16: =C16*D16 -> 15557.76 | F16: =E16/(SUM($E$5:$E$50)) -> 0.01535558 | G16: =SUM(F16,G15) -> 0.88490621 | M16: =SUMIF(Orçamento!B:B,A16,Orçamento!G:G) -> 18 | N16: =VLOOKUP(A16,Orçamento!B:K,9,FALSE) -> 864.32
A17: COMPOSIÇÃO 08 | B17: =VLOOKUP(A17,Orçamento!B:K,4,FALSE) -> FORNECIMENTO E INSTALAÇÃO DE PLACA DE SINALIZAÇÃO EM CHAPA DE AÇO EM SUPORTE DE MADEIRA. | C17: =M17 -> 12.52 | D17: =N17 -> 1160.86 | E17: =C17*D17 -> 14533.967 | F17: =E17/(SUM($E$5:$E$50)) -> 0.014345092 | G17: =SUM(F17,G16) -> 0.8992513 | M17: =SUMIF(Orçamento!B:B,A17,Orçamento!G:G) -> 12.52 | N17: =VLOOKUP(A17,Orçamento!B:K,9,FALSE) -> 1160.86
A18: 90776 | B18: =VLOOKUP(A18,Orçamento!B:K,4,FALSE) -> ENCARREGADO GERAL COM ENCARGOS COMPLEMENTARES. | C18: =M18 -> 288 | D18: =N18 -> 44.15 | E18: =C18*D18 -> 12715.2 | F18: =E18/(SUM($E$5:$E$50)) -> 0.01254996 | G18: =SUM(F18,G17) -> 0.91180126 | M18: =SUMIF(Orçamento!B:B,A18,Orçamento!G:G) -> 288 | N18: =VLOOKUP(A18,Orçamento!B:K,9,FALSE) -> 44.15
