Workbook

Sheet ORÇAMENTO
C1: PREFEITURA MUNICIPAL DE GOIANA
C2: SECRETARIA DE SAÚDE
N3: lembrar de adicionar emboço para corrigir as imperfeiççoes
A4: OBRA: | C4: CONTRATAÇÃO DE EMPRESA ESPECIALIZADA PARA EXECUÇÃO DOS SERVIÇOS REMANESCENTES E COMPLEMENTARES VISANDO À RETOMADA E CONCLUSÃO DA OBRA DE CONSTRUÇÃO DA UNIDADE BÁSICA DE SAÚDE – UBS MALVINAS | J4: BDI: | K4: 0.2452 | N4: pintrua do muro
A5: ENDEREÇO: | C5: LOTEAMENTO GULANDIM S/N, MALVINAS, DISTRITO DE PONTA DE PEDRAS, MUNICIPIO DE GOIANA - PE. | J5: BDI DIFERENCIADO: | K5: 0.1632 | N5: chapim em cima DA PLATIBANDA E DO MURO
A6: DATA: | C6: 46054 | N6: ar condicionado
A7: TABELAS DE REFER: | C7: SINAPI - JANEIRO 2026 (DESONERADA) , ORSE - I DEZ/2025 e SEINFRA - 028.1 | N7: INSTALAÇÃO PROVISÓRIA DE A´GUA E ESGOTO
A8: Orçamento Sintético | N8: GRADE?
A9: Item | B9: Código | C9: Banco | D9: Descrição | E9: Und | F9: Quant. | G9: Valor Unit sem BDI | H9: BDI | I9: Valor Unit com BDI | J9: Valor Total sem BDI | K9: Valor Total com BDI | L9: Peso (%) | N9: ARMAÇÃO SAPATA DO MURO
A10: 1 | D10: SERVIÇOS PRELIMINARES | J10: =SUM(J11:J18) -> 31411.38 | K10: =SUM(K11:K18) -> 38536.19 | L10: =K10/$J$321 -> 0.044481925 | N10: TAPUME?
A11: 1.1 | B11: 103689 | C11: SINAPI | D11: FORNECIMENTO E INSTALAÇÃO DE PLACA DE OBRA COM CHAPA GALVANIZADA E ESTRUTURA DE MADEIRA. AF_03/2022_PS | E11: M² | F11: ='Memória de Cálculo'!J11 -> 4.5 | G11: 466.25 | H11: =$K$4 -> 0.2452 | I11: =TRUNC(G11*1.2452,2) -> 580.57 | J11: =TRUNC(F11*G11,2) -> 2098.12 | K11: =TRUNC(I11*F11,2) -> 2612.56 | L11: =K11/$J$321 -> 0.0030156509 | M11: 671.99
A12: 1.2 | B12: C4995 | C12: SEINFRA | D12: LOCAÇÃO DE CONTÊINER BANHEIRO COM 02 VASOS SANITÁRIOS, 01 LAVATÓRIO E 04 CHUVEIROS - 6,00 X 2,35M | E12: MÊS | F12: ='Memória de Cálculo'!J15 -> 6 | G12: 1163.86 | H12: =K5 -> 0.1632 | I12: =TRUNC(G12*1.1632,2) -> 1353.8 | J12: =TRUNC(F12*G12,2) -> 6983.16 | K12: =TRUNC(I12*F12,2) -> 8122.8 | L12: =K12/$J$321 -> 0.0093760639 | M12: 912.26 | N12: FERRAGEM SAPATA DO MURO
A13: 1.3 | B13: 94319 | C13: SINAPI | D13: ATERRO MANUAL DE VALAS COM SOLO ARGILO-ARENOSO. AF_08/2023 | E13: M³ | F13: ='Memória de Cálculo'!J21 -> 78 | G13: 80.22 | H13: =$K$4 -> 0.2452 | I13: =TRUNC(G13*1.2452,2) -> 99.88 | J13: =TRUNC(F13*G13,2) -> 6257.16 | K13: =TRUNC(I13*F13,2) -> 7790.64 | L13: =K13/$J$321 -> 0.008992655
A14: 1.4 | B14: 98459 | C14: SINAPI | D14: TAPUME COM TELHA METÁLICA. AF_03/2024 | E14: M² | F14: ='Memória de Cálculo'!J25 -> 121 | G14: 93.47 | H14: =$K$4 -> 0.2452 | I14: =TRUNC(G14*1.2452,2) -> 116.38 | J14: =TRUNC(F14*G14,2) -> 11309.87 | K14: =TRUNC(I14*F14,2) -> 14081.98 | L14: =K14/$J$321 -> 0.016254684 | M14: 958,1 - 350,47
A15: 1.5 | B15: 97637 | C15: SINAPI | D15: REMOÇÃO DE TAPUME/ CHAPAS METÁLICAS E DE MADEIRA, DE FORMA MANUAL, SEM REAPROVEITAMENTO. AF_09/2023 | E15: M² | F15: ='Memória de Cálculo'!J29 -> 121 | G15: 2.89 | H15: =$K$4 -> 0.2452 | I15: =TRUNC(G15*1.2452,2) -> 3.59 | J15: =TRUNC(F15*G15,2) -> 349.69 | K15: =TRUNC(I15*F15,2) -> 434.39 | L15: =K15/$J$321 -> 0.00050141188
A16: 1.6 | B16: C2851 | C16: SEINFRA | D16: INSTALAÇÕES PROVISÓRIAS DE ÁGUA | E16: UN | F16: 1 | G16: 1343.32 | H16: =$K$4 -> 0.2452 | I16: =TRUNC(G16*1.2452,2) -> 1672.7 | J16: =TRUNC(F16*G16,2) -> 1343.32 | K16: =TRUNC(I16*F16,2) -> 1672.7 | L16: =K16/$J$321 -> 0.0019307803
A17: 1.7 | B17: C2849 | C17: SENFRA | D17: INSTALAÇÕES PROVISÓRIAS DE ESGOTO | E17: UN | F17: 1 | G17: 262.81 | H17: =$K$4 -> 0.2452 | I17: =TRUNC(G17*1.2452,2) -> 327.25 | J17: =TRUNC(F17*G17,2) -> 262.81 | K17: =TRUNC(I17*F17,2) -> 327.25 | L17: =K17/$J$321 -> 0.00037774128
A18: 1.8 | B18: C2102 | C18: SEINFRA | D18: RASPAGEM E LIMPEZA DO TERRENO | E18: M² | F18: ='Memória de Cálculo'!J41 -> 607.63 | G18: 4.62 | H18: =$K$4 -> 0.2452 | I18: =TRUNC(G18*1.2452,2) -> 5.75 | J18: =TRUNC(F18*G18,2) -> 2807.25 | K18: =TRUNC(I18*F18,2) -> 3493.87 | L18: =K18/$J$321 -> 0.0040329379
A19: 2 | D19: ADMINISTRAÇÃO LOCAL | J19: =SUM(J20:J21) -> 84229.2 | K19: =SUM(K20:K21) -> 104881.92 | L19: =K19/$J$321 -> 0.12106411 | N19: FERRAGENS CASINHAS
A20: 2.1 | B20: 90776 | C20: SINAPI | D20: ENCARREGADO GERAL COM ENCARGOS COMPLEMENTARES | E20: H | F20: ='Memória de Cálculo'!J47 -> 1056 | G20: 45.27 | H20: =$K$4 -> 0.2452 | I20: =TRUNC(G20*1.2452,2) -> 56.37 | J20: =TRUNC(F20*G20,2) -> 47805.12 | K20: =TRUNC(I20*F20,2) -> 59526.72 | L20: =K20/$J$321 -> 0.068711076 | M20: 38.89
A21: 2.2 | B21: 90778 | C21: SINAPI | D21: ENGENHEIRO CIVIL DE OBRA PLENO COM ENCARGOS COMPLEMENTARES | E21: H | F21: ='Memória de Cálculo'!J51 -> 264 | G21: 137.97 | H21: =$K$4 -> 0.2452 | I21: =TRUNC(G21*1.2452,2) -> 171.8 | J21: =TRUNC(F21*G21,2) -> 36424.08 | K21: =TRUNC(I21*F21,2) -> 45355.2 | L21: =K21/$J$321 -> 0.052353037 | M21: 126.62
A22: 3 | D22: ESTRUTURAS METÁLICAS | J22: =SUM(J23:J32) -> 74145.04 | K22: =SUM(K23:K32) -> 92140.65 | L22: =K22/$J$321 -> 0.106357
A23: 3.1 | B23: COMPOSIÇÃO 01 | C23: PRÓPRIO | D23: VIGA METÁLICA EM PERFIL LAMINADO OU SOLDADO EM AÇO ESTRUTURAL, COM CONEXÕES SOLDADAS, INCLUSOS MÃO DE OBRA, TRANSPORTE E IÇAMENTO UTILIZANDO GUINDASTE - FORNECIMENTO E INSTALAÇÃO. | E23: KG | F23: ='Memória de Cálculo'!J68 -> 3098.5572 | G23: =Composições!J22 -> 18.81 | H23: =$K$4 -> 0.2452 | I23: =TRUNC(G23*1.2452,2) -> 23.42 | J23: =TRUNC(F23*G23,2) -> 58283.86 | K23: =TRUNC(F23*I23,2) -> 72568.2 | L23: =K23/$J$321 -> 0.083764721 | M23: 19.02
A24: 3.2 | B24: COMPOSIÇÃO 02 | C24: PRÓPRIO | D24: PILAR METÁLICO PERFIL LAMINADO OU SOLDADO EM AÇO ESTRUTURAL, COM CONEXÕES SOLDADAS, INCLUSOS MÃO DE OBRA, TRANSPORTE E IÇAMENTO UTILIZANDO GUINDASTE - FORNECIMENTO E INSTALAÇÃO. | E24: KG | F24: ='Memória de Cálculo'!J73 -> 444.416 | G24: =Composições!J36 -> 20.47 | H24: =$K$4 -> 0.2452 | I24: =TRUNC(G24*1.2452,2) -> 25.48 | J24: =TRUNC(F24*G24,2) -> 9097.19 | K24: =TRUNC(F24*I24,2) -> 11323.71 | L24: =K24/$J$321 -> 0.013070841 | M24: 18.8
A25: 3.3 | B25: 95108 | C25: SINAPI | D25: EXECUÇÃO DE PROTEÇÃO DA CABEÇA DO TIRANTE COM USO DE FÔRMAS METÁLICAS, 50 UTILIZAÇÕES, E CONCRETO FCK =15 MPA. AF_11/2023 | E25: UN | F25: ='Memória de Cálculo'!J77 -> 2 | G25: 38.65 | H25: =$K$4 -> 0.2452 | I25: =TRUNC(G25*1.2452,2) -> 48.12 | J25: =TRUNC(F25*G25,2) -> 77.3 | K25: =TRUNC(F25*I25,2) -> 96.24 | L25: =K25/$J$321 -> 0.00011108883 | M25: 30.96
A26: 3.4 | B26: 1332 | C26: SINAPI-I | D26: CHAPA DE ACO GROSSA, ASTM A36, E = 3/8 " (9,53 MM) 74,69 KG/M² | E26: KG | F26: ='Memória de Cálculo'!J81 -> 6.96 | G26: 8.12 | H26: 0.1632 | I26: =TRUNC(G26*1.1632,2) -> 9.44 | J26: =TRUNC(F26*G26,2) -> 56.51 | K26: =TRUNC(F26*I26,2) -> 65.7 | L26: =K26/$J$321 -> 7.5836829e-05 | M26: 9.57
A27: 3.5 | B27: 1334 | C27: SINAPI-I | D27: CHAPA DE ACO GROSSA, ASTM A36, E = 5/8 " (15,88 MM) 124,49 KG/M² | E27: KG | F27: ='Memória de Cálculo'!J85 -> 45.28 | G27: 9 | H27: 0.1632 | I27: =TRUNC(G27*1.1632,2) -> 10.46 | J27: =TRUNC(F27*G27,2) -> 407.52 | K27: =TRUNC(F27*I27,2) -> 473.62 | L27: =K27/$J$321 -> 0.00054669466 | M27: 10.62
A28: 3.6 | B28: 11962 | C28: SINAPI-I | D28: PARAFUSO ZINCADO, SEXTAVADO, COM ROSCA INTEIRA, DIAMETRO 1/4", COMPRIMENTO 1/2" | E28: UN | F28: ='Memória de Cálculo'!J89 -> 32 | G28: 0.35 | H28: 0.1632 | I28: =TRUNC(G28*1.1632,2) -> 0.4 | J28: =TRUNC(F28*G28,2) -> 11.2 | K28: =TRUNC(F28*I28,2) -> 12.8 | L28: =K28/$J$321 -> 1.4774907e-05 | M28: 0.29
A29: 3.7 | B29: 4332 | C29: SINAPI-I | D29: PARAFUSO ZINCADO, SEXTAVADO, COM ROSCA INTEIRA, DIAMETRO 3/8", COMPRIMENTO 2" | E29: UN | F29: ='Memória de Cálculo'!J93 -> 396 | G29: 1.7 | H29: 0.1632 | I29: =TRUNC(G29*1.1632,2) -> 1.97 | J29: =TRUNC(F29*G29,2) -> 673.2 | K29: =TRUNC(F29*I29,2) -> 780.12 | L29: =K29/$J$321 -> 0.00090048443 | M29: 1.43
A30: 3.8 | B30: 4346 | C30: SINAPI-I | D30: PARAFUSO DE FERRO POLIDO, SEXTAVADO, COM ROSCA PARCIAL, DIAMETRO 5/8", COMPRIMENTO 6", COM PORCA E ARRUELA DE PRESSAO MEDIA | E30: UN | F30: ='Memória de Cálculo'!J97 -> 56 | G30: 15.84 | H30: 0.1632 | I30: =TRUNC(G30*1.1632,2) -> 18.42 | J30: =TRUNC(F30*G30,2) -> 887.04 | K30: =TRUNC(F30*I30,2) -> 1031.52 | L30: =K30/$J$321 -> 0.0011906728 | M30: 13.31
A31: 3.9 | B31: 13246 | C31: SINAPI-I | D31: PARAFUSO DE FERRO POLIDO, SEXTAVADO, COM ROSCA INTEIRA, DIAMETRO 5/16", COMPRIMENTO 3/4", COM PORCA E ARRUELA LISA LEVE | E31: UN | F31: ='Memória de Cálculo'!J101 -> 48 | G31: 0.7 | H31: 0.1632 | I31: =TRUNC(G31*1.1632,2) -> 0.81 | J31: =TRUNC(F31*G31,2) -> 33.6 | K31: =TRUNC(F31*I31,2) -> 38.88 | L31: =K31/$J$321 -> 4.4878781e-05 | M31: 0.59
A32: 3.10 | B32: 104878 | C32: SINAPI | D32: EXECUÇÃO DE LONGARINA, PARA TIRANTES PERMANENTES, COM PERFIL METÁLICO, INCLUINDO CUNHA E SOLIDARIZAÇÃO. AF_11/2023 | E32: UN | F32: 2 | G32: 2308.81 | H32: 0.2452 | I32: =TRUNC(G32*1.2452,2) -> 2874.93 | J32: =TRUNC(F32*G32,2) -> 4617.62 | K32: =TRUNC(F32*I32,2) -> 5749.86 | L32: =K32/$J$321 -> 0.0066370038
A33: 4 | D33: ALVENARIA - VEDAÇÃO E MURIO EXTERNO | J33: =SUM(J34:J44) -> 14031.85 | K33: =SUM(K34:K44) -> 17471.83 | L33: =K33/$J$321 -> 0.020167552
A34: 4.1 | B34: 103346 | C34: SINAPI | D34: ALVENARIA DE VEDAÇÃO DE BLOCOS CERÂMICOS FURADOS NA VERTICAL DE 14X19X29 CM (ESPESSURA 14 CM) E ARGAMASSA DE ASSENTAMENTO COM PREPARO EM BETONEIRA. AF_12/2021 | E34: M² | F34: ='Memória de Cálculo'!J114 -> 59.64 | G34: 84.18 | H34: =$K$4 -> 0.2452 | I34: =TRUNC(G34*1.2452,2) -> 104.82 | J34: =TRUNC(F34*G34,2) -> 5020.49 | K34: =TRUNC(F34*I34,2) -> 6251.46 | L34: =K34/$J$321 -> 0.0072159955 | M34: 79.63
A35: 4.2 | B35: 90082 | C35: SINAPI | D35: ESCAVAÇÃO MECANIZADA DE VALA COM PROF. ATÉ 1,5 M (MÉDIA MONTANTE E JUSANTE/UMA COMPOSIÇÃO POR TRECHO), ESCAVADEIRA (0,8 M3), LARG. DE 1,5 M A 2,5 M, EM SOLO DE 1A CATEGORIA, EM LOCAIS COM ALTO NÍVEL DE INTERFERÊNCIA. AF_09/2024 | E35: M³ | F35: ='Memória de Cálculo'!J118 -> 0.512 | G35: 9.49 | H35: =$K$4 -> 0.2452 | I35: =TRUNC(G35*1.2452,2) -> 11.81 | J35: =TRUNC(F35*G35,2) -> 4.85 | K35: =TRUNC(F35*I35,2) -> 6.04 | L35: =K35/$J$321 -> 6.9719094e-06
A36: 4.3 | B36: 96619 | C36: SINAPI | D36: LASTRO DE CONCRETO MAGRO, APLICADO EM BLOCOS DE COROAMENTO OU SAPATAS, ESPESSURA DE 5 CM. AF_01/2024 | E36: M² | F36: ='Memória de Cálculo'!J122 -> 3.08 | G36: 42.77 | H36: =$K$4 -> 0.2452 | I36: =TRUNC(G36*1.2452,2) -> 53.25 | J36: =TRUNC(F36*G36,2) -> 131.73 | K36: =TRUNC(F36*I36,2) -> 164.01 | L36: =K36/$J$321 -> 0.00018931504
A37: 4.4 | B37: 96543 | C37: SINAPI | D37: ARMAÇÃO DE BLOCO UTILIZANDO AÇO CA-60 DE 5 MM - MONTAGEM. AF_01/2024 | E37: KG | F37: ='Memória de Cálculo'!J126 -> 28 | G37: 19.5 | H37: =$K$4 -> 0.2452 | I37: =TRUNC(G37*1.2452,2) -> 24.28 | J37: =TRUNC(F37*G37,2) -> 546 | K37: =TRUNC(F37*I37,2) -> 679.84 | L37: =K37/$J$321 -> 0.00078473227
A38: 4.5 | B38: 96545 | C38: SINAPI | D38: ARMAÇÃO DE BLOCO UTILIZANDO AÇO CA-50 DE 8 MM - MONTAGEM. AF_01/2024 | E38: KG | F38: ='Memória de Cálculo'!J130 -> 39.68 | G38: 15.46 | H38: =$K$4 -> 0.2452 | I38: =TRUNC(G38*1.2452,2) -> 19.25 | J38: =TRUNC(F38*G38,2) -> 613.45 | K38: =TRUNC(F38*I38,2) -> 763.84 | L38: =K38/$J$321 -> 0.0008816926
A39: 4.6 | B39: 92411 | C39: SINAPI | D39: MONTAGEM E DESMONTAGEM DE FÔRMA DE PILARES RETANGULARES E ESTRUTURAS SIMILARES, PÉ-DIREITO SIMPLES, EM MADEIRA SERRADA, 2 UTILIZAÇÕES. AF_09/2020 | E39: M² | F39: ='Memória de Cálculo'!J137 -> 10 | G39: 172.01 | H39: =$K$4 -> 0.2452 | I39: =TRUNC(G39*1.2452,2) -> 214.18 | J39: =TRUNC(F39*G39,2) -> 1720.1 | K39: =TRUNC(F39*I39,2) -> 2141.8 | L39: =K39/$J$321 -> 0.0024722575
A40: 4.7 | B40: 96558 | C40: SINAPI | D40: CONCRETAGEM DE SAPATA, FCK 30 MPA, COM USO DE BOMBA - LANÇAMENTO, ADENSAMENTO E ACABAMENTO. AF_01/2024 | E40: M³ | F40: ='Memória de Cálculo'!J141 -> 0.256 | G40: 789.39 | H40: =$K$4 -> 0.2452 | I40: =TRUNC(G40*1.2452,2) -> 982.94 | J40: =TRUNC(F40*G40,2) -> 202.08 | K40: =TRUNC(F40*I40,2) -> 251.63 | L40: =K40/$J$321 -> 0.0002904539
...

Sheet Memória de Cálculo
C1: PREFEITURA MUNICIPAL DE GOIANA
A2: SECRETARIA DE SAÚDE
A3: OBRA: | C3: =ORÇAMENTO!C4:J4 -> CONTRATAÇÃO DE EMPRESA ESPECIALIZADA PARA EXECUÇÃO DOS SERVIÇOS REMANESCENTES E COMPLEMENTARES VISANDO À RETOMADA E CONCLUSÃO DA OBRA DE CONSTRUÇÃO DA UNIDADE BÁSICA DE SAÚDE – UBS MALVINAS | I3: BDI: | J3: 0.2452
B4: ENDEREÇO: | C4: LOTEAMENTO GULANDIM S/N, MALVINAS, DISTRITO DE PONTA DE PEDRAS, MUNICIPIO DE GOIANA - PE. | I4: BDI DIFERENCIADO: | J4: 0.1632
A5: DATA: | C5: FEVEREIRO DE 2026
A6: TABELAS DE REFER: | C6: =ORÇAMENTO!C7:J7 -> SINAPI - JANEIRO 2026 (DESONERADA) , ORSE - I DEZ/2025 e SEINFRA - 028.1
A7: MEMORIA DE CALCULO
A8: 1 | D8: SERVIÇOS PRELIMINARES
A9: Item | B9: Código | C9: Banco | D9: Descrição | E9: Und | F9: Quant. | G9: Comprimento | H9: Largura | I9: Altura | J9: Total
A10: 1.1 | B10: =ORÇAMENTO!B11 -> 103689 | C10: =ORÇAMENTO!C11 -> SINAPI | D10: =ORÇAMENTO!D11 -> FORNECIMENTO E INSTALAÇÃO DE PLACA DE OBRA COM CHAPA GALVANIZADA E ESTRUTURA DE MADEIRA. AF_03/2022_PS | E10: M²
D11: MEDIDA DA PLACA, PADRÃO MINISTÉRIO DA SAÚDE | G11: 3 | I11: 1.5 | J11: =ROUND(G11*I11,2) -> 4.5
A13: Item | B13: Código | C13: Banco | D13: Descrição | E13: Und | F13: Quant. | G13: Comprimento | H13: Largura | I13: Altura | J13: Total | L13: 8.8
A14: 1.2 | B14: =ORÇAMENTO!B12 -> C4995 | C14: =ORÇAMENTO!C12 -> SEINFRA | D14: =ORÇAMENTO!D12 -> LOCAÇÃO DE CONTÊINER BANHEIRO COM 02 VASOS SANITÁRIOS, 01 LAVATÓRIO E 04 CHUVEIROS - 6,00 X 2,35M | E14: MÊS | L14: 11.2
F15: 6 | J15: =F15 -> 6 | L15: 6.1
A17: Item | B17: Código | C17: Banco | D17: Descrição | E17: Und | F17: Quant. | I17: Altura | J17: Total
A18: =ORÇAMENTO!A13 -> 1.3 | B18: =ORÇAMENTO!B13 -> 94319 | C18: =ORÇAMENTO!C13 -> SINAPI | D18: =ORÇAMENTO!D13 -> ATERRO MANUAL DE VALAS COM SOLO ARGILO-ARENOSO. AF_08/2023 | E18: M³
D19: - ÁREA A SER ATERRADA (LATERAIS DA BALDRAME QUE ESTA DESCOBERTA MAIS LATERAL DO PR[EDIO) | F19: AREA 1 | G19: 115 | I19: 0.4 | J19: =G19*I19 -> 46
F20: AREA 2 | G20: 35 | I20: 0.4 | J20: =G20*I20 -> 14
D21: EMPOLAMENTO | F21: 0.3 | J21: =(J19+J20)*1.3 -> 78
A23: Item | B23: Código | C23: Banco | D23: Descrição | E23: Und | F23: Quant. | G23: Comprimento | H23: Largura | I23: Altura | J23: Total
A24: 1.4 | B24: 98459 | C24: =ORÇAMENTO!C23 -> PRÓPRIO | D24: TAPUME COM TELHA METÁLICA. AF_03/2024 | E24: M²
D25: ÁREA A RECEBER NOVO TAPUME APÓS RETIRADA DO TAPUME DETERIORADO (CONSIDERANDO MURO EXTERNO AGORA EXISTENTE) | G25: 55 | I25: 2.2 | J25: =G25*I25 -> 121 | K25: =J25/2.2 -> 55
A27: Item | B27: Código | C27: Banco | D27: Descrição | E27: Und | F27: Quant. | G27: Comprimento | H27: Largura | I27: Altura | J27: Total
A28: 1.5 | B28: 97637 | C28: SINAPI | D28: REMOÇÃO DE TAPUME/ CHAPAS METÁLICAS E DE MADEIRA, DE FORMA MANUAL, SEM REAPROVEITAMENTO. AF_09/2023 | E28: M²
D29: ÁREA A RECEBER NOVO TAPUME APÓS RETIRADA DO TAPUME DETERIORADO (CONSIDERANDO MURO EXTERNO AGORA EXISTENTE) | F29: 100 | G29: 55 | I29: 2.2 | J29: =G29*I29 -> 121
A31: Item | B31: Código | C31: Banco | D31: Descrição | E31: Und | F31: Quant. | G31: Comprimento | H31: Largura | I31: Altura | J31: Total
A32: 1.6 | B32: =ORÇAMENTO!B16 -> C2851 | C32: SEINFRA | D32: INSTALAÇÕES PROVISÓRIAS DE ÁGUA | E32: UN
F33: 1 | J33: 1
A35: Item | B35: Código | C35: Banco | D35: Descrição | E35: Und | F35: Quant. | G35: Comprimento | H35: Largura | I35: Altura | J35: Total
A36: 1.7 | B36: =ORÇAMENTO!B17 -> C2849 | C36: SEINFRA | D36: =ORÇAMENTO!D17 -> INSTALAÇÕES PROVISÓRIAS DE ESGOTO | E36: UN
F37: 1 | J37: 1
A39: Item | B39: Código | C39: Banco | D39: Descrição | E39: Und | F39: Quant. | G39: Comprimento | H39: Largura | I39: Altura | J39: Total
A40: 1.7 | B40: =ORÇAMENTO!B21 -> 90778 | C40: SEINFRA | D40: =ORÇAMENTO!D18 -> RASPAGEM E LIMPEZA DO TERRENO | E40: M²
D41: ÁREA DO TERRENO | E41: 958.1 | J41: =E41-E42 -> 607.63
D42: ÁREA CONSTRUÍDA | E42: 350.47
A44: 2 | D44: ADMINISTRAÇÃO LOCAL
A45: Item | B45: Código | C45: Banco | D45: Descrição | E45: Und | F45: Quant. | G45: Dias | H45: Mês | J45: Total
A46: 2.1 | B46: =ORÇAMENTO!B20 -> 90776 | C46: SINAPI | D46: =ORÇAMENTO!D20 -> ENCARREGADO GERAL COM ENCARGOS COMPLEMENTARES | E46: H
D47: CARGO HORARIA - PARA 6 MESES | F47: 8 | G47: 22 | H47: 6 | J47: =ROUND(F47*G47*H47,2) -> 1056
A49: Item | B49: Código | C49: Banco | D49: Descrição | E49: Und | F49: Quant. | G49: Dias | H49: Mês | J49: Total
...

Sheet Composições
C1: PREFEITURA MUNICIPAL DE GOIANA
A2: SECRETARIA DE OBRAS
A3: OBRA: | C3: =ORÇAMENTO!C4:J4 -> CONTRATAÇÃO DE EMPRESA ESPECIALIZADA PARA EXECUÇÃO DOS SERVIÇOS REMANESCENTES E COMPLEMENTARES VISANDO À RETOMADA E CONCLUSÃO DA OBRA DE CONSTRUÇÃO DA UNIDADE BÁSICA DE SAÚDE – UBS MALVINAS | I3: BDI: | J3: 0.2452
B4: ENDEREÇO: | C4: LOTEAMENTO GULANDIM S/N, MALVINAS, DISTRITO DE PONTA DE PEDRAS, MUNICIPIO DE GOIANA - PE. | I4: BDI DIFERENCIADO: | J4: 0.1632
A5: DATA: | C5: FEVEREIRO DE 2026
A6: TABELAS DE REFER: | C6: =ORÇAMENTO!C7:J7 -> SINAPI - JANEIRO 2026 (DESONERADA) , ORSE - I DEZ/2025 e SEINFRA - 028.1
A7: COMPOSIÇÕES
A10: 3.1 | B10: Código | C10: Banco | D10: COMPOSIÇÃO 01 | E10: Tipo | G10: Und | H10: Quant. | I10: Valor Unit | J10: Total
D11: VIGA METÁLICA EM PERFIL LAMINADO OU SOLDADO EM AÇO ESTRUTURAL, COM CONEXÕES SOLDADAS, INCLUSOS MÃO DE OBRA, TRANSPORTE E IÇAMENTO UTILIZANDO GUINDASTE - FORNECIMENTO E INSTALAÇÃO. | E11: SEDI - SERVIÇOS DIVERSOS | G11: UN | H11: 1 | J11: =J22 -> 18.81
A12: Composição Auxiliar | B12: 88240 | C12: SINAPI | D12: AJUDANTE DE ESTRUTURA METÁLICA COM ENCARGOS COMPLEMENTARES | E12: SEDI - SERVIÇOS DIVERSOS | G12: H | H12: 0.0044 | I12: 22.7 | J12: =TRUNC(H12*I12,2) -> 0.09 | K12: 32.23
A13: Composição Auxiliar | B13: 88278 | C13: SINAPI | D13: MONTADOR DE ESTRUTURAS METÁLICAS COM ENCARGOS COMPLEMENTARES | E13: SEDI - SERVIÇOS DIVERSOS | G13: H | H13: 0.014 | I13: 21.34 | J13: =TRUNC(H13*I13,2) -> 0.29 | K13: 34.81
A14: Composição Auxiliar | B14: 88317 | C14: SINAPI | D14: SOLDADOR COM ENCARGOS COMPLEMENTARES | E14: SEDI - SERVIÇOS DIVERSOS | G14: H | H14: 0.0181 | I14: 29.39 | J14: =TRUNC(H14*I14,2) -> 0.53 | K14: 40.05
A15: Composição Auxiliar | B15: 93287 | C15: SINAPI | D15: GUINDASTE HIDRÁULICO AUTOPROPELIDO, COM LANÇA TELESCÓPICA 40 M, CAPACIDADE MÁXIMA 60 T, POTÊNCIA 260 KW - CHP DIURNO. AF_03/2016 | E15: CHOR - CUSTOS HORÁRIOS DE MÁQUINAS E EQUIPAMENTOS | G15: CHP | H15: 0.004 | I15: 355.72 | J15: =TRUNC(H15*I15,2) -> 1.42 | K15: 358.7
A16: Composição Auxiliar | B16: 93288 | C16: SINAPI | D16: GUINDASTE HIDRÁULICO AUTOPROPELIDO, COM LANÇA TELESCÓPICA 40 M, CAPACIDADE MÁXIMA 60 T, POTÊNCIA 260 KW - CHI DIURNO. AF_03/2016 | E16: CHOR - CUSTOS HORÁRIOS DE MÁQUINAS E EQUIPAMENTOS | G16: CHI | H16: 0.0037 | I16: 181.17 | J16: =TRUNC(H16*I16,2) -> 0.67 | K16: 185.97
A17: Composição Auxiliar | B17: 100716 | C17: SINAPI | D17: JATEAMENTO ABRASIVO COM GRANALHA DE AÇO EM PERFIL METÁLICO EM FÁBRICA. AF_01/2020 | E17: CHOR - CUSTOS HORÁRIOS DE MÁQUINAS E EQUIPAMENTOS | G17: M² | H17: 0.0358 | I17: 24.27 | J17: =TRUNC(H17*I17,2) -> 0.86 | K17: 25.41
A18: Composição Auxiliar | B18: 100719 | C18: SINAPI | D18: PINTURA COM TINTA ALQUÍDICA DE FUNDO (TIPO ZARCÃO) PULVERIZADA SOBRE PERFIL METÁLICO EXECUTADO EM FÁBRICA (POR DEMÃO). AF_01/2020_PE | E18: CHOR - CUSTOS HORÁRIOS DE MÁQUINAS E EQUIPAMENTOS | G18: M² | H18: 0.033 | I18: 13.77 | J18: =TRUNC(H18*I18,2) -> 0.45 | K18: 13.29
A19: Insumo | B19: I8231 | C19: SEINFRA - I | D19: CANTONEIRA EM AÇO (6 x 6 x 1/2") | E19: Material | G19: KG | H19: 0.030548 | I19: 9.23 | J19: =TRUNC(H19*I19,2) -> 0.28 | K19: 8.02
A20: Insumo | B20: 10997 | C20: SINAPI - I | D20: ELETRODO REVESTIDO AWS - E7018, DIAMETRO IGUAL A 4,00 MM | E20: Material | G20: KG | H20: 0.0015 | I20: 29.05 | J20: =TRUNC(H20*I20,2) -> 0.04 | K20: 29.05
A21: Insumo | B21: I8685 | C21: SEINFRA - I | D21: PERFIL METÁLICO "I" OU "H" | E21: Material | G21: KG | H21: 1.091 | I21: 13 | J21: =TRUNC(H21*I21,2) -> 14.18 | K21: 10
H22: TOTAL | J22: =SUM(J12:J21) -> 18.81
A24: 3.2 | B24: Código | C24: Banco | D24: COMPOSIÇÃO 02 | E24: Tipo | G24: Und | H24: Quant. | I24: Valor Unit | J24: Total
D25: PILAR METÁLICO PERFIL LAMINADO OU SOLDADO EM AÇO ESTRUTURAL, COM CONEXÕES SOLDADAS, INCLUSOS MÃO DE OBRA, TRANSPORTE E IÇAMENTO UTILIZANDO GUINDASTE - FORNECIMENTO E INSTALAÇÃO. | E25: SEDI - SERVIÇOS DIVERSOS | G25: UN | H25: 1 | J25: =J36 -> 20.47
A26: Composição Auxiliar | B26: 88240 | C26: SINAPI | D26: AJUDANTE DE ESTRUTURA METÁLICA COM ENCARGOS COMPLEMENTARES | E26: SEDI - SERVIÇOS DIVERSOS | G26: H | H26: 0.0044 | I26: 22.7 | J26: =TRUNC(H26*I26,2) -> 0.09
A27: Composição Auxiliar | B27: 88278 | C27: SINAPI | D27: MONTADOR DE ESTRUTURAS METÁLICAS COM ENCARGOS COMPLEMENTARES | E27: SEDI - SERVIÇOS DIVERSOS | G27: H | H27: 0.014 | I27: 21.34 | J27: =TRUNC(H27*I27,2) -> 0.29
A28: Composição Auxiliar | B28: 88317 | C28: SINAPI | D28: SOLDADOR COM ENCARGOS COMPLEMENTARES | E28: SEDI - SERVIÇOS DIVERSOS | G28: H | H28: 0.0181 | I28: 29.39 | J28: =TRUNC(H28*I28,2) -> 0.53
A29: Composição Auxiliar | B29: 93287 | C29: SINAPI | D29: GUINDASTE HIDRÁULICO AUTOPROPELIDO, COM LANÇA TELESCÓPICA 40 M, CAPACIDADE MÁXIMA 60 T, POTÊNCIA 260 KW - CHP DIURNO. AF_03/2016 | E29: CHOR - CUSTOS HORÁRIOS DE MÁQUINAS E EQUIPAMENTOS | G29: CHP | H29: 0.004 | I29: 355.72 | J29: =TRUNC(H29*I29,2) -> 1.42
A30: Composição Auxiliar | B30: 93288 | C30: SINAPI | D30: GUINDASTE HIDRÁULICO AUTOPROPELIDO, COM LANÇA TELESCÓPICA 40 M, CAPACIDADE MÁXIMA 60 T, POTÊNCIA 260 KW - CHI DIURNO. AF_03/2016 | E30: CHOR - CUSTOS HORÁRIOS DE MÁQUINAS E EQUIPAMENTOS | G30: CHI | H30: 0.0037 | I30: 181.17 | J30: =TRUNC(H30*I30,2) -> 0.67
A31: Composição Auxiliar | B31: 100716 | C31: SINAPI | D31: JATEAMENTO ABRASIVO COM GRANALHA DE AÇO EM PERFIL METÁLICO EM FÁBRICA. AF_01/2020 | E31: CHOR - CUSTOS HORÁRIOS DE MÁQUINAS E EQUIPAMENTOS | G31: M² | H31: 0.0358 | I31: 24.27 | J31: =TRUNC(H31*I31,2) -> 0.86
A32: Composição Auxiliar | B32: 100719 | C32: SINAPI | D32: PINTURA COM TINTA ALQUÍDICA DE FUNDO (TIPO ZARCÃO) PULVERIZADA SOBRE PERFIL METÁLICO EXECUTADO EM FÁBRICA (POR DEMÃO). AF_01/2020_PE | E32: CHOR - CUSTOS HORÁRIOS DE MÁQUINAS E EQUIPAMENTOS | G32: M² | H32: 0.033 | I32: 13.77 | J32: =TRUNC(H32*I32,2) -> 0.45
A33: Insumo | B33: 1333 | C33: SINAPI - I | D33: CHAPA DE ACO GROSSA, ASTM A36, E = 1/2" (12,70 MM) 99,59 KG/M2 | E33: Material | G33: KG | H33: 0.030548 | I33: 7.99 | J33: =TRUNC(H33*I33,2) -> 0.24 | K33: 7.99
A34: Insumo | B34: 10997 | C34: SINAPI - I | D34: ELETRODO REVESTIDO AWS - E7018, DIAMETRO IGUAL A 4,00 MM | E34: Material | G34: KG | H34: 0.060005 | I34: 29.05 | J34: =TRUNC(H34*I34,2) -> 1.74
A35: Insumo | B35: I8685 | C35: SEINFRA - I | D35: PERFIL METÁLICO "I" OU "H" | E35: Material | G35: KG | H35: 1.091 | I35: 13 | J35: =TRUNC(H35*I35,2) -> 14.18
H36: TOTAL | J36: =SUM(J26:J35) -> 20.47
A38: 6.2.4 | B38: Código | C38: Banco | D38: COMPOSIÇÃO 03 | E38: Tipo | G38: Und | H38: Quant. | I38: Valor Unit | J38: Total
D39: EMASSAMENTO C/MASSA ACRÍLICA PARA AMBIENTES INTERNOS, DUAS DEMÃOS | E39: PARE - PAREDES/PAINEIS | G39: M² | H39: 1 | J39: =J44 -> 19.67 | M39: =SUM(M40:M43) -> 23.63 | P39: =ORÇAMENTO!#REF! -> #REF! | R39: =IF(P39-J39=0,"ok","erro") -> #REF!
A40: Composição Auxiliar | B40: 88310 | C40: SINAPI | D40: PINTOR COM ENCARGOS COMPLEMENTARES | E40: SEDI - SERVIÇOS DIVERSOS | G40: H | H40: 0.35 | I40: 29.81 | J40: =TRUNC(H40*I40,2) -> 10.43 | L40: 16.43 | M40: =ROUND(H40*L40,2) -> 5.75
A41: Composição Auxiliar | B41: 88316 | C41: SINAPI | D41: SERVENTE COM ENCARGOS COMPLEMENTARES | E41: SEDI - SERVIÇOS DIVERSOS | G41: H | H41: 0.25 | I41: 22.98 | J41: =TRUNC(H41*I41,2) -> 5.74 | L41: 20.21 | M41: =ROUND(H41*L41,2) -> 5.05
A42: Insumo | B42: 3767 | C42: SINAPI - I | D42: LIXA EM FOLHA PARA PAREDE OU MADEIRA, NUMERO 120, COR VERMELHA | E42: Material | G42: UN | H42: 0.5 | I42: 0.81 | J42: =TRUNC(H42*I42,2) -> 0.4 | L42: 25.66 | M42: =ROUND(H42*L42,2) -> 12.83
A43: Insumo | B43: 43651 | C43: SINAPI - I | D43: MASSA ACRILICA PARA SUPERFICIES INTERNAS E EXTERNAS | E43: Material | G43: kg | H43: 0.72 | I43: 4.31 | J43: =TRUNC(H43*I43,2) -> 3.1
H44: TOTAL | J44: =SUM(J40:J43) -> 19.67
...

Sheet Cromograma Fisico Financeiro
B1: PREFEITURA MUNICIPAL DE GOIANA
A2: SECRETARIA DE SAÚDE
A3: OBRA: | B3: =ORÇAMENTO!C4 -> CONTRATAÇÃO DE EMPRESA ESPECIALIZADA PARA EXECUÇÃO DOS SERVIÇOS REMANESCENTES E COMPLEMENTARES VISANDO À RETOMADA E CONCLUSÃO DA OBRA DE CONSTRUÇÃO DA UNIDADE BÁSICA DE SAÚDE – UBS MALVINAS | I3: BDI: | J3: 0.2452
A4: ENDEREÇO: | B4: LOTEAMENTO GULANDIM S/N, MALVINAS, DISTRITO DE PONTA DE PEDRAS, MUNICIPIO DE GOIANA - PE. | I4: BDI DIFERENCIADO: | J4: 0.1632
A5: DATA: | B5: FEVEREIRO DE 2026
A6: TABELAS DE REFER: | B6: SINAPI - JANEIRO 2026 (DESONERADA) , ORSE DEZEMBRO 2025 e SEINFRA - 028.1
A7: CRONOGRAMA FÍSICO FINANCEIRO
A9: ITEM | B9: DESCRIÇÃO DOS SERVIÇOS | C9: VALOR (R$) | D9: % ITEM | E9: 30 DIAS | F9: 60 DIAS | G9: 90 DIAS | H9: 120 DIAS | I9: 150 DIAS | J9: 180 DIAS
A11: 1 | B11: SERVIÇOS PRELIMINARES | C11: =ORÇAMENTO!K10 -> 38536.19 | D11: =C11/C34 -> 0.03575196 | E11: 1
E12: =ROUND(C11*E11,2) -> 38536.19 | L12: =E12 -> 38536.19
A13: 2 | B13: ADMINISTRAÇÃO LOCAL | C13: =ORÇAMENTO!K19 -> 104881.92 | D13: =C13/C34 -> 0.097304227 | E13: =SUM(1/6) -> 0.16666667 | F13: =SUM(1/6) -> 0.16666667 | G13: =SUM(1/6) -> 0.16666667 | H13: =SUM(1/6) -> 0.16666667 | I13: =SUM(1/6) -> 0.16666667 | J13: =SUM(1/6) -> 0.16666667
E14: =ROUND(C13*E13,2) -> 17480.32 | F14: =ROUND(C13*F13,2) -> 17480.32 | G14: =ROUND(C13*G13,2) -> 17480.32 | H14: =ROUND(C13*H13,2) -> 17480.32 | I14: =ROUND(C13*I13,2) -> 17480.32 | J14: =ROUND(C13*J13,2) -> 17480.32 | L14: =SUM(E14:J14) -> 104881.92 | M14: =L14-C13 -> 0
A15: 3 | B15: =ORÇAMENTO!D22 -> ESTRUTURAS METÁLICAS | C15: =ORÇAMENTO!K22 -> 92140.65 | D15: =C15/C34 -> 0.08548351 | G15: 1
G16: =ROUND(C15*G15,2) -> 92140.65 | L16: =SUM(F16:J16) -> 92140.65 | M16: =L16-C15 -> 0
A17: 4 | B17: =ORÇAMENTO!D33 -> ALVENARIA - VEDAÇÃO E MURIO EXTERNO | C17: =ORÇAMENTO!K33 -> 17471.83 | D17: =C17/C34 -> 0.016209495 | E17: 0.3 | F17: 0.5 | G17: 0.2
E18: =ROUND(E17*C17,2) -> 5241.55 | F18: =ROUND(F17*C17,2) -> 8735.92 | G18: =ROUND(C17*G17,2) -> 3494.37 | L18: =SUM(E18:J18) -> 17471.84 | M18: =L18-C17 -> 0.01
A19: 5 | B19: =ORÇAMENTO!D45 -> COBERTURA | C19: =ORÇAMENTO!K45 -> 64567.46 | D19: =C19/C34 -> 0.059902477 | F19: 0.1 | G19: 0.7 | H19: 0.2 | M19: =L19-C18 -> 0
F20: =(F19*C19) -> 6456.746 | G20: =(G19*C19) -> 45197.222 | H20: =(H19*C19) -> 12913.492 | L20: =E20+F20+G20+H20 -> 64567.46 | M20: =L20-C19 -> 0
A21: 6 | B21: =ORÇAMENTO!D55 -> REVESTIMENTOS | C21: =ORÇAMENTO!K55 -> 323474.21 | D21: =C21/C34 -> 0.30010328 | H21: 0.5 | I21: 0.5 | M21: =L21-C20 -> 0
H22: =(H21*C21) -> 161737.11 | I22: =(I21*C21) -> 161737.11 | L22: =H22+I22 -> 323474.21 | M22: =L22-C21 -> 0
A23: 7 | B23: =ORÇAMENTO!D81 -> ESQUADRIAS | C23: =ORÇAMENTO!K81 -> 79127.21 | D23: =C23/C34 -> 0.073410288 | H23: 0.35 | I23: 0.5 | J23: 0.15 | M23: =L23-C22 -> 0
H24: =ROUND(C23*H23,2) -> 27694.52 | I24: =ROUND(C23*I23,2) -> 39563.61 | J24: =ROUND(C23*J23,2) -> 11869.08 | L24: =J24+I24+H24+G24+F24+E24 -> 79127.21 | M24: =L24-C23 -> 0
A25: 8 | B25: =ORÇAMENTO!D95 -> INSTALAÇÕES ELÉTRICAS E DE LÓGICA | C25: =ORÇAMENTO!K95 -> 120894.65 | D25: =C25/C34 -> 0.11216004 | I25: 0.5 | J25: 0.5 | M25: =L25-C24 -> 0
I26: =(C25*I25) -> 60447.325 | J26: =(C25*J25) -> 60447.325 | L26: =SUM(G26:J26) -> 120894.65 | M26: =L26-C25 -> 0
A27: 9 | B27: =ORÇAMENTO!D174 -> INSTALAÇÕES HIDRAULICAS | C27: =ORÇAMENTO!K174 -> 147247.91 | D27: =C27/C34 -> 0.13660928 | G27: 0.2 | H27: 0.4 | I27: 0.25 | J27: 0.15 | M27: =L27-C26 -> 0
G28: =(G27*C27) -> 29449.582 | H28: =(C27*H27) -> 58899.164 | I28: =(C27*I27) -> 36811.978 | J28: =(C27*J27) -> 22087.186 | L28: =SUM(F28:J28) -> 147247.91 | M28: =L28-C27 -> 0
A29: 10 | B29: =ORÇAMENTO!D296 -> REDE DE AR CONDICIONADO | C29: =ORÇAMENTO!K296 -> 64251.06 | D29: =C29/C34 -> 0.059608937 | F29: , | G29: 0.3 | H29: 0.4 | I29: 0.2 | J29: 0.1 | M29: =L29-C28 -> 0
G30: =(G29*C29) -> 19275.318 | H30: =(H29*C29) -> 25700.424 | I30: =(I29*C29) -> 12850.212 | J30: =(J29*C29) -> 6425.106 | L30: =I30+H30+G30+F30+J30 -> 64251.06
A31: 11 | B31: =ORÇAMENTO!D314 -> DIVERSOS E LIMPEZA DA OBRA | C31: =ORÇAMENTO!K314 -> 25281.21 | D31: =C31/C34 -> 0.023454649 | I31: 0.06 | J31: 0.94 | M31: =L31-#REF! -> #REF!
I32: =(I31*C31) -> 1516.8726 | J32: =(J31*C31) -> 23764.337 | L32: =SUM(I32:J32) -> 25281.21 | M32: =L32-C31 -> 0
M33: =L33-#REF! -> #REF!
A34: VALORES TOTAIS | C34: =SUM(C11+C13+C15+C17+C19+C21+C23+C25+C27+C29+C31,2) -> 1077876.3 | D34: =D31+D29+D27+D25+D23+D21+D19+D17+D15+D13+D11 -> 0.99999814 | E34: =TRUNC(E12+E14+E18,2) -> 61258.06 | F34: =TRUNC(F14+F18+F20,2) -> 32672.98 | G34: =SUM(G14+G16+G18+G20+G28+G30,2) -> 207039.46 | H34: =SUM(H14+H20+H22+H24+H28+H30,2) -> 304427.03 | I34: =SUM(I14+I22+I24+I26+I28+I30+I32,2) -> 330409.42 | J34: =SUM(J14+J24+J28+J32+J26+J30,2) -> 142075.35 | L34: =SUM(E34:J34) -> 1077882.3
E35: =E34/C34 -> 0.05683218 | F35: =F34/C34 -> 0.030312365 | G35: =G34/C34 -> 0.19208091 | H35: =H34/C34 -> 0.28243225 | I35: =I34/C34 -> 0.30653742 | J35: =J34/C34 -> 0.13181045 | K35: =E35+F35+G35+H35+I35+J35 -> 1.0000056
A36: % ACUMULADA | E36: 0.0562 | F36: =E35+F35 -> 0.087144545 | G36: =G35+F35+E35 -> 0.27922546 | H36: =H35+G35+F35+E35 -> 0.5616577 | I36: =I35+H35+G35+F35+E35 -> 0.86819513 | J36: =J35+I35+H35+G35+F35+E35 -> 1.0000056
A37: VALOR ACUMULADO | E37: =E34 -> 61258.06 | F37: =SUM(E37+F34,2) -> 93933.04 | G37: =F37+G34 -> 300972.5 | H37: =G37+H34 -> 605399.53 | I37: =H37+I34 -> 935808.95 | J37: =I37+J34 -> 1077884.3
F40: =E34+F34+G34+H34+I34+J34 -> 1077882.3

Sheet BDI
A2: PLANILHA ORÇAMENTÁRIA CONSOLIDADA - Versão Desonerada
A3: MUNICÍPIO DE GOIANA | H3: VALORES BDI POR TIPO DE OBRAS
D4: SELECIONE UM TIPO DE SERVIÇO | I4: 1°QUARTIL | J4: MÉDIO | K4: 3°QUARTIL
A5: ITEM | B5: COMPOSIÇÃO BDI | C5: % | D5: CONSTRUÇÃO DE EDIFÍCIOS | H5: CONSTRUÇÃO DE EDIFÍCIOS | I5: 0.2034 | J5: 0.2212 | K5: 0.25
A6: ADMINISTRAÇÃO CENTRAL | H6: CONSTRUÇÃO DE RODOVIAS E FERROVIAS | I6: 0.196 | J6: 0.2097 | K6: 0.2423
A7: AC | B7: ADMINISTRAÇÃO CENTRAL | C7: =D7 -> 0.03 | D7: =IF(D5=H5,I10,IF(D5=H6,I11,I12)) -> 0.03 | H7: MERO FORNECIMENTO DE MATERIAIS E EQUIPAMENTOS | I7: 0.111 | J7: 0.1402 | K7: 0.168
A8: DF | B8: DESPESAS FINANCEIRAS | C8: =D8 -> 0.0059 | D8: =IF(D5=H5,J10,IF(D5=H6,J11,J12)) -> 0.0059
A9: R | B9: RISCOS | C9: =D9 -> 0.0097 | D9: =IF(D5=H5,K10,IF(D5=H6,K11,K12)) -> 0.0097 | I9: AC | J9: DF | K9: R | L9: S+G | M9: L | O9: BDI
A10: S+G | B10: SEGUROS E GARANTIAS CONTRATUAIS | C10: =D10 -> 0.008 | D10: =IF(D5=H5,L10,IF(D5=H6,L11,L12)) -> 0.008 | H10: CONSTRUÇÃO DE EDIFÍCIOS | I10: 0.03 | J10: 0.0059 | K10: 0.0097 | L10: 0.008 | M10: 0.0616 | O10: 0.2452
H11: CONSTRUÇÃO DE RODOVIAS E FERROVIAS | I11: 0.038 | J11: 0.0102 | K11: 0.005 | L11: 0.0032 | M11: 0.0664 | O11: 0.2544
A12: LUCRO | H12: MERO FORNECIMENTO DE MATERIAIS E EQUIPAMENTOS | I12: 0.015 | J12: 0.0085 | K12: 0.0056 | L12: 0.003 | M12: 0.035 | O12: 0.1632 | Q12: DESCONSIDERAR ISS
A13: L | B13: LUCRO OPERACIONAL | C13: =D13 -> 0.0616 | D13: =IF(D5=H5,M10,IF(D5=H6,M11,M12)) -> 0.0616
A15: TRIBUTOS | D15: =SUM(C16:C19) -> 0.1015
A16: I.1 | B16: PIS | C16: 0.0065
A17: I.2 | B17: COFINS | C17: 0.03
A18: I.3 | B18: ISSQN | C18: =D18 -> 0.02 | D18: =IF(D5=H7,0,2%) -> 0.02
A19: l.4 | B19: CONTRIBUIÇÃO PREVIDENCIÁRIA SOBRE A RENDA BRUTA | C19: 0.045 | F19: =ROUND(((((1+(C7+C9+C10))*(1+C8)*(1+C13))/(1-D15))-1),4) -> 0.2452
A21: BDI COM TRIBUTOS (%) | C21: =F19 -> 0.2452
A22: FÓRMULA: OBSERVAÇÕES: Onde: AC = taxa de rateio da administração central S = taxa representativa de seguros R = taxa representativa correspondente os riscos e imprevistos G = taxa que representa o ônus das garantias exigidas em edital DF = taxa representativa das despesas financeiras L = corresponde à remuneração bruta do construtor I = taxa representativa dos tributos incidentes sobre o preço de venda (PIS, Cofins, CPRB e ISS). ** Percentuais retirados do ACÓRDÃO Nº 0204-16 – TCE – PE.

Sheet BDI - II
A2: PLANILHA ORÇAMENTÁRIA CONSOLIDADA - Versão Desonerada
A3: MUNICÍPIO DE GOIANA | H3: VALORES BDI POR TIPO DE OBRAS
D4: SELECIONE UM TIPO DE SERVIÇO | I4: 1°QUARTIL | J4: MÉDIO | K4: 3°QUARTIL
A5: ITEM | B5: COMPOSIÇÃO COMPOSIÇÃO BDI | C5: % | D5: MERO FORNECIMENTO DE MATERIAIS E EQUIPAMENTOS | H5: CONSTRUÇÃO DE EDIFÍCIOS | I5: 0.2034 | J5: 0.2212 | K5: 0.25
A6: ADMINISTRAÇÃO CENTRAL | H6: CONSTRUÇÃO DE RODOVIAS E FERROVIAS | I6: 0.196 | J6: 0.2097 | K6: 0.2423
A7: AC | B7: ADMINISTRAÇÃO CENTRAL | C7: =D7 -> 0.015 | D7: =IF(D5=H5,I10,IF(D5=H6,I11,I12)) -> 0.015 | H7: MERO FORNECIMENTO DE MATERIAIS E EQUIPAMENTOS | I7: 0.111 | J7: 0.1402 | K7: 0.168
A8: DF | B8: DESPESAS FINANCEIRAS | C8: =D8 -> 0.0085 | D8: =IF(D5=H5,J10,IF(D5=H6,J11,J12)) -> 0.0085
A9: R | B9: RISCOS | C9: =D9 -> 0.0056 | D9: =IF(D5=H5,K10,IF(D5=H6,K11,K12)) -> 0.0056 | I9: AC | J9: DF | K9: R | L9: S+G | M9: L | O9: BDI
A10: S+G | B10: SEGUROS E GARANTIAS CONTRATUAIS | C10: =D10 -> 0.003 | D10: =IF(D5=H5,L10,IF(D5=H6,L11,L12)) -> 0.003 | H10: CONSTRUÇÃO DE EDIFÍCIOS | I10: 0.03 | J10: 0.0059 | K10: 0.0097 | L10: 0.008 | M10: 0.0616 | O10: 0.2452
H11: CONSTRUÇÃO DE RODOVIAS E FERROVIAS | I11: 0.038 | J11: 0.0102 | K11: 0.005 | L11: 0.0032 | M11: 0.0664 | O11: 0.2544
A12: LUCRO | H12: MERO FORNECIMENTO DE MATERIAIS E EQUIPAMENTOS | I12: 0.015 | J12: 0.0085 | K12: 0.0056 | L12: 0.003 | M12: 0.035 | O12: 0.1632 | Q12: DESCONSIDERAR ISS
A13: L | B13: LUCRO OPERACIONAL | C13: =D13 -> 0.035 | D13: =IF(D5=H5,M10,IF(D5=H6,M11,M12)) -> 0.035
A15: TRIBUTOS | D15: =SUM(C16:C19) -> 0.0815
A16: I.1 | B16: PIS | C16: 0.0065
A17: I.2 | B17: COFINS | C17: 0.03
A18: I.3 | B18: ISSQN | C18: =D18 -> 0 | D18: =IF(D5=H7,0,2%) -> 0
A19: l.4 | B19: 9/88888888888 | C19: 0.045 | F19: =ROUND(((((1+(C7+C9+C10))*(1+C8)*(1+C13))/(1-D15))-1),4) -> 0.1632
A21: BDI COM TRIBUTOS (%) | C21: =F19 -> 0.1632
A22: FÓRMULA: OBSERVAÇÕES: Onde: AC = taxa de rateio da administração central S = taxa representativa de seguros R = taxa representativa correspondente os riscos e imprevistos G = taxa que representa o ônus das garantias exigidas em edital DF = taxa representativa das despesas financeiras L = corresponde à remuneração bruta do construtor I = taxa representativa dos tributos incidentes sobre o preço de venda (PIS, Cofins, CPRB e ISS). ** Percentuais retirados do ACÓRDÃO Nº 0204-16 – TCE – PE.
