Workbook

Sheet RESUMO GERAL
A1: RESUMO GERAL
A3: Manutenção Predial e Jardinagem — Campi Novo Hamburgo, Jaguarão e São Leopoldo
A5: DADOS GERAIS DA CONTRATAÇÃO
A7: A | B7: Base Legal | F7: Lei 14.133/2021
A8: B | B8: Regime de Tributação | F8: Lucro Presumido
A9: C | B9: Modelo de execução | F9: DEMO c/ Conta-Vinculada
A10: D | B10: Número de meses de execução contratual (por unidade) | F10: 60
A11: COMPARATIVO POR UNIDADE
A13: Grupo | B13: Local de Execução | C13: Item - Posto | D13: Nº de Postos | E13: Valor Mensal p/ posto | F13: Valor Mensal p/ grupo | G13: Valor Anual p/ posto | H13: Valor Anual p/ grupo | I13: Valor Global p/ posto | J13: Valor Global p/ grupo
A15: 1 | B15: ='LE RES'!G11 -> campus São Leopoldo | C15: 1 - Aux. Manut. Predial | D15: 1 | E15: ='LE RES'!H17 -> 6257.82 | F15: ='LE RES'!H19 -> 12427.51 | G15: =E15*12 -> 75093.84 | H15: ='LE RES'!H21 -> 149130.12 | I15: =E15*60 -> 375469.2 | J15: ='LE RES'!H23 -> 745650.6
C16: 2 - Jardinagem | D16: 1 | E16: ='LE RES'!H18 -> 6169.69 | G16: =E16*12 -> 74036.28 | I16: =E16*60 -> 370181.4
A17: 2 | B17: ='NH RES'!G11 -> campus Novo Hamburgo | C17: 3 - Aux. Manut. Predial | D17: 1 | E17: ='NH RES'!H17 -> 6975.08 | F17: ='NH RES'!H19 -> 13029.81 | G17: =E17*12 -> 83700.96 | H17: ='NH RES'!H21 -> 156357.72 | I17: =E17*60 -> 418504.8 | J17: ='NH RES'!H23 -> 781788.6
C18: 4 - Jardinagem | D18: 1 | E18: ='NH RES'!H18 -> 6054.73 | G18: =E18*12 -> 72656.76 | I18: =E18*60 -> 363283.8
A19: 3 | B19: ='JG RES'!G11 -> campus Jaguarão | C19: 5 - Aux. Manut. Predial | D19: 1 | E19: ='JG RES'!H17 -> 6141.38 | F19: ='JG RES'!H19 -> 11899.01 | G19: =E19*12 -> 73696.56 | H19: ='JG RES'!H21 -> 142788.12 | I19: =E19*60 -> 368482.8 | J19: ='JG RES'!H23 -> 713940.6
C20: 6 - Jardinagem | D20: 1 | E20: ='JG RES'!H18 -> 5757.63 | G20: =E20*12 -> 69091.56 | I20: =E20*60 -> 345457.8
A21: VALOR CONSOLIDADO (3 UNIDADES) | F21: =SUM(F15:F20) -> 37356.33 | H21: =SUM(H15:H20) -> 448275.96 | J21: =SUM(J15:J20) -> 2241379.8

Sheet LE RES
A1: RESUMO
A3: Base Legal | C3: Lei 14.133/2021 | E3: Nº do processo: | G3: 0000.000000.0000-00
A4: Regime de Tributação | C4: Lucro Presumido | E4: Licitação nº:
A5: Modelo de execução: | C5: DEMO c/ Conta-Vinculada | E5: UASG da contratação:
A6: DISCRIMINAÇÃO DOS SERVIÇOS
A8: Data de apresentação da proposta (dia/mês/ano)
A9: Data base do Orçamento Estimado (Planilha de Ref.)
A10: Número de meses de execução contratual | G10: 60
A11: Local de execução | G11: campus São Leopoldo
A12: VALOR MENSAL DOS SERVIÇOS
J13: Divergências:
A14: Item | B14: Unidade de Execução | C14: Tipo de serviço | D14: Valor por Empregado | E14: Qtde. por Posto | F14: Valor por Posto | G14: Qtde. Postos | H14: Valor Total | J14: =COUNTIF(J17:J23,"DIVERGE") -> 0
C16: (A) | D16: (B) | E16: (C) | F16: (D) = (B x C) | G16: (E) | H16: (F) = (D x E) | J16: CONF.
A17: 1 | B17: São Leopoldo | C17: Aux. Manut. Predial | D17: ='LE AM'!J195 -> 6257.82 | E17: 1 | F17: =ROUND(D17*E17,2) -> 6257.82 | G17: 1 | H17: =ROUND(F17*G17,2) -> 6257.82 | J17: =IF(ROUND(D17*E17,2)=F17,"OK","DIVERGE") -> OK
A18: 2 | B18: São Leopoldo | C18: Jardinagem | D18: ='LE JA'!J195 -> 6169.69 | E18: 1 | F18: =ROUND(D18*E18,2) -> 6169.69 | G18: 1 | H18: =ROUND(F18*G18,2) -> 6169.69 | J18: =IF(ROUND(D18*E18,2)=F18,"OK","DIVERGE") -> OK
A19: Valor Mensal | H19: =SUM(H17:H18) -> 12427.51 | J19: =IF(SUM(H17:H18)=H19,"OK","DIVERGE") -> OK
A21: Valor Anual | H21: =ROUND(H19*12,2) -> 149130.12 | J21: =IF(ROUND(H19*12,2)=H21,"OK","DIVERGE") -> OK
A23: Valor Global | H23: =ROUND(H21*($G$10/12),2) -> 745650.6 | J23: =IF(ROUND(H21*($G$10/12),2)=H23,"OK","DIVERGE") -> OK

Sheet LE AM
A1: Item 1 do Pregão - Auxiliar de Manutenção Predial - São Leopoldo
A4: Modelo de execução:
A6: 1 | B6: Tipo de Serviço (mesmo serviço com características distintas) | H6: Manutenção Predial
A7: 2 | B7: Classificação Brasileira de Ocupações (CBO) | H7: 5143-10
A8: 3 | B8: Salário Normativo da Categoria Profissional | H8: 1765.86
A9: 4 | B9: Categoria Profissional (vinculada à execução contratual) | H9: Auxiliar de Manutenção Predial
A10: 4.1 | B10: CCT | H10: RS000057/2026
A11: 5 | B11: Data-Base da Categoria (dia/mês/ano) | H11: 46023
A12: 6 | B12: Número de meses de execução contratual | H12: 60
A14: Módulo 1: Composição da Remuneração
A16: 1 | B16: Composição da Remuneração | H16: Percentual (R$) | J16: Valor (R$)
A18: A | B18: Salário-Base - 44h/semana - reduzido para 40h sem redução salarial cf. IN 148/2026 | J18: =ROUND(((44/6)*30)*(H8/220),2) -> 1765.86
A19: B | B19: Adicional de Periculosidade | I19: 0.3 | J19: =ROUND(I19*J18,2) -> 529.76
A20: C | B20: Adicional Noturno
A21: D | B21: Adicional de Hora Noturna Reduzida
A22: E | B22: Adicional de Hora Extra no Feriado Trabalhado
A23: F | B23: Adicional de Insalubridade | I23: 0 | J23: =ROUND(I23*J18,2) -> 0
A24: Total | J24: =SUM(J18:J23) -> 2295.62
A26: Módulo 2 – Encargos e Benefícios Anuais, Mensais e Diários
A28: Submódulo 2.1 – 13º (décimo terceiro) Salário e Adicional de Férias
A30: 2.1 | B30: 13º (décimo terceiro) Salário e Adicional de Férias | J30: Valor (R$)
A32: A | B32: 13º (décimo terceiro) Salário | I32: 0.0833 | J32: =ROUND($J$24*I32,2) -> 191.23
B33: Nota explicativa: Obrigatória a cotação de 8,33% sobre o valor do Módulo 1 – Composição da Remuneração, conforme Anexo XII da IN 5/17
A34: B | B34: Adicional de Férias | I34: 0.03025 | J34: =ROUND($J$24*I34,2) -> 69.44
B35: Nota explicativa: Obrigatória a cotação de 3,025% sobre o valor do Módulo 1 – Composição da Remuneração, conforme Anexo XII da IN 5/17 (Férias + Adicional = 9,075% + 3,025% = 12,10%)
A36: Total | J36: =SUM(J32+J34) -> 260.67
A38: C | B38: Incidência dos encargos do Submódulo 2.2 sobre o total do Submódulo 2.1 | J38: =ROUND(I54*J36,2) -> 95.93
A39: Total | J39: =J36+J38 -> 356.6
A42: Submódulo 2.2 - Encargos Previdenciários (GPS), Fundo de Garantia por Tempo de Serviço (FGTS) e outras contribuições
A44: 2.2 | B44: GPS, FGTS e outras contribuições | I44: Percentual (%) | J44: Valor (R$)
A46: A | B46: INSS | I46: 0.2 | J46: =ROUND($J$24*I46,2) -> 459.12
A47: B | B47: Salário Educação | I47: 0.025 | J47: =ROUND($J$24*I47,2) -> 57.39
A48: C | B48: RAT x FAP | E48: RAT = | F48: 0.03 | G48: FAP = | H48: 1 | I48: =ROUND((F48*H48),6) -> 0.03 | J48: =ROUND($J$24*I48,2) -> 68.87
A49: D | B49: SESC ou SESI | I49: 0.015 | J49: =ROUND($J$24*I49,2) -> 34.43
A50: E | B50: SENAC ou SENAI | I50: 0.01 | J50: =ROUND($J$24*I50,2) -> 22.96
A51: F | B51: SEBRAE | I51: 0.006 | J51: =ROUND($J$24*I51,2) -> 13.77
A52: G | B52: INCRA | I52: 0.002 | J52: =ROUND($J$24*I52,2) -> 4.59
A53: H | B53: FGTS | I53: 0.08 | J53: =ROUND($J$24*I53,2) -> 183.65
A54: Total | I54: =SUM(I46:I53) -> 0.368 | J54: =SUM(J46:J53) -> 844.78
A57: Submódulo 2.3 – Benefícios Mensais e Diários
...

Sheet LE JA
A1: Item 2 do Pregão - Jardineiro/a - São Leopoldo
A4: Modelo de execução:
A6: 1 | B6: Tipo de Serviço (mesmo serviço com características distintas) | H6: Jardinagem
A7: 2 | B7: Classificação Brasileira de Ocupações (CBO) | H7: 6220-10
A8: 3 | B8: Salário Normativo da Categoria Profissional | H8: 1765.86
A9: 4 | B9: Categoria Profissional (vinculada à execução contratual) | H9: Jardineiro(a)
A10: 4.1 | B10: CCT | H10: RS000057/2026
A11: 5 | B11: Data-Base da Categoria (dia/mês/ano) | H11: 46023
A12: 6 | B12: Número de meses de execução contratual | H12: 60
A14: Módulo 1: Composição da Remuneração
A16: 1 | B16: Composição da Remuneração | H16: Percentual (R$) | J16: Valor (R$)
A18: A | B18: Salário-Base - 44h/semana - reduzido para 40h sem redução salarial cf. IN 148/2026 | J18: =ROUND(((44/6)*30)*(H8/220),2) -> 1765.86
A19: B | B19: Adicional de Periculosidade | I19: 0 | J19: =ROUND(I19*J18,2) -> 0
A20: C | B20: Adicional Noturno
A21: D | B21: Adicional de Hora Noturna Reduzida
A22: E | B22: Adicional de Hora Extra no Feriado Trabalhado
A23: F | B23: Adicional de Insalubridade | I23: 0.2 | J23: =ROUND(I23*J18,2) -> 353.17
A24: Total | J24: =SUM(J18:J23) -> 2119.03
A26: Módulo 2 – Encargos e Benefícios Anuais, Mensais e Diários
A28: Submódulo 2.1 – 13º (décimo terceiro) Salário e Adicional de Férias
A30: 2.1 | B30: 13º (décimo terceiro) Salário e Adicional de Férias | J30: Valor (R$)
A32: A | B32: 13º (décimo terceiro) Salário | I32: 0.0833 | J32: =ROUND($J$24*I32,2) -> 176.52
B33: Nota explicativa: Obrigatória a cotação de 8,33% sobre o valor do Módulo 1 – Composição da Remuneração, conforme Anexo XII da IN 5/17
A34: B | B34: Adicional de Férias | I34: 0.03025 | J34: =ROUND($J$24*I34,2) -> 64.1
B35: Nota explicativa: Obrigatória a cotação de 3,025% sobre o valor do Módulo 1 – Composição da Remuneração, conforme Anexo XII da IN 5/17 (Férias + Adicional = 9,075% + 3,025% = 12,10%)
A36: Total | J36: =SUM(J32+J34) -> 240.62
A38: C | B38: Incidência dos encargos do Submódulo 2.2 sobre o total do Submódulo 2.1 | J38: =ROUND(I54*J36,2) -> 88.55
A39: Total | J39: =J36+J38 -> 329.17
A42: Submódulo 2.2 - Encargos Previdenciários (GPS), Fundo de Garantia por Tempo de Serviço (FGTS) e outras contribuições
A44: 2.2 | B44: GPS, FGTS e outras contribuições | I44: Percentual (%) | J44: Valor (R$)
A46: A | B46: INSS | I46: 0.2 | J46: =ROUND($J$24*I46,2) -> 423.81
A47: B | B47: Salário Educação | I47: 0.025 | J47: =ROUND($J$24*I47,2) -> 52.98
A48: C | B48: RAT x FAP | E48: RAT = | F48: 0.03 | G48: FAP = | H48: 1 | I48: =ROUND((F48*H48),6) -> 0.03 | J48: =ROUND($J$24*I48,2) -> 63.57
A49: D | B49: SESC ou SESI | I49: 0.015 | J49: =ROUND($J$24*I49,2) -> 31.79
A50: E | B50: SENAC ou SENAI | I50: 0.01 | J50: =ROUND($J$24*I50,2) -> 21.19
A51: F | B51: SEBRAE | I51: 0.006 | J51: =ROUND($J$24*I51,2) -> 12.71
A52: G | B52: INCRA | I52: 0.002 | J52: =ROUND($J$24*I52,2) -> 4.24
A53: H | B53: FGTS | I53: 0.08 | J53: =ROUND($J$24*I53,2) -> 169.52
A54: Total | I54: =SUM(I46:I53) -> 0.368 | J54: =SUM(J46:J53) -> 779.81
A57: Submódulo 2.3 – Benefícios Mensais e Diários
...

Sheet LE RC
A1: Planilha Auxiliar – Reembolso-Creche e Benefícios Semelhantes (campus São Leopoldo)
A3: IN SEGES/MGI nº 147/2026, Anexo II — Orientação SEGES nº 45, itens 3 e 7 (Portal de Compras do Governo Federal, atualizada em 03/07/2026)
G4: Divergências:
G5: =COUNTIF(G10:G19,"DIVERGE") -> 0
A6: Parâmetros do Reembolso-Creche
A8: Teto por dependente (A) | B8: 526.64
A9: Incidência (B) | B9: 0.2
A10: Provisão por posto/mês (C) = A × B | B10: =ROUND(B8*B9,2) -> 105.33 | G10: =IF(ROUND(B8*B9,2)=B10,"OK","DIVERGE") -> OK
A12: Provisionamento por Posto
A14: Posto | B14: Qtde | C14: CITL | D14: Provisão mensal | E14: Provisão anual | G14: CONF.
B16: D | C16: E | D16: F = C × D × (1+E) | E16: G = F × 12
A17: Auxiliar de Manutenção Predial | B17: 1 | C17: ='LE AM'!$J$193/'LE AM'!$J$159 -> 0.1810392 | D17: =ROUND(B17*$B$10*(1+C17),2) -> 124.4 | E17: =ROUND(D17*12,2) -> 1492.8 | G17: =IF(ROUND(B17*$B$10*(1+C17),2)=D17,"OK","DIVERGE") -> OK
A18: Jardineiro | B18: 1 | C18: ='LE JA'!$J$193/'LE JA'!$J$159 -> 0.18103903 | D18: =ROUND(B18*$B$10*(1+C18),2) -> 124.4 | E18: =ROUND(D18*12,2) -> 1492.8 | G18: =IF(ROUND(B18*$B$10*(1+C18),2)=D18,"OK","DIVERGE") -> OK
A19: Total mensal/anual | D19: =SUM(D17:D18) -> 248.8 | E19: =SUM(E17:E18) -> 2985.6 | G19: =IF(AND(SUM(D17:D18)=D19,SUM(E17:E18)=E19),"OK","DIVERGE") -> OK
A22: OBS. 2: Esta planilha substitui, nesta contratação, a linha de Reembolso-Creche do Submódulo 2.3 (Benefícios Mensais e Diários) das abas AUX. e JARD., que foi suprimida para evitar duplicidade de registro, nos termos do item 3 da Orientação SEGES nº 45.
A23: OBS. 3: O valor mensal por empregado (Provisão mensal ÷ Qtde contratada) é somado de volta ao "Valor Total por Empregado" de cada aba (AUX./JARD., item G do Quadro-Resumo do Custo por Empregado), já com o CITL aplicado — assim o preço estimado do contrato continua refletindo esse custo.
A24: OBS. 4: Valor unitário de referência: R$ 105,33/posto/mês = 20% × R$ 526,64 (teto do Reembolso-Creche, Anexo II da IN SEGES/MGI nº 147/2026, e Guia Prático do Reembolso-Creche, abril/2026).
A25: OBS. 5: O saldo provisionado deve ser acompanhado de forma global, somando os valores destinados a todos os postos de trabalho do contrato, admitidas variações mensais na distribuição entre postos (item 5 da Orientação SEGES nº 45).
A26: OBS. 6: Nas medições mensais, os valores provisionados e não solicitados pela contratada devem ser descontados, de forma análoga à glosa do vale-transporte não utilizado (item 2 da Orientação SEGES nº 45).

Sheet LE INS
B1: QUADRO INSUMOS DOS MATERIAIS, EQUIPAMENTOS E UNIFORMES
B2: Quantitativo para 12 meses
B3: Auxiliar de Manutenção Predial
B5: DESCRIÇÃO DOS MATERIAIS | C5: UNIDADE | D5: QTDE ANUAL | E5: VALOR UNIT. | F5: CUSTO ANUAL
B7: Alicate de bico isolado | C7: Unidade | D7: 1 | E7: 22.01 | F7: =ROUND(D7*E7,2) -> 22.01
B8: Alicate de corte isolado | C8: Unidade | D8: 1 | E8: 31.27 | F8: =ROUND(D8*E8,2) -> 31.27
B9: Alicate universal isolado 8” padrão VDE 1000V | C9: Unidade | D9: 1 | E9: 51.24 | F9: =ROUND(D9*E9,2) -> 51.24
B10: Masseira plástica para argamassa | C10: Unidade | D10: 1 | E10: 22.98 | F10: =ROUND(D10*E10,2) -> 22.98
B11: Balde de pedreiro plástico | C11: Unidade | D11: 1 | E11: 16.7 | F11: =ROUND(D11*E11,2) -> 16.7
B12: Carrinho de mão | C12: Unidade | D12: 1 | E12: 141.85 | F12: =ROUND(D12*E12,2) -> 141.85
B13: Chave de teste elétrico, isolada | C13: Unidade | D13: 1 | E13: 12.11 | F13: =ROUND(D13*E13,2) -> 12.11
B14: Colher de pedreiro | C14: Unidade | D14: 1 | E14: 16.55 | F14: =ROUND(D14*E14,2) -> 16.55
B15: Corda trançada, diâmetro 12mm, mínimo 20m | C15: Unidade | D15: 1 | E15: 50.43 | F15: =ROUND(D15*E15,2) -> 50.43
B16: Jogo chave fenda chata isolada | C16: Conjunto | D16: 1 | E16: 100.48 | F16: =ROUND(D16*E16,2) -> 100.48
B17: Jogo chave fenda cruzada isolada | C17: Conjunto | D17: 1 | E17: 94.67 | F17: =ROUND(D17*E17,2) -> 94.67
B18: Conjunto de brocas para concreto, mínimo 5 peças, bitolas de 4, 5, 6, 8 e 10 mm | C18: Conjunto | D18: 4 | E18: 30.94 | F18: =ROUND(D18*E18,2) -> 123.76
... B55: Trincha | C55: Unidade | D55: 1 | E55: 11.19 | F55: =ROUND(D55*E55,2) -> 11.19
B56: CUSTO ANUAL DOS MATERIAIS | F56: =SUM(F7:F55) -> 2414.96
B57: CUSTO MENSAL DOS MATERIAIS | F57: =ROUND(F56/12,2) -> 201.25
B59: UNIFORMES E EPI | C59: UNIDADE | D59: QTDE ANUAL | E59: VALOR UNIT. | F59: CUSTO ANUAL
B61: Bota de segurança de couro, antiderrapante, preta | C61: Par | D61: 2 | E61: 58.17 | F61: =ROUND(D61*E61,2) -> 116.34
B62: Calça de uniforme, brim, cinza | C62: Unidade | D62: 4 | E62: 66.82 | F62: =ROUND(D62*E62,2) -> 267.28
B63: Camiseta de uniforme, algodão, manga curta, cinza | C63: Unidade | D63: 6 | E63: 31.02 | F63: =ROUND(D63*E63,2) -> 186.12
B64: Camiseta de uniforme, algodão, manga longa, cinza | C64: Unidade | D64: 6 | E64: 28.13 | F64: =ROUND(D64*E64,2) -> 168.78
B65: Capacete de segurança NR-10 classe B | C65: Unidade | D65: 1 | E65: 37.62 | F65: =ROUND(D65*E65,2) -> 37.62
B66: Óculos de proteção | C66: Unidade | D66: 2 | E66: 5.01 | F66: =ROUND(D66*E66,2) -> 10.02
B67: Máscara de proteção facial | C67: Unidade | D67: 1 | E67: 40.1 | F67: =ROUND(D67*E67,2) -> 40.1
B68: Protetor auricular | C68: Unidade | D68: 4 | E68: 2.95 | F68: =ROUND(D68*E68,2) -> 11.8
B69: Protetor solar FPS mínimo 30 | C69: Unidade | D69: 12 | E69: 11.04 | F69: =ROUND(D69*E69,2) -> 132.48
B70: Jaleco de tecido de Brim (100% algodão) | C70: Unidade | D70: 2 | E70: 51.95 | F70: =ROUND(D70*E70,2) -> 103.9
B71: Jaqueta forrrada | C71: Unidade | D71: 2 | E71: 119.62 | F71: =ROUND(D71*E71,2) -> 239.24
B72: Luvas emborrachadas em nitrílico | C72: Par | D72: 2 | E72: 5.69 | F72: =ROUND(D72*E72,2) -> 11.38
... B76: Luva de cobertura em vaqueta | C76: Par | D76: 1 | E76: 41.93 | F76: =ROUND(D76*E76,2) -> 41.93
B77: CUSTO ANUAL DOS UNIFORMES | F77: =SUM(F61:F76) -> 2010.15
B78: CUSTO MENSAL DOS UNIFORMES | F78: =ROUND(F77/12,2) -> 167.51
B80: OUTROS | C80: UNIDADE | D80: QTDE ANUAL | E80: VALOR UNIT. | F80: CUSTO ANUAL | G80: QTDE P/ PEDIDO | H80: QTDE TOTAL
B82: Tinta acrílica emborrachada, primeira linha, ABRAFATI/NBR 11702, acabamento fosco (ver ESP-05) | C82: Lata 18L | D82: 0 | E82: 408.58 | F82: =ROUND(E82*D82,2) -> 0 | G82: 0 | H82: =G82*2 -> 0
B83: Tinta esmalte sintético à base de água para elementos de madeira, semibrilho (ver ESP-06) | C83: Lata 3,6L | D83: 0 | E83: 132.98 | F83: =ROUND(E83*D83,2) -> 0 | G83: 0 | H83: =G83*2 -> 0
B84: Tinta esmalte sintético à base de solvente para elementos metálicos, semibrilho (ver ESP-07) | C84: Lata 3,6L | D84: 0 | E84: 127.36 | F84: =ROUND(E84*D84,2) -> 0 | G84: 0 | H84: =G84*2 -> 0
B85: Cimento tipo 5 | C85: Saco 40kg | D85: 0 | E85: 38.7 | F85: =ROUND(E85*D85,2) -> 0 | G85: 0 | H85: =G85*4 -> 0
...

Sheet LE ESP
D1: TABELA AUXILIAR - ESPECIFICAÇÕES DETALHADAS
D2: Referênciada na coluna DESCRIÇÃO DOS MATERIAIS pelo código ESP-XX, na aba Insumos
D3: CÓDIGO | E3: ITEM | F3: ESPECIFICAÇÃO COMPLETA
D5: ESP-01 | E5: Maleta conjunto de bits, mínimo 100 peças | F5: Fenda: 3, 4, 4,5, 5 (2), 5,5, 6 (2), 6,5, 7 e 8 mm. Phillips: #0, #1 (2), #2 (5), #3. Pozi: #0, #1, #2 (5), #3. Quadrado: S0, S1, S2, S3. Estrela: T8, T10 (2), T15 (2), T20 (2), T25, T27, T30, T40, T45. Hex (19 peças, 2 peças cada): 1,5 / 2 / 2,5 / 3 (x3) / 4 / 5 / 5,5 / 6 / 8 mm. Com furo central (4 un.): 4, 6, 8 e 10 mm. Estrela central (9 peças): T8, T10, T15, T20, T25, T27, T30, T35, T40. Hex com furo central (6 peças): 2, 2,5, 3, 4, 5 e 6 mm. Phillips (3 un.): #1, #2, #3. Tri-wing (4 peças): #1, #2, #3, #4. Moinho de vento (3 peças): 6, 8, 10. M-tipo (3 peças): M5, M6, M8. Suporte de bit magnético 60 mm. Adaptador de soquete de 1/4" x 50 mm. Adaptador de soquete de 1/4" x 25 mm. Conector de 1/4" x 25 mm. Gancho em forma de Y.
D11: ESP-02 | E11: Conjunto de macho | F11: M3 x 0.5 - M4 x 0.7 - M5 x 0.8 - M6 x 1.0 - M8 x 1.25 - M10 x 1.5 e M12 x 1.75, com vira macho/desandador.
D13: ESP-03 | E13: Conjunto de cossinete | F13: M3 x 0.5 - M4 x 0.7 - M5 x 0.8 - M6 x 1.0 - M8 x 1.25 - M10 x 1.5 e M12 x 1.75, com vira cossinete/desandador.
D15: ESP-04 | E15: Calibre de rosca | F15: Calibre de rosca, métrica 60° Passo (0,25mm 6'') / Whitworth 55° FPP (4° 62'').
D16: ESP-05 | E16: Tinta acrílica emborrachada (Lata 18L) obs 1 | F16: Tinta acrílica emborrachada, de primeira linha, qualificada pela ABRAFATI, que atenda a NBR 11702/2010, com elasticidade para acompanhar a movimentação natural das trincas e fissuras existentes, marca Suvinil (Proteção Total) ou similar. Cores uva verde, vitral, verde paraíso, verde bucólico, palha, pérola aveludada, concreto, branco gelo e branco neve ou outra tinta similar (a depender da atualização da nomenclatura da paleta de cores do fabricante), acabamento fosco. Inclui a pintura de muros cegos.
D21: ESP-06 | E21: Tinta esmalte sintético base água - madeira (Lata 3,6L) obs 2 | F21: Tinta esmalte sintético à base de água para serviço de pintura de elementos de madeira (portas, janelas, beirais, etc), de primeira linha, qualificada pela ABRAFATI, que atenda a NBR 11702/2010, marca Suvinil ou similar. Método de aplicação com rolo/pincel e/ou pistola. Aplicação externa. Cores uva verde, vitral, verde paraíso, verde bucólico, palha, pérola aveludada, branco neve e branco gelo ou outra tonalidade similar (a depender da atualização da nomenclatura da paleta de cores do fabricante), semibrilho.
D27: ESP-07 | E27: Tinta esmalte sintético base solvente - metálicos (Lata 3,6L) obs 3 | F27: Tinta esmalte sintético à base de solvente para serviço de pintura de elementos metálicos (estruturas metálicas - reservatório, grades de proteção, calhas de beiral, portas, janelas, portões, corrimãos, escada de marinheiro, passarela coberta, guarda-corpo, estruturas metálicas das salas modulares, etc), de primeira linha, qualificada pela ABRAFATI, que atenda a NBR 11702/2010, marca Suvinil ou similar. Método de aplicação com rolo/pincel e/ou pistola. Aplicação externa. Cor branco, verde, cinza, marrom, preto e vermelho ou outra tonalidade similar (a depender da atualização da nomenclatura da paleta de cores do fabricante), semibrilho
D33: OBS 1: As tonalidades das tintas a serem utilizadas deverão ser aprovadas pela Diretoria de Projetos e Obras. Será necessária a preparação da superfície com o uso de uma demão de fundo preparador do mesmo fabricante da tinta e específico para o tipo de tinta utilizada - não considerado no quantitativo. A pintura deverá ser feita com aplicação de no mínimo três demãos ou quantas mais forem necessárias para um perfeito cobrimento da tinta, com diluição recomendada pelo fabricante. Deverá ser utilizada fita de papel gomado para acabamento, tomando-se o cuidado para não haver respingos em outras paredes, pisos ou aberturas. O ambiente deverá ser entregue limpo e organizado ao final da pintura. Fornecimento de material para pintura, incluindo todas as tintas, pincéis, rolos, lixas, desempenadeiras, espátulas, andaimes, telas para proteção de fachadas, lonas plásticas, equipamentos de proteção individual e coletiva e quaisquer outros materiais ou equipamentos que se fizerem necessários para a completa execução do serviço, tudo por conta da CONTRATADA.
D41: OBS 2 A pintura deverá ser feita com aplicação de no mínimo duas demãos de tinta, ou até a efetiva colorização e cobrimento da superfície dos elementos de madeira. Deverá ser utilizada fita de papel gomado para acabamento, tomando-se o cuidado para não haver respingos em outras paredes, pisos ou aberturas. Previamente à pintura, deverá ser realizado o lixamento, correção das massas de vidro (massa vidraceiro) e a limpeza dos elementos de madeira, como também a correção de imperfeições e/ou rachaduras com uso massa apropriada. Após o lixamento, aplicar uma demão de fundo preparador do mesmo fabricante da tinta e específico para o tipo de tinta utilizada - não considerado no quantitativo. O ambiente deverá ser entregue limpo e organizado ao final da pintura. Fornecimento de material, incluindo todas as tintas, pincéis, rolos, lixas, desempenadeiras, espátulas, compressores, pistolas, cabos e equipamentos elétricos, andaimes, lonas plásticas, equipamentos de proteção individual e coletiva e quaisquer outros materiais ou equipamentos que se fizerem necessários para a completa execução do serviço, tudo por conta da CONTRATADA.
D50: OBS 3 A pintura deverá ser feita com aplicação de no mínimo duas demãos de tinta, ou até a efetiva colorização e cobrimento da superfície dos elementos metálicos. Deverá ser utilizada fita de papel gomado para acabamento, tomando-se o cuidado para não haver respingos em outras paredes, pisos ou aberturas. Previamente à pintura, deverá ser realizado o lixamento e limpeza dos elementos metálicos, atentando para a remoção completa da ferrugem. Após o lixamento, aplicar uma demão de fundo a base de cromato de zinco específico para superfícies metálicas (função anticorrosiva) ou convertedor de ferrugem TF-7 (se for o caso) - não considerado no quantitativo. O ambiente deverá ser entregue limpo e organizado ao final da pintura. Fornecimento de material, incluindo todas as tintas, pincéis, rolos, lixas, desempenadeiras, espátulas, compressores, pistolas, cabos e equipamentos elétricos, andaimes, lonas plásticas, equipamentos de proteção individual e coletiva e quaisquer outros materiais ou equipamentos que se fizerem necessários para a completa execução do serviço, tudo por conta da CONTRATADA.

Sheet NH RES
A1: RESUMO
A3: Base Legal | C3: Lei 14.133/2021 | E3: Nº do processo: | G3: 0000.000000.0000-00
A4: Regime de Tributação | C4: Lucro Presumido | E4: Licitação nº:
A5: Modelo de execução: | C5: DEMO c/ Conta-Vinculada | E5: UASG da contratação:
A6: DISCRIMINAÇÃO DOS SERVIÇOS
A8: Data de apresentação da proposta (dia/mês/ano)
A9: Data base do Orçamento Estimado (Planilha de Ref.)
A10: Número de meses de execução contratual | G10: 60
A11: Local de execução | G11: campus Novo Hamburgo
A12: VALOR MENSAL DOS SERVIÇOS
J13: Divergências:
A14: Item | B14: Unidade de Execução | C14: Tipo de serviço | D14: Valor por Empregado | E14: Qtde. por Posto | F14: Valor por Posto | G14: Qtde. Postos | H14: Valor Total | J14: =COUNTIF(J17:J23,"DIVERGE") -> 0
C16: (A) | D16: (B) | E16: (C) | F16: (D) = (B x C) | G16: (E) | H16: (F) = (D x E) | J16: CONF.
A17: 1 | B17: Novo Hamburgo | C17: Aux. Manut. Predial | D17: ='NH AM'!J195 -> 6975.08 | E17: 1 | F17: =ROUND(D17*E17,2) -> 6975.08 | G17: 1 | H17: =ROUND(F17*G17,2) -> 6975.08 | J17: =IF(ROUND(D17*E17,2)=F17,"OK","DIVERGE") -> OK | L17: =H17*60 -> 418504.8
A18: 2 | B18: Novo Hamburgo | C18: Jardinagem | D18: ='NH JA'!J195 -> 6054.73 | E18: 1 | F18: =ROUND(D18*E18,2) -> 6054.73 | G18: 1 | H18: =ROUND(F18*G18,2) -> 6054.73 | J18: =IF(ROUND(D18*E18,2)=F18,"OK","DIVERGE") -> OK | L18: =H18*60 -> 363283.8
A19: Valor Mensal | H19: =SUM(H17:H18) -> 13029.81 | J19: =IF(SUM(H17:H18)=H19,"OK","DIVERGE") -> OK
A21: Valor Anual | H21: =ROUND(H19*12,2) -> 156357.72 | J21: =IF(ROUND(H19*12,2)=H21,"OK","DIVERGE") -> OK
A23: Valor Global | H23: =ROUND(H21*($G$10/12),2) -> 781788.6 | J23: =IF(ROUND(H21*($G$10/12),2)=H23,"OK","DIVERGE") -> OK

Sheet NH AM
A1: Item 4 do Pregão - Auxiliar de Manutenção Predial - Novo Hamburgo
A4: Modelo de execução:
A6: 1 | B6: Tipo de Serviço (mesmo serviço com características distintas) | H6: Manutenção Predial
A7: 2 | B7: Classificação Brasileira de Ocupações (CBO) | H7: 5143-10
A8: 3 | B8: Salário Normativo da Categoria Profissional | H8: 1765.86
A9: 4 | B9: Categoria Profissional (vinculada à execução contratual) | H9: Auxiliar de Manutenção Predial
A10: 4.1 | B10: CCT | H10: RS000057/2026
A11: 5 | B11: Data-Base da Categoria (dia/mês/ano) | H11: 46023
A12: 6 | B12: Número de meses de execução contratual | H12: 60
A14: Módulo 1: Composição da Remuneração
A16: 1 | B16: Composição da Remuneração | H16: Percentual (R$) | J16: Valor (R$)
A18: A | B18: Salário-Base - 44h/semana - reduzido para 40h sem redução salarial cf. IN 148/2026 | J18: =ROUND(((44/6)*30)*(H8/220),2) -> 1765.86
A19: B | B19: Adicional de Periculosidade | I19: 0.3 | J19: =ROUND(I19*J18,2) -> 529.76
A20: C | B20: Adicional Noturno
A21: D | B21: Adicional de Hora Noturna Reduzida
A22: E | B22: Adicional de Hora Extra no Feriado Trabalhado
A23: F | B23: Adicional de Insalubridade | I23: 0 | J23: =ROUND(I23*J18,2) -> 0
A24: Total | J24: =SUM(J18:J23) -> 2295.62
A26: Módulo 2 – Encargos e Benefícios Anuais, Mensais e Diários
A28: Submódulo 2.1 – 13º (décimo terceiro) Salário e Adicional de Férias
A30: 2.1 | B30: 13º (décimo terceiro) Salário e Adicional de Férias | J30: Valor (R$)
A32: A | B32: 13º (décimo terceiro) Salário | I32: 0.0833 | J32: =ROUND($J$24*I32,2) -> 191.23
B33: Nota explicativa: Obrigatória a cotação de 8,33% sobre o valor do Módulo 1 – Composição da Remuneração, conforme Anexo XII da IN 5/17
A34: B | B34: Adicional de Férias | I34: 0.03025 | J34: =ROUND($J$24*I34,2) -> 69.44
B35: Nota explicativa: Obrigatória a cotação de 3,025% sobre o valor do Módulo 1 – Composição da Remuneração, conforme Anexo XII da IN 5/17 (Férias + Adicional = 9,075% + 3,025% = 12,10%)
A36: Total | J36: =SUM(J32+J34) -> 260.67
A38: C | B38: Incidência dos encargos do Submódulo 2.2 sobre o total do Submódulo 2.1 | J38: =ROUND(I54*J36,2) -> 95.93
A39: Total | J39: =J36+J38 -> 356.6
A42: Submódulo 2.2 - Encargos Previdenciários (GPS), Fundo de Garantia por Tempo de Serviço (FGTS) e outras contribuições
A44: 2.2 | B44: GPS, FGTS e outras contribuições | I44: Percentual (%) | J44: Valor (R$)
A46: A | B46: INSS | I46: 0.2 | J46: =ROUND($J$24*I46,2) -> 459.12
A47: B | B47: Salário Educação | I47: 0.025 | J47: =ROUND($J$24*I47,2) -> 57.39
A48: C | B48: RAT x FAP | E48: RAT = | F48: 0.03 | G48: FAP = | H48: 1 | I48: =ROUND((F48*H48),6) -> 0.03 | J48: =ROUND($J$24*I48,2) -> 68.87
A49: D | B49: SESC ou SESI | I49: 0.015 | J49: =ROUND($J$24*I49,2) -> 34.43
A50: E | B50: SENAC ou SENAI | I50: 0.01 | J50: =ROUND($J$24*I50,2) -> 22.96
A51: F | B51: SEBRAE | I51: 0.006 | J51: =ROUND($J$24*I51,2) -> 13.77
A52: G | B52: INCRA | I52: 0.002 | J52: =ROUND($J$24*I52,2) -> 4.59
A53: H | B53: FGTS | I53: 0.08 | J53: =ROUND($J$24*I53,2) -> 183.65
A54: Total | I54: =SUM(I46:I53) -> 0.368 | J54: =SUM(J46:J53) -> 844.78
A57: Submódulo 2.3 – Benefícios Mensais e Diários
...

Sheet NH JA
A1: Item 5 do Pregão - Jardineiro/a - Novo Hamburgo
A4: Modelo de execução:
A6: 1 | B6: Tipo de Serviço (mesmo serviço com características distintas) | H6: Jardinagem
A7: 2 | B7: Classificação Brasileira de Ocupações (CBO) | H7: 6220-10
A8: 3 | B8: Salário Normativo da Categoria Profissional | H8: 1765.86
A9: 4 | B9: Categoria Profissional (vinculada à execução contratual) | H9: Jardineiro(a)
A10: 4.1 | B10: CCT | H10: RS000057/2026
A11: 5 | B11: Data-Base da Categoria (dia/mês/ano) | H11: 46023
A12: 6 | B12: Número de meses de execução contratual | H12: 60
A14: Módulo 1: Composição da Remuneração
A16: 1 | B16: Composição da Remuneração | H16: Percentual (R$) | J16: Valor (R$)
A18: A | B18: Salário-Base - 44h/semana - reduzido para 40h sem redução salarial cf. IN 148/2026 | J18: =ROUND(((44/6)*30)*(H8/220),2) -> 1765.86
A19: B | B19: Adicional de Periculosidade | I19: 0 | J19: =ROUND(I19*J18,2) -> 0
A20: C | B20: Adicional Noturno
A21: D | B21: Adicional de Hora Noturna Reduzida
A22: E | B22: Adicional de Hora Extra no Feriado Trabalhado
A23: F | B23: Adicional de Insalubridade | I23: 0.2 | J23: =ROUND(I23*J18,2) -> 353.17
A24: Total | J24: =SUM(J18:J23) -> 2119.03
A26: Módulo 2 – Encargos e Benefícios Anuais, Mensais e Diários
A28: Submódulo 2.1 – 13º (décimo terceiro) Salário e Adicional de Férias
A30: 2.1 | B30: 13º (décimo terceiro) Salário e Adicional de Férias | J30: Valor (R$)
A32: A | B32: 13º (décimo terceiro) Salário | I32: 0.0833 | J32: =ROUND($J$24*I32,2) -> 176.52
B33: Nota explicativa: Obrigatória a cotação de 8,33% sobre o valor do Módulo 1 – Composição da Remuneração, conforme Anexo XII da IN 5/17
A34: B | B34: Adicional de Férias | I34: 0.03025 | J34: =ROUND($J$24*I34,2) -> 64.1
B35: Nota explicativa: Obrigatória a cotação de 3,025% sobre o valor do Módulo 1 – Composição da Remuneração, conforme Anexo XII da IN 5/17 (Férias + Adicional = 9,075% + 3,025% = 12,10%)
A36: Total | J36: =SUM(J32+J34) -> 240.62
A38: C | B38: Incidência dos encargos do Submódulo 2.2 sobre o total do Submódulo 2.1 | J38: =ROUND(I54*J36,2) -> 88.55
A39: Total | J39: =J36+J38 -> 329.17
A42: Submódulo 2.2 - Encargos Previdenciários (GPS), Fundo de Garantia por Tempo de Serviço (FGTS) e outras contribuições
A44: 2.2 | B44: GPS, FGTS e outras contribuições | I44: Percentual (%) | J44: Valor (R$)
A46: A | B46: INSS | I46: 0.2 | J46: =ROUND($J$24*I46,2) -> 423.81
A47: B | B47: Salário Educação | I47: 0.025 | J47: =ROUND($J$24*I47,2) -> 52.98
A48: C | B48: RAT x FAP | E48: RAT = | F48: 0.03 | G48: FAP = | H48: 1 | I48: =ROUND((F48*H48),6) -> 0.03 | J48: =ROUND($J$24*I48,2) -> 63.57
A49: D | B49: SESC ou SESI | I49: 0.015 | J49: =ROUND($J$24*I49,2) -> 31.79
A50: E | B50: SENAC ou SENAI | I50: 0.01 | J50: =ROUND($J$24*I50,2) -> 21.19
A51: F | B51: SEBRAE | I51: 0.006 | J51: =ROUND($J$24*I51,2) -> 12.71
A52: G | B52: INCRA | I52: 0.002 | J52: =ROUND($J$24*I52,2) -> 4.24
A53: H | B53: FGTS | I53: 0.08 | J53: =ROUND($J$24*I53,2) -> 169.52
A54: Total | I54: =SUM(I46:I53) -> 0.368 | J54: =SUM(J46:J53) -> 779.81
A57: Submódulo 2.3 – Benefícios Mensais e Diários
...

Sheet NH RC
A1: Planilha Auxiliar – Reembolso-Creche e Benefícios Semelhantes (campus Novo Hamburgo)
A3: IN SEGES/MGI nº 147/2026, Anexo II — Orientação SEGES nº 45, itens 3 e 7 (Portal de Compras do Governo Federal, atualizada em 03/07/2026)
G4: Divergências:
G5: =COUNTIF(G10:G19,"DIVERGE") -> 0
A6: Parâmetros do Reembolso-Creche
A8: Teto por dependente (A) | B8: 526.64
A9: Incidência (B) | B9: 0.2
A10: Provisão por posto/mês (C) = A × B | B10: =ROUND(B8*B9,2) -> 105.33 | G10: =IF(ROUND(B8*B9,2)=B10,"OK","DIVERGE") -> OK
A12: Provisionamento por Posto
A14: Posto | B14: Qtde | C14: CITL | D14: Provisão mensal | E14: Provisão anual | G14: CONF.
B16: D | C16: E | D16: F = C × D × (1+E) | E16: G = F × 12
A17: Auxiliar de Manutenção Predial | B17: 1 | C17: ='NH AM'!$J$193/'NH AM'!$J$159 -> 0.16852154 | D17: =ROUND(B17*$B$10*(1+C17),2) -> 123.08 | E17: =ROUND(D17*12,2) -> 1476.96 | G17: =IF(ROUND(B17*$B$10*(1+C17),2)=D17,"OK","DIVERGE") -> OK
A18: Jardineiro | B18: 1 | C18: ='NH JA'!$J$193/'NH JA'!$J$159 -> 0.16852173 | D18: =ROUND(B18*$B$10*(1+C18),2) -> 123.08 | E18: =ROUND(D18*12,2) -> 1476.96 | G18: =IF(ROUND(B18*$B$10*(1+C18),2)=D18,"OK","DIVERGE") -> OK
A19: Total mensal/anual | D19: =SUM(D17:D18) -> 246.16 | E19: =SUM(E17:E18) -> 2953.92 | G19: =IF(AND(SUM(D17:D18)=D19,SUM(E17:E18)=E19),"OK","DIVERGE") -> OK
A22: OBS. 2: Esta planilha substitui, nesta contratação, a linha de Reembolso-Creche do Submódulo 2.3 (Benefícios Mensais e Diários) das abas AUX. e JARD., que foi suprimida para evitar duplicidade de registro, nos termos do item 3 da Orientação SEGES nº 45.
A23: OBS. 3: O valor mensal por empregado (Provisão mensal ÷ Qtde contratada) é somado de volta ao "Valor Total por Empregado" de cada aba (AUX./JARD., item G do Quadro-Resumo do Custo por Empregado), já com o CITL aplicado — assim o preço estimado do contrato continua refletindo esse custo.
A24: OBS. 4: Valor unitário de referência: R$ 105,33/posto/mês = 20% × R$ 526,64 (teto do Reembolso-Creche, Anexo II da IN SEGES/MGI nº 147/2026, e Guia Prático do Reembolso-Creche, abril/2026).
A25: OBS. 5: O saldo provisionado deve ser acompanhado de forma global, somando os valores destinados a todos os postos de trabalho do contrato, admitidas variações mensais na distribuição entre postos (item 5 da Orientação SEGES nº 45).
A26: OBS. 6: Nas medições mensais, os valores provisionados e não solicitados pela contratada devem ser descontados, de forma análoga à glosa do vale-transporte não utilizado (item 2 da Orientação SEGES nº 45).

Sheet NH INS
B1: QUADRO INSUMOS DOS MATERIAIS, EQUIPAMENTOS E UNIFORMES
B2: Quantitativo para 12 meses
B3: Auxiliar de Manutenção Predial
B5: DESCRIÇÃO DOS MATERIAIS | C5: UNIDADE | D5: QTDE ANUAL | E5: VALOR UNIT. | F5: CUSTO ANUAL
B7: Alicate de bico isolado | C7: Unidade | D7: 1 | E7: 22.01 | F7: =ROUND(D7*E7,2) -> 22.01
B8: Alicate de corte isolado | C8: Unidade | D8: 1 | E8: 31.27 | F8: =ROUND(D8*E8,2) -> 31.27
B9: Alicate universal isolado 8” padrão VDE 1000V | C9: Unidade | D9: 1 | E9: 51.24 | F9: =ROUND(D9*E9,2) -> 51.24
B10: Masseira plástica para argamassa | C10: Unidade | D10: 1 | E10: 22.98 | F10: =ROUND(D10*E10,2) -> 22.98
B11: Balde de pedreiro plástico | C11: Unidade | D11: 1 | E11: 16.7 | F11: =ROUND(D11*E11,2) -> 16.7
B12: Carrinho de mão | C12: Unidade | D12: 1 | E12: 141.85 | F12: =ROUND(D12*E12,2) -> 141.85
B13: Chave de teste elétrico, isolada | C13: Unidade | D13: 1 | E13: 12.11 | F13: =ROUND(D13*E13,2) -> 12.11
B14: Colher de pedreiro | C14: Unidade | D14: 1 | E14: 16.55 | F14: =ROUND(D14*E14,2) -> 16.55
B15: Corda trançada, diâmetro 12mm, mínimo 20m | C15: Unidade | D15: 1 | E15: 50.43 | F15: =ROUND(D15*E15,2) -> 50.43
B16: Jogo chave fenda chata isolada | C16: Conjunto | D16: 1 | E16: 100.48 | F16: =ROUND(D16*E16,2) -> 100.48
B17: Jogo chave fenda cruzada isolada | C17: Conjunto | D17: 1 | E17: 94.67 | F17: =ROUND(D17*E17,2) -> 94.67
B18: Conjunto de brocas para concreto, mínimo 5 peças, bitolas de 4, 5, 6, 8 e 10 mm | C18: Conjunto | D18: 4 | E18: 30.94 | F18: =ROUND(D18*E18,2) -> 123.76
... B55: Trincha | C55: Unidade | D55: 10 | E55: 11.19 | F55: =ROUND(D55*E55,2) -> 111.9
B56: CUSTO ANUAL DOS MATERIAIS | F56: =SUM(F7:F55) -> 3036.83
B57: CUSTO MENSAL DOS MATERIAIS | F57: =ROUND(F56/12,2) -> 253.07
B59: UNIFORMES E EPI | C59: UNIDADE | D59: QTDE ANUAL | E59: VALOR UNIT. | F59: CUSTO ANUAL
B61: Bota de segurança de couro, antiderrapante, preta | C61: Par | D61: 4 | E61: 58.17 | F61: =ROUND(D61*E61,2) -> 232.68
B62: Calça de uniforme, brim, cinza | C62: Unidade | D62: 4 | E62: 66.82 | F62: =ROUND(D62*E62,2) -> 267.28
B63: Camiseta de uniforme, algodão, manga curta, cinza | C63: Unidade | D63: 6 | E63: 31.02 | F63: =ROUND(D63*E63,2) -> 186.12
B64: Camiseta de uniforme, algodão, manga longa, cinza | C64: Unidade | D64: 6 | E64: 28.13 | F64: =ROUND(D64*E64,2) -> 168.78
B65: Capacete de segurança NR-10 classe B | C65: Unidade | D65: 1 | E65: 37.62 | F65: =ROUND(D65*E65,2) -> 37.62
B66: Óculos de proteção | C66: Unidade | D66: 2 | E66: 5.01 | F66: =ROUND(D66*E66,2) -> 10.02
B67: Máscara de proteção facial | C67: Unidade | D67: 1 | E67: 40.1 | F67: =ROUND(D67*E67,2) -> 40.1
B68: Protetor auricular | C68: Unidade | D68: 4 | E68: 2.95 | F68: =ROUND(D68*E68,2) -> 11.8
B69: Protetor solar FPS mínimo 30 | C69: Unidade | D69: 12 | E69: 11.04 | F69: =ROUND(D69*E69,2) -> 132.48
B70: Jaleco de tecido de Brim (100% algodão) | C70: Unidade | D70: 2 | E70: 51.95 | F70: =ROUND(D70*E70,2) -> 103.9
B71: Jaqueta forrrada | C71: Unidade | D71: 2 | E71: 119.62 | F71: =ROUND(D71*E71,2) -> 239.24
B72: Luvas emborrachadas em nitrílico | C72: Par | D72: 2 | E72: 5.69 | F72: =ROUND(D72*E72,2) -> 11.38
... B76: Luva de cobertura em vaqueta | C76: Par | D76: 1 | E76: 37.93 | F76: =ROUND(D76*E76,2) -> 37.93
B77: CUSTO ANUAL DOS UNIFORMES | F77: =SUM(F61:F76) -> 1867.37
B78: CUSTO MENSAL DOS UNIFORMES | F78: =ROUND(F77/12,2) -> 155.61
B80: OUTROS | C80: UNIDADE | D80: QTDE ANUAL | E80: VALOR UNIT. | F80: CUSTO ANUAL | G80: QTDE P/ PEDIDO | H80: QTDE TOTAL
B82: Tinta acrílica emborrachada, primeira linha, ABRAFATI/NBR 11702, acabamento fosco (ver ESP-05) | C82: Lata 18L | D82: 14 | E82: 408.58 | F82: =ROUND(E82*D82,2) -> 5720.12 | G82: 7 | H82: =G82*2 -> 14
B83: Tinta esmalte sintético à base de água para elementos de madeira, semibrilho (ver ESP-06) | C83: Lata 3,6L | D83: 5 | E83: 132.98 | F83: =ROUND(E83*D83,2) -> 664.9 | G83: 5 | H83: =G83*2 -> 10
B84: Tinta esmalte sintético à base de solvente para elementos metálicos, semibrilho (ver ESP-07) | C84: Lata 3,6L | D84: 8 | E84: 127.36 | F84: =ROUND(E84*D84,2) -> 1018.88 | G84: 4 | H84: =G84*2 -> 8
B85: Cimento tipo 5 | C85: Saco 40kg | D85: 16 | E85: 35.78 | F85: =ROUND(E85*D85,2) -> 572.48 | G85: 4 | H85: =G85*4 -> 16
...

Sheet NH ESP
D1: TABELA AUXILIAR - ESPECIFICAÇÕES DETALHADAS
D2: Referênciada na coluna DESCRIÇÃO DOS MATERIAIS pelo código ESP-XX, na aba Insumos
D3: CÓDIGO | E3: ITEM | F3: ESPECIFICAÇÃO COMPLETA
D5: ESP-01 | E5: Maleta conjunto de bits, mínimo 100 peças | F5: Fenda: 3, 4, 4,5, 5 (2), 5,5, 6 (2), 6,5, 7 e 8 mm. Phillips: #0, #1 (2), #2 (5), #3. Pozi: #0, #1, #2 (5), #3. Quadrado: S0, S1, S2, S3. Estrela: T8, T10 (2), T15 (2), T20 (2), T25, T27, T30, T40, T45. Hex (19 peças, 2 peças cada): 1,5 / 2 / 2,5 / 3 (x3) / 4 / 5 / 5,5 / 6 / 8 mm. Com furo central (4 un.): 4, 6, 8 e 10 mm. Estrela central (9 peças): T8, T10, T15, T20, T25, T27, T30, T35, T40. Hex com furo central (6 peças): 2, 2,5, 3, 4, 5 e 6 mm. Phillips (3 un.): #1, #2, #3. Tri-wing (4 peças): #1, #2, #3, #4. Moinho de vento (3 peças): 6, 8, 10. M-tipo (3 peças): M5, M6, M8. Suporte de bit magnético 60 mm. Adaptador de soquete de 1/4" x 50 mm. Adaptador de soquete de 1/4" x 25 mm. Conector de 1/4" x 25 mm. Gancho em forma de Y.
D11: ESP-02 | E11: Conjunto de macho | F11: M3 x 0.5 - M4 x 0.7 - M5 x 0.8 - M6 x 1.0 - M8 x 1.25 - M10 x 1.5 e M12 x 1.75, com vira macho/desandador.
D13: ESP-03 | E13: Conjunto de cossinete | F13: M3 x 0.5 - M4 x 0.7 - M5 x 0.8 - M6 x 1.0 - M8 x 1.25 - M10 x 1.5 e M12 x 1.75, com vira cossinete/desandador.
D15: ESP-04 | E15: Calibre de rosca | F15: Calibre de rosca, métrica 60° Passo (0,25mm 6'') / Whitworth 55° FPP (4° 62'').
D16: ESP-05 | E16: Tinta acrílica emborrachada (Lata 18L) obs 1 | F16: Tinta acrílica emborrachada, de primeira linha, qualificada pela ABRAFATI, que atenda a NBR 11702/2010, com elasticidade para acompanhar a movimentação natural das trincas e fissuras existentes, marca Suvinil (Proteção Total) ou similar. Cores uva verde, vitral, verde paraíso, verde bucólico, palha, pérola aveludada, concreto, branco gelo e branco neve ou outra tinta similar (a depender da atualização da nomenclatura da paleta de cores do fabricante), acabamento fosco. Inclui a pintura de muros cegos.
D21: ESP-06 | E21: Tinta esmalte sintético base água - madeira (Lata 3,6L) obs 2 | F21: Tinta esmalte sintético à base de água para serviço de pintura de elementos de madeira (portas, janelas, beirais, etc), de primeira linha, qualificada pela ABRAFATI, que atenda a NBR 11702/2010, marca Suvinil ou similar. Método de aplicação com rolo/pincel e/ou pistola. Aplicação externa. Cores uva verde, vitral, verde paraíso, verde bucólico, palha, pérola aveludada, branco neve e branco gelo ou outra tonalidade similar (a depender da atualização da nomenclatura da paleta de cores do fabricante), semibrilho.
D27: ESP-07 | E27: Tinta esmalte sintético base solvente - metálicos (Lata 3,6L) obs 3 | F27: Tinta esmalte sintético à base de solvente para serviço de pintura de elementos metálicos (estruturas metálicas - reservatório, grades de proteção, calhas de beiral, portas, janelas, portões, corrimãos, escada de marinheiro, passarela coberta, guarda-corpo, estruturas metálicas das salas modulares, etc), de primeira linha, qualificada pela ABRAFATI, que atenda a NBR 11702/2010, marca Suvinil ou similar. Método de aplicação com rolo/pincel e/ou pistola. Aplicação externa. Cor branco, verde, cinza, marrom, preto e vermelho ou outra tonalidade similar (a depender da atualização da nomenclatura da paleta de cores do fabricante), semibrilho
D33: OBS 1: As tonalidades das tintas a serem utilizadas deverão ser aprovadas pela Diretoria de Projetos e Obras. Será necessária a preparação da superfície com o uso de uma demão de fundo preparador do mesmo fabricante da tinta e específico para o tipo de tinta utilizada - não considerado no quantitativo. A pintura deverá ser feita com aplicação de no mínimo três demãos ou quantas mais forem necessárias para um perfeito cobrimento da tinta, com diluição recomendada pelo fabricante. Deverá ser utilizada fita de papel gomado para acabamento, tomando-se o cuidado para não haver respingos em outras paredes, pisos ou aberturas. O ambiente deverá ser entregue limpo e organizado ao final da pintura. Fornecimento de material para pintura, incluindo todas as tintas, pincéis, rolos, lixas, desempenadeiras, espátulas, andaimes, telas para proteção de fachadas, lonas plásticas, equipamentos de proteção individual e coletiva e quaisquer outros materiais ou equipamentos que se fizerem necessários para a completa execução do serviço, tudo por conta da CONTRATADA.
D41: OBS 2 A pintura deverá ser feita com aplicação de no mínimo duas demãos de tinta, ou até a efetiva colorização e cobrimento da superfície dos elementos de madeira. Deverá ser utilizada fita de papel gomado para acabamento, tomando-se o cuidado para não haver respingos em outras paredes, pisos ou aberturas. Previamente à pintura, deverá ser realizado o lixamento, correção das massas de vidro (massa vidraceiro) e a limpeza dos elementos de madeira, como também a correção de imperfeições e/ou rachaduras com uso massa apropriada. Após o lixamento, aplicar uma demão de fundo preparador do mesmo fabricante da tinta e específico para o tipo de tinta utilizada - não considerado no quantitativo. O ambiente deverá ser entregue limpo e organizado ao final da pintura. Fornecimento de material, incluindo todas as tintas, pincéis, rolos, lixas, desempenadeiras, espátulas, compressores, pistolas, cabos e equipamentos elétricos, andaimes, lonas plásticas, equipamentos de proteção individual e coletiva e quaisquer outros materiais ou equipamentos que se fizerem necessários para a completa execução do serviço, tudo por conta da CONTRATADA.
D50: OBS 3 A pintura deverá ser feita com aplicação de no mínimo duas demãos de tinta, ou até a efetiva colorização e cobrimento da superfície dos elementos metálicos. Deverá ser utilizada fita de papel gomado para acabamento, tomando-se o cuidado para não haver respingos em outras paredes, pisos ou aberturas. Previamente à pintura, deverá ser realizado o lixamento e limpeza dos elementos metálicos, atentando para a remoção completa da ferrugem. Após o lixamento, aplicar uma demão de fundo a base de cromato de zinco específico para superfícies metálicas (função anticorrosiva) ou convertedor de ferrugem TF-7 (se for o caso) - não considerado no quantitativo. O ambiente deverá ser entregue limpo e organizado ao final da pintura. Fornecimento de material, incluindo todas as tintas, pincéis, rolos, lixas, desempenadeiras, espátulas, compressores, pistolas, cabos e equipamentos elétricos, andaimes, lonas plásticas, equipamentos de proteção individual e coletiva e quaisquer outros materiais ou equipamentos que se fizerem necessários para a completa execução do serviço, tudo por conta da CONTRATADA.

Sheet JG RES
A1: RESUMO
A3: Base Legal | C3: Lei 14.133/2021 | E3: Nº do processo: | G3: 0000.000000.0000-00
A4: Regime de Tributação | C4: Lucro Presumido | E4: Licitação nº:
A5: Modelo de execução: | C5: DEMO c/ Conta-Vinculada | E5: UASG da contratação:
A6: DISCRIMINAÇÃO DOS SERVIÇOS
A8: Data de apresentação da proposta (dia/mês/ano)
A9: Data base do Orçamento Estimado (Planilha de Ref.)
A10: Número de meses de execução contratual | G10: 60
A11: Local de execução | G11: campus Jaguarão
A12: VALOR MENSAL DOS SERVIÇOS
J13: Divergências:
A14: Item | B14: Unidade de Execução | C14: Tipo de serviço | D14: Valor por Empregado | E14: Qtde. por Posto | F14: Valor por Posto | G14: Qtde. Postos | H14: Valor Total | J14: =COUNTIF(J17:J23,"DIVERGE") -> 0
C16: (A) | D16: (B) | E16: (C) | F16: (D) = (B x C) | G16: (E) | H16: (F) = (D x E) | J16: CONF.
A17: 1 | B17: Jaguarão | C17: Aux. Manut. Predial | D17: ='JG AM'!J195 -> 6141.38 | E17: 1 | F17: =ROUND(D17*E17,2) -> 6141.38 | G17: 1 | H17: =ROUND(F17*G17,2) -> 6141.38 | J17: =IF(ROUND(D17*E17,2)=F17,"OK","DIVERGE") -> OK | L17: =H17*60 -> 368482.8
A18: 2 | B18: Jaguarão | C18: Jardinagem | D18: ='JG JA'!J195 -> 5757.63 | E18: 1 | F18: =ROUND(D18*E18,2) -> 5757.63 | G18: 1 | H18: =ROUND(F18*G18,2) -> 5757.63 | J18: =IF(ROUND(D18*E18,2)=F18,"OK","DIVERGE") -> OK | L18: =H18*60 -> 345457.8
A19: Valor Mensal | H19: =SUM(H17:H18) -> 11899.01 | J19: =IF(SUM(H17:H18)=H19,"OK","DIVERGE") -> OK
A21: Valor Anual | H21: =ROUND(H19*12,2) -> 142788.12 | J21: =IF(ROUND(H19*12,2)=H21,"OK","DIVERGE") -> OK
A23: Valor Global | H23: =ROUND(H21*($G$10/12),2) -> 713940.6 | J23: =IF(ROUND(H21*($G$10/12),2)=H23,"OK","DIVERGE") -> OK

Sheet JG AM
A1: Item 6 do Pregão - Auxiliar de Manutenção Predial - Jaguarão
A4: Modelo de execução:
A6: 1 | B6: Tipo de Serviço (mesmo serviço com características distintas) | H6: Jardinagem
A7: 2 | B7: Classificação Brasileira de Ocupações (CBO) | H7: 5143-10
A8: 3 | B8: Salário Normativo da Categoria Profissional | H8: 1765.86
A9: 4 | B9: Categoria Profissional (vinculada à execução contratual) | H9: Auxiliar de Manutenção Predial
A10: 4.1 | B10: CCT | H10: RS000041/2026
A11: 5 | B11: Data-Base da Categoria (dia/mês/ano) | H11: 46023
A12: 6 | B12: Número de meses de execução contratual | H12: 60
A14: Módulo 1: Composição da Remuneração
A16: 1 | B16: Composição da Remuneração | H16: Percentual (R$) | J16: Valor (R$)
A18: A | B18: Salário-Base - 44h/semana - reduzido para 40h sem redução salarial cf. IN 148/2026 | J18: =ROUND(((44/6)*30)*(H8/220),2) -> 1765.86
A19: B | B19: Adicional de Periculosidade | I19: 0.3 | J19: =ROUND(I19*J18,2) -> 529.76
A20: C | B20: Adicional Noturno
A21: D | B21: Adicional de Hora Noturna Reduzida
A22: E | B22: Adicional de Hora Extra no Feriado Trabalhado
A23: F | B23: Adicional de Insalubridade | I23: 0 | J23: =ROUND(I23*J18,2) -> 0
A24: Total | J24: =SUM(J18:J23) -> 2295.62
A26: Módulo 2 – Encargos e Benefícios Anuais, Mensais e Diários
A28: Submódulo 2.1 – 13º (décimo terceiro) Salário e Adicional de Férias
A30: 2.1 | B30: 13º (décimo terceiro) Salário e Adicional de Férias | J30: Valor (R$)
A32: A | B32: 13º (décimo terceiro) Salário | I32: 0.0833 | J32: =ROUND($J$24*I32,2) -> 191.23
B33: Nota explicativa: Obrigatória a cotação de 8,33% sobre o valor do Módulo 1 – Composição da Remuneração, conforme Anexo XII da IN 5/17
A34: B | B34: Adicional de Férias | I34: 0.03025 | J34: =ROUND($J$24*I34,2) -> 69.44
B35: Nota explicativa: Obrigatória a cotação de 3,025% sobre o valor do Módulo 1 – Composição da Remuneração, conforme Anexo XII da IN 5/17 (Férias + Adicional = 9,075% + 3,025% = 12,10%)
A36: Total | J36: =SUM(J32+J34) -> 260.67
A38: C | B38: Incidência dos encargos do Submódulo 2.2 sobre o total do Submódulo 2.1 | J38: =ROUND(I54*J36,2) -> 95.93
A39: Total | J39: =J36+J38 -> 356.6
A42: Submódulo 2.2 - Encargos Previdenciários (GPS), Fundo de Garantia por Tempo de Serviço (FGTS) e outras contribuições
A44: 2.2 | B44: GPS, FGTS e outras contribuições | I44: Percentual (%) | J44: Valor (R$)
A46: A | B46: INSS | I46: 0.2 | J46: =ROUND($J$24*I46,2) -> 459.12
A47: B | B47: Salário Educação | I47: 0.025 | J47: =ROUND($J$24*I47,2) -> 57.39
A48: C | B48: RAT x FAP | E48: RAT = | F48: 0.03 | G48: FAP = | H48: 1 | I48: =ROUND((F48*H48),6) -> 0.03 | J48: =ROUND($J$24*I48,2) -> 68.87
A49: D | B49: SESC ou SESI | I49: 0.015 | J49: =ROUND($J$24*I49,2) -> 34.43
A50: E | B50: SENAC ou SENAI | I50: 0.01 | J50: =ROUND($J$24*I50,2) -> 22.96
A51: F | B51: SEBRAE | I51: 0.006 | J51: =ROUND($J$24*I51,2) -> 13.77
A52: G | B52: INCRA | I52: 0.002 | J52: =ROUND($J$24*I52,2) -> 4.59
A53: H | B53: FGTS | I53: 0.08 | J53: =ROUND($J$24*I53,2) -> 183.65
A54: Total | I54: =SUM(I46:I53) -> 0.368 | J54: =SUM(J46:J53) -> 844.78
A57: Submódulo 2.3 – Benefícios Mensais e Diários
...

Sheet JG JA
A1: Item 3 do Pregão - Jardinagem - Jaguarão
A4: Modelo de execução:
A6: 1 | B6: Tipo de Serviço (mesmo serviço com características distintas) | H6: Jardinagem
A7: 2 | B7: Classificação Brasileira de Ocupações (CBO) | H7: 6220-10
A8: 3 | B8: Salário Normativo da Categoria Profissional | H8: 1765.86
A9: 4 | B9: Categoria Profissional (vinculada à execução contratual) | H9: Jardineiro(a)
A10: 4.1 | B10: CCT | H10: RS000041/2026
A11: 5 | B11: Data-Base da Categoria (dia/mês/ano) | H11: 46023
A12: 6 | B12: Número de meses de execução contratual | H12: 60
A14: Módulo 1: Composição da Remuneração
A16: 1 | B16: Composição da Remuneração | H16: Percentual (R$) | J16: Valor (R$)
A18: A | B18: Salário-Base - 44h/semana - reduzido para 40h sem redução salarial cf. IN 148/2026 | J18: =ROUND(((44/6)*30)*(H8/220),2) -> 1765.86
A19: B | B19: Adicional de Periculosidade | I19: 0 | J19: =ROUND(I19*J18,2) -> 0
A20: C | B20: Adicional Noturno
A21: D | B21: Adicional de Hora Noturna Reduzida
A22: E | B22: Adicional de Hora Extra no Feriado Trabalhado
A23: F | B23: Adicional de Insalubridade | I23: 0.2 | J23: =ROUND(I23*J18,2) -> 353.17
A24: Total | J24: =SUM(J18:J23) -> 2119.03
A26: Módulo 2 – Encargos e Benefícios Anuais, Mensais e Diários
A28: Submódulo 2.1 – 13º (décimo terceiro) Salário e Adicional de Férias
A30: 2.1 | B30: 13º (décimo terceiro) Salário e Adicional de Férias | J30: Valor (R$)
A32: A | B32: 13º (décimo terceiro) Salário | I32: 0.0833 | J32: =ROUND($J$24*I32,2) -> 176.52
B33: Nota explicativa: Obrigatória a cotação de 8,33% sobre o valor do Módulo 1 – Composição da Remuneração, conforme Anexo XII da IN 5/17
A34: B | B34: Adicional de Férias | I34: 0.03025 | J34: =ROUND($J$24*I34,2) -> 64.1
B35: Nota explicativa: Obrigatória a cotação de 3,025% sobre o valor do Módulo 1 – Composição da Remuneração, conforme Anexo XII da IN 5/17 (Férias + Adicional = 9,075% + 3,025% = 12,10%)
A36: Total | J36: =SUM(J32+J34) -> 240.62
A38: C | B38: Incidência dos encargos do Submódulo 2.2 sobre o total do Submódulo 2.1 | J38: =ROUND(I54*J36,2) -> 88.55
A39: Total | J39: =J36+J38 -> 329.17
A42: Submódulo 2.2 - Encargos Previdenciários (GPS), Fundo de Garantia por Tempo de Serviço (FGTS) e outras contribuições
A44: 2.2 | B44: GPS, FGTS e outras contribuições | I44: Percentual (%) | J44: Valor (R$)
A46: A | B46: INSS | I46: 0.2 | J46: =ROUND($J$24*I46,2) -> 423.81
A47: B | B47: Salário Educação | I47: 0.025 | J47: =ROUND($J$24*I47,2) -> 52.98
A48: C | B48: RAT x FAP | E48: RAT = | F48: 0.03 | G48: FAP = | H48: 1 | I48: =ROUND((F48*H48),6) -> 0.03 | J48: =ROUND($J$24*I48,2) -> 63.57
A49: D | B49: SESC ou SESI | I49: 0.015 | J49: =ROUND($J$24*I49,2) -> 31.79
A50: E | B50: SENAC ou SENAI | I50: 0.01 | J50: =ROUND($J$24*I50,2) -> 21.19
A51: F | B51: SEBRAE | I51: 0.006 | J51: =ROUND($J$24*I51,2) -> 12.71
A52: G | B52: INCRA | I52: 0.002 | J52: =ROUND($J$24*I52,2) -> 4.24
A53: H | B53: FGTS | I53: 0.08 | J53: =ROUND($J$24*I53,2) -> 169.52
A54: Total | I54: =SUM(I46:I53) -> 0.368 | J54: =SUM(J46:J53) -> 779.81
A57: Submódulo 2.3 – Benefícios Mensais e Diários
...

Sheet JG RC
A1: Planilha Auxiliar – Reembolso-Creche e Benefícios Semelhantes (campus Jaguarão)
A3: IN SEGES/MGI nº 147/2026, Anexo II — Orientação SEGES nº 45, itens 3 e 7 (Portal de Compras do Governo Federal, atualizada em 03/07/2026)
G4: Divergências:
G5: =COUNTIF(G10:G19,"DIVERGE") -> 0
A6: Parâmetros do Reembolso-Creche
A8: Teto por dependente (A) | B8: 526.64
A9: Incidência (B) | B9: 0.2
A10: Provisão por posto/mês (C) = A × B | B10: =ROUND(B8*B9,2) -> 105.33 | G10: =IF(ROUND(B8*B9,2)=B10,"OK","DIVERGE") -> OK
A12: Provisionamento por Posto
A14: Posto | B14: Qtde | C14: CITL | D14: Provisão mensal | E14: Provisão anual | G14: CONF.
B16: D | C16: E | D16: F = C × D × (1+E) | E16: G = F × 12
A17: Auxiliar de Manutenção Predial | B17: 1 | C17: ='JG AM'!$J$193/'JG AM'!$J$159 -> 0.18103893 | D17: =ROUND(B17*$B$10*(1+C17),2) -> 124.4 | E17: =ROUND(D17*12,2) -> 1492.8 | G17: =IF(ROUND(B17*$B$10*(1+C17),2)=D17,"OK","DIVERGE") -> OK
A18: Jardineiro | B18: 1 | C18: ='JG JA'!$J$193/'JG JA'!$J$159 -> 0.18104245 | D18: =ROUND(B18*$B$10*(1+C18),2) -> 124.4 | E18: =ROUND(D18*12,2) -> 1492.8 | G18: =IF(ROUND(B18*$B$10*(1+C18),2)=D18,"OK","DIVERGE") -> OK
A19: Total mensal/anual | D19: =SUM(D17:D18) -> 248.8 | E19: =SUM(E17:E18) -> 2985.6 | G19: =IF(AND(SUM(D17:D18)=D19,SUM(E17:E18)=E19),"OK","DIVERGE") -> OK
A22: OBS. 2: Esta planilha substitui, nesta contratação, a linha de Reembolso-Creche do Submódulo 2.3 (Benefícios Mensais e Diários) das abas AUX. e JARD., que foi suprimida para evitar duplicidade de registro, nos termos do item 3 da Orientação SEGES nº 45.
A23: OBS. 3: O valor mensal por empregado (Provisão mensal ÷ Qtde contratada) é somado de volta ao "Valor Total por Empregado" de cada aba (AUX./JARD., item G do Quadro-Resumo do Custo por Empregado), já com o CITL aplicado — assim o preço estimado do contrato continua refletindo esse custo.
A24: OBS. 4: Valor unitário de referência: R$ 105,33/posto/mês = 20% × R$ 526,64 (teto do Reembolso-Creche, Anexo II da IN SEGES/MGI nº 147/2026, e Guia Prático do Reembolso-Creche, abril/2026).
A25: OBS. 5: O saldo provisionado deve ser acompanhado de forma global, somando os valores destinados a todos os postos de trabalho do contrato, admitidas variações mensais na distribuição entre postos (item 5 da Orientação SEGES nº 45).
A26: OBS. 6: Nas medições mensais, os valores provisionados e não solicitados pela contratada devem ser descontados, de forma análoga à glosa do vale-transporte não utilizado (item 2 da Orientação SEGES nº 45).

Sheet JG INS
B1: QUADRO INSUMOS DOS MATERIAIS, EQUIPAMENTOS E UNIFORMES
B2: Quantitativo para 12 meses
B3: Auxiliar de Manutenção Predial
B5: DESCRIÇÃO DOS MATERIAIS | C5: UNIDADE | D5: QTDE ANUAL | E5: VALOR UNIT. | F5: CUSTO ANUAL
B7: Alicate de bico isolado | C7: Unidade | D7: 1 | E7: 22.01 | F7: =ROUND(D7*E7,2) -> 22.01
B8: Alicate de corte isolado | C8: Unidade | D8: 1 | E8: 31.27 | F8: =ROUND(D8*E8,2) -> 31.27
B9: Alicate universal isolado 8” padrão VDE 1000V | C9: Unidade | D9: 1 | E9: 51.24 | F9: =ROUND(D9*E9,2) -> 51.24
B10: Masseira plástica para argamassa | C10: Unidade | D10: 1 | E10: 22.98 | F10: =ROUND(D10*E10,2) -> 22.98
B11: Balde de pedreiro plástico | C11: Unidade | D11: 1 | E11: 16.7 | F11: =ROUND(D11*E11,2) -> 16.7
B12: Carrinho de mão | C12: Unidade | D12: 1 | E12: 141.85 | F12: =ROUND(D12*E12,2) -> 141.85
B13: Chave de teste elétrico, isolada | C13: Unidade | D13: 1 | E13: 12.11 | F13: =ROUND(D13*E13,2) -> 12.11
B14: Colher de pedreiro | C14: Unidade | D14: 1 | E14: 16.55 | F14: =ROUND(D14*E14,2) -> 16.55
B15: Corda trançada, diâmetro 12mm, mínimo 20m | C15: Unidade | D15: 1 | E15: 50.43 | F15: =ROUND(D15*E15,2) -> 50.43
B16: Jogo chave fenda chata isolada | C16: Conjunto | D16: 1 | E16: 100.48 | F16: =ROUND(D16*E16,2) -> 100.48
B17: Jogo chave fenda cruzada isolada | C17: Conjunto | D17: 1 | E17: 94.67 | F17: =ROUND(D17*E17,2) -> 94.67
B18: Conjunto de brocas para concreto, mínimo 5 peças, bitolas de 4, 5, 6, 8 e 10 mm | C18: Conjunto | D18: 4 | E18: 30.94 | F18: =ROUND(D18*E18,2) -> 123.76
... B55: Trincha | C55: Unidade | D55: 1 | E55: 11.19 | F55: =ROUND(D55*E55,2) -> 11.19
B56: CUSTO ANUAL DOS MATERIAIS | F56: =SUM(F7:F55) -> 2472.71
B57: CUSTO MENSAL DOS MATERIAIS | F57: =ROUND(F56/12,2) -> 206.06
B59: UNIFORMES E EPI | C59: UNIDADE | D59: QTDE ANUAL | E59: VALOR UNIT. | F59: CUSTO ANUAL
B61: Bota de segurança de couro, antiderrapante, preta | C61: Par | D61: 2 | E61: 58.17 | F61: =ROUND(D61*E61,2) -> 116.34
B62: Calça de uniforme, brim, cinza | C62: Unidade | D62: 4 | E62: 66.82 | F62: =ROUND(D62*E62,2) -> 267.28
B63: Camiseta de uniforme, algodão, manga curta, cinza | C63: Unidade | D63: 6 | E63: 31.02 | F63: =ROUND(D63*E63,2) -> 186.12
B64: Camiseta de uniforme, algodão, manga longa, cinza | C64: Unidade | D64: 6 | E64: 28.13 | F64: =ROUND(D64*E64,2) -> 168.78
B65: Capacete de segurança NR-10 classe B | C65: Unidade | D65: 1 | E65: 37.62 | F65: =ROUND(D65*E65,2) -> 37.62
B66: Óculos de proteção | C66: Unidade | D66: 2 | E66: 5.01 | F66: =ROUND(D66*E66,2) -> 10.02
B67: Máscara de proteção facial | C67: Unidade | D67: 1 | E67: 40.1 | F67: =ROUND(D67*E67,2) -> 40.1
B68: Protetor auricular | C68: Unidade | D68: 4 | E68: 2.95 | F68: =ROUND(D68*E68,2) -> 11.8
B69: Protetor solar FPS mínimo 30 | C69: Unidade | D69: 12 | E69: 11.04 | F69: =ROUND(D69*E69,2) -> 132.48
B70: Jaleco de tecido de Brim (100% algodão) | C70: Unidade | D70: 2 | E70: 51.95 | F70: =ROUND(D70*E70,2) -> 103.9
B71: Jaqueta forrrada | C71: Unidade | D71: 2 | E71: 119.62 | F71: =ROUND(D71*E71,2) -> 239.24
B72: Luvas emborrachadas em nitrílico | C72: Par | D72: 2 | E72: 5.69 | F72: =ROUND(D72*E72,2) -> 11.38
... B76: Luva de cobertura em vaqueta | C76: Par | D76: 1 | E76: 41.93 | F76: =ROUND(D76*E76,2) -> 41.93
B77: CUSTO ANUAL DOS UNIFORMES | F77: =SUM(F61:F76) -> 2010.15
B78: CUSTO MENSAL DOS UNIFORMES | F78: =ROUND(F77/12,2) -> 167.51
B80: OUTROS | C80: UNIDADE | D80: QTDE ANUAL | E80: VALOR UNIT. | F80: CUSTO ANUAL | G80: QTDE P/ PEDIDO | H80: QTDE TOTAL
B82: Tinta acrílica emborrachada, primeira linha, ABRAFATI/NBR 11702, acabamento fosco (ver ESP-05) | C82: Lata 18L | D82: 0 | E82: 408.58 | F82: =ROUND(E82*D82,2) -> 0 | G82: 0 | H82: =G82*2 -> 0
B83: Tinta esmalte sintético à base de água para elementos de madeira, semibrilho (ver ESP-06) | C83: Lata 3,6L | D83: 0 | E83: 132.98 | F83: =ROUND(E83*D83,2) -> 0 | G83: 0 | H83: =G83*2 -> 0
B84: Tinta esmalte sintético à base de solvente para elementos metálicos, semibrilho (ver ESP-07) | C84: Lata 3,6L | D84: 0 | E84: 127.36 | F84: =ROUND(E84*D84,2) -> 0 | G84: 0 | H84: =G84*2 -> 0
B85: Cimento tipo 5 | C85: Saco 40kg | D85: 0 | E85: 38.7 | F85: =ROUND(E85*D85,2) -> 0 | G85: 0 | H85: =G85*4 -> 0
...

Sheet JG ESP
D1: TABELA AUXILIAR - ESPECIFICAÇÕES DETALHADAS
D2: Referênciada na coluna DESCRIÇÃO DOS MATERIAIS pelo código ESP-XX, na aba Insumos
D3: CÓDIGO | E3: ITEM | F3: ESPECIFICAÇÃO COMPLETA
