Workbook
Name \d: #N/A
Name \f: #N/A
Name \p: #N/A
Name _BSADJ: #REF!
Name _BSTGT: #REF!
Name _IND1: #REF!
Name _IND2: #REF!
Name a: #REF!
Name acha.coluna: #REF!
Name acha.dados: #REF!
Name acha.dados2: #REF!
Name acha.linha: #REF!
Name acha.linha2: #REF!
Name Área_impressão_IM: #REF!
Name Área_impressão_IM2: #REF!
Name AreaTeste: #REF!
Name AreaTeste: #REF!
Name AreaTeste: #REF!
Name AreaTeste: #REF!
Name AreaTeste: #REF!
Name AreaTeste: #REF!
Name AreaTeste: #REF!
Name AreaTeste2: #REF!
Name AreaTeste2: #REF!
Name AreaTeste2: #REF!
Name AreaTeste2: #REF!
Name AreaTeste2: #REF!
Name AreaTeste2: #REF!
Name bdi: #REF!
Name BDIlds: '[2]LIGAÇÕES DOMICILIARES (SER)'!$K$13
Name BDIm: #REF!
Name BDIs: [3]Serv!$I$11
Name cb: #REF!
Name ccc: #REF!
Name CélulaInicioPlanilha: #REF!
Name CélulaInicioPlanilha: #REF!
Name CélulaInicioPlanilha: #REF!
Name CélulaInicioPlanilha: #REF!
Name CélulaInicioPlanilha: #REF!
Name CélulaInicioPlanilha: #REF!
Name CélulaInicioPlanilha: #REF!
Name CélulaResumo: #REF!
Name CélulaResumo: #REF!
Name CélulaResumo: #REF!
Name CélulaResumo: #REF!
Name CélulaResumo: #REF!
Name CélulaResumo: #REF!
Name cer: #REF!
Name COM: #REF!
Name CRITERIOS2: #REF!
Name dssds: #REF!
Name Exist: #REF!
Name fdfd: #REF!
Name fdfd: #REF!
Name fdfd: #REF!
Name INCC: [3]Mat!$J$9
Name INCC1: [3]Serv!$I$10
Name j: #REF!
Name jfhdskjg: #REF!
Name jfhdskjg: #REF!

Sheet BDI_EDIFICACOES_26,53%_COM
B2: COMPOSIÇÃO DE BDI PARA SERVIÇOS GERAIS DE EDIFICAÇÕES
B4: BONIFICAÇÃO E DESPESAS INDIRETAS
B6: =#REF! -> #REF!
B7: =#REF! -> #REF!
B8: =#REF! -> #REF!
B10: DESCRIÇÃO | C10: SIGLA | D10: VALOR (*) | F10: FAIXA REFERENCIAL - Ref. Acórdão 2622/2013
B12: Taxa de rateio da Administração Central | C12: AC | D12: 0.04 | E12: med | F12: De 3,00% até 5,50%; médio = 4,00%
B14: Taxa de Despesas Financeiras | C14: DF | D14: 0.0123 | E14: med | F14: De 0,59% até 1,39%; médio = 1,23%
B16: Taxa de Risco | C16: R | D16: 0.0097 | E16: med | F16: De 0,97% até 1,27%; médio = 1,27%
B18: Taxa de Seguro e Taxa de Garantia | C18: S + G | D18: 0.008 | E18: *med=min | F18: De 0,80% até 1,00%; médio = 0,80%
B20: COFINS | C20: COFINS | D20: 0.03
B21: ISS (**) | C21: ISS | D21: 0.02 | E21: =0.05*0.4 -> 0.02
B22: PIS | C22: PIS | D22: 0.0065
B23: CONTRIBUIÇÃO PREVIDENCIÁRIA SOBRE RECEITA BRUTA (***) | C23: CPRB | D23: 0.045 | E23: *
B24: Taxa de Tributos (Soma dos itens COFINS, ISS, PIS e CPRB) | C24: I | D24: =SUM(D20:D23) -> 0.1015
B26: Taxa de Lucro | C26: L | D26: 0.0618 | E26: min-med | F26: De 6,16% até 8,96%; médio = 7,40%
B28: BDI Resultante | D28: =ROUND((((1+D12+D18+D16)*(1+D14)*(1+D26))/(1-D24))-1,4) -> 0.2653 | E28: (BDI padrão Edificações com CPRB considerando M.O. de 40%)
F29: De 20,34% até 25,00%; médio = 22,12%
B32: Fórmula do BDI conforme Acórdão TCU 2622/2013-P:
B40: Obs.:
B41: (*) Todas as taxas adotadas estão na faixa admissível do Acórdão 2622/2013-P do TCU.
B42: (**) A alíquota de ISS no Município de Orobó/PE é de 5% sobre os custos de mão de obra. Considerou-se para todos os serviços uma proporção de 40% de mão de obra, de modo que a taxa de ISS a incidir sobre os custos unitários dos itens será de 5% x 40% = 2,00%.
B43: (***) Conforme determina a Lei nº 13.161, de 31 de agosto de 2015, que altera a Lei nº 12.546, de 14 de dezembro 2011, para obras de infraestrutura e do setor de construção, foi regulamentada a substituição da contribuição previdenciária patronal de 20% sobre a folha de pagamentos por uma contribuição de 4,50% sobre a receita bruta, sendo facultativa a opção pela contribuição substitutiva. Nesta composição de BDI foi considerada a opção pela contribuição substitutiva, sendo portanto necessário utilizar tabelas de custos DESONERADAS para elaboração do orçamento básico. | F43: Obs.: 1. Acompanhar a questão, pois existe a possibilidade da Lei da Desoneração vencer ou ser revogada. 2. As atividades incluídas na desoneração são as relativas aos grupos 412, 432, 433 e 439 da CNAE 2.0
B46: Obs.:
B47: Os custos indiretos são decorrentes da estrutura da obra e da empresa e que não podem ser atribuídos diretamente à execução de um dado serviço. Os custos indiretos variam muito, principalmente, em função do local de execução dos serviços, do tipo da obra, impostos incidentes, e ainda com as exigências do edital ou contrato. Devem ser distribuídos pelos custos unitários diretos totais dos serviços na forma de percentual destes. Os custos indiretos que mais afetam a construção estão a seguir identificados, entretanto, o engenheiro de custos deve analisar em cada caso sua validade.
B61: Fórmula BDI conforme Acórdão TCU 325/2007:

Sheet (ORÇAMENTO GERAL)
A1: PLANILHA ORÇAMENTÁRIA
A3: MEMÓRIA DE CÁLCULO EXPLICATIVO
A4: PROJETO
A6: OBRA: REFORMA DO AÇOUGUE MUNICIPAL E CONSTRUÇÃO DE 01 GALPÃO PRÉ-FABRICADO DE CONCRETO ARMADO
A7: LOCALIZAÇÃO: RUA SÉRGIO AMARO DO NASCIMENTO - JOÃO ALFREDO/PE
A8: FONTES DE PREÇOS: SINAPI-PE FEVEREIRO - 2025 / ORSEJANEIRO - 2025 / SEINFRA-CE 028 / SBC - PE / COMPOSIÇÕES / SEM DESONERAÇÃO / BDI = 20,50% / BDI = 11,10%
A9: DATA: ABRIL/2025
L10: BDI (FORNECIMENTO) = | N10: 0.1632 | O10: BDI (FORNECIMENTO) = | Q10: 0.111
L11: BDI (EDIFICAÇÕES) = | N11: 0.2653 | O11: BDI (EDIFICAÇÕES) = | Q11: 0.205
L12: COM DESONERAÇÃO | O12: SEM DESONERAÇÃO | R12: COM | S12: =N405 -> 2653615.7
A13: ITEM | B13: FONTE | C13: CÓDIGO | D13: DESCRIÇÃO | E13: UN. | F13: TAXA | G13: COMP. | H13: LARG. | I13: ALTURA | J13: TOTAL | K13: QUANT. | L13: V. UNIT. S/BDI | M13: V. UNIT. C/ BDI | N13: V. TOTAL C/ BDI | O13: V. UNIT. S/BDI | P13: V. UNIT. C/ BDI | Q13: V. TOTAL C/ BDI | R13: SEM | S13: =Q405 -> 2590295.2
A15: 1.0 | D15: ADMINISTRAÇÃO LOCAL | N15: =SUM(N16:N20) -> 71798.07 | Q15: =SUM(Q16:Q20) -> 76173.24
A17: 1.1 | B17: COMPOSIÇÃO | C17: 01 | D17: ADMINISTRAÇÃO LOCAL DA OBRA | E17: UN | K17: =J19 -> 1 | L17: =COMPOSIÇÕES!H20 -> 56743.91 | M17: =ROUND(L17*(1+$N$11),2) -> 71798.07 | N17: =TRUNC($K17*M17,2) -> 71798.07 | O17: =COMPOSIÇÕES!J20 -> 63214.31 | P17: =ROUND(O17*(1+$Q$11),2) -> 76173.24 | Q17: =TRUNC($K17*P17,2) -> 76173.24 | R17: OK - ATUALIZADO_12/2024 | U17: =Q15/Q405 -> 0.029407166
D18: Estimava para ao local da obra (Encarregado) - 2 vezes por semana e 4 semanas durante 10 meses (2x4x10) / Estimava para ao local da obra (Engenheiro) - 2 vezes por semana e 4 semanas durante 10 meses (2x4x10) | F18: 1 | J18: =ROUND(PRODUCT(F18:I18),2) -> 1
D19: ="Total item "&A17 -> Total item 1.1 | J19: =SUM(J18:J18) -> 1
A21: 2.0 | D21: SERVIÇOS PRELIMINARES | N21: =SUM(N22:N64) -> 110752.93 | Q21: =SUM(Q22:Q64) -> 110675.94
A23: 2.1 | B23: SINAPI | C23: 103689 | D23: FORNECIMENTO E INSTALAÇÃO DE PLACA DE OBRA COM CHAPA GALVANIZADA E ESTRUTURA DE MADEIRA. AF_03/2022_PS | E23: M2 | K23: =J25 -> 27 | L23: 462,48 | M23: =ROUND(L23*(1+$N$11),2) -> 585.18 | N23: =TRUNC($K23*M23,2) -> 15799.86 | O23: 465,75 | P23: =ROUND(O23*(1+$Q$11),2) -> 561.23 | Q23: =TRUNC($K23*P23,2) -> 15153.21 | R23: OK - ATUALIZADO_02/2025
D24: Placa de Obra | G24: 6 | I24: 4.5 | J24: =ROUND(PRODUCT(F24:I24),2) -> 27
D25: ="Total item "&A23 -> Total item 2.1 | J25: =SUM(J24:J24) -> 27
A27: 2.2 | B27: SINAPI | C27: 97647 | D27: REMOÇÃO DE TELHAS DE FIBROCIMENTO METÁLICA E CERÂMICA, DE FORMA MANUAL, SEM REAPROVEITAMENTO. AF_09/2023 | E27: M2 | G27: Área conf proejto | K27: =J29 -> 1562.66 | L27: 3,47 | M27: =ROUND(L27*(1+$N$11),2) -> 4.39 | N27: =TRUNC($K27*M27,2) -> 6860.07 | O27: 3,76 | P27: =ROUND(O27*(1+$Q$11),2) -> 4.53 | Q27: =TRUNC($K27*P27,2) -> 7078.84 | R27: OK - ATUALIZADO_02/2025
D28: Coberta existente (telha fribrociemnto) | G28: 1562.66 | J28: =ROUND(PRODUCT(F28:I28),2) -> 1562.66
D29: ="Total item "&A27 -> Total item 2.2 | J29: =SUM(J28:J28) -> 1562.66
A31: 2.3 | B31: SINAPI | C31: 104790 | D31: DEMOLIÇÃO DE PISO DE CONCRETO SIMPLES, DE FORMA MECANIZADA COM MARTELETE, SEM REAPROVEITAMENTO. AF_09/2023 | E31: M3 | G31: Área conf proejto | K31: =J33 -> 89.93 | L31: 103,03 | M31: =ROUND(L31*(1+$N$11),2) -> 130.36 | N31: =TRUNC($K31*M31,2) -> 11723.27 | O31: 107,3 | P31: =ROUND(O31*(1+$Q$11),2) -> 129.3 | Q31: =TRUNC($K31*P31,2) -> 11627.94 | R31: OK - ATUALIZADO_02/2025
D32: Piso existente | G32: 1798.52 | I32: 0.05 | J32: =ROUND(PRODUCT(F32:I32),2) -> 89.93
D33: ="Total item "&A31 -> Total item 2.3 | J33: =SUM(J32:J32) -> 89.93
A35: 2.4 | B35: SINAPI | C35: 97633 | D35: DEMOLIÇÃO DE REVESTIMENTO CERÂMICO, DE FORMA MANUAL, SEM REAPROVEITAMENTO. AF_09/2023 | E35: M2 | G35: Área conf proejto | K35: =J37 -> 1245.83 | L35: 22.4 | M35: =ROUND(L35*(1+$N$11),2) -> 28.34 | N35: =TRUNC($K35*M35,2) -> 35306.82 | O35: 24,24 | P35: =ROUND(O35*(1+$Q$11),2) -> 29.21 | Q35: =TRUNC($K35*P35,2) -> 36390.69 | R35: OK - ATUALIZADO_02/2025
D36: Revestimento existente | G36: 1245.83 | J36: =ROUND(PRODUCT(F36:I36),2) -> 1245.83
D37: ="Total item "&A35 -> Total item 2.4 | J37: =SUM(J36:J36) -> 1245.83
A39: 2.5 | B39: SINAPI | C39: 97621 | D39: DEMOLIÇÃO DE ALVENARIA DE BLOCO FURADO, DE FORMA MANUAL, COM REAPROVEITAMENTO. AF_09/2023 | E39: M2 | G39: Área conf proejto | K39: =J41 -> 87.42 | L39: 114,61 | M39: =ROUND(L39*(1+$N$11),2) -> 145.02 | N39: =TRUNC($K39*M39,2) -> 12677.64 | O39: 123,97 | P39: =ROUND(O39*(1+$Q$11),2) -> 149.38 | Q39: =TRUNC($K39*P39,2) -> 13058.79 | R39: OK - ATUALIZADO_02/2025
D40: Wc's | G40: 87.42 | J40: =ROUND(PRODUCT(F40:I40),2) -> 87.42
D41: ="Total item "&A39 -> Total item 2.5 | J41: =SUM(J40:J40) -> 87.42
A43: 2.6 | B43: SINAPI | C43: 104803 | D43: REMOÇÃO CALHAS E RUFOS, DE FORMA MANUAL, SEM REAPROVEITAMENTO. AF_09/2023 | E43: M2 | K43: =J45 -> 63 | L43: 4,45 | M43: =ROUND(L43*(1+$N$11),2) -> 5.63 | N43: =TRUNC($K43*M43,2) -> 354.69 | O43: 4,83 | P43: =ROUND(O43*(1+$Q$11),2) -> 5.82 | Q43: =TRUNC($K43*P43,2) -> 366.66 | R43: OK - ATUALIZADO_02/2025
D44: Calha existente | G44: 63 | J44: =ROUND(PRODUCT(F44:I44),2) -> 63
D45: ="Total item "&A43 -> Total item 2.6 | J45: =SUM(J44:J44) -> 63
A47: 2.7 | B47: ORSE | C47: 021 | D47: DEMOLIÇÃO DE MEIO-FIO GRANÍTICO OU PRE-MOLDADO | E47: M | K47: =J49 -> 80 | L47: 10.35 | M47: =ROUND(L47*(1+$N$11),2) -> 13.1 | N47: =TRUNC($K47*M47,2) -> 1048 | O47: 10.35 | P47: =ROUND(O47*(1+$Q$11),2) -> 12.47 | Q47: =TRUNC($K47*P47,2) -> 997.6 | R47: OK - ATUALIZADO_02/2025
D48: Calçada frontal | G48: 80 | J48: =ROUND(PRODUCT(F48:I48),2) -> 80
D49: ="Total item "&A47 -> Total item 2.7 | J49: =SUM(J47:J48) -> 80
A51: 2.8 | B51: SINAPI | C51: 97631 | D51: DEMOLIÇÃO DE ARGAMASSAS, DE FORMA MANUAL, SEM REAPROVEITAMENTO. AF_09/2023 | E51: M2 | K51: =J53 -> 1226.75 | L51: 10.35 | M51: =ROUND(L51*(1+$N$11),2) -> 13.1 | N51: =TRUNC($K51*M51,2) -> 16070.42 | O51: 10.35 | P51: =ROUND(O51*(1+$Q$11),2) -> 12.47 | Q51: =TRUNC($K51*P51,2) -> 15297.57 | R51: OK - ATUALIZADO_02/2025
D52: Revestimento | G52: 1226.75 | J52: =ROUND(PRODUCT(F52:I52),2) -> 1226.75
D53: ="Total item "&A51 -> Total item 2.8 | J53: =SUM(J51:J52) -> 1226.75
...

Sheet ORÇAMENTO
A1: PLANILHA ORÇAMENTÁRIA
A3: OBRA: REFORMA DO AÇOUGUE MUNICIPAL E CONSTRUÇÃO DE 01 GALPÃO PRÉ-FABRICADO DE CONCRETO ARMADO
A4: LOCALIZAÇÃO: RUA SÉRGIO AMARO DO NASCIMENTO - JOÃO ALFREDO/PE
A5: FONTES DE PREÇOS: SINAPI-PE FEVEREIRO - 2025 / ORSE JANEIRO - 2025 / SEINFRA-CE 028 / SBC - PE / COMPOSIÇÕES / SEM DESONERAÇÃO / BDI = 20,50% / BDI = 11,10%
A6: DATA: ABRIL/2025
G7: BDI (FORNECIMENTO) = | I7: 0.111
G8: BDI (EDIFICAÇÕES) = | I8: 0.205
G9: SEM DESONERAÇÃO
A10: ITEM | B10: FONTE | C10: CÓDIGO | D10: DESCRIÇÃO | E10: UN. | F10: QUANT. | G10: V. UNIT. S/BDI | H10: V. UNIT. C/ BDI | I10: V. TOTAL C/ BDI | J10: SEM | K10: =I118 -> 2590295.2
A12: 1.0 | D12: ADMINISTRAÇÃO LOCAL | I12: =SUM(I13:I14) -> 76173.24
A13: 1.1 | B13: COMPOSIÇÃO | C13: 01 | D13: ADMINISTRAÇÃO LOCAL DA OBRA | E13: UN | F13: 1 | G13: =COMPOSIÇÕES!J20 -> 63214.31 | H13: =ROUND(G13*(1+$I$8),2) -> 76173.24 | I13: =TRUNC($F13*H13,2) -> 76173.24 | J13: OK - ATUALIZADO_12/2024 | M13: =I12/I118 -> 0.029407166
A15: 2.0 | D15: SERVIÇOS PRELIMINARES | I15: =SUM(I16:I26) -> 110675.94
A16: 2.1 | B16: SINAPI | C16: 103689 | D16: FORNECIMENTO E INSTALAÇÃO DE PLACA DE OBRA COM CHAPA GALVANIZADA E ESTRUTURA DE MADEIRA. AF_03/2022_PS | E16: M2 | F16: 27 | G16: 465,75 | H16: =ROUND(G16*(1+$I$8),2) -> 561.23 | I16: =TRUNC($F16*H16,2) -> 15153.21 | J16: OK - ATUALIZADO_02/2025
A17: 2.2 | B17: SINAPI | C17: 97647 | D17: REMOÇÃO DE TELHAS DE FIBROCIMENTO METÁLICA E CERÂMICA, DE FORMA MANUAL, SEM REAPROVEITAMENTO. AF_09/2023 | E17: M2 | F17: 1562.66 | G17: 3,76 | H17: =ROUND(G17*(1+$I$8),2) -> 4.53 | I17: =TRUNC($F17*H17,2) -> 7078.84 | J17: OK - ATUALIZADO_02/2025
A18: 2.3 | B18: SINAPI | C18: 104790 | D18: DEMOLIÇÃO DE PISO DE CONCRETO SIMPLES, DE FORMA MECANIZADA COM MARTELETE, SEM REAPROVEITAMENTO. AF_09/2023 | E18: M3 | F18: 89.93 | G18: 107,3 | H18: =ROUND(G18*(1+$I$8),2) -> 129.3 | I18: =TRUNC($F18*H18,2) -> 11627.94 | J18: OK - ATUALIZADO_02/2025
A19: 2.4 | B19: SINAPI | C19: 97633 | D19: DEMOLIÇÃO DE REVESTIMENTO CERÂMICO, DE FORMA MANUAL, SEM REAPROVEITAMENTO. AF_09/2023 | E19: M2 | F19: 1245.83 | G19: 24,24 | H19: =ROUND(G19*(1+$I$8),2) -> 29.21 | I19: =TRUNC($F19*H19,2) -> 36390.69 | J19: OK - ATUALIZADO_02/2025
A20: 2.5 | B20: SINAPI | C20: 97621 | D20: DEMOLIÇÃO DE ALVENARIA DE BLOCO FURADO, DE FORMA MANUAL, COM REAPROVEITAMENTO. AF_09/2023 | E20: M2 | F20: 87.42 | G20: 123,97 | H20: =ROUND(G20*(1+$I$8),2) -> 149.38 | I20: =TRUNC($F20*H20,2) -> 13058.79 | J20: OK - ATUALIZADO_02/2025
A21: 2.6 | B21: SINAPI | C21: 104803 | D21: REMOÇÃO CALHAS E RUFOS, DE FORMA MANUAL, SEM REAPROVEITAMENTO. AF_09/2023 | E21: M2 | F21: 63 | G21: 4,83 | H21: =ROUND(G21*(1+$I$8),2) -> 5.82 | I21: =TRUNC($F21*H21,2) -> 366.66 | J21: OK - ATUALIZADO_02/2025
A22: 2.7 | B22: ORSE | C22: 021 | D22: DEMOLIÇÃO DE MEIO-FIO GRANÍTICO OU PRE-MOLDADO | E22: M | F22: 80 | G22: 10.35 | H22: =ROUND(G22*(1+$I$8),2) -> 12.47 | I22: =TRUNC($F22*H22,2) -> 997.6 | J22: OK - ATUALIZADO_02/2025
A23: 2.8 | B23: SINAPI | C23: 97631 | D23: DEMOLIÇÃO DE ARGAMASSAS, DE FORMA MANUAL, SEM REAPROVEITAMENTO. AF_09/2023 | E23: M2 | F23: 1226.75 | G23: 10.35 | H23: =ROUND(G23*(1+$I$8),2) -> 12.47 | I23: =TRUNC($F23*H23,2) -> 15297.57 | J23: OK - ATUALIZADO_02/2025
A24: 2.9 | B24: SINAPI | C24: 98459 | D24: TAPUME COM TELHA METÁLICA. AF_03/2024 | E24: M2 | F24: 88 | G24: 94,86 | H24: =ROUND(G24*(1+$I$8),2) -> 114.31 | I24: =TRUNC($F24*H24,2) -> 10059.28 | J24: OK - ATUALIZADO_02/2025
A25: 2.10 | B25: SINAPI | C25: 99059 | D25: LOCAÇÃO CONVENCIONAL DE OBRA, UTILIZANDO GABARITO DE TÁBUAS CORRIDAS PONTALETADAS A CADA 2,00M - 2 UTILIZAÇÕES. AF_03/2024 | E25: M | F25: 8 | G25: 66,95 | H25: =ROUND(G25*(1+$I$8),2) -> 80.67 | I25: =TRUNC($F25*H25,2) -> 645.36 | J25: OK - ATUALIZADO_02/2025
A27: 3.0 | D27: DRENAGEM | I27: =SUM(I28:I34) -> 117286.42
A28: 3.1 | B28: SINAPI | C28: 92212 | D28: TUBO DE CONCRETO PARA REDES COLETORAS DE ÁGUAS PLUVIAIS, DIÂMETRO DE 600 MM, JUNTA RÍGIDA, INSTALADO EM LOCAL COM BAIXO NÍVEL DE INTERFERÊNCIAS - FORNECIMENTO E ASSENTAMENTO. AF_03/2024 | E28: M | F28: 150 | G28: 242,75 | H28: =ROUND(G28*(1+$I$8),2) -> 292.51 | I28: =TRUNC($F28*H28,2) -> 43876.5 | J28: OK - ATUALIZADO_02/2025
A29: 3.2 | B29: SINAPI | C29: 97951 | D29: CAIXA PARA BOCA DE LOBO COMBINADA COM GRELHA RETANGULAR, EM ALVENARIA COM TIJOLOS CERÂMICOS MACIÇOS, DIMENSÕES INTERNAS: 1,3X1X1,2 M. AF_12/2020 | E29: UN | F29: 12 | G29: 2685,26 | H29: =ROUND(G29*(1+$I$8),2) -> 3235.74 | I29: =TRUNC($F29*H29,2) -> 38828.88 | J29: OK - ATUALIZADO_02/2025
A30: 3.3 | B30: SINAPI | C30: 97952 | D30: CAIXA PARA BOCA DE LOBO DUPLA COMBINADA COM GRELHA RETANGULAR, EM ALVENARIA COM TIJOLOS CERÂMICOS MACIÇOS, DIMENSÕES INTERNAS: 1,3X2,2X1,2 M. AF_12/2020 | E30: UN | F30: 2 | G30: 4652,52 | H30: =ROUND(G30*(1+$I$8),2) -> 5606.29 | I30: =TRUNC($F30*H30,2) -> 11212.58 | J30: OK - ATUALIZADO_02/2025
A31: 3.4 | B31: SEINFRA.28 | C31: C1437 | D31: GRELHA DE FERRO P/CANALETAS | E31: M2 | F31: 45 | G31: 256.32 | H31: =ROUND(G31*(1+$I$8),2) -> 308.87 | I31: =TRUNC($F31*H31,2) -> 13899.15 | J31: OK - ATUALIZADO_02/2025
A32: 3.5 | B32: ORSE | C32: 9942 | D32: CANALETA EM TIJOLO MACIÇO 45X40CM COM TAMPA DE CONCRETO | E32: M | F32: 22.2 | G32: 201.89 | H32: =ROUND(G32*(1+$I$8),2) -> 243.28 | I32: =TRUNC($F32*H32,2) -> 5400.81 | J32: OK - ATUALIZADO_02/2025
A33: 3.6 | B33: SINAPI | C33: 104166 | D33: TUBO PVC, SÉRIE R, ÁGUA PLUVIAL, DN 150 MM, FORNECIDO E INSTALADO EM RAMAL DE ENCAMINHAMENTO. AF_06/2022 | E33: M | F33: 50 | G33: 67,53 | H33: =ROUND(G33*(1+$I$8),2) -> 81.37 | I33: =TRUNC($F33*H33,2) -> 4068.5 | J33: OK - ATUALIZADO_02/2025
A35: 4.0 | D35: ESTRUTURA | I35: =SUM(I36:I40) -> 288216.69
D36: ESTRUTURA METÁLICA - COBERTA
A37: 4.1 | B37: SEINFRA.28 | C37: C5216 | D37: ESTRUTURA TRELIÇADA DE COBERTURA, TIPO FINK, COM LIGAÇÕES SOLDADAS, INCLUSOS PERFIS METÁLICOS, CHAPAS METÁLICAS, TRANSPORTE COM GUINDASTE, JATEAMENTO E PINTURA | E37: KG | F37: 5593.77 | G37: 18.36 | H37: =ROUND(G37*(1+$I$8),2) -> 22.12 | I37: =TRUNC($F37*H37,2) -> 123734.19 | J37: OK - ATUALIZADO_02/2025
D38: OUTROS ELEMENTOS ESTRUTURAIS
A39: 4.2 | B39: ORSE | C39: 12994 | D39: ESTRUTURA PARA GALPÃO PRÉ-MOLDADO DE CONCRETO ARMADO, PADRÃO QUADRA DE ESPORTE, SEM LANTERNIM, C/MONTAGEM, VÃOS ATÉ 22M, TESOURA SEM EMENDA, VÃOS ENTRE PILARES DE 5,00/6,00M, ALTURA 6,50/7,50M(LATERAL/MEIO), EXCLUSO TELHAS, INCLUSIVE FUNDAÇÃO - RV 01 | E39: M2 | F39: 390 | G39: 350 | H39: =ROUND(G39*(1+$I$8),2) -> 421.75 | I39: =TRUNC($F39*H39,2) -> 164482.5 | J39: OK - ATUALIZADO_02/2025
A41: 5.0 | D41: PAREDES E REVESTIMENTOS | I41: =SUM(I42:I46) -> 435887.5
A42: 5.1 | B42: SINAPI | C42: 103328 | D42: ALVENARIA DE VEDAÇÃO DE BLOCOS CERÂMICOS FURADOS NA HORIZONTAL DE 9X19X19 CM (ESPESSURA 9 CM) E ARGAMASSA DE ASSENTAMENTO COM PREPARO EM BETONEIRA. AF_12/2021 | E42: M2 | F42: 26.46 | G42: 91,23 | H42: =ROUND(G42*(1+$I$8),2) -> 109.93 | I42: =TRUNC($F42*H42,2) -> 2908.74 | J42: OK - ATUALIZADO_02/2025
A43: 5.2 | B43: SINAPI | C43: 87879 | D43: CHAPISCO APLICADO EM ALVENARIAS E ESTRUTURAS DE CONCRETO INTERNAS, COM COLHER DE PEDREIRO. ARGAMASSA TRAÇO 1:3 COM PREPARO EM BETONEIRA 400L. AF_10/2022 | E43: M2 | F43: 4998.08 | G43: 4,42 | H43: =ROUND(G43*(1+$I$8),2) -> 5.33 | I43: =TRUNC($F43*H43,2) -> 26639.76 | J43: OK - ATUALIZADO_02/2025
A44: 5.3 | B44: SINAPI | C44: 87792 | D44: EMBOÇO OU MASSA ÚNICA EM ARGAMASSA TRAÇO 1:2:8, PREPARO MECÂNICO COM BETONEIRA 400 L, APLICADA MANUALMENTE EM PANOS CEGOS DE FACHADA (SEM PRESENÇA DE VÃOS), ESPESSURA DE 25 MM. AF_08/2022 | E44: M2 | F44: 4998.08 | G44: 43,38 | H44: =ROUND(G44*(1+$I$8),2) -> 52.27 | I44: =TRUNC($F44*H44,2) -> 261249.64 | J44: OK - ATUALIZADO_02/2025
A45: 5.5 | B45: SINAPI | C45: 104611 | D45: REVESTIMENTO CERÂMICO PARA PAREDES INTERNAS COM PLACAS TIPO ESMALTADA DE DIMENSÕES 60X60 CM APLICADAS NA ALTURA INTEIRA DAS PAREDES. AF_02/2023_PE | E45: M2 | F45: 1245.83 | G45: 96,65 | H45: =ROUND(G45*(1+$I$8),2) -> 116.46 | I45: =TRUNC($F45*H45,2) -> 145089.36 | J45: OK - ATUALIZADO_02/2025
A47: 6.0 | D47: PISOS | I47: =SUM(I48:I52) -> 355599.14
...

Sheet MEMÓRIA
A1: MEMÓRIA DE CÁLCULO EXPLICATIVO
A2: PROJETO
A4: OBRA: REFORMA DO AÇOUGUE MUNICIPAL E CONSTRUÇÃO DE 01 GALPÃO PRÉ-FABRICADO DE CONCRETO ARMADO
A5: LOCALIZAÇÃO: RUA SÉRGIO AMARO DO NASCIMENTO - JOÃO ALFREDO/PE
A6: DATA: ABRIL/2025
A7: ITEM | B7: DESCRIÇÃO | C7: UN. | D7: TAXA | E7: COMP. | F7: LARG. | G7: ALTURA | H7: TOTAL
A9: 1.0 | B9: ADMINISTRAÇÃO LOCAL
A11: 1.1 | B11: ADMINISTRAÇÃO LOCAL DA OBRA | C11: UN | I11: OK - ATUALIZADO_12/2024
B12: Estimava para ao local da obra (Encarregado) - 2 vezes por semana e 4 semanas durante 10 meses (2x4x10) / Estimava para ao local da obra (Engenheiro) - 2 vezes por semana e 4 semanas durante 10 meses (2x4x10) | D12: 1 | H12: =ROUND(PRODUCT(D12:G12),2) -> 1
B13: ="Total item "&A11 -> Total item 1.1 | H13: =SUM(H12:H12) -> 1
A15: 2.0 | B15: SERVIÇOS PRELIMINARES
A17: 2.1 | B17: FORNECIMENTO E INSTALAÇÃO DE PLACA DE OBRA COM CHAPA GALVANIZADA E ESTRUTURA DE MADEIRA. AF_03/2022_PS | C17: M2 | I17: OK - ATUALIZADO_02/2025
B18: Placa de Obra | E18: 6 | G18: 4.5 | H18: =ROUND(PRODUCT(D18:G18),2) -> 27
B19: ="Total item "&A17 -> Total item 2.1 | H19: =SUM(H18:H18) -> 27
A21: 2.2 | B21: REMOÇÃO DE TELHAS DE FIBROCIMENTO METÁLICA E CERÂMICA, DE FORMA MANUAL, SEM REAPROVEITAMENTO. AF_09/2023 | C21: M2 | E21: Área conf proejto | I21: OK - ATUALIZADO_02/2025
B22: Coberta existente (telha fribrociemnto) | E22: 1562.66 | H22: =ROUND(PRODUCT(D22:G22),2) -> 1562.66
B23: ="Total item "&A21 -> Total item 2.2 | H23: =SUM(H22:H22) -> 1562.66
A25: 2.3 | B25: DEMOLIÇÃO DE PISO DE CONCRETO SIMPLES, DE FORMA MECANIZADA COM MARTELETE, SEM REAPROVEITAMENTO. AF_09/2023 | C25: M3 | E25: Área conf proejto | I25: OK - ATUALIZADO_02/2025
B26: Piso existente | E26: 1798.52 | G26: 0.05 | H26: =ROUND(PRODUCT(D26:G26),2) -> 89.93
B27: ="Total item "&A25 -> Total item 2.3 | H27: =SUM(H26:H26) -> 89.93
A29: 2.4 | B29: DEMOLIÇÃO DE REVESTIMENTO CERÂMICO, DE FORMA MANUAL, SEM REAPROVEITAMENTO. AF_09/2023 | C29: M2 | E29: Área conf proejto | I29: OK - ATUALIZADO_02/2025
B30: Revestimento existente | E30: 1245.83 | H30: =ROUND(PRODUCT(D30:G30),2) -> 1245.83
B31: ="Total item "&A29 -> Total item 2.4 | H31: =SUM(H30:H30) -> 1245.83
A33: 2.5 | B33: DEMOLIÇÃO DE ALVENARIA DE BLOCO FURADO, DE FORMA MANUAL, COM REAPROVEITAMENTO. AF_09/2023 | C33: M2 | E33: Área conf proejto | I33: OK - ATUALIZADO_02/2025
B34: Wc's | E34: 87.42 | H34: =ROUND(PRODUCT(D34:G34),2) -> 87.42
B35: ="Total item "&A33 -> Total item 2.5 | H35: =SUM(H34:H34) -> 87.42
A37: 2.6 | B37: REMOÇÃO CALHAS E RUFOS, DE FORMA MANUAL, SEM REAPROVEITAMENTO. AF_09/2023 | C37: M2 | I37: OK - ATUALIZADO_02/2025
B38: Calha existente | E38: 63 | H38: =ROUND(PRODUCT(D38:G38),2) -> 63
B39: ="Total item "&A37 -> Total item 2.6 | H39: =SUM(H38:H38) -> 63
A41: 2.7 | B41: DEMOLIÇÃO DE MEIO-FIO GRANÍTICO OU PRE-MOLDADO | C41: M | I41: OK - ATUALIZADO_02/2025
B42: Calçada frontal | E42: 80 | H42: =ROUND(PRODUCT(D42:G42),2) -> 80
B43: ="Total item "&A41 -> Total item 2.7 | H43: =SUM(H41:H42) -> 80
A45: 2.8 | B45: DEMOLIÇÃO DE ARGAMASSAS, DE FORMA MANUAL, SEM REAPROVEITAMENTO. AF_09/2023 | C45: M2 | I45: OK - ATUALIZADO_02/2025
B46: Revestimento | E46: 1226.75 | H46: =ROUND(PRODUCT(D46:G46),2) -> 1226.75
B47: ="Total item "&A45 -> Total item 2.8 | H47: =SUM(H45:H46) -> 1226.75
A49: 2.9 | B49: TAPUME COM TELHA METÁLICA. AF_03/2024 | C49: M2 | I49: OK - ATUALIZADO_02/2025
B50: Tapume da Obra
B51: Frontal | E51: 20 | G51: 2.2 | H51: =ROUND(PRODUCT(D51:G51),2) -> 44
B52: Posterior | E52: 20 | G52: 2.2 | H52: =ROUND(PRODUCT(D52:G52),2) -> 44
B53: ="Total item "&A49 -> Total item 2.9 | H53: =SUM(H50:H52) -> 88
...

Sheet CRONOGRAMA
A1: CRONOGRAMA FÍSICO-FINANCEIRO
A3: ='(ORÇAMENTO GERAL)'!A6 -> OBRA: REFORMA DO AÇOUGUE MUNICIPAL E CONSTRUÇÃO DE 01 GALPÃO PRÉ-FABRICADO DE CONCRETO ARMADO
A4: ='(ORÇAMENTO GERAL)'!A7 -> LOCALIZAÇÃO: RUA SÉRGIO AMARO DO NASCIMENTO - JOÃO ALFREDO/PE
A5: ='(ORÇAMENTO GERAL)'!A9 -> DATA: ABRIL/2025
A7: ETAPA | B7: SERVIÇO | C7: TOTAL ETAPA (R$) | D7: MÊS/ DESEMBOLSO
D8: 1º MÊS | E8: 2º MÊS | F8: 3º MÊS | G8: 4º MÊS | H8: 5º MÊS | I8: 6º MÊS
A10: 1.0 | B10: ADMINISTRAÇÃO LOCAL | C10: ='(ORÇAMENTO GERAL)'!Q15 -> 76173.24 | D10: =TRUNC($C10*D11,2) -> 12698.07 | E10: =TRUNC($C10*E11,2) -> 12698.07 | F10: =TRUNC($C10*F11,2) -> 12698.07 | G10: =TRUNC($C10*G11,2) -> 12698.07 | H10: =TRUNC($C10*H11,2)+0.03 -> 12690.49 | I10: =TRUNC($C10*I11,2)+0.01 -> 12690.47 | K10: =C10-SUM(D10:I10) -> 0
C11: =C10/$C$46 -> 0.029407166 | D11: 0.1667 | E11: 0.1667 | F11: 0.1667 | G11: 0.1667 | H11: 0.1666 | I11: 0.1666 | K11: =1-SUM(D11:I11) -> 0
A13: 2.0 | B13: ='(ORÇAMENTO GERAL)'!D21 -> SERVIÇOS PRELIMINARES | C13: ='(ORÇAMENTO GERAL)'!Q21 -> 110675.94 | D13: =TRUNC($C13*D14,2) -> 110675.94 | E13: =TRUNC($C13*E14,2) -> 0 | F13: =TRUNC($C13*F14,2) -> 0 | G13: =TRUNC($C13*G14,2) -> 0 | H13: =TRUNC($C13*H14,2) -> 0 | I13: =TRUNC($C13*I14,2) -> 0 | K13: =C13-SUM(D13:I13) -> 0
C14: =C13/$C$46 -> 0.042727153 | D14: 1 | K14: =1-SUM(D14:I14) -> 0
A16: 3.0 | B16: ='(ORÇAMENTO GERAL)'!D65 -> DRENAGEM | C16: ='(ORÇAMENTO GERAL)'!Q65 -> 117286.42 | D16: =TRUNC($C16*D17,2) -> 117286.42 | E16: =TRUNC($C16*E17,2) -> 0 | F16: =TRUNC($C16*F17,2) -> 0 | G16: =TRUNC($C16*G17,2) -> 0 | H16: =TRUNC($C16*H17,2) -> 0 | I16: =TRUNC($C16*I17,2) -> 0 | K16: =C16-SUM(D16:I16) -> 0
C17: =C16/$C$46 -> 0.045279171 | D17: 1 | K17: =1-SUM(D17:I17) -> 0
A19: 4.0 | B19: ESTRUTURA | C19: ='(ORÇAMENTO GERAL)'!Q96 -> 288216.69 | D19: =TRUNC($C19*D20,2) -> 216162.51 | E19: =TRUNC($C19*E20,2)+0.01 -> 72054.18 | F19: =TRUNC($C19*F20,2) -> 0 | G19: =TRUNC($C19*G20,2) -> 0 | H19: =TRUNC($C19*H20,2) -> 0 | I19: =TRUNC($C19*I20,2) -> 0 | K19: =C19-SUM(D19:I19) -> 0
C20: =C19/$C$46 -> 0.11126789 | D20: 0.75 | E20: 0.25 | K20: =1-SUM(D20:I20) -> 0
A22: 5.0 | B22: ='(ORÇAMENTO GERAL)'!D109 -> PAREDES E REVESTIMENTOS | C22: ='(ORÇAMENTO GERAL)'!Q109 -> 435887.5 | D22: =TRUNC($C22*D23,2) -> 0 | E22: =TRUNC($C22*E23,2) -> 326915.62 | F22: =TRUNC($C22*F23,2)+0.01 -> 108971.88 | G22: =TRUNC($C22*G23,2) -> 0 | H22: =TRUNC($C22*H23,2) -> 0 | I22: =TRUNC($C22*I23,2) -> 0 | K22: =C22-SUM(D22:I22) -> 0
C23: =C22/$C$46 -> 0.16827715 | E23: 0.75 | F23: 0.25 | K23: =1-SUM(D23:I23) -> 0
A25: 6.0 | B25: ='(ORÇAMENTO GERAL)'!D129 -> PISOS | C25: ='(ORÇAMENTO GERAL)'!Q129 -> 355599.14 | D25: =TRUNC($C25*D26,2) -> 0 | E25: =TRUNC($C25*E26,2) -> 0 | F25: =TRUNC($C25*F26,2) -> 355599.14 | G25: =TRUNC($C25*G26,2) -> 0 | H25: =TRUNC($C25*H26,2) -> 0 | I25: =TRUNC($C25*I26,2) -> 0 | K25: =C25-SUM(D25:I25) -> 0
C26: =C25/$C$46 -> 0.13728132 | F26: 1 | K26: =1-SUM(D26:I26) -> 0
A28: 7.0 | B28: ='(ORÇAMENTO GERAL)'!D147 -> COBERTA | C28: ='(ORÇAMENTO GERAL)'!Q147 -> 570477.03 | D28: =TRUNC($C28*D29,2) -> 0 | E28: =TRUNC($C28*E29,2) -> 0 | F28: =TRUNC($C28*F29,2) -> 0 | G28: =TRUNC($C28*G29,2) -> 427857.77 | H28: =TRUNC($C28*H29,2)+0.01 -> 142619.26 | I28: =TRUNC($C28*I29,2) -> 0 | K28: =C28-SUM(D28:I28) -> 0
C29: =C28/$C$46 -> 0.2202363 | G29: 0.75 | H29: 0.25 | K29: =1-SUM(D29:I29) -> 0
A31: 8.0 | B31: ='(ORÇAMENTO GERAL)'!D180 -> ESQUADRIAS | C31: ='(ORÇAMENTO GERAL)'!Q180 -> 205025.82 | D31: =TRUNC($C31*D32,2) -> 0 | E31: =TRUNC($C31*E32,2) -> 0 | F31: =TRUNC($C31*F32,2) -> 0 | G31: =TRUNC($C31*G32,2) -> 0 | H31: =TRUNC($C31*H32,2) -> 205025.82 | I31: =TRUNC($C31*I32,2) -> 0 | K31: =C31-SUM(D31:I31) -> 0
C32: =C31/$C$46 -> 0.079151527 | H32: 1 | K32: =1-SUM(D32:I32) -> 0
A34: 9.0 | B34: ='(ORÇAMENTO GERAL)'!D228 -> PINTURAS E ACABAMENTOS | C34: ='(ORÇAMENTO GERAL)'!Q228 -> 58000.37 | D34: =TRUNC($C34*D35,2) -> 0 | E34: =TRUNC($C34*E35,2) -> 0 | F34: =TRUNC($C34*F35,2) -> 0 | G34: =TRUNC($C34*G35,2) -> 0 | H34: =TRUNC($C34*H35,2) -> 58000.37 | I34: =TRUNC($C34*I35,2) -> 0 | K34: =C34-SUM(D34:I34) -> 0
C35: =C34/$C$46 -> 0.022391413 | H35: 1 | K35: =1-SUM(D35:I35) -> 0
A37: 10.0 | B37: ='(ORÇAMENTO GERAL)'!D253 -> INSTALAÇÕES HIDROSSANITÁRIOS | C37: ='(ORÇAMENTO GERAL)'!Q253 -> 110449.45 | D37: =TRUNC($C37*D38,2) -> 0 | E37: =TRUNC($C37*E38,2) -> 0 | F37: =TRUNC($C37*F38,2) -> 0 | G37: =TRUNC($C37*G38,2) -> 0 | H37: =TRUNC($C37*H38,2) -> 0 | I37: =TRUNC($C37*I38,2) -> 110449.45 | K37: =C37-SUM(D37:I37) -> 0
C38: =C37/$C$46 -> 0.042639716 | I38: 1 | K38: =1-SUM(D38:I38) -> 0
A40: 11.0 | B40: ='(ORÇAMENTO GERAL)'!D323 -> INSTALAÇÃO ELÉTRICA | C40: ='(ORÇAMENTO GERAL)'!Q323 -> 92712.38 | D40: =TRUNC($C40*D41,2) -> 0 | E40: =TRUNC($C40*E41,2) -> 0 | F40: =TRUNC($C40*F41,2) -> 0 | G40: =TRUNC($C40*G41,2) -> 0 | H40: =TRUNC($C40*H41,2) -> 0 | I40: =TRUNC($C40*I41,2) -> 92712.38 | K40: =C40-SUM(D40:I40) -> 0
C41: =C40/$C$46 -> 0.035792206 | I41: 1 | K41: =1-SUM(D41:I41) -> 0
A43: 12.0 | B43: ='(ORÇAMENTO GERAL)'!D387 -> SERVIÇOS COMPLEMENTARES | C43: ='(ORÇAMENTO GERAL)'!Q387 -> 169791.21 | D43: =TRUNC($C43*D44,2) -> 0 | E43: =TRUNC($C43*E44,2) -> 0 | F43: =TRUNC($C43*F44,2) -> 0 | G43: =TRUNC($C43*G44,2) -> 0 | H43: =TRUNC($C43*H44,2) -> 0 | I43: =TRUNC($C43*I44,2) -> 169791.21 | K43: =C43-SUM(D43:I43) -> 0
C44: =C43/$C$46 -> 0.065548981 | I44: 1 | K44: =1-SUM(D44:I44) -> 0
A46: TOTAL (R$): | C46: =SUM(C10,C13,C16,C19,C22,C25,C28,C31,C34,C37,C40,C43) -> 2590295.2
C47: =C46/$C$46 -> 1
A49: TOTAIS PARCIAIS | D49: =SUM(D10,D13,D16,D19,D22,D25,D28,D31,D34,D37,D40,D43) -> 456822.94 | E49: =SUM(E10,E13,E16,E19,E22,E25,E28,E31,E34,E37,E40,E43) -> 411667.87 | F49: =SUM(F10,F13,F16,F19,F22,F25,F28,F31,F34,F37,F40,F43) -> 477269.09 | G49: =SUM(G10,G13,G16,G19,G22,G25,G28,G31,G34,G37,G40,G43) -> 440555.84 | H49: =SUM(H10,H13,H16,H19,H22,H25,H28,H31,H34,H37,H40,H43) -> 418335.94 | I49: =SUM(I10,I13,I16,I19,I22,I25,I28,I31,I34,I37,I40,I43) -> 385643.51 | K49: =C46-SUM(D49:I49) -> 0
D50: =D49/$C$46 -> 0.17635941 | E50: =E49/$C$46 -> 0.15892701 | F50: =F49/$C$46 -> 0.18425278 | G50: =G49/$C$46 -> 0.1700794 | H50: =H49/$C$46 -> 0.16150126 | I50: =I49/$C$46 -> 0.14888014 | K50: =1-SUM(D50:I50) -> 0
A52: TOTAIS ACUMULADOS | D52: =D49 -> 456822.94 | E52: =E49+D52 -> 868490.81 | F52: =F49+E52 -> 1345759.9 | G52: =G49+F52 -> 1786315.7 | H52: =H49+G52 -> 2204651.7 | I52: =I49+H52 -> 2590295.2
D53: =D52/$C$46 -> 0.17635941 | E53: =E52/$C$46 -> 0.33528642 | F53: =F52/$C$46 -> 0.5195392 | G53: =G52/$C$46 -> 0.6896186 | H53: =H52/$C$46 -> 0.85111986 | I53: =I52/$C$46 -> 1
A55: TOTAL GERAL | D55: =SUM(D49:I49) -> 2590295.2 | K55: =C46 -> 2590295.2 | L55: =D55-K55 -> 0
K57: MEDIA/MÊS | L57: =K55/6 -> 431715.87

Sheet QCI (2)
A1: QUADRO DE COMPOSIÇÃO DO INVESTIMENTO - QCI
A3: =CRONOGRAMA!A3 -> OBRA: REFORMA DO AÇOUGUE MUNICIPAL E CONSTRUÇÃO DE 01 GALPÃO PRÉ-FABRICADO DE CONCRETO ARMADO
A4: =CRONOGRAMA!A4 -> LOCALIZAÇÃO: RUA SÉRGIO AMARO DO NASCIMENTO - JOÃO ALFREDO/PE
A5: =CRONOGRAMA!A5 -> DATA: ABRIL/2025
A7: ETAPA | B7: DISCRIMINAÇÃO | C7: TOTAL (R$) ADEPE | D7: TOTAL (R$) CONTRAPARTIDA | E7: TOTAL (R$) ETAPA
A10: I | B10: ='[12](ORÇAMENTO GERAL)'!D14 -> REMANESCENTE DA QUADRA FNDE | C10: =ORÇAMENTO!M121 -> 2538489.3 | D10: =E10-C10 -> 51805.9 | E10: =ORÇAMENTO!I118 -> 2590295.2 | F10: =C10-SUM(C11:C13) -> 0 | G10: =D10-SUM(D11:D13) -> 0 | H10: =C10+D10-E10 -> 0 | J10: =E11-D11 -> 851121
A11: 1.0 | B11: ETAPA | C11: =ROUND(($C$10/$E$10)*$E11,2) -> 851121 | D11: =E11-C11 -> 17369.81 | E11: =SUM(CRONOGRAMA!D49:E49) -> 868490.81 | H11: =C11+D11-E11 -> 0
A12: 2.0 | B12: ETAPA | C12: =ROUND(($C$10/$E$10)*$E12,2) -> 899468.43 | D12: =E12-C12 -> 18356.5 | E12: =SUM(CRONOGRAMA!F49:G49) -> 917824.93 | H12: =C12+D12-E12 -> 0
A13: 3.0 | B13: ETAPA | C13: =ROUND(($C$10/$E$10)*$E13,2) -> 787899.86 | D13: =E13-C13 -> 16079.59 | E13: =SUM(CRONOGRAMA!H49:I49) -> 803979.45 | H13: =C13+D13-E13 -> 0
A15: TOTAIS: | C15: =SUM(C9:C14)/2 -> 2538489.3 | D15: =SUM(D9:D14)/2 -> 51805.9 | E15: =SUM(E9:E14)/2 -> 2590295.2
E19: ADEPE / REPASSE
E20: =ORÇAMENTO!M121 -> 2538489.3
C24: =C22-C21 -> 0

Sheet COMPOSIÇÕES
B2: COMPOSIÇÕES DE CUSTOS UNITÁRIOS COMPLEMENTARES
B4: ='(ORÇAMENTO GERAL)'!A6 -> OBRA: REFORMA DO AÇOUGUE MUNICIPAL E CONSTRUÇÃO DE 01 GALPÃO PRÉ-FABRICADO DE CONCRETO ARMADO
B5: ='(ORÇAMENTO GERAL)'!A7 -> LOCALIZAÇÃO: RUA SÉRGIO AMARO DO NASCIMENTO - JOÃO ALFREDO/PE
B6: ='(ORÇAMENTO GERAL)'!A8 -> FONTES DE PREÇOS: SINAPI-PE FEVEREIRO - 2025 / ORSEJANEIRO - 2025 / SEINFRA-CE 028 / SBC - PE / COMPOSIÇÕES / SEM DESONERAÇÃO / BDI = 20,50% / BDI = 11,10%
B7: ='(ORÇAMENTO GERAL)'!A9 -> DATA: ABRIL/2025
B9: ADMINISTRAÇÃO LOCAL DA OBRA | L9: OK - ATUALIZADO_02/2025
B11: COMPOSIÇÃO 01 | D11: Código de referência (origem dos coeficientes da composição): | E11: 93572 / 93565 /SINAPI-PE (FEVEREIRO/2025)
D12: Discriminação do código de referência: | E12: _ENCARREGADO GERAL DE OBRAS COM ENCARGOS COMPLEMENTARES _ENGENHEIRO CIVIL DE OBRA JUNIOR COM ENCARGOS COMPLEMENTARES
D14: Unidade: | E14: UN | F14: Custo Unitário: | G14: =H20 -> 56743.91 | I14: =J20 -> 63214.31
D15: Quantidade: | E15: 1
G16: COM DESONERAÇÂO | I16: SEM DESONERAÇÂO
B17: Fonte | C17: Código | D17: Composição | E17: Unidade | F17: Coeficiente | G17: Custo Unitário | H17: Custo Total | I17: Custo Unitário | J17: Custo Total
B18: SINAPI COMPOSIÇÃO | C18: 93572 | D18: ENCARREGADO GERAL DE OBRAS COM ENCARGOS COMPLEMENTARES | E18: MÊS | F18: =((2*4)/22)*6 -> 2.1818182 | G18: 5730,92 | H18: =TRUNC($F18*G18,2) -> 12503.82 | I18: 6345,55 | J18: =TRUNC($F18*I18,2) -> 13844.83
B19: SINAPI COMPOSIÇÃO | C19: 93565 | D19: ENGENHEIRO CIVIL DE OBRA JUNIOR COM ENCARGOS COMPLEMENTARES | E19: MÊS | F19: =((2*4)/22)*6 -> 2.1818182 | G19: 20276,71 | H19: =TRUNC($F19*G19,2) -> 44240.09 | I19: 22627,68 | J19: =TRUNC($F19*I19,2) -> 49369.48
G20: Total | H20: =TRUNC(SUM(H18:H19),2) -> 56743.91 | I20: Total | J20: =TRUNC(SUM(J18:J19),2) -> 63214.31
B22: ESCADA MARINHEIRO EM AÇO CA-50 D=16MM (5/8")
B25: COMPOSIÇÃO 09 | D25: Código de referência (origem dos coeficientes da composição) | E25: 06979/ORSE (FEVEREIRO/2022)
D26: Discriminação do código de referência: | E26: ESCADA MARINHEIRO EM AÇO CA-50 D=16MM (5/8"), EXCETO PINTURA - REV 01
D29: Unidade | E29: M | F29: Preço Unitário Custo | G29: =H37 -> 73.69 | I29: =J37 -> 76.07
D30: Quantidade | E30: 1
G31: COM DESONERAÇÂO | I31: SEM DESONERAÇÂO
B32: Fonte | C32: Código | D32: Composição | E32: Unidade | F32: Coeficiente | G32: Custo Unitário | H32: Custo Total | I32: Custo Unitário | J32: Custo Total
B33: SINAPI INSUMO | C33: 43055 | D33: ACO CA-50, 12,5 MM OU 16,0 MM, VERGALHAO | E33: KG | F33: 5.18 | G33: 9.92 | H33: =TRUNC($F33*G33,2) -> 51.38 | I33: 9.92 | J33: =TRUNC($F33*I33,2) -> 51.38
B34: SINAPI COMPOSIÇÃO | C34: 87314 | D34: ARGAMASSA TRAÇO 1:3 (EM VOLUME DE CIMENTO E AREIA GROSSA ÚMIDA) PARA CHAPISCO CONVENCIONAL, PREPARO MECÂNICO COM BETONEIRA 600 L. AF_08/2019 | E34: M3 | F34: 0.0025 | G34: 437.21 | H34: =TRUNC($F34*G34,2) -> 1.09 | I34: 448 | J34: =TRUNC($F34*I34,2) -> 1.12
B35: SINAPI COMPOSIÇÃO | C35: 88309 | D35: PEDREIRO COM ENCARGOS COMPLEMENTARES | E35: H | F35: 0.4 | G35: 20.21 | H35: =TRUNC($F35*G35,2) -> 8.08 | I35: 22.55 | J35: =TRUNC($F35*I35,2) -> 9.02
B36: SINAPI COMPOSIÇÃO | C36: 88316 | D36: SERVENTE COM ENCARGOS COMPLEMENTARES | E36: H | F36: 0.8 | G36: 16.43 | H36: =TRUNC($F36*G36,2) -> 13.14 | I36: 18.19 | J36: =TRUNC($F36*I36,2) -> 14.55
G37: Total | H37: =TRUNC(SUM(H33:H36),2) -> 73.69 | I37: Total | J37: =TRUNC(SUM(J33:J36),2) -> 76.07
B39: GUARDA-CORPO EM TUBOS DE AÇO GALVANIZADO (ALTURA = 1.00), COM BARRAS VERTICAIS A CADA 2.00M (1 1/2"), BARRA HORIZONTAL INTERMEDIÁRIA (1 1/2") E BARRA HORIZONTAL SUPERIOR (1 1/2")
B42: COMPOSIÇÃO 10 | D42: Código de referência (origem dos coeficientes da composição) | E42: ORSE 03550 (FEVEREIRO/2022)
D43: Discriminação do código de referência: | E43: GUARDA-CORPO EM TUBOS DE AÇO GALVANIZADO (ALTURA = 1.00), COM BARRAS VERTICAIS A CADA 2.00M (1 1/2"), BARRA HORIZONTAL INTERMEDIÁRIA (1 1/2") E BARRA HORIZONTAL SUPERIOR (2")
D46: Unidade | E46: M | F46: Preço Unitário Custo | G46: =H57 -> 235.65 | I46: =J57 -> 244.84
D47: Quantidade | E47: 1
G48: COM DESONERAÇÂO | I48: SEM DESONERAÇÂO
B49: Fonte | C49: Código | D49: Composição | E49: Unidade | F49: Coeficiente | G49: Custo Unitário | H49: Custo Total | I49: Custo Unitário | J49: Custo Total
B50: SINAPI INSUMO | C50: 21012 | D50: TUBO ACO GALVANIZADO COM COSTURA, CLASSE LEVE, DN 40 MM ( 1 1/2"), E = 3,00 MM, *3,48* KG/M (NBR 5580) | E50: M | F50: 2.5 | G50: 55.85 | H50: =TRUNC($F50*G50,2) -> 139.62 | I50: 55.85 | J50: =TRUNC($F50*I50,2) -> 139.62
B51: SINAPI COMPOSIÇÃO | C51: 88309 | D51: PEDREIRO COM ENCARGOS COMPLEMENTARES | E51: H | F51: 1 | G51: 20.21 | H51: =TRUNC($F51*G51,2) -> 20.21 | I51: 22.55 | J51: =TRUNC($F51*I51,2) -> 22.55
B52: SINAPI COMPOSIÇÃO | C52: 88315 | D52: SERRALHEIRO COM ENCARGOS COMPLEMENTARES | E52: H | F52: 0.5 | G52: 20.1 | H52: =TRUNC($F52*G52,2) -> 10.05 | I52: 22.42 | J52: =TRUNC($F52*I52,2) -> 11.21
B53: SINAPI COMPOSIÇÃO | C53: 88316 | D53: SERVENTE COM ENCARGOS COMPLEMENTARES | E53: H | F53: 2.5 | G53: 16.43 | H53: =TRUNC($F53*G53,2) -> 41.07 | I53: 18.19 | J53: =TRUNC($F53*I53,2) -> 45.47
B54: SINAPI COMPOSIÇÃO | C54: 88317 | D54: SOLDADOR COM ENCARGOS COMPLEMENTARES | E54: H | F54: 0.5 | G54: 20.92 | H54: =TRUNC($F54*G54,2) -> 10.46 | I54: 23.24 | J54: =TRUNC($F54*I54,2) -> 11.62
B55: SINAPI INSUMO | C55: 10997 | D55: ELETRODO REVESTIDO AWS - E7018, DIAMETRO IGUAL A 4,00 MM | E55: KG | F55: 0.25 | G55: 35.45 | H55: =TRUNC($F55*G55,2) -> 8.86 | I55: 35.45 | J55: =TRUNC($F55*I55,2) -> 8.86
...

Sheet COTAÇÃO
B2: PESQUISA DE PREÇO
B4: ='(ORÇAMENTO GERAL)'!A6 -> OBRA: REFORMA DO AÇOUGUE MUNICIPAL E CONSTRUÇÃO DE 01 GALPÃO PRÉ-FABRICADO DE CONCRETO ARMADO
B5: ='(ORÇAMENTO GERAL)'!A7 -> LOCALIZAÇÃO: RUA SÉRGIO AMARO DO NASCIMENTO - JOÃO ALFREDO/PE
B6: ='(ORÇAMENTO GERAL)'!A8 -> FONTES DE PREÇOS: SINAPI-PE FEVEREIRO - 2025 / ORSEJANEIRO - 2025 / SEINFRA-CE 028 / SBC - PE / COMPOSIÇÕES / SEM DESONERAÇÃO / BDI = 20,50% / BDI = 11,10%
B7: ='(ORÇAMENTO GERAL)'!A9 -> DATA: ABRIL/2025
B9: PESQUISA DE PREÇO 01 | C9: FORNECIMENTO DE MODULOS/PERFIS EM PVC NA COR CINZA, INCLUSIVE ACESSÓRIOS DE ACABAMENTOS, DE ACORDO A NORMA ABNT – NBR 17.077 E EM CONFORMIDADE COM A DIRETRIZ SINAT 004 (MINISTERIO DO DESENVOLVIMENTO REGIONAL).
B11: Fonte de Pesquisa | C11: Contrato | D11: Local/Município/PE | E11: Insumo | F11: Unidade | G11: Obra | H11: Processo | I11: Modalidade | J11: Custo Total
B12: Site do TCE-PE (Tome Conta) (https://sistemas.tcepe.tc.br/audinArquivos/licon/processo_licitatorio/edital/1/LICON_Edital_1_2023_65_1271441.pdf) | C12: Contrato nº 165/2023 14/09/23 a 05/06/25 | D12: Prefeitura Município de Abreu e Lima-PE | E12: FORNECIMENTO DE MODULOS EM PVC, INCLUSIVE ACESSÓRIOS, EM CONFORMIDADE COM A DIRETRIZ SINAT 004/REV1-DATEC 017A (MINISTERIO DO DESENVOLVIMENTO REGIONAL) | F12: M2 | G12: Contratação de Empresa de Engenharia para Construção de duas Escolas no Município de Abreu e Lima/PE | H12: 065/2023 | I12: CONCORRÊNCIA PÚBLICA Nº 003/2023 – PL Nº 065/2023 | J12: 527.35
B13: Site do TCE-PE (Tome Conta) (https://sistemas.tcepe.tc.br/audinArquivos/licon/processo_licitatorio/edital/66/LICON_Edital_66_2024_38_1400673.pdf) | C13: Contrato nº 305/2024 | D13: Prefeitura Municipal de Belo Jardim-PE | E13: FORNECIMENTO DE MODULOS EM PVC, INCLUSIVE ACESSÓRIOS, EM CONFORMIDADE COM A DIRETRIZ SINAT 004/REV1-DATEC 017A (MINISTERIO DO DESENVOLVIMENTO REGIONAL) | F13: M2 | G13: Construção do Centro de Excelência Municipal Professor José Vieira da Costa, no município de Belo Jardim-PE | H13: 038/2024 | I13: CONCORRÊNCIA ELETRÔNICA Nº 4/2024 | J13: 412.05
B14: Site do TCE-PE (Tome Conta) (file:///C:/Users/erist/Downloads/EDITAL%20E%20ANEXOS%20-%20ESCOLA%20(2)%20(2).pdf) | C14: Contrato nº 018/2024 | D14: Prefeitura Município de Toritama-PE | E14: FORNECIMENTO DE MODULOS EM PVC, INCLUSIVE ACESSÓRIOS, EM CONFORMIDADE COM A DIRETRIZ SINAT 004/REV1-DATEC 017A (MINISTERIO DO DESENVOLVIMENTO REGIONAL) | F14: M2 | G14: Construção de uma escola de tempo integral contendo 25 salas de aula, no sistema construtivo concreto/PVC, a ser implantado no Município de Toritama/PE | H14: 005/2024 | I14: CONCORRÊNCIA ELETRÔNICA SEDUC Nº 001/2024 | J14: 412.05
B15: MENOR VALOR DOS PREÇOS UNITÁRIOS PESQUISADO | I15: Total | J15: =AVERAGE(J14) -> 412.05
B16: OBS: Adotou-se o menor valor cotado, considerando-se a expectativa de estabilidade nos preços, uma vez que se tratam de obras recentes, cujos valores ainda refletem as condições de mercado vigentes;
B18: Fonte de pesquisa, acesso no dia 03 de fevereiro de 2025 às 8h: https://tomeconta.tcepe.tc.br/
B20: "III - utilização de dados de pesquisa publicada em mídia especializada, de tabela de referência formalmente aprovada pelo Poder Executivo federal e de sítios eletrônicos especializados ou de domínio amplo, desde que contenham a data e hora de acesso;" (LEI Nº 14.133, DE 1º DE ABRIL DE 2021)
B22: A pesquisa de preços foi realizada consultando, preferencialmente, pelo menos três fornecedores ou prestadores de serviços;

Sheet BDI_EDIFICACOES_20,50%_SEM
B2: COMPOSIÇÃO DE BDI PARA SERVIÇOS GERAIS DE EDIFICAÇÕES
B4: BONIFICAÇÃO E DESPESAS INDIRETAS
B6: ='(ORÇAMENTO GERAL)'!A6 -> OBRA: REFORMA DO AÇOUGUE MUNICIPAL E CONSTRUÇÃO DE 01 GALPÃO PRÉ-FABRICADO DE CONCRETO ARMADO
B7: ='(ORÇAMENTO GERAL)'!A7 -> LOCALIZAÇÃO: RUA SÉRGIO AMARO DO NASCIMENTO - JOÃO ALFREDO/PE
B8: ='(ORÇAMENTO GERAL)'!A9 -> DATA: ABRIL/2025
B10: DESCRIÇÃO | C10: SIGLA | D10: VALOR (*) | F10: FAIXA REFERENCIAL - Ref. Acórdão 2622/2013
B12: Taxa de rateio da Administração Central | C12: AC | D12: 0.04 | E12: med | F12: De 3,00% até 5,50%; médio = 4,00%
B14: Taxa de Despesas Financeiras | C14: DF | D14: 0.0123 | E14: med | F14: De 0,59% até 1,39%; médio = 1,23%
B16: Taxa de Risco | C16: R | D16: 0.0097 | E16: med | F16: De 0,97% até 1,27%; médio = 1,27%
B18: Taxa de Seguro e Taxa de Garantia | C18: S + G | D18: 0.008 | E18: *med=min | F18: De 0,80% até 1,00%; médio = 0,80%
B20: COFINS | C20: COFINS | D20: 0.03
B21: ISS (**) | C21: ISS | D21: 0.02 | E21: =0.05*0.4 -> 0.02
B22: PIS | C22: PIS | D22: 0.0065
B23: CONTRIBUIÇÃO PREVIDENCIÁRIA SOBRE RECEITA BRUTA (***) | C23: CPRB | D23: 0 | E23: *
B24: Taxa de Tributos (Soma dos itens COFINS, ISS, PIS e CPRB) | C24: I | D24: =SUM(D20:D23) -> 0.0565
B26: Taxa de Lucro | C26: L | D26: 0.0618 | E26: min-med | F26: De 6,16% até 8,96%; médio = 7,40%
B28: BDI Resultante | D28: =ROUND((((1+D12+D18+D16)*(1+D14)*(1+D26))/(1-D24))-1,4) -> 0.205
F29: De 20,34% até 25,00%; médio = 22,12%
B32: Fórmula do BDI conforme Acórdão TCU 2622/2013-P:
B40: Obs.:
B41: (*) Todas as taxas adotadas estão na faixa admissível do Acórdão 2622/2013-P do TCU.
B42: (**) A alíquota de ISS no Município de João Alfredo/PE é de 5% sobre os custos de mão de obra. Considerou-se para todos os serviços uma proporção de 40% de mão de obra, de modo que a taxa de ISS a incidir sobre os custos unitários dos itens será de 5% x 40% = 2,00%.
B43: (***) Conforme determina a Lei nº 13.161, de 31 de agosto de 2015, que altera a Lei nº 12.546, de 14 de dezembro 2011, para obras de infraestrutura e do setor de construção, foi regulamentada a substituição da contribuição previdenciária patronal de 20% sobre a folha de pagamentos por uma contribuição de 4,50% sobre a receita bruta, sendo facultativa a opção pela contribuição substitutiva. Nesta composição de BDI NÃO foi considerada a opção pela contribuição substitutiva, sendo portanto necessário utilizar tabelas de custos NÃO desoneradas para elaboração do orçamento básico. | F43: Obs.: 1. Acompanhar a questão, pois existe a possibilidade da Lei da Desoneração vencer ou ser revogada. 2. As atividades incluídas na desoneração são as relativas aos grupos 412, 432, 433 e 439 da CNAE 2.0
B46: Obs.:
B47: Os custos indiretos são decorrentes da estrutura da obra e da empresa e que não podem ser atribuídos diretamente à execução de um dado serviço. Os custos indiretos variam muito, principalmente, em função do local de execução dos serviços, do tipo da obra, impostos incidentes, e ainda com as exigências do edital ou contrato. Devem ser distribuídos pelos custos unitários diretos totais dos serviços na forma de percentual destes. Os custos indiretos que mais afetam a construção estão a seguir identificados, entretanto, o engenheiro de custos deve analisar em cada caso sua validade.
B61: Fórmula BDI conforme Acórdão TCU 325/2007:

Sheet BDI_PRAÇAS_SEM_NOVA_CPRB_20%
B2: COMPOSIÇÃO DE BDI PARA SERVIÇOS GERAIS DE PRAÇAS
B4: COMPOSIÇÃO DE B.D.I. – BONIFICAÇÃO E DESPESAS INDIRETAS
B6: ='(ORÇAMENTO GERAL)'!A6 -> OBRA: REFORMA DO AÇOUGUE MUNICIPAL E CONSTRUÇÃO DE 01 GALPÃO PRÉ-FABRICADO DE CONCRETO ARMADO
B7: ='(ORÇAMENTO GERAL)'!A7 -> LOCALIZAÇÃO: RUA SÉRGIO AMARO DO NASCIMENTO - JOÃO ALFREDO/PE
B8: ='(ORÇAMENTO GERAL)'!A9 -> DATA: ABRIL/2025
B10: DESCRIÇÃO | C10: SIGLA | D10: VALOR (*) | F10: FAIXA REFERENCIAL - Ref. Acórdão 2622/2013
B12: Taxa de rateio da Administração Central | C12: AC | D12: 0.0428 | E12: min | F12: De 3,80% até 4,67%; médio = 4,01%
B14: Taxa de Despesas Financeiras | C14: DF | D14: 0.0102 | E14: min | F14: De 1,02% até 1,21%; médio = 1,11%
B16: Taxa de Risco | C16: R | D16: 0.005 | E16: min | F16: De 0,50% até 0,97%; médio = 0,56%
B18: Taxa de Seguro | C18: S | D18: =0.32%/2 -> 0.0016 | E18: min | F18: De 0,32% até 0,74%; médio = 0,40%
B20: Taxa de Garantia | C20: G | D20: =D18 -> 0.0016 | E20: min
B22: COFINS | C22: COFINS | D22: 0.03
B23: ISS (**) | C23: ISS | D23: 0.02 | E23: =0.05*0.4 -> 0.02
B24: PIS | C24: PIS | D24: 0.0065
B25: CONTRIBUIÇÃO PREVIDENCIÁRIA SOBRE RECEITA BRUTA (***) | C25: CPRB | D25: 0 | E25: *
B26: Taxa de Tributos (Soma dos itens COFINS, ISS e PIS) | C26: I | D26: =SUM(D22:D25) -> 0.0565
B28: Taxa de Lucro | C28: L | D28: 0.0664 | E28: min | F28: De 6,64% até 8,69%; médio = 7,30%
B30: BDI Resultante | D30: =ROUND((((1+D12+D18+D16+D20)*(1+D14)*(1+D28))/(1-D26))-1,4) -> 0.2 | E30: Mínimo para Pavimentação sem Nova CPRB de 4,50%
F31: De 19,60% até 24,23%; médio = 20,97%
B33: Fórmula do BDI conforme Acórdão TCU 2622/2013-P:
B41: Obs.:
B42: (*) Todas as taxas adotadas estão na faixa admissível do Acórdão 2622/2013-P do TCU.
B43: (**) A alíquota de ISS no Município de João Alfredo é de 5% sobre os custos de mão de obra. Considerou-se para todos os serviços uma proporção de 40% de mão de obra, de modo que a taxa de ISS a incidir sobre os custos unitários dos itens será de 5% x 40% = 2,00%.
B44: (***) Conforme determina a Lei nº 13.161, de 31 de agosto de 2015, que altera a Lei nº 12.546, de 14 de dezembro 2011, para obras de infraestrutura e do setor de construção, foi regulamentada a substituição da contribuição previdenciária patronal de 20% sobre a folha de pagamentos por uma contribuição de 4,50% sobre a receita bruta, sendo facultativa a opção pela contribuição substitutiva. Nesta composição de BDI foi considerada a opção pela contribuição substitutiva, sendo portanto necessário utilizar tabelas de custos desoneradas para elaboração do orçamento básico. | F44: Obs.: 1. Acompanhar a questão, pois existe a possibilidade da Lei da Desoneração vencer ou ser revogada. 2. As atividades incluídas na desoneração são as relativas aos grupos 412, 432, 433 e 439 da CNAE 2.0
B47: Obs.:
B48: Os custos indiretos são decorrentes da estrutura da obra e da empresa e que não podem ser atribuídos diretamente à execução de um dado serviço. Os custos indiretos variam muito, principalmente, em função do local de execução dos serviços, do tipo da obra, impostos incidentes, e ainda com as exigências do edital ou contrato. Devem ser distribuídos pelos custos unitários diretos totais dos serviços na forma de percentual destes. Os custos indiretos que mais afetam a construção estão a seguir identificados, entretanto, o engenheiro de custos deve analisar em cada caso sua validade.
B62: Fórmula BDI conforme Acórdão TCU 325/2007:

Sheet BDI_FORNECIMENTO_11,10%_SEM
B2: COMPOSIÇÃO DE BDI PARA FORNECIMENTO DE MATERIAIS E EQUIPAMENTOS
B4: BONIFICAÇÃO E DESPESAS INDIRETAS
B6: ='(ORÇAMENTO GERAL)'!A6 -> OBRA: REFORMA DO AÇOUGUE MUNICIPAL E CONSTRUÇÃO DE 01 GALPÃO PRÉ-FABRICADO DE CONCRETO ARMADO
B7: ='(ORÇAMENTO GERAL)'!A7 -> LOCALIZAÇÃO: RUA SÉRGIO AMARO DO NASCIMENTO - JOÃO ALFREDO/PE
B8: ='(ORÇAMENTO GERAL)'!A9 -> DATA: ABRIL/2025
B10: DESCRIÇÃO | C10: SIGLA | D10: VALOR (*) | F10: FAIXA REFERENCIAL - Ref. Acórdão 2622/2013
B12: Taxa de rateio da Administração Central | C12: AC | D12: 0.015 | F12: De 1,50% até 4,49%; médio = 3,45%
B14: Taxa de Despesas Financeiras | C14: DF | D14: 0.0085 | F14: De 0,85% até 1,11%; médio = 0,85%
B16: Taxa de Risco | C16: R | D16: 0.0056 | F16: De 0,56% até 0,89%; médio = 0,85%
B18: Taxa de Seguro e Taxa de Garantia | C18: S + G | D18: 0.0049 | F18: De 0,30% até 0,82%; médio = 0,48%
B20: COFINS | C20: COFINS | D20: 0.03
B21: ISS (**) | C21: ISS | D21: 0 | E21: =0.05*0.4 -> 0.02
B22: PIS | C22: PIS | D22: 0.0065
B23: CONTRIBUIÇÃO PREVIDENCIÁRIA SOBRE RECEITA BRUTA (***) | C23: CPRB | D23: 0 | E23: *
B24: Taxa de Tributos (Soma dos itens COFINS, ISS, PIS e CPRB) | C24: I | D24: =SUM(D20:D23) -> 0.0365
B26: Taxa de Lucro | C26: L | D26: 0.035 | F26: De 3,50% até 6,22%; médio = 5,11%
B28: BDI Resultante | D28: =ROUND((((1+D12+D18+D16)*(1+D14)*(1+D26))/(1-D24))-1,4) -> 0.111
F29: De 11,10% até 16,80%; médio = 14,02%
B32: Fórmula do BDI conforme Acórdão TCU 2622/2013-P:
B40: Obs.:
B41: (*) Todas as taxas adotadas estão na faixa admissível do Acórdão 2622/2013-P do TCU.
B42: (**) A alíquota de ISS no Município de João Alfredo/PE é de 5% sobre os custos de mão de obra. Considerou-se para todos os serviços uma proporção de 40% de mão de obra, de modo que a taxa de ISS a incidir sobre os custos unitários dos itens será de 5% x 40% = 2,00%.
B43: (***) Conforme determina a Lei nº 13.161, de 31 de agosto de 2015, que altera a Lei nº 12.546, de 14 de dezembro 2011, para obras de infraestrutura e do setor de construção, foi regulamentada a substituição da contribuição previdenciária patronal de 20% sobre a folha de pagamentos por uma contribuição de 4,50% sobre a receita bruta, sendo facultativa a opção pela contribuição substitutiva. Nesta composição de BDI NÃO foi considerada a opção pela contribuição substitutiva, sendo portanto necessário utilizar tabelas de custos NÃO desoneradas para elaboração do orçamento básico. | F43: Obs.: 1. Acompanhar a questão, pois existe a possibilidade da Lei da Desoneração vencer ou ser revogada. 2. As atividades incluídas na desoneração são as relativas aos grupos 412, 432, 433 e 439 da CNAE 2.0
B46: Obs.:
B47: Os custos indiretos são decorrentes da estrutura da obra e da empresa e que não podem ser atribuídos diretamente à execução de um dado serviço. Os custos indiretos variam muito, principalmente, em função do local de execução dos serviços, do tipo da obra, impostos incidentes, e ainda com as exigências do edital ou contrato. Devem ser distribuídos pelos custos unitários diretos totais dos serviços na forma de percentual destes. Os custos indiretos que mais afetam a construção estão a seguir identificados, entretanto, o engenheiro de custos deve analisar em cada caso sua validade.
B61: Fórmula BDI conforme Acórdão TCU 325/2007:

Sheet _RESUMO COMPARATIVO_
A1: RESUMO COMPARATIVO
A2: ORÇAMENTO COM DESONERAÇÃO VERSUS ORÇAMENTO SEM DESONERAÇÃO
A4: ='(ORÇAMENTO GERAL)'!A6 -> OBRA: REFORMA DO AÇOUGUE MUNICIPAL E CONSTRUÇÃO DE 01 GALPÃO PRÉ-FABRICADO DE CONCRETO ARMADO
A5: ='(ORÇAMENTO GERAL)'!A7 -> LOCALIZAÇÃO: RUA SÉRGIO AMARO DO NASCIMENTO - JOÃO ALFREDO/PE
A6: ='(ORÇAMENTO GERAL)'!A9 -> DATA: ABRIL/2025
B8: VALOR TOTAL DO PROJETO | C8: BDI REFERENCIAL ADOTADO (dentro da faixa referencial do Acórdão 2622/2013, com tributos locais) | D8: ENCARGOS SOCIAIS ADOTADOS (padrão SINAPI Pernambuco)
A10: ORÇAMENTO COM DESONERAÇÃO | B10: ='(ORÇAMENTO GERAL)'!N405 -> 2653615.7 | C10: 26,53% (com CPRB) | D10: 91,23% (hora), 52,09% (mês)
A12: ORÇAMENTO SEM DESONERAÇÃO | B12: ='(ORÇAMENTO GERAL)'!Q405 -> 2590295.2 | C12: 20,50% (sem CPRB) | D12: 113,94% (hora), 70,11% (mês)
A15: CONCLUSÃO:
C16: A OPÇÃO MAIS ADEQUADA PARA A ADMINISTRAÇÃO É A DO ORÇAMENTO: | D16: =IF(B10>B12,"SEM DESONERAÇÃO","COM DESONERAÇÃO") -> SEM DESONERAÇÃO

Sheet COMP_ENCARGOS_SOCIAIS_SEM_D
A1: COMPOSIÇÃO DE ENCARGOS SOCIAIS SOBRE A MÃO DE OBRA
A2: ESTADO DE PERNAMBUCO - SEM DESONERAÇÃO
A3: (FONTE: SINAPI FEVEREIRO/2025)
A5: OBRA: REFORMA DO AÇOUGUE MUNICIPAL E CONSTRUÇÃO DE 01 GALPÃO PRÉ-FABRICADO DE CONCRETO ARMADO
A6: LOCALIZAÇÃO: RUA SÉRGIO AMARO DO NASCIMENTO - JOÃO ALFREDO/PE
A7: DATA: ABRIL/2025
A9: ENCARGOS SOCIAIS SOBRE A MÃO DE OBRA
A10: CÓDIGO | B10: DESCRIÇÃO | C10: COM DESONERAÇÃO | E10: SEM DESONERAÇÃO
A11: CÓDIGO | B11: DESCRIÇÃO | C11: HORISTA % | D11: MENSALISTA % | E11: HORISTA % | F11: MENSALISTA %
A12: GRUPO A
A13: A1 | B13: INSS | C13: 5,00% | D13: 5,00% | E13: 20,00% | F13: 20,00%
A14: A2 | B14: SESI | C14: 1,50% | D14: 1,50% | E14: 1,50% | F14: 1,50%
A15: A3 | B15: SENAI | C15: 1,00% | D15: 1,00% | E15: 1,00% | F15: 1,00%
A16: A4 | B16: INCRA | C16: 0,20% | D16: 0,20% | E16: 0,20% | F16: 0,20%
A17: A5 | B17: SEBRAE | C17: 0,60% | D17: 0,60% | E17: 0,60% | F17: 0,60%
A18: A6 | B18: Salário Educação | C18: 2,50% | D18: 2,50% | E18: 2,50% | F18: 2,50%
A19: A7 | B19: Seguro Contra Acidentes de Trabalho | C19: 3,00% | D19: 3,00% | E19: 3,00% | F19: 3,00%
A20: A8 | B20: FGTS | C20: 8,00% | D20: 8,00% | E20: 8,00% | F20: 8,00%
A21: A9 | B21: SECONCI | C21: 0,00% | D21: 0,00% | E21: 0,00% | F21: 0,00%
A22: A | B22: Total | C22: 21,80% | D22: 21,80% | E22: 36,80% | F22: 36,80%
A23: GRUPO B
A24: B1 | B24: Repouso Semanal Remunerado | C24: 18,01% | D24: Não incide | E24: 18,01% | F24: Não incide
A25: B2 | B25: Feriados | C25: 4,32% | D25: Não incide | E25: 4,32% | F25: Não incide
A26: B3 | B26: Auxílio - Enfermidade | C26: 0,86% | D26: 0,65% | E26: 0,86% | F26: 0,65%
A27: B4 | B27: 13º Salário | C27: 10,97% | D27: 8,33% | E27: 10,97% | F27: 8,33%
A28: B5 | B28: Licença Paternidade | C28: 0,07% | D28: 0,05% | E28: 0,07% | F28: 0,05%
A29: B6 | B29: Faltas Justificadas | C29: 0,73% | D29: 0,56% | E29: 0,73% | F29: 0,56%
A30: B7 | B30: Dias de Chuvas | C30: 1,96% | D30: Não incide | E30: 1,96% | F30: Não incide
A31: B8 | B31: Auxílio Acidente de Trabalho | C31: 0,10% | D31: 0,07% | E31: 0,10% | F31: 0,07%
A32: B9 | B32: Férias Gozadas | C32: 9,95% | D32: 7,56% | E32: 9,95% | F32: 7,56%
A33: B10 | B33: Salário Maternidade | C33: 0,03% | D33: 0,03% | E33: 0,03% | F33: 0,03%
A34: B | B34: Total | C34: 47,00% | D34: 17,25% | E34: 47,00% | F34: 17,25%
A35: GRUPO C
A36: C1 | B36: Aviso Prévio Indenizado | C36: 4,77% | D36: 3,63% | E36: 4,77% | F36: 3,63%
A37: C2 | B37: Aviso Prévio Trabalhado | C37: 0,11% | D37: 0,09% | E37: 0,11% | F37: 0,09%
A38: C3 | B38: Férias Indenizadas | C38: 3,98% | D38: 0.0303 | E38: 3,98% | F38: 3,03%
A39: C4 | B39: Depósito Rescisão Sem Justa Causa | C39: 3,06% | D39: 2,33% | E39: 3,06% | F39: 2,33%
A40: C5 | B40: Indenização Adicional | C40: 0,40% | D40: 0,31% | E40: 0,40% | F40: 0,31%
A41: C | B41: Total | C41: 12,32% | D41: 9,39% | E41: 12,32% | F41: 9,39%
A42: GRUPO D
...

Sheet CURVA ABC
A1: CURVA ABC
A3: OBRA: REFORMA DO AÇOUGUE MUNICIPAL E CONSTRUÇÃO DE 01 GALPÃO PRÉ-FABRICADO DE CONCRETO ARMADO
A4: LOCALIZAÇÃO: RUA SÉRGIO AMARO DO NASCIMENTO - JOÃO ALFREDO/PE
A5: FONTES DE PREÇOS: SINAPI-PE FEVEREIRO - 2025 / ORSEJANEIRO - 2025 / SEINFRA-CE 028 / SBC - PE / COMPOSIÇÕES / SEM DESONERAÇÃO / BDI = 20,50% / BDI = 11,10%
A6: DATA: ABRIL/2025
G7: BDI (FORNECIMENTO) = | I7: 0.111
G8: BDI (EDIFICAÇÕES) = | I8: 0.205
G9: SEM DESONERAÇÃO
A10: ITEM | B10: FONTE | C10: CÓDIGO | D10: DESCRIÇÃO | E10: UN. | F10: QUANT. | G10: V. UNIT. S/BDI | H10: V. UNIT. C/ BDI | I10: V. TOTAL C/ BDI | K10: % | L10: % ACUMULADO | M10: CLASSIFICAÇÃO | N10: JUSTIF. | O10: ACERVO? | P10: CLASSE | Q10: CORTE
A12: 7.1 | B12: SINAPI | C12: 94216 | D12: TELHAMENTO COM TELHA METÁLICA TERMOACÚSTICA E = 30 MM, COM ATÉ 2 ÁGUAS, INCLUSO IÇAMENTO. AF_07/2019 | E12: M2 | F12: 1952.66 | G12: 203,52 | H12: =ROUND(G12*(1+$I$8),2) -> 245.24 | I12: =TRUNC($F12*H12,2) -> 478870.33 | K12: =I12/$I$93 -> 0.18487095 | L12: =K12 -> 0.18487095 | M12: =IF(L12<=$Q$12,"A",IF(L12<=$Q$13,"B","C")) -> A | N12: > 4% | O12: SIM | P12: A | Q12: 0.8
A13: 5.3 | B13: SINAPI | C13: 87792 | D13: EMBOÇO OU MASSA ÚNICA EM ARGAMASSA TRAÇO 1:2:8, PREPARO MECÂNICO COM BETONEIRA 400 L, APLICADA MANUALMENTE EM PANOS CEGOS DE FACHADA (SEM PRESENÇA DE VÃOS), ESPESSURA DE 25 MM. AF_08/2022 | E13: M2 | F13: 4998.08 | G13: 43,38 | H13: =ROUND(G13*(1+$I$8),2) -> 52.27 | I13: =TRUNC($F13*H13,2) -> 261249.64 | K13: =I13/$I$93 -> 0.10085709 | L13: =K13+L12 -> 0.28572804 | M13: =IF(L13<=$Q$12,"A",IF(L13<=$Q$13,"B","C")) -> A | N13: > 4% | O13: SIM | P13: B | Q13: 0.95
A14: 6.3 | B14: SINAPI | C14: 104162 | D14: PISO EM GRANILITE, MARMORITE OU GRANITINA EM AMBIENTES INTERNOS, COM ESPESSURA DE 8 MM, INCLUSO MISTURA EM BETONEIRA, COLOCAÇÃO DAS JUNTAS, APLICAÇÃO DO PISO, 4 POLIMENTOS COM POLITRIZ, ESTUCAMENTO, SELADOR E CERA. AF_06/2022 | E14: M2 | F14: 1798.52 | G14: 95,93 | H14: =ROUND(G14*(1+$I$8),2) -> 115.6 | I14: =TRUNC($F14*H14,2) -> 207908.91 | K14: =I14/$I$93 -> 0.080264562 | L14: =K14+L13 -> 0.3659926 | M14: =IF(L14<=$Q$12,"A",IF(L14<=$Q$13,"B","C")) -> A | N14: > 4% | O14: SIM | P14: C | Q14: 1
A15: 4.2 | B15: ORSE | C15: 12994 | D15: ESTRUTURA PARA GALPÃO PRÉ-MOLDADO DE CONCRETO ARMADO, PADRÃO QUADRA DE ESPORTE, SEM LANTERNIM, C/MONTAGEM, VÃOS ATÉ 22M, TESOURA SEM EMENDA, VÃOS ENTRE PILARES DE 5,00/6,00M, ALTURA 6,50/7,50M(LATERAL/MEIO), EXCLUSO TELHAS, INCLUSIVE FUNDAÇÃO - RV 01 | E15: M2 | F15: 390 | G15: 350 | H15: =ROUND(G15*(1+$I$8),2) -> 421.75 | I15: =TRUNC($F15*H15,2) -> 164482.5 | K15: =I15/$I$93 -> 0.06349952 | L15: =K15+L14 -> 0.42949212 | M15: =IF(L15<=$Q$12,"A",IF(L15<=$Q$13,"B","C")) -> A | N15: > 4% | O15: SIM
A16: 12.1 | B16: SBC | C16: 008584 | D16: COZINHA-CAMARA FRIGORIFICA 3,3x1,55x2,20m 80 kgf/DIA | E16: UN | F16: 3 | G16: 49161.4 | H16: =ROUND(G16*(1+$I$7),2) -> 54618.32 | I16: =TRUNC($F16*H16,2) -> 163854.96 | K16: =I16/$I$93 -> 0.063257254 | L16: =K16+L15 -> 0.49274938 | M16: =IF(L16<=$Q$12,"A",IF(L16<=$Q$13,"B","C")) -> A | N16: > 4% | O16: NÃO
A17: 8.6 | B17: ORSE | C17: 99855 | D17: CORRIMÃO SIMPLES, DIÂMETRO EXTERNO = 1 1/2", EM AÇO GALVANIZADO. AF_04/2019_PS | E17: M | F17: 1271.62 | G17: 102,27 | H17: =ROUND(G17*(1+$I$8),2) -> 123.24 | I17: =TRUNC($F17*H17,2) -> 156714.44 | K17: =I17/$I$93 -> 0.06050061 | L17: =K17+L16 -> 0.55324999 | M17: =IF(L17<=$Q$12,"A",IF(L17<=$Q$13,"B","C")) -> A | N17: > 4% | O17: SIM
A18: 5.5 | B18: SINAPI | C18: 104611 | D18: REVESTIMENTO CERÂMICO PARA PAREDES INTERNAS COM PLACAS TIPO ESMALTADA DE DIMENSÕES 60X60 CM APLICADAS NA ALTURA INTEIRA DAS PAREDES. AF_02/2023_PE | E18: M2 | F18: 1245.83 | G18: 96,65 | H18: =ROUND(G18*(1+$I$8),2) -> 116.46 | I18: =TRUNC($F18*H18,2) -> 145089.36 | K18: =I18/$I$93 -> 0.056012674 | L18: =K18+L17 -> 0.60926266 | M18: =IF(L18<=$Q$12,"A",IF(L18<=$Q$13,"B","C")) -> A | N18: > 4% | O18: SIM
A19: 4.1 | B19: SEINFRA.28 | C19: C5216 | D19: ESTRUTURA TRELIÇADA DE COBERTURA, TIPO FINK, COM LIGAÇÕES SOLDADAS, INCLUSOS PERFIS METÁLICOS, CHAPAS METÁLICAS, TRANSPORTE COM GUINDASTE, JATEAMENTO E PINTURA | E19: KG | F19: 5593.77 | G19: 18.36 | H19: =ROUND(G19*(1+$I$8),2) -> 22.12 | I19: =TRUNC($F19*H19,2) -> 123734.19 | K19: =I19/$I$93 -> 0.047768374 | L19: =K19+L18 -> 0.65703104 | M19: =IF(L19<=$Q$12,"A",IF(L19<=$Q$13,"B","C")) -> A | N19: > 4% | O19: SIM
A20: 6.2 | B20: SINAPI | C20: 87735 | D20: CONTRAPISO EM ARGAMASSA TRAÇO 1:4 (CIMENTO E AREIA), PREPARO MECÂNICO COM BETONEIRA 400 L, APLICADO EM ÁREAS MOLHADAS SOBRE LAJE, ADERIDO, ACABAMENTO NÃO REFORÇADO, ESPESSURA 2CM. AF_07/2021 | E20: M2 | F20: 1798.52 | G20: 43,66 | H20: =ROUND(G20*(1+$I$8),2) -> 52.61 | I20: =TRUNC($F20*H20,2) -> 94620.13 | K20: =I20/$I$93 -> 0.036528705 | L20: =K20+L19 -> 0.69355974
A21: 1.1 | B21: COMPOSIÇÃO | C21: 01 | D21: ADMINISTRAÇÃO LOCAL DA OBRA | E21: UN | F21: 1 | G21: =COMPOSIÇÕES!J20 -> 63214.31 | H21: =ROUND(G21*(1+$I$8),2) -> 76173.24 | I21: =TRUNC($F21*H21,2) -> 76173.24 | K21: =I21/$I$93 -> 0.029407166 | L21: =K21+L20 -> 0.72296691
A22: 6.1 | B22: SINAPI | C22: 96620 | D22: LASTRO DE CONCRETO MAGRO, APLICADO EM PISOS, LAJES SOBRE SOLO OU RADIERS. AF_01/2024 | E22: M3 | F22: 53.96 | G22: 735,91 | H22: =ROUND(G22*(1+$I$8),2) -> 886.77 | I22: =TRUNC($F22*H22,2) -> 47850.1 | K22: =I22/$I$93 -> 0.018472837 | L22: =K22+L21 -> 0.74143974
A23: 7.4 | B23: SINAPI | C23: 94229 | D23: CALHA EM CHAPA DE AÇO GALVANIZADO NÚMERO 24, DESENVOLVIMENTO DE 100 CM, INCLUSO TRANSPORTE VERTICAL. AF_07/2019 | E23: M | F23: 252 | G23: 147,1 | H23: =ROUND(G23*(1+$I$8),2) -> 177.26 | I23: =TRUNC($F23*H23,2) -> 44669.52 | K23: =I23/$I$93 -> 0.017244953 | L23: =K23+L22 -> 0.7586847
A24: 3.1 | B24: SINAPI | C24: 92212 | D24: TUBO DE CONCRETO PARA REDES COLETORAS DE ÁGUAS PLUVIAIS, DIÂMETRO DE 600 MM, JUNTA RÍGIDA, INSTALADO EM LOCAL COM BAIXO NÍVEL DE INTERFERÊNCIAS - FORNECIMENTO E ASSENTAMENTO. AF_03/2024 | E24: M | F24: 150 | G24: 242,75 | H24: =ROUND(G24*(1+$I$8),2) -> 292.51 | I24: =TRUNC($F24*H24,2) -> 43876.5 | K24: =I24/$I$93 -> 0.016938803 | L24: =K24+L23 -> 0.7756235
