Workbook
Name \: #REF!
Name \d: #N/A
Name \f: #N/A
Name \p: #N/A
Name \z: #REF!
Name _: NA()
Name _____TOT2: NA()
Name ____ACA25: NA()
Name ____ACA50: NA()
Name ____ACM30: #REF!
Name ____BDI1: #REF!
Name ____CCM30: NA()
Name ____CMM30: NA()
Name ____KM406407: NA()
Name ____la2: NA()
Name ____PCM30: NA()
Name ____PL1: NA()
Name ____PLA2: NA()
Name ____PNV2002: NA()
Name ____PNV2003: NA()
Name ____PNV2009: NA()
Name ____PTB10: NA()
Name ____TB10: NA()
Name ____TCM30: #REF!
Name ____TOT1: NA()
Name ____TOT2: NA()
Name ____TOT3: NA()
Name ____TOT4: NA()
Name ____TOT5: NA()
Name ____TOT6: NA()
Name ____TOT7: NA()
Name ____tota: NA()
Name ____TSD2: NA()
Name ___ACA25: NA()
Name ___ACA50: NA()
Name ___ACM30: #REF!
Name ___BDI1: #REF!
Name ___CCM30: NA()
Name ___CMM30: NA()
Name ___KM406407: NA()
Name ___la2: NA()
Name ___PCM30: NA()
Name ___PL1: NA()
Name ___PLA2: NA()
Name ___PNV2002: NA()
Name ___PNV2003: NA()
Name ___PNV2009: NA()
Name ___PTB10: NA()
Name ___TB10: NA()
Name ___TCM30: #REF!
Name ___TOT1: NA()
Name ___TOT2: NA()
Name ___TOT3: NA()
Name ___TOT4: NA()
Name ___TOT5: NA()
Name ___TOT6: NA()
Name ___TOT7: NA()
Name ___TSD2: NA()
Name __ACA25: NA()
Name __ACA50: NA()

Sheet Planilha Resumo Comparativa
C1: SECRETARIA DE DESENVOLVIMENTO URBANO E HABITAÇÃO
C2: PAVIMENTAÇÃO EM PARALELEPÍPEDO EM DIVERSAS RUAS DO MUNICÍPIO DE JOÃO ALFREDO - PE
A3: MUNICÍPIO: | B3: JOÃO ALFREDO | C3: LOCAL: | D3: ZONA RURAL, MUNICÍPIO, JOÃO ALFREDO - PE
A4: ESTADO: | B4: PERNAMBUCO | C4: DATA BASE: | D4: SINAPI - 09/2025 - PERNAMBUCO - SEM DESONERAÇÃO, SICRO PE 07/2025
A5: DATA DE ELABORAÇÃO: | B5: 46001 | C5: BDI(S) ADOTADO(S): | D5: BDI - ITENS GERAIS: 23,38 % SEM DESONERAÇÃO - 28,44% COM DESONERAÇÃO
A6: PLANILHA RESUMO
D7: SEM DESONERAÇÃO | E7: DESONERADO
A8: 1 | B8: ADMINISTRAÇÃO LOCAL | D8: ='Planilha Orçamentária SEM Des'!I8 -> 129722.93 | E8: 121410.9
A9: 2 | B9: INSTALAÇÕES DA OBRA | D9: ='Planilha Orçamentária SEM Des'!I10 -> 3252.06 | E9: 3360.32
A10: 3 | B10: SÍTIO TAMANDUÁ | D10: ='Planilha Orçamentária SEM Des'!I12 -> 851097.84 | E10: 866755.15
A11: 4 | B11: SÍTIO CAPAU | D11: ='Planilha Orçamentária SEM Des'!I25 -> 1079392.5 | E11: 1099237.8
A12: 5 | B12: SÍTIO OLHO D'AGUA CERCADO | D12: ='Planilha Orçamentária SEM Des'!I50 -> 756323.61 | E12: 770153.72
A13: 6 | B13: SÍTIO SERROTE | D13: ='Planilha Orçamentária SEM Des'!I57 -> 445362.23 | E13: 453501.05
A14: 7 | B14: POVOADO BREJINHOS | D14: ='Planilha Orçamentária SEM Des'!I64 -> 1683536.2 | E14: 1714317.2
A15: 8 | B15: SÍTIO CAMPOS DO BORBA | D15: ='Planilha Orçamentária SEM Des'!I77 -> 938168.66 | E15: 955256.9
C16: VALOR TOTAL: | D16: =SUM(D8:D15) -> 5886856.1 | E16: =SUM(E8:E15) -> 5983993

Sheet Planilha Resumo
C1: SECRETARIA DE DESENVOLVIMENTO URBANO E HABITAÇÃO
C2: PAVIMENTAÇÃO EM PARALELEPÍPEDO EM DIVERSAS RUAS DO MUNICÍPIO DE JOÃO ALFREDO - PE
A3: MUNICÍPIO: | B3: JOÃO ALFREDO | C3: LOCAL: | D3: ZONA RURAL, MUNICÍPIO, JOÃO ALFREDO - PE
A4: ESTADO: | B4: PERNAMBUCO | C4: DATA BASE: | D4: SINAPI - 09/2025 - PERNAMBUCO - SEM DESONERAÇÃO, SICRO PE 07/2025
A5: DATA DE ELABORAÇÃO: | B5: 46001 | C5: BDI(S) ADOTADO(S): | D5: BDI - ITENS GERAIS: 23,38 % SEM DESONERAÇÃO
A6: PLANILHA RESUMO
A7: 1 | B7: ADMINISTRAÇÃO LOCAL | D7: ='Planilha Orçamentária SEM Des'!I8 -> 129722.93 | E7: =D7/$D$15 -> 0.022036029
A8: 2 | B8: INSTALAÇÕES DA OBRA | D8: ='Planilha Orçamentária SEM Des'!I10 -> 3252.06 | E8: =D8/$D$15 -> 0.0005524273
A9: 3 | B9: SÍTIO TAMANDUÁ | D9: ='Planilha Orçamentária SEM Des'!I12 -> 851097.84 | E9: =D9/$D$15 -> 0.14457595
A10: 4 | B10: SÍTIO CAPAU | D10: ='Planilha Orçamentária SEM Des'!I25 -> 1079392.5 | E10: =D10/$D$15 -> 0.18335637
A11: 5 | B11: SÍTIO OLHO D'AGUA CERCADO | D11: ='Planilha Orçamentária SEM Des'!I50 -> 756323.61 | E11: =D11/$D$15 -> 0.12847666
A12: 6 | B12: SÍTIO SERROTE | D12: ='Planilha Orçamentária SEM Des'!I57 -> 445362.23 | E12: =D12/$D$15 -> 0.075653663
A13: 7 | B13: POVOADO BREJINHOS | D13: ='Planilha Orçamentária SEM Des'!I64 -> 1683536.2 | E13: =D13/$D$15 -> 0.28598223
A14: 8 | B14: SÍTIO CAMPOS DO BORBA | D14: ='Planilha Orçamentária SEM Des'!I77 -> 938168.66 | E14: =D14/$D$15 -> 0.15936667
C15: VALOR TOTAL: | D15: =SUM(D7:D14) -> 5886856.1

Sheet Planilha Resumo por Rua
E1: SECRETARIA DE DESENVOLVIMENTO URBANO E HABITAÇÃO
E2: PAVIMENTAÇÃO EM PARALELEPÍPEDO EM DIVERSAS RUAS DO MUNICÍPIO DE JOÃO ALFREDO - PE
A3: MUNICÍPIO: | B3: JOÃO ALFREDO | E3: LOCAL: | F3: ZONA RURAL, MUNICÍPIO, JOÃO ALFREDO - PE
A4: ESTADO: | B4: PERNAMBUCO | E4: DATA BASE: | F4: SINAPI - 09/2025 - PERNAMBUCO - SEM DESONERAÇÃO, SICRO PE 07/2025
A5: DATA DE ELABORAÇÃO: | B5: 46001 | E5: BDI(S) ADOTADO(S): | F5: BDI - ITENS GERAIS: 23,38 % SEM DESONERAÇÃO
A6: PLANILHA RESUMO POR RUA
A7: Número | B7: Código | C7: Etapa / Serviço | D7: Unidade | E7: Quantidade | F7: BDI | G7: Valor Unitário | H7: Valor Unitário com BDI | I7: Valor Total com BDI
A8: 3 | C8: SÍTIO TAMANDUÁ | I8: =SUM(I9,I12) -> 851097.84
A9: 3.1 | C9: RUA PROJETADA 1 | I9: =SUM(I10,I11) -> 562986.76
A10: 3.1.1 | C10: PAVIMENTAÇÃO | I10: ='Planilha Orçamentária SEM Des'!I14 -> 560889.32
A11: 3.1.2 | C11: SINALIZAÇÃO VERTICAL | I11: ='Planilha Orçamentária SEM Des'!I17 -> 2097.44
A12: 3.2 | C12: RUA PROJETADA 2 | I12: =SUM(I13,I14) -> 288111.08
A13: 3.2.1 | C13: PAVIMENTAÇÃO | I13: ='Planilha Orçamentária SEM Des'!I20 -> 286013.64
A14: 3.2.2 | C14: SINALIZAÇÃO VERTICAL | I14: ='Planilha Orçamentária SEM Des'!I23 -> 2097.44
A15: 4 | C15: SÍTIO CAPAU | I15: =SUM(I16,I19,I22,I25) -> 1079392.5
A16: 4.1 | C16: RUA PROJETADA 1 | I16: =SUM(I17,I18) -> 512130.84
A17: 4.1.1 | C17: PAVIMENTAÇÃO | I17: ='Planilha Orçamentária SEM Des'!I27 -> 510033.4
A18: 4.1.2 | C18: SINALIZAÇÃO VERTICAL | I18: ='Planilha Orçamentária SEM Des'!I30 -> 2097.44
A19: 4.2 | C19: RUA PROJETADA 2 | I19: =SUM(I20,I21) -> 154838.23
A20: 4.2.1 | C20: PAVIMENTAÇÃO | I20: ='Planilha Orçamentária SEM Des'!I33 -> 152740.79
A21: 4.2.2 | C21: SINALIZAÇÃO VERTICAL | I21: ='Planilha Orçamentária SEM Des'!I36 -> 2097.44
A22: 4.3 | C22: RUA PROJETADA 3 | I22: =SUM(I23,I24) -> 47063.74
A23: 4.2.1 | C23: PAVIMENTAÇÃO | I23: ='Planilha Orçamentária SEM Des'!I39 -> 44966.3
A24: 4.2.2 | C24: SINALIZAÇÃO VERTICAL | I24: ='Planilha Orçamentária SEM Des'!I42 -> 2097.44
A25: 4.4 | C25: RUA PROJETADA 4 | I25: =SUM(I26,I27) -> 365359.74
A26: 4.2.1 | C26: PAVIMENTAÇÃO | I26: ='Planilha Orçamentária SEM Des'!I45 -> 363262.3
A27: 4.2.2 | C27: SINALIZAÇÃO VERTICAL | I27: ='Planilha Orçamentária SEM Des'!I48 -> 2097.44
A28: 5 | C28: SÍTIO OLHO D'AGUA CERCADO | I28: =SUM(I29) -> 756323.61
A29: 5.1 | C29: RUA PROJETADA 1 | I29: =SUM(I30,I31) -> 756323.61
A30: 5.1.1 | C30: PAVIMENTAÇÃO | I30: ='Planilha Orçamentária SEM Des'!I52 -> 754226.17
A31: 5.1.2 | C31: SINALIZAÇÃO VERTICAL | I31: ='Planilha Orçamentária SEM Des'!I55 -> 2097.44
A32: 6 | C32: SÍTIO SERROTE | I32: =SUM(I33) -> 445362.23
A33: 6.1 | C33: RUA PROJETADA 1 | I33: =SUM(I34,I35) -> 445362.23
A34: 6.1.1 | C34: PAVIMENTAÇÃO | I34: ='Planilha Orçamentária SEM Des'!I59 -> 443264.79
A35: 6.1.2 | C35: SINALIZAÇÃO VERTICAL | I35: ='Planilha Orçamentária SEM Des'!I62 -> 2097.44
A36: 7 | C36: POVOADO BREJINHOS | I36: =SUM(I37,I40) -> 1683536.2
A37: 7.1 | C37: RUA PROJETADA 1 | I37: =SUM(I38,I39) -> 941789.63
A38: 7.1.1 | C38: PAVIMENTAÇÃO | I38: ='Planilha Orçamentária SEM Des'!I66 -> 939692.19
A39: 7.1.2 | C39: SINALIZAÇÃO VERTICAL | I39: ='Planilha Orçamentária SEM Des'!I69 -> 2097.44
A40: 7.2 | C40: RUA PROJETADA 2 | I40: =SUM(I41,I42) -> 741746.59
...

Sheet Planilha Orçamentária SEM Des
E1: SECRETARIA DE DESENVOLVIMENTO URBANO E HABITAÇÃO
E2: PAVIMENTAÇÃO EM PARALELEPÍPEDO EM DIVERSAS RUAS DO MUNICÍPIO DE JOÃO ALFREDO - PE
A3: MUNICÍPIO: | B3: JOÃO ALFREDO | E3: LOCAL: | F3: ZONA RURAL, MUNICÍPIO, JOÃO ALFREDO - PE
A4: ESTADO: | B4: PERNAMBUCO | E4: DATA BASE: | F4: SINAPI - 09/2025 - PERNAMBUCO - SEM DESONERAÇÃO, SICRO PE 07/2025
A5: DATA DE ELABORAÇÃO: | B5: 46001 | E5: BDI(S) ADOTADO(S): | F5: BDI - ITENS GERAIS: 23,38 % SEM DESONERAÇÃO
A6: PLANILHA ORÇAMENTÁRIA
A7: Número | B7: Código | C7: Etapa / Serviço | D7: Unidade | E7: Quantidade | F7: BDI | G7: Valor Unitário | H7: Valor Unitário com BDI | I7: Valor Total com BDI
A8: 1 | C8: ADMINISTRAÇÃO LOCAL | I8: =SUM(I9) -> 129722.93 | J8: ok
A9: 1.1 | B9: CP01 | C9: ADMINISTRAÇÃO LOCAL DA OBRA - REFERÊNCIA DA TABELA: SINAPI 93572 / 93565 (SETEMBRO/2025) | D9: UN | E9: ='Memória de Cálculo'!J9 -> 1 | F9: 23.38 | G9: ='Composições SEM'!L11 -> 105140.97 | H9: =ROUND((G9*((F9/100)+1)),2) -> 129722.93 | I9: =ROUND((E9*H9),2) -> 129722.93
A10: 2 | C10: INSTALAÇÕES DA OBRA | I10: =SUM(I11:I11) -> 3252.06 | J10: ok
A11: 2.1 | B11: 103689 | C11: FORNECIMENTO E INSTALAÇÃO DE PLACA DE OBRA COM CHAPA GALVANIZADA E ESTRUTURA DE MADEIRA. AF_03/2022_PS (M2) | D11: M2 | E11: ='Memória de Cálculo'!J18 -> 5.63 | F11: 23.38 | G11: 468.17 | H11: =ROUND((G11*((F11/100)+1)),2) -> 577.63 | I11: =ROUND((E11*H11),2) -> 3252.06
A12: 3 | C12: SÍTIO TAMANDUÁ | I12: =SUM(I13,I19) -> 851097.84
A13: 3.1 | C13: RUA PROJETADA 1 | I13: =SUM(I14,I17) -> 562986.76
A14: 3.1.1 | C14: PAVIMENTAÇÃO | I14: =SUM(I15:I16) -> 560889.32
A15: 3.1.1.1 | B15: 94273 | C15: ASSENTAMENTO DE GUIA (MEIO-FIO) EM TRECHO RETO, CONFECCIONADA EM CONCRETO PRÉ-FABRICADO, DIMENSÕES 100X15X13X30 CM (COMPRIMENTO X BASE INFERIOR X BASE SUPERIOR X ALTURA). AF_01/2024 (M) | D15: M | E15: ='Memória de Cálculo'!J31 -> 1784.37 | F15: 23.38 | G15: 52.88 | H15: =ROUND((G15*((F15/100)+1)),2) -> 65.24 | I15: =ROUND((E15*H15),2) -> 116412.3
A16: 3.1.1.2 | B16: CP02 | C16: EXECUÇÃO DE PAVIMENTO EM PARALELEPÍPEDOS, SOBRE COLCHÃO DE AREIA GROSSA DE 10 CM, REJUNTAMENTO COM ARGAMASSA TRAÇO 1:3 (CIMENTO E AREIA) - COEFICIENTES OBTIDOS NA TABELA: SINAPI 101169 (SETEMBRO/2025) RETIRAMOS O ROLO COMPACTADOR VIBRATÓRIO QUE NÃO SERÃO EXECUTADOS NO CASO | D16: M2 | E16: ='Memória de Cálculo'!J40 -> 4473.4 | F16: 23.38 | G16: ='Composições SEM'!L20 -> 80.53 | H16: =ROUND((G16*((F16/100)+1)),2) -> 99.36 | I16: =ROUND((E16*H16),2) -> 444477.02
A17: 3.1.2 | C17: SINALIZAÇÃO VERTICAL | I17: =SUM(I18:I18) -> 2097.44
A18: 3.1.2.1 | B18: CP03 | C18: COLOCAÇÃO DE PLACA DE IDENTIFICAÇÃO DE RUAS, TIPO TOTEM, COMPOSTO POR TUBO DE AÇO GALVANIZADO COM DIÂMETRO 2" E H=2,50M COM 2 PLACAS EM CHAPA DE AÇO, SENDO UMA COM DIMENSÕES DE 45,00 X 20,00 CM E UMA COM DIMENSÕES DE 45,00 X 45,00 CM, REVESTIDAS COM PELÍCULA RETROREFLETIVA, INCLUÍNDO O CHUMBAMENTO DO TUBO NO SOLO COM CONCRETO SIMPLES FCK=25MPA, COM FORNECIMENTO DE MATERIAIS (UN) | D18: UN | E18: ='Memória de Cálculo'!J49 -> 2 | F18: 23.38 | G18: ='Composições SEM'!L26 -> 849.99 | H18: =ROUND((G18*((F18/100)+1)),2) -> 1048.72 | I18: =ROUND((E18*H18),2) -> 2097.44
A19: 3.2 | C19: RUA PROJETADA 2 | I19: =SUM(I20,I23) -> 288111.08
A20: 3.2.1 | C20: PAVIMENTAÇÃO | I20: =SUM(I21:I22) -> 286013.64
A21: 3.2.1.1 | B21: 94273 | C21: ASSENTAMENTO DE GUIA (MEIO-FIO) EM TRECHO RETO, CONFECCIONADA EM CONCRETO PRÉ-FABRICADO, DIMENSÕES 100X15X13X30 CM (COMPRIMENTO X BASE INFERIOR X BASE SUPERIOR X ALTURA). AF_01/2024 (M) | D21: M | E21: ='Memória de Cálculo'!J61 -> 913.2 | F21: 23.38 | G21: 52.88 | H21: =ROUND((G21*((F21/100)+1)),2) -> 65.24 | I21: =ROUND((E21*H21),2) -> 59577.17
A22: 3.2.1.2 | B22: CP02 | C22: EXECUÇÃO DE PAVIMENTO EM PARALELEPÍPEDOS, SOBRE COLCHÃO DE AREIA GROSSA DE 10 CM, REJUNTAMENTO COM ARGAMASSA TRAÇO 1:3 (CIMENTO E AREIA) - COEFICIENTES OBTIDOS NA TABELA: SINAPI 101169 (SETEMBRO/2025) RETIRAMOS O ROLO COMPACTADOR VIBRATÓRIO QUE NÃO SERÃO EXECUTADOS NO CASO | D22: M2 | E22: ='Memória de Cálculo'!J69 -> 2278.95 | F22: 23.38 | G22: ='Composições SEM'!L20 -> 80.53 | H22: =ROUND((G22*((F22/100)+1)),2) -> 99.36 | I22: =ROUND((E22*H22),2) -> 226436.47
A23: 3.2.2 | C23: SINALIZAÇÃO VERTICAL | I23: =SUM(I24:I24) -> 2097.44
A24: 3.2.2.1 | B24: CP03 | C24: COLOCAÇÃO DE PLACA DE IDENTIFICAÇÃO DE RUAS, TIPO TOTEM, COMPOSTO POR TUBO DE AÇO GALVANIZADO COM DIÂMETRO 2" E H=2,50M COM 2 PLACAS EM CHAPA DE AÇO, SENDO UMA COM DIMENSÕES DE 45,00 X 20,00 CM E UMA COM DIMENSÕES DE 45,00 X 45,00 CM, REVESTIDAS COM PELÍCULA RETROREFLETIVA, INCLUÍNDO O CHUMBAMENTO DO TUBO NO SOLO COM CONCRETO SIMPLES FCK=25MPA, COM FORNECIMENTO DE MATERIAIS (UN) | D24: UN | E24: ='Memória de Cálculo'!J78 -> 2 | F24: 23.38 | G24: ='Composições SEM'!L26 -> 849.99 | H24: =ROUND((G24*((F24/100)+1)),2) -> 1048.72 | I24: =ROUND((E24*H24),2) -> 2097.44
A25: 4 | C25: SÍTIO CAPAU | I25: =SUM(I26,I32,I38,I44) -> 1079392.5
A26: 4.1 | C26: RUA PROJETADA 1 | I26: =SUM(I27,I30) -> 512130.84
A27: 4.1.1 | C27: PAVIMENTAÇÃO | I27: =SUM(I28:I29) -> 510033.4
A28: 4.1.1.1 | B28: 94273 | C28: ASSENTAMENTO DE GUIA (MEIO-FIO) EM TRECHO RETO, CONFECCIONADA EM CONCRETO PRÉ-FABRICADO, DIMENSÕES 100X15X13X30 CM (COMPRIMENTO X BASE INFERIOR X BASE SUPERIOR X ALTURA). AF_01/2024 (M) | D28: M | E28: ='Memória de Cálculo'!J92 -> 1596.41 | F28: 23.38 | G28: 52.88 | H28: =ROUND((G28*((F28/100)+1)),2) -> 65.24 | I28: =ROUND((E28*H28),2) -> 104149.79
A29: 4.1.1.2 | B29: CP02 | C29: EXECUÇÃO DE PAVIMENTO EM PARALELEPÍPEDOS, SOBRE COLCHÃO DE AREIA GROSSA DE 10 CM, REJUNTAMENTO COM ARGAMASSA TRAÇO 1:3 (CIMENTO E AREIA) - COEFICIENTES OBTIDOS NA TABELA: SINAPI 101169 (SETEMBRO/2025) RETIRAMOS O ROLO COMPACTADOR VIBRATÓRIO QUE NÃO SERÃO EXECUTADOS NO CASO | D29: M2 | E29: ='Memória de Cálculo'!J100 -> 4084.98 | F29: 23.38 | G29: ='Composições SEM'!L20 -> 80.53 | H29: =ROUND((G29*((F29/100)+1)),2) -> 99.36 | I29: =ROUND((E29*H29),2) -> 405883.61
A30: 4.1.2 | C30: SINALIZAÇÃO VERTICAL | I30: =SUM(I31:I31) -> 2097.44
A31: 4.1.2.1 | B31: CP03 | C31: COLOCAÇÃO DE PLACA DE IDENTIFICAÇÃO DE RUAS, TIPO TOTEM, COMPOSTO POR TUBO DE AÇO GALVANIZADO COM DIÂMETRO 2" E H=2,50M COM 2 PLACAS EM CHAPA DE AÇO, SENDO UMA COM DIMENSÕES DE 45,00 X 20,00 CM E UMA COM DIMENSÕES DE 45,00 X 45,00 CM, REVESTIDAS COM PELÍCULA RETROREFLETIVA, INCLUÍNDO O CHUMBAMENTO DO TUBO NO SOLO COM CONCRETO SIMPLES FCK=25MPA, COM FORNECIMENTO DE MATERIAIS (UN) | D31: UN | E31: ='Memória de Cálculo'!J109 -> 2 | F31: 23.38 | G31: ='Composições SEM'!L26 -> 849.99 | H31: =ROUND((G31*((F31/100)+1)),2) -> 1048.72 | I31: =ROUND((E31*H31),2) -> 2097.44
A32: 4.2 | C32: RUA PROJETADA 2 | I32: =SUM(I33,I36) -> 154838.23
A33: 4.2.1 | C33: PAVIMENTAÇÃO | I33: =SUM(I34:I35) -> 152740.79
A34: 4.2.1.1 | B34: 94273 | C34: ASSENTAMENTO DE GUIA (MEIO-FIO) EM TRECHO RETO, CONFECCIONADA EM CONCRETO PRÉ-FABRICADO, DIMENSÕES 100X15X13X30 CM (COMPRIMENTO X BASE INFERIOR X BASE SUPERIOR X ALTURA). AF_01/2024 (M) | D34: M | E34: ='Memória de Cálculo'!J121 -> 475.64 | F34: 23.38 | G34: 52.88 | H34: =ROUND((G34*((F34/100)+1)),2) -> 65.24 | I34: =ROUND((E34*H34),2) -> 31030.75
A35: 4.2.1.2 | B35: CP02 | C35: EXECUÇÃO DE PAVIMENTO EM PARALELEPÍPEDOS, SOBRE COLCHÃO DE AREIA GROSSA DE 10 CM, REJUNTAMENTO COM ARGAMASSA TRAÇO 1:3 (CIMENTO E AREIA) - COEFICIENTES OBTIDOS NA TABELA: SINAPI 101169 (SETEMBRO/2025) RETIRAMOS O ROLO COMPACTADOR VIBRATÓRIO QUE NÃO SERÃO EXECUTADOS NO CASO | D35: M2 | E35: ='Memória de Cálculo'!J129 -> 1224.94 | F35: 23.38 | G35: ='Composições SEM'!L20 -> 80.53 | H35: =ROUND((G35*((F35/100)+1)),2) -> 99.36 | I35: =ROUND((E35*H35),2) -> 121710.04
A36: 4.2.2 | C36: SINALIZAÇÃO VERTICAL | I36: =SUM(I37:I37) -> 2097.44
A37: 4.2.2.1 | B37: CP03 | C37: COLOCAÇÃO DE PLACA DE IDENTIFICAÇÃO DE RUAS, TIPO TOTEM, COMPOSTO POR TUBO DE AÇO GALVANIZADO COM DIÂMETRO 2" E H=2,50M COM 2 PLACAS EM CHAPA DE AÇO, SENDO UMA COM DIMENSÕES DE 45,00 X 20,00 CM E UMA COM DIMENSÕES DE 45,00 X 45,00 CM, REVESTIDAS COM PELÍCULA RETROREFLETIVA, INCLUÍNDO O CHUMBAMENTO DO TUBO NO SOLO COM CONCRETO SIMPLES FCK=25MPA, COM FORNECIMENTO DE MATERIAIS (UN) | D37: UN | E37: ='Memória de Cálculo'!J138 -> 2 | F37: 23.38 | G37: ='Composições SEM'!L26 -> 849.99 | H37: =ROUND((G37*((F37/100)+1)),2) -> 1048.72 | I37: =ROUND((E37*H37),2) -> 2097.44
A38: 4.3 | C38: RUA PROJETADA 3 | I38: =SUM(I39,I42) -> 47063.74
A39: 4.3.1 | C39: PAVIMENTAÇÃO | I39: =SUM(I40:I41) -> 44966.3
A40: 4.3.1.1 | B40: 94273 | C40: ASSENTAMENTO DE GUIA (MEIO-FIO) EM TRECHO RETO, CONFECCIONADA EM CONCRETO PRÉ-FABRICADO, DIMENSÕES 100X15X13X30 CM (COMPRIMENTO X BASE INFERIOR X BASE SUPERIOR X ALTURA). AF_01/2024 (M) | D40: M | E40: ='Memória de Cálculo'!J150 -> 94.79 | F40: 23.38 | G40: 52.88 | H40: =ROUND((G40*((F40/100)+1)),2) -> 65.24 | I40: =ROUND((E40*H40),2) -> 6184.1
...

Sheet Composições SEM
G1: SECRETARIA DE DESENVOLVIMENTO URBANO E HABITAÇÃO
G2: PAVIMENTAÇÃO EM PARALELEPÍPEDO EM DIVERSAS RUAS DO MUNICÍPIO DE JOÃO ALFREDO - PE
A3: MUNICÍPIO: | C3: JOÃO ALFREDO | G3: LOCAL: | H3: ZONA RURAL, MUNICÍPIO, JOÃO ALFREDO - PE
A4: ESTADO: | C4: PERNAMBUCO | G4: DATA BASE: | H4: SINAPI - 09/2025 - PERNAMBUCO - SEM DESONERAÇÃO, SICRO PE 07/2025
A5: DATA DE ELABORAÇÃO: | C5: 46001 | G5: BDI(S) ADOTADO(S): | H5: BDI - ITENS GERAIS: 23,38 % SEM DESONERAÇÃO
A6: COMPOSIÇÕES DE PREÇOS UNITÁRIOS
A7: COMPOSIÇÃO CP01 - ADMINISTRAÇÃO LOCAL DA OBRA - REFERÊNCIA DA TABELA: SINAPI 93572 / 93565 (SETEMBRO/2025)
A8: CÓDIGO | B8: COMPOSIÇÃO | D8: FONTE | G8: UNID | H8: COEFICIENTE | J8: PREÇO UNITÁRIO | L8: TOTAL
A9: 90776 | B9: ENCARREGADO GERAL COM ENCARGOS COMPLEMENTARES | D9: SINAPI COMPOSIÇÃO | E9: SINAPI COMPOSIÇÃO | F9: SINAPI COMPOSIÇÃO | G9: H | H9: 1438.8 | J9: 44.81 | L9: =ROUND(ROUND(H9,8)*J9,2) -> 64472.63
A10: 90777 | B10: ENGENHEIRO CIVIL DE OBRA JUNIOR COM ENCARGOS COMPLEMENTARES | D10: SINAPI COMPOSIÇÃO | E10: SINAPI COMPOSIÇÃO | F10: SINAPI COMPOSIÇÃO | G10: H | H10: 313.92 | J10: 129.55 | L10: =ROUND(ROUND(H10,8)*J10,2) -> 40668.34
A11: Encarregado Geral: 5,5 horas x 5 dias x 4,36 semanas x 12 meses = 1.438,80 horas Engenheiro Civil: 2 horas x 3 dias x 4,36 semanas x 12 meses = 313,92 horas | H11: TOTAL: | L11: =SUM(L9:L10) -> 105140.97 | M11: 100734.34
M12: =L11-M11 -> 4406.63
A13: COMPOSIÇÃO CP02 - EXECUÇÃO DE PAVIMENTO EM PARALELEPÍPEDOS, SOBRE COLCHÃO DE AREIA GROSSA DE 10 CM, REJUNTAMENTO COM ARGAMASSA TRAÇO 1:3 (CIMENTO E AREIA) - COEFICIENTES OBTIDOS NA TABELA: SINAPI 101169 (SETEMBRO/2025) RETIRAMOS O ROLO COMPACTADOR VIBRATÓRIO QUE NÃO SERÃO EXECUTADOS NO CASO
A14: CÓDIGO | B14: COMPOSIÇÃO | D14: FONTE | G14: UNID | H14: COEFICIENTE | J14: PREÇO UNITÁRIO | L14: TOTAL
A15: 367 | B15: AREIA GROSSA - POSTO JAZIDA/FORNECEDOR (RETIRADO NA JAZIDA, SEM TRANSPORTE) | D15: SINAPI INSUMO | E15: SINAPI INSUMO | F15: SINAPI INSUMO | G15: M3 | H15: 0,1140000 | J15: 141.83 | L15: =ROUND(ROUND(H15,8)*J15,2) -> 16.17
A16: 4385 | B16: PARALELEPIPEDO GRANITICO OU BASALTICO, PARA PAVIMENTACAO, SEM FRETE (VARIACAO REGIONAL DE PECAS POR M2) | D16: SINAPI INSUMO | E16: SINAPI INSUMO | F16: SINAPI INSUMO | G16: MIL | H16: 0,0330000 | J16: 938.65 | L16: =ROUND(ROUND(H16,8)*J16,2) -> 30.98
A17: 88260 | B17: CALCETEIRO COM ENCARGOS COMPLEMENTARES | D17: SINAPI COMPOSIÇÃO | E17: SINAPI COMPOSIÇÃO | F17: SINAPI COMPOSIÇÃO | G17: H | H17: 0,4021000 | J17: 29.63 | L17: =ROUND(ROUND(H17,8)*J17,2) -> 11.91
A18: 88316 | B18: SERVENTE COM ENCARGOS COMPLEMENTARES | D18: SINAPI COMPOSIÇÃO | E18: SINAPI COMPOSIÇÃO | F18: SINAPI COMPOSIÇÃO | G18: H | H18: 0,4021000 | J18: 24.08 | L18: =ROUND(ROUND(H18,8)*J18,2) -> 9.68
A19: 88628 | B19: ARGAMASSA TRAÇO 1:3 (EM VOLUME DE CIMENTO E AREIA MÉDIA ÚMIDA), PREPARO MECÂNICO COM BETONEIRA 400 L. AF_08/2019 | D19: SINAPI COMPOSIÇÃO | E19: SINAPI COMPOSIÇÃO | F19: SINAPI COMPOSIÇÃO | G19: M3 | H19: 0,0204000 | J19: 577.92 | L19: =ROUND(ROUND(H19,8)*J19,2) -> 11.79
A20: Obsercações: Composição espelho da SINAPI 101169. | H20: TOTAL: | L20: =SUM(L15:L19) -> 80.53 | M20: 80.5
M21: =L20-M20 -> 0.03
A22: COMPOSIÇÃO CP03 - COLOCAÇÃO DE PLACA DE IDENTIFICAÇÃO DE RUAS, TIPO TOTEM, COMPOSTO POR TUBO DE AÇO GALVANIZADO COM DIÂMETRO 2" E H=2,50M COM 2 PLACAS EM CHAPA DE AÇO, SENDO UMA COM DIMENSÕES DE 45,00 X 20,00 CM E UMA COM DIMENSÕES DE 45,00 X 45,00 CM, REVESTIDAS COM PELÍCULA RETROREFLETIVA, INCLUÍNDO O CHUMBAMENTO DO TUBO NO SOLO COM CONCRETO SIMPLES FCK=25MPA, COM FORNECIMENTO DE MATERIAIS (UN)
A23: CÓDIGO | B23: COMPOSIÇÃO | D23: FONTE | G23: UNID | H23: COEFICIENTE | J23: PREÇO UNITÁRIO | L23: TOTAL
A24: CPU AUX - 04 | B24: Placa em aço - película I + III - fornecimento e implantação | D24: SICRO NOVO | G24: m² | H24: 0.2925 | J24: ='Composições AUX SEM'!L66 -> 522.8293 | L24: =ROUND(ROUND(H24,8)*J24,2) -> 152.93
A25: CPU AUX - 02 | B25: POSTE EM AÇO TUBULAR PARA SINALIZAÇÃO, SEM LUMINARIA, H = *2,5*M, INCLUSIVE FORNECIMENTO E CHUMBAMENTO EM CONCRETO SIMPLES COM FCK 25MPA (inclusive forma para o concreto) | D25: PRÓPRIA | G25: UN | H25: 1 | J25: ='Composições AUX SEM'!L23 -> 697.06 | L25: =ROUND(ROUND(H25,8)*J25,2) -> 697.06
H26: TOTAL: | L26: =SUM(L24:L25) -> 849.99

Sheet Composições AUX SEM
G1: SECRETARIA DE DESENVOLVIMENTO URBANO E HABITAÇÃO
G2: PAVIMENTAÇÃO EM PARALELEPÍPEDO EM DIVERSAS RUAS DO MUNICÍPIO DE JOÃO ALFREDO - PE
A3: MUNICÍPIO: | C3: JOÃO ALFREDO | G3: LOCAL: | H3: ZONA RURAL, MUNICÍPIO, JOÃO ALFREDO - PE
A4: ESTADO: | C4: PERNAMBUCO | G4: DATA BASE: | H4: SINAPI - 09/2025 - PERNAMBUCO - SEM DESONERAÇÃO, SICRO PE 07/2025
A5: DATA DE ELABORAÇÃO: | C5: 46001 | G5: BDI(S) ADOTADO(S): | H5: BDI - ITENS GERAIS: 23,38 % SEM DESONERAÇÃO
A6: COMPOSIÇÕES DE PREÇOS UNITÁRIOS
A7: CPU AUX - 01 - FORMA TÁBUA PARA CONCRETO EM FUNDAÇÕES (UN)
A8: CÓDIGO | B8: COMPOSIÇÃO | D8: FONTE | G8: UNID | H8: COEFICIENTE | J8: PREÇO UNITÁRIO | L8: TOTAL
A9: 00004491 | B9: PONTALETE *7,5 X 7,5* CM EM PINUS, MISTA OU EQUIVALENTE DA REGIAO - BRUTA | D9: SINAPI | G9: M | H9: 0.275 | J9: 10.66 | L9: =ROUND(ROUND(H9,8)*J9,2) -> 2.93
A10: 00005061 | B10: PREGO DE ACO POLIDO COM CABECA 18 X 27 (2 1/2 X 10) | D10: SINAPI | G10: KG | H10: 0.15 | J10: 17.42 | L10: =ROUND(ROUND(H10,8)*J10,2) -> 2.61
A11: 00004512 | B11: SARRAFO *2,5 X 5* CM EM PINUS, MISTA OU EQUIVALENTE DA REGIAO - BRUTA | D11: SINAPI | G11: M | H11: 0.24 | J11: 2.58 | L11: =ROUND(ROUND(H11,8)*J11,2) -> 0.62
A12: 00006189 | B12: TABUA NAO APARELHADA *2,5 X 30* CM, EM MACARANDUBA/MASSARANDUBA, ANGELIM OU EQUIVALENTE DA REGIAO - BRUTA | D12: SINAPI | G12: M | H12: 0.792 | J12: 30.01 | L12: =ROUND(ROUND(H12,8)*J12,2) -> 23.77
A13: 88239 | B13: AJUDANTE DE CARPINTEIRO COM ENCARGOS COMPLEMENTARES | D13: SINAPI | G13: H | H13: 0.225 | J13: 24.88 | L13: =ROUND(ROUND(H13,8)*J13,2) -> 5.6 | M13: 22.96
A14: 88262 | B14: CARPINTEIRO DE FORMAS COM ENCARGOS COMPLEMENTARES | D14: SINAPI | G14: H | H14: 0.9 | J14: 29.41 | L14: =ROUND(ROUND(H14,8)*J14,2) -> 26.47 | M14: 27.01
H15: TOTAL: | L15: =SUM(L9:L14) -> 62
A17: CPU AUX - 02 - POSTE EM AÇO TUBULAR PARA SINALIZAÇÃO, SEM LUMINARIA, H = *2,5*M, INCLUSIVE FORNECIMENTO E CHUMBAMENTO EM CONCRETO SIMPLES COM FCK 25MPA (inclusive forma para o concreto) (UN)
A18: CÓDIGO | B18: COMPOSIÇÃO | D18: FONTE | G18: UNID | H18: COEFICIENTE | J18: PREÇO UNITÁRIO | L18: TOTAL
A19: 102482 | B19: CONCRETO FCK = 25MPA, TRAÇO 1:2,2:2,5 (EM MASSA SECA DE CIMENTO/ AREIA MÉDIA/ SEIXO ROLADO) - PREPARO MECÂNICO COM BETONEIRA 600 L. AF_05/2021 | D19: SINAPI | G19: M3 | H19: 0.064 | J19: 656.36 | L19: =ROUND(ROUND(H19,8)*J19,2) -> 42.01 | M19: 650,49
A20: 93358 | B20: ESCAVAÇÃO MANUAL DE VALA. AF_09/2024 | D20: SINAPI | G20: M3 | H20: 0.064 | J20: 95.25 | L20: =ROUND(ROUND(H20,8)*J20,2) -> 6.1 | M20: 88,05
A21: CPU AUX - 01 | B21: FORMA TÁBUA PARA CONCRETO EM FUNDAÇÕES | D21: PRÓPRIA | G21: UN | H21: 0.64 | J21: =L15 -> 62 | L21: =ROUND(ROUND(H21,8)*J21,2) -> 39.68
A22: 100619 | B22: POSTE DECORATIVO PARA JARDIM EM AÇO TUBULAR, H = *2,5* M, SEM LUMINÁRIA - FORNECIMENTO E INSTALAÇÃO. AF_04/2025 | D22: SINAPI | G22: UN | H22: 1 | J22: 609.27 | L22: =ROUND(ROUND(H22,8)*J22,2) -> 609.27 | M22: 597,8
H23: TOTAL: | L23: =SUM(L19:L22) -> 697.06
A25: CPU AUX - 03 - Pintura eletrostática a pó com tinta poliéster em chapa de aço (m²)
A26: EQUIPAMENTOS | D26: QUANT | F26: UTILIZAÇÃO | H26: CUSTO OPERACIONAL | L26: CUSTO HORÁRIO
F27: PROD | G27: IMPR | H27: PROD | J27: IMPR
A28: E9076 | B28: Equipamento para pintura eletrostática com cabine dupla de 7,00 kW e estufa de 80.000 kCal | D28: 1 | F28: 1 | G28: 0 | H28: 46.4806 | J28: 40.621 | L28: =ROUND(D28*(ROUND(F28*H28,4)+ROUND(G28*J28,4)),4) -> 46.4806
A29: E9753 | B29: Grupo gerador - 23 kVA | D29: 1 | F29: 1 | G29: 0 | H29: 29.8972 | J29: 7.7064 | L29: =ROUND(D29*(ROUND(F29*H29,4)+ROUND(G29*J29,4)),4) -> 29.8972
H30: TOTAL EQUIPAMENTOS: | L30: =SUM(L28:L29) -> 76.3778
A31: MÃO DE OBRA | G31: UNID | H31: CONSUMO | J31: SALÁRIO HORA | L31: CUSTO HORÁRIO
A32: 100301 | B32: AJUDANTE DE PINTOR COM ENCARGOS COMPLEMENTARES | G32: H | H32: 1 | J32: 26.91 | L32: =ROUND(ROUND(H32,8)*J32,4) -> 26.91 | M32: 16,02
A33: 88310 | B33: PINTOR COM ENCARGOS COMPLEMENTARES | G33: H | H33: 2 | J33: 31.52 | L33: =ROUND(ROUND(H33,8)*J33,4) -> 63.04 | M33: 29,1
H34: TOTAL MÃO DE OBRA: | L34: =SUM(L32:L33) -> 89.95
H35: Custo Horário da Execução: | L35: =SUM(L30,L34) -> 166.3278
H36: Produção da Equipe: | L36: 19.15
H37: Custo Unitário da Execução: | L37: =ROUND(L35/L36,4) -> 8.6855
A38: MATERIAIS | G38: UNID | H38: CONSUMO | J38: VALOR UNITÁRIO | L38: CUSTO UNITÁRIO
A39: M3153 | B39: Tinta em pó à base de resina poliéster | G39: kg | H39: 0.112 | J39: 90.8529 | L39: =ROUND(ROUND(H39,8)*J39,4) -> 10.1755
H40: TOTAL MATERIAIS: | L40: =SUM(L39:L39) -> 10.1755
A41: TRANSPORTE - TEMPO FIXO | F41: UNIDADE | G41: CODIGO | H41: CONSUMO | J41: PREÇO UNITÁRIO | L41: CUSTO UNITÁRIO
A42: M3153 | B42: Tinta em pó à base de resina poliéster (Caminhão carroceria com capacidade de 15 t - 188 kW) | F42: t | G42: 5914655 | H42: 0.00011 | J42: 33.54 | L42: =ROUND(ROUND(H42,8)*J42,4) -> 0.0037
...

Sheet Memória de Cálculo
E1: SECRETARIA DE DESENVOLVIMENTO URBANO E HABITAÇÃO
E2: PAVIMENTAÇÃO EM PARALELEPÍPEDO EM DIVERSAS RUAS DO MUNICÍPIO DE JOÃO ALFREDO - PE
A3: MUNICÍPIO: | B3: JOÃO ALFREDO | E3: LOCAL: | F3: ZONA RURAL, MUNICÍPIO, JOÃO ALFREDO - PE
A4: ESTADO: | B4: PERNAMBUCO | E4: DATA BASE: | F4: SINAPI - 09/2025 - PERNAMBUCO - SEM DESONERAÇÃO, SICRO PE 07/2025
A5: DATA DE ELABORAÇÃO: | B5: 46001 | E5: BDI(S) ADOTADO(S): | F5: BDI - ITENS GERAIS: 23,38 % SEM DESONERAÇÃO
A6: MÉMORIA DE CÁLCULO
A7: 1. ADMINISTRAÇÃO LOCAL
A9: 1.1 | B9: CP01 | C9: ADMINISTRAÇÃO LOCAL DA OBRA - REFERÊNCIA DA TABELA: SINAPI 93572 / 93565 (SETEMBRO/2025) | J9: =ROUND(SUM(E12),2) -> 1 | K9: ok
D10: UNIDADE | E10: QTD
A11: NECESSITA DE 1 (UMA) ADMINISTRAÇÃO LOCAL PARA O GERENCIAMENTO DA OBRA. | C11: =UNIDADE | D11: 1 | E11: =ROUND(D11,2) -> 1
E12: =ROUND(SUM(E11:E11),2) -> 1
E14: ="TOTAL DA MEMÓRIA DE CÁLCULO: "&TEXT(J9,"0,00") -> TOTAL DA MEMÓRIA DE CÁLCULO: 1,00
A16: 2. INSTALAÇÕES DA OBRA
A18: 2.1 | B18: 103689 | C18: FORNECIMENTO E INSTALAÇÃO DE PLACA DE OBRA COM CHAPA GALVANIZADA E ESTRUTURA DE MADEIRA. AF_03/2022_PS (M2) | J18: =ROUND(SUM(F21),2) -> 5.63 | K18: ok
D19: ALTURA | E19: COMPRIMENTO | F19: QTD
A20: PLACA DE OBRA NO PADRÃO GOVERNO DE PERNAMBUCO | C20: =ALTURA*COMPRIMENTO | D20: 1.5 | E20: 3.75 | F20: =ROUND(D20 * E20,2) -> 5.63
F21: =ROUND(SUM(F20:F20),2) -> 5.63
E23: ="TOTAL DA MEMÓRIA DE CÁLCULO: "&TEXT(J18,"0,00") -> TOTAL DA MEMÓRIA DE CÁLCULO: 5,63
A25: 3. SÍTIO TAMANDUÁ
A27: 3.1. RUA PROJETADA 1
A29: 3.1.1. PAVIMENTAÇÃO
A31: 3.1.1.1 | B31: 94273 | C31: ASSENTAMENTO DE GUIA (MEIO-FIO) EM TRECHO RETO, CONFECCIONADA EM CONCRETO PRÉ-FABRICADO, DIMENSÕES 100X15X13X30 CM (COMPRIMENTO X BASE INFERIOR X BASE SUPERIOR X ALTURA). AF_01/2024 (M) | J31: =ROUND(SUM(F36),2) -> 1784.37 | K31: OK
D32: COMPRIMENTO | E32: TAXA | F32: QTD
A33: ASSENTAMENTO DO MEIO FIO | C33: =COMPRIMENTO*TAXA | D33: 894.68 | E33: 2 | F33: =ROUND(D33 * E33,2) -> 1789.36
A34: RECRAVAS INÍCIO E FIM DO TRECHO | C34: =COMPRIMENTO*TAXA | D34: 5 | E34: 1 | F34: =ROUND(D34 * E34,2) -> 5
A35: DESCONTO PC | C35: =COMPRIMENTO*TAXA | D35: 9.99 | E35: -1 | F35: =ROUND(D35 * E35,2) -> -9.99
F36: =ROUND(SUM(F33:F35),2) -> 1784.37
E38: ="TOTAL DA MEMÓRIA DE CÁLCULO: "&TEXT(J31,"0,00") -> TOTAL DA MEMÓRIA DE CÁLCULO: 1784,37
A40: 3.1.1.2 | B40: CP02 | C40: EXECUÇÃO DE PAVIMENTO EM PARALELEPÍPEDOS, SOBRE COLCHÃO DE AREIA GROSSA DE 10 CM, REJUNTAMENTO COM ARGAMASSA TRAÇO 1:3 (CIMENTO E AREIA) - COEFICIENTES OBTIDOS NA TABELA: SINAPI 101169 (SETEMBRO/2025) RETIRAMOS O ROLO COMPACTADOR VIBRATÓRIO QUE NÃO SERÃO EXECUTADOS NO CASO | J40: =ROUND(SUM(E43),2) -> 4473.4 | K40: OK
D41: ÁREA | E41: QTD
A42: PAVIMENTAÇÃO DO LEITO DA RUA | C42: =ÁREA | D42: 4473.4 | E42: =ROUND(D42,2) -> 4473.4
E43: =ROUND(SUM(E42:E42),2) -> 4473.4
E45: ="TOTAL DA MEMÓRIA DE CÁLCULO: "&TEXT(J40,"0,00") -> TOTAL DA MEMÓRIA DE CÁLCULO: 4473,40
A47: 3.1.2. SINALIZAÇÃO VERTICAL
A49: 3.1.2.1 | B49: CP03 | C49: COLOCAÇÃO DE PLACA DE IDENTIFICAÇÃO DE RUAS, TIPO TOTEM, COMPOSTO POR TUBO DE AÇO GALVANIZADO COM DIÂMETRO 2" E H=2,50M COM 2 PLACAS EM CHAPA DE AÇO, SENDO UMA COM DIMENSÕES DE 45,00 X 20,00 CM E UMA COM DIMENSÕES DE 45,00 X 45,00 CM, REVESTIDAS COM PELÍCULA RETROREFLETIVA, INCLUÍNDO O CHUMBAMENTO DO TUBO NO SOLO COM CONCRETO SIMPLES FCK=25MPA, COM FORNECIMENTO DE MATERIAIS (UN) | J49: =ROUND(SUM(E53),2) -> 2 | K49: OK
D50: QUANT | E50: QTD
A51: PLACA DE LOGRADOURO
A52: INÍCIO E FINAL DA VIA | C52: =QUANT | D52: 2 | E52: =ROUND(D52,2) -> 2
E53: =ROUND(SUM(E52:E52),2) -> 2
E55: ="TOTAL DA MEMÓRIA DE CÁLCULO: "&TEXT(J49,"0,00") -> TOTAL DA MEMÓRIA DE CÁLCULO: 2,00
...

Sheet BDI 23,38% SEM DESONERAÇÃO
C1: SECRETARIA DE DESENVOLVIMENTO URBANO E HABITAÇÃO
A2: MUNICÍPIO: | B2: JOÃO ALFREDO | C2: OBRA: PAVIMENTAÇÃO EM PARALELEPÍPEDO EM DIVERSAS RUAS DO MUNICÍPIO DE JOÃO ALFREDO - PE
A3: ESTADO: | B3: PERNAMBUCO | C3: LOCAL: | D3: ZONA RURAL, MUNICÍPIO, JOÃO ALFREDO - PE
A4: DATA DA ELABORAÇÃO: | B4: 46001 | C4: DATA BASE: | D4: SINAPI - 09/2025 - PERNAMBUCO - SEM DESONERAÇÃO, SICRO PE 07/2025
C5: BDI (S) ADOTADO(S) : 23,38% (SEM DESONERAÇÃO)
A7: COMPOSIÇÃO ANALÍTICA DE BDI GERAIS
A8: OBJETO: | B8: OBRA: PAVIMENTAÇÃO EM PARALELEPÍPEDO EM DIVERSAS RUAS DO MUNICÍPIO DE JOÃO ALFREDO - PE
A9: Tipo de Obra: | B9: CONSTRUÇÃO DE RODOVIAS E FERROVIAS
A12: Faixa de BDI* (Acórdão 2622/2013 – TCU – Plenário): | B12: 19,60% a 24,23%
A14: DESCRIÇÃO | B14: VALORES DE REFERÊNCIA - % | E14: BDI ADOTADO - %
B15: 1º Quartil | C15: Médio | D15: 3º Quartil
A16: Administração Central (AC) | B16: 0.038 | C16: 0.0401 | D16: 0.0467 | E16: 3.8
A17: Seguro e Garantia (S+G) | B17: 0.0032 | C17: 0.004 | D17: 0.0074 | E17: 0.32
A18: Risco (R) | B18: 0.005 | C18: 0.0056 | D18: 0.0097 | E18: 0.5
A19: Despesas Financeiras (DF) | B19: 0.0102 | C19: 0.0111 | D19: 0.0121 | E19: 1.02
A20: Lucro (L) | B20: 0.0664 | C20: 0.073 | D20: 0.0869 | E20: 6.64
A21: Impostos** (soma dos itens abaixo) | E21: =SUM(E22:E25) -> 8.65
A22: COFINS | B22: Conforme Legislação específica. | E22: 3
A23: PIS | E23: 0.65
A24: ISS | E24: 5
A25: CPRB | B25: Contribuição sobre a receita 3,6% | E25: 0
A26: TOTAL* | E26: =ROUND(((1+(E16/100+E17/100+E18/100))*(1+E19/100)*(1+E20/100))/(1-E21/100)-1,4) -> 0.2338
A27: (*) Todas as taxas adotadas estão na faixa admissível do Acórdão 2622/2013-P do TCU.
A28: (**) A alíquota de ISS no Município de João Alfredo é de 5%, conforme Art. 190 do Código Tributário do Município de João Alfredo.
A29: Fonte da composição, valores de referência e fórmula do BDI: Acórdão 2622/2013 – TCU – Plenário
A34: Onde:
A35: AC: Administração CentralDF: DF:Despesas Financeiras
A36: S: Seguro L: Lucro
A37: R: Risco I: Impostos
A38: G: Garantia

Sheet BDI 24,76% COM DESONERAÇÃO
C1: SECRETARIA DE DESENVOLVIMENTO URBANO E HABITAÇÃO
A2: MUNICÍPIO: | B2: JOÃO ALFREDO | C2: OBRA: PAVIMENTAÇÃO EM PARALELEPÍPEDO EM DIVERSAS RUAS DO MUNICÍPIO DE JOÃO ALFREDO - PE
A3: ESTADO: | B3: PERNAMBUCO | C3: LOCAL: | D3: ZONA RURAL, MUNICÍPIO, JOÃO ALFREDO - PE
A4: DATA DA ELABORAÇÃO: | B4: 46001 | C4: DATA BASE: | D4: SINAPI - 09/2025 - PERNAMBUCO - SEM DESONERAÇÃO
C5: BDI (S) ADOTADO(S) : 20,00% (SEM DESONERAÇÃO)
A7: COMPOSIÇÃO ANALÍTICA DE BDI GERAIS
A8: OBJETO: | B8: OBRA: PAVIMENTAÇÃO EM PARALELEPÍPEDO EM DIVERSAS RUAS DO MUNICÍPIO DE JOÃO ALFREDO - PE
A9: Tipo de Obra: | B9: CONSTRUÇÃO DE RODOVIAS E FERROVIAS
A12: Faixa de BDI* (Acórdão 2622/2013 – TCU – Plenário): | B12: 19,60% a 24,23%
A14: DESCRIÇÃO | B14: VALORES DE REFERÊNCIA - % | E14: BDI ADOTADO - %
B15: 1º Quartil | C15: Médio | D15: 3º Quartil
A16: Administração Central (AC) | B16: 0.038 | C16: 0.0401 | D16: 0.0467 | E16: 4.28
A17: Seguro e Garantia (S+G) | B17: 0.0032 | C17: 0.004 | D17: 0.0074 | E17: 0.32
A18: Risco (R) | B18: 0.005 | C18: 0.0056 | D18: 0.0097 | E18: 0.5
A19: Despesas Financeiras (DF) | B19: 0.0102 | C19: 0.0111 | D19: 0.0121 | E19: 1.02
A20: Lucro (L) | B20: 0.0664 | C20: 0.073 | D20: 0.0869 | E20: 6.64
A21: Impostos** (soma dos itens abaixo) | E21: =SUM(E22:E25) -> 9.25
A22: COFINS | B22: Conforme Legislação específica. | E22: 3
A23: PIS | E23: 0.65
A24: ISS | E24: 2
A25: CPRB | B25: Contribuição sobre a receita 3,6% | E25: 3.6
A26: TOTAL* | E26: =ROUND(((1+(E16/100+E17/100+E18/100))*(1+E19/100)*(1+E20/100))/(1-E21/100)-1,4) -> 0.2476
A27: (*) Todas as taxas adotadas estão na faixa admissível do Acórdão 2622/2013-P do TCU.
A28: (**) A alíquota de ISS no Município de João Alfredo é de 5% sobre os custos de mão de obra. Considerou-se para todos os serviços uma proporção de 40% de mão de obra, de modo que a taxa de ISS a incidir sobre os custos unitários dos itens será de 5% x 40% = 2,00%.
A29: Fonte da composição, valores de referência e fórmula do BDI: Acórdão 2622/2013 – TCU – Plenário
A34: Onde:
A35: AC: Administração CentralDF: DF:Despesas Financeiras
A36: S: Seguro L: Lucro
A37: R: Risco I: Impostos
A38: G: Garantia

Sheet Cronograma Físico-Financeiro
E1: SECRETARIA DE DESENVOLVIMENTO URBANO E HABITAÇÃO
E2: PAVIMENTAÇÃO EM PARALELEPÍPEDO EM DIVERSAS RUAS DO MUNICÍPIO DE JOÃO ALFREDO - PE
A3: MUNICÍPIO: | B3: JOÃO ALFREDO | E3: LOCAL: | F3: ZONA RURAL, MUNICÍPIO, JOÃO ALFREDO - PE
A4: ESTADO: | B4: PERNAMBUCO | E4: DATA BASE: | F4: SINAPI - 09/2025 - PERNAMBUCO - SEM DESONERAÇÃO, SICRO PE 07/2025
A5: DATA DE ELABORAÇÃO: | B5: 46001 | E5: BDI(S) ADOTADO(S): | F5: BDI - ITENS GERAIS: 23,38 % SEM DESONERAÇÃO
A6: CRONOGRAMA FÍSICO-FINANCEIRO
A7: ITEM | B7: DESCRIÇÃO | C7: VALOR (R$) | D7: MÊS 1 | E7: MÊS 2 | F7: MÊS 3 | G7: MÊS 4 | H7: MÊS 5 | J7: MÊS 6 | K7: MÊS 7 | L7: MÊS 8 | M7: MÊS 9 | N7: MÊS 10 | O7: MÊS 11 | Q7: MÊS 12 | R7: Total parcela
A8: 1 | B8: ADMINISTRAÇÃO LOCAL | C8: =SUM(C10:C11) -> 129722.93 | D8: 0.0745 | E8: 0.0927 | F8: 0.075 | G8: 0.0938 | H8: 0.0789 | J8: 0.0835 | K8: 0.0757 | L8: 0.0878 | M8: 0.0878 | N8: 0.0878 | O8: 0.0813 | Q8: 0.0812 | R8: =SUM(D8:Q8) -> 1
D9: =SUM(D11)*1 -> 9845.97 | E9: =SUM(E11)*1 -> 12271.79 | F9: =SUM(F11)*1 -> 9975.69 | G9: =SUM(G11)*1 -> 12479.35 | H9: =SUM(H11)*1 -> 10416.75 | J9: =SUM(J11)*1 -> 11026.45 | K9: =SUM(K11)*1 -> 9975.69 | L9: =SUM(L11)*1 -> 11558.31 | M9: =SUM(M11)*1 -> 11558.31 | N9: =SUM(N11)*1 -> 11558.31 | O9: =SUM(O11)*1 -> 9508.68 | Q9: =SUM(Q11)*1 -> 9547.61 | R9: =SUM(D9:Q9) -> 129722.91
A10: 1.1 | B10: ADMINISTRAÇÃO LOCAL DA OBRA - REFERÊNCIA DA TABELA: SINAPI 93572 / 93565 (SETEMBRO/2025) | C10: ='Planilha Orçamentária SEM Des'!I9 -> 129722.93 | D10: 0.0759 | E10: 0.0946 | F10: 0.0769 | G10: 0.0962 | H10: 0.0803 | I10: 0 | J10: 0.085 | K10: 0.0769 | L10: 0.0891 | M10: 0.0891 | N10: 0.0891 | O10: 0.0733 | P10: 0 | Q10: 0.0736 | R10: =SUM(D10:Q10) -> 1
D11: =IF(D10>0,ROUND($C10*D10,2),"") -> 9845.97 | E11: =IF(E10>0,ROUND($C10*E10,2),"") -> 12271.79 | F11: =IF(F10>0,ROUND($C10*F10,2),"") -> 9975.69 | G11: =IF(G10>0,ROUND($C10*G10,2),"") -> 12479.35 | H11: =IF(H10>0,ROUND($C10*H10,2),"") -> 10416.75 | J11: =IF(J10>0,ROUND($C10*J10,2),"") -> 11026.45 | K11: =IF(K10>0,ROUND($C10*K10,2),"") -> 9975.69 | L11: =IF(L10>0,ROUND($C10*L10,2),"") -> 11558.31 | M11: =IF(M10>0,ROUND($C10*M10,2),"") -> 11558.31 | N11: =IF(N10>0,ROUND($C10*N10,2),"") -> 11558.31 | O11: =IF(O10>0,ROUND($C10*O10,2),"")-0.01 -> 9508.68 | Q11: =IF(Q10>0,ROUND($C10*Q10,2),"") -> 9547.61 | R11: =SUM(D11:Q11) -> 129722.91
A12: 2 | B12: INSTALAÇÕES DA OBRA | C12: =SUM(C14:C15) -> 3252.06 | D12: =D13/C12 -> 1 | R12: =SUM(D12:Q12) -> 1
D13: =SUM(D15,)*1 -> 3252.06 | R13: =SUM(D13:Q13) -> 3252.06
A14: 2.1 | B14: FORNECIMENTO E INSTALAÇÃO DE PLACA DE OBRA COM CHAPA GALVANIZADA E ESTRUTURA DE MADEIRA. AF_03/2022_PS (M2) | C14: ='Planilha Orçamentária SEM Des'!I11 -> 3252.06 | D14: 1 | R14: =SUM(D14:Q14) -> 1
D15: =IF(D14>0,ROUND(C14*D14,2),"") -> 3252.06 | F15: =IF(F14>0,IF(AND(SUM(D14:F14)=1,R14=1),C14-SUM(D15:E15),ROUND(C14*F14,2)),"") | G15: =IF(G14>0,IF(AND(SUM(D14:G14)=1,R14=1),C14-SUM(D15:F15),ROUND(C14*G14,2)),"") | H15: =IF(H14>0,IF(AND(SUM(D14:H14)=1,R14=1),C14-SUM(D15:G15),ROUND(C14*H14,2)),"") | J15: =IF(J14>0,IF(AND(SUM(D14:J14)=1,R14=1),C14-SUM(D15:I15),ROUND(C14*J14,2)),"") | K15: =IF(K14>0,ROUND(J14*K14,2),"") | L15: =IF(L14>0,IF(AND(SUM(K14:L14)=1,Y14=1),J14-SUM(K15:K15),ROUND(J14*L14,2)),"") | M15: =IF(M14>0,IF(AND(SUM(K14:M14)=1,Y14=1),J14-SUM(K15:L15),ROUND(J14*M14,2)),"") | N15: =IF(N14>0,IF(AND(SUM(K14:N14)=1,Y14=1),J14-SUM(K15:M15),ROUND(J14*N14,2)),"") | O15: =IF(O14>0,IF(AND(SUM(K14:O14)=1,Y14=1),J14-SUM(K15:N15),ROUND(J14*O14,2)),"") | Q15: =IF(Q14>0,IF(AND(SUM(K14:Q14)=1,Y14=1),J14-SUM(K15:P15),ROUND(J14*Q14,2)),"") | R15: =SUM(D15:Q15) -> 3252.06
A16: 3 | B16: SÍTIO TAMANDUÁ | C16: =SUM(C18:C21) -> 851097.84 | D16: =D17/C16 -> 0.5 | E16: =E17/C16 -> 0.5 | R16: =SUM(D16:Q16) -> 1
D17: =SUM(D19,D21)*1 -> 425548.92 | E17: =SUM(E19,E21)*1 -> 425548.92 | R17: =SUM(D17:Q17) -> 851097.84
A18: 3.1 | B18: RUA PROJETADA 1 | C18: ='Planilha Orçamentária SEM Des'!I13 -> 562986.76 | D18: 0.5 | E18: 0.5 | R18: =SUM(D18:Q18) -> 1
D19: =IF(D18>0,ROUND(C18*D18,2),"") -> 281493.38 | E19: =IF(E18>0,IF(AND(SUM(D18:E18)=1,R18=1),C18-SUM(D19:D19),ROUND(C18*E18,2)),"") -> 281493.38 | F19: =IF(F18>0,IF(AND(SUM(D18:F18)=1,R18=1),C18-SUM(D19:E19),ROUND(C18*F18,2)),"") | G19: =IF(G18>0,IF(AND(SUM(D18:G18)=1,R18=1),C18-SUM(D19:F19),ROUND(C18*G18,2)),"") | H19: =IF(H18>0,IF(AND(SUM(D18:H18)=1,R18=1),C18-SUM(D19:G19),ROUND(C18*H18,2)),"") | I19: =IF(I18>0,IF(AND(SUM(D18:I18)=1,R18=1),C18-SUM(D19:H19),ROUND(C18*I18,2)),"") | J19: =IF(J18>0,IF(AND(SUM(D18:J18)=1,R18=1),C18-SUM(D19:I19),ROUND(C18*J18,2)),"") | R19: =SUM(D19:Q19) -> 562986.76
A20: 3.2 | B20: RUA PROJETADA 2 | C20: ='Planilha Orçamentária SEM Des'!I19 -> 288111.08 | D20: 0.5 | E20: 0.5 | R20: =SUM(D20:Q20) -> 1
D21: =IF(D20>0,ROUND(C20*D20,2),"") -> 144055.54 | E21: =IF(E20>0,IF(AND(SUM(D20:E20)=1,R20=1),C20-SUM(D21:D21),ROUND(C20*E20,2)),"") -> 144055.54 | F21: =IF(F20>0,IF(AND(SUM(D20:F20)=1,R20=1),C20-SUM(D21:E21),ROUND(C20*F20,2)),"") | G21: =IF(G20>0,IF(AND(SUM(D20:G20)=1,R20=1),C20-SUM(D21:F21),ROUND(C20*G20,2)),"") | H21: =IF(H20>0,IF(AND(SUM(D20:H20)=1,R20=1),C20-SUM(D21:G21),ROUND(C20*H20,2)),"") | J21: =IF(J20>0,IF(AND(SUM(D20:J20)=1,R20=1),C20-SUM(D21:I21),ROUND(C20*J20,2)),"") | R21: =SUM(D21:Q21) -> 288111.08
A22: 4 | B22: SÍTIO CAPAU | C22: =SUM(C24:C31) -> 1079392.5 | E22: =E23/C22 -> 0.099999986 | F22: =F23/C22 -> 0.40000001 | G22: =G23/C22 -> 0.5 | R22: =SUM(D22:Q22) -> 1
E23: =SUM(E25,E27,E29,E31)*1 -> 107939.24 | F23: =SUM(F25,F27,F29,F31)*1 -> 431757.03 | G23: =SUM(G25,G27,G29,G31)*1 -> 539696.28 | R23: =SUM(D23:Q23) -> 1079392.6
A24: 4.1 | B24: RUA PROJETADA 1 | C24: ='Planilha Orçamentária SEM Des'!I26 -> 512130.84 | E24: 0.1 | F24: 0.4 | G24: 0.5 | R24: =SUM(D24:Q24) -> 1
D25: =IF(D24>0,ROUND(C24*D24,2),"") | E25: =IF(E24>0,IF(AND(SUM(D24:E24)=1,R24=1),C24-SUM(D25:D25),ROUND(C24*E24,2)),"") -> 51213.08 | F25: =IF(F24>0,IF(AND(SUM(D24:F24)=1,Q24=1),C24-SUM(D25:E25),ROUND(C24*F24,2)),"") -> 204852.34 | G25: =IF(G24>0,IF(AND(SUM(D24:G24)=1,R24=1),C24-SUM(D25:F25),ROUND(C24*G24,2)),"") -> 256065.42 | R25: =SUM(D25:Q25) -> 512130.84
A26: 4.2 | B26: RUA PROJETADA 2 | C26: ='Planilha Orçamentária SEM Des'!I32 -> 154838.23 | E26: 0.1 | F26: 0.4 | G26: 0.5 | R26: =SUM(D26:Q26) -> 1
D27: =IF(D26>0,ROUND(C26*D26,2),"") | E27: =IF(E26>0,IF(AND(SUM(D26:E26)=1,R26=1),C26-SUM(D27:D27),ROUND(C26*E26,2)),"") -> 15483.82 | F27: =IF(F26>0,IF(AND(SUM(D26:F26)=1,Q26=1),C26-SUM(D27:E27),ROUND(C26*F26,2)),"") -> 61935.29 | G27: =IF(G26>0,IF(AND(SUM(D26:G26)=1,R26=1),C26-SUM(D27:F27),ROUND(C26*G26,2)),"") -> 77419.12 | R27: =SUM(D27:Q27) -> 154838.23
A28: 4.3 | B28: RUA PROJETADA 3 | C28: ='Planilha Orçamentária SEM Des'!I38 -> 47063.74 | E28: 0.1 | F28: 0.4 | G28: 0.5 | R28: =SUM(D28:Q28) -> 1
E29: =IF(E28>0,IF(AND(SUM(D28:E28)=1,R28=1),C28-SUM(D29:D29),ROUND(C28*E28,2)),"") -> 4706.37 | F29: =IF(F28>0,IF(AND(SUM(D28:F28)=1,Q28=1),C28-SUM(D29:E29),ROUND(C28*F28,2)),"") -> 18825.5 | G29: =IF(G28>0,IF(AND(SUM(D28:G28)=1,R28=1),C28-SUM(D29:F29),ROUND(C28*G28,2)),"") -> 23531.87 | R29: =SUM(D29:Q29) -> 47063.74
A30: 4.4 | B30: RUA PROJETADA 4 | C30: ='Planilha Orçamentária SEM Des'!I44 -> 365359.74 | E30: 0.1 | F30: 0.4 | G30: 0.5 | R30: =SUM(D30:Q30) -> 1
E31: =IF(E30>0,IF(AND(SUM(D30:E30)=1,R30=1),C30-SUM(D31:D31),ROUND(C30*E30,2)),"") -> 36535.97 | F31: =IF(F30>0,IF(AND(SUM(D30:F30)=1,Q30=1),C30-SUM(D31:E31),ROUND(C30*F30,2)),"") -> 146143.9 | G31: =IF(G30>0,IF(AND(SUM(D30:G30)=1,R30=1),C30-SUM(D31:F31),ROUND(C30*G30,2)),"") -> 182679.87 | R31: =SUM(D31:Q31) -> 365359.74
A32: 5 | B32: SÍTIO OLHO D'AGUA CERCADO | C32: =SUM(C34:C35) -> 756323.61 | H32: =H33/C32 -> 0.60000001 | I32: =I33/C32 -> 0 | J32: =J33/C32 -> 0.39999999 | R32: =SUM(D32:Q32) -> 1
H33: =SUM(H35) -> 453794.17 | J33: =SUM(J35) -> 302529.44 | R33: =SUM(D33:Q33) -> 756323.61
A34: 5.1 | B34: RUA PROJETADA 1 | C34: ='Planilha Orçamentária SEM Des'!I51 -> 756323.61 | H34: 0.6 | J34: 0.4 | R34: =SUM(D34:Q34) -> 1
D35: =IF(D34>0,ROUND(C34*D34,2),"") | E35: =IF(E34>0,IF(AND(SUM(D34:E34)=1,R34=1),C34-SUM(D35:D35),ROUND(C34*E34,2)),"") | H35: =IF(H34>0,IF(AND(SUM(D34:H34)=1,R34=1),C34-SUM(D35:G35),ROUND(C34*H34,2)),"") -> 453794.17 | I35: =IF(I34>0,IF(AND(SUM(D34:I34)=1,R34=1),C34-SUM(D35:H35),ROUND(C34*I34,2)),"") | J35: =IF(J34>0,IF(AND(SUM(D34:J34)=1,R34=1),C34-SUM(D35:I35),ROUND(C34*J34,2)),"") -> 302529.44 | R35: =SUM(D35:Q35) -> 756323.61
A36: 6 | B36: SÍTIO SERROTE | C36: =SUM(C38:C39) -> 445362.23 | J36: =J37/C36 -> 0.4 | K36: =K37/C36 -> 0.6 | R36: =SUM(D36:Q36) -> 1
J37: =SUM(J39)*1 -> 178144.89 | K37: =SUM(K39)*1 -> 267217.34 | R37: =SUM(D37:Q37) -> 445362.23
A38: 6.1 | B38: RUA PROJETADA 1 | C38: ='Planilha Orçamentária SEM Des'!I58 -> 445362.23 | J38: 0.4 | K38: 0.6 | R38: =SUM(D38:Q38) -> 1
D39: =IF(D38>0,ROUND(C38*D38,2),"") | E39: =IF(E38>0,IF(AND(SUM(D38:E38)=1,R38=1),C38-SUM(D39:D39),ROUND(C38*E38,2)),"") | F39: =IF(F38>0,IF(AND(SUM(D38:F38)=1,R38=1),C38-SUM(D39:E39),ROUND(C38*F38,2)),"") | G39: =IF(G38>0,IF(AND(SUM(D38:G38)=1,R38=1),C38-SUM(D39:F39),ROUND(C38*G38,2)),"") | J39: =IF(J38>0,IF(AND(SUM(D38:J38)=1,R38=1),C38-SUM(D39:I39),ROUND(C38*J38,2)),"") -> 178144.89 | K39: =IF(K38>0,IF(AND(SUM(D38:K38)=1,S38=1),C38-SUM(D39:J39),ROUND(C38*K38,2)),"") -> 267217.34 | R39: =SUM(D39:Q39) -> 445362.23
A40: 7 | B40: POVOADO BREJINHOS | C40: =SUM(C42:C45) -> 1683536.2 | K40: =K41/C40 -> 0.099999999 | L40: =L41/C40 -> 0.3 | M40: =M41/C40 -> 0.3 | N40: =N41/C40 -> 0.3 | R40: =SUM(D40:Q40) -> 1
...

Sheet Curva ABC
D1: SECRETARIA DE DESENVOLVIMENTO URBANO E HABITAÇÃO
D2: PAVIMENTAÇÃO EM PARALELEPÍPEDO EM DIVERSAS RUAS DO MUNICÍPIO DE JOÃO ALFREDO - PE
A3: MUNICÍPIO: | B3: JOÃO ALFREDO | C3: LOCAL: | D3: ZONA RURAL, MUNICÍPIO, JOÃO ALFREDO - PE
A4: ESTADO: | B4: PERNAMBUCO | C4: DATA BASE: | D4: SINAPI - 09/2025 - PERNAMBUCO - SEM DESONERAÇÃO, SICRO PE 07/2025
A5: DATA DE ELABORAÇÃO: | B5: 46001 | C5: BDI(S) ADOTADO(S): | D5: BDI - ITENS GERAIS: 23,38 % SEM DESONERAÇÃO
A6: CURVA ABC
A7: CÓDIGO | B7: DESCRIÇÃO | C7: FONTE | D7: TIPO | E7: UNIDADE | F7: QUANTIDADE | G7: PREÇO UNITÁRIO | H7: PREÇO TOTAL | I7: % | J7: ACUMUL. % | K7: CL
A8: CP02 | B8: EXECUÇÃO DE PAVIMENTO EM PARALELEPÍPEDOS, SOBRE COLCHÃO DE AREIA GROSSA DE 10 CM, REJUNTAMENTO COM ARGAMASSA TRAÇO 1:3 (CIMENTO E AREIA) - COEFICIENTES OBTIDOS NA TABELA: SINAPI 101169 (SETEMBRO/2025) RETIRAMOS O ROLO COMPACTADOR VIBRATÓRIO QUE NÃO SERÃO EXECUTADOS NO CASO | C8: COMPOSIÇÃO | D8: Serviço | E8: M2 | F8: =SUM('Planilha Orçamentária SEM Des'!E16,'Planilha Orçamentária SEM Des'!E22,'Planilha Orçamentária SEM Des'!E29,'Planilha Orçamentária SEM Des'!E35,'Planilha Orçamentária SEM Des'!E41,'Planilha Orçamentária SEM Des'!E47,'Planilha Orçamentária SEM Des'!E54,'Planilha Orçamentária SEM Des'!E61,'Planilha Orçamentária SEM Des'!E68,'Planilha Orçamentária SEM Des'!E74,'Planilha Orçamentária SEM Des'!E81,'Planilha Orçamentária SEM Des'!E87) -> 47039.01 | G8: ='Planilha Orçamentária SEM Des'!H16 -> 99.36 | H8: =ROUND(F8*G8,2)+0.01 -> 4673796 | I8: =H8 / VALOR_TOTAL * 100 -> 79.393754 | J8: =I8 -> 79.393754 | K8: =IF(J8<=80,"A",IF(J8<=95,"B","C")) -> A | L8: =H8/I13 -> 0.79393754 | M8: =F8/2 -> 23519.505
A9: 94273 | B9: ASSENTAMENTO DE GUIA (MEIO-FIO) EM TRECHO RETO, CONFECCIONADA EM CONCRETO PRÉ-FABRICADO, DIMENSÕES 100X15X13X30 CM (COMPRIMENTO X BASE INFERIOR X BASE SUPERIOR X ALTURA). AF_01/2024 (M) | C9: SINAPI | D9: Serviço | E9: M | F9: =SUM('Planilha Orçamentária SEM Des'!E15,'Planilha Orçamentária SEM Des'!E21,'Planilha Orçamentária SEM Des'!E28,'Planilha Orçamentária SEM Des'!E34,'Planilha Orçamentária SEM Des'!E40,'Planilha Orçamentária SEM Des'!E46,'Planilha Orçamentária SEM Des'!E53,'Planilha Orçamentária SEM Des'!E60,'Planilha Orçamentária SEM Des'!E67,'Planilha Orçamentária SEM Des'!E73,'Planilha Orçamentária SEM Des'!E80,'Planilha Orçamentária SEM Des'!E86) -> 16169.77 | G9: ='Planilha Orçamentária SEM Des'!H15 -> 65.24 | H9: =ROUND(F9*G9,2) -> 1054915.8 | I9: =H9 / VALOR_TOTAL * 100 -> 17.91985 | J9: =I9+J8 -> 97.313604 | K9: =IF(J9<=80,"A",IF(J9<=95,"B","C")) -> C | L9: =H9/I13 -> 0.1791985 | M9: =F9/2 -> 8084.885
A10: CP01 | B10: ADMINISTRAÇÃO LOCAL DA OBRA - REFERÊNCIA DA TABELA: SINAPI 93572 / 93565 (SETEMBRO/2025) | C10: COMPOSIÇÃO | D10: Serviço | E10: UN | F10: ='Planilha Orçamentária SEM Des'!E9 -> 1 | G10: ='Planilha Orçamentária SEM Des'!H9 -> 129722.93 | H10: =ROUND(F10*G10,2) -> 129722.93 | I10: =H10 / VALOR_TOTAL * 100 -> 2.2036029 | J10: =I10+J9 -> 99.517207 | K10: =IF(J10<=80,"A",IF(J10<=95,"B","C")) -> C | L10: =H10/I13 -> 0.022036029
A11: CP03 | B11: ='Planilha Orçamentária SEM Des'!C18 -> COLOCAÇÃO DE PLACA DE IDENTIFICAÇÃO DE RUAS, TIPO TOTEM, COMPOSTO POR TUBO DE AÇO GALVANIZADO COM DIÂMETRO 2" E H=2,50M COM 2 PLACAS EM CHAPA DE AÇO, SENDO UMA COM DIMENSÕES DE 45,00 X 20,00 CM E UMA COM DIMENSÕES DE 45,00 X 45,00 CM, REVESTIDAS COM PELÍCULA RETROREFLETIVA, INCLUÍNDO O CHUMBAMENTO DO TUBO NO SOLO COM CONCRETO SIMPLES FCK=25MPA, COM FORNECIMENTO DE MATERIAIS (UN) | C11: COMPOSIÇÃO | D11: Serviço | E11: UN | F11: =SUM('Planilha Orçamentária SEM Des'!E18,'Planilha Orçamentária SEM Des'!E24,'Planilha Orçamentária SEM Des'!E31,'Planilha Orçamentária SEM Des'!E37,'Planilha Orçamentária SEM Des'!E43,'Planilha Orçamentária SEM Des'!E49,'Planilha Orçamentária SEM Des'!E56,'Planilha Orçamentária SEM Des'!E63,'Planilha Orçamentária SEM Des'!E70,'Planilha Orçamentária SEM Des'!E76,'Planilha Orçamentária SEM Des'!E83,'Planilha Orçamentária SEM Des'!E89) -> 24 | G11: ='Planilha Orçamentária SEM Des'!H18 -> 1048.72 | H11: =ROUND(F11*G11,2) -> 25169.28 | I11: =H11 / VALOR_TOTAL * 100 -> 0.42755045 | J11: =I11+J10 -> 99.944757 | K11: =IF(J11<=80,"A",IF(J11<=95,"B","C")) -> C | L11: =H11/I13 -> 0.0042755045
A12: 103689 | B12: FORNECIMENTO E INSTALAÇÃO DE PLACA DE OBRA COM CHAPA GALVANIZADA E ESTRUTURA DE MADEIRA. AF_03/2022_PS | C12: SINAPI | D12: Serviço | E12: M2 | F12: ='Planilha Orçamentária SEM Des'!E11 -> 5.63 | G12: ='Planilha Orçamentária SEM Des'!H11 -> 577.63 | H12: =ROUND(F12*G12,2) -> 3252.06 | I12: =H12 / VALOR_TOTAL * 100 -> 0.05524273 | J12: =I12+J11 -> 100 | K12: =IF(J12<=80,"A",IF(J12<=95,"B","C")) -> C | L12: =H12/I13 -> 0.0005524273
G13: ="Subtotal até "&TRUNC(J12,2)&"%" -> Subtotal até 100% | I13: =SUM(H8:H12) -> 5886856.1
G14: Outros: | I14: =I15-I13 -> 0
G15: Valor total do Orçamento: | I15: ='Planilha Orçamentária SEM Des'!I90 -> 5886856.1

Sheet Encargos Sociais 
D1: SECRETARIA DE DESENVOLVIMENTO URBANO E HABITAÇÃO
D2: PAVIMENTAÇÃO EM PARALELEPÍPEDO EM DIVERSAS RUAS DO MUNICÍPIO DE JOÃO ALFREDO - PE
A3: MUNICÍPIO: | B3: JOÃO ALFREDO | D3: LOCAL: | E3: ZONA RURAL, MUNICÍPIO, JOÃO ALFREDO - PE
A4: ESTADO: | B4: PERNAMBUCO | D4: DATA BASE: | E4: SINAPI - 09/2025 - PERNAMBUCO - SEM DESONERAÇÃO, SICRO PE 07/2025
A5: DATA DE ELABORAÇÃO: | B5: 46001 | D5: BDI(S) ADOTADO(S): | E5: BDI - ITENS GERAIS: 23,38 % SEM DESONERAÇÃO
A7: ENCARGOS SOCIAIS SOBRE A MÃO DE OBRA
A8: CÓDIGO | B8: DESCRIÇÃO | C8: COM DESONERAÇÃO | E8: SEM DESONERAÇÃO
C9: HORISTA % | D9: MENSALISTA % | E9: HORISTA % | F9: MENSALISTA %
A10: GRUPO A
A11: A1 | B11: INSS | C11: 0.05 | D11: 0.05 | E11: 0.2 | F11: 0.2
A12: A2 | B12: SESI | C12: 0.015 | D12: 0.015 | E12: 0.015 | F12: 0.015
A13: A3 | B13: SENAI | C13: 0.01 | D13: 0.01 | E13: 0.01 | F13: 0.01
A14: A4 | B14: INCRA | C14: 0.002 | D14: 0.002 | E14: 0.002 | F14: 0.002
A15: A5 | B15: SEBRAE | C15: 0.006 | D15: 0.006 | E15: 0.006 | F15: 0.006
A16: A6 | B16: Salário Educação | C16: 0.025 | D16: 0.025 | E16: 0.025 | F16: 0.025
A17: A7 | B17: Seguro Contra Acidentes Trabalho | C17: 0.03 | D17: 0.03 | E17: 0.03 | F17: 0.03
A18: A8 | B18: FGTS | C18: 0.08 | D18: 0.08 | E18: 0.08 | F18: 0.08
A19: A9 | B19: SECONCI | C19: 0 | D19: 0 | E19: 0 | F19: 0
A20: A | B20: Total | C20: =SUM(C11:C19) -> 0.218 | D20: =SUM(D11:D19) -> 0.218 | E20: =SUM(E11:E19) -> 0.368 | F20: =SUM(F11:F19) -> 0.368
A21: GRUPO B
A22: B1 | B22: Repouso Semanal Remunerado | C22: 0.1801 | D22: Não incide | E22: 0.1801 | F22: Não incide
A23: B2 | B23: Feriados | C23: 0.0432 | D23: Não incide | E23: 0.0432 | F23: Não incide
A24: B3 | B24: Auxílio-Enfermidade | C24: 0.0086 | D24: 0.0065 | E24: 0.0086 | F24: 0.0065
A25: B4 | B25: 13º Salário | C25: 0.1097 | D25: 0.0833 | E25: 0.1097 | F25: 0.0833
A26: B5 | B26: Licença Paternidade | C26: 0.0007 | D26: 0.0005 | E26: 0.0007 | F26: 0.0005
A27: B6 | B27: Faltas Justificadas | C27: 0.0073 | D27: 0.0056 | E27: 0.0073 | F27: 0.0056
A28: B7 | B28: Dias de Chuvas | C28: 0.0196 | D28: Não incide | E28: 0.0196 | F28: Não incide
A29: B8 | B29: Auxilio Acidente de Trabalho | C29: 0.001 | D29: 0.0007 | E29: 0.001 | F29: 0.0007
A30: B9 | B30: Férias Gozadas | C30: 0.0995 | D30: 0.0756 | E30: 0.0995 | F30: 0.0756
A31: B10 | B31: Salário Maternidade | C31: 0.0003 | D31: 0.0003 | E31: 0.0003 | F31: 0.0003
A32: B | B32: Total | C32: =SUM(C22:C31) -> 0.47 | D32: =SUM(D22:D31) -> 0.1725 | E32: =SUM(E22:E31) -> 0.47 | F32: =SUM(F22:F31) -> 0.1725
A33: GRUPO C
A34: C1 | B34: Aviso Prévio Indenizado | C34: 0.0477 | D34: 0.0363 | E34: 0.0477 | F34: 0.0363
A35: C2 | B35: Aviso Prévio Trabalhado | C35: 0.0011 | D35: 0.0009 | E35: 0.0011 | F35: 0.0009
A36: C3 | B36: Férias Indenizadas+1/3 | C36: 0.0398 | D36: 0.0303 | E36: 0.0398 | F36: 0.0303
A37: C4 | B37: Depósito Rescisão Sem Justa Causa | C37: 0.0306 | D37: 0.0233 | E37: 0.0306 | F37: 0.0233
A38: C5 | B38: Indenização Adicional | C38: 0.004 | D38: 0.0031 | E38: 0.004 | F38: 0.0031
A39: C | B39: Total | C39: =SUM(C34:C38) -> 0.1232 | D39: =SUM(D34:D38) -> 0.0939 | E39: =SUM(E34:E38) -> 0.1232 | F39: =SUM(F34:F38) -> 0.0939
A40: GRUPO D
A41: D1 | B41: Reincidência de A sobre B | C41: 0.097 | D41: 0.0334 | E41: 0.173 | F41: 0.0635
...
