Workbook
Name \F: #REF!
Name \I: #REF!
Name \R: #REF!
Name \S: [1]COMPOS1!#REF!
Name _____________SL6: NA()
Name ____________SL6: NA()
Name ___________SL6: NA()
Name __________SL6: NA()
Name _________SL6: NA()
Name ________SL6: NA()
Name _______SL6: NA()
Name ______SL6: NA()
Name _____SL6: NA()
Name ____SL6: NA()
Name ____sub1: #REF!
Name ____sub3: #REF!
Name ___SL6: NA()
Name ___sub2: #REF!
Name ___sub4: #REF!
Name ___tq200: '[2]Caracteristicas 1'!#REF!
Name ___tq300: '[2]Caracteristicas 1'!#REF!
Name ___xlfn_IFNA: #N/A
Name __RET1: [3]Regula!$J$36
Name __SL6: NA()
Name __tq200: '[4]Caracteristicas 1'!#REF!
Name __tq201: '[2]Caracteristicas 1'!#REF!
Name __tq202: #REF!
Name __tq300: '[4]Caracteristicas 1'!#REF!
Name __xlfn_IFNA: #N/A
Name __xlnm.Print_Area_1: #REF!
Name _0: NA()
Name _01_09_96: #REF!
Name _1Excel_BuiltIn__FilterDatabase_3_1: "#N/A"
Name _2Excel_BuiltIn__FilterDatabase_3_1_1: "#N/A"
Name _2Excel_BuiltIn_Print_Area_1_1: #REF!
Name _3Excel_BuiltIn_Print_Area_5_1_1: NA()
Name _4Excel_BuiltIn_Print_Area_5_1_1_1: NA()
Name _ANA1: [5]Analítico01!$A$3:$H$3637
Name _ANA2: [6]Analítico02!$A$3:$I$5338
Name _e: NA()
Name _PL1: #REF!
Name _RET1: [3]Regula!$J$36
Name _sds2: #REF!
Name _sds3: '[7]SIIG 30'!$A$6:$E$4734
Name _sds5: #REF!
Name _sds6: #REF!
Name _sds7: #REF!,#REF!,#REF!
Name _SL6: NA()
Name _tq200: '[8]Caracteristicas 1'!#REF!
Name _tq201: '[9]Caracteristicas 1'!#REF!
Name _tq202: #REF!
Name _tq300: '[8]Caracteristicas 1'!#REF!
Name a: #REF!
Name a000: #REF!
Name AA: [0]!AA
Name aaaa: '[10]Caracteristicas 1'!#REF!
Name AAAAA: [0]!AAAAA
Name ABC: #REF!
Name ABRE_COLUNAS: NA()
Name ACERTA_TITULOS: NA()

Sheet Orçamento Sintético
A1: PREFEITURA MUNICIPAL DO CABO DE SANTO AGOSTINHO SECRETARIA MUNICIPAL DE EDUCAÇÃO - SME SECRETARIA EXECUTIVA DE PLANEJAMENTO, COORDENAÇÃO E GESTÃO DEMOCRÁTICA SUPERINTENDÊNCIA DE PLANEJAMENTO E INFORMAÇÃO
A4: OBJETO: Contratação especializada de manutenção e reforma predial das escolas da Rede Municipal da Prefeitura do Cabo de Santo Agostinho/PE. | H4: Referências/Bancos:
A7: LOCALIZAÇÃO LOTE 3: Alto Bela Vista, Centro, Charnequinha, Cohab, Cruzeiro, Enseada dos Corais, Gaibú, Garapú, Itapuama, Malaquias, Nazaré, Pirapama, Rosário, São Francisco, São Judas Tadeu, Sapucaia, Suape, Torrinha, Vila Claudete e Vila Dr. Manoel Clementino. | H7: SINAPI - 03/2026 - Pernambuco - Sem Desoneração SINAPI - 12/2025 - Pernambuco - Sem Desoneração SBC - 10/2025 - Pernambuco ORSE - 02/2026 - Sergipe ORSE - 07/2025 - Sergipe SEINFRA - 028 - Ceará CPOS/CDHU - 09/2025 - São Paulo FDE - 07/2025 - São Paulo EMBASA - 06/2025 - sem_encargos COMPESA - 07/2024 - Pernambuco
A10: PLANILHA ORÇAMENTÁRIA SINTÉTICA | H10: BDI: | K10: 0.2667
H11: VALOR TOTAL: | K11: =J400 -> 11220605
A12: Item | B12: Código | C12: Banco | D12: Descrição | E12: Und | F12: Quant. | G12: Valor Unit | H12: Valor Unit com BDI | I12: Total sem BDI | J12: Total com BDI | K12: Peso (%)
A13: 1 | D13: SERVIÇOS PRELIMINARES | I13: =SUM(I14:I58) -> 362938.48 | J13: =SUM(J14:J58) -> 459610.49 | K13: =J13/ $J$400 -> 0.040961293
A14: 1.1 | B14: 97624 | C14: SINAPI | D14: DEMOLIÇÃO DE ALVENARIA DE TIJOLO MACIÇO, DE FORMA MANUAL, SEM REAPROVEITAMENTO. AF_09/2023 | E14: m³ | F14: 35.1 | G14: 120.05 | H14: =(TRUNC(G14 * $K$10,2) + G14) -> 152.06 | I14: =G14*F14 -> 4213.755 | J14: =TRUNC(F14 * H14,2) -> 5337.3 | K14: =J14 / J400 -> 0.00047566954
A15: 1.2 | B15: 8038 | C15: ORSE | D15: Demolição de alvenaria de elementos vazados (cobogó), sem reaproveitamento | E15: m³ | F15: 31.87 | G15: 42.71 | H15: =(TRUNC(G15 * $K$10,2) + G15) -> 54.1 | I15: =G15*F15 -> 1361.1677 | J15: =TRUNC(F15 * H15,2) -> 1724.16 | K15: =J15 / J400 -> 0.00015366016
A16: 1.3 | B16: 97626 | C16: SINAPI | D16: DEMOLIÇÃO DE PILARES E VIGAS EM CONCRETO ARMADO, DE FORMA MANUAL, SEM REAPROVEITAMENTO. AF_09/2023 | E16: m³ | F16: 13.5 | G16: 641.72 | H16: =(TRUNC(G16 * $K$10,2) + G16) -> 812.86 | I16: =G16*F16 -> 8663.22 | J16: =TRUNC(F16 * H16,2) -> 10973.61 | K16: =J16 / J400 -> 0.00097798737
A17: 1.4 | B17: 13 | C17: ORSE | D17: Demolição de concreto manualmente | E17: m³ | F17: 27 | G17: 285.68 | H17: =(TRUNC(G17 * $K$10,2) + G17) -> 361.87 | I17: =G17*F17 -> 7713.36 | J17: =TRUNC(F17 * H17,2) -> 9770.49 | K17: =J17 / J400 -> 0.0008707632
A18: 1.5 | B18: 10.03.04U | C18: COMPESA | D18: DEMOLIÇÃO DE PISO CIMENTADO SOBRE LASTRO DE CONCRETO. | E18: m² | F18: 270 | G18: 35.18 | H18: =(TRUNC(G18 * $K$10,2) + G18) -> 44.56 | I18: =G18*F18 -> 9498.6 | J18: =TRUNC(F18 * H18,2) -> 12031.2 | K18: =J18 / J400 -> 0.0010722416
A19: 1.6 | B19: 10.03.03U | C19: COMPESA | D19: DEMOLIÇÃO DE PISO CIMENTADO. | E19: m² | F19: 270 | G19: 17.59 | H19: =(TRUNC(G19 * $K$10,2) + G19) -> 22.28 | I19: =G19*F19 -> 4749.3 | J19: =TRUNC(F19 * H19,2) -> 6015.6 | K19: =J19 / J400 -> 0.00053612082
A20: 1.7 | B20: 3258 | C20: ORSE | D20: Demolição de piso em lajota hexagonal | E20: m² | F20: 81 | G20: 14.26 | H20: =(TRUNC(G20 * $K$10,2) + G20) -> 18.06 | I20: =G20*F20 -> 1155.06 | J20: =TRUNC(F20 * H20,2) -> 1462.86 | K20: =J20 / J400 -> 0.00013037265
A21: 1.8 | B21: 97635 | C21: SINAPI | D21: REMOÇÃO DE PISO DE BLOCO INTERTRAVADO OU DE PEDRA PORTUGUESA, DE FORMA MANUAL, COM REAPROVEITAMENTO. AF_09/2023 | E21: m² | F21: 81 | G21: 19.44 | H21: =(TRUNC(G21 * $K$10,2) + G21) -> 24.62 | I21: =G21*F21 -> 1574.64 | J21: =TRUNC(F21 * H21,2) -> 1994.22 | K21: =J21 / J400 -> 0.00017772838
A22: 1.9 | B22: 10.01.10U | C22: COMPESA | D22: DEMOLIÇÃO DE REVESTIMENTO CERÂMICO OU AZULEJO. (EM PROCESSO DE DESCONTINUAÇÃO). | E22: m² | F22: 900 | G22: 27.07 | H22: =(TRUNC(G22 * $K$10,2) + G22) -> 34.28 | I22: =G22*F22 -> 24363 | J22: =TRUNC(F22 * H22,2) -> 30852 | K22: =J22 / J400 -> 0.0027495843
A23: 1.10 | B23: 10.01.07U | C23: COMPESA | D23: DEMOLIÇÃO DE REVESTIMENTO EM ARGAMASSA DE CAL, CIMENTO OU MISTA. (EM PROCESSO DE DESCONTINUAÇÃO). | E23: m² | F23: 900 | G23: 13.53 | H23: =(TRUNC(G23 * $K$10,2) + G23) -> 17.13 | I23: =G23*F23 -> 12177 | J23: =TRUNC(F23 * H23,2) -> 15417 | K23: =J23 / J400 -> 0.0013739901
A24: 1.11 | B24: 12 | C24: ORSE | D24: Demolição de forros | E24: m² | F24: 900 | G24: 8.77 | H24: =(TRUNC(G24 * $K$10,2) + G24) -> 11.1 | I24: =G24*F24 -> 7893 | J24: =TRUNC(F24 * H24,2) -> 9990 | K24: =J24 / J400 -> 0.00089032632
A25: 1.12 | B25: 72238 | C25: SINAPI | D25: RETIRADA DE FORRO EM REGUAS DE PVC, INCLUSIVE RETIRADA DE PERFIS | E25: m² | F25: 900 | G25: 10.5 | H25: =(TRUNC(G25 * $K$10,2) + G25) -> 13.3 | I25: =G25*F25 -> 9450 | J25: =TRUNC(F25 * H25,2) -> 11970 | K25: =J25 / J400 -> 0.0010667874
A26: 1.13 | B26: 89263 | C26: SINAPI | D26: DEMOLICAO DE ESTRUTURA METALICA SEM REMOCAO | E26: m² | F26: 500 | G26: 45.29 | H26: =(TRUNC(G26 * $K$10,2) + G26) -> 57.36 | I26: =G26*F26 -> 22645 | J26: =TRUNC(F26 * H26,2) -> 28680 | K26: =J26 / J400 -> 0.0025560119
A27: 1.14 | B27: 5005 | C27: ORSE | D27: Demolição de madeiramento de telhado de fibro-cimento 4mm e reassentamento para telha de fibro-cimento 8mm | E27: m² | F27: 900 | G27: 43.9 | H27: =(TRUNC(G27 * $K$10,2) + G27) -> 55.6 | I27: =G27*F27 -> 39510 | J27: =TRUNC(F27 * H27,2) -> 50040 | K27: =J27 / J400 -> 0.0044596526
A28: 1.15 | B28: 30 | C28: ORSE | D28: Demolição de madeiramento em coberturas com telhas cerâmicas | E28: m² | F28: 1000 | G28: 28.58 | H28: =(TRUNC(G28 * $K$10,2) + G28) -> 36.2 | I28: =G28*F28 -> 28580 | J28: =TRUNC(F28 * H28,2) -> 36200 | K28: =J28 / J400 -> 0.0032262075
A29: 1.16 | B29: 97652 | C29: SINAPI | D29: REMOÇÃO DE TESOURAS DE MADEIRA, COM VÃO MAIOR OU IGUAL A 8M, DE FORMA MANUAL, SEM REAPROVEITAMENTO. AF_09/2023 | E29: UN | F29: 13 | G29: 210.94 | H29: =(TRUNC(G29 * $K$10,2) + G29) -> 267.19 | I29: =G29*F29 -> 2742.22 | J29: =TRUNC(F29 * H29,2) -> 3473.47 | K29: =J29 / J400 -> 0.00030956174
A30: 1.17 | B30: 97650 | C30: SINAPI | D30: REMOÇÃO DE TRAMA DE MADEIRA PARA COBERTURA, DE FORMA MANUAL, SEM REAPROVEITAMENTO. AF_09/2023 | E30: m² | F30: 500 | G30: 8.54 | H30: =(TRUNC(G30 * $K$10,2) + G30) -> 10.81 | I30: =G30*F30 -> 4270 | J30: =TRUNC(F30 * H30,2) -> 5405 | K30: =J30 / J400 -> 0.00048170308
A31: 1.18 | B31: 10.10.02U | C31: COMPESA | D31: RETIRADA DE TELHAS CERÂMICAS OU DE VIDRO (EM PROCESSO DE DESCONTINUAÇÃO). | E31: m² | F31: 1600 | G31: 12.04 | H31: =(TRUNC(G31 * $K$10,2) + G31) -> 15.25 | I31: =G31*F31 -> 19264 | J31: =TRUNC(F31 * H31,2) -> 24400 | K31: =J31 / J400 -> 0.0021745708
A32: 1.19 | B32: 7218 | C32: ORSE | D32: Remoção de impermeabilização com manta asfaltica | E32: m² | F32: 270 | G32: 7.48 | H32: =(TRUNC(G32 * $K$10,2) + G32) -> 9.47 | I32: =G32*F32 -> 2019.6 | J32: =TRUNC(F32 * H32,2) -> 2556.9 | K32: =J32 / J400 -> 0.00022787541
A33: 1.20 | B33: PRE.0021 - 03.UND | C33: Próprio | D33: RETIRADA DE ESQUADRIAS DE MADEIRA OU METALICAS | E33: m² | F33: 324 | G33: 20.42 | H33: =(TRUNC(G33 * $K$10,2) + G33) -> 25.86 | I33: =G33*F33 -> 6616.08 | J33: =TRUNC(F33 * H33,2) -> 8378.64 | K33: =J33 / J400 -> 0.00074671909
A34: 1.21 | B34: 97645 | C34: SINAPI | D34: REMOÇÃO DE JANELAS, DE FORMA MANUAL, SEM REAPROVEITAMENTO. AF_09/2023 | E34: m² | F34: 270 | G34: 27.47 | H34: =(TRUNC(G34 * $K$10,2) + G34) -> 34.79 | I34: =G34*F34 -> 7416.9 | J34: =TRUNC(F34 * H34,2) -> 9393.3 | K34: =J34 / J400 -> 0.00083714737
A35: 1.22 | B35: 7725 | C35: ORSE | D35: Remoção de pintura látex (raspagem e/ou lixamento e/ou escovação) | E35: m² | F35: 1600 | G35: 7.8 | H35: =(TRUNC(G35 * $K$10,2) + G35) -> 9.88 | I35: =G35*F35 -> 12480 | J35: =TRUNC(F35 * H35,2) -> 15808 | K35: =J35 / J400 -> 0.0014088367
A36: 1.23 | B36: 85421 | C36: SINAPI | D36: REMOCAO DE VIDRO COMUM | E36: m² | F36: 250 | G36: 16.94 | H36: =(TRUNC(G36 * $K$10,2) + G36) -> 21.45 | I36: =G36*F36 -> 4235 | J36: =TRUNC(F36 * H36,2) -> 5362.5 | K36: =J36 / J400 -> 0.0004779154
A37: 1.24 | B37: 97665 | C37: SINAPI | D37: REMOÇÃO DE LUMINÁRIAS, DE FORMA MANUAL, SEM REAPROVEITAMENTO. AF_09/2023 | E37: UN | F37: 800 | G37: 2.02 | H37: =(TRUNC(G37 * $K$10,2) + G37) -> 2.55 | I37: =G37*F37 -> 1616 | J37: =TRUNC(F37 * H37,2) -> 2040 | K37: =J37 / J400 -> 0.00018180838
A38: 1.25 | B38: 85407 | C38: SINAPI | D38: REMOCAO DE FIACAO ELETRICA | E38: M | F38: 540 | G38: 14.51 | H38: =(TRUNC(G38 * $K$10,2) + G38) -> 18.37 | I38: =G38*F38 -> 7835.4 | J38: =TRUNC(F38 * H38,2) -> 9919.8 | K38: =J38 / J400 -> 0.00088406997
A39: 1.26 | B39: 97660 | C39: SINAPI | D39: REMOÇÃO DE INTERRUPTORES/TOMADAS ELÉTRICAS, DE FORMA MANUAL, SEM REAPROVEITAMENTO. AF_09/2023 | E39: UN | F39: 270 | G39: 0.75 | H39: =(TRUNC(G39 * $K$10,2) + G39) -> 0.95 | I39: =G39*F39 -> 202.5 | J39: =TRUNC(F39 * H39,2) -> 256.5 | K39: =J39 / J400 -> 2.285973e-05
A40: 1.27 | B40: 8387 | C40: ORSE | D40: Remoção de bancada de granito (ou marmore) | E40: m² | F40: 27 | G40: 23.19 | H40: =(TRUNC(G40 * $K$10,2) + G40) -> 29.37 | I40: =G40*F40 -> 626.13 | J40: =TRUNC(F40 * H40,2) -> 792.99 | K40: =J40 / J400 -> 7.0672659e-05
A41: 1.28 | B41: 97663 | C41: SINAPI | D41: REMOÇÃO DE LOUÇAS, DE FORMA MANUAL, SEM REAPROVEITAMENTO. AF_09/2023 | E41: UN | F41: 270 | G41: 14.19 | H41: =(TRUNC(G41 * $K$10,2) + G41) -> 17.97 | I41: =G41*F41 -> 3831.3 | J41: =TRUNC(F41 * H41,2) -> 4851.9 | K41: =J41 / J400 -> 0.00043240984
A42: 1.29 | B42: 97664 | C42: SINAPI | D42: REMOÇÃO DE ACESSÓRIOS, DE FORMA MANUAL, SEM REAPROVEITAMENTO. AF_09/2023 | E42: UN | F42: 270 | G42: 1.77 | H42: =(TRUNC(G42 * $K$10,2) + G42) -> 2.24 | I42: =G42*F42 -> 477.9 | J42: =TRUNC(F42 * H42,2) -> 604.8 | K42: =J42 / J400 -> 5.3900837e-05
A43: 1.30 | B43: 97662 | C43: SINAPI | D43: REMOÇÃO DE TUBULAÇÕES (TUBOS E CONEXÕES) DE ÁGUA FRIA, DE FORMA MANUAL, SEM REAPROVEITAMENTO. AF_09/2023 | E43: M | F43: 130.95 | G43: 0.57 | H43: =(TRUNC(G43 * $K$10,2) + G43) -> 0.72 | I43: =G43*F43 -> 74.6415 | J43: =TRUNC(F43 * H43,2) -> 94.28 | K43: =J43 / J400 -> 8.4023989e-06
A44: 1.31 | B44: 2476 | C44: ORSE | D44: Rasgos em alvenaria para passagem de tubulação diâm 1/2" a 1" | E44: m | F44: 200 | G44: 7.31 | H44: =(TRUNC(G44 * $K$10,2) + G44) -> 9.25 | I44: =G44*F44 -> 1462 | J44: =TRUNC(F44 * H44,2) -> 1850 | K44: =J44 / J400 -> 0.00016487524
A45: 1.32 | B45: 90446 | C45: SINAPI | D45: RASGO LINEAR MECANIZADO EM CONTRAPISO, PARA RAMAIS/ DISTRIBUIÇÃO DE INSTALAÇÕES HIDRÁULICAS, DIÂMETROS MAIORES QUE 75 MM E MENORES OU IGUAIS A 100 MM. AF_09/2023_PS | E45: M | F45: 54 | G45: 21.85 | H45: =(TRUNC(G45 * $K$10,2) + G45) -> 27.67 | I45: =G45*F45 -> 1179.9 | J45: =TRUNC(F45 * H45,2) -> 1494.18 | K45: =J45 / J400 -> 0.00013316394
A46: 1.33 | B46: 90443 | C46: SINAPI | D46: RASGO LINEAR MANUAL EM ALVENARIA, PARA RAMAIS/ DISTRIBUIÇÃO DE INSTALAÇÕES HIDRÁULICAS, DIÂMETROS MENORES OU IGUAIS A 40 MM. AF_09/2023 | E46: M | F46: 108 | G46: 8.54 | H46: =(TRUNC(G46 * $K$10,2) + G46) -> 10.81 | I46: =G46*F46 -> 922.32 | J46: =TRUNC(F46 * H46,2) -> 1167.48 | K46: =J46 / J400 -> 0.00010404786
...

Sheet Orçamento Analítico
D1: Obra | E1: Referências/Bancos
D2: MANUTENÇÃO DAS UNIDADES ESCOLARES DO CABO DE SANTO AGOSTINHO_LOTE 3_2026 | E2: SINAPI - 03/2026 - Pernambuco - Sem Desoneração SINAPI - 12/2025 - Pernambuco - Sem Desoneração SBC - 10/2025 - Pernambuco ORSE - 02/2026 - Sergipe ORSE - 07/2025 - Sergipe SEINFRA - 028 - Ceará CPOS/CDHU - 09/2025 - São Paulo FDE - 07/2025 - São Paulo EMBASA - 06/2025 - sem_encargos COMPESA - 07/2024 - Pernambuco
A3: Planilha Orçamentária Analítica
A4: 1 | D4: SERVIÇOS PRELIMINARES
A5: 1.1 | B5: Código | C5: Banco | D5: Descrição | E5: Tipo | F5: Und | G5: Quant. | H5: Valor Unit
A6: Composição | B6: 97624 | C6: SINAPI | D6: DEMOLIÇÃO DE ALVENARIA DE TIJOLO MACIÇO, DE FORMA MANUAL, SEM REAPROVEITAMENTO. AF_09/2023 | E6: Demolições e Remoções | F6: m³ | G6: 1 | H6: 119.26
A7: Composição Auxiliar | B7: 88316 | C7: SINAPI | D7: SERVENTE COM ENCARGOS COMPLEMENTARES | E7: Livro SINAPI: Cálculos e Parâmetros | F7: H | G7: 4.1278 | H7: 24.08
A8: Composição Auxiliar | B8: 88309 | C8: SINAPI | D8: PEDREIRO COM ENCARGOS COMPLEMENTARES | E8: Livro SINAPI: Cálculos e Parâmetros | F8: H | G8: 0.6658 | H8: 29.85
A13: 1.2 | B13: Código | C13: Banco | D13: Descrição | E13: Tipo | F13: Und | G13: Quant. | H13: Valor Unit
A14: Composição | B14: 8038 | C14: ORSE | D14: Demolição de alvenaria de elementos vazados (cobogó), sem reaproveitamento | E14: Demolições / Remoções | F14: m³ | G14: 1 | H14: 45.4485
A15: Item | B15: Código | C15: Banco | D15: Descrição | E15: Tipo | F15: Und | G15: Quant. | H15: Valor Unit
A16: Composição | B16: 10549 | C16: ORSE | D16: Encargos Complementares - Servente | E16: Provisórios | F16: h | G16: 2 | H16: 3.87
A17: Insumo | B17: 00004750/SINAPI | C17: ORSE | D17: Pedreiro (horista) | E17: Mão de Obra | F17: h | G17: 0.15 | H17: 22.45
A18: Insumo | B18: 00006111/SINAPI | C18: ORSE | D18: Servente de obras (horista) | E18: Mão de Obra | F18: h | G18: 2 | H18: 16.89
A19: Composição | B19: 10550 | C19: ORSE | D19: Encargos Complementares - Pedreiro | E19: Provisórios | F19: h | G19: 0.15 | H19: 3.74
A20: Detalhamento de Cálculo ORSE
A21: Item | B21: Código | C21: Banco | D21: Descrição | E21: Tipo | F21: Und | G21: Quant. | H21: Valor Unit
A22: Insumo | B22: 10596 | C22: ORSE | D22: Protetor auricular | E22: Material | F22: un | G22: 0.009675 | H22: 4.85
A23: Insumo | B23: 1651 | C23: ORSE | D23: Óculos branco proteção | E23: Material | F23: pr | G23: 0.00172 | H23: 7
A24: Insumo | B24: 158 | C24: ORSE | D24: Almoço (Participação do empregador) | E24: Material | F24: un | G24: 0.21887 | H24: 14
A25: Insumo | B25: 10362 | C25: ORSE | D25: Seguro de vida e acidente em grupo | E25: Serviços | F25: un | G25: 0.009675 | H25: 12.54
A26: Insumo | B26: 10761 | C26: ORSE | D26: Refeição - café da manhã ( café com leite e dois pães com manteiga) | E26: Serviços | F26: un | G26: 0.21887 | H26: 5
A27: Insumo | B27: 941 | C27: ORSE | D27: Fardamento com mangas curta | E27: Material | F27: un | G27: 0.003225 | H27: 194.68
A28: Insumo | B28: 10517 | C28: ORSE | D28: Exames admissionais/demissionais (checkup) | E28: Serviços | F28: cj | G28: 0.00086 | H28: 300
A29: Insumo | B29: 10492 | C29: ORSE | D29: Cesta Básica | E29: Material | F29: un | G29: 0.009675 | H29: 205
A30: Insumo | B30: 00012895/SINAPI | C30: ORSE | D30: Capacete de seguranca aba frontal com suspensao de polietileno, sem jugular (classe b) | E30: Material | F30: un | G30: 0.00129 | H30: 16.13
A31: Insumo | B31: 4729 | C31: ORSE | D31: Marreta 1 kg com cabo | E31: Material | F31: un | G31: 0.0002 | H31: 37.8
A32: Insumo | B32: 10788 | C32: ORSE | D32: Pá quadrada | E32: Material | F32: un | G32: 0.0004 | H32: 36.9
A33: Insumo | B33: 00012893/SINAPI | C33: ORSE | D33: Bota de seguranca com biqueira de aco e colarinho acolchoado | E33: Material | F33: par | G33: 0.00172 | H33: 88.33
A34: Insumo | B34: 00002711/SINAPI | C34: ORSE | D34: Carrinho de mao, em aco, com capacidade de *45 a 65* l / *100* kg, pneu com camara | E34: Material | F34: un | G34: 0.0004 | H34: 189.9
A35: Insumo | B35: 2378 | C35: ORSE | D35: Vale transporte | E35: Material | F35: un | G35: 0.19801 | H35: 4.5
A36: Insumo | B36: 4728 | C36: ORSE | D36: Talhadeira chata 10" | E36: Material | F36: un | G36: 0.0006 | H36: 18.58
A37: Insumo | B37: 10599 | C37: ORSE | D37: Protetor solar fps 30 com 120ml | E37: Material | F37: un | G37: 0.00387 | H37: 18
A38: Insumo | B38: 00012892/SINAPI | C38: ORSE | D38: Luva raspa de couro, cano curto (punho *7* cm) | E38: Material | F38: par | G38: 0.004945 | H38: 12.99
A39: Insumo | B39: 00012894/SINAPI | C39: ORSE | D39: Capa para chuva em pvc com forro de poliester, com capuz (amarela ou azul) | E39: Material | F39: un | G39: 0.00043 | H39: 24.02
A40: Insumo | B40: 00004750/SINAPI | C40: ORSE | D40: Pedreiro (horista) | E40: Mão de Obra | F40: h | G40: 0.15 | H40: 22.45
A41: Insumo | B41: 00006111/SINAPI | C41: ORSE | D41: Servente de obras (horista) | E41: Mão de Obra | F41: h | G41: 2 | H41: 16.89
A42: Insumo | B42: 10790 | C42: ORSE | D42: Prumo de face | E42: Material | F42: un | G42: 1.5e-05 | H42: 25.95
A43: Insumo | B43: 11247 | C43: ORSE | D43: Serra mármore | E43: Material | F43: un | G43: 1.5e-05 | H43: 327.8
A44: Insumo | B44: 11265 | C44: ORSE | D44: Martelo de borracha com cabo | E44: Material | F44: un | G44: 6e-05 | H44: 18.75
...

Sheet CRONOGRAMA
D1: Obra | N1: Referências/Bancos
D2: MANUTENÇÃO DAS UNIDADES ESCOLARES DO CABO DE SANTO AGOSTINHO_LOTE 3_2026 | N2: SINAPI - 03/2026 - Pernambuco - Sem Desoneração SINAPI - 12/2025 - Pernambuco - Sem Desoneração SBC - 10/2025 - Pernambuco ORSE - 02/2026 - Sergipe ORSE - 07/2025 - Sergipe SEINFRA - 028 - Ceará CPOS/CDHU - 09/2025 - São Paulo FDE - 07/2025 - São Paulo EMBASA - 06/2025 - sem_encargos COMPESA - 07/2024 - Pernambuco
A10: CRONOGRAMA FÍSICO-FINANCEIRO
A12: ITEM | B12: DESCRIÇÃO | C12: R$ | D12: MÊS
C13: % | D13: 1 | E13: 2 | F13: 3 | G13: 4 | H13: 5 | I13: 6 | J13: 7 | K13: 8 | L13: 9 | M13: 10 | N13: 11 | O13: 12
A14: 1.0 | B14: SERVIÇOS PRELIMINARES | C14: ='Orçamento Sintético'!J13 -> 459610.49 | D14: =$C14*D15 -> 68941.573 | E14: =$C14*E15 -> 45961.049 | F14: =$C14*F15 -> 22980.525 | G14: =$C14*G15 -> 68941.573 | H14: =$C14*H15 -> 45961.049 | I14: =$C14*I15 -> 22980.525 | J14: =$C14*J15 -> 45961.049 | K14: =$C14*K15 -> 68941.573 | ... O14: =$C14*O15 -> 0 | P14: =SUM(D14:K14)-C14 -> -68941.574
C15: =IFERROR(C14/$C$52,0) -> 0.040961293 | D15: 0.15 | E15: 0.1 | F15: 0.05 | G15: 0.15 | H15: 0.1 | I15: 0.05 | J15: 0.1 | K15: 0.15 | L15: 0.1 | M15: 0.05 | P15: =SUM(D15:O15) -> 1
A16: 2.0 | B16: CARGA E TRANSPORTE MANUAL E MECÂNICO | C16: ='Orçamento Sintético'!J59 -> 45590.18 | D16: =$C16*D17 -> 4559.018 | E16: =$C16*E17 -> 6838.527 | F16: =$C16*F17 -> 9118.036 | G16: =$C16*G17 -> 4559.018 | H16: =$C16*H17 -> 2279.509 | I16: =$C16*I17 -> 6838.527 | J16: =$C16*J17 -> 6838.527 | K16: =$C16*K17 -> 2279.509 | ... O16: =$C16*O17 -> 0 | P16: =SUM(D16:O16) -> 45590.18
C17: =IFERROR(C16/$C$52,0) -> 0.0040630768 | D17: 0.1 | E17: 0.15 | F17: 0.2 | G17: 0.1 | H17: 0.05 | I17: 0.15 | J17: 0.15 | K17: 0.05 | L17: 0.05 | P17: =SUM(D17:O17) -> 1
A18: 3.0 | B18: ='Orçamento Sintético'!D66 -> TRABALHOS EM TERRA | C18: ='Orçamento Sintético'!J66 -> 32372.26 | D18: =$C18*D19 -> 3237.226 | E18: =$C18*E19 -> 4855.839 | F18: =$C18*F19 -> 6474.452 | G18: =$C18*G19 -> 3237.226 | H18: =$C18*H19 -> 1618.613 | I18: =$C18*I19 -> 4855.839 | J18: =$C18*J19 -> 4855.839 | K18: =$C18*K19 -> 1618.613 | ... O18: =$C18*O19 -> 0 | P18: =SUM(D18:O18) -> 32372.26
C19: =IFERROR(C18/$C$52,0) -> 0.0028850726 | D19: 0.1 | E19: 0.15 | F19: 0.2 | G19: 0.1 | H19: 0.05 | I19: 0.15 | J19: 0.15 | K19: 0.05 | L19: 0.05 | P19: =SUM(D19:O19) -> 1
A20: 4.0 | B20: ='Orçamento Sintético'!D75 -> ESTRUTURA DE CONCRETO | C20: ='Orçamento Sintético'!J75 -> 661861.57 | D20: =$C20*D21 -> 0 | E20: =$C20*E21 -> 66186.157 | F20: =$C20*F21 -> 99279.235 | G20: =$C20*G21 -> 66186.157 | H20: =$C20*H21 -> 33093.078 | I20: =$C20*I21 -> 99279.235 | J20: =$C20*J21 -> 66186.157 | K20: =$C20*K21 -> 33093.078 | ... O20: =$C20*O21 -> 0 | P20: =SUM(D20:O20) -> 661861.57
C21: =IFERROR(C20/$C$52,0) -> 0.058986264 | E21: 0.1 | F21: 0.15 | G21: 0.1 | H21: 0.05 | I21: 0.15 | J21: 0.1 | K21: 0.05 | L21: 0.05 | M21: 0.1 | N21: 0.15 | P21: =SUM(D21:O21) -> 1
A22: 5.0 | B22: ='Orçamento Sintético'!D104 -> PAREDES E PAINEIS | C22: ='Orçamento Sintético'!J104 -> 1137954.1 | D22: =$C22*D23 -> 0 | E22: =$C22*E23 -> 113795.41 | F22: =$C22*F23 -> 113795.41 | G22: =$C22*G23 -> 56897.707 | H22: =$C22*H23 -> 170693.12 | I22: =$C22*I23 -> 56897.707 | J22: =$C22*J23 -> 170693.12 | K22: =$C22*K23 -> 113795.41 | ... O22: =$C22*O23 -> 0 | P22: =SUM(D22:O22) -> 1137954.1
C23: =IFERROR(C22/$C$52,0) -> 0.10141647 | E23: 0.1 | F23: 0.1 | G23: 0.05 | H23: 0.15 | I23: 0.05 | J23: 0.15 | K23: 0.1 | L23: 0.05 | M23: 0.15 | N23: 0.1 | P23: =SUM(D23:O23) -> 1
A24: 6.0 | B24: ='Orçamento Sintético'!D119 -> COBERTURAS E IMPERMEABILIZAÇÕES | C24: ='Orçamento Sintético'!J119 -> 2832967.1 | D24: =$C24*D25 -> 283296.71 | E24: =$C24*E25 -> 283296.71 | F24: =$C24*F25 -> 283296.71 | G24: =$C24*G25 -> 283296.71 | H24: =$C24*H25 -> 283296.71 | I24: =$C24*I25 -> 283296.71 | J24: =$C24*J25 -> 283296.71 | K24: =$C24*K25 -> 283296.71 | ... O24: =$C24*O25 -> 0 | P24: =SUM(D24:O24) -> 2832967.1
C25: =IFERROR(C24/$C$52,0) -> 0.25247899 | D25: 0.1 | E25: 0.1 | F25: 0.1 | G25: 0.1 | H25: 0.1 | I25: 0.1 | J25: 0.1 | K25: 0.1 | L25: 0.1 | M25: 0.05 | N25: 0.05 | P25: =SUM(D25:O25) -> 1
A26: 7.0 | B26: ='Orçamento Sintético'!D147 -> FORROS | C26: ='Orçamento Sintético'!J147 -> 619005 | D26: =$C26*D27 -> 61900.5 | E26: =$C26*E27 -> 61900.5 | F26: =$C26*F27 -> 61900.5 | G26: =$C26*G27 -> 61900.5 | H26: =$C26*H27 -> 61900.5 | I26: =$C26*I27 -> 61900.5 | J26: =$C26*J27 -> 61900.5 | K26: =$C26*K27 -> 61900.5 | ... O26: =$C26*O27 -> 0 | P26: =SUM(D26:O26) -> 619005
C27: =IFERROR(C26/$C$52,0) -> 0.055166811 | D27: 0.1 | E27: 0.1 | F27: 0.1 | G27: 0.1 | H27: 0.1 | I27: 0.1 | J27: 0.1 | K27: 0.1 | L27: 0.1 | M27: 0.05 | N27: 0.05 | P27: =SUM(D27:O27) -> 1
A28: 8.0 | B28: ='Orçamento Sintético'!D152 -> PISOS/PAVIMENTAÇÃO | C28: ='Orçamento Sintético'!J152 -> 783988.95 | D28: =$C28*D29 -> 0 | E28: =$C28*E29 -> 78398.895 | F28: =$C28*F29 -> 78398.895 | G28: =$C28*G29 -> 117598.34 | H28: =$C28*H29 -> 39199.448 | I28: =$C28*I29 -> 117598.34 | J28: =$C28*J29 -> 78398.895 | K28: =$C28*K29 -> 39199.448 | ... O28: =$C28*O29 -> 0 | P28: =SUM(D28:O28) -> 783988.95
C29: =IFERROR(C28/$C$52,0) -> 0.06987047 | E29: 0.1 | F29: 0.1 | G29: 0.15 | H29: 0.05 | I29: 0.15 | J29: 0.1 | K29: 0.05 | L29: 0.15 | M29: 0.05 | N29: 0.1 | P29: =SUM(D29:O29) -> 1
A30: 9.0 | B30: ='Orçamento Sintético'!D172 -> ESQUADRIAS DE MADEIRA | C30: ='Orçamento Sintético'!J172 -> 330471.73 | D30: =$C30*D31 -> 16523.586 | E30: =$C30*E31 -> 33047.173 | F30: =$C30*F31 -> 49570.759 | G30: =$C30*G31 -> 33047.173 | H30: =$C30*H31 -> 33047.173 | I30: =$C30*I31 -> 33047.173 | J30: =$C30*J31 -> 33047.173 | K30: =$C30*K31 -> 33047.173 | ... O30: =$C30*O31 -> 16523.586 | P30: =SUM(D30:O30) -> 330471.73
C31: =IFERROR(C30/$C$52,0) -> 0.02945222 | D31: 0.05 | E31: 0.1 | F31: 0.15 | G31: 0.1 | H31: 0.1 | I31: 0.1 | J31: 0.1 | K31: 0.1 | L31: 0.05 | M31: 0.05 | N31: 0.05 | O31: 0.05 | P31: =SUM(D31:O31) -> 1
A32: 10.0 | B32: ='Orçamento Sintético'!D186 -> ESQUADRIAS DE FERRO | C32: ='Orçamento Sintético'!J186 -> 298483.62 | D32: =$C32*D33 -> 0 | E32: =$C32*E33 -> 14924.181 | F32: =$C32*F33 -> 44772.543 | G32: =$C32*G33 -> 29848.362 | H32: =$C32*H33 -> 14924.181 | I32: =$C32*I33 -> 29848.362 | J32: =$C32*J33 -> 29848.362 | K32: =$C32*K33 -> 29848.362 | ... O32: =$C32*O33 -> 14924.181 | P32: =SUM(D32:O32) -> 298483.62
C33: =IFERROR(C32/$C$52,0) -> 0.026601384 | E33: 0.05 | F33: 0.15 | G33: 0.1 | H33: 0.05 | I33: 0.1 | J33: 0.1 | K33: 0.1 | L33: 0.1 | M33: 0.1 | N33: 0.1 | O33: 0.05 | P33: =SUM(D33:O33) -> 1
A34: 11.0 | B34: ='Orçamento Sintético'!D194 -> ESQUADRIAS DE ALUMINIO | C34: ='Orçamento Sintético'!J194 -> 328888.5 | D34: =$C34*D35 -> 16444.425 | E34: =$C34*E35 -> 9866.655 | F34: =$C34*F35 -> 23022.195 | G34: =$C34*G35 -> 49333.275 | H34: =$C34*H35 -> 32888.85 | I34: =$C34*I35 -> 49333.275 | J34: =$C34*J35 -> 49333.275 | K34: =$C34*K35 -> 32888.85 | ... O34: =$C34*O35 -> 16444.425 | P34: =SUM(D34:O34) -> 328888.5
C35: =IFERROR(C34/$C$52,0) -> 0.02931112 | D35: 0.05 | E35: 0.03 | F35: 0.07 | G35: 0.15 | H35: 0.1 | I35: 0.15 | J35: 0.15 | K35: 0.1 | L35: 0.05 | M35: 0.05 | N35: 0.05 | O35: 0.05 | P35: =SUM(D35:O35) -> 1
A36: 12.0 | B36: ='Orçamento Sintético'!D199 -> VIDROS E ESPELHOS | C36: ='Orçamento Sintético'!J199 -> 72719.14 | D36: =$C36*D37 -> 3635.957 | E36: =$C36*E37 -> 7271.914 | F36: =$C36*F37 -> 3635.957 | G36: =$C36*G37 -> 10907.871 | H36: =$C36*H37 -> 10907.871 | I36: =$C36*I37 -> 10907.871 | J36: =$C36*J37 -> 10907.871 | K36: =$C36*K37 -> 7271.914 | ... O36: =$C36*O37 -> 0 | P36: =SUM(D36:O36) -> 72719.14
C37: =IFERROR(C36/$C$52,0) -> 0.0064808573 | D37: 0.05 | E37: 0.1 | F37: 0.05 | G37: 0.15 | H37: 0.15 | I37: 0.15 | J37: 0.15 | K37: 0.1 | L37: 0.1 | P37: =SUM(D37:O37) -> 1
A38: 13.0 | B38: ='Orçamento Sintético'!D206 -> GRANITOS | C38: ='Orçamento Sintético'!J206 -> 110802.4 | D38: =$C38*D39 -> 0 | E38: =$C38*E39 -> 11080.24 | F38: =$C38*F39 -> 22160.48 | G38: =$C38*G39 -> 22160.48 | H38: =$C38*H39 -> 27700.6 | I38: =$C38*I39 -> 5540.12 | J38: =$C38*J39 -> 5540.12 | K38: =$C38*K39 -> 5540.12 | ... O38: =$C38*O39 -> 0 | P38: =SUM(D38:O38) -> 110802.4
C39: =IFERROR(C38/$C$52,0) -> 0.0098749042 | E39: 0.1 | F39: 0.2 | G39: 0.2 | H39: 0.25 | I39: 0.05 | J39: 0.05 | K39: 0.05 | L39: 0.05 | M39: 0.05 | P39: =SUM(D39:O39) -> 1
A40: 14.0 | B40: ='Orçamento Sintético'!D210 -> PISO EM CONCRETO | C40: ='Orçamento Sintético'!J210 -> 101552.5 | D40: =$C40*D41 -> 0 | E40: =$C40*E41 -> 0 | F40: =$C40*F41 -> 10155.25 | G40: =$C40*G41 -> 20310.5 | H40: =$C40*H41 -> 25388.125 | I40: =$C40*I41 -> 25388.125 | J40: =$C40*J41 -> 10155.25 | K40: =$C40*K41 -> 10155.25 | ... O40: =$C40*O41 -> 0 | P40: =SUM(D40:O40) -> 101552.5
C41: =IFERROR(C40/$C$52,0) -> 0.0090505369 | F41: 0.1 | G41: 0.2 | H41: 0.25 | I41: 0.25 | J41: 0.1 | K41: 0.1 | P41: =SUM(D41:O41) -> 1
A42: 15.0 | B42: ='Orçamento Sintético'!D215 -> PINTURA | C42: ='Orçamento Sintético'!J215 -> 732141.7 | D42: =$C42*D43 -> 0 | E42: =$C42*E43 -> 73214.17 | F42: =$C42*F43 -> 36607.085 | G42: =$C42*G43 -> 73214.17 | H42: =$C42*H43 -> 73214.17 | I42: =$C42*I43 -> 36607.085 | J42: =$C42*J43 -> 73214.17 | K42: =$C42*K43 -> 73214.17 | ... O42: =$C42*O43 -> 73214.17 | P42: =SUM(D42:O42) -> 732141.7
C43: =IFERROR(C42/$C$52,0) -> 0.065249752 | E43: 0.1 | F43: 0.05 | G43: 0.1 | H43: 0.1 | I43: 0.05 | J43: 0.1 | K43: 0.1 | L43: 0.1 | M43: 0.1 | N43: 0.1 | O43: 0.1 | P43: =SUM(D43:O43) -> 1
A44: 16.0 | B44: ='Orçamento Sintético'!D233 -> INSTALAÇÃO HIDROSANITÁRIAS /LOUÇAS/METAIS/BANCADAS E DIVISORIAS | C44: ='Orçamento Sintético'!J233 -> 460110.4 | D44: =$C44*D45 -> 46011.04 | E44: =$C44*E45 -> 46011.04 | F44: =$C44*F45 -> 46011.04 | G44: =$C44*G45 -> 46011.04 | H44: =$C44*H45 -> 46011.04 | I44: =$C44*I45 -> 46011.04 | J44: =$C44*J45 -> 46011.04 | K44: =$C44*K45 -> 46011.04 | ... O44: =$C44*O45 -> 0 | P44: =SUM(D44:O44) -> 460110.4
C45: =IFERROR(C44/$C$52,0) -> 0.041005846 | D45: 0.1 | E45: 0.1 | F45: 0.1 | G45: 0.1 | H45: 0.1 | I45: 0.1 | J45: 0.1 | K45: 0.1 | L45: 0.1 | M45: 0.1 | P45: =SUM(D45:O45) -> 1
A46: 17.0 | B46: ='Orçamento Sintético'!D294 -> INSTALAÇÃO ELETRICAS | C46: ='Orçamento Sintético'!J294 -> 1020192 | D46: =$C46*D47 -> 0 | E46: =$C46*E47 -> 102019.2 | F46: =$C46*F47 -> 102019.2 | G46: =$C46*G47 -> 102019.2 | H46: =$C46*H47 -> 102019.2 | I46: =$C46*I47 -> 102019.2 | J46: =$C46*J47 -> 102019.2 | K46: =$C46*K47 -> 102019.2 | ... O46: =$C46*O47 -> 0 | P46: =SUM(D46:O46) -> 1020192
C47: =IFERROR(C46/$C$52,0) -> 0.090921303 | E47: 0.1 | F47: 0.1 | G47: 0.1 | H47: 0.1 | I47: 0.1 | J47: 0.1 | K47: 0.1 | L47: 0.1 | M47: 0.1 | N47: 0.1 | P47: =SUM(D47:O47) -> 1
A48: 18.0 | B48: ='Orçamento Sintético'!D375 -> DIVERSOS | C48: ='Orçamento Sintético'!J375 -> 278570.44 | D48: =$C48*D49 -> 0 | E48: =$C48*E49 -> 27857.044 | F48: =$C48*F49 -> 27857.044 | G48: =$C48*G49 -> 27857.044 | H48: =$C48*H49 -> 27857.044 | I48: =$C48*I49 -> 27857.044 | J48: =$C48*J49 -> 27857.044 | K48: =$C48*K49 -> 27857.044 | ... O48: =$C48*O49 -> 0 | P48: =SUM(D48:O48) -> 278570.44
...
