Workbook
Name INDICES: OFFSET('(ORÇAMENTO)'!#REF!,1,0):OFFSET('(ORÇAMENTO)'!#REF!,-1,0)
Name INDICES: OFFSET(#REF!,1,0):OFFSET(#REF!,-1,0)
Name ORÇAMENTO: #REF!

Sheet (COMPOSIÇÕES GERAL)
M1: COM | N1: SEM
B2: COMPOSIÇÕES DE CUSTOS UNITÁRIOS COMPLEMENTARES | M2: 58,53
B4: =#REF! -> #REF!
B5: =#REF! -> #REF!
B6: =#REF! -> #REF!
B7: =#REF! -> #REF!
B9: FORNECIMENTO E INSTALAÇÃO DE PLACA DE OBRA COM CHAPA GALVANIZADA E ESTRUTURA DE MADEIRA. | L9: 01
B11: COMPOSIÇÃO 01 | D11: Código de referência (origem dos coeficientes da composição): | E11: SINAPI-PE 103689 (AGOSTO/2023)
D12: Discriminação do código de referência: | E12: PLACA DE OBRA EM CHAPA DE ACO GALVANIZADO
D14: Unidade: | E14: M² | F14: Custo Unitário: | G14: =H24 -> 297.69 | I14: =J24 -> 301.12
D15: Quantidade: | E15: 1
G16: COM DESONERAÇÂO | I16: SEM DESONERAÇÂO
B17: Fonte | C17: Código | D17: Composição | E17: Unidade | F17: Coeficiente | G17: Custo Unitário | H17: Custo Total | I17: Custo Unitário | J17: Custo Total
B18: SINAPI INSUMO | C18: 4509 | D18: SARRAFO *2,5 X 10* CM EM PINUS, MISTA OU EQUIVALENTE DA REGIAO - BRUTA | E18: M | F18: 3,2083000 | G18: 5.27 | H18: =TRUNC($F18*G18,2) -> 16.9 | I18: 5.27 | J18: =TRUNC($F18*I18,2) -> 16.9
B19: SINAPI INSUMO | C19: 4813 | D19: PLACA DE OBRA (PARA CONSTRUCAO CIVIL) EM CHAPA GALVANIZADA *N. 22*, ADESIVADA, DE *2,4 X 1,2* M (SEM POSTES PARA FIXACAO) | E19: M2 | F19: 1,0000000 | G19: 250 | H19: =TRUNC($F19*G19,2) -> 250 | I19: 250 | J19: =TRUNC($F19*I19,2) -> 250
B20: SINAPI INSUMO | C20: 5065 | D20: PREGO DE ACO POLIDO COM CABECA 10 X 10 (7/8 X 17) | E20: KG | F20: 0,0113000 | G20: 38.5 | H20: =TRUNC($F20*G20,2) -> 0.43 | I20: 38.5 | J20: =TRUNC($F20*I20,2) -> 0.43
B21: SINAPI INSUMO | C21: 5069 | D21: PREGO DE ACO POLIDO COM CABECA 17 X 27 (2 1/2 X 11) | E21: KG | F21: 0,0132000 | G21: 19.18 | H21: =TRUNC($F21*G21,2) -> 0.25 | I21: 19.18 | J21: =TRUNC($F21*I21,2) -> 0.25
B22: SINAPI COMPOSIÇÃO | C22: 88262 | D22: CARPINTEIRO DE FORMAS COM ENCARGOS COMPLEMENTARES | E22: H | F22: 0,3729000 | G22: 23.33 | H22: =TRUNC($F22*G22,2) -> 8.69 | I22: 26.13 | J22: =TRUNC($F22*I22,2) -> 9.74
B23: SINAPI COMPOSIÇÃO | C23: 88316 | D23: SERVENTE COM ENCARGOS COMPLEMENTARES | E23: H | F23: 1,1186000 | G23: 19.15 | H23: =TRUNC($F23*G23,2) -> 21.42 | I23: 21.28 | J23: =TRUNC($F23*I23,2) -> 23.8
G24: Total | H24: =TRUNC(SUM(H18:H23),2) -> 297.69 | I24: Total | J24: =TRUNC(SUM(J18:J23),2) -> 301.12
B27: ADMINISTRAÇÃO LOCAL DE OBRA | L27: 2
B30: COMPOSIÇÃO 02 | D30: Código de referência (origem dos coeficientes da composição):
D31: Discriminação do código de referência: | E31: ADMINISTRAÇÃO LOCAL DE OBRA
D35: Unidade: | E35: UN | F35: Custo Unitário: | G35: =H41 -> 37371.2 | I35: =J41 -> 43056
D36: Quantidade: | E36: 1
G37: COM DESONERAÇÂO | I37: SEM DESONERAÇÂO
B38: Fonte | C38: Código | D38: Composição | E38: Unidade | F38: Coeficiente | G38: Custo Unitário | H38: Custo Total | I38: Custo Unitário | J38: Custo Total | L38: DIA POR MêS | O38: TOTAL DE MÊS | P38: H
B39: SINAPI COMPOSIÇÃO | C39: 90776 | D39: ENCARREGADO GERAL COM ENCARGOS COMPLEMENTARES (2 DIAS POR SEMANA) | E39: H | F39: 640 | G39: 33.86 | H39: =TRUNC($F39*G39,2) -> 21670.4 | I39: 38.89 | J39: =TRUNC($F39*I39,2) -> 24889.6 | L39: =2*4 -> 8 | O39: 10 | P39: =L39*O39 -> 80 | Q39: =P39*8 -> 640
B40: SINAPI COMPOSIÇÃO | C40: 90777 | D40: ENGENHEIRO CIVIL DE OBRA JUNIOR COM ENCARGOS COMPLEMENTARES (4h POR SEMANA) | E40: H | F40: 160 | G40: 98.13 | H40: =TRUNC($F40*G40,2) -> 15700.8 | I40: 113.54 | J40: =TRUNC($F40*I40,2) -> 18166.4 | L40: =0.5*4 -> 2 | O40: 10 | P40: =L40*O40 -> 20 | Q40: =P40*8 -> 160
G41: Total | H41: =TRUNC(SUM(H39:H40),2) -> 37371.2 | I41: Total | J41: =TRUNC(SUM(J39:J40),2) -> 43056
B43: ALVENARIA EM TIJOLO CERAMICO FURADO 9X19X19CM, 1 VEZ (ESPESSURA 19 CM), ASSENTADO EM ARGAMASSA TRACO 1:4, JUNTAS DE 1 CM | L43: 03
B45: COMPOSIÇÃO 03 | D45: Código de referência (origem dos coeficientes da composição): | E45: SINAPI-PE 73935/2 (AGOSTO/2016) | M45: COMPESA 11.01.02U (ABRIL 2017)
D46: Discriminação do código de referência: | E46: ALVENARIA EM TIJOLO CERAMICO FURADO 9X19X19CM, 1 VEZ (ESPESSURA 19 CM), ASSENTADO EM ARGAMASSA TRACO 1:4 (CIMENTO E AREIA MEDIA NAO PENEIRADA), PREPARO MANUAL, JUNTA1 CM | M46: mesmo da tabela compesa abril de 2017
M47: sinapi pe agosto de 2016 último ano a ser publicada
D50: Unidade: | E50: M2 | F50: Custo Unitário: | G50: =H58 -> 77.67 | I50: =J58 -> 82.91
D51: Quantidade: | E51: 1
G52: COM DESONERAÇÂO | I52: SEM DESONERAÇÂO
B53: Fonte | C53: Código | D53: Composição | E53: Unidade | F53: Coeficiente | G53: Custo Unitário | H53: Custo Total | I53: Custo Unitário | J53: Custo Total
B54: SINAPI COMPOSIÇÃO | C54: 88630 | D54: ARGAMASSA TRAÇO 1:4 (CIMENTO E AREIA MÉDIA), PREPARO MECÂNICO COM BETONEIRA 400 L. AF_08/2014 | E54: M3 | F54: 0.0138 | G54: 494,62 | H54: =TRUNC($F54*G54,2) -> 6.82 | I54: 505.44 | J54: =TRUNC($F54*I54,2) -> 6.97
B55: SINAPI COMPOSIÇÃO | C55: 88309 | D55: PEDREIRO COM ENCARGOS COMPLEMENTARES | E55: H | F55: 1.14 | G55: 23.69 | H55: =TRUNC($F55*G55,2) -> 27 | I55: 26.51 | J55: =TRUNC($F55*I55,2) -> 30.22
...

Sheet (ORÇAMENTO)
A1: PLANILHA ORÇAMENTÁRIA
A3: OBRA: CONSTRUÇÃO DE CRECHE MUNICIPAL NO BAIRRO SANTO ANTÔNIO MUNICÍPIO DE SURUBIM-PE
A4: LOCALIZAÇÃO: BAIRRO SANTO ANTÔNIO, ZONA URBANA, SURUBIM-PE | K4: 0.205 | L4: 0.2657
A5: FONTES DE PREÇOS: SINAPI JULHO/2023, SEINFRABRIL/2023 E ORSE JUNHO/2023 (TABELAS SEM DESONERAÇÃO)
A6: RESPONSÁVEL TÉCNICO: GERALDO LIMA FERREIRA OLIVEIRA CREA/PE N° 1820382672
A7: DATA: SETEMBRO/2023
G8: BDI (EDIFICAÇÕES) = | I8: 0.205
G9: SEM DESONERAÇÃO | K9: =#REF! -> #REF!
A10: ITEM | B10: REFERÊNCIA | C10: CÓDIGO | D10: DESCRIÇÃO | E10: UN. | F10: QUANTIDADE | G10: CUSTO UNIT.S/ BDI | H10: CUSTO UNIT. C/ BDI | I10: VALOR TOTAL(R$) | K10: =I12 -> 1777687.6
A12: I | D12: CONSTRUÇÃO DE CRECHE MUNICIPAL | I12: =SUM(I13:I176)/2 -> 1777687.6
A13: 1.0 | D13: SERVIÇOS PRELIMINARES | I13: =SUM(I14:I20) -> 56531.79 | J13: 1
A14: 1.1 | B14: COMPOSIÇÃO | C14: 01 | D14: FORNECIMENTO E INSTALAÇÃO DE PLACA DE OBRA COM CHAPA GALVANIZADA E ESTRUTURA DE MADEIRA. | E14: M2 | F14: 4.5 | G14: ='(COMPOSIÇÕES GERAL)'!J24 -> 301.12 | H14: 362.85 | I14: =TRUNC($F14*H14,2) -> 1632.82
A15: 1.2 | B15: SINAPI | C15: 99059 | D15: LOCACAO CONVENCIONAL DE OBRA, UTILIZANDO GABARITO DE TÁBUAS CORRIDAS PONTALETADAS A CADA 2,00M - 2 UTILIZAÇÕES. AF_10/2018 | E15: M | F15: 135.5 | G15: 60.59 | H15: 73.01 | I15: =TRUNC($F15*H15,2) -> 9892.85
A16: 1.3 | B16: SINAPI | C16: 93584 | D16: EXECUÇÃO DE DEPÓSITO EM CANTEIRO DE OBRA EM CHAPA DE MADEIRA COMPENSADA, NÃO INCLUSO MOBILIÁRIO. AF_04/2016 | E16: M2 | F16: 10 | G16: 944,19 | H16: 1137.75 | I16: =TRUNC($F16*H16,2) -> 11377.5
A17: 1.4 | B17: SEINFRA | C17: C2851 | D17: INSTALAÇÕES PROVISÓRIAS DE ÁGUA | E17: UN | F17: 1 | G17: 1394.13 | H17: 1679.93 | I17: =TRUNC($F17*H17,2) -> 1679.93
A18: 1.5 | B18: SEINFRA | C18: C2850 | D18: INSTALAÇÕES PROVISÓRIAS DE LUZ , FORÇA,TELEFONE E LÓGICA | E18: UN | F18: 1 | G18: 2071.13 | H18: 2495.71 | I18: =TRUNC($F18*H18,2) -> 2495.71
A19: 1.6 | B19: SINAPI | C19: 98459 | D19: TAPUME COM TELHA METÁLICA. AF_05/2018 | E19: M2 | F19: 190 | G19: 126,33 | H19: 152.23 | I19: =TRUNC($F19*H19,2) -> 28923.7
A20: 1.7 | B20: SINAPI | C20: 98525 | D20: LIMPEZA MECANIZADA DE CAMADA VEGETAL, VEGETAÇÃO E PEQUENAS ÁRVORES (DIÂMETRO DE TRONCO MENOR QUE 0,20 M), COM TRATOR DE ESTEIRAS.AF_05/2018 | E20: M2 | F20: 1126.13 | G20: 0.39 | H20: 0.47 | I20: =TRUNC($F20*H20,2) -> 529.28
A21: 2.0 | D21: TRABALHOS EM TERRA | I21: =SUM(I22:I24) -> 30270.35 | J21: 2
A22: 2.1 | B22: SINAPI | C22: 93358 | D22: ESCAVAÇÃO MANUAL DE VALA COM PROFUNDIDADE MENOR OU IGUAL A 1,30 M. AF_02/2021 | E22: M3 | F22: 141.55 | G22: 84.18 | H22: 101.44 | I22: =TRUNC($F22*H22,2) -> 14358.83
A23: 2.2 | B23: SINAPI | C23: 93382 | D23: REATERRO MANUAL DE VALAS COM COMPACTAÇÃO MECANIZADA. AF_04/2016 | E23: M3 | F23: 66.05 | G23: 35.58 | H23: 42.87 | I23: =TRUNC($F23*H23,2) -> 2831.56
A24: 2.3 | B24: SINAPI | C24: 94319 | D24: ATERRO MANUAL DE VALAS COM SOLO ARGILO-ARENOSO E COMPACTAÇÃO MECANIZADA. AF_05/2016 | E24: M3 | F24: 133.66 | G24: 81.21 | H24: 97.86 | I24: =TRUNC($F24*H24,2) -> 13079.96
A25: 3.0 | D25: INFRAESTRUTURA | I25: =SUM(I26:I38) -> 168298.59 | J25: 3
A26: 3.1 | B26: SINAPI | C26: 96620 | D26: LASTRO DE CONCRETO MAGRO, APLICADO EM PISOS OU RADIERS. AF_08/2017 | E26: M3 | F26: 8.12 | G26: 630.31 | H26: 759.52 | I26: =TRUNC($F26*H26,2) -> 6167.3
A27: 3.2 | B27: COMPOSIÇÃO | C27: 03 | D27: ALVENARIA EM TIJOLO CERAMICO FURADO 9X19X19CM, 1 VEZ (ESPESSURA 19 CM), ASSENTADO EM ARGAMASSA TRACO 1:4, JUNTAS DE 1 CM | E27: M² | F27: 105.66 | G27: ='(COMPOSIÇÕES GERAL)'!J58 -> 82.91 | H27: 99.91 | I27: =TRUNC($F27*H27,2) -> 10556.49
A28: 3.3 | B28: SINAPI | C28: 96535 | D28: FABRICAÇÃO, MONTAGEM E DESMONTAGEM DE FÔRMA PARA SAPATA, EM MADEIRA SERRADA, E=25 MM, 4 UTILIZAÇÕES. AF_06/2017 | E28: M2 | F28: 113.24 | G28: 158.48 | H28: 190.97 | I28: =TRUNC(F28*H28,2) -> 21625.44 | J28: ok
A29: 3.4 | B29: SINAPI | C29: 96536 | D29: FABRICAÇÃO, MONTAGEM E DESMONTAGEM DE FÔRMA PARA VIGA BALDRAME, EM MADEIRA SERRADA, E=25 MM, 4 UTILIZAÇÕES. AF_06/2017 | E29: M2 | F29: 207.72 | G29: 82.85 | H29: 99.83 | I29: =TRUNC(F29*H29,2) -> 20736.68 | J29: ok
A30: 3.5 | B30: SINAPI | C30: 96544 | D30: ARMAÇÃO DE BLOCO, VIGA BALDRAME OU SAPATA UTILIZANDO AÇO CA-50 DE 6,3 MM - MONTAGEM. AF_06/2017 | E30: KG | F30: 18 | G30: 18,26 | H30: 22 | I30: =TRUNC(F30*H30,2) -> 396 | J30: ok
A31: 3.6 | B31: SINAPI | C31: 96545 | D31: ARMAÇÃO DE BLOCO, VIGA BALDRAME OU SAPATA UTILIZANDO AÇO CA-50 DE 8 MM - MONTAGEM. AF_06/2017 | E31: KG | F31: 637.91 | G31: 17,04 | H31: 20.53 | I31: =TRUNC(F31*H31,2) -> 13096.29 | J31: ok
A32: 3.7 | B32: SINAPI | C32: 96546 | D32: ARMAÇÃO DE BLOCO, VIGA BALDRAME OU SAPATA UTILIZANDO AÇO CA-50 DE 10 MM - MONTAGEM. AF_06/2017 | E32: KG | F32: 872.35 | G32: 15,22 | H32: 18.34 | I32: =TRUNC(F32*H32,2) -> 15998.89 | J32: ok
A33: 3.8 | B33: SINAPI | C33: 96547 | D33: ARMAÇÃO DE BLOCO, VIGA BALDRAME OU SAPATA UTILIZANDO AÇO CA-50 DE 12,5 MM - MONTAGEM. AF_06/2017 | E33: KG | F33: 95 | G33: 12,85 | H33: 15.48 | I33: =TRUNC(F33*H33,2) -> 1470.6 | J33: ok
A34: 3.9 | B34: SINAPI | C34: 96543 | D34: ARMAÇÃO DE BLOCO, VIGA BALDRAME E SAPATA UTILIZANDO AÇO CA-60 DE 5 MM - MONTAGEM. AF_06/2017 | E34: KG | F34: 325.28 | G34: 19,48 | H34: 23.47 | I34: =TRUNC(F34*H34,2) -> 7634.32 | J34: ok
A35: 3.10 | B35: SINAPI | C35: 94971 | D35: CONCRETO FCK = 25MPA, TRAÇO 1:2,3:2,7 (EM MASSA SECA DE CIMENTO/ AREIA MÉDIA/ BRITA 1) - PREPARO MECÂNICO COM BETONEIRA 600 L. AF_05/2021 | E35: M3 | F35: 32.7 | G35: 490.95 | H35: 591.59 | I35: =TRUNC(F35*H35,2) -> 19344.99 | J35: ok
A36: 3.11 | B36: SINAPI | C36: 103670 | D36: LANÇAMENTO COM USO DE BALDES, ADENSAMENTO E ACABAMENTO DE CONCRETO EM ESTRUTURAS. AF_02/2022 | E36: M3 | F36: 32.7 | G36: 288,35 | H36: 347.46 | I36: =TRUNC(F36*H36,2) -> 11361.94 | J36: ok
A37: 3.12 | B37: SINAPI | C37: 98557 | D37: IMPERMEABILIZAÇÃO DE SUPERFÍCIE COM EMULSÃO ASFÁLTICA, 2 DEMÃOS AF_06/2018 | E37: M2 | F37: 256.2 | G37: 42.96 | H37: 51.77 | I37: =TRUNC($F37*H37,2) -> 13263.47
A38: 3.13 | B38: SINAPI | C38: 104487 | D38: COMPOSIÇÃO PARAMÉTRICA PARA EXECUÇÃO DE ESTRUTURAS DE CONCRETO ARMADO, PARA EDIFICAÇÃO HABITACIONAL UNIFAMILIAR TÉRREA (CASA EM EMPREENDIMENTOS), FCK = 25 MPA. AF_11/2022 | E38: M3 | F38: 8.12 | G38: 2.723,28 | H38: 3281.55 | I38: =TRUNC($F38*H38,2) -> 26646.18
A39: 4.0 | D39: ESTRUTURA | I39: =SUM(I40:I55) -> 350794.32 | J39: 4
A40: 4.1 | B40: SINAPI | C40: 92431 | D40: MONTAGEM E DESMONTAGEM DE FÔRMA DE PILARES RETANGULARES E ESTRUTURAS SIMILARES, PÉ-DIREITO SIMPLES, EM CHAPA DE MADEIRA COMPENSADA PLASTIFICADA, 10 UTILIZAÇÕES. AF_09/2020 | E40: M2 | F40: 178.78 | G40: 60.01 | H40: 72.31 | I40: =TRUNC($F40*H40,2) -> 12927.58
A41: 4.2 | B41: SINAPI | C41: 92476 | D41: MONTAGEM E DESMONTAGEM DE FÔRMA DE VIGA, ESCORAMENTO METÁLICO, PÉ-DIREITO SIMPLES, EM CHAPA DE MADEIRA PLASTIFICADA, 14 UTILIZAÇÕES. AF_09/2020 | E41: M2 | F41: 572.29 | G41: 100.7 | H41: 121.34 | I41: =TRUNC($F41*H41,2) -> 69441.66
A42: 4.3 | B42: SINAPI | C42: 92759 | D42: ARMAÇÃO DE PILAR OU VIGA DE UMA ESTRUTURA CONVENCIONAL DE CONCRETO ARMADO EM UM EDIFÍCIO DE MÚLTIPLOS PAVIMENTOS UTILIZANDO AÇO CA-60 DE 5,0 MM - MONTAGEM. AF_12/2015 | E42: KG | F42: 902.63 | G42: 16.06 | H42: 19.35 | I42: =TRUNC($F42*H42,2) -> 17465.89
...

Sheet CRONOGRAMA ONERADO
A1: CRONOGRAMA FÍSICO-FINANCEIRO
A3: OBRA: CONSTRUÇÃO DE CRECHE MUNICIPAL NO BAIRRO SANTO ANTÔNIO MUNICÍPIO DE SURUBIM-PE
A4: LOCALIZAÇÃO: BAIRRO SANTO ANTÔNIO, ZONA URBANA, SURUBIM-PE
A5: DATA: SETEMBRO/2023
A7: ETAPA | B7: SERVIÇO | C7: UNIDADE | D7: TOTAL ETAPA (R$) | E7: MÊS/ DESEMBOLSO
E8: 1º MÊS | F8: 2º MÊS | G8: 3º MÊS | H8: 4º MÊS | I8: 5º MÊS | J8: 6º MÊS | K8: 7º MÊS | L8: 8º MÊS | M8: 9º MÊS | N8: 10º MÊS
A10: 1.0 | B10: SERVIÇOS PRELIMINARES | C10: R$ | D10: 56531.79 | E10: =TRUNC($D10*E11,2) -> 56531.79 | P10: =D10-SUM(E10:N10) -> 0
C11: % | D11: 0.031800745 | E11: 1 | P11: =1-SUM(E11:N11) -> 0
A12: 2.0 | B12: TRABALHOS EM TERRA | C12: R$ | D12: 30270.35 | E12: =TRUNC($D12*E13,2) -> 18162.21 | F12: =TRUNC($D12*F13,2) -> 12108.14 | P12: =D12-SUM(E12:N12) -> 0
C13: % | D13: 0.017027936 | E13: 0.6 | F13: 0.4 | P13: =1-SUM(E13:N13) -> 0
A14: 3.0 | B14: INFRAESTRUTURA | C14: R$ | D14: 168298.59 | E14: =TRUNC($D14*E15,2) -> 84149.29 | F14: =TRUNC($D14*F15,2)+0.02 -> 50489.59 | H14: =TRUNC($D14*H15,2) -> 33659.71 | P14: =D14-SUM(E14:N14) -> 0
C15: % | D15: 0.09467276 | E15: 0.5 | F15: 0.3 | H15: 0.2 | P15: =1-SUM(E15:N15) -> 0
A16: 4.0 | B16: ESTRUTURA | C16: R$ | D16: 350794.32 | F16: =TRUNC($D16*F17,2) -> 122778.01 | G16: =TRUNC($D16*G17,2) -> 122778.01 | H16: =TRUNC($D16*H17,2)+0.01 -> 105238.3 | P16: =D16-SUM(E16:N16) -> 0
C17: % | D17: 0.19733182 | F17: 0.35 | G17: 0.35 | H17: 0.3 | P17: =1-SUM(E17:N17) -> 0
A18: 5.0 | B18: PAREDES E REVESTIMENTOS | C18: R$ | D18: 350927.79 | G18: =TRUNC($D18*G19,2) -> 52639.16 | I18: =TRUNC($D18*I19,2)+0.01 -> 122824.73 | J18: =TRUNC($D18*J19,2)+0.01 -> 140371.12 | K18: =TRUNC($D18*K19,2)+0.01 -> 35092.78 | P18: =D18-SUM(E18:N18) -> 0
C19: % | D19: 0.1974069 | G19: 0.15 | I19: 0.35 | J19: 0.4 | K19: 0.1 | P19: =1-SUM(E19:N19) -> 0
A20: 6.0 | B20: PISOS | C20: R$ | D20: 203627.59 | I20: =TRUNC($D20*I21,2) -> 40725.51 | K20: =TRUNC($D20*K21,2)+0.01 -> 81451.04 | L20: =TRUNC($D20*L21,2)+0.01 -> 81451.04 | P20: =D20-SUM(E20:N20) -> 0
C21: % | D21: 0.11454633 | I21: 0.2 | K21: 0.4 | L21: 0.4 | P21: =1-SUM(E21:N21) -> 0
A22: 7.0 | B22: COBERTURA | C22: R$ | D22: 114932.75 | K22: =TRUNC($D22*K23,2) -> 57466.37 | L22: =TRUNC($D22*L23,2)+0.01 -> 17239.92 | M22: =TRUNC($D22*M23,2) -> 40226.46 | P22: =D22-SUM(E22:N22) -> 0
C23: % | D23: 0.064652952 | K23: 0.5 | L23: 0.15 | M23: 0.35 | P23: =1-SUM(E23:N23) -> 0
A24: 8.0 | B24: ESQUADRIAS | C24: R$ | D24: 143872.53 | J24: =TRUNC($D24*J25,2)+0.01 -> 28774.51 | M24: =TRUNC($D24*M25,2) -> 57549.01 | N24: =TRUNC($D24*N25,2) -> 57549.01 | P24: =D24-SUM(E24:N24) -> 0
C25: % | D25: 0.080932404 | J25: 0.2 | M25: 0.4 | N25: 0.4 | P25: =1-SUM(E25:N25) -> 0
A26: 9.0 | B26: PINTURA | C26: R$ | D26: 48896.39 | M26: =TRUNC($D26*M27,2) -> 9779.27 | N26: =TRUNC($D26*N27,2)+0.01 -> 39117.12 | P26: =D26-SUM(E26:N26) -> 0
C27: % | D27: 0.027505615 | M27: 0.2 | N27: 0.8 | P27: =1-SUM(E27:N27) -> 0
A28: 10.0 | B28: INSTALAÇÕES HIDROSSANITÁRIAS | C28: R$ | D28: 167696.62 | H28: =TRUNC($D28*H29,2) -> 16769.66 | L28: =TRUNC($D28*L29,2) -> 67078.64 | M28: =TRUNC($D28*M29,2)+0.01 -> 41924.16 | N28: =TRUNC($D28*N29,2)+0.01 -> 41924.16 | P28: =D28-SUM(E28:N28) -> 0
C29: % | D29: 0.094334135 | H29: 0.1 | L29: 0.4 | M29: 0.25 | N29: 0.25 | P29: =1-SUM(E29:N29) -> 0
A30: 11.0 | B30: INSTALAÇÕES ELÉTRICAS | C30: R$ | D30: 47158.07 | H30: =TRUNC($D30*H31,2) -> 9431.61 | L30: =TRUNC($D30*L31,2) -> 18863.22 | M30: =TRUNC($D30*M31,2)+0.01 -> 9431.62 | N30: =TRUNC($D30*N31,2)+0.01 -> 9431.62 | P30: =D30-SUM(E30:N30) -> 0
C31: % | D31: 0.02652776 | H31: 0.2 | L31: 0.4 | M31: 0.2 | N31: 0.2 | P31: =1-SUM(E31:N31) -> 0
A32: 12.0 | B32: SERVIÇOS COMPLEMENTARES | C32: R$ | D32: 42798.31 | M32: =TRUNC($D32*M33,2)+0.01 -> 17119.33 | N32: =TRUNC($D32*N33,2) -> 25678.98 | P32: =D32-SUM(E32:N32) -> 0
C33: % | D33: 0.024075271 | M33: 0.4 | N33: 0.6 | P33: =1-SUM(E33:N33) -> 0
A34: 13.0 | B34: ADMINISTRAÇÃO LOCAL | C34: R$ | D34: 51882.48 | E34: =TRUNC($D34*E35,2) -> 5188.24 | F34: =TRUNC($D34*F35,2) -> 5188.24 | G34: =TRUNC($D34*G35,2) -> 5188.24 | H34: =TRUNC($D34*H35,2) -> 5188.24 | I34: =TRUNC($D34*I35,2) -> 5188.24 | J34: =TRUNC($D34*J35,2) -> 5188.24 | K34: =TRUNC($D34*K35,2) -> 5188.24 | L34: =TRUNC($D34*L35,2) -> 5188.24 | M34: =TRUNC($D34*M35,2) -> 5188.24 | N34: =TRUNC($D34*N35,2)+0.08 -> 5188.32 | P34: =D34-SUM(E34:N34) -> 0
C35: % | D35: 0.029185376 | E35: 0.1 | F35: 0.1 | G35: 0.1 | H35: 0.1 | I35: 0.1 | J35: 0.1 | K35: 0.1 | L35: 0.1 | M35: 0.1 | N35: 0.1 | P35: =1-SUM(E35:N35) -> 0
C37: TOTAL R$ | D37: =SUM(D10,D12,D14,D16,D18,D20,D22,D24,D26,D28,D30,D32,D34,) -> 1777687.6
C38: TOTAL % | D38: =D37/$D$37 -> 1
A40: TOTAIS PARCIAIS | E40: =SUM(E10,E12,E14,E16,E18,E20,E22,E24,,E26,,E28,E30,E32,E34,) -> 164031.53 | F40: =SUM(F10,F12,F14,F16,F18,F20,F22,F24,,F26,,F28,F30,F32,F34,) -> 190563.98 | G40: =SUM(G10,G12,G14,G16,G18,G20,G22,G24,,G26,,G28,G30,G32,G34,) -> 180605.41 | H40: =SUM(H10,H12,H14,H16,H18,H20,H22,H24,,H26,,H28,H30,H32,H34,) -> 170287.52 | I40: =SUM(I10,I12,I14,I16,I18,I20,I22,I24,,I26,,I28,I30,I32,I34,) -> 168738.48 | J40: =SUM(J10,J12,J14,J16,J18,J20,J22,J24,,J26,,J28,J30,J32,J34,) -> 174333.87 | K40: =SUM(K10,K12,K14,K16,K18,K20,K22,K24,,K26,,K28,K30,K32,K34,) -> 179198.43 | L40: =SUM(L10,L12,L14,L16,L18,L20,L22,L24,,L26,,L28,L30,L32,L34,) -> 189821.06 | ... N40: =SUM(N10,N12,N14,N16,N18,N20,N22,N24,,N26,,N28,N30,N32,N34,) -> 178889.21 | P40: =D37-SUM(E40:N40) -> 0
E41: =E40/$D$37 -> 0.092272417 | F41: =F40/$D$37 -> 0.10719768 | G41: =G40/$D$37 -> 0.1015957 | H41: =H40/$D$37 -> 0.09579159 | I41: =I40/$D$37 -> 0.094920211 | J41: =J40/$D$37 -> 0.098067777 | K41: =K40/$D$37 -> 0.10080423 | L41: =L40/$D$37 -> 0.10677976 | ... N41: =N40/$D$37 -> 0.10063029 | P41: =1-SUM(E41:N41) -> 0
A43: TOTAIS ACUMULADOS | E43: =E40 -> 164031.53 | F43: =F40+E43 -> 354595.51 | G43: =G40+F43 -> 535200.92 | H43: =H40+G43 -> 705488.44 | I43: =I40+H43 -> 874226.92 | J43: =J40+I43 -> 1048560.8 | K43: =K40+J43 -> 1227759.2 | L43: =L40+K43 -> 1417580.3 | M43: =M40+L43 -> 1598798.4 | N43: =N40+M43 -> 1777687.6
E44: =E43/$D$37 -> 0.092272417 | F44: =F43/$D$37 -> 0.19947009 | G44: =G43/$D$37 -> 0.30106579 | H44: =H43/$D$37 -> 0.39685738 | I44: =I43/$D$37 -> 0.49177759 | J44: =J43/$D$37 -> 0.58984537 | K44: =K43/$D$37 -> 0.6906496 | L44: =L43/$D$37 -> 0.79742937 | ... N44: =N43/$D$37 -> 1
M45: TOTAL GERAL | N45: =N43 -> 1777687.6
P47: MEDIA/MÊS | Q47: =#REF!/10 -> #REF!

Sheet BDI_EDIFICACOES_20,50%_SEM
B2: COMPOSIÇÃO DE BDI PARA SERVIÇOS GERAIS DE EDIFICAÇÕES
B4: CÁLCULO DE BDI – SEM DESONERAÇÃO
B6: OBRA: CONSTRUÇÃO DE CRECHE MUNICIPAL NO BAIRRO SANTO ANTÔNIO MUNICÍPIO DE SURUBIM-PE
B7: LOCALIZAÇÃO: BAIRRO SANTO ANTÔNIO, ZONA URBANA, SURUBIM-PE
B8: DATA: SETEMBRO/2023
B10: DESCRIÇÃO | C10: SIGLA | D10: VALOR (*) | F10: FAIXA REFERENCIAL - Ref. Acórdão 2622/2013
B12: Administração Central | C12: AC | D12: 0.0355 | E12: med | F12: De 3,00% até 5,50%; médio = 4,00%
B13: Despesas Financeiras | C13: DF | D13: 0.0113 | E13: med | F13: De 0,59% até 1,39%; médio = 1,23%
B14: Risco | C14: R | D14: 0.0097 | E14: med | F14: De 0,97% até 1,27%; médio = 1,27%
B15: Seguro e Taxa de Garantia | C15: S + G | D15: 0.008 | E15: *med=min | F15: De 0,80% até 1,00%; médio = 0,80%
B16: COFINS | C16: COFINS | D16: 0.03
B17: ISS (**) | C17: ISS | D17: 0.025 | E17: =0.05*0.5 -> 0.025
B18: PIS | C18: PIS | D18: 0.0065
B19: CONTRIBUIÇÃO PREVIDENCIÁRIA SOBRE RECEITA BRUTA (***) | C19: CPRB | D19: 0 | E19: *
B20: Tributos (Soma dos itens COFINS, ISS, PIS e CPRB) | C20: I | D20: =SUM(D16:D19) -> 0.0615
B21: Lucro | C21: L | D21: 0.0618 | E21: min-med | F21: De 6,16% até 8,96%; médio = 7,40%
B23: BDI Resultante | D23: =ROUND((((1+D12+D15+D14)*(1+D13)*(1+D21))/(1-D20))-1,4) -> 0.205 | E23: (BDI padrão Edificações com CPRB considerando M.O. de 40%)
F24: De 20,34% até 25,00%; médio = 22,12%
B27: Fórmula do BDI conforme Acórdão TCU 2622/2013-P:
B35: Obs.:
B36: (*) Todas as taxas adotadas estão na faixa admissível do Acórdão 2622/2013-P do TCU.
B37: (**) A alíquota de ISS no Município de Surubim/PE é de 5% sobre os custos de mão de obra. Considerou-se para todos os serviços uma proporção de 50% de mão de obra, de modo que a taxa de ISS a incidir sobre os custos unitários dos itens será de 5% x 50% = 2,50%.
B38: (***) Declaro para os devidos fins que o regime de Contribuição Previdenciária sobre a Receita Bruta adotado para elaboração do orçamento foi SEM Desoneração , e que esta é a alternativa mais adequada para a Administração Pública. | F38: Obs.: 1. Acompanhar a questão, pois existe a possibilidade da Lei da Desoneração vencer ou ser revogada. 2. As atividades incluídas na desoneração são as relativas aos grupos 412, 432, 433 e 439 da CNAE 2.0
B41: Obs.:
B42: Os custos indiretos são decorrentes da estrutura da obra e da empresa e que não podem ser atribuídos diretamente à execução de um dado serviço. Os custos indiretos variam muito, principalmente, em função do local de execução dos serviços, do tipo da obra, impostos incidentes, e ainda com as exigências do edital ou contrato. Devem ser distribuídos pelos custos unitários diretos totais dos serviços na forma de percentual destes. Os custos indiretos que mais afetam a construção estão a seguir identificados, entretanto, o engenheiro de custos deve analisar em cada caso sua validade.
B56: Fórmula BDI conforme Acórdão TCU 325/2007:
