Workbook
Name \d: #N/A
Name \f: #N/A
Name \p: #N/A
Name _BSADJ: #REF!
Name _BSTGT: #REF!
Name _IND1: #REF!
Name _IND2: #REF!
Name a: #REF!
Name acha.coluna: #REF!
Name acha.dados: #REF!
Name acha.dados2: #REF!
Name acha.linha: #REF!
Name acha.linha2: #REF!
Name Área_impressão_IM: #REF!
Name Área_impressão_IM2: #REF!
Name AreaTeste: #REF!
Name AreaTeste: #REF!
Name AreaTeste: #REF!
Name AreaTeste: #REF!
Name AreaTeste2: #REF!
Name AreaTeste2: #REF!
Name AreaTeste2: #REF!
Name bdi: #REF!
Name BDIlds: '[2]LIGAÇÕES DOMICILIARES (SER)'!$K$13
Name BDIm: #REF!
Name BDIs: [3]Serv!$I$11
Name cb: #REF!
Name ccc: #REF!
Name CélulaInicioPlanilha: #REF!
Name CélulaInicioPlanilha: #REF!
Name CélulaInicioPlanilha: #REF!
Name CélulaInicioPlanilha: #REF!
Name CélulaResumo: #REF!
Name CélulaResumo: #REF!
Name CélulaResumo: #REF!
Name cer: #REF!
Name CRITERIOS2: #REF!
Name CRONOGRAMA: #REF!
Name dssds: #REF!
Name Exist: #REF!
Name fdfd: #REF!
Name fdfd: #REF!
Name fdfd: #REF!
Name GERAL: '[4](ORÇAMENTO GERAL)'!$A$13:$Q$939
Name INCC: [3]Mat!$J$9
Name INCC1: [3]Serv!$I$10
Name j: #REF!
Name jfhdskjg: #REF!
Name jfhdskjg: #REF!
Name jfhdskjg: #REF!
Name jfhdskjg: #REF!
Name K: #REF!
Name kapa: [6]resumo!$D$2
Name KAPA1: #REF!
Name KAPAs: [3]Serv!$E$9
Name Ks: '[7]SERVIÇOS '!$G$10
Name lista: #REF!
Name lista.coluna: #REF!
Name lista.linha: #REF!
Name Macro1: #N/A

Sheet SINAPI-02-2026
B1: 1 | C1: 2 | D1: 3 | E1: 4 | F1: 5 | G1: 6 | H1: 7
E2: COM DESONERAÇÃO | F2: SEM DESONERAÇÃO | G2: SP DESON | H2: SP ONERADO
A3: Grupo | B3: Código da Composição | C3: Descrição | D3: Unidade | E3: Custo (R$) | F3: Custo (R$)
A4: Acessibilidade | B4: 104658 | C4: PISO PODOTÁTIL DE ALERTA OU DIRECIONAL, DE CONCRETO, ASSENTADO SOBRE ARGAMASSA. AF_03/2024 | D4: M2 | E4: 155.92 | F4: 158.62
A5: Acessibilidade | B5: 105002 | C5: RAMPA DE ACESSIBILIDADE EM CONCRETO MOLDADO IN LOCO, EM CALÇADA NOVA COM LARGURA MAIOR OU IGUAL À 3,00 M, FCK 25MPA, COM PISO PODOTÁTIL. AF_03/2024 | D5: UN | E5: 767.25 | F5: 786.96
A6: Acessibilidade | B6: 105004 | C6: RAMPA DE ACESSIBILIDADE EM CONCRETO MOLDADO IN LOCO, EM CALÇADA NOVA COM LARGURA MENOR À 3,00 M, FCK 25MPA, COM PISO PODOTÁTIL. AF_03/2024 | D6: M2 | E6: 130.81 | F6: 134.21
A7: Acessibilidade | B7: 105003 | C7: RAMPA DE ACESSIBILIDADE EM CONCRETO MOLDADO IN LOCO, EM CALÇADA PRÉ EXISTENTE COM LARGURA MAIOR OU IGUAL À 3,00 M, FCK 25MPA, COM PISO PODOTÁTIL. AF_03/2024 | D7: UN | E7: 1189.47 | F7: 1227.18
A8: Acessibilidade | B8: 105005 | C8: RAMPA DE ACESSIBILIDADE EM CONCRETO MOLDADO IN LOCO, EM CALÇADA PRÉ EXISTENTE COM LARGURA MENOR À 3,00 M, FCK 25MPA, COM PISO PODOTÁTIL. AF_03/2024 | D8: M2 | E8: 209 | F8: 215.74
A9: Acessibilidade | B9: 105006 | C9: RAMPA DE ACESSIBILIDADE EM CONCRETO PRÉ MOLDADO, EM CALÇADA NOVA COM LARGURA MAIOR OU IGUAL À 3,00 M, FCK 25MPA, COM PISO PODOTÁTIL. AF_03/2024 | D9: UN | E9: 0 | F9: 0
A10: Acessibilidade | B10: 104999 | C10: RAMPA DE ACESSIBILIDADE EM CONCRETO PRÉ MOLDADO, EM CALÇADA PRÉ EXISTENTE COM LARGURA MAIOR OU IGUAL À 3,00 M, FCK 25MPA, COM PISO PODOTÁTIL. AF_03/2024 | D10: UN | E10: 0 | F10: 0
A11: Acessibilidade | B11: 105000 | C11: RAMPA DE ACESSIBILIDADE PARA ACESSO A EDIFICAÇÕES COM INCLINAÇÃO DE 8,33% EM CONCRETO MOLDADO IN LOCO, COM LARGURA DE 1,20M, FCK 25MPA, NÃO ARMADA, COM JUNTA A CADA 2M COM CORTE À SECO. AF_03/2024 | D11: M | E11: 1120.59 | F11: 1143.75
A12: Acessibilidade | B12: 105001 | C12: RAMPA DE ACESSIBILIDADE PARA ACESSO A EDIFICAÇÕES COM INCLINAÇÃO DE 8,33% EM CONCRETO MOLDADO IN LOCO, COM LARGURA DE 1,50M, FCK 25MPA, NÃO ARMADA, COM JUNTA A CADA 2M COM CORTE À SECO. AF_03/2024 | D12: M | E12: 1153.58 | F12: 1177.07
A13: Alvenaria Estrutural - Blocos Cerâmicos | B13: 89306 | C13: ALVENARIA ESTRUTURAL DE BLOCOS CERÂMICOS 14X19X29, (ESPESSURA DE 14 CM), UTILIZANDO COLHER DE PEDREIRO E ARGAMASSA DE ASSENTAMENTO COM PREPARO EM BETONEIRA. AF_03/2023 | D13: M2 | E13: 89.76 | F13: 92.69
A14: Alvenaria Estrutural - Blocos Cerâmicos | B14: 89307 | C14: ALVENARIA ESTRUTURAL DE BLOCOS CERÂMICOS 14X19X29, (ESPESSURA DE 14 CM), UTILIZANDO COLHER DE PEDREIRO E ARGAMASSA DE ASSENTAMENTO COM PREPARO MANUAL. AF_03/2023 | D14: M2 | E14: 92.42 | F14: 95.5
A15: Alvenaria Estrutural - Blocos Cerâmicos | B15: 89290 | C15: ALVENARIA ESTRUTURAL DE BLOCOS CERÂMICOS 14X19X29, (ESPESSURA DE 14 CM), UTILIZANDO PALHETA E ARGAMASSA DE ASSENTAMENTO COM PREPARO EM BETONEIRA. AF_03/2023 | D15: M2 | E15: 72.73 | F15: 74.82
... A10362: Válvulas para Redes de Saneamento | B10362: 103556 | C10362: VÁLVULA REDUTORA DE PRESSÃO DE FERRO FUNDIDO PARA REDE DE ÁGUA, DN 500 MM, JUNTA FLANGEADA. AF_12/2021 | D10362: UN | E10362: 0 | F10362: 0
A10363: Válvulas para Redes de Saneamento | B10363: 103548 | C10363: VÁLVULA REDUTORA DE PRESSÃO DE FERRO FUNDIDO PARA REDE DE ÁGUA, DN 80 MM, JUNTA FLANGEADA. AF_12/2021 | D10363: UN | E10363: 0 | F10363: 0 | G10363: X | H10363: X
A10364: SERVIÇOS | B10364: 45333 | C10364: ABERTURA PARA ENCAIXE DE CUBA OU LAVATORIO EM BANCADA DE MARMORE/ GRANITO OU OUTRO TIPO DE PEDRA NATURAL | D10364: UN | E10364: 199.02 | F10364: 199.02 | G10364: 189.89 | H10364: 189.89
A10365: MATERIAL | B10365: 11270 | C10365: ABRACADEIRA DE LATAO PARA FIXACAO DE CABO PARA-RAIO, DIMENSOES 32 X 24 X 24 MM | D10365: UN | E10365: 4.05 | F10365: 4.05 | G10365: 2.52 | H10365: 2.52
A10366: MATERIAL | B10366: 412 | C10366: ABRACADEIRA DE NYLON PARA AMARRACAO DE CABOS, COMPRIMENTO DE *230* X *7,6* MM | D10366: UN | E10366: 1.18 | F10366: 1.18 | G10366: 1.13 | H10366: 1.13
A10367: MATERIAL | B10367: 414 | C10367: ABRACADEIRA DE NYLON PARA AMARRACAO DE CABOS, COMPRIMENTO DE 100 X 2,5 MM | D10367: UN | E10367: 0.07 | F10367: 0.07 | G10367: 0.07 | H10367: 0.07
A10368: MATERIAL | B10368: 410 | C10368: ABRACADEIRA DE NYLON PARA AMARRACAO DE CABOS, COMPRIMENTO DE 150 X *3,6* MM | D10368: UN | E10368: 0.18 | F10368: 0.18 | G10368: 0.17 | H10368: 0.17
A10369: MATERIAL | B10369: 411 | C10369: ABRACADEIRA DE NYLON PARA AMARRACAO DE CABOS, COMPRIMENTO DE 200 X *4,6* MM | D10369: UN | E10369: 0.23 | F10369: 0.23 | G10369: 0.22 | H10369: 0.22
A10370: MATERIAL | B10370: 408 | C10370: ABRACADEIRA DE NYLON PARA AMARRACAO DE CABOS, COMPRIMENTO DE 390 X *4,6* MM | D10370: UN | E10370: 1.14 | F10370: 1.14 | G10370: 1.09 | H10370: 1.09
A10371: MATERIAL | B10371: 39131 | C10371: ABRACADEIRA EM ACO PARA AMARRACAO DE ELETRODUTOS, TIPO D, COM 1 1/2" E CUNHA DE FIXACAO | D10371: UN | E10371: 5.1 | F10371: 5.1 | G10371: 3.35 | H10371: 3.35
A10372: MATERIAL | B10372: 394 | C10372: ABRACADEIRA EM ACO PARA AMARRACAO DE ELETRODUTOS, TIPO D, COM 1 1/2" E PARAFUSO DE FIXACAO | D10372: UN | E10372: 5.17 | F10372: 5.17 | G10372: 3.39 | H10372: 3.39
A10373: MATERIAL | B10373: 39130 | C10373: ABRACADEIRA EM ACO PARA AMARRACAO DE ELETRODUTOS, TIPO D, COM 1 1/4" E CUNHA DE FIXACAO | D10373: UN | E10373: 4.65 | F10373: 4.65 | G10373: 3.05 | H10373: 3.05
A10374: MATERIAL | B10374: 395 | C10374: ABRACADEIRA EM ACO PARA AMARRACAO DE ELETRODUTOS, TIPO D, COM 1 1/4" E PARAFUSO DE FIXACAO | D10374: UN | E10374: 4.97 | F10374: 4.97 | G10374: 3.26 | H10374: 3.26
A10375: MATERIAL | B10375: 39129 | C10375: ABRACADEIRA EM ACO PARA AMARRACAO DE ELETRODUTOS, TIPO D, COM 1" E CUNHA DE FIXACAO | D10375: UN | E10375: 2.87 | F10375: 2.87 | G10375: 1.88 | H10375: 1.88
... A10407: MATERIAL | B10407: 36246 | C10407: ACABAMENTO SIMPLES/CONVENCIONAL PARA FORRO PVC, TIPO "U" OU "C", COR BRANCA, COMPRIMENTO 6 M | D10407: M | E10407: 4.26 | F10407: 4.26 | G10407: 4.09 | H10407: 4.09
A10408: MATERIAL | B10408: 37600 | C10408: ACESSORIO DE LIGACAO NAO ELETRICO PARA CARGAS EXPLOSIVAS, TUBO DE 6 M | D10408: UN | G10408: 104.86 | H10408: 104.86
A10409: MATERIAL | B10409: 37599 | C10409: ACESSORIO INICIADOR NAO ELETRICO, TUBO DE 6 M, TEMPO DE RETARDO DE *160* MS | D10409: UN | G10409: 97.6 | H10409: 97.6
A10410: MATERIAL | B10410: 1 | C10410: ACETILENO - RECARGA DE GAS PARA CILINDRO (NAO INCLUI TROCA/MANUTENCAO DO CILINDRO) | D10410: KG | G10410: 110 | H10410: 110
A10411: MATERIAL | B10411: 3 | C10411: ACIDO CLORIDRICO / ACIDO MURIATICO, DILUICAO 10% A 12% PARA USO EM LIMPEZA | D10411: L | E10411: 28.1 | F10411: 28.1 | G10411: 19.12 | H10411: 19.12
A10412: MATERIAL | B10412: 43054 | C10412: ACO CA-25, 10,0 MM, OU 12,5 MM, OU 16,0 MM, OU 20,0 MM, OU 25,0 MM, VERGALHAO | D10412: KG | E10412: 7.96 | F10412: 7.96 | G10412: 6.7 | H10412: 6.7
A10413: MATERIAL | B10413: 42402 | C10413: ACO CA-25, 16,0 MM, BARRA DE TRANSFERENCIA | D10413: KG | E10413: 7.61 | F10413: 7.61 | G10413: 6.4 | H10413: 6.4
A10414: MATERIAL | B10414: 42403 | C10414: ACO CA-25, 20,0 MM, BARRA DE TRANSFERENCIA | D10414: KG | E10414: 9.76 | F10414: 9.76 | G10414: 8.21 | H10414: 8.21
A10415: MATERIAL | B10415: 42404 | C10415: ACO CA-25, 25,0 MM, BARRA DE TRANSFERENCIA | D10415: KG | E10415: 9.71 | F10415: 9.71 | G10415: 8.16 | H10415: 8.16
A10416: MATERIAL | B10416: 42405 | C10416: ACO CA-25, 32,0 MM, BARRA DE TRANSFERENCIA | D10416: KG | E10416: 10.34 | F10416: 10.34 | G10416: 8.7 | H10416: 8.7
A10417: MATERIAL | B10417: 34341 | C10417: ACO CA-25, 32,0 MM, VERGALHAO | D10417: KG | E10417: 8.97 | F10417: 8.97 | G10417: 7.55 | H10417: 7.55
...

Sheet MEMÓRIA
A1: MEMÓRIA DE CÁLCULO EXPLICATIVO
A2: PROJETO
A4: OBRA: CONSTRUÇÃO DE UMA ESCOLA DE 06 SALAS (PROJETO PADRÃO FNDE) E UMA QUADRA COBERTA COM VESTIÁRIO (PROJETO PADRÃO FNDE) NO SÍTIO CAI-AÍ - SURUBIM/PE
A5: LOCAL: ESTRADA DO CAI-AÍ, S/N, SÍTIO CAI-AÍ, SURUBIM/PE (-7.842863, -35.705517)
A6: FONTES DE PREÇOS: SINAPI-PE FEVEREIRO/2026 E COMPOSIÇÕES
A7: DATA-BASE: JUNHO/2026
A9: ITEM | B9: FONTE | C9: CÓDIGO | D9: DESCRIÇÃO | E9: UN. | F9: TAXA | G9: COMP | H9: LARG | I9: ALTURA/ESP | J9: TOTAL
A11: 1.0 | D11: ADMINISTRAÇÃO, SERVIÇOS PRELIMINARES E CANTEIRO DE OBRAS
A13: 1.1 | B13: COMPOSIÇÃO | C13: 001 | D13: ADMINISTRAÇÃO LOCAL
A15: 1.1.1 | B15: COMPOSIÇÃO | C15: 001 | D15: ENGENHEIRO CIVIL DE OBRA PLENO COM ENCARGOS COMPLEMENTARES | E15: MES
D16: 1 engenheiro 1/2 dia/semana | F16: 12 | G16: =1/2 -> 0.5 | H16: =1/5 -> 0.2 | J16: =ROUND(PRODUCT(F16:I16),2) -> 1.2
D18: ="Total item "&A15 -> Total item 1.1.1 | J18: =SUM(J16:J17) -> 1.2
A20: 1.1.2 | B20: COMPOSIÇÃO | C20: 001 | D20: ENCARREGADO GERAL DE OBRAS COM ENCARGOS COMPLEMENTARES | E20: MES
D21: 1 encarregado em tempo integral | F21: 12 | G21: 1 | H21: 1 | J21: =ROUND(PRODUCT(F21:I21),2) -> 12
D23: ="Total item "&A20 -> Total item 1.1.2 | J23: =SUM(J21:J22) -> 12
A25: 1.2 | B25: COMPOSIÇÃO | C25: 001 | D25: SERVIÇOS PRELIMINARES E CANTEIRO DE OBRAS
A27: 1.2.2 | B27: COMPOSIÇÃO | C27: 001 | D27: LOCAÇÃO CONVENCIONAL DE OBRA, UTILIZANDO GABARITO DE TÁBUAS CORRIDAS PONTALETADAS A CADA 2,00M - 2 UTILIZAÇÕES. AF_03/2024 | E27: M
G28: Perímetro
D29: Bloco pedagógico | G29: 135 | J29: =ROUND(PRODUCT(F29:I29),2) -> 135
D30: Bloco administrativo | G30: 49 | J30: =ROUND(PRODUCT(F30:I30),2) -> 49
D31: Bloco de serviço | G31: 49 | J31: =ROUND(PRODUCT(F31:I31),2) -> 49
D32: Pátio coberto | G32: 55.4 | J32: =ROUND(PRODUCT(F32:I32),2) -> 55.4
D34: ="Total item "&A27 -> Total item 1.2.2 | J34: =SUM(J29:J32) -> 288.4
B36: SINAPI | C36: 103689 | D36: MURO NO ENTORNO DA ESCOLA
A37: 1.2.10 | B37: COMPOSIÇÃO | C37: 001 | D37: LOCAÇÃO CONVENCIONAL DE OBRA, UTILIZANDO GABARITO DE TÁBUAS CORRIDAS PONTALETADAS A CADA 2,00M - 2 UTILIZAÇÕES. AF_03/2024 | E37: M
G38: Perímetro
D39: Gabarito para locação dos muros | G39: 297 | J39: =ROUND(PRODUCT(F39:I39),2) -> 297
D41: ="Total item "&A37 -> Total item 1.2.10 | J41: =SUM(J39:J40) -> 297
A43: 1.2.10 | B43: COMPOSIÇÃO | C43: 001 | D43: TAPUME COM TELHA METÁLICA. AF_03/2024 | E43: M2
G44: Perímetro
D45: Gabarito para locação dos muros | G45: 297 | I45: 2 | J45: =ROUND(PRODUCT(F45:I45),2) -> 594
D47: ="Total item "&A43 -> Total item 1.2.10 | J47: =SUM(J45:J46) -> 594
A49: 2.0 | D49: CONSTRUÇÃO DE UMA ESCOLA DE 06 SALAS PADRÃO FNDE
A51: 2.1 | B51: SINAPI | C51: 103689 | D51: MOVIMENTO DE TERRAS PARA FUNDAÇÕES
B53: SINAPI | C53: 103689 | D53: MURO NO ENTORNO DA ESCOLA
A54: 2.1.5 | B54: SINAPI | C54: 103689 | D54: LOCAÇÃO CONVENCIONAL DE OBRA, UTILIZANDO GABARITO DE TÁBUAS CORRIDAS PONTALETADAS A CADA 2,00M - 2 UTILIZAÇÕES. AF_03/2024 | E54: M
D55: Estrutura dos Muros
D56: Sapatas | G56: Folgas de 20cm no entorno
D57: Pilares espaçados a cada 3 metros | F57: =ROUND(J41/3,0) -> 99 | G57: =0.6+0.2*2 -> 1 | H57: =0.6+0.2*2 -> 1 | I57: =0.8+0.03 -> 0.83 | J57: =ROUND(PRODUCT(F57:I57),2) -> 82.17
D58: Alvenaria de embasamento e baldrames (cintas inferiores) | G58: Perímetro
...

Sheet COMPOSIÇÕES - SEM DESONERAÇÃO
B2: COMPOSIÇÕES DE CUSTOS UNITÁRIOS COMPLEMENTARES - SEM DESONERAÇÃO
B4: OBRA: CONSTRUÇÃO DE UMA ESCOLA DE 06 SALAS (PROJETO PADRÃO FNDE) E UMA QUADRA COBERTA COM VESTIÁRIO (PROJETO PADRÃO FNDE) NO SÍTIO CAI-AÍ - SURUBIM/PE
B5: LOCAL: ESTRADA DO CAI-AÍ, S/N, SÍTIO CAI-AÍ, SURUBIM/PE (-7.842863, -35.705517)
B6: FONTES DE PREÇOS: SINAPI-PE FEVEREIRO/2026 E COMPOSIÇÕES
B7: DATA: JUNHO/2026
B10: LAJE PRÉ-MOLDADA UNIDIRECIONAL, BIAPOIADA, PARA FORRO, ENCHIMENTO EM EPS, VIGOTA TRELIÇADA, ALTURA TOTAL DA LAJE "LT" = 16 CM (ENCHIMENTO+CAPA) = (12+4).
B13: COMPOSIÇÃO 001 | D13: Código de referência (origem dos coeficientes da composição): | E13: SINAPI 101952
D14: Discriminação do código de referência: | E14: LAJE PRÉ-MOLDADA UNIDIRECIONAL, BIAPOIADA, PARA PISO, ENCHIMENTO EM EPS, VIGOTA TRELIÇADA, ALTURA TOTAL DA LAJE "LT" = 16 CM (ENCHIMENTO+CAPA) = (12+4). AF_08/2025
D18: Unidade: | E18: M2 | F18: Custo Unitário: | G18: =H30 -> 222.03
D19: Quantidade: | E19: 1
G20: SEM DESONERAÇÂO
B21: Fonte | C21: Código | D21: Composição | E21: Unidade | F21: Coeficiente | G21: Custo Unitário | H21: Custo Total
B22: SINAPI C | C22: 103674 | D22: CONCRETAGEM DE VIGAS E LAJES, FCK=25 MPA, PARA LAJES PREMOLDADAS COM USO DE BOMBA - LANÇAMENTO, ADENSAMENTO E ACABAMENTO. AF_02/2022_PS | E22: M3 | F22: 0.06 | G22: =VLOOKUP(C22,SINAPIFEV2026,5,FALSE) -> 707.13 | H22: =TRUNC($F22*G22,2) -> 42.42
B23: SINAPI C | C23: 92768 | D23: ARMAÇÃO DE LAJE DE ESTRUTURA CONVENCIONAL DE CONCRETO ARMADO UTILIZANDO AÇO CA-60 DE 5,0 MM - MONTAGEM. AF_06/2022 | E23: KG | F23: 1.185 | G23: =VLOOKUP(C23,SINAPIFEV2026,5,FALSE) -> 13.16 | H23: =TRUNC($F23*G23,2) -> 15.59
B24: SINAPI C | C24: 92273 | D24: FABRICAÇÃO DE ESCORAS DO TIPO PONTALETE, EM MADEIRA, PARA PÉ-DIREITO SIMPLES. AF_09/2020 | E24: M | F24: 1.07 | G24: =VLOOKUP(C24,SINAPIFEV2026,5,FALSE) -> 18.87 | H24: =TRUNC($F24*G24,2) -> 20.19
B25: SINAPI C | C25: 88316 | D25: SERVENTE COM ENCARGOS COMPLEMENTARES | E25: H | F25: 0.272 | G25: =VLOOKUP(C25,SINAPIFEV2026,5,FALSE) -> 24.25 | H25: =TRUNC($F25*G25,2) -> 6.59
B26: SINAPI C | C26: 88262 | D26: CARPINTEIRO DE FORMAS COM ENCARGOS COMPLEMENTARES | E26: H | F26: 0.363 | G26: =VLOOKUP(C26,SINAPIFEV2026,5,FALSE) -> 29.38 | H26: =TRUNC($F26*G26,2) -> 10.66
B27: SINAPI I | C27: 44379 | D27: LAJE PRE-MOLDADA TRELICADA (LAJOTAS + VIGOTAS) COM LAJOTA EM POLIESTIRENO EXPANDIDO (EPS), H12, *33* X 100 X 12 CM (L X C X A) E VIGOTA VTR *12* X 12 CM (L X A), PARA PISO, UNIDIRECIONAL, SOBRECARGA DE 350 KGF/M2, VAO ATE 5,5 M (SEM COLOCACAO) | E27: M2 | F27: 1 | G27: 89.02 | H27: =TRUNC($F27*G27,2) -> 89.02
B28: SINAPI I | C28: 40304 | D28: PREGO DE ACO POLIDO COM CABECA DUPLA 17 X 27 (2 1/2 X 11) | E28: KG | F28: 0.037 | G28: =VLOOKUP(C28,SINAPIFEV2026,5,FALSE) -> 20.04 | H28: =TRUNC($F28*G28,2) -> 0.74
B29: SINAPI I | C29: 6193 | D29: TABUA NAO APARELHADA *2,5 X 20* CM, EM MACARANDUBA/MASSARANDUBA, ANGELIM OU EQUIVALENTE DA REGIAO - BRUTA | E29: M | F29: 1.72 | G29: =VLOOKUP(C29,SINAPIFEV2026,5,FALSE) -> 21.41 | H29: =TRUNC($F29*G29,2) -> 36.82
G30: Total | H30: =TRUNC(SUM(H22:H29),2) -> 222.03
B32: KIT DE PORTA DE MADEIRA COM VISOR, MACIÇA (PESADA OU SUPERPESADA), PADRÃO MÉDIO, 80X210CM, ESPESSURA DE 3,5CM, ITENS INCLUSOS: DOBRADIÇAS, MONTAGEM E INSTALAÇÃO DE BATENTE, FECHADURA COM EXECUÇÃO DO FURO - FORNECIMENTO E INSTALAÇÃO.
B35: COMPOSIÇÃO 002 | D35: Código de referência (origem dos coeficientes da composição): | E35: SINAPI 100693
D36: Discriminação do código de referência: | E36: KIT DE PORTA DE MADEIRA TIPO MEXICANA, MACIÇA (PESADA OU SUPERPESADA), PADRÃO MÉDIO, 80X210CM, ESPESSURA DE 3,5CM, ITENS INCLUSOS: DOBRADIÇAS, MONTAGEM E INSTALAÇÃO DE BATENTE, FECHADURA COM EXECUÇÃO DO FURO - FORNECIMENTO E INSTALAÇÃO. AF_10/2025
D40: Unidade: | E40: UN | F40: Custo Unitário: | G40: =H49 -> 2465.31
D41: Quantidade: | E41: 1
G42: SEM DESONERAÇÂO
B43: Fonte | C43: Código | D43: Composição | E43: Unidade | F43: Coeficiente | G43: Custo Unitário | H43: Custo Total
B44: SINAPI C | C44: 100659 | D44: ALIZAR DE 5X1,5CM PARA PORTA FIXADO COM PREGOS, PADRÃO MÉDIO - FORNECIMENTO E INSTALAÇÃO. AF_10/2025 | E44: M | F44: 10 | G44: =VLOOKUP(C44,SINAPIFEV2026,5,FALSE) -> 10.62 | H44: =TRUNC($F44*G44,2) -> 106.2
B45: SINAPI C | C45: 91299 | D45: PORTA DE MADEIRA, TIPO MEXICANA, MACIÇA (PESADA OU SUPERPESADA), 70X210CM, ESPESSURA DE 3,5CM, INCLUSO DOBRADIÇAS - FORNECIMENTO E INSTALAÇÃO. AF_10/2025 | E45: UN | F45: 1 | G45: =VLOOKUP(C45,SINAPIFEV2026,5,FALSE) -> 1337.25 | H45: =TRUNC($F45*G45,2) -> 1337.25
B46: SINAPI C | C46: 90830 | D46: FECHADURA DE EMBUTIR COM CILINDRO, EXTERNA, COMPLETA, ACABAMENTO PADRÃO MÉDIO, INCLUSO EXECUÇÃO DE FURO - FORNECIMENTO E INSTALAÇÃO. AF_10/2025 | E46: UN | F46: 1 | G46: =VLOOKUP(C46,SINAPIFEV2026,5,FALSE) -> 221.09 | H46: =TRUNC($F46*G46,2) -> 221.09
B47: SINAPI C | C47: 90806 | D47: BATENTE PARA PORTA DE MADEIRA, FIXAÇÃO COM ARGAMASSA, PADRÃO MÉDIO - FORNECIMENTO E INSTALAÇÃO. AF_10/2025 | E47: UN | F47: 1 | G47: =VLOOKUP(C47,SINAPIFEV2026,5,FALSE) -> 445.45 | H47: =TRUNC($F47*G47,2) -> 445.45
B48: SINAPI C | C48: 102156 | D48: INSTALAÇÃO DE VIDRO LISO INCOLOR, E = 6 MM, EM ESQUADRIA DE MADEIRA, FIXADO COM BAGUETE. AF_11/2025 | E48: M2 | F48: 1.54 | G48: =VLOOKUP(C48,SINAPIFEV2026,5,FALSE) -> 230.73 | H48: =TRUNC($F48*G48,2) -> 355.32
G49: Total | H49: =TRUNC(SUM(H44:H48),2) -> 2465.31
B51: PORTA DE MADEIRA, MACIÇA (PESADA OU SUPERPESADA), 60X210CM, ESPESSURA DE 3,5CM, INCLUSO DOBRADIÇAS - FORNECIMENTO E INSTALAÇÃO
B54: COMPOSIÇÃO 003 | D54: Código de referência (origem dos coeficientes da composição): | E54: SINAPI 91299
D55: Discriminação do código de referência: | E55: PORTA DE MADEIRA, TIPO MEXICANA, MACIÇA (PESADA OU SUPERPESADA), 70X210CM, ESPESSURA DE 3,5CM, INCLUSO DOBRADIÇAS - FORNECIMENTO E INSTALAÇÃO. AF_10/2025
D59: Unidade: | E59: UN | F59: Custo Unitário: | G59: =H69 -> 236.99
D60: Quantidade: | E60: 1
G61: SEM DESONERAÇÂO
...

Sheet ORÇAMENTO
B1: PLANILHA ORÇAMENTÁRIA
B3: OBRA: CONSTRUÇÃO DE UMA ESCOLA DE 06 SALAS (PROJETO PADRÃO FNDE) E UMA QUADRA COBERTA COM VESTIÁRIO (PROJETO PADRÃO FNDE) NO SÍTIO CAI-AÍ - SURUBIM/PE | L3: SEM DESON | M3: COM DESON
B4: LOCAL: ESTRADA DO CAI-AÍ, S/N, SÍTIO CAI-AÍ, SURUBIM/PE (-7.842863, -35.705517) | L4: 0.205 | M4: 0.2407
B5: FONTES DE PREÇOS: SINAPI-PE FEVEREIRO/2026 E COMPOSIÇÕES
B6: DATA: JUNHO/2026
H8: SEM DESONERAÇÃO
B9: ITEM | C9: FONTE | D9: CÓDIGO | E9: DESCRIÇÃO | F9: UN. | G9: QUANT. | H9: CUSTO UNIT. S/BDI | I9: VALOR UNIT. C/BDI | J9: VALOR TOTAL (R$)
A11: =B11 -> 1.0 | B11: 1.0 | E11: ADMINISTRAÇÃO, SERVIÇOS PRELIMINARES E CANTEIRO DE OBRAS | J11: =J13+J17 -> 328255.47
B13: 1.1 | E13: ADMINISTRAÇÃO LOCAL | J13: =SUM(J14:J15) -> 156447.98
B14: 1.1.1 | C14: SINAPI | D14: 93567 | E14: ENGENHEIRO CIVIL DE OBRA PLENO COM ENCARGOS COMPLEMENTARES | F14: MES | G14: =MEMÓRIA!J18 -> 1.2 | H14: =VLOOKUP(D14,SINAPIFEV2026,5,FALSE) -> 25577.53 | I14: =ROUND(H14*(1+$L$4),2) -> 30820.92 | J14: =TRUNC($G14*I14,2) -> 36985.1
B15: 1.1.2 | C15: SINAPI | D15: 93572 | E15: ENCARREGADO GERAL DE OBRAS COM ENCARGOS COMPLEMENTARES | F15: MES | G15: =MEMÓRIA!J23 -> 12 | H15: =VLOOKUP(D15,SINAPIFEV2026,5,FALSE) -> 8261.61 | I15: =ROUND(H15*(1+$L$4),2) -> 9955.24 | J15: =TRUNC($G15*I15,2) -> 119462.88
B17: 1.2 | E17: SERVIÇOS PRELIMINARES E CANTEIRO DE OBRAS | J17: =SUM(J18:J29) -> 171807.49
B18: 1.2.1 | C18: SINAPI | D18: 103689 | E18: FORNECIMENTO E INSTALAÇÃO DE PLACA DE OBRA COM CHAPA GALVANIZADA E ESTRUTURA DE MADEIRA. AF_03/2022_PS | F18: M2 | G18: 10 | H18: =VLOOKUP(D18,SINAPIFEV2026,5,FALSE) -> 468.77 | I18: =ROUND(H18*(1+$L$4),2) -> 564.87 | J18: =TRUNC($G18*I18,2) -> 5648.7
B19: 1.2.2 | C19: SINAPI | D19: 99059 | E19: LOCAÇÃO CONVENCIONAL DE OBRA, UTILIZANDO GABARITO DE TÁBUAS CORRIDAS PONTALETADAS A CADA 2,00M - 2 UTILIZAÇÕES. AF_03/2024 | F19: M | G19: =MEMÓRIA!J34 -> 288.4 | H19: =VLOOKUP(D19,SINAPIFEV2026,5,FALSE) -> 70.18 | I19: =ROUND(H19*(1+$L$4),2) -> 84.57 | J19: =TRUNC($G19*I19,2) -> 24389.98
B20: 1.2.3 | C20: SINAPI | D20: 101509 | E20: ENTRADA DE ENERGIA ELÉTRICA, AÉREA, TRIFÁSICA, COM CAIXA DE EMBUTIR, CABO DE 10 MM2 E DISJUNTOR DIN 50A (NÃO INCLUSO O POSTE DE CONCRETO). AF_07/2020 | F20: UN | G20: 1 | H20: =VLOOKUP(D20,SINAPIFEV2026,5,FALSE) -> 2108.52 | I20: =ROUND(H20*(1+$L$4),2) -> 2540.77 | J20: =TRUNC($G20*I20,2) -> 2540.77
B21: 1.2.4 | C21: SINAPI | D21: 102617 | E21: CAIXA D´ÁGUA EM POLIÉSTER REFORÇADO COM FIBRA DE VIDRO, 5000 LITROS - FORNECIMENTO E INSTALAÇÃO. AF_06/2021 | F21: UN | G21: 1 | H21: =VLOOKUP(D21,SINAPIFEV2026,5,FALSE) -> 3216.69 | I21: =ROUND(H21*(1+$L$4),2) -> 3876.11 | J21: =TRUNC($G21*I21,2) -> 3876.11
B22: 1.2.5 | C22: SINAPI | D22: 98525 | E22: LIMPEZA MECANIZADA DE CAMADA VEGETAL, VEGETAÇÃO E PEQUENAS ÁRVORES (DIÂMETRO DE TRONCO MENOR QUE 0,20 M), COM TRATOR DE ESTEIRAS. AF_03/2024 | F22: M2 | G22: 4000 | H22: =VLOOKUP(D22,SINAPIFEV2026,5,FALSE) -> 0.65 | I22: =ROUND(H22*(1+$L$4),2) -> 0.78 | J22: =TRUNC($G22*I22,2) -> 3120
B23: 1.2.6 | C23: SINAPI | D23: 10776 | E23: LOCACAO DE CONTAINER 2,30 X 6,00 M, ALT. 2,50 M, PARA ESCRITORIO, SEM DIVISORIAS INTERNAS E SEM SANITARIO (NAO INCLUI MOBILIZACAO/DESMOBILIZACAO) | F23: MES | G23: 12 | H23: 725.58 | I23: =ROUND(H23*(1.1402),2) -> 827.31 | J23: =TRUNC($G23*I23,2) -> 9927.72
B24: 1.2.7 | C24: SINAPI | D24: 10775 | E24: LOCACAO DE CONTAINER 2,30 X 6,00 M, ALT. 2,50 M, COM 1 SANITARIO, PARA ESCRITORIO, COMPLETO, SEM DIVISORIAS INTERNAS (NAO INCLUI MOBILIZACAO/DESMOBILIZACAO) | F24: MES | G24: 12 | H24: 928.75 | I24: =ROUND(H24*(1.1402),2) -> 1058.96 | J24: =TRUNC($G24*I24,2) -> 12707.52
B25: 1.2.8 | C25: SINAPI | D25: 10778 | E25: LOCACAO DE CONTAINER 2,30 X 6,00 M, ALT. 2,50 M, PARA SANITARIO, COM 4 BACIAS, 8 CHUVEIROS,1 LAVATORIO E 1 MICTORIO (NAO INCLUI MOBILIZACAO/DESMOBILIZACAO) | F25: MES | G25: 12 | H25: 1160.93 | I25: =ROUND(H25*(1.1402),2) -> 1323.69 | J25: =TRUNC($G25*I25,2) -> 15884.28
E27: MURO NO ENTORNO DA ESCOLA
B28: 1.2.10 | C28: SINAPI | D28: 99059 | E28: LOCAÇÃO CONVENCIONAL DE OBRA, UTILIZANDO GABARITO DE TÁBUAS CORRIDAS PONTALETADAS A CADA 2,00M - 2 UTILIZAÇÕES. AF_03/2024 | F28: M | G28: =MEMÓRIA!J41 -> 297 | H28: =VLOOKUP(D28,SINAPIFEV2026,5,FALSE) -> 70.18 | I28: =ROUND(H28*(1+$L$4),2) -> 84.57 | J28: =TRUNC($G28*I28,2) -> 25117.29
B29: 1.2.2 | C29: SINAPI | D29: 98459 | E29: TAPUME COM TELHA METÁLICA. AF_03/2024 | F29: M2 | G29: =MEMÓRIA!J47 -> 594 | H29: =VLOOKUP(D29,SINAPIFEV2026,5,FALSE) -> 95.83 | I29: =ROUND(H29*(1+$L$4),2) -> 115.48 | J29: =TRUNC($G29*I29,2) -> 68595.12
A31: =B31 -> 2.0 | B31: 2.0 | E31: CONSTRUÇÃO DE UMA ESCOLA DE 06 SALAS PADRÃO FNDE | J31: =SUM(J33,J43,J96,J120,J125,J159,J169,J172,J187,J202,J214,J241,J262,J280,J288,J293,J344,J355,J371) -> 2588872.6
B33: 2.1 | E33: MOVIMENTO DE TERRAS PARA FUNDAÇÕES | J33: =SUM(J34:J41) -> 46768.59
B34: 2.1.1 | C34: SINAPI | D34: 94319 | E34: ATERRO MANUAL DE VALAS COM SOLO ARGILO-ARENOSO. AF_08/2023 | F34: M3 | G34: 168.5 | H34: =VLOOKUP(D34,SINAPIFEV2026,5,FALSE) -> 81.49 | I34: =ROUND(H34*(1+$L$4),2) -> 98.2 | J34: =TRUNC($G34*I34,2) -> 16546.7
B35: 2.1.2 | C35: SINAPI | D35: 93358 | E35: ESCAVAÇÃO MANUAL DE VALA. AF_09/2024 | F35: M3 | G35: 94.33 | H35: =VLOOKUP(D35,SINAPIFEV2026,5,FALSE) -> 95.92 | I35: =ROUND(H35*(1+$L$4),2) -> 115.58 | J35: =TRUNC($G35*I35,2) -> 10902.66
B36: 2.1.3 | C36: SINAPI | D36: 101617 | E36: PREPARO DE FUNDO DE VALA COM LARGURA MAIOR OU IGUAL A 1,5 M E MENOR QUE 2,5 M (ACERTO DO SOLO NATURAL), EM LOCAL COM NÍVEL BAIXO DE INTERFERÊNCIA. AF_01/2026 | F36: M2 | G36: 184.58 | H36: =VLOOKUP(D36,SINAPIFEV2026,5,FALSE) -> 3.69 | I36: =ROUND(H36*(1+$L$4),2) -> 4.45 | J36: =TRUNC($G36*I36,2) -> 821.38
B37: 2.1.4 | C37: SINAPI | D37: 93382 | E37: REATERRO MANUAL DE VALAS, COM COMPACTADOR DE SOLOS DE PERCUSSÃO. AF_08/2023 | F37: M3 | G37: 55.58 | H37: =VLOOKUP(D37,SINAPIFEV2026,5,FALSE) -> 27.66 | I37: =ROUND(H37*(1+$L$4),2) -> 33.33 | J37: =TRUNC($G37*I37,2) -> 1852.48
E39: MURO NO ENTORNO DA ESCOLA
B40: 2.1.5 | C40: SINAPI | D40: 93358 | E40: ESCAVAÇÃO MANUAL DE VALA. AF_09/2024 | F40: M3 | G40: =MEMÓRIA!J62 -> 116.22 | H40: =VLOOKUP(D40,SINAPIFEV2026,5,FALSE) -> 95.92 | I40: =ROUND(H40*(1+$L$4),2) -> 115.58 | J40: =TRUNC($G40*I40,2) -> 13432.7
B41: 2.1.6 | C41: SINAPI | D41: 93382 | E41: REATERRO MANUAL DE VALAS, COM COMPACTADOR DE SOLOS DE PERCUSSÃO. AF_08/2023 | F41: M3 | G41: =MEMÓRIA!J71 -> 96.39 | H41: =VLOOKUP(D41,SINAPIFEV2026,5,FALSE) -> 27.66 | I41: =ROUND(H41*(1+$L$4),2) -> 33.33 | J41: =TRUNC($G41*I41,2) -> 3212.67
B43: 2.2 | E43: FUNDAÇÕES | J43: =SUM(J45:J94) -> 341391.19
B44: 2.2.1 | E44: CONCRETO ARMADO PARA FUNDAÇÕES - SAPATAS
B45: 2.2.1.1 | C45: SINAPI | D45: 96619 | E45: LASTRO DE CONCRETO MAGRO, APLICADO EM BLOCOS DE COROAMENTO OU SAPATAS, ESPESSURA DE 5 CM. AF_01/2024 | F45: M2 | G45: 61.88 | H45: =VLOOKUP(D45,SINAPIFEV2026,5,FALSE) -> 44.71 | I45: =ROUND(H45*(1+$L$4),2) -> 53.88 | J45: =TRUNC($G45*I45,2) -> 3334.09
B46: 2.2.1.2 | C46: SINAPI | D46: 96535 | E46: FABRICAÇÃO, MONTAGEM E DESMONTAGEM DE FÔRMA PARA SAPATA, EM MADEIRA SERRADA, E=25 MM, 4 UTILIZAÇÕES. AF_01/2024 | F46: M2 | G46: 165.15 | H46: =VLOOKUP(D46,SINAPIFEV2026,5,FALSE) -> 144.22 | I46: =ROUND(H46*(1+$L$4),2) -> 173.79 | J46: =TRUNC($G46*I46,2) -> 28701.41
B47: 2.2.1.3 | C47: SINAPI | D47: 104917 | E47: ARMAÇÃO DE SAPATA ISOLADA, VIGA BALDRAME E SAPATA CORRIDA UTILIZANDO AÇO CA-50 DE 6,3 MM - MONTAGEM. AF_01/2024 | F47: KG | G47: 6.55 | H47: =VLOOKUP(D47,SINAPIFEV2026,5,FALSE) -> 15.11 | I47: =ROUND(H47*(1+$L$4),2) -> 18.21 | J47: =TRUNC($G47*I47,2) -> 119.27
B48: 2.2.1.4 | C48: SINAPI | D48: 104919 | E48: ARMAÇÃO DE SAPATA ISOLADA, VIGA BALDRAME E SAPATA CORRIDA UTILIZANDO AÇO CA-50 DE 10 MM - MONTAGEM. AF_01/2024 | F48: KG | G48: 312.36 | H48: =VLOOKUP(D48,SINAPIFEV2026,5,FALSE) -> 12.2 | I48: =ROUND(H48*(1+$L$4),2) -> 14.7 | J48: =TRUNC($G48*I48,2) -> 4591.69
B49: 2.2.1.5 | C49: SINAPI | D49: 104920 | E49: ARMAÇÃO DE BLOCO, SAPATA ISOLADA, VIGA BALDRAME E SAPATA CORRIDA UTILIZANDO AÇO CA-50 DE 12,5 MM - MONTAGEM. AF_01/2024 | F49: KG | G49: 32.64 | H49: =VLOOKUP(D49,SINAPIFEV2026,5,FALSE) -> 10.29 | I49: =ROUND(H49*(1+$L$4),2) -> 12.4 | J49: =TRUNC($G49*I49,2) -> 404.73
B50: 2.2.1.6 | C50: SINAPI | D50: 94965 | E50: CONCRETO FCK = 25MPA, TRAÇO 1:2,3:2,7 (EM MASSA SECA DE CIMENTO/ AREIA MÉDIA/ BRITA 1) - PREPARO MECÂNICO COM BETONEIRA 400 L. AF_05/2021 | F50: M3 | G50: 16.12 | H50: =VLOOKUP(D50,SINAPIFEV2026,5,FALSE) -> 575.76 | I50: =ROUND(H50*(1+$L$4),2) -> 693.79 | J50: =TRUNC($G50*I50,2) -> 11183.89
...

Sheet CRONOGRAMA
A1: CRONOGRAMA FÍSICO FINANCEIRO
A3: OBRA: CONSTRUÇÃO DE UMA ESCOLA DE 06 SALAS (PROJETO PADRÃO FNDE) E UMA QUADRA COBERTA COM VESTIÁRIO (PROJETO PADRÃO FNDE) NO SÍTIO CAI-AÍ - SURUBIM/PE
A4: LOCAL: ESTRADA DO CAI-AÍ, S/N, SÍTIO CAI-AÍ, SURUBIM/PE (-7.842863, -35.705517)
A5: DATA: JUNHO/2026
A7: ETAPA | B7: SERVIÇO | C7: TOTAL ETAPA (R$) | D7: MÊS/ DESEMBOLSO | Q7: =ORÇAMENTO!J583 -> 4649514
D8: 1º MÊS | E8: 2º MÊS | F8: 3º MÊS | G8: 4º MÊS | H8: 5º MÊS | I8: 6º MÊS | J8: 7º MÊS | K8: 8º MÊS | L8: 9º MÊS | M8: 10º MÊS | N8: 11º MÊS | O8: 12º MÊS
A10: 1.0 | B10: ADMINISTRAÇÃO, SERVIÇOS PRELIMINARES E CANTEIRO DE OBRAS | C10: =C12+C15 -> 328255.47
A12: 1.1 | B12: ADMINISTRAÇÃO LOCAL | C12: 156447.98 | D12: =ROUND($C12*D13,2) -> 8566.47 | E12: =ROUND($C12*E13,2) -> 6393.05 | F12: =ROUND($C12*F13,2) -> 13456.21 | G12: =ROUND($C12*G13,2) -> 18758.24 | H12: =ROUND($C12*H13,2) -> 22513.26 | I12: =ROUND($C12*I13,2) -> 25251.19 | J12: =ROUND($C12*J13,2) -> 21355.69 | K12: =ROUND($C12*K13,2) -> 17049.88 | ... M12: =ROUND($C12*M13,2) -> 3815.51 | N12: =ROUND($C12*N13,2)+0.01 -> 3611.59 | O12: =ROUND($C12*O13,2) -> 5663.89
C13: =C12/$Q$7 -> 0.033648244 | D13: 0.054756048 | E13: 0.040863757 | F13: 0.086010751 | G13: 0.11990082 | H13: 0.14390255 | I13: 0.16140311 | J13: 0.13650345 | K13: 0.10898114 | L13: 0.064002128 | M13: 0.024388349 | N13: 0.023084873 | O13: 0.036203029
A15: 1.2 | B15: SERVIÇOS PRELIMINARES E CANTEIRO DE OBRAS | C15: =ORÇAMENTO!J17 -> 171807.49 | D15: =TRUNC($C15*D16,2) -> 171807.49 | E15: =TRUNC($C15*E16,2) -> 0 | F15: =TRUNC($C15*F16,2) -> 0 | G15: =TRUNC($C15*G16,2) -> 0 | H15: =TRUNC($C15*H16,2) -> 0 | I15: =TRUNC($C15*I16,2) -> 0 | J15: =TRUNC($C15*J16,2) -> 0 | K15: =TRUNC($C15*K16,2) -> 0 | ... O15: =TRUNC($C15*O16,2) -> 0
C16: =C15/$Q$7 -> 0.03695171 | D16: 1
A18: 2.0 | B18: CONSTRUÇÃO DE UMA ESCOLA DE 06 SALAS PADRÃO FNDE | C18: =C20+C23+C26+C29+C32+C35+C38+C41+C44+C47+C50+C53+C56+C59+C62+C65+C68+C71+C74 -> 2588872.6 | D18: =TRUNC($C18*D19,2) -> 0 | E18: =TRUNC($C18*E19,2) -> 0 | F18: =TRUNC($C18*F19,2) -> 0 | G18: =TRUNC($C18*G19,2) -> 0 | H18: =TRUNC($C18*H19,2) -> 0 | I18: =TRUNC($C18*I19,2) -> 0 | J18: =TRUNC($C18*J19,2) -> 0 | K18: =TRUNC($C18*K19,2) -> 0 | ... M18: =TRUNC($C18*M19,2) -> 0 | N18: =TRUNC($C18*N53,2) -> 0 | O18: =TRUNC($C18*O53,2) -> 0
A20: 2.1 | B20: MOVIMENTO DE TERRAS PARA FUNDAÇÕES | C20: =ORÇAMENTO!J33 -> 46768.59 | D20: =TRUNC($C20*D21,2) -> 28061.15 | E20: =TRUNC($C20*E21,2)+0.01 -> 18707.44 | F20: =TRUNC($C20*F21,2) -> 0 | G20: =TRUNC($C20*G21,2) -> 0 | H20: =TRUNC($C20*H21,2) -> 0 | I20: =TRUNC($C20*I21,2) -> 0 | J20: =TRUNC($C20*J21,2) -> 0 | K20: =TRUNC($C20*K21,2) -> 0 | L20: =TRUNC($C20*L21,2) -> 0 | M20: =TRUNC($C20*M21,2) -> 0 | ... O20: =TRUNC($C20*O21,2) -> 0
C21: =C20/$Q$7 -> 0.010058813 | D21: 0.6 | E21: 0.4
A23: 2.2 | B23: FUNDAÇÕES | C23: =ORÇAMENTO!J43 -> 341391.19 | D23: =TRUNC($C23*D24,2) -> 0 | E23: =TRUNC($C23*E24,2)+0.01 -> 85347.8 | F23: =TRUNC($C23*F24,2) -> 170695.59 | G23: =TRUNC($C23*G24,2)+0.01 -> 85347.8 | H23: =$C23*H58 -> 0 | I23: =$C23*I58 -> 0 | J23: =$C23*J58 -> 0 | K23: =$C23*K58 -> 0 | L23: =$C23*L58 -> 0 | M23: =$C23*M58 -> 0 | N23: =$C23*N58 -> 0 | O23: =$C23*O58 -> 0
C24: =C23/$Q$7 -> 0.073425135 | E24: 0.25 | F24: 0.5 | G24: 0.25
A26: 2.3 | B26: SUPERESTRUTURA | C26: =ORÇAMENTO!J96 -> 343298.26 | D26: =TRUNC($C26*D27,2) -> 0 | E26: =TRUNC($C26*E27,2) -> 0 | F26: =TRUNC($C26*F27,2) -> 85824.56 | G26: =TRUNC($C26*G27,2) -> 85824.56 | H26: =TRUNC($C26*H27,2)+0.01 -> 85824.57 | I26: =TRUNC($C26*I27,2)+0.01 -> 85824.57 | J26: =$C26*J61 -> 0 | K26: =$C26*K61 -> 0 | L26: =$C26*L61 -> 0 | M26: =$C26*M61 -> 0 | N26: =$C26*N61 -> 0 | O26: =$C26*O61 -> 0
C27: =C26/$Q$7 -> 0.0738353 | F27: 0.25 | G27: 0.25 | H27: 0.25 | I27: 0.25
A29: 2.4 | B29: SISTEMA DE VEDAÇÃO VERTICAL | C29: =ORÇAMENTO!J120 -> 74541.58 | D29: =TRUNC($C29*D30,2) -> 0 | E29: =TRUNC($C29*E30,2) -> 0 | F29: =TRUNC($C29*F30,2) -> 0 | G29: =TRUNC($C29*G30,2) -> 18635.39 | H29: =TRUNC($C29*H30,2) -> 18635.39 | I29: =TRUNC($C29*I30,2)+0.01 -> 18635.4 | J29: =TRUNC($C29*J30,2)+0.01 -> 18635.4 | K29: =TRUNC($C29*K30,2) -> 0 | L29: =$C29*L64 -> 0 | M29: =$C29*M64 -> 0 | N29: =$C29*N64 -> 0 | O29: =$C29*O64 -> 0
C30: =C29/$Q$7 -> 0.016032123 | G30: 0.25 | H30: 0.25 | I30: 0.25 | J30: 0.25
A32: 2.5 | B32: ESQUADRIAS | C32: =ORÇAMENTO!J125 -> 128746.27 | D32: =TRUNC($C32*D33,2) -> 0 | E32: =TRUNC($C32*E33,2) -> 0 | F32: =TRUNC($C32*F33,2) -> 0 | G32: =TRUNC($C32*G33,2) -> 0 | H32: =TRUNC($C32*H33,2) -> 0 | I32: =TRUNC($C32*I33,2) -> 32186.56 | J32: =TRUNC($C32*J33,2)+0.01 -> 32186.57 | K32: =TRUNC($C32*K33,2)+0.01 -> 32186.57 | L32: =TRUNC($C32*L33,2)+0.01 -> 32186.57 | M32: =$C32*M67 -> 0 | N32: =$C32*N67 -> 0 | O32: =$C32*O67 -> 0
C33: =C32/$Q$7 -> 0.027690264 | I33: 0.25 | J33: 0.25 | K33: 0.25 | L33: 0.25
A35: 2.6 | B35: SISTEMAS DE COBERTURA | C35: =ORÇAMENTO!J159 -> 392156.41 | D35: =TRUNC($C35*D36,2) -> 0 | E35: =$C35*E70 -> 0 | F35: =$C35*F70 -> 0 | G35: =TRUNC($C35*G36,2) -> 98039.1 | H35: =TRUNC($C35*H36,2) -> 98039.1 | I35: =TRUNC($C35*I36,2) -> 98039.1 | J35: =TRUNC($C35*J36,2)+0.01 -> 98039.11 | K35: =$C35*K70 -> 0 | L35: =$C35*L70 -> 0 | M35: =$C35*M70 -> 0 | N35: =$C35*N70 -> 0 | O35: =$C35*O70 -> 0
C36: =C35/$Q$7 -> 0.084343527 | G36: 0.25 | H36: 0.25 | I36: 0.25 | J36: 0.25
A38: 2.7 | B38: IMPERMEABILIZAÇÃO | C38: =ORÇAMENTO!J169 -> 30325.49 | D38: =TRUNC($C38*D39,2) -> 0 | E38: =$C38*E73 -> 0 | F38: =$C38*F73 -> 0 | G38: =TRUNC($C38*G39,2) -> 15162.74 | H38: =TRUNC($C38*H39,2)+0.01 -> 15162.75 | I38: =$C38*I73 -> 0 | J38: =$C38*J73 -> 0 | K38: =$C38*K73 -> 0 | L38: =$C38*L73 -> 0 | M38: =$C38*M73 -> 0 | N38: =$C38*N73 -> 0 | O38: =$C38*O73 -> 0
C39: =C38/$Q$7 -> 0.0065222925 | G39: 0.5 | H39: 0.5
A41: 2.8 | B41: REVESTIMENTOS INTERNOS E EXTERNOS | C41: =ORÇAMENTO!J172 -> 434435.68 | D41: =TRUNC($C41*D42,2) -> 0 | E41: =$C41*E76 -> 0 | F41: =$C41*F76 -> 0 | G41: =$C41*G76 -> 0 | H41: =TRUNC($C41*H42,2) -> 108608.92 | I41: =TRUNC($C41*I42,2) -> 108608.92 | J41: =TRUNC($C41*J42,2) -> 108608.92 | K41: =TRUNC($C41*K42,2) -> 108608.92 | L41: =$C41*L76 -> 0 | M41: =$C41*M76 -> 0 | N41: =$C41*N76 -> 0 | O41: =$C41*O76 -> 0
C42: =C41/$Q$7 -> 0.093436794 | H42: 0.25 | I42: 0.25 | J42: 0.25 | K42: 0.25
A44: 2.9 | B44: SISTEMAS DE PISOS | C44: =ORÇAMENTO!J187 -> 300904.19 | D44: =TRUNC($C44*D45,2) -> 0 | E44: =$C44*E80 -> 0 | F44: =$C44*F80 -> 0 | G44: =$C44*G80 -> 0 | H44: =TRUNC($C44*H45,2) -> 60180.83 | I44: =TRUNC($C44*I45,2)+0.01 -> 60180.84 | J44: =TRUNC($C44*J45,2)+0.01 -> 60180.84 | K44: =TRUNC($C44*K45,2)+0.01 -> 60180.84 | L44: =TRUNC($C44*L45,2)+0.01 -> 60180.84 | M44: =$C44*M80 -> 0 | N44: =$C44*N80 -> 0 | O44: =$C44*O80 -> 0
C45: =C44/$Q$7 -> 0.064717343 | H45: 0.2 | I45: 0.2 | J45: 0.2 | K45: 0.2 | L45: 0.2
A47: 2.10 | B47: PINTURAS E ACABAMENTOS | C47: =ORÇAMENTO!J202 -> 78394.14 | D47: =TRUNC($C47*D48,2) -> 0 | E47: =TRUNC($C47*E48,2) -> 0 | F47: =TRUNC($C47*F48,2) -> 0 | G47: =TRUNC($C47*G48,2) -> 0 | H47: =TRUNC($C47*H48,2) -> 0 | I47: =TRUNC($C47*I48,2) -> 0 | J47: =TRUNC($C47*J48,2) -> 0 | K47: =TRUNC($C47*K48,2) -> 0 | ... M47: =TRUNC($C47*M48,2) -> 19598.53 | N47: =TRUNC($C47*N48,2)+0.01 -> 19598.54 | O47: =TRUNC($C47*O48,2)+0.01 -> 19598.54
C48: =C47/$Q$7 -> 0.016860717 | L48: 0.25 | M48: 0.25 | N48: 0.25 | O48: 0.25
A50: 2.11 | B50: INSTALAÇÕES HIDRÁULICAS | C50: =ORÇAMENTO!J214 -> 16336.74 | D50: =TRUNC($C50*D51,2) -> 0 | E50: =TRUNC($C50*E51,2) -> 0 | F50: =TRUNC($C50*F51,2) -> 0 | G50: =TRUNC($C50*G51,2) -> 0 | H50: =TRUNC($C50*H51,2) -> 4084.18 | I50: =TRUNC($C50*I51,2) -> 4084.18 | J50: =TRUNC($C50*J51,2)+0.01 -> 4084.19 | K50: =TRUNC($C50*K51,2)+0.01 -> 4084.19 | L50: =TRUNC($C50*L51,2) -> 0 | M50: =TRUNC($C50*M51,2) -> 0 | N50: =TRUNC($C50*N51,2) -> 0 | O50: =TRUNC($C50*O51,2) -> 0
C51: =C50/$Q$7 -> 0.0035136447 | H51: 0.25 | I51: 0.25 | J51: 0.25 | K51: 0.25
A53: 2.12 | B53: INSTALAÇÕES SANITÁRIAS | C53: =ORÇAMENTO!J241 -> 58261.15 | D53: =TRUNC($C53*D54,2) -> 0 | E53: =TRUNC($C53*E54,2) -> 0 | F53: =TRUNC($C53*F54,2) -> 0 | G53: =TRUNC($C53*G54,2) -> 0 | H53: =TRUNC($C53*H54,2) -> 14565.28 | I53: =TRUNC($C53*I54,2)+0.01 -> 14565.29 | J53: =TRUNC($C53*J54,2)+0.01 -> 14565.29 | K53: =TRUNC($C53*K54,2)+0.01 -> 14565.29 | L53: =TRUNC($C53*L54,2) -> 0 | M53: =TRUNC($C53*M54,2) -> 0 | N53: =TRUNC($C53*N54,2) -> 0 | O53: =TRUNC($C53*O54,2) -> 0
C54: =C53/$Q$7 -> 0.012530589 | H54: 0.25 | I54: 0.25 | J54: 0.25 | K54: 0.25
A56: 2.13 | B56: LOUÇAS, ACESSÓRIOS E METAIS | C56: =ORÇAMENTO!J262 -> 30358.41 | D56: =TRUNC($C56*D57,2) -> 0 | E56: =TRUNC($C56*E57,2) -> 0 | F56: =TRUNC($C56*F57,2) -> 0 | G56: =TRUNC($C56*G57,2) -> 0 | H56: =TRUNC($C56*H57,2) -> 0 | I56: =TRUNC($C56*I57,2) -> 7589.6 | J56: =TRUNC($C56*J57,2) -> 7589.6 | K56: =TRUNC($C56*K57,2) -> 7589.6 | L56: =TRUNC($C56*L57,2)+0.01 -> 7589.61 | M56: =TRUNC($C56*M57,2) -> 0 | N56: =TRUNC($C56*N57,2) -> 0 | O56: =TRUNC($C56*O57,2) -> 0
C57: =C56/$Q$7 -> 0.0065293728 | I57: 0.25 | J57: 0.25 | K57: 0.25 | L57: 0.25
A59: 2.14 | B59: INSTALAÇÃO DE GÁS COMBUSTÍVEL | C59: =ORÇAMENTO!J280 -> 1159.75 | D59: =TRUNC($C59*D60,2) -> 0 | E59: =TRUNC($C59*E60,2) -> 0 | F59: =TRUNC($C59*F60,2) -> 0 | G59: =TRUNC($C59*G60,2) -> 0 | H59: =TRUNC($C59*H60,2) -> 0 | I59: =TRUNC($C59*I60,2) -> 0 | J59: =TRUNC($C59*J60,2) -> 1159.75 | K59: =TRUNC($C59*K60,2) -> 0 | ... O59: =TRUNC($C59*O60,2) -> 0
C60: =C59/$Q$7 -> 0.00024943467 | J60: 1
...

Sheet MAPA DE COTAÇÕES
A1: MAPA RESUMO DE COTAÇÕES
A3: OBRA: CONSTRUÇÃO DE UMA ESCOLA DE 06 SALAS (PROJETO PADRÃO FNDE) E UMA QUADRA COBERTA COM VESTIÁRIO (PROJETO PADRÃO FNDE) NO SÍTIO CAI-AÍ - SURUBIM/PE
A4: LOCAL: ESTRADA DO CAI-AÍ, S/N, SÍTIO CAI-AÍ, SURUBIM/PE (-7.842863, -35.705517)
A5: DATA: JUNHO/2026
A7: LUMINÁRIA SOBREPOR 2X32W
A9: COTAÇÃO COT-001 | C9: Discriminação do código de referência: | D9: Luminária sobrepor 2x32W
C11: Unidade: | D11: UN | E11: Custo Unitário: | F11: =G18 -> 102.44892
C12: Quantidade: | D12: 1
F13: COTAÇÃO
A14: Empresa | B14: CNPJ | C14: Insumo | D14: Quant. Cotada | E14: Preço Cotado | F14: Frete Cotado | G14: Preço Unitário
A15: 1 | B15: 33.779.899/0001-41 | C15: SLED ME | D15: 74 | E15: 6327 | F15: 1254.22 | G15: =(E15+F15)/D15 -> 102.44892
A16: 2 | B16: 61.694.842/0001-85 | C16: EXCELÊNCIA LUMINÁRIAS | D16: 74 | E16: 8343.5 | F16: 20 | G16: =(E16+F16)/D16 -> 113.02027
A17: 3 | B17: 06.913.480/0026-16 | C17: DIMENSIONAL BRASIL SOLUÇÕES LTDA | D17: 74 | E17: 22407.2 | F17: 6349.62 | G17: =(E17+F17)/D17 -> 388.60568
E18: Menor preço | G18: =MIN(G15:G17) -> 102.44892
A20: LUMINÁRIA SOBREPOR 2X18W
A22: COTAÇÃO COT-002 | C22: Discriminação do código de referência: | D22: Luminária sobrepor 2x18W
C24: Unidade: | D24: UN | E24: Custo Unitário: | F24: =G31 -> 121.88333
C25: Quantidade: | D25: 1
F26: COTAÇÃO
A27: Empresa | B27: CNPJ | C27: Insumo | D27: Quant. Cotada | E27: Preço Cotado | F27: Frete Cotado | G27: Preço Unitário
A28: 1 | B28: 51.074.210/0001-65 | C28: ELAMP MATERIAIS ELÉTRICOS LTDA | D28: 3 | E28: 485.1 | F28: 211.59 | G28: =(E28+F28)/D28 -> 232.23
A29: 2 | B29: 21.815.457/0001-24 | C29: CLARON ILUMINAÇÃO LTDA ME | D29: 3 | E29: 287.7 | F29: 298.29 | G29: =(E29+F29)/D29 -> 195.33
A30: 3 | B30: 34.422.017/0001-59 | C30: BRAVALUMI | D30: 3 | E30: 299.71 | F30: 65.94 | G30: =(E30+F30)/D30 -> 121.88333
E31: Menor preço | G31: =MIN(G28:G30) -> 121.88333
A33: CAIXA DE EQUALIZAÇÃO 200X200MM
A35: COTAÇÃO COT-003 | C35: Discriminação do código de referência: | D35: Caixa de equelização embutir 200x200mm
C37: Unidade: | D37: UN | E37: Custo Unitário: | F37: =G44 -> 318.05
C38: Quantidade: | D38: 1
F39: COTAÇÃO
A40: Empresa | B40: CNPJ | C40: Insumo | D40: Quant. Cotada | E40: Preço Cotado | F40: Frete Cotado | G40: Preço Unitário
A41: 1 | B41: 35.088.657/0001-37 | C41: SV COMÉRCIO DE MATERIAIS ELÉTRICOS LTDA | D41: 1 | E41: 359.95 | F41: 35.47 | G41: =(E41+F41)/D41 -> 395.42
A42: 2 | B42: 13.756.867/0001-13 | C42: ELÉTRICA BICHUETTE LTDA | D42: 1 | E42: 282.08 | F42: 35.97 | G42: =(E42+F42)/D42 -> 318.05
A43: 3 | B43: 03.007.331/0001-41 | C43: EBAZAR.COM.BR LTDA (MERCADO LIVRE) | D43: 1 | E43: 659.9 | F43: 0 | G43: =(E43+F43)/D43 -> 659.9
E44: Menor preço | G44: =MIN(G41:G43) -> 318.05
A46: KIT DE BUCHA/LUVA COM TAMPA PARA POSTE DE QUADRA POLIESPORTIVA
A48: COTAÇÃO COT-004 | C48: Discriminação do código de referência: | D48: PAR DE BUCHA/LUVA PARA POSTE DE QUADRA - COM TAMPA
C50: Unidade: | D50: UN | E50: Custo Unitário: | F50: =G57 -> 98.23
C51: Quantidade: | D51: 1
F52: COTAÇÃO
A53: Empresa | B53: CNPJ | C53: Insumo | D53: Quant. Cotada | E53: Preço Cotado | F53: Frete Cotado | G53: Preço Unitário
...

Sheet COTAÇÕES
B2: MAPA RESUMO DE COTAÇÕES
B4: =#REF! -> #REF!
B5: =#REF! -> #REF!
B6: =#REF! -> #REF!
B7: =#REF! -> #REF!
G8: VALOR MÉDIO
B9: FONTE | C9: CÓDIGO | D9: DESCRIÇÃO | E9: UNIDADE | F9: V. UNIT. COTADO | G9: DAS COTAÇÕES
B11: COTAÇÃO | C11: 001 | D11: FORNECIMENTO E INSTALAÇÃO DE GRAMA SINTÉTICA ESPORTIVA FIBRILADA DE 50MM, EM POLIETILENO, ESTRUTURA REFORÇADA, ADERIDO COM ADESIVO POLIURETÂNICO, INCLUSIVE LINHAS DEMARCATÓRIAS, NAS CORES ESPECIFICADAS EM PROJETO, EXCLUSO BASE DE CONCRETO | E11: M2 | G11: =TRUNC(AVERAGE(F12:F14),2) -> #DIV/0!
C12: Empresa 001
C13: Empresa 002
C14: Empresa 003

Sheet BDI_EDIFICACOES_20,50%_SEM
B2: COMPOSIÇÃO DE BDI PARA SERVIÇOS GERAIS DE EDIFICAÇÕES
B4: BONIFICAÇÃO E DESPESAS INDIRETAS - SEM DESONERAÇÃO
B6: OBRA: CONSTRUÇÃO DE UMA ESCOLA DE 06 SALAS (PROJETO PADRÃO FNDE) E UMA QUADRA COBERTA COM VESTIÁRIO (PROJETO PADRÃO FNDE) NO SÍTIO CAI-AÍ - SURUBIM/PE
B7: LOCAL: ESTRADA DO CAI-AÍ, S/N, SÍTIO CAI-AÍ, SURUBIM/PE (-7.842863, -35.705517)
B8: DATA: JUNHO/2026 | H8: DESONERADO
B10: DESCRIÇÃO | C10: SIGLA | D10: VALOR (*) | F10: FAIXA REFERENCIAL - Ref. Acórdão 2622/2013 | H10: VALOR (*)
B12: Taxa de rateio da Administração Central | C12: AC | D12: 0.0413 | E12: min | F12: De 3,00% até 5,50%; médio = 4,00% | H12: 0.03
B14: Taxa de Despesas Financeiras | C14: DF | D14: 0.0059 | E14: min | F14: De 0,59% até 1,39%; médio = 1,23% | H14: 0.0059
B16: Taxa de Risco | C16: R | D16: 0.0097 | E16: min | F16: De 0,97% até 1,27%; médio = 1,27% | H16: 0.0097
B18: Taxa de Seguro e Taxa de Garantia | C18: S + G | D18: 0.008 | E18: min=med | F18: De 0,80% até 1,00%; médio = 0,80% | H18: 0.008
B20: COFINS | C20: COFINS | D20: 0.03 | H20: 0.03
B21: ISS (**) | C21: ISS | D21: 0.025 | E21: =0.05*0.6 -> 0.03 | H21: 0.03
B22: PIS | C22: PIS | D22: 0.0065 | H22: 0.0065
B23: CONTRIBUIÇÃO PREVIDENCIÁRIA SOBRE RECEITA BRUTA (***) | C23: CPRB | D23: 0 | E23: * | H23: =60%*4.5% -> 0.027
B24: Taxa de Tributos (Soma dos itens COFINS, ISS, PIS e CPRB) | C24: I | D24: =SUM(D20:D23) -> 0.0615 | H24: =SUM(H20:H23) -> 0.0935
B26: Taxa de Lucro | C26: L | D26: 0.0616 | E26: min-med | F26: De 6,16% até 8,96%; médio = 7,40% | H26: 0.0674
B28: BDI Resultante | D28: =ROUND((((1+D12+D18+D16)*(1+D14)*(1+D26))/(1-D24))-1,4) -> 0.205 | H28: =ROUND((((1+H12+H18+H16)*(1+H14)*(1+H26))/(1-H24))-1,4) -> 0.2409
F29: De 20,34% até 25,00%; médio = 22,12%
B32: Fórmula do BDI conforme Acórdão TCU 2622/2013-P:
B40: Obs.:
B41: (*) Todas as taxas adotadas estão na faixa admissível do Acórdão 2622/2013-P do TCU.
B42: (**) A alíquota de ISS no Município de Surubim/PE é de 5% sobre os custos de mão de obra. Considerou-se para todos os serviços uma proporção de 50% de mão de obra, de modo que a taxa de ISS a incidir sobre os custos unitários dos itens será de 5% x 50% = 2,50%.
B43: (***) Conforme determina a Lei nº 13.161, de 31 de agosto de 2015, que altera a Lei nº 12.546, de 14 de dezembro 2011, para obras de infraestrutura e do setor de construção, foi regulamentada a substituição da contribuição previdenciária patronal de 20% sobre a folha de pagamentos por uma contribuição de 4,50% sobre a receita bruta, sendo facultativa a opção pela contribuição substitutiva. Nesta composição de BDI NÃO foi considerada a opção pela contribuição substitutiva, sendo portanto necessário utilizar tabelas de custos NÃO desoneradas para elaboração do orçamento básico. | F43: Obs.: 1. Acompanhar a questão, pois existe a possibilidade da Lei da Desoneração vencer ou ser revogada. 2. As atividades incluídas na desoneração são as relativas aos grupos 412, 432, 433 e 439 da CNAE 2.0
B46: Obs.:
B47: Os custos indiretos são decorrentes da estrutura da obra e da empresa e que não podem ser atribuídos diretamente à execução de um dado serviço. Os custos indiretos variam muito, principalmente, em função do local de execução dos serviços, do tipo da obra, impostos incidentes, e ainda com as exigências do edital ou contrato. Devem ser distribuídos pelos custos unitários diretos totais dos serviços na forma de percentual destes. Os custos indiretos que mais afetam a construção estão a seguir identificados, entretanto, o engenheiro de custos deve analisar em cada caso sua validade.
B61: Fórmula BDI conforme Acórdão TCU 325/2007:

Sheet COMP_ENCARGOS_SOCIAIS_SEM_DESON
A1: COMPOSIÇÃO DE ENCARGOS SOCIAIS SOBRE A MÃO DE OBRA
A2: ESTADO DE PERNAMBUCO - SEM DESONERAÇÃO
A3: (FONTE: SINAPI FEVEREIRO/2026)
A5: OBRA: CONSTRUÇÃO DE UMA ESCOLA DE 06 SALAS (PROJETO PADRÃO FNDE) E UMA QUADRA COBERTA COM VESTIÁRIO (PROJETO PADRÃO FNDE) NO SÍTIO CAI-AÍ - SURUBIM/PE
A6: LOCAL: ESTRADA DO CAI-AÍ, S/N, SÍTIO CAI-AÍ, SURUBIM/PE (-7.842863, -35.705517)
A7: DATA: JUNHO/2026
A9: CÓDIGO | B9: DESCRIÇÃO | C9: COM DESONERAÇÃO | F9: SEM DESONERAÇÃO
C10: HORISTA (%) | D10: MENSALISTA (%) | F10: HORISTA (%) | G10: MENSALISTA (%)
A12: GRUPO A
A13: A1 | B13: INSS | C13: 0 | D13: 0 | F13: 20 | G13: 20
A14: A2 | B14: SESI | C14: 1.5 | D14: 1.5 | F14: 1.5 | G14: 1.5
A15: A3 | B15: SENAI | C15: 1 | D15: 1 | F15: 1 | G15: 1
A16: A4 | B16: INCRA | C16: 0.2 | D16: 0.2 | F16: 0.2 | G16: 0.2
A17: A5 | B17: SEBRAE | C17: 0.6 | D17: 0.6 | F17: 0.6 | G17: 0.6
A18: A6 | B18: Salário Educação | C18: 2.5 | D18: 2.5 | F18: 2.5 | G18: 2.5
A19: A7 | B19: Seguro Contra Acidentes de Trabalho | C19: 3 | D19: 3 | F19: 3 | G19: 3
A20: A8 | B20: FGTS | C20: 8 | D20: 8 | F20: 8 | G20: 8
A21: A9 | B21: SECONCI | C21: 0 | D21: 0 | F21: 0 | G21: 0
A22: A | B22: TOTAL | C22: =SUM(C13:C21) -> 16.8 | D22: =SUM(D13:D21) -> 16.8 | F22: =SUM(F13:F21) -> 36.8 | G22: =SUM(G13:G21) -> 36.8
A24: GRUPO B
A25: B1 | B25: Repouso Semanal Remunerado | C25: 18.06 | D25: 0 | F25: 17.88 | G25: 0
A26: B2 | B26: Feriados | C26: 4.33 | D26: 0 | F26: 4.29 | G26: 0
A27: B3 | B27: Auxílio - Enfermidade | C27: 0.88 | D27: 0.67 | F27: 0.88 | G27: 0.67
A28: B4 | B28: 13º Salário | C28: 10.87 | D28: 8.33 | F28: 10.93 | G28: 8.3
A29: B5 | B29: Licença Paternidade | C29: 0.07 | D29: 0.06 | F29: 0.07 | G29: 0.05
A30: B6 | B30: Faltas Justificadas | C30: 0.72 | D30: 0.56 | F30: 0.73 | G30: 0.56
A31: B7 | B31: Dias de Chuvas | C31: 2.19 | D31: 0 | F31: 2.12 | G31: 0
A32: B8 | B32: Auxílio Acidente de Trabalho | C32: 0.11 | D32: 0.08 | F32: 0.03 | G32: 0.02
A33: B9 | B33: Férias Gozadas | C33: 7.96 | D33: 6.1 | F33: 10.04 | G33: 7.62
A34: B10 | B34: Salário Maternidade | C34: 0.03 | D34: 0.03 | F34: 0.04 | G34: 0.03
A35: B | B35: TOTAL | C35: =SUM(C25:C34) -> 45.22 | D35: =SUM(D25:D34) -> 15.83 | F35: =SUM(F25:F34) -> 47.01 | G35: =SUM(G25:G34) -> 17.25
A37: GRUPO C
A38: C1 | B38: Aviso Prévio Indenizado | C38: 4.14 | D38: 3.46 | F38: 5.28 | G38: 4.01
A39: C2 | B39: Aviso Prévio Trabalhado | C39: 0.11 | D39: 0.09 | F39: 0.14 | G39: 0.1
A40: C3 | B40: Férias Indenizadas | C40: 5.92 | D40: 4.07 | F40: 4.95 | G40: 3.76
A41: C4 | B41: Depósito Rescisão Sem Justa Causa | C41: 3.76 | D41: 2.88 | F41: 2.24 | G41: 1.7
A42: C5 | B42: Indenização Adicional | C42: 0.4 | D42: 0.31 | F42: 0.44 | G42: 0.34
A43: C | B43: TOTAL | C43: =SUM(C38:C42) -> 14.33 | D43: =SUM(D38:D42) -> 10.81 | F43: =SUM(F38:F42) -> 13.05 | G43: =SUM(G38:G42) -> 9.91
A45: GRUPO D
A46: D1 | B46: Reincidência de Grupo A sobre Grupo B | C46: 7.6 | D46: 2.66 | F46: 17.3 | G46: 6.35
...
