Workbook

Sheet Orçamento Sintético
D1: PROPONENTE: FUNDO MUNICIPAL DE SAÚDE DE ITAPIRATINS-TO | E1: Bancos | G1: B.D.I. | I1: Encargos Sociais
D2: OBRA:CONTRATAÇÃO DE EMPRESA PARA AMPLIAÇÃO DA UBS DE ITAPIRATINS - TO | E2: SINAPI - 04/2026 - Tocantins | G2: 25 | I2: Não Desonerado: Horista: 110,74% Mensalista: 68,05%
A3: PLANILHA ORÇAMENTÁRIA | L3: MEDIÇÃO PRÉVIA | N3: MEDIÇÃO PRÉVIA | P3: MEDIÇÃO PRÉVIA | R3: MEDIÇÃO PRÉVIA | T3: MEDIÇÃO PRÉVIA | V3: MEDIÇÃO PRÉVIA
A4: Item | B4: Código | C4: Banco | D4: Descrição | E4: Und | F4: Quant. | G4: Valor Unit | H4: Valor Unit com BDI | I4: Total | J4: Peso (%) | L4: qtde | M4: valor com bdi | N4: qtde | O4: valor com bdi | P4: qtde | Q4: valor com bdi | R4: qtde | S4: valor com bdi | T4: qtde | U4: valor com bdi | V4: qtde | W4: valor com bdi
A5: 1 | D5: AMPLIAÇÃO DA UBS DE ITAPIRATINS | I5: =SUM(I6+I8+I10+I12+I21+I25+I33+I37+I42+I48+I53+I56+I58+I67+I74+I95+I115+I127) -> 119599.47 | J5: 1 | L5: 1ª MEDIÇÃO | N5: 2ª MEDIÇÃO | P5: 3ª MEDIÇÃO | R5: 4ª MEDIÇÃO | T5: 5ª MEDIÇÃO | V5: 6ª MEDIÇÃO
A6: 1.1 | D6: ADMINISTRAÇÃO LOCAL DA OBRA | I6: =SUM(I7) -> 5500 | J6: =I6/I5 -> 0.045986826
A7: 1.1.1 | B7: CPU-01.1 | C7: Próprio | D7: ADMINISTRAÇÃO LOCAL | E7: und | F7: 1 | G7: =110000*0.04 -> 4400 | H7: =G7*1.25 -> 5500 | I7: =F7*H7 -> 5500 | J7: =I7/I5 -> 0.045986826 | L7: 0.14 | M7: =TRUNC(L7*$H7,2) -> 770 | O7: =TRUNC(N7*$H7,2) -> 0 | Q7: =TRUNC(P7*$H7,2) -> 0 | S7: =TRUNC(R7*$H7,2) -> 0 | U7: =TRUNC(T7*$H7,2) -> 0 | W7: =TRUNC(V7*$H7,2) -> 0
A8: 1.2 | D8: SERVIÇOS PRELIMINARES | I8: =SUM(I9:I9) -> 1245.75 | J8: =I8/I5 -> 0.010416016
A9: 1.2.0.1. | B9: 103689 | C9: SINAPI | D9: FORNECIMENTO E INSTALAÇÃO DE PLACA DE OBRA COM CHAPA GALVANIZADA E ESTRUTURA DE MADEIRA. AF_03/2022_PS | E9: m² | F9: =2*1 -> 2 | G9: 498.3 | H9: =G9*1.25 -> 622.875 | I9: =F9*H9 -> 1245.75 | J9: =I9/I5 -> 0.010416016 | L9: 6.48 | M9: =TRUNC(L9*$H9,2) -> 4036.23 | O9: =TRUNC(N9*$H9,2) -> 0 | Q9: =TRUNC(P9*$H9,2) -> 0 | S9: =TRUNC(R9*$H9,2) -> 0 | U9: =TRUNC(T9*$H9,2) -> 0 | W9: =TRUNC(V9*$H9,2) -> 0
A10: 1.3 | D10: FUNDAÇÃO | F10: =X10/Y10*Z10 -> 0 | H10: =G10*1.25 -> 0 | I10: =SUM(I11) -> 2280.775 | J10: =I10/AA10 -> 0.0032322276 | Y10: 25 | Z10: 5 | AA10: 705635.65 | AB10: =50/55 -> 0.90909091
A11: 1.3.0.1. | B11: 101175 | C11: SINAPI | D11: ESTACA BROCA DE CONCRETO, DIÂMETRO DE 30CM, ESCAVAÇÃO MANUAL COM TRADO CONCHA, COM ARMADURA DE ARRANQUE. AF_05/2020 | E11: M | F11: =7*2 -> 14 | G11: 130.33 | H11: =G11*1.25 -> 162.9125 | I11: =F11*H11 -> 2280.775 | J11: =I11/AA11 -> 0.0032322276 | L11: 650 | M11: =TRUNC(L11*$H11,2) -> 105893.12 | O11: =TRUNC(N11*$H11,2) -> 0 | Q11: =TRUNC(P11*$H11,2) -> 0 | S11: =TRUNC(R11*$H11,2) -> 0 | U11: =TRUNC(T11*$H11,2) -> 0 | W11: =TRUNC(V11*$H11,2) -> 0 | X11: 650 | Y11: 25 | Z11: 5 | AA11: 705635.65 | AB11: =50/55 -> 0.90909091
A12: 1.4 | D12: BALDRAMES | F12: =X12/Y12*Z12 -> 0 | H12: =G12*1.25 -> 0 | I12: =SUM(I13:I20) -> 7660.9721 | J12: =I12/AA12 -> 0.010856838 | Y12: 25 | Z12: 5 | AA12: 705635.65 | AB12: =50/55 -> 0.90909091
A13: 1.4.0.1. | B13: 96527 | C13: SINAPI | D13: ESCAVAÇÃO MANUAL PARA VIGA BALDRAME OU SAPATA CORRIDA (INCLUINDO ESCAVAÇÃO PARA COLOCAÇÃO DE FÔRMAS). AF_01/2024 | E13: m³ | F13: =8.65+4.54*2*0.3*0.25 -> 9.331 | G13: 111.12 | H13: =G13*1.25 -> 138.9 | I13: =F13*H13 -> 1296.0759 | J13: =I13/AA13 -> 0.0018367495 | L13: 42.25 | M13: =TRUNC(L13*$H13,2) -> 5868.52 | O13: =TRUNC(N13*$H13,2) -> 0 | Q13: =TRUNC(P13*$H13,2) -> 0 | S13: =TRUNC(R13*$H13,2) -> 0 | U13: =TRUNC(T13*$H13,2) -> 0 | W13: =TRUNC(V13*$H13,2) -> 0 | X13: 42.25 | Y13: 25 | Z13: 5 | AA13: 705635.65 | AB13: =50/55 -> 0.90909091
A14: 1.4.0.2. | B14: 96619 | C14: SINAPI | D14: LASTRO DE CONCRETO MAGRO, APLICADO EM BLOCOS DE COROAMENTO OU SAPATAS, ESPESSURA DE 5 CM. AF_01/2024 | E14: m² | F14: =8.65+4.54*2*0.3 -> 11.374 | G14: 48.02 | H14: =G14*1.25 -> 60.025 | I14: =F14*H14 -> 682.72435 | J14: =I14/AA14 -> 0.00096753098 | L14: 422.25 | M14: =TRUNC(L14*$H14,2) -> 25345.55 | O14: =TRUNC(N14*$H14,2) -> 0 | Q14: =TRUNC(P14*$H14,2) -> 0 | S14: =TRUNC(R14*$H14,2) -> 0 | U14: =TRUNC(T14*$H14,2) -> 0 | W14: =TRUNC(V14*$H14,2) -> 0 | X14: 422.25 | Y14: 25 | Z14: 5 | AA14: 705635.65 | AB14: =50/55 -> 0.90909091
A15: 1.4.0.3. | B15: 103334 | C15: SINAPI | D15: ALVENARIA DE VEDAÇÃO DE BLOCOS CERÂMICOS FURADOS NA HORIZONTAL DE 14X9X19 CM (ESPESSURA 14 CM, BLOCO DEITADO) E ARGAMASSA DE ASSENTAMENTO COM PREPARO EM BETONEIRA. AF_12/2021 | E15: m² | F15: =8.65+4.54*2*0.15*0.25 -> 8.9905 | G15: 162.57 | H15: =G15*1.25 -> 203.2125 | I15: =F15*H15 -> 1826.982 | J15: =I15/AA15 -> 0.0025891294 | L15: 508.75 | M15: =TRUNC(L15*$H15,2) -> 103384.35 | O15: =TRUNC(N15*$H15,2) -> 0 | Q15: =TRUNC(P15*$H15,2) -> 0 | S15: =TRUNC(R15*$H15,2) -> 0 | U15: =TRUNC(T15*$H15,2) -> 0 | W15: =TRUNC(V15*$H15,2) -> 0 | X15: 508.75 | Y15: 25 | Z15: 5 | AA15: 705635.65 | AB15: =50/55 -> 0.90909091
A16: 1.4.0.4. | B16: 96536 | C16: SINAPI | D16: FABRICAÇÃO, MONTAGEM E DESMONTAGEM DE FÔRMA PARA VIGA BALDRAME, EM MADEIRA SERRADA, E=25 MM, 4 UTILIZAÇÕES. AF_01/2024 | E16: m² | F16: =8.65+4.54*2*0.25*2 -> 13.19 | G16: 75.6 | H16: =G16*1.25 -> 94.5 | I16: =F16*H16 -> 1246.455 | J16: =I16/AA16 -> 0.0017664286 | L16: 609.75 | M16: =TRUNC(L16*$H16,2) -> 57621.37 | O16: =TRUNC(N16*$H16,2) -> 0 | Q16: =TRUNC(P16*$H16,2) -> 0 | S16: =TRUNC(R16*$H16,2) -> 0 | U16: =TRUNC(T16*$H16,2) -> 0 | W16: =TRUNC(V16*$H16,2) -> 0 | X16: 609.75 | Y16: 25 | Z16: 5 | AA16: 705635.65 | AB16: =50/55 -> 0.90909091
A17: 1.4.0.5. | B17: 104919 | C17: SINAPI | D17: ARMAÇÃO DE SAPATA ISOLADA, VIGA BALDRAME E SAPATA CORRIDA UTILIZANDO AÇO CA-50 DE 10 MM -MONTAGEM. AF_01/2024 | E17: KG | F17: =26.38*4.05*0.617 -> 65.919663 | G17: 11.92 | H17: =G17*1.25 -> 14.9 | I17: =F17*H17 -> 982.20298 | J17: =I17/AA17 -> 0.0013919407 | L17: 1887 | M17: =TRUNC(L17*$H17,2) -> 28116.3 | O17: =TRUNC(N17*$H17,2) -> 0 | Q17: =TRUNC(P17*$H17,2) -> 0 | S17: =TRUNC(R17*$H17,2) -> 0 | U17: =TRUNC(T17*$H17,2) -> 0 | W17: =TRUNC(V17*$H17,2) -> 0 | X17: 1887 | Y17: 25 | Z17: 5 | AA17: 705635.65 | AB17: =50/55 -> 0.90909091
A18: 1.4.0.6. | B18: 104917 | C18: SINAPI | D18: ARMAÇÃO DE SAPATA ISOLADA, VIGA BALDRAME E SAPATA CORRIDA UTILIZANDO AÇO CA-50 DE 6,3 MM - MONTAGEM. AF_01/2024 | E18: KG | F18: =26.38*2.05*0.245 -> 13.249355 | G18: 14.76 | H18: =G18*1.25 -> 18.45 | I18: =F18*H18 -> 244.4506 | J18: =I18/AA18 -> 0.00034642609 | L18: 298.25 | M18: =TRUNC(L18*$H18,2) -> 5502.71 | O18: =TRUNC(N18*$H18,2) -> 0 | Q18: =TRUNC(P18*$H18,2) -> 0 | S18: =TRUNC(R18*$H18,2) -> 0 | U18: =TRUNC(T18*$H18,2) -> 0 | W18: =TRUNC(V18*$H18,2) -> 0 | X18: 298.25 | Y18: 25 | Z18: 5 | AA18: 705635.65 | AB18: =50/55 -> 0.90909091
A19: 1.4.0.7. | B19: 104916 | C19: SINAPI | D19: ARMAÇÃO DE SAPATA ISOLADA, VIGA BALDRAME E SAPATA CORRIDA UTILIZANDO AÇO CA-60 DE 5 MM - MONTAGEM. AF_01/2024 | E19: KG | F19: =26.38/0.15*0.8*0.154 -> 21.666773 | G19: 16.26 | H19: =G19*1.25 -> 20.325 | I19: =F19*H19 -> 440.37717 | J19: =I19/AA19 -> 0.00062408577 | L19: 831.5 | M19: =TRUNC(L19*$H19,2) -> 16900.23 | O19: =TRUNC(N19*$H19,2) -> 0 | Q19: =TRUNC(P19*$H19,2) -> 0 | S19: =TRUNC(R19*$H19,2) -> 0 | U19: =TRUNC(T19*$H19,2) -> 0 | W19: =TRUNC(V19*$H19,2) -> 0 | X19: 831.5 | Y19: 25 | Z19: 5 | AA19: 705635.65 | AB19: =50/55 -> 0.90909091
A20: 1.4.0.8. | B20: CM51 | C20: Próprio | D20: CONCRETAGEM DE VIGA BALDRAME, FCK 20 MPA, COM USO DE JERICA - LANÇAMENTO, ADENSAMENTO E ACABAMENTO. AF_01/2024 | E20: M³ | F20: =26.38*0.15*0.25 -> 0.98925 | G20: 761.55 | H20: =G20*1.25 -> 951.9375 | I20: =F20*H20 -> 941.70417 | J20: =I20/AA20 -> 0.0013345473 | L20: 42.75 | M20: =TRUNC(L20*$H20,2) -> 40695.32 | O20: =TRUNC(N20*$H20,2) -> 0 | Q20: =TRUNC(P20*$H20,2) -> 0 | S20: =TRUNC(R20*$H20,2) -> 0 | U20: =TRUNC(T20*$H20,2) -> 0 | W20: =TRUNC(V20*$H20,2) -> 0 | X20: 42.75 | Y20: 25 | Z20: 5 | AA20: 705635.65 | AB20: =50/55 -> 0.90909091
A21: 1.5 | D21: IMPERMEABILIZAÇÃO | F21: =X21/Y21*Z21*AB21 -> 0 | H21: =G21*1.25 -> 0 | I21: =SUM(I22:I24) -> 1656.1694 | J21: =I21/AA21 -> 0.0023470602 | Y21: 25 | Z21: 5 | AA21: 705635.65 | AB21: =50/55 -> 0.90909091
A22: 1.5.0.1. | B22: 87878 | C22: SINAPI | D22: CHAPISCO APLICADO EM ALVENARIAS E ESTRUTURAS DE CONCRETO INTERNAS, COM COLHER DE PEDREIRO. ARGAMASSA TRAÇO 1:3 COM PREPARO MANUAL. AF_10/2022 | E22: m² | F22: =26.38*0.25*2 -> 13.19 | G22: 5.58 | H22: =G22*1.25 -> 6.975 | I22: =F22*H22 -> 92.00025 | J22: =I22/AA22 -> 0.00013037925 | M22: =TRUNC(L22*$H22,2) -> 0 | N22: 785.75 | O22: =TRUNC(N22*$H22,2) -> 5480.6 | Q22: =TRUNC(P22*$H22,2) -> 0 | S22: =TRUNC(R22*$H22,2) -> 0 | U22: =TRUNC(T22*$H22,2) -> 0 | W22: =TRUNC(V22*$H22,2) -> 0 | X22: 785.75 | Y22: 25 | Z22: 5 | AA22: 705635.65 | AB22: =50/55 -> 0.90909091
A23: 1.5.0.2. | B23: 98562 | C23: SINAPI | D23: IMPERMEABILIZAÇÃO DE SUPERFÍCIE COM ARGAMASSA DE CIMENTO E AREIA, COM ADITIVO IMPERMEABILIZANTE, E = 1,5CM. AF_09/2023 | E23: m² | F23: =F22 -> 13.19 | G23: 55.47 | H23: =G23*1.25 -> 69.3375 | I23: =F23*H23 -> 914.56163 | J23: =I23/AA23 -> 0.0012960819 | M23: =TRUNC(L23*$H23,2) -> 0 | N23: 785.75 | O23: =TRUNC(N23*$H23,2) -> 54481.94 | Q23: =TRUNC(P23*$H23,2) -> 0 | S23: =TRUNC(R23*$H23,2) -> 0 | U23: =TRUNC(T23*$H23,2) -> 0 | W23: =TRUNC(V23*$H23,2) -> 0 | X23: 785.75 | Y23: 25 | Z23: 5 | AA23: 705635.65 | AB23: =50/55 -> 0.90909091
A24: 1.5.0.3. | B24: 98557 | C24: SINAPI | D24: IMPERMEABILIZAÇÃO DE SUPERFÍCIE COM EMULSÃO ASFÁLTICA, 2 DEMÃOS. AF_09/2023 | E24: m² | F24: =F22 -> 13.19 | G24: 39.4 | H24: =G24*1.25 -> 49.25 | I24: =F24*H24 -> 649.6075 | J24: =I24/AA24 -> 0.00092059904 | L24: 785.75 | M24: =TRUNC(L24*$H24,2) -> 38698.18 | O24: =TRUNC(N24*$H24,2) -> 0 | Q24: =TRUNC(P24*$H24,2) -> 0 | S24: =TRUNC(R24*$H24,2) -> 0 | U24: =TRUNC(T24*$H24,2) -> 0 | W24: =TRUNC(V24*$H24,2) -> 0 | X24: 785.75 | Y24: 25 | Z24: 5 | AA24: 705635.65 | AB24: =50/55 -> 0.90909091
A25: 1.6 | D25: PILARES, VIGAS E LAJES | F25: =X25/Y25*Z25 -> 0 | H25: =G25*1.25 -> 0 | I25: =SUM(I26:I32) -> 12739.807 | J25: =I25/AA25 -> 0.01805437 | Y25: 25 | Z25: 5 | AA25: 705635.65 | AB25: =50/55 -> 0.90909091
A26: 1.6.0.1. | B26: 92427 | C26: SINAPI | D26: MONTAGEM E DESMONTAGEM DE FÔRMA DE PILARES RETANGULARES E ESTRUTURAS SIMILARES, PÉ-DIREITO SIMPLES, EM CHAPA DE MADEIRA COMPENSADA RESINADA, 8 UTILIZAÇÕES. AF_09/2020 | E26: m² | F26: =5*0.3*2*3+3.3*0.3*3+3.2*0.3*2*5+2.7*0.3*2*1 -> 23.19 | G26: 71.95 | H26: =G26*1.25 -> 89.9375 | I26: =F26*H26 -> 2085.6506 | J26: =I26/AA26 -> 0.0029557047 | M26: =TRUNC(L26*$H26,2) -> 0 | N26: 507.75 | O26: =TRUNC(N26*$H26,2) -> 45665.76 | Q26: =TRUNC(P26*$H26,2) -> 0 | S26: =TRUNC(R26*$H26,2) -> 0 | U26: =TRUNC(T26*$H26,2) -> 0 | W26: =TRUNC(V26*$H26,2) -> 0 | X26: 507.75 | Y26: 25 | Z26: 5 | AA26: 705635.65 | AB26: =50/55 -> 0.90909091
A27: 1.6.0.2. | B27: CM52 | C27: Próprio | D27: MONTAGEM E DESMONTAGEM DE FÔRMA DE VIGA, SEM ESCORAMENTO, PÉ-DIREITO SIMPLES, EM CHAPA DE MADEIRA RESINADA, 8 UTILIZAÇÕES | E27: M² | F27: =(8.65+4.54*2+13.4+5.79)*0.25*2+(13.4+5.79+4.54*2)*0.2*2 -> 29.768 | G27: 65.57 | H27: =G27*1.25 -> 81.9625 | I27: =F27*H27 -> 2439.8597 | J27: =I27/AA27 -> 0.0034576764 | M27: =TRUNC(L27*$H27,2) -> 0 | N27: 581.75 | O27: =TRUNC(N27*$H27,2) -> 47681.68 | Q27: =TRUNC(P27*$H27,2) -> 0 | S27: =TRUNC(R27*$H27,2) -> 0 | U27: =TRUNC(T27*$H27,2) -> 0 | W27: =TRUNC(V27*$H27,2) -> 0 | X27: 581.75 | Y27: 25 | Z27: 5 | AA27: 705635.65 | AB27: =50/55 -> 0.90909091
A28: 1.6.0.3. | B28: 92463 | C28: SINAPI | D28: MONTAGEM E DESMONTAGEM DE FÔRMA DE VIGA, ESCORAMENTO COM GARFO DE MADEIRA, PÉ-DIREITO SIMPLES, EM CHAPA DE MADEIRA RESINADA, 8 UTILIZAÇÕES. AF_09/2020 | E28: m² | F28: =4.54*0.25*2 -> 2.27 | G28: 132.93 | H28: =G28*1.25 -> 166.1625 | I28: =F28*H28 -> 377.18888 | J28: =I28/AA28 -> 0.00053453772 | M28: =TRUNC(L28*$H28,2) -> 0 | N28: 128.25 | O28: =TRUNC(N28*$H28,2) -> 21310.34 | Q28: =TRUNC(P28*$H28,2) -> 0 | S28: =TRUNC(R28*$H28,2) -> 0 | U28: =TRUNC(T28*$H28,2) -> 0 | W28: =TRUNC(V28*$H28,2) -> 0 | X28: 128.25 | Y28: 25 | Z28: 5 | AA28: 705635.65 | AB28: =50/55 -> 0.90909091
A29: 1.6.0.4. | B29: 92759 | C29: SINAPI | D29: ARMAÇÃO DE PILAR OU VIGA DE ESTRUTURA CONVENCIONAL DE CONCRETO ARMADO UTILIZANDO AÇO CA-60 DE 5,0 MM - MONTAGEM. AF_06/2022 | E29: KG | F29: =((8.65+4.54*2+13.4+5.79)/0.15*0.78*0.154)+((13.4+5.79+4.54*2)/0.15*0.7*0.154)+((4.54)/0.15*0.78*0.154)+(43.6/0.15*1*0.154) -> 98.280541 | G29: 13.38 | H29: =G29*1.25 -> 16.725 | I29: =F29*H29 -> 1643.7421 | J29: =I29/AA29 -> 0.0023294487 | M29: =TRUNC(L29*$H29,2) -> 0 | N29: 1688.75 | O29: =TRUNC(N29*$H29,2) -> 28244.34 | Q29: =TRUNC(P29*$H29,2) -> 0 | S29: =TRUNC(R29*$H29,2) -> 0 | U29: =TRUNC(T29*$H29,2) -> 0 | W29: =TRUNC(V29*$H29,2) -> 0 | X29: 1688.75 | Y29: 25 | Z29: 5 | AA29: 705635.65 | AB29: =50/55 -> 0.90909091
A30: 1.6.0.7. | B30: 92762 | C30: SINAPI | D30: ARMAÇÃO DE PILAR OU VIGA DE ESTRUTURA CONVENCIONAL DE CONCRETO ARMADO UTILIZANDO AÇO CA-50 DE 10,0 MM - MONTAGEM. AF_06/2022 | E30: KG | F30: =43.6*4.05*0.617 -> 108.94986 | G30: 10.03 | H30: =G30*1.25 -> 12.5375 | I30: =F30*H30 -> 1365.9589 | J30: =I30/AA30 -> 0.0019357849 | M30: =TRUNC(L30*$H30,2) -> 0 | N30: 2432.25 | O30: =TRUNC(N30*$H30,2) -> 30494.33 | Q30: =TRUNC(P30*$H30,2) -> 0 | S30: =TRUNC(R30*$H30,2) -> 0 | U30: =TRUNC(T30*$H30,2) -> 0 | W30: =TRUNC(V30*$H30,2) -> 0 | X30: 2432.25 | Y30: 25 | Z30: 5 | AA30: 705635.65 | AB30: =50/55 -> 0.90909091
A31: 1.6.0.9. | B31: CM53 | C31: Próprio | D31: CONCRETAGEM DE PILARES, FCK = 20 MPA, COM USO DE BALDES - LANÇAMENTO, ADENSAMENTO E ACABAMENTO. AF_02/2022 | E31: M³ | F31: =43.6*0.15*0.3 -> 1.962 | G31: 985.52 | H31: =G31*1.25 -> 1231.9 | I31: =F31*H31 -> 2416.9878 | J31: =I31/AA31 -> 0.0034252632 | M31: =TRUNC(L31*$H31,2) -> 0 | N31: 35.5 | O31: =TRUNC(N31*$H31,2) -> 43732.45 | Q31: =TRUNC(P31*$H31,2) -> 0 | S31: =TRUNC(R31*$H31,2) -> 0 | U31: =TRUNC(T31*$H31,2) -> 0 | W31: =TRUNC(V31*$H31,2) -> 0 | X31: 35.5 | Y31: 25 | Z31: 5 | AA31: 705635.65 | AB31: =50/55 -> 0.90909091
A32: 1.6.0.10. | B32: CM59 | C32: Próprio | D32: CONCRETAGEM DE VIGAS E LAJES, FCK=20 MPA, PARA QUALQUER TIPO DE LAJE COM BALDES EM EDIFICAÇÃO TÉRREA - LANÇAMENTO, ADENSAMENTO E ACABAMENTO. AF_02/2022 | E32: M³ | F32: =(4.54+8.65+4.54*2+13.4+5.79)*0.12*0.25+(13.4+5.79+4.54*2)*0.12*0.2 -> 1.92228 | G32: 1003.15 | H32: =G32*1.25 -> 1253.9375 | I32: =F32*H32 -> 2410.419 | J32: =I32/AA32 -> 0.0034159541 | M32: =TRUNC(L32*$H32,2) -> 0 | N32: 35 | O32: =TRUNC(N32*$H32,2) -> 43887.81 | Q32: =TRUNC(P32*$H32,2) -> 0 | S32: =TRUNC(R32*$H32,2) -> 0 | U32: =TRUNC(T32*$H32,2) -> 0 | W32: =TRUNC(V32*$H32,2) -> 0 | X32: 35 | Y32: 25 | Z32: 5 | AA32: 705635.65 | AB32: =50/55 -> 0.90909091
A33: 1.7 | D33: ALVENARIA/FECHAMENTOS | F33: =X33/Y33*Z33 -> 0 | H33: =G33*1.25 -> 0 | I33: =SUM(I34:I36) -> 15515.895 | J33: =I33/AA33 -> 0.021988536 | Y33: 25 | Z33: 5 | AA33: 705635.65 | AB33: =50/55 -> 0.90909091
A34: 1.7.0.1. | B34: 103328 | C34: SINAPI | D34: ALVENARIA DE VEDAÇÃO DE BLOCOS CERÂMICOS FURADOS NA HORIZONTAL DE 9X19X19 CM (ESPESSURA 9 CM) E ARGAMASSA DE ASSENTAMENTO COM PREPARO EM BETONEIRA. AF_12/2021 | E34: m² | F34: =(8.65+3.84)*3.3+(4.54+5)+(4.54*2.47)+(13.4+5.79)*2.2+4.54*1.8 -> 112.3608 | G34: 105.67 | H34: =G34*1.25 -> 132.0875 | I34: =F34*H34 -> 14841.457 | J34: =I34/AA34 -> 0.021032749 | M34: =TRUNC(L34*$H34,2) -> 0 | N34: 3060.25 | O34: =TRUNC(N34*$H34,2) -> 404220.77 | Q34: =TRUNC(P34*$H34,2) -> 0 | S34: =TRUNC(R34*$H34,2) -> 0 | U34: =TRUNC(T34*$H34,2) -> 0 | W34: =TRUNC(V34*$H34,2) -> 0 | X34: 3060.25 | Y34: 25 | Z34: 5 | AA34: 705635.65 | AB34: =50/55 -> 0.90909091
A35: 1.7.0.2. | B35: 105024 | C35: SINAPI | D35: VERGA MOLDADA IN LOCO EM CONCRETO, ESPESSURA DE *10* CM. AF_03/2024 | E35: M | F35: =2*1.2+1.5*2+1.5 -> 6.9 | G35: 56.1 | H35: =G35*1.25 -> 70.125 | I35: =F35*H35 -> 483.8625 | J35: =I35/AA35 -> 0.00068571153 | M35: =TRUNC(L35*$H35,2) -> 0 | N35: 357.5 | O35: =TRUNC(N35*$H35,2) -> 25069.68 | Q35: =TRUNC(P35*$H35,2) -> 0 | S35: =TRUNC(R35*$H35,2) -> 0 | U35: =TRUNC(T35*$H35,2) -> 0 | W35: =TRUNC(V35*$H35,2) -> 0 | X35: 357.5 | Y35: 25 | Z35: 5 | AA35: 705635.65 | AB35: =50/55 -> 0.90909091
A36: 1.7.0.3. | B36: 105030 | C36: SINAPI | D36: CONTRAVERGA MOLDADA IN LOCO EM CONCRETO, ESPESSURA DE *10* CM. AF_03/2024 | E36: M | F36: =1.5+2 -> 3.5 | G36: 43.56 | H36: =G36*1.25 -> 54.45 | I36: =F36*H36 -> 190.575 | J36: =I36/AA36 -> 0.00027007564 | M36: =TRUNC(L36*$H36,2) -> 0 | N36: 207.5 | O36: =TRUNC(N36*$H36,2) -> 11298.37 | Q36: =TRUNC(P36*$H36,2) -> 0 | S36: =TRUNC(R36*$H36,2) -> 0 | U36: =TRUNC(T36*$H36,2) -> 0 | W36: =TRUNC(V36*$H36,2) -> 0 | X36: 207.5 | Y36: 25 | Z36: 5 | AA36: 705635.65 | AB36: =50/55 -> 0.90909091
A37: 1.8 | D37: ESQUADRIAS METÁLICAS | F37: =X37/Y37*Z37 -> 0 | H37: =G37*1.25 -> 0 | I37: =SUM(I38:I41) -> 7958.291 | J37: =I37/AA37 -> 0.011278187 | Y37: 25 | Z37: 5 | AA37: 705635.65 | AB37: =50/55 -> 0.90909091
A38: 1.8.0.1. | B38: CM60 | C38: Próprio | D38: ESQUADRIAS DE VIDRO TEMPERADO FUMÊ, DE CORRER, ESP. 8MM, INCLUSIVE ACESSÓRIOS DE FIXAÇÃO | E38: M² | F38: =1.5*1+1*0.8 -> 2.3 | G38: 792.31 | H38: =G38*1.25 -> 990.3875 | I38: =F38*H38 -> 2277.8912 | J38: =I38/AA38 -> 0.0032281408 | M38: =TRUNC(L38*$H38,2) -> 0 | O38: =TRUNC(N38*$H38,2) -> 0 | Q38: =TRUNC(P38*$H38,2) -> 0 | S38: =TRUNC(R38*$H38,2) -> 0 | U38: =TRUNC(T38*$H38,2) -> 0 | W38: =TRUNC(V38*$H38,2) -> 0 | X38: 148.5 | Y38: 25 | Z38: 5 | AA38: 705635.65 | AB38: =50/55 -> 0.90909091
A39: 1.8.0.2. | B39: 100701 | C39: SINAPI | D39: PORTA DE FERRO, DE ABRIR, TIPO GRADE COM CHAPA, COM GUARNIÇÕES. AF_12/2019 | E39: m² | F39: =0.8*2.1*2+1*2.1 -> 5.46 | G39: 686.88 | H39: =G39*1.25 -> 858.6 | I39: =F39*H39 -> 4687.956 | J39: =I39/AA39 -> 0.0066435929 | M39: =TRUNC(L39*$H39,2) -> 0 | O39: =TRUNC(N39*$H39,2) -> 0 | Q39: =TRUNC(P39*$H39,2) -> 0 | S39: =TRUNC(R39*$H39,2) -> 0 | U39: =TRUNC(T39*$H39,2) -> 0 | W39: =TRUNC(V39*$H39,2) -> 0 | X39: 210 | Y39: 25 | Z39: 5 | AA39: 705635.65 | AB39: =50/55 -> 0.90909091
A40: 1.8.0.4. | B40: 3080 | C40: SINAPI | D40: FECHADURA ESPELHO PARA PORTA EXTERNA, EM ACO INOX (MAQUINA, TESTA E CONTRA-TESTA) E EM ZAMAC (MACANETA, LINGUETA E TRINCOS) COM ACABAMENTO CROMADO, MAQUINA DE 40 MM, INCLUINDO CHAVE TIPO CILINDRO | E40: CJ | F40: 3 | G40: 74.48 | H40: =G40*1.25 -> 93.1 | I40: =F40*H40 -> 279.3 | J40: =I40/AA40 -> 0.00039581334 | M40: =TRUNC(L40*$H40,2) -> 0 | O40: =TRUNC(N40*$H40,2) -> 0 | Q40: =TRUNC(P40*$H40,2) -> 0 | S40: =TRUNC(R40*$H40,2) -> 0 | U40: =TRUNC(T40*$H40,2) -> 0 | W40: =TRUNC(V40*$H40,2) -> 0 | X40: 100 | Y40: 25 | Z40: 5 | AA40: 705635.65 | AB40: =50/55 -> 0.90909091
...

Sheet MEMÓRIA CÁLCULO
D1: PROPONENTE: FUNDO MUNICIPAL DE SAÚDE DE ITAPIRATINS-TO | E1: Bancos | G1: B.D.I. | I1: Encargos Sociais
D2: OBRA:CONTRATAÇÃO DE EMPRESA PARA AMPLIAÇÃO DA UBS DE ITAPIRATINS - TO | E2: SINAPI - 04/2026 - Tocantins | G2: 25 | I2: Não Desonerado: Horista: 110,74% Mensalista: 68,05%
A3: MEMÓRIA DE CÁLCULO | L3: MEDIÇÃO PRÉVIA | N3: MEDIÇÃO PRÉVIA | P3: MEDIÇÃO PRÉVIA | R3: MEDIÇÃO PRÉVIA | T3: MEDIÇÃO PRÉVIA | V3: MEDIÇÃO PRÉVIA
A4: Item | B4: Código | C4: Banco | D4: Descrição | E4: Und | F4: CÁLCULO | G4: Valor Unit | H4: Valor Unit com BDI | I4: Total | J4: Peso (%) | L4: qtde | M4: valor com bdi | N4: qtde | O4: valor com bdi | P4: qtde | Q4: valor com bdi | R4: qtde | S4: valor com bdi | T4: qtde | U4: valor com bdi | V4: qtde | W4: valor com bdi | X4: QUANT.
A5: 1 | D5: AMPLIAÇÃO DA UBS DE ITAPIRATINS | I5: =SUM(I6+I8+I10+I12+I21+I25+I33+I37+I42+I48+I53+I56+I58+I67+I74+I95+I115+I127) -> #VALUE! | J5: 1 | L5: 1ª MEDIÇÃO | N5: 2ª MEDIÇÃO | P5: 3ª MEDIÇÃO | R5: 4ª MEDIÇÃO | T5: 5ª MEDIÇÃO | V5: 6ª MEDIÇÃO
A6: 1.1 | D6: ADMINISTRAÇÃO LOCAL DA OBRA | I6: =SUM(I7) -> #VALUE! | J6: =I6/I5 -> #VALUE!
A7: 1.1.1 | B7: CPU-01.1 | C7: Próprio | D7: ADMINISTRAÇÃO LOCAL | E7: und | F7: 1 UNI | G7: =110000*0.04 -> 4400 | H7: =G7*1.25 -> 5500 | I7: =F7*H7 -> #VALUE! | J7: =I7/I5 -> #VALUE! | L7: 0.14 | M7: =TRUNC(L7*$H7,2) -> 770 | O7: =TRUNC(N7*$H7,2) -> 0 | Q7: =TRUNC(P7*$H7,2) -> 0 | S7: =TRUNC(R7*$H7,2) -> 0 | U7: =TRUNC(T7*$H7,2) -> 0 | W7: =TRUNC(V7*$H7,2) -> 0 | X7: 1
A8: 1.2 | D8: SERVIÇOS PRELIMINARES | I8: =SUM(I9:I9) -> #VALUE! | J8: =I8/I5 -> #VALUE!
A9: 1.2.0.1. | B9: 103689 | C9: SINAPI | D9: FORNECIMENTO E INSTALAÇÃO DE PLACA DE OBRA COM CHAPA GALVANIZADA E ESTRUTURA DE MADEIRA. AF_03/2022_PS | E9: m² | F9: 2*1 | G9: 498.3 | H9: =G9*1.25 -> 622.875 | I9: =F9*H9 -> #VALUE! | J9: =I9/I5 -> #VALUE! | L9: 6.48 | M9: =TRUNC(L9*$H9,2) -> 4036.23 | O9: =TRUNC(N9*$H9,2) -> 0 | Q9: =TRUNC(P9*$H9,2) -> 0 | S9: =TRUNC(R9*$H9,2) -> 0 | U9: =TRUNC(T9*$H9,2) -> 0 | W9: =TRUNC(V9*$H9,2) -> 0 | X9: =2*1 -> 2
A10: 1.3 | D10: FUNDAÇÃO | F10: =Y10/Z10*AA10 -> 0 | H10: =G10*1.25 -> 0 | I10: =SUM(I11) -> #VALUE! | J10: =I10/AB10 -> #VALUE! | Z10: 25 | AA10: 5 | AB10: 705635.65 | AC10: =50/55 -> 0.90909091
A11: 1.3.0.1. | B11: 101175 | C11: SINAPI | D11: ESTACA BROCA DE CONCRETO, DIÂMETRO DE 30CM, ESCAVAÇÃO MANUAL COM TRADO CONCHA, COM ARMADURA DE ARRANQUE. AF_05/2020 | E11: M | F11: 7 ESTACAS X2m DE PROFUNDIADE | G11: 130.33 | H11: =G11*1.25 -> 162.9125 | I11: =F11*H11 -> #VALUE! | J11: =I11/AB11 -> #VALUE! | L11: 650 | M11: =TRUNC(L11*$H11,2) -> 105893.12 | O11: =TRUNC(N11*$H11,2) -> 0 | Q11: =TRUNC(P11*$H11,2) -> 0 | S11: =TRUNC(R11*$H11,2) -> 0 | U11: =TRUNC(T11*$H11,2) -> 0 | W11: =TRUNC(V11*$H11,2) -> 0 | X11: =7*2 -> 14 | Y11: 650 | Z11: 25 | AA11: 5 | AB11: 705635.65 | AC11: =50/55 -> 0.90909091
A12: 1.4 | D12: BALDRAMES | F12: =Y12/Z12*AA12 -> 0 | H12: =G12*1.25 -> 0 | I12: =SUM(I13:I20) -> #VALUE! | J12: =I12/AB12 -> #VALUE! | Z12: 25 | AA12: 5 | AB12: 705635.65 | AC12: =50/55 -> 0.90909091
A13: 1.4.0.1. | B13: 96527 | C13: SINAPI | D13: ESCAVAÇÃO MANUAL PARA VIGA BALDRAME OU SAPATA CORRIDA (INCLUINDO ESCAVAÇÃO PARA COLOCAÇÃO DE FÔRMAS). AF_01/2024 | E13: m³ | F13: 8,65+4,54*2*0,3*0,25 | G13: 111.12 | H13: =G13*1.25 -> 138.9 | I13: =F13*H13 -> #VALUE! | J13: =I13/AB13 -> #VALUE! | L13: 42.25 | M13: =TRUNC(L13*$H13,2) -> 5868.52 | O13: =TRUNC(N13*$H13,2) -> 0 | Q13: =TRUNC(P13*$H13,2) -> 0 | S13: =TRUNC(R13*$H13,2) -> 0 | U13: =TRUNC(T13*$H13,2) -> 0 | W13: =TRUNC(V13*$H13,2) -> 0 | X13: =8.65+4.54*2*0.3*0.25 -> 9.331 | Y13: 42.25 | Z13: 25 | AA13: 5 | AB13: 705635.65 | AC13: =50/55 -> 0.90909091
A14: 1.4.0.2. | B14: 96619 | C14: SINAPI | D14: LASTRO DE CONCRETO MAGRO, APLICADO EM BLOCOS DE COROAMENTO OU SAPATAS, ESPESSURA DE 5 CM. AF_01/2024 | E14: m² | F14: 8,65+4,54*2*0,3 | G14: 48.02 | H14: =G14*1.25 -> 60.025 | I14: =F14*H14 -> #VALUE! | J14: =I14/AB14 -> #VALUE! | L14: 422.25 | M14: =TRUNC(L14*$H14,2) -> 25345.55 | O14: =TRUNC(N14*$H14,2) -> 0 | Q14: =TRUNC(P14*$H14,2) -> 0 | S14: =TRUNC(R14*$H14,2) -> 0 | U14: =TRUNC(T14*$H14,2) -> 0 | W14: =TRUNC(V14*$H14,2) -> 0 | X14: =8.65+4.54*2*0.3 -> 11.374 | Y14: 422.25 | Z14: 25 | AA14: 5 | AB14: 705635.65 | AC14: =50/55 -> 0.90909091
A15: 1.4.0.3. | B15: 103334 | C15: SINAPI | D15: ALVENARIA DE VEDAÇÃO DE BLOCOS CERÂMICOS FURADOS NA HORIZONTAL DE 14X9X19 CM (ESPESSURA 14 CM, BLOCO DEITADO) E ARGAMASSA DE ASSENTAMENTO COM PREPARO EM BETONEIRA. AF_12/2021 | E15: m² | F15: 8,65+4,54*2*0,15*0,25 | G15: 162.57 | H15: =G15*1.25 -> 203.2125 | I15: =F15*H15 -> #VALUE! | J15: =I15/AB15 -> #VALUE! | L15: 508.75 | M15: =TRUNC(L15*$H15,2) -> 103384.35 | O15: =TRUNC(N15*$H15,2) -> 0 | Q15: =TRUNC(P15*$H15,2) -> 0 | S15: =TRUNC(R15*$H15,2) -> 0 | U15: =TRUNC(T15*$H15,2) -> 0 | W15: =TRUNC(V15*$H15,2) -> 0 | X15: =8.65+4.54*2*0.15*0.25 -> 8.9905 | Y15: 508.75 | Z15: 25 | AA15: 5 | AB15: 705635.65 | AC15: =50/55 -> 0.90909091
A16: 1.4.0.4. | B16: 96536 | C16: SINAPI | D16: FABRICAÇÃO, MONTAGEM E DESMONTAGEM DE FÔRMA PARA VIGA BALDRAME, EM MADEIRA SERRADA, E=25 MM, 4 UTILIZAÇÕES. AF_01/2024 | E16: m² | F16: 8,65+4,54*2*0,25*2 | G16: 75.6 | H16: =G16*1.25 -> 94.5 | I16: =F16*H16 -> #VALUE! | J16: =I16/AB16 -> #VALUE! | L16: 609.75 | M16: =TRUNC(L16*$H16,2) -> 57621.37 | O16: =TRUNC(N16*$H16,2) -> 0 | Q16: =TRUNC(P16*$H16,2) -> 0 | S16: =TRUNC(R16*$H16,2) -> 0 | U16: =TRUNC(T16*$H16,2) -> 0 | W16: =TRUNC(V16*$H16,2) -> 0 | X16: =8.65+4.54*2*0.25*2 -> 13.19 | Y16: 609.75 | Z16: 25 | AA16: 5 | AB16: 705635.65 | AC16: =50/55 -> 0.90909091
A17: 1.4.0.5. | B17: 104919 | C17: SINAPI | D17: ARMAÇÃO DE SAPATA ISOLADA, VIGA BALDRAME E SAPATA CORRIDA UTILIZANDO AÇO CA-50 DE 10 MM -MONTAGEM. AF_01/2024 | E17: KG | F17: 26,38*4,05*0,617 | G17: 11.92 | H17: =G17*1.25 -> 14.9 | I17: =F17*H17 -> #VALUE! | J17: =I17/AB17 -> #VALUE! | L17: 1887 | M17: =TRUNC(L17*$H17,2) -> 28116.3 | O17: =TRUNC(N17*$H17,2) -> 0 | Q17: =TRUNC(P17*$H17,2) -> 0 | S17: =TRUNC(R17*$H17,2) -> 0 | U17: =TRUNC(T17*$H17,2) -> 0 | W17: =TRUNC(V17*$H17,2) -> 0 | X17: =26.38*4.05*0.617 -> 65.919663 | Y17: 1887 | Z17: 25 | AA17: 5 | AB17: 705635.65 | AC17: =50/55 -> 0.90909091
A18: 1.4.0.6. | B18: 104917 | C18: SINAPI | D18: ARMAÇÃO DE SAPATA ISOLADA, VIGA BALDRAME E SAPATA CORRIDA UTILIZANDO AÇO CA-50 DE 6,3 MM - MONTAGEM. AF_01/2024 | E18: KG | F18: 26,38*2,05*0,245 | G18: 14.76 | H18: =G18*1.25 -> 18.45 | I18: =F18*H18 -> #VALUE! | J18: =I18/AB18 -> #VALUE! | L18: 298.25 | M18: =TRUNC(L18*$H18,2) -> 5502.71 | O18: =TRUNC(N18*$H18,2) -> 0 | Q18: =TRUNC(P18*$H18,2) -> 0 | S18: =TRUNC(R18*$H18,2) -> 0 | U18: =TRUNC(T18*$H18,2) -> 0 | W18: =TRUNC(V18*$H18,2) -> 0 | X18: =26.38*2.05*0.245 -> 13.249355 | Y18: 298.25 | Z18: 25 | AA18: 5 | AB18: 705635.65 | AC18: =50/55 -> 0.90909091
A19: 1.4.0.7. | B19: 104916 | C19: SINAPI | D19: ARMAÇÃO DE SAPATA ISOLADA, VIGA BALDRAME E SAPATA CORRIDA UTILIZANDO AÇO CA-60 DE 5 MM - MONTAGEM. AF_01/2024 | E19: KG | F19: 26,38/0,15*0,8*0,154 | G19: 16.26 | H19: =G19*1.25 -> 20.325 | I19: =F19*H19 -> #VALUE! | J19: =I19/AB19 -> #VALUE! | L19: 831.5 | M19: =TRUNC(L19*$H19,2) -> 16900.23 | O19: =TRUNC(N19*$H19,2) -> 0 | Q19: =TRUNC(P19*$H19,2) -> 0 | S19: =TRUNC(R19*$H19,2) -> 0 | U19: =TRUNC(T19*$H19,2) -> 0 | W19: =TRUNC(V19*$H19,2) -> 0 | X19: =26.38/0.15*0.8*0.154 -> 21.666773 | Y19: 831.5 | Z19: 25 | AA19: 5 | AB19: 705635.65 | AC19: =50/55 -> 0.90909091
A20: 1.4.0.8. | B20: CM51 | C20: Próprio | D20: CONCRETAGEM DE VIGA BALDRAME, FCK 20 MPA, COM USO DE JERICA - LANÇAMENTO, ADENSAMENTO E ACABAMENTO. AF_01/2024 | E20: M³ | F20: 26,38*0,15*0,25 | G20: 761.55 | H20: =G20*1.25 -> 951.9375 | I20: =F20*H20 -> #VALUE! | J20: =I20/AB20 -> #VALUE! | L20: 42.75 | M20: =TRUNC(L20*$H20,2) -> 40695.32 | O20: =TRUNC(N20*$H20,2) -> 0 | Q20: =TRUNC(P20*$H20,2) -> 0 | S20: =TRUNC(R20*$H20,2) -> 0 | U20: =TRUNC(T20*$H20,2) -> 0 | W20: =TRUNC(V20*$H20,2) -> 0 | X20: =26.38*0.15*0.25 -> 0.98925 | Y20: 42.75 | Z20: 25 | AA20: 5 | AB20: 705635.65 | AC20: =50/55 -> 0.90909091
A21: 1.5 | D21: IMPERMEABILIZAÇÃO | F21: =Y21/Z21*AA21*AC21 -> 0 | H21: =G21*1.25 -> 0 | I21: =SUM(I22:I24) -> #VALUE! | J21: =I21/AB21 -> #VALUE! | Z21: 25 | AA21: 5 | AB21: 705635.65 | AC21: =50/55 -> 0.90909091
A22: 1.5.0.1. | B22: 87878 | C22: SINAPI | D22: CHAPISCO APLICADO EM ALVENARIAS E ESTRUTURAS DE CONCRETO INTERNAS, COM COLHER DE PEDREIRO. ARGAMASSA TRAÇO 1:3 COM PREPARO MANUAL. AF_10/2022 | E22: m² | F22: 26,38*0,25*2 | G22: 5.58 | H22: =G22*1.25 -> 6.975 | I22: =F22*H22 -> #VALUE! | J22: =I22/AB22 -> #VALUE! | M22: =TRUNC(L22*$H22,2) -> 0 | N22: 785.75 | O22: =TRUNC(N22*$H22,2) -> 5480.6 | Q22: =TRUNC(P22*$H22,2) -> 0 | S22: =TRUNC(R22*$H22,2) -> 0 | U22: =TRUNC(T22*$H22,2) -> 0 | W22: =TRUNC(V22*$H22,2) -> 0 | X22: =26.38*0.25*2 -> 13.19 | Y22: 785.75 | Z22: 25 | AA22: 5 | AB22: 705635.65 | AC22: =50/55 -> 0.90909091
A23: 1.5.0.2. | B23: 98562 | C23: SINAPI | D23: IMPERMEABILIZAÇÃO DE SUPERFÍCIE COM ARGAMASSA DE CIMENTO E AREIA, COM ADITIVO IMPERMEABILIZANTE, E = 1,5CM. AF_09/2023 | E23: m² | F23: =F22 -> 26,38*0,25*2 | G23: 55.47 | H23: =G23*1.25 -> 69.3375 | I23: =F23*H23 -> #VALUE! | J23: =I23/AB23 -> #VALUE! | M23: =TRUNC(L23*$H23,2) -> 0 | N23: 785.75 | O23: =TRUNC(N23*$H23,2) -> 54481.94 | Q23: =TRUNC(P23*$H23,2) -> 0 | S23: =TRUNC(R23*$H23,2) -> 0 | U23: =TRUNC(T23*$H23,2) -> 0 | W23: =TRUNC(V23*$H23,2) -> 0 | X23: =X22 -> 13.19 | Y23: 785.75 | Z23: 25 | AA23: 5 | AB23: 705635.65 | AC23: =50/55 -> 0.90909091
A24: 1.5.0.3. | B24: 98557 | C24: SINAPI | D24: IMPERMEABILIZAÇÃO DE SUPERFÍCIE COM EMULSÃO ASFÁLTICA, 2 DEMÃOS. AF_09/2023 | E24: m² | F24: =F22 -> 26,38*0,25*2 | G24: 39.4 | H24: =G24*1.25 -> 49.25 | I24: =F24*H24 -> #VALUE! | J24: =I24/AB24 -> #VALUE! | L24: 785.75 | M24: =TRUNC(L24*$H24,2) -> 38698.18 | O24: =TRUNC(N24*$H24,2) -> 0 | Q24: =TRUNC(P24*$H24,2) -> 0 | S24: =TRUNC(R24*$H24,2) -> 0 | U24: =TRUNC(T24*$H24,2) -> 0 | W24: =TRUNC(V24*$H24,2) -> 0 | X24: =X22 -> 13.19 | Y24: 785.75 | Z24: 25 | AA24: 5 | AB24: 705635.65 | AC24: =50/55 -> 0.90909091
A25: 1.6 | D25: PILARES, VIGAS E LAJES | F25: =Y25/Z25*AA25 -> 0 | H25: =G25*1.25 -> 0 | I25: =SUM(I26:I32) -> #VALUE! | J25: =I25/AB25 -> #VALUE! | Z25: 25 | AA25: 5 | AB25: 705635.65 | AC25: =50/55 -> 0.90909091
A26: 1.6.0.1. | B26: 92427 | C26: SINAPI | D26: MONTAGEM E DESMONTAGEM DE FÔRMA DE PILARES RETANGULARES E ESTRUTURAS SIMILARES, PÉ-DIREITO SIMPLES, EM CHAPA DE MADEIRA COMPENSADA RESINADA, 8 UTILIZAÇÕES. AF_09/2020 | E26: m² | F26: 5*0,3*2*3+3,3*0,3*3+3,2*0,3*2*5+2,7*0,3*2*1 | G26: 71.95 | H26: =G26*1.25 -> 89.9375 | I26: =F26*H26 -> #VALUE! | J26: =I26/AB26 -> #VALUE! | M26: =TRUNC(L26*$H26,2) -> 0 | N26: 507.75 | O26: =TRUNC(N26*$H26,2) -> 45665.76 | Q26: =TRUNC(P26*$H26,2) -> 0 | S26: =TRUNC(R26*$H26,2) -> 0 | U26: =TRUNC(T26*$H26,2) -> 0 | W26: =TRUNC(V26*$H26,2) -> 0 | X26: =5*0.3*2*3+3.3*0.3*3+3.2*0.3*2*5+2.7*0.3*2*1 -> 23.19 | Y26: 507.75 | Z26: 25 | AA26: 5 | AB26: 705635.65 | AC26: =50/55 -> 0.90909091
A27: 1.6.0.2. | B27: CM52 | C27: Próprio | D27: MONTAGEM E DESMONTAGEM DE FÔRMA DE VIGA, SEM ESCORAMENTO, PÉ-DIREITO SIMPLES, EM CHAPA DE MADEIRA RESINADA, 8 UTILIZAÇÕES | E27: M² | F27: (8,65+4,54*2+13,4+5,79)*0,25*2+(13,4+5,79+4,54*2)*0,2*2 | G27: 65.57 | H27: =G27*1.25 -> 81.9625 | I27: =F27*H27 -> #VALUE! | J27: =I27/AB27 -> #VALUE! | M27: =TRUNC(L27*$H27,2) -> 0 | N27: 581.75 | O27: =TRUNC(N27*$H27,2) -> 47681.68 | Q27: =TRUNC(P27*$H27,2) -> 0 | S27: =TRUNC(R27*$H27,2) -> 0 | U27: =TRUNC(T27*$H27,2) -> 0 | W27: =TRUNC(V27*$H27,2) -> 0 | X27: =(8.65+4.54*2+13.4+5.79)*0.25*2+(13.4+5.79+4.54*2)*0.2*2 -> 29.768 | Y27: 581.75 | Z27: 25 | AA27: 5 | AB27: 705635.65 | AC27: =50/55 -> 0.90909091
A28: 1.6.0.3. | B28: 92463 | C28: SINAPI | D28: MONTAGEM E DESMONTAGEM DE FÔRMA DE VIGA, ESCORAMENTO COM GARFO DE MADEIRA, PÉ-DIREITO SIMPLES, EM CHAPA DE MADEIRA RESINADA, 8 UTILIZAÇÕES. AF_09/2020 | E28: m² | F28: 4,54*0,25*2 | G28: 132.93 | H28: =G28*1.25 -> 166.1625 | I28: =F28*H28 -> #VALUE! | J28: =I28/AB28 -> #VALUE! | M28: =TRUNC(L28*$H28,2) -> 0 | N28: 128.25 | O28: =TRUNC(N28*$H28,2) -> 21310.34 | Q28: =TRUNC(P28*$H28,2) -> 0 | S28: =TRUNC(R28*$H28,2) -> 0 | U28: =TRUNC(T28*$H28,2) -> 0 | W28: =TRUNC(V28*$H28,2) -> 0 | X28: =4.54*0.25*2 -> 2.27 | Y28: 128.25 | Z28: 25 | AA28: 5 | AB28: 705635.65 | AC28: =50/55 -> 0.90909091
A29: 1.6.0.4. | B29: 92759 | C29: SINAPI | D29: ARMAÇÃO DE PILAR OU VIGA DE ESTRUTURA CONVENCIONAL DE CONCRETO ARMADO UTILIZANDO AÇO CA-60 DE 5,0 MM - MONTAGEM. AF_06/2022 | E29: KG | F29: ((8,65+4,54*2+13,4+5,79)/0,15*0,78*0,154)+((13,4+5,79+4,54*2)/0,15*0,7*0,154)+((4,54)/0,15*0,78*0,154)+(43,6/0,15*1*0,154) | G29: 13.38 | H29: =G29*1.25 -> 16.725 | I29: =F29*H29 -> #VALUE! | J29: =I29/AB29 -> #VALUE! | M29: =TRUNC(L29*$H29,2) -> 0 | N29: 1688.75 | O29: =TRUNC(N29*$H29,2) -> 28244.34 | Q29: =TRUNC(P29*$H29,2) -> 0 | S29: =TRUNC(R29*$H29,2) -> 0 | U29: =TRUNC(T29*$H29,2) -> 0 | W29: =TRUNC(V29*$H29,2) -> 0 | X29: =((8.65+4.54*2+13.4+5.79)/0.15*0.78*0.154)+((13.4+5.79+4.54*2)/0.15*0.7*0.154)+((4.54)/0.15*0.78*0.154)+(43.6/0.15*1*0.154) -> 98.280541 | Y29: 1688.75 | Z29: 25 | AA29: 5 | AB29: 705635.65 | AC29: =50/55 -> 0.90909091
A30: 1.6.0.7. | B30: 92762 | C30: SINAPI | D30: ARMAÇÃO DE PILAR OU VIGA DE ESTRUTURA CONVENCIONAL DE CONCRETO ARMADO UTILIZANDO AÇO CA-50 DE 10,0 MM - MONTAGEM. AF_06/2022 | E30: KG | F30: 43,6*4,05*0,617 | G30: 10.03 | H30: =G30*1.25 -> 12.5375 | I30: =F30*H30 -> #VALUE! | J30: =I30/AB30 -> #VALUE! | M30: =TRUNC(L30*$H30,2) -> 0 | N30: 2432.25 | O30: =TRUNC(N30*$H30,2) -> 30494.33 | Q30: =TRUNC(P30*$H30,2) -> 0 | S30: =TRUNC(R30*$H30,2) -> 0 | U30: =TRUNC(T30*$H30,2) -> 0 | W30: =TRUNC(V30*$H30,2) -> 0 | X30: =43.6*4.05*0.617 -> 108.94986 | Y30: 2432.25 | Z30: 25 | AA30: 5 | AB30: 705635.65 | AC30: =50/55 -> 0.90909091
A31: 1.6.0.9. | B31: CM53 | C31: Próprio | D31: CONCRETAGEM DE PILARES, FCK = 20 MPA, COM USO DE BALDES - LANÇAMENTO, ADENSAMENTO E ACABAMENTO. AF_02/2022 | E31: M³ | F31: 43,6*0,15*0,3 | G31: 985.52 | H31: =G31*1.25 -> 1231.9 | I31: =F31*H31 -> #VALUE! | J31: =I31/AB31 -> #VALUE! | M31: =TRUNC(L31*$H31,2) -> 0 | N31: 35.5 | O31: =TRUNC(N31*$H31,2) -> 43732.45 | Q31: =TRUNC(P31*$H31,2) -> 0 | S31: =TRUNC(R31*$H31,2) -> 0 | U31: =TRUNC(T31*$H31,2) -> 0 | W31: =TRUNC(V31*$H31,2) -> 0 | X31: =43.6*0.15*0.3 -> 1.962 | Y31: 35.5 | Z31: 25 | AA31: 5 | AB31: 705635.65 | AC31: =50/55 -> 0.90909091
A32: 1.6.0.10. | B32: CM59 | C32: Próprio | D32: CONCRETAGEM DE VIGAS E LAJES, FCK=20 MPA, PARA QUALQUER TIPO DE LAJE COM BALDES EM EDIFICAÇÃO TÉRREA - LANÇAMENTO, ADENSAMENTO E ACABAMENTO. AF_02/2022 | E32: M³ | F32: (4,54+8,65+4,54*2+13,4+5,79)*0,12*0,25+(13,4+5,79+4,54*2)*0,12*0,2 | G32: 1003.15 | H32: =G32*1.25 -> 1253.9375 | I32: =F32*H32 -> #VALUE! | J32: =I32/AB32 -> #VALUE! | M32: =TRUNC(L32*$H32,2) -> 0 | N32: 35 | O32: =TRUNC(N32*$H32,2) -> 43887.81 | Q32: =TRUNC(P32*$H32,2) -> 0 | S32: =TRUNC(R32*$H32,2) -> 0 | U32: =TRUNC(T32*$H32,2) -> 0 | W32: =TRUNC(V32*$H32,2) -> 0 | X32: =(4.54+8.65+4.54*2+13.4+5.79)*0.12*0.25+(13.4+5.79+4.54*2)*0.12*0.2 -> 1.92228 | Y32: 35 | Z32: 25 | AA32: 5 | AB32: 705635.65 | AC32: =50/55 -> 0.90909091
A33: 1.7 | D33: ALVENARIA/FECHAMENTOS | F33: =Y33/Z33*AA33 -> 0 | H33: =G33*1.25 -> 0 | I33: =SUM(I34:I36) -> #VALUE! | J33: =I33/AB33 -> #VALUE! | Z33: 25 | AA33: 5 | AB33: 705635.65 | AC33: =50/55 -> 0.90909091
A34: 1.7.0.1. | B34: 103328 | C34: SINAPI | D34: ALVENARIA DE VEDAÇÃO DE BLOCOS CERÂMICOS FURADOS NA HORIZONTAL DE 9X19X19 CM (ESPESSURA 9 CM) E ARGAMASSA DE ASSENTAMENTO COM PREPARO EM BETONEIRA. AF_12/2021 | E34: m² | F34: (8,65+3,84)*3,3+(4,54+5)+(4,54*2,47)+(13,4+5,79)*2,2+4,54*1,8 | G34: 105.67 | H34: =G34*1.25 -> 132.0875 | I34: =F34*H34 -> #VALUE! | J34: =I34/AB34 -> #VALUE! | M34: =TRUNC(L34*$H34,2) -> 0 | N34: 3060.25 | O34: =TRUNC(N34*$H34,2) -> 404220.77 | Q34: =TRUNC(P34*$H34,2) -> 0 | S34: =TRUNC(R34*$H34,2) -> 0 | U34: =TRUNC(T34*$H34,2) -> 0 | W34: =TRUNC(V34*$H34,2) -> 0 | X34: =(8.65+3.84)*3.3+(4.54+5)+(4.54*2.47)+(13.4+5.79)*2.2+4.54*1.8 -> 112.3608 | Y34: 3060.25 | Z34: 25 | AA34: 5 | AB34: 705635.65 | AC34: =50/55 -> 0.90909091
A35: 1.7.0.2. | B35: 105024 | C35: SINAPI | D35: VERGA MOLDADA IN LOCO EM CONCRETO, ESPESSURA DE *10* CM. AF_03/2024 | E35: M | F35: 2*1,2+1,5*2+1,5 | G35: 56.1 | H35: =G35*1.25 -> 70.125 | I35: =F35*H35 -> #VALUE! | J35: =I35/AB35 -> #VALUE! | M35: =TRUNC(L35*$H35,2) -> 0 | N35: 357.5 | O35: =TRUNC(N35*$H35,2) -> 25069.68 | Q35: =TRUNC(P35*$H35,2) -> 0 | S35: =TRUNC(R35*$H35,2) -> 0 | U35: =TRUNC(T35*$H35,2) -> 0 | W35: =TRUNC(V35*$H35,2) -> 0 | X35: =2*1.2+1.5*2+1.5 -> 6.9 | Y35: 357.5 | Z35: 25 | AA35: 5 | AB35: 705635.65 | AC35: =50/55 -> 0.90909091
A36: 1.7.0.3. | B36: 105030 | C36: SINAPI | D36: CONTRAVERGA MOLDADA IN LOCO EM CONCRETO, ESPESSURA DE *10* CM. AF_03/2024 | E36: M | F36: 1,5+2 | G36: 43.56 | H36: =G36*1.25 -> 54.45 | I36: =F36*H36 -> #VALUE! | J36: =I36/AB36 -> #VALUE! | M36: =TRUNC(L36*$H36,2) -> 0 | N36: 207.5 | O36: =TRUNC(N36*$H36,2) -> 11298.37 | Q36: =TRUNC(P36*$H36,2) -> 0 | S36: =TRUNC(R36*$H36,2) -> 0 | U36: =TRUNC(T36*$H36,2) -> 0 | W36: =TRUNC(V36*$H36,2) -> 0 | X36: =1.5+2 -> 3.5 | Y36: 207.5 | Z36: 25 | AA36: 5 | AB36: 705635.65 | AC36: =50/55 -> 0.90909091
A37: 1.8 | D37: ESQUADRIAS METÁLICAS | F37: =Y37/Z37*AA37 -> 0 | H37: =G37*1.25 -> 0 | I37: =SUM(I38:I41) -> #VALUE! | J37: =I37/AB37 -> #VALUE! | Z37: 25 | AA37: 5 | AB37: 705635.65 | AC37: =50/55 -> 0.90909091
A38: 1.8.0.1. | B38: CM60 | C38: Próprio | D38: ESQUADRIAS DE VIDRO TEMPERADO FUMÊ, DE CORRER, ESP. 8MM, INCLUSIVE ACESSÓRIOS DE FIXAÇÃO | E38: M² | F38: 1,5*1+1*0,8 | G38: 792.31 | H38: =G38*1.25 -> 990.3875 | I38: =F38*H38 -> #VALUE! | J38: =I38/AB38 -> #VALUE! | M38: =TRUNC(L38*$H38,2) -> 0 | O38: =TRUNC(N38*$H38,2) -> 0 | Q38: =TRUNC(P38*$H38,2) -> 0 | S38: =TRUNC(R38*$H38,2) -> 0 | U38: =TRUNC(T38*$H38,2) -> 0 | W38: =TRUNC(V38*$H38,2) -> 0 | X38: =1.5*1+1*0.8 -> 2.3 | Y38: 148.5 | Z38: 25 | AA38: 5 | AB38: 705635.65 | AC38: =50/55 -> 0.90909091
A39: 1.8.0.2. | B39: 100701 | C39: SINAPI | D39: PORTA DE FERRO, DE ABRIR, TIPO GRADE COM CHAPA, COM GUARNIÇÕES. AF_12/2019 | E39: m² | F39: 0,8*2,1*2+1*2,1 | G39: 686.88 | H39: =G39*1.25 -> 858.6 | I39: =F39*H39 -> #VALUE! | J39: =I39/AB39 -> #VALUE! | M39: =TRUNC(L39*$H39,2) -> 0 | O39: =TRUNC(N39*$H39,2) -> 0 | Q39: =TRUNC(P39*$H39,2) -> 0 | S39: =TRUNC(R39*$H39,2) -> 0 | U39: =TRUNC(T39*$H39,2) -> 0 | W39: =TRUNC(V39*$H39,2) -> 0 | X39: =0.8*2.1*2+1*2.1 -> 5.46 | Y39: 210 | Z39: 25 | AA39: 5 | AB39: 705635.65 | AC39: =50/55 -> 0.90909091
A40: 1.8.0.4. | B40: 3080 | C40: SINAPI | D40: FECHADURA ESPELHO PARA PORTA EXTERNA, EM ACO INOX (MAQUINA, TESTA E CONTRA-TESTA) E EM ZAMAC (MACANETA, LINGUETA E TRINCOS) COM ACABAMENTO CROMADO, MAQUINA DE 40 MM, INCLUINDO CHAVE TIPO CILINDRO | E40: CJ | F40: 3 | G40: 74.48 | H40: =G40*1.25 -> 93.1 | I40: =F40*H40 -> 279.3 | J40: =I40/AB40 -> 0.00039581334 | M40: =TRUNC(L40*$H40,2) -> 0 | O40: =TRUNC(N40*$H40,2) -> 0 | Q40: =TRUNC(P40*$H40,2) -> 0 | S40: =TRUNC(R40*$H40,2) -> 0 | U40: =TRUNC(T40*$H40,2) -> 0 | W40: =TRUNC(V40*$H40,2) -> 0 | X40: 3 | Y40: 100 | Z40: 25 | AA40: 5 | AB40: 705635.65 | AC40: =50/55 -> 0.90909091
...

Sheet Planilha2
A7: ='Orçamento Sintético'!D8 -> SERVIÇOS PRELIMINARES | E7: ='Orçamento Sintético'!I8 -> 1245.75
A8: ='Orçamento Sintético'!D10 -> FUNDAÇÃO | E8: ='Orçamento Sintético'!I10 -> 2280.775
A9: ='Orçamento Sintético'!D12 -> BALDRAMES | E9: ='Orçamento Sintético'!I12 -> 7660.9721
A10: ='Orçamento Sintético'!D21 -> IMPERMEABILIZAÇÃO | E10: ='Orçamento Sintético'!I24 -> 649.6075

Sheet Planilha1
A5: ='Orçamento Sintético'!D2 -> OBRA:CONTRATAÇÃO DE EMPRESA PARA AMPLIAÇÃO DA UBS DE ITAPIRATINS - TO
A6: DATA DASE: SINAPI/TO 04/2026 NÃO DESONERADO
A7: ENCARGOS SOCIAIS - N DESONERADOS HORISTA: 110,74% MENSALISTA : 68,05%
A8: BDI: 25,00%
A9: CRONOGRAMA FÍSICO - FINANCEIRO
A10: Item | B10: Descrição | C10: Valor (R$) | D10: Parcelas: | E10: 1 | F10: 2 | G10: 3 | H10: 4 | I10: 5 | J10: 6 | K10: 7 | L10: 8 | M10: 9 | N10: 10 | O10: 11 | P10: 12
A11: 1. | B11: ='Orçamento Sintético'!D5 -> AMPLIAÇÃO DA UBS DE ITAPIRATINS | C11: =SUM(C12:C47) -> 119599.47 | D11: % Período: | E11: =E48 -> 0.034437861 | F11: =F48 -> 0.22610035 | G11: =G48 -> 0.30185892 | H11: =H48 -> 0.28069538 | I11: =I48 -> 0.10023071 | J11: =J48 -> 0.05667677 | Q11: =SUM(E11:J11) -> 0.99999999
A12: 1.1 | B12: ='[2]Orçamento Sintético'!D6 -> ADMINISTRAÇÃO LOCAL DA OBRA | C12: ='Orçamento Sintético'!I6 -> 5500 | D12: % Período: | E12: 0.0483 | F12: 0.221 | G12: 0.3109 | H12: 0.2859 | I12: 0.0949 | J12: 0.039 | Q12: =SUM(E12:J12) -> 1
E13: =C12*E12 -> 265.65 | F13: =F12*C12 -> 1215.5 | G13: =G12*C12 -> 1709.95 | H13: =H12*C12 -> 1572.45 | I13: =I12*C12 -> 521.95 | J13: =J12*C12 -> 214.5 | Q13: =SUM(E13:J13) -> 5500 | R13: =C12-Q13 -> 0 | S13: =R13/A48 -> 0 | T13: =29.96+1.13 -> 31.09
A14: 1.2 | B14: ='[2]Orçamento Sintético'!D8 -> SERVIÇOS PRELIMINARES | C14: ='Orçamento Sintético'!I8 -> 1245.75 | D14: % Período: | E14: 0.3 | F14: 0.3 | G14: 0.3 | H14: 0.1 | Q14: =SUM(E14:J14) -> 1 | R14: =C13-Q14 -> -1
E15: =E14*C14 -> 373.725 | F15: =F14*C14 -> 373.725 | G15: =G14*C14 -> 373.725 | H15: =H14*C14 -> 124.575 | I15: =I14*C14 -> 0 | J15: =J14*C14 -> 0 | Q15: =SUM(E15:J15) -> 1245.75 | R15: =C14-Q15 -> 0
A16: 1.3 | B16: ='[2]Orçamento Sintético'!D13 -> FUNDAÇÃO | C16: ='Orçamento Sintético'!I10 -> 2280.775 | D16: % Período: | E16: 0.3 | F16: 0.3 | G16: 0.2 | H16: 0.2 | Q16: =SUM(E16:J16) -> 1 | R16: =C15-Q16 -> -1
E17: =E16*C16 -> 684.2325 | F17: =F16*C16 -> 684.2325 | G17: =G16*C16 -> 456.155 | H17: =H16*C16 -> 456.155 | I17: =I16*C16 -> 0 | J17: =J16*C16 -> 0 | Q17: =SUM(E17:J17) -> 2280.775 | R17: =C16-Q17 -> 0
A18: 1.4 | B18: ='[2]Orçamento Sintético'!D15 -> BALDRAMES | C18: ='Orçamento Sintético'!I12 -> 7660.9721 | D18: % Período: | E18: 0.3 | F18: 0.3 | G18: 0.2 | H18: 0.2 | Q18: =SUM(E18:J18) -> 1 | R18: =C17-Q18 -> -1
E19: =E18*C18 -> 2298.2916 | F19: =F18*C18 -> 2298.2916 | G19: =G18*C18 -> 1532.1944 | H19: =H18*C18 -> 1532.1944 | I19: =I18*C18 -> 0 | J19: =J18*C18 -> 0 | Q19: =SUM(E19:J19) -> 7660.9721 | R19: =C18-Q19 -> 0
A20: 1.5 | B20: ='[2]Orçamento Sintético'!D24 -> IMPERMEABILIZAÇÃO | C20: ='Orçamento Sintético'!I21 -> 1656.1694 | D20: % Período: | E20: 0.3 | F20: 0.3 | G20: 0.2 | H20: 0.2 | Q20: =SUM(E20:J20) -> 1 | R20: =C19-Q20 -> -1
E21: =E20*C20 -> 496.85081 | F21: =F20*C20 -> 496.85081 | G21: =G20*C20 -> 331.23388 | H21: =H20*C20 -> 331.23388 | I21: =I20*C20 -> 0 | J21: =J20*C20 -> 0 | Q21: =SUM(E21:J21) -> 1656.1694 | R21: =C20-Q21 -> 0
A22: 1.6 | B22: ='[2]Orçamento Sintético'!D28 -> PILARES, VIGAS E LAJES | C22: ='Orçamento Sintético'!I25 -> 12739.807 | D22: % Período: | F22: 0.4 | G22: 0.4 | H22: 0.2 | Q22: =SUM(E22:J22) -> 1 | R22: =C21-Q22 -> -1
E23: =E22*C22 -> 0 | F23: =F22*C22 -> 5095.9228 | G23: =G22*C22 -> 5095.9228 | H23: =H22*C22 -> 2547.9614 | I23: =I22*C22 -> 0 | J23: =J22*C22 -> 0 | Q23: =SUM(E23:J23) -> 12739.807 | R23: =C22-Q23 -> 0
A24: 1.7 | B24: ='[2]Orçamento Sintético'!D39 -> ALVENARIA/FECHAMENTOS | C24: ='Orçamento Sintético'!I33 -> 15515.895 | D24: % Período: | F24: 0.4 | G24: 0.4 | H24: 0.2 | Q24: =SUM(E24:J24) -> 1 | R24: =C23-Q24 -> -1
E25: =E24*C24 -> 0 | F25: =F24*C24 -> 6206.3579 | G25: =G24*C24 -> 6206.3579 | H25: =H24*C24 -> 3103.1789 | I25: =I24*C24 -> 0 | J25: =J24*C24 -> 0 | Q25: =SUM(E25:J25) -> 15515.895 | R25: =C24-Q25 -> 0
A26: 1.8 | B26: ='[2]Orçamento Sintético'!D43 -> ESQUADRIAS METÁLICAS | C26: ='Orçamento Sintético'!I37 -> 7958.291 | D26: % Período: | G26: 0.5 | H26: 0.5 | Q26: =SUM(E26:J26) -> 1 | R26: =C25-Q26 -> -1
E27: =E26*C26 -> 0 | F27: =F26*C26 -> 0 | G27: =G26*C26 -> 3979.1455 | H27: OBRA | I27: =I26*C26 -> 0 | J27: =J26*C26 -> 0 | Q27: =SUM(E27:J27) -> 3979.1455 | R27: =C26-Q27 -> 3979.1455
A28: 1.9 | B28: ='[2]Orçamento Sintético'!D49 -> COBERTURA | C28: ='Orçamento Sintético'!I42 -> 14176.32 | D28: % Período: | F28: 0.2 | G28: 0.4 | H28: 0.4 | Q28: =SUM(E28:J28) -> 1 | R28: =C27-Q28 -> -1
E29: =E28*C28 -> 0 | F29: =F28*C28 -> 2835.2639 | G29: =G28*C28 -> 5670.5279 | H29: =H28*C28 -> 5670.5279 | I29: =I28*C28 -> 0 | J29: =J28*C28 -> 0 | Q29: =SUM(E29:J29) -> 14176.32 | R29: =C28-Q29 -> 0
A30: 1.10 | B30: ='[2]Orçamento Sintético'!D55 -> REVESTIMENTOS INTERNOS | C30: ='Orçamento Sintético'!I48 -> 8686.0737 | D30: % Período: | F30: 0.2 | G30: 0.3 | H30: 0.3 | I30: 0.2 | Q30: =SUM(E30:J30) -> 1 | R30: =C29-Q30 -> -1
E31: =E30*C30 -> 0 | F31: =F30*C30 -> 1737.2148 | G31: =G30*C30 -> 2605.8221 | H31: =H30*C30 -> 2605.8221 | I31: =I30*C30 -> 1737.2148 | J31: =J30*C30 -> 0 | Q31: =SUM(E31:J31) -> 8686.0737 | R31: =C30-Q31 -> 0
A32: 1.11 | B32: ='[2]Orçamento Sintético'!D63 -> REVESTIMENTOS EXTERNOS | C32: ='Orçamento Sintético'!I53 -> 8284.7946 | D32: % Período: | F32: 0.2 | G32: 0.3 | H32: 0.3 | I32: 0.2 | Q32: =SUM(E32:J32) -> 1 | R32: =C31-Q32 -> -1
F33: =F32*C32 -> 1656.9589 | G33: =G32*C32 -> 2485.4384 | H33: =H32*C32 -> 2485.4384 | I33: =I32*C32 -> 1656.9589 | J33: =J32*C32 -> 0 | Q33: =SUM(E33:J33) -> 8284.7946 | R33: =C32-Q33 -> 0
A34: 1.12 | B34: ='[2]Orçamento Sintético'!D66 -> FORROS | C34: ='Orçamento Sintético'!I56 -> 4465.7955 | D34: % Período: | H34: 0.3 | I34: 0.3 | J34: 0.4 | Q34: =SUM(E34:J34) -> 1 | R34: =C33-Q34 -> -1
F35: =F34*C34 -> 0 | G35: =G34*C34 -> 0 | H35: =H34*C34 -> 1339.7386 | I35: =I34*C34 -> 1339.7386 | J35: =J34*C34 -> 1786.3182 | Q35: =SUM(E35:J35) -> 4465.7955 | R35: =C34-Q35 -> 0
A36: 1.13 | B36: ='[2]Orçamento Sintético'!D68 -> PINTURA | C36: ='Orçamento Sintético'!I58 -> 5986.8968 | D36: % Período: | H36: 0.3 | I36: 0.3 | J36: 0.4 | Q36: =SUM(E36:J36) -> 1 | R36: =C35-Q36 -> -1
F37: =F36*C36 -> 0 | G37: =G36*C36 -> 0 | H37: =H36*C36 -> 1796.069 | I37: =I36*C36 -> 1796.069 | J37: =J36*C36 -> 2394.7587 | Q37: =SUM(E37:J37) -> 5986.8968 | R37: =C36-Q37 -> 0
A38: 1.14 | B38: ='[2]Orçamento Sintético'!D80 -> PISO | C38: ='Orçamento Sintético'!I67 -> 10060.505 | D38: % Período: | F38: 0.2 | G38: 0.2 | H38: 0.2 | I38: 0.2 | J38: 0.2 | Q38: =SUM(E38:J38) -> 1 | R38: =C37-Q38 -> -1
F39: =F38*C38 -> 2012.101 | G39: =G38*C38 -> 2012.101 | H39: =H38*C38 -> 2012.101 | I39: =I38*C38 -> 2012.101 | J39: =J38*C38 -> 2012.101 | Q39: =SUM(E39:J39) -> 10060.505 | R39: =C38-Q39 -> 0
A40: 1.15 | B40: ='[2]Orçamento Sintético'!D89 -> ELÉTRICAS / TELEFÔNICAS | C40: ='Orçamento Sintético'!I74 -> 6641.6888 | D40: % Período: | F40: 0.2 | G40: 0.3 | H40: 0.3 | I40: 0.2 | Q40: =SUM(E40:J40) -> 1 | R40: =C39-Q40 -> -1
F41: =F40*C40 -> 1328.3378 | G41: =G40*C40 -> 1992.5066 | H41: =H40*C40 -> 1992.5066 | I41: =I40*C40 -> 1328.3378 | J41: =J40*C40 -> 0 | Q41: =SUM(E41:J41) -> 6641.6888 | R41: =C40-Q41 -> 0
A42: 1.16 | B42: ='[2]Orçamento Sintético'!D119 -> HIDRÁULICAS / GÁS / INCÊNCIO | C42: ='Orçamento Sintético'!I95 -> 2325.355 | D42: % Período: | F42: 0.2 | G42: 0.3 | H42: 0.3 | I42: 0.2 | Q42: =SUM(E42:J42) -> 1 | R42: =C41-Q42 -> -1
F43: =F42*C42 -> 465.071 | G43: =G42*C42 -> 697.6065 | H43: =H42*C42 -> 697.6065 | I43: =I42*C42 -> 465.071 | J43: =J42*C42 -> 0 | Q43: =SUM(E43:J43) -> 2325.355 | R43: =C42-Q43 -> 0
A44: 1.17 | B44: ='[2]Orçamento Sintético'!D151 -> SANITÁRIAS / PLUVIAL | C44: ='Orçamento Sintético'!I115 -> 3178.27 | D44: % Período: | F44: 0.2 | G44: 0.3 | H44: 0.3 | I44: 0.2 | Q44: =SUM(E44:J44) -> 1 | R44: =C43-Q44 -> -1
...

Sheet 1ª MED
C1: BM - BOLETIM DE MEDIÇÃO | L1: Grau de Sigilo #PUBLICO
A3: PROPONENTE/TOMADOR | C3: MUNICIPIO/UF | F3: LOCALIDADE / ENDEREÇO | J3: OBJETO
A4: PREFEITURA MUNICIPAL DE SANTA ROSA DO TOCANTINS | C4: SANTA ROSA DO TOCANTINS/TO. | F4: SETOR SÃO JERÔNIMO | J4: CONSTRUÇÃO DE 25 CASAS POPULARES
A6: EMPRESA EXECUTORA | C6: CNPJ | F6: Nº CTEF | G6: OBJETO DO CTEF | K6: ÍNICIO DA OBRA
A7: K L CONSTRUTORA LTDA | C7: 27.331.448/0001-44 | G7: =J4 -> CONSTRUÇÃO DE 25 CASAS POPULARES | K7: 46104
E9: % Realizado Acum.: | F9: =I192 -> #REF! | G9: Período: | H9: até 10/04/2026 | J9: Medição: | K9: 1
A11: ORÇAMENTO CONTRATADO | G11: =F192 -> #REF! | J11: Evolução Financeira (R$)
A12: Item | B12: Discriminação | C12: Unid. | D12: Qtde. | E12: Preço com BDI (R$) | F12: Preço Total (R$) | G12: Acum. Anterior | H12: Período | I12: Acum. Incluindo Período | J12: Acum. Anterior | K12: Período | L12: Acum. Incluindo Período
A13: ='Orçamento Sintético'!A5 -> 1 | B13: ='Orçamento Sintético'!D5 -> AMPLIAÇÃO DA UBS DE ITAPIRATINS
A14: ='Orçamento Sintético'!A6 -> 1.1 | B14: ='Orçamento Sintético'!D6 -> ADMINISTRAÇÃO LOCAL DA OBRA
A15: ='Orçamento Sintético'!A7 -> 1.1.1 | B15: ='Orçamento Sintético'!D7 -> ADMINISTRAÇÃO LOCAL | C15: ='Orçamento Sintético'!E7 -> und | D15: ='Orçamento Sintético'!F7 -> 1 | E15: ='Orçamento Sintético'!H7 -> 5500 | F15: =ROUND(E15*D15,2) -> 5500 | G15: 0 | H15: =K15/F15 -> 0.20567818 | I15: =H15+G15 -> 0.20567818 | J15: 0 | K15: 1131.23 | L15: =K15+J15 -> 1131.23 | M15: =F15 -> 5500 | N15: =M15/25 -> 220
A16: ='Orçamento Sintético'!A8 -> 1.2 | B16: ='Orçamento Sintético'!D8 -> SERVIÇOS PRELIMINARES
A17: ='Orçamento Sintético'!A9 -> 1.2.0.1. | B17: ='Orçamento Sintético'!D9 -> FORNECIMENTO E INSTALAÇÃO DE PLACA DE OBRA COM CHAPA GALVANIZADA E ESTRUTURA DE MADEIRA. AF_03/2022_PS | C17: ='Orçamento Sintético'!E9 -> m² | D17: ='Orçamento Sintético'!F9 -> 2 | E17: ='Orçamento Sintético'!H9 -> 622.875 | F17: =ROUND(E17*D17,2) -> 1245.75 | G17: 0 | H17: =D17 -> 2 | I17: =H17+G17 -> 2 | J17: 0 | K17: =ROUND(E17*H17,2)-0 -> 1245.75 | L17: =K17+J17 -> 1245.75
A18: ='Orçamento Sintético'!#REF! -> #REF! | B18: ='Orçamento Sintético'!#REF! -> #REF! | C18: ='Orçamento Sintético'!#REF! -> #REF! | D18: ='Orçamento Sintético'!#REF! -> #REF! | E18: ='Orçamento Sintético'!#REF! -> #REF! | F18: =ROUND(E18*D18,2) -> #REF! | G18: 0 | H18: =D18 -> #REF! | I18: =H18+G18 -> #REF! | J18: 0 | K18: =ROUND(E18*H18,2)-0 -> #REF! | L18: =K18+J18 -> #REF!
A19: ='Orçamento Sintético'!#REF! -> #REF! | B19: ='Orçamento Sintético'!#REF! -> #REF! | C19: ='Orçamento Sintético'!#REF! -> #REF! | D19: ='Orçamento Sintético'!#REF! -> #REF! | E19: ='Orçamento Sintético'!#REF! -> #REF! | F19: =ROUND(E19*D19,2) -> #REF! | G19: 0 | H19: =D19 -> #REF! | I19: =H19+G19 -> #REF! | J19: 0 | K19: =ROUND(E19*H19,2)-0 -> #REF! | L19: =K19+J19 -> #REF!
A20: ='Orçamento Sintético'!#REF! -> #REF! | B20: ='Orçamento Sintético'!#REF! -> #REF! | C20: ='Orçamento Sintético'!#REF! -> #REF! | D20: ='Orçamento Sintético'!#REF! -> #REF! | E20: ='Orçamento Sintético'!#REF! -> #REF! | F20: =ROUND(E20*D20,2) -> #REF! | G20: 0 | H20: 0 | I20: =H20+G20 -> 0 | J20: 0 | K20: =ROUND(E20*H20,2)-0 -> #REF! | L20: =K20+J20 -> #REF! | M20: =SUM(F17:F20) -> #REF! | N20: =M20/25 -> #REF!
A21: ='Orçamento Sintético'!A10 -> 1.3 | B21: ='Orçamento Sintético'!D10 -> FUNDAÇÃO
A22: ='Orçamento Sintético'!A11 -> 1.3.0.1. | B22: ='Orçamento Sintético'!D11 -> ESTACA BROCA DE CONCRETO, DIÂMETRO DE 30CM, ESCAVAÇÃO MANUAL COM TRADO CONCHA, COM ARMADURA DE ARRANQUE. AF_05/2020 | C22: ='Orçamento Sintético'!E11 -> M | D22: ='Orçamento Sintético'!F11 -> 14 | E22: ='Orçamento Sintético'!H11 -> 162.9125 | F22: =ROUND(E22*D22,2) -> 2280.78 | G22: 0 | H22: =D22 -> 14 | I22: =H22+G22 -> 14 | J22: 0 | K22: =ROUND(E22*H22,2)-0 -> 2280.78 | L22: =K22+J22 -> 2280.78
A23: ='Orçamento Sintético'!A12 -> 1.4 | B23: ='Orçamento Sintético'!D12 -> BALDRAMES
A24: ='Orçamento Sintético'!A13 -> 1.4.0.1. | B24: ='Orçamento Sintético'!D13 -> ESCAVAÇÃO MANUAL PARA VIGA BALDRAME OU SAPATA CORRIDA (INCLUINDO ESCAVAÇÃO PARA COLOCAÇÃO DE FÔRMAS). AF_01/2024 | C24: ='Orçamento Sintético'!E13 -> m³ | D24: ='Orçamento Sintético'!F13 -> 9.331 | E24: ='Orçamento Sintético'!H13 -> 138.9 | F24: =ROUND(E24*D24,2) -> 1296.08 | G24: 0 | H24: =D24 -> 9.331 | I24: =H24+G24 -> 9.331 | J24: 0 | K24: =ROUND(E24*H24,2)-0 -> 1296.08 | L24: =K24+J24 -> 1296.08
A25: ='Orçamento Sintético'!A14 -> 1.4.0.2. | B25: ='Orçamento Sintético'!D14 -> LASTRO DE CONCRETO MAGRO, APLICADO EM BLOCOS DE COROAMENTO OU SAPATAS, ESPESSURA DE 5 CM. AF_01/2024 | C25: ='Orçamento Sintético'!E14 -> m² | D25: ='Orçamento Sintético'!F14 -> 11.374 | E25: ='Orçamento Sintético'!H14 -> 60.025 | F25: =ROUND(E25*D25,2) -> 682.72 | G25: 0 | H25: =D25 -> 11.374 | I25: =H25+G25 -> 11.374 | J25: 0 | K25: =ROUND(E25*H25,2)-0 -> 682.72 | L25: =K25+J25 -> 682.72
A26: ='Orçamento Sintético'!A15 -> 1.4.0.3. | B26: ='Orçamento Sintético'!D15 -> ALVENARIA DE VEDAÇÃO DE BLOCOS CERÂMICOS FURADOS NA HORIZONTAL DE 14X9X19 CM (ESPESSURA 14 CM, BLOCO DEITADO) E ARGAMASSA DE ASSENTAMENTO COM PREPARO EM BETONEIRA. AF_12/2021 | C26: ='Orçamento Sintético'!E15 -> m² | D26: ='Orçamento Sintético'!F15 -> 8.9905 | E26: ='Orçamento Sintético'!H15 -> 203.2125 | F26: =ROUND(E26*D26,2) -> 1826.98 | G26: 0 | H26: =D26 -> 8.9905 | I26: =H26+G26 -> 8.9905 | J26: 0 | K26: =ROUND(E26*H26,2)-0 -> 1826.98 | L26: =K26+J26 -> 1826.98
A27: ='Orçamento Sintético'!A16 -> 1.4.0.4. | B27: ='Orçamento Sintético'!D16 -> FABRICAÇÃO, MONTAGEM E DESMONTAGEM DE FÔRMA PARA VIGA BALDRAME, EM MADEIRA SERRADA, E=25 MM, 4 UTILIZAÇÕES. AF_01/2024 | C27: ='Orçamento Sintético'!E16 -> m² | D27: ='Orçamento Sintético'!F16 -> 13.19 | E27: ='Orçamento Sintético'!H16 -> 94.5 | F27: =ROUND(E27*D27,2) -> 1246.46 | G27: 0 | H27: =D27 -> 13.19 | I27: =H27+G27 -> 13.19 | J27: 0 | K27: =ROUND(E27*H27,2)-0 -> 1246.46 | L27: =K27+J27 -> 1246.46
A28: ='Orçamento Sintético'!A17 -> 1.4.0.5. | B28: ='Orçamento Sintético'!D17 -> ARMAÇÃO DE SAPATA ISOLADA, VIGA BALDRAME E SAPATA CORRIDA UTILIZANDO AÇO CA-50 DE 10 MM -MONTAGEM. AF_01/2024 | C28: ='Orçamento Sintético'!E17 -> KG | D28: ='Orçamento Sintético'!F17 -> 65.919663 | E28: ='Orçamento Sintético'!H17 -> 14.9 | F28: =ROUND(E28*D28,2) -> 982.2 | G28: 0 | H28: =D28 -> 65.919663 | I28: =H28+G28 -> 65.919663 | J28: 0 | K28: =ROUND(E28*H28,2)-0 -> 982.2 | L28: =K28+J28 -> 982.2
A29: ='Orçamento Sintético'!A18 -> 1.4.0.6. | B29: ='Orçamento Sintético'!D18 -> ARMAÇÃO DE SAPATA ISOLADA, VIGA BALDRAME E SAPATA CORRIDA UTILIZANDO AÇO CA-50 DE 6,3 MM - MONTAGEM. AF_01/2024 | C29: ='Orçamento Sintético'!E18 -> KG | D29: ='Orçamento Sintético'!F18 -> 13.249355 | E29: ='Orçamento Sintético'!H18 -> 18.45 | F29: =ROUND(E29*D29,2) -> 244.45 | G29: 0 | H29: =D29 -> 13.249355 | I29: =H29+G29 -> 13.249355 | J29: 0 | K29: =ROUND(E29*H29,2)-0 -> 244.45 | L29: =K29+J29 -> 244.45
A30: ='Orçamento Sintético'!A19 -> 1.4.0.7. | B30: ='Orçamento Sintético'!D19 -> ARMAÇÃO DE SAPATA ISOLADA, VIGA BALDRAME E SAPATA CORRIDA UTILIZANDO AÇO CA-60 DE 5 MM - MONTAGEM. AF_01/2024 | C30: ='Orçamento Sintético'!E19 -> KG | D30: ='Orçamento Sintético'!F19 -> 21.666773 | E30: ='Orçamento Sintético'!H19 -> 20.325 | F30: =ROUND(E30*D30,2) -> 440.38 | G30: 0 | H30: =D30 -> 21.666773 | I30: =H30+G30 -> 21.666773 | J30: 0 | K30: =ROUND(E30*H30,2)-0 -> 440.38 | L30: =K30+J30 -> 440.38
A31: ='Orçamento Sintético'!A20 -> 1.4.0.8. | B31: ='Orçamento Sintético'!D20 -> CONCRETAGEM DE VIGA BALDRAME, FCK 20 MPA, COM USO DE JERICA - LANÇAMENTO, ADENSAMENTO E ACABAMENTO. AF_01/2024 | C31: ='Orçamento Sintético'!E20 -> M³ | D31: ='Orçamento Sintético'!F20 -> 0.98925 | E31: ='Orçamento Sintético'!H20 -> 951.9375 | F31: =ROUND(E31*D31,2) -> 941.7 | G31: 0 | H31: =D31 -> 0.98925 | I31: =H31+G31 -> 0.98925 | J31: 0 | K31: =ROUND(E31*H31,2)-0 -> 941.7 | L31: =K31+J31 -> 941.7 | M31: =SUM(F24:F31) -> 7660.97 | N31: =M31/25 -> 306.4388
A32: ='Orçamento Sintético'!A21 -> 1.5 | B32: ='Orçamento Sintético'!D21 -> IMPERMEABILIZAÇÃO
A33: ='Orçamento Sintético'!A22 -> 1.5.0.1. | B33: ='Orçamento Sintético'!D22 -> CHAPISCO APLICADO EM ALVENARIAS E ESTRUTURAS DE CONCRETO INTERNAS, COM COLHER DE PEDREIRO. ARGAMASSA TRAÇO 1:3 COM PREPARO MANUAL. AF_10/2022 | C33: ='Orçamento Sintético'!E22 -> m² | D33: ='Orçamento Sintético'!F22 -> 13.19 | E33: ='Orçamento Sintético'!H22 -> 6.975 | F33: =ROUND(E33*D33,2) -> 92 | G33: 0 | H33: 0 | I33: =H33+G33 -> 0 | J33: 0 | K33: =ROUND(E33*H33,2)-0 -> 0 | L33: =K33+J33 -> 0
A34: ='Orçamento Sintético'!A23 -> 1.5.0.2. | B34: ='Orçamento Sintético'!D23 -> IMPERMEABILIZAÇÃO DE SUPERFÍCIE COM ARGAMASSA DE CIMENTO E AREIA, COM ADITIVO IMPERMEABILIZANTE, E = 1,5CM. AF_09/2023 | C34: ='Orçamento Sintético'!E23 -> m² | D34: ='Orçamento Sintético'!F23 -> 13.19 | E34: ='Orçamento Sintético'!H23 -> 69.3375 | F34: =ROUND(E34*D34,2) -> 914.56 | G34: 0 | H34: 0 | I34: =H34+G34 -> 0 | J34: 0 | K34: =ROUND(E34*H34,2)-0 -> 0 | L34: =K34+J34 -> 0
A35: ='Orçamento Sintético'!A24 -> 1.5.0.3. | B35: ='Orçamento Sintético'!D24 -> IMPERMEABILIZAÇÃO DE SUPERFÍCIE COM EMULSÃO ASFÁLTICA, 2 DEMÃOS. AF_09/2023 | C35: ='Orçamento Sintético'!E24 -> m² | D35: ='Orçamento Sintético'!F24 -> 13.19 | E35: ='Orçamento Sintético'!H24 -> 49.25 | F35: =ROUND(E35*D35,2) -> 649.61 | G35: 0 | H35: 0 | I35: =H35+G35 -> 0 | J35: 0 | K35: =ROUND(E35*H35,2)-0 -> 0 | L35: =K35+J35 -> 0 | M35: =SUM(F33:F35) -> 1656.17 | N35: =M35/25 -> 66.2468
A36: ='Orçamento Sintético'!A25 -> 1.6 | B36: ='Orçamento Sintético'!D25 -> PILARES, VIGAS E LAJES
A37: ='Orçamento Sintético'!A26 -> 1.6.0.1. | B37: ='Orçamento Sintético'!D26 -> MONTAGEM E DESMONTAGEM DE FÔRMA DE PILARES RETANGULARES E ESTRUTURAS SIMILARES, PÉ-DIREITO SIMPLES, EM CHAPA DE MADEIRA COMPENSADA RESINADA, 8 UTILIZAÇÕES. AF_09/2020 | C37: ='Orçamento Sintético'!E26 -> m² | D37: ='Orçamento Sintético'!F26 -> 23.19 | E37: ='Orçamento Sintético'!H26 -> 89.9375 | F37: =ROUND(E37*D37,2) -> 2085.65 | G37: 0 | H37: 0 | I37: =H37+G37 -> 0 | J37: 0 | K37: =ROUND(E37*H37,2)-0 -> 0 | L37: =K37+J37 -> 0
A38: ='Orçamento Sintético'!A27 -> 1.6.0.2. | B38: ='Orçamento Sintético'!D27 -> MONTAGEM E DESMONTAGEM DE FÔRMA DE VIGA, SEM ESCORAMENTO, PÉ-DIREITO SIMPLES, EM CHAPA DE MADEIRA RESINADA, 8 UTILIZAÇÕES | C38: ='Orçamento Sintético'!E27 -> M² | D38: ='Orçamento Sintético'!F27 -> 29.768 | E38: ='Orçamento Sintético'!H27 -> 81.9625 | F38: =ROUND(E38*D38,2) -> 2439.86 | G38: 0 | H38: 0 | I38: =H38+G38 -> 0 | J38: 0 | K38: =ROUND(E38*H38,2)-0 -> 0 | L38: =K38+J38 -> 0
A39: ='Orçamento Sintético'!A28 -> 1.6.0.3. | B39: ='Orçamento Sintético'!D28 -> MONTAGEM E DESMONTAGEM DE FÔRMA DE VIGA, ESCORAMENTO COM GARFO DE MADEIRA, PÉ-DIREITO SIMPLES, EM CHAPA DE MADEIRA RESINADA, 8 UTILIZAÇÕES. AF_09/2020 | C39: ='Orçamento Sintético'!E28 -> m² | D39: ='Orçamento Sintético'!F28 -> 2.27 | E39: ='Orçamento Sintético'!H28 -> 166.1625 | F39: =ROUND(E39*D39,2) -> 377.19 | G39: 0 | H39: 0 | I39: =H39+G39 -> 0 | J39: 0 | K39: =ROUND(E39*H39,2)-0 -> 0 | L39: =K39+J39 -> 0
A40: ='Orçamento Sintético'!A29 -> 1.6.0.4. | B40: ='Orçamento Sintético'!D29 -> ARMAÇÃO DE PILAR OU VIGA DE ESTRUTURA CONVENCIONAL DE CONCRETO ARMADO UTILIZANDO AÇO CA-60 DE 5,0 MM - MONTAGEM. AF_06/2022 | C40: ='Orçamento Sintético'!E29 -> KG | D40: ='Orçamento Sintético'!F29 -> 98.280541 | E40: ='Orçamento Sintético'!H29 -> 16.725 | F40: =ROUND(E40*D40,2) -> 1643.74 | G40: 0 | H40: 0 | I40: =H40+G40 -> 0 | J40: 0 | K40: =ROUND(E40*H40,2)-0 -> 0 | L40: =K40+J40 -> 0
A41: ='Orçamento Sintético'!#REF! -> #REF! | B41: ='Orçamento Sintético'!#REF! -> #REF! | C41: ='Orçamento Sintético'!#REF! -> #REF! | D41: ='Orçamento Sintético'!#REF! -> #REF! | E41: ='Orçamento Sintético'!#REF! -> #REF! | F41: =ROUND(E41*D41,2) -> #REF! | G41: 0 | H41: 0 | I41: =H41+G41 -> 0 | J41: 0 | K41: =ROUND(E41*H41,2)-0 -> #REF! | L41: =K41+J41 -> #REF!
A42: ='Orçamento Sintético'!#REF! -> #REF! | B42: ='Orçamento Sintético'!#REF! -> #REF! | C42: ='Orçamento Sintético'!#REF! -> #REF! | D42: ='Orçamento Sintético'!#REF! -> #REF! | E42: ='Orçamento Sintético'!#REF! -> #REF! | F42: =ROUND(E42*D42,2) -> #REF! | G42: 0 | H42: 0 | I42: =H42+G42 -> 0 | J42: 0 | K42: =ROUND(E42*H42,2)-0 -> #REF! | L42: =K42+J42 -> #REF!
A43: ='Orçamento Sintético'!A30 -> 1.6.0.7. | B43: ='Orçamento Sintético'!D30 -> ARMAÇÃO DE PILAR OU VIGA DE ESTRUTURA CONVENCIONAL DE CONCRETO ARMADO UTILIZANDO AÇO CA-50 DE 10,0 MM - MONTAGEM. AF_06/2022 | C43: ='Orçamento Sintético'!E30 -> KG | D43: ='Orçamento Sintético'!F30 -> 108.94986 | E43: ='Orçamento Sintético'!H30 -> 12.5375 | F43: =ROUND(E43*D43,2) -> 1365.96 | G43: 0 | H43: 0 | I43: =H43+G43 -> 0 | J43: 0 | K43: =ROUND(E43*H43,2)-0 -> 0 | L43: =K43+J43 -> 0
A44: ='Orçamento Sintético'!#REF! -> #REF! | B44: ='Orçamento Sintético'!#REF! -> #REF! | C44: ='Orçamento Sintético'!#REF! -> #REF! | D44: ='Orçamento Sintético'!#REF! -> #REF! | E44: ='Orçamento Sintético'!#REF! -> #REF! | F44: =ROUND(E44*D44,2) -> #REF! | G44: 0 | H44: 0 | I44: =H44+G44 -> 0 | J44: 0 | K44: =ROUND(E44*H44,2)-0 -> #REF! | L44: =K44+J44 -> #REF!
...
