Workbook
Name _AA100000: #REF!
Name _Fill: #REF!
Name _LOC10: #REF!
Name _LOC11: #REF!
Name _LOC12: #REF!
Name _LOC13: #REF!
Name _LOC14: #REF!
Name _LOC15: #REF!
Name _LOC16: #REF!
Name _LOC17: #REF!
Name _LOC18: #REF!
Name _LOC19: #REF!
Name _LOC2: #REF!
Name _LOC20: #REF!
Name _LOC21: #REF!
Name _LOC22: #REF!
Name _LOC23: #REF!
Name _LOC24: #REF!
Name _LOC25: #REF!
Name _LOC26: #REF!
Name _LOC27: #REF!
Name _LOC28: #REF!
Name _LOC29: #REF!
Name _LOC3: #REF!
Name _LOC30: #REF!
Name _LOC31: #REF!
Name _LOC32: #REF!
Name _LOC33: #REF!
Name _LOC34: #REF!
Name _LOC35: #REF!
Name _LOC36: #REF!
Name _LOC37: #REF!
Name _LOC38: #REF!
Name _LOC39: #REF!
Name _LOC4: #REF!
Name _LOC40: #REF!
Name _LOC41: #REF!
Name _LOC42: #REF!
Name _LOC5: #REF!
Name _LOC6: #REF!
Name _LOC7: #REF!
Name _LOC8: #REF!
Name _LOC9: #REF!
Name _R: #REF!
Name AAA: #REF!
Name AC: #REF!
Name AL: #REF!
Name Área_impressão_IM: #REF!
Name B.01.05.10.10: #REF!
Name CD: #REF!
Name CP: #REF!
Name CS: #REF!
Name CT: #REF!
Name EV: #REF!
Name IC: #REF!
Name IMPR: #REF!
Name IMPR1: #REF!
Name IS: #REF!
Name LB: #REF!
Name MACROS: #REF!

Sheet DADOS GERAIS
B2: DADOS GERAIS
B8: Secretaria da Saúde - Timbó
B9: =C16 -> Unidade Básica de Saúde Porte 3 - Área Construída: 813,73m²
B10: Localização
B11: RUA TIROLESES, 515, Bairro CAPITAIS, Complemento - , CEP 89095-450
B12: Bancos:
B13: SINAPI (07/2025) - CPOS/CDHU (06/2025) - SBC (08/2025) - ORSE (06/2025) - IOPES (05/2025) - EMOP (07/2025) - SIURB (01/2025)
B16: Obra: | C16: Unidade Básica de Saúde Porte 3 - Área Construída: 813,73m²
B17: Local: | C17: RUA TIROLESES, 515, Bairro CAPITAIS, Complemento - , CEP 89095-450
B18: Região: | C18: SC
B19: Data Base: | C19: 45839
B20: BDI Geral (%): | C20: ='BDI SEM DESONERAÇÃO'!E37 -> 0.20814987
B21: Área construída (m²): | C21: 813.73
B22: Data: | C22: 28/08/2025
B23: Revisão: | C23: 00
B24: Responsável Técnico pelo Orçamento: | C24: Thaenne Hellen Beber
B25: Cargo Responsável Técnico: | C25: Engenheira Civil - CREA SC 186217-6
B31: ________________________________________________________________________________
B32: =C24 -> Thaenne Hellen Beber
B33: =C25 -> Engenheira Civil - CREA SC 186217-6

Sheet ORC. SINTÉTICO
B2: PLANILHA DE ORÇAMENTO SINTÉTICO
B8: ='DADOS GERAIS'!$B$8 -> Secretaria da Saúde - Timbó | K8: =RESUMO!D8 -> BDI Geral: | M8: =RESUMO!E8 -> 0 | N8: ='DADOS GERAIS'!$B$22 -> Data:
B9: ='DADOS GERAIS'!$B$9 -> Unidade Básica de Saúde Porte 3 - Área Construída: 813,73m² | K9: =RESUMO!D9 -> 0.20814987 | M9: =RESUMO!E9 -> 0 | N9: ='DADOS GERAIS'!$C$22 -> 28/08/2025
B10: Localização
B11: RUA TIROLESES, 515, Bairro CAPITAIS, Complemento - , CEP 89095-450
B12: =RESUMO!B12 -> Bancos: | M12: =RESUMO!E12 -> 0 | N12: ='DADOS GERAIS'!$B$23 -> Revisão:
B13: ='DADOS GERAIS'!$B$13 -> SINAPI (07/2025) - CPOS/CDHU (06/2025) - SBC (08/2025) - ORSE (06/2025) - IOPES (05/2025) - EMOP (07/2025) - SIURB (01/2025) | M13: =RESUMO!E13 -> 0 | N13: ='DADOS GERAIS'!$C$23 -> 00
B16: Item | C16: Código | D16: Banco | E16: Descrição | F16: Und | G16: Quant. | H16: Valor Unit Total | I16: Valor Unit Total + BDI | L16: Total | O16: Peso (%)
B19: 1 | E19: SERVIÇOS PRELIMINARES E INDIRETOS | N19: 361997.25 | O19: 0.098023943
B20: 1.1 | E20: CANTEIRO DE OBRAS | N20: 203956.36 | O20: 0.055228614
B21: 1.1.1 | C21: CPU2526 | D21: Próprio | E21: LOCAÇÃO DE CONTAINER TIPO DEPÓSITO - ÁREA MÍNIMA DE 13,80 M2 | F21: UNXMÊS | G21: 28 | H21: 981.52 | I21: 116.48 | J21: 1069.29 | K21: 1185.77 | L21: 3261.44 | M21: 29940.12 | N21: 33201.56 | O21: 0.0089905319
B22: 1.1.2 | C22: CPU2527 | D22: Próprio | E22: BARRACÃO ABERTO PARA APOIO À PRODUÇÃO (CARPINTARIA, CENTRAL DE ARMAÇÃO, OFICINA, ETC.) C/ TESOURAS, TELHA 4MM, PISO EM CONCRETO DESEMPOLADO | F22: m² | G22: 25 | H22: 314.69 | I22: 65.38 | J22: 314.79 | K22: 380.17 | L22: 1634.5 | M22: 7869.75 | N22: 9504.25 | O22: 0.0025736219
B23: 1.1.3 | C23: CPU2528 | D23: Próprio | E23: LOCAÇÃO DE CONTAINER - BANHEIRO COM CHUVEIROS E VASOS - 4,30 X 2,30M | F23: MÊS | G23: 14 | H23: 962.26 | I23: 0 | J23: 1162.5 | K23: 1162.5 | L23: 0 | M23: 16275 | N23: 16275 | O23: 0.0044070491
B24: 1.1.4 | C24: CPU2529 | D24: Próprio | E24: BARRACAO PARA REFEITORIO EM OBRAS EM COMPENSADO | F24: m² | G24: 35 | H24: 1346.87 | I24: 980.76 | J24: 646.39 | K24: 1627.15 | L24: 34326.6 | M24: 22623.65 | N24: 56950.25 | O24: 0.015421355
B25: 1.1.5 | C25: 95648 | D25: SINAPI | E25: KIT CAVALETE PARA MEDIÇÃO DE ÁGUA - ENTRADA INDIVIDUALIZADA, EM CPVC DN 28 MM (1"), PARA 1 MEDIDOR - FORNECIMENTO E INSTALAÇÃO (EXCLUSIVE HIDRÔMETRO). AF_03/2024 | F25: UN | G25: 1 | H25: 544.56 | I25: 105.9 | J25: 551.98 | K25: 657.88 | L25: 105.9 | M25: 551.98 | N25: 657.88 | O25: 0.00017814498
B26: 1.1.6 | C26: 95673 | D26: SINAPI | E26: HIDRÔMETRO DN 1/2", 1,5 M3/H - FORNECIMENTO E INSTALAÇÃO. AF_03/2024 | F26: UN | G26: 1 | H26: 176.19 | I26: 27.81 | J26: 185.04 | K26: 212.85 | L26: 27.81 | M26: 185.04 | N26: 212.85 | O26: 5.7636892e-05
B27: 1.1.7 | C27: 101509 | D27: SINAPI | E27: ENTRADA DE ENERGIA ELÉTRICA, AÉREA, TRIFÁSICA, COM CAIXA DE EMBUTIR, CABO DE 10 MM2 E DISJUNTOR DIN 50A (NÃO INCLUSO O POSTE DE CONCRETO). AF_07/2020 | F27: UN | G27: 1 | H27: 2178.7 | I27: 797.4 | J27: 1834.68 | K27: 2632.08 | L27: 797.4 | M27: 1834.68 | N27: 2632.08 | O27: 0.00071273155
B28: 1.1.8 | C28: 103689 | D28: SINAPI | E28: FORNECIMENTO E INSTALAÇÃO DE PLACA DE OBRA COM CHAPA GALVANIZADA E ESTRUTURA DE MADEIRA. AF_03/2022_PS | F28: m² | G28: 6 | H28: 467.47 | I28: 50.24 | J28: 514.51 | K28: 564.75 | L28: 301.44 | M28: 3087.06 | N28: 3388.5 | O28: 0.00091755982
B29: 1.1.9 | C29: CPU2530 | D29: Próprio | E29: REMOÇÃO DE ENTULHO SEPARADO DE OBRA COM CAÇAMBA METÁLICA - TERRA, ALVENARIA, CONCRETO, ARGAMASSA, MADEIRA, PAPEL, PLÁSTICO OU METAL | F29: m³ | G29: 280 | H29: 112.66 | I29: 14.92 | J29: 121.18 | K29: 136.1 | L29: 4177.6 | M29: 33930.4 | N29: 38108 | O29: 0.010319129
B30: 1.1.10 | C30: 98459 | D30: SINAPI | E30: TAPUME COM TELHA METÁLICA. AF_03/2024 | F30: m² | G30: 376.2 | H30: 94.67 | I30: 44.08 | J30: 70.29 | K30: 114.37 | L30: 16582.896 | M30: 26443.094 | N30: 43025.99 | O30: 0.011650854
B31: 1.2 | E31: ADMINISTRAÇÃO LOCAL DA OBRA | N31: 96610.04 | O31: 0.026160688
B32: 1.2.1 | C32: 93565 | D32: SINAPI | E32: ENGENHEIRO CIVIL DE OBRA JUNIOR COM ENCARGOS COMPLEMENTARES | F32: MES | G32: 3.5 | H32: 22848.17 | I32: 27078.16 | J32: 524.71 | K32: 27602.87 | L32: 94773.56 | M32: 1836.48 | N32: 96610.04 | O32: 0.026160688
B33: 1.3 | E33: MOBILIZAÇÃO E DESMOBILIZAÇÃO | N33: 9859 | O33: 0.0026696834
B34: 1.3.1 | C34: CPU2531 | D34: Próprio | E34: MOBILIZACAO E DESMOBILIZACAO DE CANTEIRO | F34: UN | G34: 1 | H34: 8160.75 | I34: 8452.31 | J34: 1406.69 | K34: 9859 | L34: 8452.31 | M34: 1406.69 | N34: 9859 | O34: 0.0026696834
B35: 1.4 | E35: EQUIPAMENTOS DE APOIO | N35: 51571.85 | O35: 0.013964957
B36: 1.4.1 | C36: CPU1926 | D36: Próprio | E36: LOCACAO DE ANDAIME METALICO TIPO FACHADEIRO, PECAS COM APROXIMADAMENTE 1,20 M DE LARGURA E 2,0 M DE ALTURA, INCLUINDO DIAGONAIS EM X, BARRAS DE LIGACAO, SAPATAS E DEMAIS ITENS NECESSARIOS A MONTAGEM, INCLUSIVE MONTAGEM E DESMONTAGEM | F36: M2XMÊS | G36: 1072.18 | H36: 39.82 | I36: 8.76 | J36: 39.34 | K36: 48.1 | L36: 9392.2968 | M36: 42179.553 | N36: 51571.85 | O36: 0.013964957
B37: 2 | E37: FUNDAÇÃO | N37: 351183.12 | O37: 0.095095623
B38: 2.1 | C38: 99059 | D38: SINAPI | E38: LOCAÇÃO CONVENCIONAL DE OBRA, UTILIZANDO GABARITO DE TÁBUAS CORRIDAS PONTALETADAS A CADA 2,00M - 2 UTILIZAÇÕES. AF_03/2024 | F38: M | G38: 119.12 | H38: 93.44 | I38: 49.74 | J38: 63.14 | K38: 112.88 | L38: 5925.0288 | M38: 7521.2312 | N38: 13446.26 | O38: 0.0036410647
B39: 2.2 | C39: 90100 | D39: SINAPI | E39: ESCAVAÇÃO MECANIZADA DE VALA COM PROF. ATÉ 1,5 M (MÉDIA MONTANTE E JUSANTE/UMA COMPOSIÇÃO POR TRECHO), RETROESCAV. (0,26 M3), LARG. DE 0,8 M A 1,5 M, EM SOLO DE 1A CATEGORIA, EM LOCAIS COM ALTO NÍVEL DE INTERFERÊNCIA. AF_09/2024 | F39: m³ | G39: 349.12 | H39: 13.56 | I39: 6.14 | J39: 10.24 | K39: 16.38 | L39: 2143.5968 | M39: 3574.9832 | N39: 5718.58 | O39: 0.0015485139
B40: 2.3 | C40: 93358 | D40: SINAPI | E40: ESCAVAÇÃO MANUAL DE VALA. AF_09/2024 | F40: m³ | G40: 87.28 | H40: 97.82 | I40: 98.37 | J40: 19.8 | K40: 118.17 | L40: 8585.7336 | M40: 1728.1364 | N40: 10313.87 | O40: 0.002792856
B41: 2.4 | C41: 100324 | D41: SINAPI | E41: LASTRO COM MATERIAL GRANULAR (PEDRA BRITADA N.1 E PEDRA BRITADA N.2), APLICADO EM PISOS OU LAJES SOBRE SOLO, ESPESSURA DE *10 CM*. AF_01/2024 | F41: m³ | G41: 65.03 | H41: 205.73 | I41: 75.58 | J41: 172.96 | K41: 248.54 | L41: 4914.9674 | M41: 11247.583 | N41: 16162.55 | O41: 0.0043765992
B42: 2.5 | C42: 96534 | D42: SINAPI | E42: FABRICAÇÃO, MONTAGEM E DESMONTAGEM DE FÔRMA PARA BLOCO DE COROAMENTO, EM MADEIRA SERRADA, E=25 MM, 4 UTILIZAÇÕES. AF_01/2024 | F42: m² | G42: 607.2 | H42: 87.78 | I42: 69.92 | J42: 36.12 | K42: 106.04 | L42: 42455.424 | M42: 21932.056 | N42: 64387.48 | O42: 0.017435256
B43: 2.6 | C43: 96543 | D43: SINAPI | E43: ARMAÇÃO DE BLOCO UTILIZANDO AÇO CA-60 DE 5 MM - MONTAGEM. AF_01/2024 | F43: KG | G43: 708.8 | H43: 22.25 | I43: 14.47 | J43: 12.41 | K43: 26.88 | L43: 10256.336 | M43: 8796.204 | N43: 19052.54 | O43: 0.0051591693
B44: 2.7 | C44: 96544 | D44: SINAPI | E44: ARMAÇÃO DE BLOCO UTILIZANDO AÇO CA-50 DE 6,3 MM - MONTAGEM. AF_01/2024 | F44: KG | G44: 3.5 | H44: 19.42 | I44: 10.64 | J44: 12.82 | K44: 23.46 | L44: 37.24 | M44: 44.87 | N44: 82.11 | O44: 2.2234274e-05
B45: 2.8 | C45: 96545 | D45: SINAPI | E45: ARMAÇÃO DE BLOCO UTILIZANDO AÇO CA-50 DE 8 MM - MONTAGEM. AF_01/2024 | F45: KG | G45: 1554.8 | H45: 17.05 | I45: 7.81 | J45: 12.78 | K45: 20.59 | L45: 12142.988 | M45: 19870.342 | N45: 32013.33 | O45: 0.0086687753
B46: 2.9 | C46: 96546 | D46: SINAPI | E46: ARMAÇÃO DE BLOCO UTILIZANDO AÇO CA-50 DE 10 MM - MONTAGEM. AF_01/2024 | F46: KG | G46: 1466.8 | H46: 14.66 | I46: 5.87 | J46: 11.84 | K46: 17.71 | L46: 8610.116 | M46: 17366.904 | N46: 25977.02 | O46: 0.0070342245
B47: 2.10 | C47: 104920 | D47: SINAPI | E47: ARMAÇÃO DE BLOCO, SAPATA ISOLADA, VIGA BALDRAME E SAPATA CORRIDA UTILIZANDO AÇO CA-50 DE 12,5 MM - MONTAGEM. AF_01/2024 | F47: KG | G47: 687.2 | H47: 11 | I47: 3.23 | J47: 10.05 | K47: 13.28 | L47: 2219.656 | M47: 6906.354 | N47: 9126.01 | O47: 0.0024711997
B48: 2.11 | C48: 104921 | D48: SINAPI | E48: ARMAÇÃO DE BLOCO, SAPATA ISOLADA, VIGA BALDRAME E SAPATA CORRIDA UTILIZANDO AÇO CA-50 DE 16 MM - MONTAGEM. AF_01/2024 | F48: KG | G48: 86.9 | H48: 10.19 | I48: 2.41 | J48: 9.9 | K48: 12.31 | L48: 209.429 | M48: 860.301 | N48: 1069.73 | O48: 0.00028966837
B49: 2.12 | C49: 96557 | D49: SINAPI | E49: CONCRETAGEM DE BLOCO DE COROAMENTO OU VIGA BALDRAME, FCK 30 MPA, COM USO DE BOMBA - LANÇAMENTO, ADENSAMENTO E ACABAMENTO. AF_01/2024 | F49: m³ | G49: 84.5 | H49: 848.95 | I49: 25.09 | J49: 1000.52 | K49: 1025.61 | L49: 2120.105 | M49: 84543.935 | N49: 86664.04 | O49: 0.023467446
... B53: 2.16 | C53: CPU2532 | D53: Próprio | E53: CONTROLE TECNOLOGICO DE CONCRETOS | F53: m³ | G53: 84.5 | H53: 102.85 | I53: 3.02 | J53: 121.23 | K53: 124.25 | L53: 255.19 | M53: 10243.93 | N53: 10499.12 | O53: 0.0028430192
...

Sheet ORC. ANALÍTICO
B2: PLANILHA DE ORÇAMENTO ANALÍTICO
B8: ='DADOS GERAIS'!$B$8 -> Secretaria da Saúde - Timbó | F8: =RESUMO!D8 -> BDI Geral: | K8: ='DADOS GERAIS'!$B$22 -> Data:
B9: ='DADOS GERAIS'!$B$9 -> Unidade Básica de Saúde Porte 3 - Área Construída: 813,73m² | F9: =RESUMO!D9 -> 0.20814987 | K9: ='DADOS GERAIS'!$C$22 -> 28/08/2025
B10: Localização
B11: RUA TIROLESES, 515, Bairro CAPITAIS, Complemento - , CEP 89095-450
B12: =RESUMO!B12 -> Bancos: | K12: ='DADOS GERAIS'!$B$23 -> Revisão:
B13: ='DADOS GERAIS'!$B$13 -> SINAPI (07/2025) - CPOS/CDHU (06/2025) - SBC (08/2025) - ORSE (06/2025) - IOPES (05/2025) - EMOP (07/2025) - SIURB (01/2025) | K13: ='DADOS GERAIS'!$C$23 -> 00
B16: Item | C16: Código | D16: Banco | E16: Descrição | F16: Und | G16: Und | I16: Quant. | K16: Total
B18: 1 | E18: SERVIÇOS PRELIMINARES E INDIRETOS | K18: 361997.25
B19: 1.1 | E19: CANTEIRO DE OBRAS | K19: 203956.36
B20: 1.1.1 | C20: Código | D20: Banco | E20: Descrição | F20: Tipo | H20: Und | I20: Quant. | J20: Valor Unit | K20: Total
B21: Composição | C21: CPU2526 | D21: Próprio | E21: LOCAÇÃO DE CONTAINER TIPO DEPÓSITO - ÁREA MÍNIMA DE 13,80 M2 | F21: CANT - CANTEIRO DE OBRAS | H21: UNXMÊS | I21: 1 | J21: 981.52 | K21: 981.52
B22: Composição Auxiliar | C22: 88247 | D22: SINAPI | E22: AUXILIAR DE ELETRICISTA COM ENCARGOS COMPLEMENTARES | F22: Livro SINAPI: Cálculos e Parâmetros | H22: H | I22: 1.32 | J22: 27.19 | K22: 35.89
B23: Composição Auxiliar | C23: 88264 | D23: SINAPI | E23: ELETRICISTA COM ENCARGOS COMPLEMENTARES | F23: Livro SINAPI: Cálculos e Parâmetros | H23: H | I23: 0.99 | J23: 43.64 | K23: 43.2
B24: Composição Auxiliar | C24: 88316 | D24: SINAPI | E24: SERVENTE COM ENCARGOS COMPLEMENTARES | F24: Livro SINAPI: Cálculos e Parâmetros | H24: H | I24: 1.32 | J24: 24.73 | K24: 32.64
B25: Insumo | C25: A.12.000.021099 | D25: CPOS/CDHU | E25: CONTAINER DEPÓSITO, MÓDULO METÁLICO EM AÇO GALVANIZADO DE 6,0X2,3X2,5M, VÃO LIVRE, PISO DE CONCRETO, CIMENTADO, MADEIRA OU MATERIAL EQUIVALENTE | F25: Material | H25: unxmês | I25: 1 | J25: 869.79 | K25: 869.79
F26: MO sem LS => | G26: 96.46 | H26: LS => | I26: 0 | J26: MO com LS => | K26: 96.46
F27: Valor do BDI => | G27: 204.25 | I27: Valor com BDI => | K27: 1185.77
H28: Quant. => | I28: 28,00 | J28: Preço Total => | K28: 33201.56
B30: 1.1.2 | C30: Código | D30: Banco | E30: Descrição | F30: Tipo | H30: Und | I30: Quant. | J30: Valor Unit | K30: Total
B31: Composição | C31: CPU2527 | D31: Próprio | E31: BARRACÃO ABERTO PARA APOIO À PRODUÇÃO (CARPINTARIA, CENTRAL DE ARMAÇÃO, OFICINA, ETC.) C/ TESOURAS, TELHA 4MM, PISO EM CONCRETO DESEMPOLADO | F31: CANT - CANTEIRO DE OBRAS | H31: m² | I31: 1 | J31: 314.69 | K31: 314.69
B32: Composição Auxiliar | C32: 94207 | D32: SINAPI | E32: TELHAMENTO COM TELHA ONDULADA DE FIBROCIMENTO E = 6 MM, COM RECOBRIMENTO LATERAL DE 1/4 DE ONDA PARA TELHADO COM INCLINAÇÃO MAIOR QUE 10°, COM ATÉ 2 ÁGUAS, INCLUSO IÇAMENTO. AF_07/2019 | F32: Telhamento para Cobertura | H32: m² | I32: 1 | J32: 46.66 | K32: 46.66
B33: Composição Auxiliar | C33: 101747 | D33: SINAPI | E33: PISO EM CONCRETO 20 MPA PREPARO MECÂNICO, ESPESSURA 7CM. AF_09/2020 | F33: Pisos | H33: m² | I33: 1 | J33: 85.8 | K33: 85.8
B34: Composição Auxiliar | C34: 100382 | D34: SINAPI | E34: FABRICAÇÃO E INSTALAÇÃO DE PONTALETES DE MADEIRA NÃO APARELHADA PARA TELHADOS COM ATÉ 2 ÁGUAS E COM TELHA ONDULADA DE FIBROCIMENTO, ALUMÍNIO OU PLÁSTICA EM EDIFÍCIO RESIDENCIAL TÉRREO, INCLUSO TRANSPORTE VERTICAL. AF_07/2019 | F34: Estrutura e Trama para Cobertura | H34: m² | I34: 1 | J34: 46.57 | K34: 46.57
B35: Composição Auxiliar | C35: 97083 | D35: SINAPI | E35: COMPACTAÇÃO MECÂNICA DE SOLO PARA EXECUÇÃO DE RADIER, PISO DE CONCRETO OU LAJE SOBRE SOLO, COM COMPACTADOR DE SOLOS A PERCUSSÃO. AF_09/2021 | F35: Radier, Piso de Concreto e Laje sobre Solo | H35: m² | I35: 1 | J35: 3.99 | K35: 3.99
B36: Composição Auxiliar | C36: 92562 | D36: SINAPI | E36: FABRICAÇÃO E INSTALAÇÃO DE TESOURA INTEIRA EM MADEIRA NÃO APARELHADA, VÃO DE 10 M, PARA TELHA ONDULADA DE FIBROCIMENTO, METÁLICA, PLÁSTICA OU TERMOACÚSTICA, INCLUSO IÇAMENTO. AF_07/2019 | F36: Estrutura e Trama para Cobertura | H36: UN | I36: 0.03 | J36: 4389.08 | K36: 131.67
F37: MO sem LS => | G37: 54.18 | H37: LS => | I37: 0 | J37: MO com LS => | K37: 54.18
F38: Valor do BDI => | G38: 65.48 | I38: Valor com BDI => | K38: 380.17
H39: Quant. => | I39: 25,00 | J39: Preço Total => | K39: 9504.25
B41: 1.1.3 | C41: Código | D41: Banco | E41: Descrição | F41: Tipo | H41: Und | I41: Quant. | J41: Valor Unit | K41: Total
B42: Composição | C42: CPU2528 | D42: Próprio | E42: LOCAÇÃO DE CONTAINER - BANHEIRO COM CHUVEIROS E VASOS - 4,30 X 2,30M | F42: CANT - CANTEIRO DE OBRAS | H42: MÊS | I42: 1 | J42: 962.26 | K42: 962.26
B43: Insumo | C43: 00010777 | D43: SINAPI | E43: LOCACAO DE CONTAINER 2,30 X 4,30 M, ALT. 2,50 M, PARA SANITARIO, COM 3 BACIAS, 4 CHUVEIROS, 1 LAVATORIO E 1 MICTORIO (NAO INCLUI MOBILIZACAO/DESMOBILIZACAO) | F43: Equipamento | H43: MES | I43: 1 | J43: 962.26 | K43: 962.26
F44: MO sem LS => | G44: 0 | H44: LS => | I44: 0 | J44: MO com LS => | K44: 0
F45: Valor do BDI => | G45: 200.24 | I45: Valor com BDI => | K45: 1162.5
H46: Quant. => | I46: 14,00 | J46: Preço Total => | K46: 16275
B48: 1.1.4 | C48: Código | D48: Banco | E48: Descrição | F48: Tipo | H48: Und | I48: Quant. | J48: Valor Unit | K48: Total
B49: Composição | C49: CPU2529 | D49: Próprio | E49: BARRACAO PARA REFEITORIO EM OBRAS EM COMPENSADO | F49: CANT - CANTEIRO DE OBRAS | H49: m² | I49: 1 | J49: 1346.87 | K49: 1346.87
B50: Composição Auxiliar | C50: 88262 | D50: SINAPI | E50: CARPINTEIRO DE FORMAS COM ENCARGOS COMPLEMENTARES | F50: Livro SINAPI: Cálculos e Parâmetros | H50: H | I50: 8.419 | J50: 36.35 | K50: 306.03
B51: Composição Auxiliar | C51: 88316 | D51: SINAPI | E51: SERVENTE COM ENCARGOS COMPLEMENTARES | F51: Livro SINAPI: Cálculos e Parâmetros | H51: H | I51: 13.053 | J51: 24.73 | K51: 322.8
B52: Composição Auxiliar | C52: 88239 | D52: SINAPI | E52: AJUDANTE DE CARPINTEIRO COM ENCARGOS COMPLEMENTARES | F52: Livro SINAPI: Cálculos e Parâmetros | H52: H | I52: 12.075 | J52: 26.44 | K52: 319.26
...

Sheet BDI SEM DESONERAÇÃO
B2: BONIFICAÇÕES E DESPESAS INDIRETAS
B8: ='DADOS GERAIS'!B8 -> Secretaria da Saúde - Timbó | D8: BDI Geral: | F8: ='DADOS GERAIS'!$B$22 -> Data:
B9: ='DADOS GERAIS'!B9 -> Unidade Básica de Saúde Porte 3 - Área Construída: 813,73m² | D9: ='DADOS GERAIS'!C20 -> 0.20814987 | F9: ='DADOS GERAIS'!$C$22 -> 28/08/2025
B10: ='DADOS GERAIS'!B10 -> Localização
B11: ='DADOS GERAIS'!B11 -> RUA TIROLESES, 515, Bairro CAPITAIS, Complemento - , CEP 89095-450
B12: ='DADOS GERAIS'!B12 -> Bancos: | F12: ='DADOS GERAIS'!$B$23 -> Revisão:
B13: ='DADOS GERAIS'!B13 -> SINAPI (07/2025) - CPOS/CDHU (06/2025) - SBC (08/2025) - ORSE (06/2025) - IOPES (05/2025) - EMOP (07/2025) - SIURB (01/2025) | F13: ='DADOS GERAIS'!$C$23 -> 00
B16: Fórmula (Bonificações e Despesas Indiretas):
B23: ITEM | C23: DESCRIÇÃO | D23: CÓD | E23: GERAL VALORES PROPOSTOS (%) | F23: EQUIPAMENTOS VALORES PROPOSTOS (%)
B26: 1 | C26: Administração Central | D26: AC | E26: 0.04 | F26: 0.0345
B27: 2 | C27: Riscos | D27: R | E27: 0.0127 | F27: 0.0085
B28: 3 | C28: Seguros e Garantias | D28: SG | E28: 0.008 | F28: 0.0048
B29: 4 | C29: Despesas Financeiras | D29: DF | E29: 0.0123 | F29: 0.0085
B30: 5 | C30: Lucro | D30: L | E30: 0.0616 | F30: 0.035
B31: 6 | C31: Impostos | D31: I | E31: =SUM(E32:E35) -> 0.0565 | F31: =SUM(F32:F35) -> 0.0365
B32: 6.1 | C32: PIS | E32: 0.0065 | F32: 0.0065
B33: 6.2 | C33: COFINS | E33: 0.03 | F33: 0.03
B34: 6.3 | C34: ISSQN | E34: 0.02 | F34: 0
B35: 6.4 | C35: CPRB | E35: 0 | F35: 0
B37: BDI | E37: =((1+E26+E27+E28)*(1+E29)*(1+E30)/(1-E31))-1 -> 0.20814987 | F37: =((1+F26+F27+F28)*(1+F29)*(1+F30)/(1-F31))-1 -> 0.13512301
B40: FONTE:
B41: 1. | C41: Tribunal de Contas da União - TC 036.076/2011-2 - Acórdão Nº 2622/2013
B42: 2. | C42: ISS conforme a Lei Complementar 116/2003 e a Lei 11.438/1997 da Prefeitura Municipal de São Paulo.
B44: NOTAS:
B45: 1. | C45: Deverão ser obedecidas as legislações trabalhistas e tributária vigentes, inclusive acordos de classes, sob pena de desclassificação da Proposta de Preços;
B46: 2. | C46: É de responsabilidade da proponente a adequação de todas as fórmulas utilizadas na planilha orçamentária.
B48: ________________________________________________________________________________
B52: ='DADOS GERAIS'!C24 -> Thaenne Hellen Beber
B53: ='DADOS GERAIS'!C25 -> Engenheira Civil - CREA SC 186217-6

Sheet ENCARGOS SOCIAIS
B2: COMPOSIÇÃO ANALÍTICA DAS TAXAS DE ENCARGOS SOCIAIS
B8: ='DADOS GERAIS'!B8 -> Secretaria da Saúde - Timbó | D8: BDI Geral: | F8: ='DADOS GERAIS'!$B$22 -> Data:
B9: ='DADOS GERAIS'!B9 -> Unidade Básica de Saúde Porte 3 - Área Construída: 813,73m² | D9: ='DADOS GERAIS'!C20 -> 0.20814987 | F9: ='DADOS GERAIS'!$C$22 -> 28/08/2025
B10: ='DADOS GERAIS'!B10 -> Localização
B11: ='DADOS GERAIS'!B11 -> RUA TIROLESES, 515, Bairro CAPITAIS, Complemento - , CEP 89095-450
B12: ='DADOS GERAIS'!B12 -> Bancos: | F12: ='DADOS GERAIS'!$B$23 -> Revisão:
B13: ='DADOS GERAIS'!B13 -> SINAPI (07/2025) - CPOS/CDHU (06/2025) - SBC (08/2025) - ORSE (06/2025) - IOPES (05/2025) - EMOP (07/2025) - SIURB (01/2025) | F13: ='DADOS GERAIS'!$C$23 -> 00
B16: ENCARGOS SOCIAIS SOBRE A MÃO DE OBRA
B17: CÓDIGO | C17: DESCRIÇÃO | E17: SEM DESONERAÇÃO
E18: HORISTA (%) | F18: MENSALISTA (%)
B20: GRUPO A
B21: A1 | C21: INSS | E21: 0.2 | F21: 0.2
B22: A2 | C22: SESI | E22: 0.015 | F22: 0.015
B23: A3 | C23: SENAI | E23: 0.01 | F23: 0.01
B24: A4 | C24: INCRA | E24: 0.002 | F24: 0.002
B25: A5 | C25: SEBRAE | E25: 0.006 | F25: 0.006
B26: A6 | C26: Salário Educação | E26: 0.025 | F26: 0.025
B27: A7 | C27: Seguro Contra Acidentes de Trabalho | E27: 0.03 | F27: 0.03
B28: A8 | C28: FGTS | E28: 0.08 | F28: 0.08
B29: A9 | C29: SECONCI | E29: 0.01 | F29: 0.01
B30: A | C30: Total | E30: =SUBTOTAL(9,E21:E29) -> 0.378 | F30: =SUBTOTAL(9,F21:F29) -> 0.378
B32: GRUPO B
B33: B1 | C33: Repouso Semanal Remunerado | E33: 0.1791 | F33: Não incide
B34: B2 | C34: Feriados | E34: 0.037 | F34: Não incide
B35: B3 | C35: Auxílio-Enfermidade | E35: 0.0087 | F35: 0.0065
B36: B4 | C36: 13º Salário | E36: 0.1112 | F36: 0.0833
B37: B5 | C37: Licença Paternidade | E37: 0.0007 | F37: 0.0005
B38: B6 | C38: Faltas Justificadas | E38: 0.0074 | F38: 0.0056
B39: B7 | C39: Dias de Chuva | E39: 0.0194 | F39: Não incide
B40: B8 | C40: Auxílo Acidente de Trabalho | E40: 0.001 | F40: 0.0007
B41: B9 | C41: Férias Gozadas | E41: 0.1344 | F41: 0.1007
B42: B10 | C42: Salário Maternidade | E42: 0.0003 | F42: 0.0003
B43: B | C43: Total | E43: =SUBTOTAL(9,E33:E42) -> 0.4992 | F43: =SUBTOTAL(9,F33:F42) -> 0.1976
B45: GRUPO C
B46: C1 | C46: Aviso Prévio Indenizado | E46: 0.0484 | F46: 0.0363
B47: C2 | C47: Aviso Prévio Trabalhado | E47: 0.0011 | F47: 0.0009
B48: C3 | C48: Férias Indenizadas | E48: 0.0089 | F48: 0.0067
B49: C4 | C49: Depósito Recisão sem justa causa | E49: 0.0233 | F49: 0.0175
B50: C5 | C50: Indenização Adicional | E50: 0.0041 | F50: 0.0031
B51: C | C51: Total | E51: =SUBTOTAL(9,E46:E50) -> 0.0858 | F51: =SUBTOTAL(9,F46:F50) -> 0.0645
...

Sheet RESUMO
B2: PLANILHA RESUMO
B8: ='DADOS GERAIS'!B8 -> Secretaria da Saúde - Timbó | D8: BDI Geral: | F8: ='DADOS GERAIS'!$B$22 -> Data:
B9: ='DADOS GERAIS'!B9 -> Unidade Básica de Saúde Porte 3 - Área Construída: 813,73m² | D9: ='DADOS GERAIS'!C20 -> 0.20814987 | F9: ='DADOS GERAIS'!$C$22 -> 28/08/2025
B10: ='DADOS GERAIS'!B10 -> Localização
B11: ='DADOS GERAIS'!B11 -> RUA TIROLESES, 515, Bairro CAPITAIS, Complemento - , CEP 89095-450
B12: ='DADOS GERAIS'!B12 -> Bancos: | F12: ='DADOS GERAIS'!$B$23 -> Revisão:
B13: ='DADOS GERAIS'!B13 -> SINAPI (07/2025) - CPOS/CDHU (06/2025) - SBC (08/2025) - ORSE (06/2025) - IOPES (05/2025) - EMOP (07/2025) - SIURB (01/2025) | F13: ='DADOS GERAIS'!$C$23 -> 00
B16: ITEM | C16: DESCRIÇÃO | E16: PREÇO | F16: %
B18: 1 | C18: {=INDEX('ORC. SINTÉTICO'!$E:$E,MATCH($B18,'ORC. SINTÉTICO'!$B:$B,0))} -> SERVIÇOS PRELIMINARES E INDIRETOS | E18: {=INDEX('ORC. SINTÉTICO'!$N:$N,MATCH($B18,'ORC. SINTÉTICO'!$B:$B,0))} -> 361997.25 | F18: =IFERROR(E18/$E$41,"-") -> 0.096526659
B19: 2 | C19: {=INDEX('ORC. SINTÉTICO'!$E:$E,MATCH($B19,'ORC. SINTÉTICO'!$B:$B,0))} -> FUNDAÇÃO | E19: {=INDEX('ORC. SINTÉTICO'!$N:$N,MATCH($B19,'ORC. SINTÉTICO'!$B:$B,0))} -> 351183.12 | F19: =IFERROR(E19/$E$41,"-") -> 0.093643068
B20: 3 | C20: {=INDEX('ORC. SINTÉTICO'!$E:$E,MATCH($B20,'ORC. SINTÉTICO'!$B:$B,0))} -> ESTRUTURA | E20: {=INDEX('ORC. SINTÉTICO'!$N:$N,MATCH($B20,'ORC. SINTÉTICO'!$B:$B,0))} -> 523961.02 | F20: =IFERROR(E20/$E$41,"-") -> 0.13971434
B21: 4 | C21: {=INDEX('ORC. SINTÉTICO'!$E:$E,MATCH($B21,'ORC. SINTÉTICO'!$B:$B,0))} -> ALVENARIA, VEDAÇÕES E DIVISÓRIAS | E21: {=INDEX('ORC. SINTÉTICO'!$N:$N,MATCH($B21,'ORC. SINTÉTICO'!$B:$B,0))} -> 348825.66 | F21: =IFERROR(E21/$E$41,"-") -> 0.093014451
B22: 5 | C22: {=INDEX('ORC. SINTÉTICO'!$E:$E,MATCH($B22,'ORC. SINTÉTICO'!$B:$B,0))} -> COBERTURA | E22: {=INDEX('ORC. SINTÉTICO'!$N:$N,MATCH($B22,'ORC. SINTÉTICO'!$B:$B,0))} -> 161861.57 | F22: =IFERROR(E22/$E$41,"-") -> 0.043160429
B23: 6 | C23: {=INDEX('ORC. SINTÉTICO'!$E:$E,MATCH($B23,'ORC. SINTÉTICO'!$B:$B,0))} -> IMPERMEABILIZAÇÃO | E23: {=INDEX('ORC. SINTÉTICO'!$N:$N,MATCH($B23,'ORC. SINTÉTICO'!$B:$B,0))} -> 41778.56 | F23: =IFERROR(E23/$E$41,"-") -> 0.011140264
B24: 7 | C24: {=INDEX('ORC. SINTÉTICO'!$E:$E,MATCH($B24,'ORC. SINTÉTICO'!$B:$B,0))} -> ESQUADRIAS | E24: {=INDEX('ORC. SINTÉTICO'!$N:$N,MATCH($B24,'ORC. SINTÉTICO'!$B:$B,0))} -> 330073.97 | F24: =IFERROR(E24/$E$41,"-") -> 0.088014308
B25: 8 | C25: {=INDEX('ORC. SINTÉTICO'!$E:$E,MATCH($B25,'ORC. SINTÉTICO'!$B:$B,0))} -> REVESTIMENTO DE PAREDE | E25: {=INDEX('ORC. SINTÉTICO'!$N:$N,MATCH($B25,'ORC. SINTÉTICO'!$B:$B,0))} -> 126452.66 | F25: =IFERROR(E25/$E$41,"-") -> 0.033718634
B26: 9 | C26: {=INDEX('ORC. SINTÉTICO'!$E:$E,MATCH($B26,'ORC. SINTÉTICO'!$B:$B,0))} -> REVESTIMENTO DE PISO INTERNO | E26: {=INDEX('ORC. SINTÉTICO'!$N:$N,MATCH($B26,'ORC. SINTÉTICO'!$B:$B,0))} -> 164117.58 | F26: =IFERROR(E26/$E$41,"-") -> 0.043761994
B27: 10 | C27: {=INDEX('ORC. SINTÉTICO'!$E:$E,MATCH($B27,'ORC. SINTÉTICO'!$B:$B,0))} -> REVESTIMENTO DE PISO EXTERNO | E27: {=INDEX('ORC. SINTÉTICO'!$N:$N,MATCH($B27,'ORC. SINTÉTICO'!$B:$B,0))} -> 48686.08 | F27: =IFERROR(E27/$E$41,"-") -> 0.012982156
B28: 11 | C28: {=INDEX('ORC. SINTÉTICO'!$E:$E,MATCH($B28,'ORC. SINTÉTICO'!$B:$B,0))} -> REVESTIMENTO DE TETO | E28: {=INDEX('ORC. SINTÉTICO'!$N:$N,MATCH($B28,'ORC. SINTÉTICO'!$B:$B,0))} -> 63154.88 | F28: =IFERROR(E28/$E$41,"-") -> 0.016840265
B29: 12 | C29: {=INDEX('ORC. SINTÉTICO'!$E:$E,MATCH($B29,'ORC. SINTÉTICO'!$B:$B,0))} -> PINTURA | E29: {=INDEX('ORC. SINTÉTICO'!$N:$N,MATCH($B29,'ORC. SINTÉTICO'!$B:$B,0))} -> 122167.95 | F29: =IFERROR(E29/$E$41,"-") -> 0.032576115
... B39: 22 | C39: {=INDEX('ORC. SINTÉTICO'!$E:$E,MATCH($B39,'ORC. SINTÉTICO'!$B:$B,0))} -> PROJETOS “AS BUILT” | E39: {=INDEX('ORC. SINTÉTICO'!$N:$N,MATCH($B39,'ORC. SINTÉTICO'!$B:$B,0))} -> 34371.049 | F39: =IFERROR(E39/$E$41,"-") -> 0.009165049
B41: TOTAL | E41: =SUBTOTAL(9,E18:E39) -> 3750230.8 | F41: =SUBTOTAL(9,F18:F39) -> 1
B43: Notas:
B44: Estão exclusos do escopo: movimentação de terra, mobiliário e equipamentos, bate-macas, chapas metálicas das portas, instalações de automação, CFTV, energia fotovoltaica, controle de acesso, CATV, sonorização, luminárias externas, compressor odontológico e bomba de vacuo odontológico portatéis e equipamentos de ar condicionado.
B51: ________________________________________________________________________________
B52: ='DADOS GERAIS'!C24 -> Thaenne Hellen Beber
B53: ='DADOS GERAIS'!C25 -> Engenheira Civil - CREA SC 186217-6

Sheet CPUS
B2: COMPOSIÇÕES ANALÍTICAS DE PREÇOS UNITÁRIOS
B8: ='DADOS GERAIS'!$B$8 -> Secretaria da Saúde - Timbó | F8: =RESUMO!D8 -> BDI Geral: | K8: ='DADOS GERAIS'!$B$22 -> Data:
B9: ='DADOS GERAIS'!$B$9 -> Unidade Básica de Saúde Porte 3 - Área Construída: 813,73m² | F9: =RESUMO!D9 -> 0.20814987 | K9: ='DADOS GERAIS'!$C$22 -> 28/08/2025
B10: Localização
B11: RUA TIROLESES, 515, Bairro CAPITAIS, Complemento - , CEP 89095-450
B12: =RESUMO!B12 -> Bancos: | K12: ='DADOS GERAIS'!$B$23 -> Revisão:
B13: ='DADOS GERAIS'!$B$13 -> SINAPI (07/2025) - CPOS/CDHU (06/2025) - SBC (08/2025) - ORSE (06/2025) - IOPES (05/2025) - EMOP (07/2025) - SIURB (01/2025) | K13: ='DADOS GERAIS'!$C$23 -> 00
B16: Item | C16: Código | D16: Banco | E16: Descrição | F16: Und | G16: Und | H16: Quant. | K16: Total
B18: Composições Principais
B19: 1.1.1 | C19: Código | D19: Banco | E19: Descrição | F19: Tipo | H19: Und | I19: Quant. | J19: Valor Unit | K19: Total
B20: Composição | C20: CPU2526 | D20: Próprio | E20: LOCAÇÃO DE CONTAINER TIPO DEPÓSITO - ÁREA MÍNIMA DE 13,80 M2 | F20: CANT - CANTEIRO DE OBRAS | H20: UNXMÊS | I20: 1 | J20: 981.52 | K20: 981.52
B21: Composição Auxiliar | C21: 88247 | D21: SINAPI | E21: AUXILIAR DE ELETRICISTA COM ENCARGOS COMPLEMENTARES | F21: Livro SINAPI: Cálculos e Parâmetros | H21: H | I21: 1.32 | J21: 27.19 | K21: 35.89
B22: Composição Auxiliar | C22: 88264 | D22: SINAPI | E22: ELETRICISTA COM ENCARGOS COMPLEMENTARES | F22: Livro SINAPI: Cálculos e Parâmetros | H22: H | I22: 0.99 | J22: 43.64 | K22: 43.2
B23: Composição Auxiliar | C23: 88316 | D23: SINAPI | E23: SERVENTE COM ENCARGOS COMPLEMENTARES | F23: Livro SINAPI: Cálculos e Parâmetros | H23: H | I23: 1.32 | J23: 24.73 | K23: 32.64
B24: Insumo | C24: A.12.000.021099 | D24: CPOS/CDHU | E24: CONTAINER DEPÓSITO, MÓDULO METÁLICO EM AÇO GALVANIZADO DE 6,0X2,3X2,5M, VÃO LIVRE, PISO DE CONCRETO, CIMENTADO, MADEIRA OU MATERIAL EQUIVALENTE | F24: Material | H24: unxmês | I24: 1 | J24: 869.79 | K24: 869.79
F25: MO sem LS => | G25: 96.46 | H25: LS => | I25: 0 | J25: MO com LS => | K25: 96.46
F26: Valor do BDI => | G26: 204.25 | I26: Valor com BDI => | K26: 1185.77
B27: Observação
B28: Composição de Referência: 02.02.150 CPOS/CDHU A composição foi ajustada para utilizar os insumos e a mão de obra conforme a base SINAPI, garantindo maior aderência aos parâmetros de mercado e normativas vigentes. Apenas os insumos que não possuem correspondência na base SINAPI foram mantidos conforme a composição original, assegurando a precisão e viabilidade da precificação.
B30: 1.1.2 | C30: Código | D30: Banco | E30: Descrição | F30: Tipo | H30: Und | I30: Quant. | J30: Valor Unit | K30: Total
B31: Composição | C31: CPU2527 | D31: Próprio | E31: BARRACÃO ABERTO PARA APOIO À PRODUÇÃO (CARPINTARIA, CENTRAL DE ARMAÇÃO, OFICINA, ETC.) C/ TESOURAS, TELHA 4MM, PISO EM CONCRETO DESEMPOLADO | F31: CANT - CANTEIRO DE OBRAS | H31: m² | I31: 1 | J31: 314.69 | K31: 314.69
B32: Composição Auxiliar | C32: 94207 | D32: SINAPI | E32: TELHAMENTO COM TELHA ONDULADA DE FIBROCIMENTO E = 6 MM, COM RECOBRIMENTO LATERAL DE 1/4 DE ONDA PARA TELHADO COM INCLINAÇÃO MAIOR QUE 10°, COM ATÉ 2 ÁGUAS, INCLUSO IÇAMENTO. AF_07/2019 | F32: Telhamento para Cobertura | H32: m² | I32: 1 | J32: 46.66 | K32: 46.66
B33: Composição Auxiliar | C33: 101747 | D33: SINAPI | E33: PISO EM CONCRETO 20 MPA PREPARO MECÂNICO, ESPESSURA 7CM. AF_09/2020 | F33: Pisos | H33: m² | I33: 1 | J33: 85.8 | K33: 85.8
B34: Composição Auxiliar | C34: 100382 | D34: SINAPI | E34: FABRICAÇÃO E INSTALAÇÃO DE PONTALETES DE MADEIRA NÃO APARELHADA PARA TELHADOS COM ATÉ 2 ÁGUAS E COM TELHA ONDULADA DE FIBROCIMENTO, ALUMÍNIO OU PLÁSTICA EM EDIFÍCIO RESIDENCIAL TÉRREO, INCLUSO TRANSPORTE VERTICAL. AF_07/2019 | F34: Estrutura e Trama para Cobertura | H34: m² | I34: 1 | J34: 46.57 | K34: 46.57
B35: Composição Auxiliar | C35: 97083 | D35: SINAPI | E35: COMPACTAÇÃO MECÂNICA DE SOLO PARA EXECUÇÃO DE RADIER, PISO DE CONCRETO OU LAJE SOBRE SOLO, COM COMPACTADOR DE SOLOS A PERCUSSÃO. AF_09/2021 | F35: Radier, Piso de Concreto e Laje sobre Solo | H35: m² | I35: 1 | J35: 3.99 | K35: 3.99
B36: Composição Auxiliar | C36: 92562 | D36: SINAPI | E36: FABRICAÇÃO E INSTALAÇÃO DE TESOURA INTEIRA EM MADEIRA NÃO APARELHADA, VÃO DE 10 M, PARA TELHA ONDULADA DE FIBROCIMENTO, METÁLICA, PLÁSTICA OU TERMOACÚSTICA, INCLUSO IÇAMENTO. AF_07/2019 | F36: Estrutura e Trama para Cobertura | H36: UN | I36: 0.03 | J36: 4389.08 | K36: 131.67
F37: MO sem LS => | G37: 54.18 | H37: LS => | I37: 0 | J37: MO com LS => | K37: 54.18
F38: Valor do BDI => | G38: 65.48 | I38: Valor com BDI => | K38: 380.17
B39: Observação
B40: Composição de Referência: ORSE 11703. A composição foi ajustada para utilizar os insumos e a mão de obra conforme a base SINAPI, garantindo maior aderência aos parâmetros de mercado e normativas vigentes. Apenas os insumos que não possuem correspondência na base SINAPI foram mantidos conforme a composição original, assegurando a precisão e viabilidade da precificação.
B42: 1.1.3 | C42: Código | D42: Banco | E42: Descrição | F42: Tipo | H42: Und | I42: Quant. | J42: Valor Unit | K42: Total
B43: Composição | C43: CPU2528 | D43: Próprio | E43: LOCAÇÃO DE CONTAINER - BANHEIRO COM CHUVEIROS E VASOS - 4,30 X 2,30M | F43: CANT - CANTEIRO DE OBRAS | H43: MÊS | I43: 1 | J43: 962.26 | K43: 962.26
B44: Insumo | C44: 00010777 | D44: SINAPI | E44: LOCACAO DE CONTAINER 2,30 X 4,30 M, ALT. 2,50 M, PARA SANITARIO, COM 3 BACIAS, 4 CHUVEIROS, 1 LAVATORIO E 1 MICTORIO (NAO INCLUI MOBILIZACAO/DESMOBILIZACAO) | F44: Equipamento | H44: MES | I44: 1 | J44: 962.26 | K44: 962.26
F45: MO sem LS => | G45: 0 | H45: LS => | I45: 0 | J45: MO com LS => | K45: 0
F46: Valor do BDI => | G46: 200.24 | I46: Valor com BDI => | K46: 1162.5
B47: Observação
B48: Composição de Referência: ORSE 4656. A composição foi ajustada para utilizar os insumos e a mão de obra conforme a base SINAPI, garantindo maior aderência aos parâmetros de mercado e normativas vigentes. Apenas os insumos que não possuem correspondência na base SINAPI foram mantidos conforme a composição original, assegurando a precisão e viabilidade da precificação.
B50: 1.1.4 | C50: Código | D50: Banco | E50: Descrição | F50: Tipo | H50: Und | I50: Quant. | J50: Valor Unit | K50: Total
B51: Composição | C51: CPU2529 | D51: Próprio | E51: BARRACAO PARA REFEITORIO EM OBRAS EM COMPENSADO | F51: CANT - CANTEIRO DE OBRAS | H51: m² | I51: 1 | J51: 1346.87 | K51: 1346.87
B52: Composição Auxiliar | C52: 88262 | D52: SINAPI | E52: CARPINTEIRO DE FORMAS COM ENCARGOS COMPLEMENTARES | F52: Livro SINAPI: Cálculos e Parâmetros | H52: H | I52: 8.419 | J52: 36.35 | K52: 306.03
...

Sheet CURVA ABC
B2: CURVA ABC DE SERVIÇOS
B8: =RESUMO!B8 -> Secretaria da Saúde - Timbó | G8: BDI Geral: | K8: Data:
B9: ='DADOS GERAIS'!$B$9 -> Unidade Básica de Saúde Porte 3 - Área Construída: 813,73m² | G9: ='DADOS GERAIS'!C20 -> 0.20814987 | K9: ='DADOS GERAIS'!$C$22 -> 28/08/2025
B10: =RESUMO!B10 -> Localização
B11: RUA TIROLESES, 515, Bairro CAPITAIS, Complemento - , CEP 89095-450
B12: Bancos: | K12: Revisão:
B13: ='DADOS GERAIS'!B13 -> SINAPI (07/2025) - CPOS/CDHU (06/2025) - SBC (08/2025) - ORSE (06/2025) - IOPES (05/2025) - EMOP (07/2025) - SIURB (01/2025) | K13: ='DADOS GERAIS'!$C$23 -> 00
B16: Código | C16: Banco | D16: Descrição | E16: Tipo | F16: Und | G16: Quant. | H16: Valor Unit | I16: Total | J16: Peso (%) | K16: Peso Acumulado (%)
B18: 103324 | C18: SINAPI | D18: ALVENARIA DE VEDAÇÃO DE BLOCOS CERÂMICOS FURADOS NA VERTICAL DE 14X19X39 CM (ESPESSURA 14 CM) E ARGAMASSA DE ASSENTAMENTO COM PREPARO EM BETONEIRA. AF_12/2021 | E18: Alvenaria de Vedação | F18: m² | G18: 1.104,49 | H18: 96,21 | I18: 106.262,98 | J18: 3,47 | K18: 3,47
B19: 92461 | C19: SINAPI | D19: MONTAGEM E DESMONTAGEM DE FÔRMA DE VIGA, ESCORAMENTO COM GARFO DE MADEIRA, PÉ-DIREITO DUPLO, EM CHAPA DE MADEIRA RESINADA, 8 UTILIZAÇÕES. AF_09/2020 | E19: Fôrmas para Estruturas de Concreto Armado | F19: m² | G19: 380,9 | H19: 218,88 | I19: 83.371,39 | J19: 2,72 | K19: 6,20
B20: 93565 | C20: SINAPI | D20: ENGENHEIRO CIVIL DE OBRA JUNIOR COM ENCARGOS COMPLEMENTARES | E20: Livro SINAPI: Cálculos e Parâmetros | F20: MES | G20: 3,5 | H20: 22.848,17 | I20: 79.968,59 | J20: 2,61 | K20: 8,81
B21: 96557 | C21: SINAPI | D21: CONCRETAGEM DE BLOCO DE COROAMENTO OU VIGA BALDRAME, FCK 30 MPA, COM USO DE BOMBA - LANÇAMENTO, ADENSAMENTO E ACABAMENTO. AF_01/2024 | E21: Fundações Rasas (Blocos, Sapatas, Vigas Baldrame) | F21: m³ | G21: 84,5 | H21: 848,95 | I21: 71.736,27 | J21: 2,34 | K21: 11,15
B22: CPU2283 | C22: Próprio | D22: CONCRETAGEM DE VIGAS E LAJES, FCK=30 MPA, PARA LAJES MACIÇAS OU NERVURADAS COM USO DE BOMBA - LANÇAMENTO, ADENSAMENTO E ACABAMENTO. | E22: FUES - FUNDAÇÕES E ESTRUTURAS | F22: m³ | G22: 90,6 | H22: 791,37 | I22: 71.698,12 | J22: 2,34 | K22: 13,50
B23: CPU2100 | C23: Próprio | D23: Laje pré-fabricada unidirecional em viga treliçada/lajota em EPS LT 16 (12 + 4), exceto capa de concreto | E23: 13.01 | F23: m² | G23: 508,13 | H23: 119,98 | I23: 60.965,43 | J23: 1,99 | K23: 15,49
B24: 94995 | C24: SINAPI | D24: EXECUÇÃO DE PASSEIO (CALÇADA) OU PISO DE CONCRETO COM CONCRETO MOLDADO IN LOCO, USINADO, ACABAMENTO CONVENCIONAL, ESPESSURA 8 CM, ARMADO. AF_08/2022 | E24: Passeios de Concreto | F24: m² | G24: 593,52 | H24: 100,24 | I24: 59.494,44 | J24: 1,94 | K24: 17,43
B25: 104958 | C25: SINAPI | D25: MASSA ÚNICA, EM ARGAMASSA TRAÇO 1:2:8 PREPARO MECÂNICO, APLICADA MANUALMENTE EM PAREDES INTERNAS DE AMBIENTES COM ÁREA MAIOR QUE 10M², E = 10MM, COM TALISCAS. AF_03/2024 | E25: Massa Única Interna | F25: m² | G25: 2.113,29 | H25: 26,77 | I25: 56.572,77 | J25: 1,85 | K25: 19,28
B26: CPU2547 | C26: Próprio | D26: ALIZAR ALUMINIO PINTURA ELETROSTATICA BRANCA | E26: ESQV - ESQUADRIAS/FERRAGENS/VIDROS | F26: M | G26: 439,34 | H26: 128,45 | I26: 56.433,22 | J26: 1,84 | K26: 21,12
B27: 101793 | C27: SINAPI | D27: ESCORAMENTO DE FÔRMAS DE LAJE EM MADEIRA NÃO APARELHADA, PÉ-DIREITO DUPLO, INCLUSO TRAVAMENTO, 4 UTILIZAÇÕES. AF_09/2020 | E27: Fôrmas para Estruturas de Concreto Armado | F27: m³ | G27: 1.847,96 | H27: 29,52 | I27: 54.551,77 | J27: 1,78 | K27: 22,91
B28: CPU2656 | C28: Próprio | D28: DUTO PARA EXAUSTAO DE AR/VENTILACAO,CHAVETADO EM CHAPA DE AC O GALVANIZADO,NAS DIVERSAS BITOLAS,CONFORME ABNT NBR 16401,I NCLUSIVE SUPORTES PINTADOS,GRELHAS,DIFUSORES EM ALUMINIO EXT RUDADO E DEMAIS ITENS NECESSARIOS.FORNECIMENTO E COLOCACAO | E28: SEDI - SERVIÇOS DIVERSOS | F28: KG | G28: 764,0 | H28: 71,31 | I28: 54.480,84 | J28: 1,78 | K28: 24,69
B29: 96534 | C29: SINAPI | D29: FABRICAÇÃO, MONTAGEM E DESMONTAGEM DE FÔRMA PARA BLOCO DE COROAMENTO, EM MADEIRA SERRADA, E=25 MM, 4 UTILIZAÇÕES. AF_01/2024 | E29: Fundações Rasas (Blocos, Sapatas, Vigas Baldrame) | F29: m² | G29: 607,2 | H29: 87,78 | I29: 53.300,01 | J29: 1,74 | K29: 26,43
B30: CPU2285 | C30: Próprio | D30: PAREDE COM SISTEMA EM CHAPAS DE GESSO ST PARA DRYWALL COM ISOLAMENTO ACUSTICO, USO INTERNO, COM DUAS FACES SIMPLES E ESTRUTURA METÁLICA COM GUIAS SIMPLES PARA PAREDES COM ÁREA LÍQUIDA MAIOR OU IGUAL A 6 M2, COM VÃOS. | E30: PARE - PAREDES/PAINEIS | F30: m² | G30: 296,95 | H30: 176,24 | I30: 52.334,46 | J30: 1,71 | K30: 28,14
B31: 96114 | C31: SINAPI | D31: FORRO EM DRYWALL, PARA AMBIENTES COMERCIAIS, INCLUSIVE ESTRUTURA BIRECIONAL DE FIXAÇÃO. AF_08/2023_PS | E31: Forros | F31: m² | G31: 661,1 | H31: 79,08 | I31: 52.279,78 | J31: 1,71 | K31: 29,85
B32: CPU2529 | C32: Próprio | D32: BARRACAO PARA REFEITORIO EM OBRAS EM COMPENSADO | E32: CANT - CANTEIRO DE OBRAS | F32: m² | G32: 35,0 | H32: 1.346,87 | I32: 47.140,45 | J32: 1,54 | K32: 31,39
B33: CPU1926 | C33: Próprio | D33: LOCACAO DE ANDAIME METALICO TIPO FACHADEIRO, PECAS COM APROXIMADAMENTE 1,20 M DE LARGURA E 2,0 M DE ALTURA, INCLUINDO DIAGONAIS EM X, BARRAS DE LIGACAO, SAPATAS E DEMAIS ITENS NECESSARIOS A MONTAGEM, INCLUSIVE MONTAGEM E DESMONTAGEM | E33: ASTU - ASSENTAMENTO DE TUBOS E PECAS | F33: M2XMÊS | G33: 1.072,18 | H33: 39,82 | I33: 42.694,20 | J33: 1,39 | K33: 32,78
B34: 94991 | C34: SINAPI | D34: EXECUÇÃO DE PASSEIO (CALÇADA) OU PISO DE CONCRETO COM CONCRETO MOLDADO IN LOCO, USINADO C20, ACABAMENTO CONVENCIONAL, NÃO ARMADO. AF_08/2022 | E34: Passeios de Concreto | F34: m³ | G34: 47,36 | H34: 850,93 | I34: 40.300,04 | J34: 1,32 | K34: 34,10
B35: CPU2574 | C35: Próprio | D35: TUBO DE PVC RÍGIDO PXB COM VIROLA E ANEL DE BORRACHA, LINHA ESGOTO SÉRIE REFORÇADA ´R´, DN= 100 MM, INCLUSIVE CONEXÕES | E35: INHI - INSTALAÇÕES HIDROS SANITÁRIAS | F35: M | G35: 317,6 | H35: 123,05 | I35: 39.080,68 | J35: 1,28 | K35: 35,37
... B162: CPU2545 | C162: Próprio | D162: PUXADOR DUPLO EM AÇO INOXIDÁVEL, PARA PORTA DE MADEIRA, ALUMÍNIO OU VIDRO, DE 350 MM | E162: ESQV - ESQUADRIAS/FERRAGENS/VIDROS | F162: UN | G162: 9,0 | H162: 496,72 | I162: 4.470,48 | J162: 0,15 | K162: 91,24
B163: CPU2101 | C163: Próprio | D163: Laje pré-fabricada unidirecional em viga treliçada/lajota em EPS LT 12 (8 + 4), exceto capa de concreto | E163: 13.01 | F163: m² | G163: 43,5 | H163: 101,24 | I163: 4.403,94 | J163: 0,14 | K163: 91,39
B164: CPU2619 | C164: Próprio | D164: DISPOSITIVO DE PROTEÇÃO CONTRA SURTO, 1 POLO, SUPORTABILIDADE &LT;= 4 KV, UN ATÉ 240V/415V, IIMP = 60 KA, CURVA DE ENSAIO 10/350µS - CLASSE 1 | E164: INEL - INSTALAÇÃO ELÉTRICA/ELETRIFICAÇÃO E ILUMINAÇÃO EXTERNA | F164: UN | G164: 8,0 | H164: 540,97 | I164: 4.327,76 | J164: 0,14 | K164: 91,53
B165: 91837 | C165: SINAPI | D165: ELETRODUTO FLEXÍVEL CORRUGADO REFORÇADO, PVC, DN 32 MM (1"), PARA CIRCUITOS TERMINAIS, INSTALADO EM FORRO - FORNECIMENTO E INSTALAÇÃO. AF_03/2023 | E165: Instalações Elétricas - Eletrodutos Embutidos, Cabos, Caixas, Tomadas e Interruptores | F165: M | G165: 161,7 | H165: 26,27 | I165: 4.247,85 | J165: 0,14 | K165: 91,67
B166: CPU2563 | C166: Próprio | D166: DUCHA HIGIÊNICA COM REGISTRO, LINHA DREAM, REF. 1984.C87.ACT.CR, DA DECA OU SIMILAR | E166: INHI - INSTALAÇÕES HIDROS SANITÁRIAS | F166: UN | G166: 5,0 | H166: 818,76 | I166: 4.093,80 | J166: 0,13 | K166: 91,80
B167: CPU2541 | C167: Próprio | D167: PORTA ALUMINIO ANODIZADO NATURAL 1 FOLHA DE ABRIR | E167: ESQV - ESQUADRIAS/FERRAGENS/VIDROS | F167: m² | G167: 2,52 | H167: 1.596,60 | I167: 4.023,43 | J167: 0,13 | K167: 91,93
B168: CPU2554 | C168: Próprio | D168: PISO ALTA RESISTÊNCIA OU INDUSTRIAL DE 12 MM, COMUM, COR CINZA, COM JUNTAS PLÁSTICAS, SEM POLIMENTO, ECCLUSIVE ARGAMASSA DE REGULARIZAÇÃO, APLICADO | E168: PISO - PISOS | F168: m² | G168: 93,85 | H168: 42,77 | I168: 4.013,96 | J168: 0,13 | K168: 92,06
B169: 89987 | C169: SINAPI | D169: REGISTRO DE GAVETA BRUTO, LATÃO, ROSCÁVEL, 3/4", COM ACABAMENTO E CANOPLA CROMADOS - FORNECIMENTO E INSTALAÇÃO. AF_08/2021 | E169: Válvulas e Registros para Sistemas Prediais | F169: UN | G169: 40,0 | H169: 99,01 | I169: 3.960,40 | J169: 0,13 | K169: 92,19
B170: CPU2652 | C170: Próprio | D170: CABO DE COBRE PP CORDPLAST 4 X 2,5 MM2, 450/750V - FORNECIMENTO E INSTALAÇÃO | E170: INEL - INSTALAÇÃO ELÉTRICA/ELETRIFICAÇÃO E ILUMINAÇÃO EXTERNA | F170: M | G170: 212,0 | H170: 18,53 | I170: 3.928,36 | J170: 0,13 | K170: 92,32
B171: CPU3186 | C171: Próprio | D171: CAIXA DE VENTILACAO PARA FORRO COLARINHO COM BOCAL CVM1800 | E171: INES - INSTALAÇÕES ESPECIAIS | F171: UN | G171: 1,0 | H171: 3.868,26 | I171: 3.868,26 | J171: 0,13 | K171: 92,45
B172: 100709 | C172: SINAPI | D172: DOBRADIÇA EM AÇO/FERRO, 3" X 21/2", E=1,9 A 2MM, SEN ANEL, CROMADO OU ZINCADO, TAMPA BOLA, COM PARAFUSOS. AF_12/2019 | E172: Esquadrias - Portas | F172: UN | G172: 61,0 | H172: 63,03 | I172: 3.844,83 | J172: 0,13 | K172: 92,57
B173: CPU2561 | C173: Próprio | D173: TORNEIRA MISTURADOR CLÍNICA DE MESA COM AREJADOR ARTICULADO, ACIONAMENTO COTOVELO | E173: INHI - INSTALAÇÕES HIDROS SANITÁRIAS | F173: UN | G173: 10,0 | H173: 381,01 | I173: 3.810,10 | J173: 0,12 | K173: 92,70
B174: CPU3158 | C174: Próprio | D174: DUTO FLEXIVEL DE ALUMINIO C/ ISOLAM. TERM.LA VIDRO 100MM 4"" | E174: ASTU - ASSENTAMENTO DE TUBOS E PECAS | F174: M | G174: 84,0 | H174: 45,16 | I174: 3.793,44 | J174: 0,12 | K174: 92,82
B175: 89811 | C175: SINAPI | D175: CURVA CURTA 90 GRAUS, PVC, SERIE NORMAL, ESGOTO PREDIAL, DN 100 MM, JUNTA ELÁSTICA, FORNECIDO E INSTALADO EM PRUMADA DE ESGOTO SANITÁRIO OU VENTILAÇÃO. AF_08/2022 | E175: Instalações Prediais de Esgoto - Tubos e Conexões | F175: UN | G175: 82,0 | H175: 44,93 | I175: 3.684,26 | J175: 0,12 | K175: 92,94
...

Sheet CRONOGRAMA FÍSICO FINANCEIRO
B3: ='DADOS GERAIS'!B8 -> Secretaria da Saúde - Timbó | S3: ='[2]DADOS GERAIS'!$B$21 -> Data:
B4: ='DADOS GERAIS'!B9 -> Unidade Básica de Saúde Porte 3 - Área Construída: 813,73m² | S4: 11/02/2026
B5: ='DADOS GERAIS'!B10 -> Localização
B6: ='DADOS GERAIS'!B11 -> RUA TIROLESES, 515, Bairro CAPITAIS, Complemento - , CEP 89095-450 | S6: ='[2]DADOS GERAIS'!$B$22 -> Revisão:
B7: ='DADOS GERAIS'!B12 -> Bancos: | S7: 00
B8: ='DADOS GERAIS'!B13 -> SINAPI (07/2025) - CPOS/CDHU (06/2025) - SBC (08/2025) - ORSE (06/2025) - IOPES (05/2025) - EMOP (07/2025) - SIURB (01/2025)
B9: EVENTO | C9: DESCRIÇÃO | D9: PREÇO | E9: MÊS 1 | F9: MÊS 2 | G9: MÊS 3 | H9: MÊS 4 | I9: MÊS 5 | J9: MÊS 6 | K9: MÊS 7 | L9: MÊS 8 | M9: MÊS 9 | N9: MÊS 10 | O9: MÊS 11 | P9: MÊS 12 | Q9: MÊS 13 | R9: MÊS 14 | S9: Total
B10: 1 | C10: ADMINISTRAÇÃO LOCAL | D10: ='ORC. SINTÉTICO'!N21+'ORC. SINTÉTICO'!N23+'ORC. SINTÉTICO'!N32 -> 146086.6 | E10: =$D$10/14 -> 10434.757 | F10: =$D$10/14 -> 10434.757 | G10: =$D$10/14 -> 10434.757 | H10: =$D$10/14 -> 10434.757 | I10: =$D$10/14 -> 10434.757 | J10: =$D$10/14 -> 10434.757 | K10: =$D$10/14 -> 10434.757 | L10: =$D$10/14 -> 10434.757 | ... R10: =$D$10/14 -> 10434.757 | S10: =SUM(E10:R10) -> 146086.6
E11: =E10/$D$10 -> 0.071428571 | F11: =F10/$D$10 -> 0.071428571 | G11: =G10/$D$10 -> 0.071428571 | H11: =H10/$D$10 -> 0.071428571 | I11: =I10/$D$10 -> 0.071428571 | J11: =J10/$D$10 -> 0.071428571 | K11: =K10/$D$10 -> 0.071428571 | L11: =L10/$D$10 -> 0.071428571 | ... R11: =R10/$D$10 -> 0.071428571 | S11: =SUM(E11:R11) -> 1
B13: 2 | C13: =RESUMO!C18 -> SERVIÇOS PRELIMINARES E INDIRETOS | D13: =RESUMO!E18-D10 -> 215910.65 | E13: =$D$13/2 -> 107955.33 | F13: =$D$13/2 -> 107955.33 | S13: =SUM(E13:R13) -> 215910.65 | T13: =S13-D13 -> 0
E14: =E13/$D$13 -> 0.5 | F14: =F13/$D$13 -> 0.5 | S14: =SUM(E14:R14) -> 1
B16: 3 | C16: =RESUMO!C19 -> FUNDAÇÃO | D16: =RESUMO!E19 -> 351183.12 | E16: =D16/2 -> 175591.56 | F16: =D16/2 -> 175591.56 | S16: =SUM(E16:R16) -> 351183.12 | T16: =S16-D16 -> 0
E17: =E16/D16 -> 0.5 | F17: =F16/D16 -> 0.5 | S17: =SUM(E17:R17) -> 1
B19: 4 | C19: =RESUMO!C20 -> ESTRUTURA | D19: =RESUMO!E20 -> 523961.02 | F19: =D19/3 -> 174653.67 | G19: =D19/3 -> 174653.67 | H19: =D19/3 -> 174653.67 | S19: =SUM(E19:R19) -> 523961.02 | T19: =S19-D19 -> 0
F20: =F19/$D$19 -> 0.33333333 | G20: =G19/$D$19 -> 0.33333333 | H20: =H19/$D$19 -> 0.33333333 | S20: =SUM(E20:R20) -> 1
B22: 5 | C22: =RESUMO!C21 -> ALVENARIA, VEDAÇÕES E DIVISÓRIAS | D22: =RESUMO!E21 -> 348825.66 | H22: =D22/3 -> 116275.22 | I22: =D22/3 -> 116275.22 | J22: =D22/3 -> 116275.22 | S22: =SUM(E22:R22) -> 348825.66 | T22: =S22-D22 -> 0
H23: =H22/$D$22 -> 0.33333333 | I23: =I22/$D$22 -> 0.33333333 | J23: =J22/$D$22 -> 0.33333333 | S23: =SUM(E23:R23) -> 1
B25: 6 | C25: =RESUMO!C22 -> COBERTURA | D25: =RESUMO!E22 -> 161861.57 | J25: =D25/2 -> 80930.785 | K25: =D25/2 -> 80930.785 | S25: =SUM(E25:R25) -> 161861.57 | T25: =S25-D25 -> 0
J26: =J25/$D$25 -> 0.5 | K26: =K25/$D$25 -> 0.5 | S26: =SUM(E26:R26) -> 1
B28: 7 | C28: =RESUMO!C23 -> IMPERMEABILIZAÇÃO | D28: =RESUMO!E23 -> 41778.56 | E28: =D28/4 -> 10444.64 | F28: =D28/4 -> 10444.64 | H28: =D28/4 -> 10444.64 | I28: =D28/4 -> 10444.64 | S28: =SUM(E28:R28) -> 41778.56 | T28: =S28-D28 -> 0
E29: =E28/$D$28 -> 0.25 | F29: =F28/$D$28 -> 0.25 | H29: =H28/$D$28 -> 0.25 | I29: =I28/$D$28 -> 0.25 | S29: =SUM(E29:R29) -> 1
B31: 8 | C31: =RESUMO!C24 -> ESQUADRIAS | D31: =RESUMO!E24 -> 330073.97 | L31: =D31/3 -> 110024.66 | M31: =D31/3 -> 110024.66 | N31: =D31/3 -> 110024.66 | S31: =SUM(E31:R31) -> 330073.97 | T31: =S31-D31 -> 0
L32: =L31/$D$31 -> 0.33333333 | M32: =M31/$D$31 -> 0.33333333 | N32: =N31/$D$31 -> 0.33333333 | S32: =SUM(E32:R32) -> 1
B34: 9 | C34: =RESUMO!C25 -> REVESTIMENTO DE PAREDE | D34: =RESUMO!E25 -> 126452.66 | N34: =D34/3 -> 42150.887 | O34: =D34/3 -> 42150.887 | P34: =D34/3 -> 42150.887 | S34: =SUM(E34:R34) -> 126452.66 | T34: =S34-D34 -> 0
N35: =N34/$D$34 -> 0.33333333 | O35: =O34/$D$34 -> 0.33333333 | P35: =P34/$D$34 -> 0.33333333 | S35: =SUM(E35:R35) -> 1
B37: 10 | C37: =RESUMO!C26 -> REVESTIMENTO DE PISO INTERNO | D37: =RESUMO!E26 -> 164117.58 | M37: =D37/3 -> 54705.86 | N37: =D37/3 -> 54705.86 | O37: =D37/3 -> 54705.86 | S37: =SUM(E37:R37) -> 164117.58 | T37: =S37-D37 -> 0
M38: =M37/$D$37 -> 0.33333333 | N38: =N37/$D$37 -> 0.33333333 | O38: =O37/$D$37 -> 0.33333333 | S38: =SUM(E38:R38) -> 1
B40: 11 | C40: =RESUMO!C27 -> REVESTIMENTO DE PISO EXTERNO | D40: =RESUMO!E27 -> 48686.08 | P40: =D40/2 -> 24343.04 | Q40: =D40/2 -> 24343.04 | S40: =SUM(E40:R40) -> 48686.08 | T40: =S40-D40 -> 0
P41: =P40/$D$40 -> 0.5 | Q41: =Q40/$D$40 -> 0.5 | S41: =SUM(E41:R41) -> 1
B43: 12 | C43: =RESUMO!C28 -> REVESTIMENTO DE TETO | D43: =RESUMO!E28 -> 63154.88 | M43: =D43/3 -> 21051.627 | N43: =D43/3 -> 21051.627 | O43: =D43/3 -> 21051.627 | S43: =SUM(E43:R43) -> 63154.88 | T43: =S43-D43 -> 0
M44: =M43/$D$43 -> 0.33333333 | N44: =N43/$D$43 -> 0.33333333 | O44: =O43/$D$43 -> 0.33333333 | S44: =SUM(E44:R44) -> 1
B46: 13 | C46: =RESUMO!C29 -> PINTURA | D46: =RESUMO!E29 -> 122167.95 | N46: =D46/3 -> 40722.65 | O46: =D46/3 -> 40722.65 | P46: =D46/3 -> 40722.65 | S46: =SUM(E46:R46) -> 122167.95 | T46: =S46-D46 -> 0
N47: =N46/$D$46 -> 0.33333333 | O47: =O46/$D$46 -> 0.33333333 | P47: =P46/$D$46 -> 0.33333333 | S47: =SUM(E47:R47) -> 1
B49: 14 | C49: =RESUMO!C30 -> MARMORARIA | D49: =RESUMO!E30 -> 37200.58 | L49: =D49/4 -> 9300.145 | N49: =D49/4 -> 9300.145 | O49: =D49/4 -> 9300.145 | P49: =D49/4 -> 9300.145 | S49: =SUM(E49:R49) -> 37200.58 | T49: =S49-D49 -> 0
L50: =L49/$D$49 -> 0.25 | N50: =N49/$D$49 -> 0.25 | O50: =O49/$D$49 -> 0.25 | P50: =P49/$D$49 -> 0.25 | S50: =SUM(E50:R50) -> 1
B52: 15 | C52: =RESUMO!C31 -> LOUÇAS, METAIS E ACESSÓRIOS | D52: =RESUMO!E31 -> 86848.84 | N52: =D52/3 -> 28949.613 | O52: =D52/3 -> 28949.613 | P52: =D52/3 -> 28949.613 | S52: =SUM(E52:R52) -> 86848.84 | T52: =S52-D52 -> 0
N53: =N52/$D$52 -> 0.33333333 | O53: =O52/$D$52 -> 0.33333333 | P53: =P52/$D$52 -> 0.33333333 | S53: =SUM(E53:R53) -> 1
B55: 16 | C55: =RESUMO!C32 -> INSTALAÇÕES HIDROSSANITÁRIAS | D55: =RESUMO!E32 -> 299803.73 | G55: =D55/6 -> 49967.288 | H55: =D55/6 -> 49967.288 | K55: =D55/6 -> 49967.288 | N55: =D55/6 -> 49967.288 | O55: =D55/6 -> 49967.288 | P55: =D55/6 -> 49967.288 | S55: =SUM(E55:R55) -> 299803.73 | T55: =S55-D55 -> 0
G56: =G55/$D$55 -> 0.16666667 | H56: =H55/$D$55 -> 0.16666667 | K56: =K55/$D$55 -> 0.16666667 | N56: =N55/$D$55 -> 0.16666667 | O56: =O55/$D$55 -> 0.16666667 | P56: =P55/$D$55 -> 0.16666667 | S56: =SUM(E56:R56) -> 1
B58: 17 | C58: =RESUMO!C33 -> INSTALAÇÕES ELÉTRICAS | D58: =RESUMO!E33 -> 411207.27 | M58: =D58/3 -> 137069.09 | N58: =D58/3 -> 137069.09 | O58: =D58/3 -> 137069.09 | S58: =SUM(E58:R58) -> 411207.27 | T58: =S58-D58 -> 0
...
