Workbook
Name \0: #REF!
Name \1: #REF!
Name \1: #REF!
Name \1: #REF!
Name \1: #REF!
Name \11: #REF!
Name \11: #REF!
Name \11: #REF!
Name \11: #REF!
Name \2: #REF!
Name \a: #REF!
Name \a: #REF!
Name \a: #REF!
Name \a: #REF!
Name \b: #REF!
Name \b: #REF!
Name \b: #REF!
Name \b: #REF!
Name \c: #REF!
Name \c: #REF!
Name \c: #REF!
Name \c: #REF!
Name \D: #REF!
Name \E: #REF!
Name \F: #REF!
Name \F: #REF!
Name \fagf: #REF!
Name \fagf: #REF!
Name \fagf: #REF!
Name \fagf: #REF!
Name \I: #REF!
Name \I: #REF!
Name \I: #REF!
Name \I: #REF!
Name \p: #REF!
Name \p: #REF!
Name \p: #REF!
Name \p: #REF!
Name \R: #REF!
Name \R: #REF!
Name \S: #REF!
Name \S: #REF!
Name \S: #REF!
Name \S: #REF!
Name \S: #REF!
Name \S: #REF!
Name \SA: #REF!
Name \w: #REF!
Name \w: #REF!
Name \w: #REF!
Name \w: #REF!
Name \x: #REF!
Name \z: #REF!
Name \z: #REF!
Name \z: #REF!
Name \ZACVDERVREW: #N/A
Name _: #REF!
Name _\1: #REF!
Name _\1: #REF!
Name _\1: #REF!

Sheet RESUMO DO ORÇAMENTO
C2: ='ORÇAMENTO_SEM DESONERAÇÃO'!B1 -> DEPARTAMENTO DE ESTRADAS DE RODAGEM DE PERNAMBUCO DIRETORIA DE PLANEJAMENTO E PROJETOS RELATÓRIO SINTÉTICO DO ORÇAMENTO
C5: ='ORÇAMENTO_SEM DESONERAÇÃO'!B4 -> Setor: DIRETORIA DE PLANEJAMENTO E PROJETOS
B7: ='ORÇAMENTO_SEM DESONERAÇÃO'!A6 -> Serviço: Recuperação e/ou Reforço Estrutural de OAEs | J7: ='ORÇAMENTO_SEM DESONERAÇÃO'!I6 -> Ano: 2026
B8: ='ORÇAMENTO_SEM DESONERAÇÃO'!A7 -> Orçamento: Recuperação e/ou Reforço Estrutural de Obras de Arte Especiais (Pontes, Viadutos, Passarelas e Afins) Sob Jurisdição do Departamento de Estradas de Rodagem do Estado de Pernambuco | J8: ='ORÇAMENTO_SEM DESONERAÇÃO'!I7 -> Rodovia:
B9: ='ORÇAMENTO_SEM DESONERAÇÃO'!A8 -> Trecho: Do 1º ao 8 Distrito rodoviário | J9: ='ORÇAMENTO_SEM DESONERAÇÃO'!I8 -> Extensão:
B10: ='ORÇAMENTO_SEM DESONERAÇÃO'!A9 -> BDI: 23,89 % (Geral) e 17,51% (Diferenciado) | G10: ='ORÇAMENTO_SEM DESONERAÇÃO'!G9 -> Data Base: JAN/2026 | J10: Preço Total: | K10: =SUM(K26) -> 1.1804708e+08
B12: RESUMO DO ORÇAMENTO
B13: Referência | C13: Descrição | J13: % | K13: Preço (R$)
B14: 1 | C14: =VLOOKUP(B14,'ORÇAMENTO_SEM DESONERAÇÃO'!$A$12:J128,3,0) -> INSTALAÇÃO DO CANTEIRO DA OBRAS | J14: =K14/$K$26 -> 0.012943633 | K14: =VLOOKUP(B14,'ORÇAMENTO_SEM DESONERAÇÃO'!$A$12:J128,10,0) -> 1527958.1
B15: 2 | C15: =VLOOKUP(B15,'ORÇAMENTO_SEM DESONERAÇÃO'!$A$12:J129,3,0) -> ADMINISTRAÇÃO LOCAL DA OBRA | J15: =K15/$K$26 -> 0.028412883 | K15: =VLOOKUP(B15,'ORÇAMENTO_SEM DESONERAÇÃO'!$A$12:J129,10,0) -> 3354057.8
B16: 3 | C16: =VLOOKUP(B16,'ORÇAMENTO_SEM DESONERAÇÃO'!$A$12:J130,3,0) -> MOBILIZAÇÃO E DESMOBILIZAÇÃO | J16: =K16/$K$26 -> 0.00085067331 | K16: =VLOOKUP(B16,'ORÇAMENTO_SEM DESONERAÇÃO'!$A$12:J130,10,0) -> 100419.5
B17: 4 | C17: =VLOOKUP(B17,'ORÇAMENTO_SEM DESONERAÇÃO'!$A$12:J131,3,0) -> INFRAESTRUTURA | J17: =K17/$K$26 -> 0.26601477 | K17: =VLOOKUP(B17,'ORÇAMENTO_SEM DESONERAÇÃO'!$A$12:J131,10,0) -> 31402267
B18: 5 | C18: =VLOOKUP(B18,'ORÇAMENTO_SEM DESONERAÇÃO'!$A$12:J132,3,0) -> MESOESTRUTURA | J18: =K18/$K$26 -> 0.20959826 | K18: =VLOOKUP(B18,'ORÇAMENTO_SEM DESONERAÇÃO'!$A$12:J132,10,0) -> 24742462
B19: 6 | C19: =VLOOKUP(B19,'ORÇAMENTO_SEM DESONERAÇÃO'!$A$12:J133,3,0) -> TABULEIRO | J19: =K19/$K$26 -> 0.27430826 | K19: =VLOOKUP(B19,'ORÇAMENTO_SEM DESONERAÇÃO'!$A$12:J133,10,0) -> 32381288
B20: 7 | C20: =VLOOKUP(B20,'ORÇAMENTO_SEM DESONERAÇÃO'!$A$12:J134,3,0) -> JUNTA DE DILATAÇÃO | J20: =K20/$K$26 -> 0.016122186 | K20: =VLOOKUP(B20,'ORÇAMENTO_SEM DESONERAÇÃO'!$A$12:J134,10,0) -> 1903177
B21: 8 | C21: =VLOOKUP(B21,'ORÇAMENTO_SEM DESONERAÇÃO'!$A$12:J135,3,0) -> ELEMENTOS DIVERSOS | J21: =K21/$K$26 -> 0.019025352 | K21: =VLOOKUP(B21,'ORÇAMENTO_SEM DESONERAÇÃO'!$A$12:J135,10,0) -> 2245887.2
B22: 9 | C22: =VLOOKUP(B22,'ORÇAMENTO_SEM DESONERAÇÃO'!$A$12:J136,3,0) -> TRATAMENTO DE FISSURAS | J22: =K22/$K$26 -> 0.0040628282 | K22: =VLOOKUP(B22,'ORÇAMENTO_SEM DESONERAÇÃO'!$A$12:J136,10,0) -> 479605
B23: 10 | C23: =VLOOKUP(B23,'ORÇAMENTO_SEM DESONERAÇÃO'!$A$12:J137,3,0) -> PLATAFORMA DE TRABALHO | J23: =K23/$K$26 -> 0.073157693 | K23: =VLOOKUP(B23,'ORÇAMENTO_SEM DESONERAÇÃO'!$A$12:J137,10,0) -> 8636052
B24: 11 | C24: =VLOOKUP(B24,'ORÇAMENTO_SEM DESONERAÇÃO'!$A$12:J138,3,0) -> TRANSPORTES | J24: =K24/$K$26 -> 0.023973114 | K24: =VLOOKUP(B24,'ORÇAMENTO_SEM DESONERAÇÃO'!$A$12:J138,10,0) -> 2829956.1
B25: 12 | C25: =VLOOKUP(B25,'ORÇAMENTO_SEM DESONERAÇÃO'!$A$12:J139,3,0) -> PAVIMENTAÇÃO | J25: =K25/$K$26 -> 0.071530353 | K25: =VLOOKUP(B25,'ORÇAMENTO_SEM DESONERAÇÃO'!$A$12:J139,10,0) -> 8443949.2
B26: TOTAIS GERAIS: | J26: =SUM(J14:J25) -> 1 | K26: =SUM(K14:L25) -> 1.1804708e+08

Sheet ORÇAMENTO_SEM DESONERAÇÃO
B1: DEPARTAMENTO DE ESTRADAS DE RODAGEM DE PERNAMBUCO DIRETORIA DE PLANEJAMENTO E PROJETOS RELATÓRIO SINTÉTICO DO ORÇAMENTO
B4: Setor: DIRETORIA DE PLANEJAMENTO E PROJETOS
A6: Serviço: Recuperação e/ou Reforço Estrutural de OAEs | I6: Ano: 2026
A7: Orçamento: Recuperação e/ou Reforço Estrutural de Obras de Arte Especiais (Pontes, Viadutos, Passarelas e Afins) Sob Jurisdição do Departamento de Estradas de Rodagem do Estado de Pernambuco | I7: Rodovia:
A8: Trecho: Do 1º ao 8 Distrito rodoviário | I8: Extensão:
A9: BDI: 23,89 % (Geral) e 17,51% (Diferenciado) | G9: Data Base: JAN/2026 | I9: Preço Total: | J9: =VALOR_TOTAL -> 1.1804708e+08
A11: ITEM | B11: CÓDIGO | C11: FONTE | D11: DESCRIÇÃO | E11: UND. | F11: QUANT. | G11: PREÇO UNITÁRIO SEM BDI R$ | H11: BDI | I11: PREÇO UNITÁRIO COM BDI R$ | J11: PREÇO TOTAL R$
A12: 1 | C12: INSTALAÇÃO DO CANTEIRO DA OBRAS | I12: =IFERROR(ROUND(IF(G12="","",G12*(1+H12)),2),"") | J12: =SUM(J13:J14) -> 1527958.1
A13: 1.1 | B13: CANTEIRO | C13: Canteiro de Obras - Principal | D13: COMP | E13: und | F13: 7 | G13: ='CP004 - CANTEIRO PRINCIPAL'!D152 -> 130033.23 | H13: ='BDI_SEM DESON.'!$B$45 -> 0.2389 | I13: =IFERROR(ROUND(IF(G13="","",G13*(1+H13)),2),"") -> 161098.17 | J13: =TRUNC(F13*I13,2) -> 1127687.2
A14: 1.2 | B14: CANTEIRO | C14: Canteiro de Obras - Canteiros de apoio | D14: COMP | E14: und | F14: 10 | G14: ='CP003 - CANTEIRO DE APOIO'!D157 -> 32308.575 | H14: ='BDI_SEM DESON.'!$B$45 -> 0.2389 | I14: =IFERROR(ROUND(IF(G14="","",G14*(1+H14)),2),"") -> 40027.09 | J14: =TRUNC(F14*I14,2) -> 400270.9
A15: 2 | C15: ADMINISTRAÇÃO LOCAL DA OBRA | I15: =IFERROR(ROUND(IF(G15="","",G15*(1+H15)),2),"") | J15: =ROUND(J16,2) -> 3354057.8
A16: 2.1 | B16: ADM | C16: Administração Local da Obra | D16: COMP | E16: und | F16: 1 | G16: ='CP001 - Adm Local'!I224 -> 2707286.9 | H16: ='BDI_SEM DESON.'!$B$45 -> 0.2389 | I16: =IFERROR(ROUND(IF(G16="","",G16*(1+H16)),2),"") -> 3354057.8 | J16: =TRUNC(F16*I16,2) -> 3354057.8
A17: 3 | C17: MOBILIZAÇÃO E DESMOBILIZAÇÃO | I17: =IFERROR(ROUND(IF(G17="","",G17*(1+H17)),2),"") | J17: =ROUND(SUM(J18:J18),2) -> 100419.5
A18: 3.1 | B18: MOB/DESM | C18: Mobilização e Mesmobilização | D18: COMP | E18: und | F18: 1 | G18: ='CP002 - Mob. e Desmob'!P135 -> 81055.37 | H18: ='BDI_SEM DESON.'!$B$45 -> 0.2389 | I18: =IFERROR(ROUND(IF(G18="","",G18*(1+H18)),2),"") -> 100419.5 | J18: =TRUNC(F18*I18,2) -> 100419.5
A19: 4 | C19: INFRAESTRUTURA | I19: =IFERROR(ROUND(IF(G19="","",G19*(1+H19)),2),"") | J19: =ROUND(SUM(J20:J39),2) -> 31402267
A20: 4.1 | B20: 4805767 | C20: Escavação manual em material de 2ª categoria na profundidade de 1 a 2 m | D20: SICRO | E20: m³ | F20: 5760 | G20: 83.28 | H20: ='BDI_SEM DESON.'!$B$45 -> 0.2389 | I20: =IFERROR(ROUND(IF(G20="","",G20*(1+H20)),2),"") -> 103.18 | J20: =TRUNC(F20*I20,2) -> 594316.8
A21: 4.2 | B21: 4815671 | C21: Reaterro e compactação com soquete vibratório | D21: SICRO | E21: m³ | F21: 5760 | G21: 19.34 | H21: ='BDI_SEM DESON.'!$B$45 -> 0.2389 | I21: =IFERROR(ROUND(IF(G21="","",G21*(1+H21)),2),"") -> 23.96 | J21: =TRUNC(F21*I21,2) -> 138009.6
A22: 4.3 | B22: 1505879 | C22: Enrocamento de pedra arrumada manualmente - pedra de mão comercial - fornecimento e assentamento | D22: SICRO | E22: m³ | F22: 62989.24 | G22: 272.35 | H22: ='BDI_SEM DESON.'!$B$45 -> 0.2389 | I22: =IFERROR(ROUND(IF(G22="","",G22*(1+H22)),2),"") -> 337.41 | J22: =TRUNC(F22*I22,2) -> 21253199
A23: 4.4 | B23: 3806415 | C23: Demolição controlada de concreto com martelete | D23: SICRO | E23: m³ | F23: 960 | G23: 723.71 | H23: ='BDI_SEM DESON.'!$B$45 -> 0.2389 | I23: =IFERROR(ROUND(IF(G23="","",G23*(1+H23)),2),"") -> 896.6 | J23: =TRUNC(F23*I23,2) -> 860736
A24: 4.5 | B24: 3806414 | C24: Remoção de concreto com jateamento d'água sob alta pressão | D24: SICRO | E24: m³ | F24: 480 | G24: 882.27 | H24: ='BDI_SEM DESON.'!$B$45 -> 0.2389 | I24: =IFERROR(ROUND(IF(G24="","",G24*(1+H24)),2),"") -> 1093.04 | J24: =TRUNC(F24*I24,2) -> 524659.2
A25: 4.6 | B25: 3806413 | C25: Apicoamento mecanizado de concreto | D25: SICRO | E25: m² | F25: 9600 | G25: 24.87 | H25: ='BDI_SEM DESON.'!$B$45 -> 0.2389 | I25: =IFERROR(ROUND(IF(G25="","",G25*(1+H25)),2),"") -> 30.81 | J25: =TRUNC(F25*I25,2) -> 295776
A26: 4.7 | B26: 4915639 | C26: Limpeza em superfície de concreto com escova de aço | D26: SICRO | E26: m² | F26: 9600 | G26: 4.75 | H26: ='BDI_SEM DESON.'!$B$45 -> 0.2389 | I26: =IFERROR(ROUND(IF(G26="","",G26*(1+H26)),2),"") -> 5.88 | J26: =TRUNC(F26*I26,2) -> 56448
A27: 4.8 | B27: 407819 | C27: Armação em aço CA-50 - fornecimento, preparo e colocação | D27: SICRO | E27: kg | F27: 96000 | G27: 12.59 | H27: ='BDI_SEM DESON.'!$B$45 -> 0.2389 | I27: =IFERROR(ROUND(IF(G27="","",G27*(1+H27)),2),"") -> 15.6 | J27: =TRUNC(F27*I27,2) -> 1497600
A28: 4.9 | B28: 2419703 | C28: Pintura com tinta anticorrosiva à base de epóxi poliamida de dois componentes com pistola a ar comprimido, uma demão, espessura de 150 µm | D28: SICRO | E28: m² | F28: 9600 | G28: 14.69 | H28: ='BDI_SEM DESON.'!$B$45 -> 0.2389 | I28: =IFERROR(ROUND(IF(G28="","",G28*(1+H28)),2),"") -> 18.2 | J28: =TRUNC(F28*I28,2) -> 174720
A29: 4.10 | B29: 3806402 | C29: Limpeza em superfície de concreto com jateamento d'água sob pressão | D29: SICRO | E29: m² | F29: 9600 | G29: 2.87 | H29: ='BDI_SEM DESON.'!$B$45 -> 0.2389 | I29: =IFERROR(ROUND(IF(G29="","",G29*(1+H29)),2),"") -> 3.56 | J29: =TRUNC(F29*I29,2) -> 34176
A30: 4.11 | B30: 2407972 | C30: Fornecimento e aplicação de adesivo estrutural à base de resina epóxi | D30: SICRO | E30: kg | F30: 19286.4 | G30: 70.74 | H30: ='BDI_SEM DESON.'!$B$45 -> 0.2389 | I30: =IFERROR(ROUND(IF(G30="","",G30*(1+H30)),2),"") -> 87.64 | J30: =TRUNC(F30*I30,2) -> 1690260.1
A31: 4.12 | B31: 3108015 | C31: Fôrmas de compensado plastificado 14 mm - uso geral - utilização de 1 vez - confecção, instalação e retirada | D31: SICRO | E31: m² | F31: 10560 | G31: 178.74 | H31: ='BDI_SEM DESON.'!$B$45 -> 0.2389 | I31: =IFERROR(ROUND(IF(G31="","",G31*(1+H31)),2),"") -> 221.44 | J31: =TRUNC(F31*I31,2) -> 2338406.4
... A39: 4.20 | B39: 3808043 | C39: Pintura manual com nata de cimento - 3 demãos | D39: SICRO | E39: m² | F39: 9600 | G39: 4.76 | H39: ='BDI_SEM DESON.'!$B$45 -> 0.2389 | I39: =IFERROR(ROUND(IF(G39="","",G39*(1+H39)),2),"") -> 5.9 | J39: =TRUNC(F39*I39,2) -> 56640
A40: 5 | C40: MESOESTRUTURA | I40: =IFERROR(ROUND(IF(G40="","",G40*(1+H40)),2),"") | J40: =ROUND(SUM(J41:J62),2) -> 24742462
A41: 5.1 | B41: 3806415 | C41: Demolição controlada de concreto com martelete | D41: SICRO | E41: m³ | F41: 1920 | G41: 723.71 | H41: ='BDI_SEM DESON.'!$B$45 -> 0.2389 | I41: =IFERROR(ROUND(IF(G41="","",G41*(1+H41)),2),"") -> 896.6 | J41: =TRUNC(F41*I41,2) -> 1721472
A42: 5.2 | B42: 3806414 | C42: Remoção de concreto com jateamento d'água sob alta pressão | D42: SICRO | E42: m³ | F42: 960 | G42: 882.27 | H42: ='BDI_SEM DESON.'!$B$45 -> 0.2389 | I42: =IFERROR(ROUND(IF(G42="","",G42*(1+H42)),2),"") -> 1093.04 | J42: =TRUNC(F42*I42,2) -> 1049318.4
A43: 5.3 | B43: 3806413 | C43: Apicoamento mecanizado de concreto | D43: SICRO | E43: m² | F43: 19200 | G43: 24.87 | H43: ='BDI_SEM DESON.'!$B$45 -> 0.2389 | I43: =IFERROR(ROUND(IF(G43="","",G43*(1+H43)),2),"") -> 30.81 | J43: =TRUNC(F43*I43,2) -> 591552
A44: 5.4 | B44: 4915639 | C44: Limpeza em superfície de concreto com escova de aço | D44: SICRO | E44: m² | F44: 19200 | G44: 4.75 | H44: ='BDI_SEM DESON.'!$B$45 -> 0.2389 | I44: =IFERROR(ROUND(IF(G44="","",G44*(1+H44)),2),"") -> 5.88 | J44: =TRUNC(F44*I44,2) -> 112896
A45: 5.5 | B45: 407819 | C45: Armação em aço CA-50 - fornecimento, preparo e colocação | D45: SICRO | E45: kg | F45: 192000 | G45: 12.59 | H45: ='BDI_SEM DESON.'!$B$45 -> 0.2389 | I45: =IFERROR(ROUND(IF(G45="","",G45*(1+H45)),2),"") -> 15.6 | J45: =TRUNC(F45*I45,2) -> 2995200
A46: 5.6 | B46: 1608019 | C46: Perfuração em concreto com martelete elétrico - D = 10 mm | D46: SICRO | E46: m | F46: 3840 | G46: 20.99 | H46: ='BDI_SEM DESON.'!$B$45 -> 0.2389 | I46: =IFERROR(ROUND(IF(G46="","",G46*(1+H46)),2),"") -> 26 | J46: =TRUNC(F46*I46,2) -> 99840
A47: 5.7 | B47: 1608025 | C47: Perfuração em concreto com martelete elétrico - D = 14 mm | D47: SICRO | E47: m | F47: 3840 | G47: 40.3 | H47: ='BDI_SEM DESON.'!$B$45 -> 0.2389 | I47: =IFERROR(ROUND(IF(G47="","",G47*(1+H47)),2),"") -> 49.93 | J47: =TRUNC(F47*I47,2) -> 191731.2
A48: 5.8 | B48: 2407972 | C48: Fornecimento e aplicação de adesivo estrutural à base de resina epóxi | D48: SICRO | E48: kg | F48: 38803.2 | G48: 70.74 | H48: ='BDI_SEM DESON.'!$B$45 -> 0.2389 | I48: =IFERROR(ROUND(IF(G48="","",G48*(1+H48)),2),"") -> 87.64 | J48: =TRUNC(F48*I48,2) -> 3400712.4
A49: 5.9 | B49: 2419703 | C49: Pintura com tinta anticorrosiva à base de epóxi poliamida de dois componentes com pistola a ar comprimido, uma demão, espessura de 150 µm | D49: SICRO | E49: m² | F49: 19200 | G49: 14.69 | H49: ='BDI_SEM DESON.'!$B$45 -> 0.2389 | I49: =IFERROR(ROUND(IF(G49="","",G49*(1+H49)),2),"") -> 18.2 | J49: =TRUNC(F49*I49,2) -> 349440
A50: 5.10 | B50: 3806402 | C50: Limpeza em superfície de concreto com jateamento d'água sob pressão | D50: SICRO | E50: m² | F50: 19200 | G50: 2.87 | H50: ='BDI_SEM DESON.'!$B$45 -> 0.2389 | I50: =IFERROR(ROUND(IF(G50="","",G50*(1+H50)),2),"") -> 3.56 | J50: =TRUNC(F50*I50,2) -> 68352
A51: 5.11 | B51: 3108015 | C51: Fôrmas de compensado plastificado 14 mm - uso geral - utilização de 1 vez - confecção, instalação e retirada | D51: SICRO | E51: m² | F51: 21120 | G51: 178.74 | H51: ='BDI_SEM DESON.'!$B$45 -> 0.2389 | I51: =IFERROR(ROUND(IF(G51="","",G51*(1+H51)),2),"") -> 221.44 | J51: =TRUNC(F51*I51,2) -> 4676812.8
...

Sheet COMPOSIÇÕES
C1: Composições Analíticas com Preço Unitário | E1: Bancos | G1: B.D.I. | I1: Encargos Sociais
C2: RECUPERAÇÃO E/OU REFORÇO ESTRUTURAL DE OAEs 1° a 8° DISTRITO RODOVIÁRIO | E2: SINAPI - 01/2026 - Pernambuco SICRO3 - 01/2026 - Pernambuco | G2: 23,89% | I2: Não Desonerado: embutido nos preços unitário dos insumos de mão de obra, de acordo com as bases.
A3: Composições Analíticas com Preço Unitário
A4: Composições Principais
A5: 1.1 | B5: Código | C5: Banco | D5: Descrição | E5: Tipo | G5: Und | H5: Quant. | I5: Valor Unit | J5: Total
A6: Composição | B6: CANT.01 | C6: Próprio | D6: Canteiro de Obras - Principal | G6: un | H6: 1 | I6: 130033.23 | J6: 130033.23
A7: Insumo | B7: CP0001 | C7: Próprio | D7: INSTALAÇÃO DO CANTEIRO DE OBRAS | E7: Outros | G7: UN | H7: 130033.23 | I7: 1 | J7: 130033.23
E8: MO sem LS => | F8: 0 | G8: LS => | H8: 0 | I8: MO com LS => | J8: 0
E9: Valor do BDI => | F9: 31064.94 | H9: Valor com BDI => | J9: 161098.17
A11: 1.2 | B11: Código | C11: Banco | D11: Descrição | E11: Tipo | G11: Und | H11: Quant. | I11: Valor Unit | J11: Total
A12: Composição | B12: CANT.02 | C12: Próprio | D12: Canteiro de Obras - Canteiros de apoio | G12: un | H12: 1 | I12: 32308.57 | J12: 32308.57
A13: Insumo | B13: CANT.02 | C13: Próprio | D13: Canteiro de Obras - Canteiros de apoio | E13: Serviços | G13: un | H13: 1 | I13: 32308.57 | J13: 32308.57
E14: MO sem LS => | F14: 0 | G14: LS => | H14: 0 | I14: MO com LS => | J14: 0
E15: Valor do BDI => | F15: 7718.52 | H15: Valor com BDI => | J15: 40027.09
A17: 2.1 | B17: Código | C17: Banco | D17: Descrição | E17: Tipo | G17: Und | H17: Quant. | I17: Valor Unit | J17: Total
A18: Composição | B18: ADM.02 | C18: Próprio | D18: ADMINISTRAÇÃO LOCAL DA OBRA | G18: un | H18: 1 | I18: 2707286.9 | J18: 2707286.9
A19: Insumo | B19: ADM.01 | C19: Próprio | D19: ADMINISTRAÇÃO LOCAL DA OBRA | E19: Serviços | G19: un | H19: 1 | I19: 2707286.9 | J19: 2707286.9
E20: MO sem LS => | F20: 0 | G20: LS => | H20: 0 | I20: MO com LS => | J20: 0
E21: Valor do BDI => | F21: 646770.85 | H21: Valor com BDI => | J21: 3354057.8
A23: 3.1 | B23: Código | C23: Banco | D23: Descrição | E23: Tipo | G23: Und | H23: Quant. | I23: Valor Unit | J23: Total
A24: Composição | B24: MOB.02 | C24: Próprio | D24: Mobilização e desmobilização | G24: un | H24: 1 | I24: 81055.37 | J24: 81055.37
A25: Insumo | B25: MOB.01 | C25: Próprio | D25: MOBILIZAÇÃO E DESMOBILIZAÇÃO DA OBRA | E25: Serviços | G25: un | H25: 1 | I25: 81055.37 | J25: 81055.37
E26: MO sem LS => | F26: 0 | G26: LS => | H26: 0 | I26: MO com LS => | J26: 0
E27: Valor do BDI => | F27: 19364.13 | H27: Valor com BDI => | J27: 100419.5
A29: 4.1 | B29: Código | C29: Banco | D29: Descrição | E29: Tipo | G29: Und | H29: Quant. | I29: Valor Unit | J29: Total
A30: Composição | B30: 4805767 | C30: SICRO3 | D30: Escavação manual em material de 2ª categoria na profundidade de 1 a 2 m | G30: m³ | H30: 1 | I30: 83.28 | J30: 83.28
A31: B | B31: Código | C31: Banco | D31: Mão de Obra | E31: Quantidade | F31: Custo Horário | J31: Custo Horário Total
A32: Insumo | B32: P9824 | C32: SICRO3 | D32: Servente | E32: 1 | I32: 23,45 | J32: 23,45
F33: Adicional de Mão de obra (%) | J33: 0
F34: Custo horário total de mão de obra | J34: 23.4491
F35: Custo horário total de execução | J35: 23.4491
F36: Produção de equipe | J36: 0.28571
F37: Custo unitário de execução | J37: 82.0731
F38: Custo do FIC | J38: 1.2057
F39: Custo do FIT | J39: 0
A40: F | B40: Momento de Transporte | C40: Banco | D40: Descrição | E40: Quantidade | F40: Distância Média de Transporte (DMT) | J40: Custo Horário
F41: LN | G41: RP | H41: P | I41: FE
F42: Custo do FIT | J42: 0
F43: Custo total de transporte | J43: 0
E44: MO sem LS => | F44: 82.07 | G44: LS => | H44: 0 | I44: MO com LS => | J44: 82.07
...

Sheet CRONOGRAMA 
B1: DEPARTAMENTO DE ESTRADAS DE RODAGEM DE PERNAMBUCO DIRETORIA DE PLANEJAMENTO E PROJETOS RELATÓRIO SINTÉTICO DO ORÇAMENTO
B4: Setor: DIRETORIA DE PLANEJAMENTO E PROJETOS
A6: Serviço: Recuperação e/ou Reforço Estrutural de OAEs | N6: Ano: 2026
A7: Orçamento: Recuperação e/ou Reforço Estrutural de Obras de Arte Especiais (Pontes, Viadutos, Passarelas e Afins) Sob Jurisdição do Departamento de Estradas de Rodagem do Estado de Pernambuco | N7: Rodovia:
A8: Trecho: Do 1º ao 8 Distrito rodoviário | N8: Extensão:
A9: ='ORÇAMENTO_SEM DESONERAÇÃO'!A9 -> BDI: 23,89 % (Geral) e 17,51% (Diferenciado) | K9: Data Base: JAN-2026 | N9: Preço Total: | O9: =VALOR_TOTAL -> 1.1804708e+08
A11: CRONOGRAMA FÍSICO-FINANCEIRO
A12: ITEM | B12: DISCRIMINAÇÃO | C12: PREÇO TOTAL (R$) | D12: MESES
D13: 1 | E13: 2 | F13: 3 | G13: 4 | H13: 5 | I13: 6 | J13: 7 | K13: 8 | L13: 9 | M13: 10 | N13: 11 | O13: 12
A14: 1 | B14: =VLOOKUP(A14,'ORÇAMENTO_SEM DESONERAÇÃO'!$A$12:$J$128,3,0) -> INSTALAÇÃO DO CANTEIRO DA OBRAS | C14: =VLOOKUP(A14,'ORÇAMENTO_SEM DESONERAÇÃO'!$A$12:$J$128,10,0) -> 1527958.1 | D14: =1/12 -> 0.083333333 | E14: =1/12 -> 0.083333333 | F14: =1/12 -> 0.083333333 | G14: =1/12 -> 0.083333333 | H14: =1/12 -> 0.083333333 | I14: =1/12 -> 0.083333333 | J14: =1/12 -> 0.083333333 | K14: =1/12 -> 0.083333333 | ... O14: =1/12 -> 0.083333333
D16: =D14*$C$14 -> 127329.84 | E16: =E14*$C$14 -> 127329.84 | F16: =F14*$C$14 -> 127329.84 | G16: =G14*$C$14 -> 127329.84 | H16: =H14*$C$14 -> 127329.84 | I16: =I14*$C$14 -> 127329.84 | J16: =J14*$C$14 -> 127329.84 | K16: =K14*$C$14 -> 127329.84 | ... O16: =O14*$C$14 -> 127329.84
A17: 2 | B17: =VLOOKUP(A17,'ORÇAMENTO_SEM DESONERAÇÃO'!$A$12:$J$128,3,0) -> ADMINISTRAÇÃO LOCAL DA OBRA | C17: =VLOOKUP(A17,'ORÇAMENTO_SEM DESONERAÇÃO'!$A$12:$J$128,10,0) -> 3354057.8 | D17: =1/12 -> 0.083333333 | E17: =1/12 -> 0.083333333 | F17: =1/12 -> 0.083333333 | G17: =1/12 -> 0.083333333 | H17: =1/12 -> 0.083333333 | I17: =1/12 -> 0.083333333 | J17: =1/12 -> 0.083333333 | K17: =1/12 -> 0.083333333 | ... O17: =1/12 -> 0.083333333
D19: =D17*$C$17 -> 279504.82 | E19: =E17*$C$17 -> 279504.82 | F19: =F17*$C$17 -> 279504.82 | G19: =G17*$C$17 -> 279504.82 | H19: =H17*$C$17 -> 279504.82 | I19: =I17*$C$17 -> 279504.82 | J19: =J17*$C$17 -> 279504.82 | K19: =K17*$C$17 -> 279504.82 | ... O19: =O17*$C$17 -> 279504.82
A20: 3 | B20: =VLOOKUP(A20,'ORÇAMENTO_SEM DESONERAÇÃO'!$A$12:$J$128,3,0) -> MOBILIZAÇÃO E DESMOBILIZAÇÃO | C20: =VLOOKUP(A20,'ORÇAMENTO_SEM DESONERAÇÃO'!$A$12:$J$128,10,0) -> 100419.5 | D20: =1/12 -> 0.083333333 | E20: =1/12 -> 0.083333333 | F20: =1/12 -> 0.083333333 | G20: =1/12 -> 0.083333333 | H20: =1/12 -> 0.083333333 | I20: =1/12 -> 0.083333333 | J20: =1/12 -> 0.083333333 | K20: =1/12 -> 0.083333333 | ... O20: =1/12 -> 0.083333333
D22: =D20*$C$20 -> 8368.2917 | E22: =E20*$C$20 -> 8368.2917 | F22: =F20*$C$20 -> 8368.2917 | G22: =G20*$C$20 -> 8368.2917 | H22: =H20*$C$20 -> 8368.2917 | I22: =I20*$C$20 -> 8368.2917 | J22: =J20*$C$20 -> 8368.2917 | K22: =K20*$C$20 -> 8368.2917 | ... O22: =O20*$C$20 -> 8368.2917
A23: 4 | B23: =VLOOKUP(A23,'ORÇAMENTO_SEM DESONERAÇÃO'!$A$12:$J$128,3,0) -> INFRAESTRUTURA | C23: =VLOOKUP(A23,'ORÇAMENTO_SEM DESONERAÇÃO'!$A$12:$J$128,10,0) -> 31402267 | D23: =1/12 -> 0.083333333 | E23: =1/12 -> 0.083333333 | F23: =1/12 -> 0.083333333 | G23: =1/12 -> 0.083333333 | H23: =1/12 -> 0.083333333 | I23: =1/12 -> 0.083333333 | J23: =1/12 -> 0.083333333 | K23: =1/12 -> 0.083333333 | ... O23: =1/12 -> 0.083333333
D25: =D23*$C$23 -> 2616855.6 | E25: =E23*$C$23 -> 2616855.6 | F25: =F23*$C$23 -> 2616855.6 | G25: =G23*$C$23 -> 2616855.6 | H25: =H23*$C$23 -> 2616855.6 | I25: =I23*$C$23 -> 2616855.6 | J25: =J23*$C$23 -> 2616855.6 | K25: =K23*$C$23 -> 2616855.6 | ... O25: =O23*$C$23 -> 2616855.6
A26: 5 | B26: =VLOOKUP(A26,'ORÇAMENTO_SEM DESONERAÇÃO'!$A$12:$J$128,3,0) -> MESOESTRUTURA | C26: =VLOOKUP(A26,'ORÇAMENTO_SEM DESONERAÇÃO'!$A$12:$J$128,10,0) -> 24742462 | D26: =1/12 -> 0.083333333 | E26: =1/12 -> 0.083333333 | F26: =1/12 -> 0.083333333 | G26: =1/12 -> 0.083333333 | H26: =1/12 -> 0.083333333 | I26: =1/12 -> 0.083333333 | J26: =1/12 -> 0.083333333 | K26: =1/12 -> 0.083333333 | ... O26: =1/12 -> 0.083333333
D28: =D26*$C$26 -> 2061871.8 | E28: =E26*$C$26 -> 2061871.8 | F28: =F26*$C$26 -> 2061871.8 | G28: =G26*$C$26 -> 2061871.8 | H28: =H26*$C$26 -> 2061871.8 | I28: =I26*$C$26 -> 2061871.8 | J28: =J26*$C$26 -> 2061871.8 | K28: =K26*$C$26 -> 2061871.8 | ... O28: =O26*$C$26 -> 2061871.8
A29: 6 | B29: =VLOOKUP(A29,'ORÇAMENTO_SEM DESONERAÇÃO'!$A$12:$J$128,3,0) -> TABULEIRO | C29: =VLOOKUP(A29,'ORÇAMENTO_SEM DESONERAÇÃO'!$A$12:$J$128,10,0) -> 32381288 | D29: =1/12 -> 0.083333333 | E29: =1/12 -> 0.083333333 | F29: =1/12 -> 0.083333333 | G29: =1/12 -> 0.083333333 | H29: =1/12 -> 0.083333333 | I29: =1/12 -> 0.083333333 | J29: =1/12 -> 0.083333333 | K29: =1/12 -> 0.083333333 | ... O29: =1/12 -> 0.083333333
D31: =D29*$C$29 -> 2698440.7 | E31: =E29*$C$29 -> 2698440.7 | F31: =F29*$C$29 -> 2698440.7 | G31: =G29*$C$29 -> 2698440.7 | H31: =H29*$C$29 -> 2698440.7 | I31: =I29*$C$29 -> 2698440.7 | J31: =J29*$C$29 -> 2698440.7 | K31: =K29*$C$29 -> 2698440.7 | ... O31: =O29*$C$29 -> 2698440.7
A32: 7 | B32: =VLOOKUP(A32,'ORÇAMENTO_SEM DESONERAÇÃO'!$A$12:$J$128,3,0) -> JUNTA DE DILATAÇÃO | C32: =VLOOKUP(A32,'ORÇAMENTO_SEM DESONERAÇÃO'!$A$12:$J$128,10,0) -> 1903177 | D32: =1/12 -> 0.083333333 | E32: =1/12 -> 0.083333333 | F32: =1/12 -> 0.083333333 | G32: =1/12 -> 0.083333333 | H32: =1/12 -> 0.083333333 | I32: =1/12 -> 0.083333333 | J32: =1/12 -> 0.083333333 | K32: =1/12 -> 0.083333333 | ... O32: =1/12 -> 0.083333333
D34: =D32*$C$32 -> 158598.08 | E34: =E32*$C$32 -> 158598.08 | F34: =F32*$C$32 -> 158598.08 | G34: =G32*$C$32 -> 158598.08 | H34: =H32*$C$32 -> 158598.08 | I34: =I32*$C$32 -> 158598.08 | J34: =J32*$C$32 -> 158598.08 | K34: =K32*$C$32 -> 158598.08 | ... O34: =O32*$C$32 -> 158598.08
A35: 8 | B35: =VLOOKUP(A35,'ORÇAMENTO_SEM DESONERAÇÃO'!$A$12:$J$128,3,0) -> ELEMENTOS DIVERSOS | C35: =VLOOKUP(A35,'ORÇAMENTO_SEM DESONERAÇÃO'!$A$12:$J$128,10,0) -> 2245887.2 | D35: =1/12 -> 0.083333333 | E35: =1/12 -> 0.083333333 | F35: =1/12 -> 0.083333333 | G35: =1/12 -> 0.083333333 | H35: =1/12 -> 0.083333333 | I35: =1/12 -> 0.083333333 | J35: =1/12 -> 0.083333333 | K35: =1/12 -> 0.083333333 | ... O35: =1/12 -> 0.083333333
D37: =D35*$C$35 -> 187157.27 | E37: =E35*$C$35 -> 187157.27 | F37: =F35*$C$35 -> 187157.27 | G37: =G35*$C$35 -> 187157.27 | H37: =H35*$C$35 -> 187157.27 | I37: =I35*$C$35 -> 187157.27 | J37: =J35*$C$35 -> 187157.27 | K37: =K35*$C$35 -> 187157.27 | ... O37: =O35*$C$35 -> 187157.27
A38: 9 | B38: =VLOOKUP(A38,'ORÇAMENTO_SEM DESONERAÇÃO'!$A$12:$J$128,3,0) -> TRATAMENTO DE FISSURAS | C38: =VLOOKUP(A38,'ORÇAMENTO_SEM DESONERAÇÃO'!$A$12:$J$128,10,0) -> 479605 | D38: =1/12 -> 0.083333333 | E38: =1/12 -> 0.083333333 | F38: =1/12 -> 0.083333333 | G38: =1/12 -> 0.083333333 | H38: =1/12 -> 0.083333333 | I38: =1/12 -> 0.083333333 | J38: =1/12 -> 0.083333333 | K38: =1/12 -> 0.083333333 | ... O38: =1/12 -> 0.083333333
D40: =D38*$C$38 -> 39967.083 | E40: =E38*$C$38 -> 39967.083 | F40: =F38*$C$38 -> 39967.083 | G40: =G38*$C$38 -> 39967.083 | H40: =H38*$C$38 -> 39967.083 | I40: =I38*$C$38 -> 39967.083 | J40: =J38*$C$38 -> 39967.083 | K40: =K38*$C$38 -> 39967.083 | ... O40: =O38*$C$38 -> 39967.083
A41: 10 | B41: =VLOOKUP(A41,'ORÇAMENTO_SEM DESONERAÇÃO'!$A$12:$J$128,3,0) -> PLATAFORMA DE TRABALHO | C41: =VLOOKUP(A41,'ORÇAMENTO_SEM DESONERAÇÃO'!$A$12:$J$128,10,0) -> 8636052 | D41: =1/12 -> 0.083333333 | E41: =1/12 -> 0.083333333 | F41: =1/12 -> 0.083333333 | G41: =1/12 -> 0.083333333 | H41: =1/12 -> 0.083333333 | I41: =1/12 -> 0.083333333 | J41: =1/12 -> 0.083333333 | K41: =1/12 -> 0.083333333 | ... O41: =1/12 -> 0.083333333
D43: =D41*$C$41 -> 719671 | E43: =E41*$C$41 -> 719671 | F43: =F41*$C$41 -> 719671 | G43: =G41*$C$41 -> 719671 | H43: =H41*$C$41 -> 719671 | I43: =I41*$C$41 -> 719671 | J43: =J41*$C$41 -> 719671 | K43: =K41*$C$41 -> 719671 | ... O43: =O41*$C$41 -> 719671
A44: 11 | B44: =VLOOKUP(A44,'ORÇAMENTO_SEM DESONERAÇÃO'!$A$12:$J$128,3,0) -> TRANSPORTES | C44: =VLOOKUP(A44,'ORÇAMENTO_SEM DESONERAÇÃO'!$A$12:$J$128,10,0) -> 2829956.1 | D44: =1/12 -> 0.083333333 | E44: =1/12 -> 0.083333333 | F44: =1/12 -> 0.083333333 | G44: =1/12 -> 0.083333333 | H44: =1/12 -> 0.083333333 | I44: =1/12 -> 0.083333333 | J44: =1/12 -> 0.083333333 | K44: =1/12 -> 0.083333333 | ... O44: =1/12 -> 0.083333333
D46: =D44*$C$44 -> 235829.67 | E46: =E44*$C$44 -> 235829.67 | F46: =F44*$C$44 -> 235829.67 | G46: =G44*$C$44 -> 235829.67 | H46: =H44*$C$44 -> 235829.67 | I46: =I44*$C$44 -> 235829.67 | J46: =J44*$C$44 -> 235829.67 | K46: =K44*$C$44 -> 235829.67 | ... O46: =O44*$C$44 -> 235829.67
A47: 12 | B47: =VLOOKUP(A47,'ORÇAMENTO_SEM DESONERAÇÃO'!$A$12:$J$128,3,0) -> PAVIMENTAÇÃO | C47: =VLOOKUP(A47,'ORÇAMENTO_SEM DESONERAÇÃO'!$A$12:$J$128,10,0) -> 8443949.2 | D47: =1/12 -> 0.083333333 | E47: =1/12 -> 0.083333333 | F47: =1/12 -> 0.083333333 | G47: =1/12 -> 0.083333333 | H47: =1/12 -> 0.083333333 | I47: =1/12 -> 0.083333333 | J47: =1/12 -> 0.083333333 | K47: =1/12 -> 0.083333333 | ... O47: =1/12 -> 0.083333333
D49: =D47*$C$47 -> 703662.44 | E49: =E47*$C$47 -> 703662.44 | F49: =F47*$C$47 -> 703662.44 | G49: =G47*$C$47 -> 703662.44 | H49: =H47*$C$47 -> 703662.44 | I49: =I47*$C$47 -> 703662.44 | J49: =J47*$C$47 -> 703662.44 | K49: =K47*$C$47 -> 703662.44 | ... O49: =O47*$C$47 -> 703662.44
A50: DESEMBOLSO MENSAL (R$) | C50: PARCIAL | D50: =D16+D19+D22+D25+D28+D31+D34+D37+D40+D43+D46+D49 -> 9837256.6 | E50: =E16+E19+E22+E25+E28+E31+E34+E37+E40+E43+E46+E49 -> 9837256.6 | F50: =F16+F19+F22+F25+F28+F31+F34+F37+F40+F43+F46+F49 -> 9837256.6 | G50: =G16+G19+G22+G25+G28+G31+G34+G37+G40+G43+G46+G49 -> 9837256.6 | H50: =H16+H19+H22+H25+H28+H31+H34+H37+H40+H43+H46+H49 -> 9837256.6 | I50: =I16+I19+I22+I25+I28+I31+I34+I37+I40+I43+I46+I49 -> 9837256.6 | J50: =J16+J19+J22+J25+J28+J31+J34+J37+J40+J43+J46+J49 -> 9837256.6 | K50: =K16+K19+K22+K25+K28+K31+K34+K37+K40+K43+K46+K49 -> 9837256.6 | ... O50: =O16+O19+O22+O25+O28+O31+O34+O37+O40+O43+O46+O49 -> 9837256.6
C51: ACUMULADO | D51: =D50 -> 9837256.6 | E51: =E50+D51 -> 19674513 | F51: =F50+E51 -> 29511770 | G51: =G50+F51 -> 39349026 | H51: =H50+G51 -> 49186283 | I51: =I50+H51 -> 59023540 | J51: =J50+I51 -> 68860796 | K51: =K50+J51 -> 78698053 | L51: =L50+K51 -> 88535309 | ... O51: =O50+N51 -> 1.1804708e+08
A52: DESEMBOLSO MENSAL (%) | C52: PARCIAL | D52: =D50/$O$9 -> 0.083333333 | E52: =E50/$O$9 -> 0.083333333 | F52: =F50/$O$9 -> 0.083333333 | G52: =G50/$O$9 -> 0.083333333 | H52: =H50/$O$9 -> 0.083333333 | I52: =I50/$O$9 -> 0.083333333 | J52: =J50/$O$9 -> 0.083333333 | K52: =K50/$O$9 -> 0.083333333 | ... O52: =O50/$O$9 -> 0.083333333
C53: ACUMULADO | D53: =D52 -> 0.083333333 | E53: =E52+D53 -> 0.16666667 | F53: =F52+E53 -> 0.25 | G53: =G52+F53 -> 0.33333333 | H53: =H52+G53 -> 0.41666667 | I53: =I52+H53 -> 0.5 | J53: =J52+I53 -> 0.58333333 | K53: =K52+J53 -> 0.66666667 | L53: =L52+K53 -> 0.75 | ... O53: =O52+N53 -> 1

Sheet CURVA ABC
B1: DEPARTAMENTO DE ESTRADAS DE RODAGEM DE PERNAMBUCO DIRETORIA DE PLANEJAMENTO E PROJETOS RELATÓRIO SINTÉTICO DO ORÇAMENTO
B4: Setor: DIRETORIA DE PLANEJAMENTO E PROJETOS
A6: Serviço: Recuperação e/ou Reforço Estrutural de OAEs | J6: Ano: 2026
A7: Orçamento: Recuperação e/ou Reforço Estrutural de Obras de Arte Especiais (Pontes, Viadutos, Passarelas e Afins) Sob Jurisdição do Departamento de Estradas de Rodagem do Estado de Pernambuco | J7: Rodovia:
A8: Trecho: Do 1º ao 8 Distrito rodoviário | J8: Extensão:
A9: ='ORÇAMENTO_SEM DESONERAÇÃO'!A9 -> BDI: 23,89 % (Geral) e 17,51% (Diferenciado) | H9: Data Base: JAN/2026 | J9: Preço Total: | K9: =VALOR_TOTAL -> 1.1804708e+08
A11: CÓDIGO | B11: FONTE | C11: DESCRIÇÃO | D11: UND. | E11: QUANT. | F11: PREÇO UNITÁRIO SEM BDI R$ | G11: BDI | H11: PREÇO UNITÁRIO COM BDI R$ | I11: PREÇO TOTAL R$ | J11: % INDV. | K11: % ACUM.
A12: 1505879 | B12: Enrocamento de pedra arrumada manualmente - pedra de mão comercial - fornecimento e assentamento | C12: SICRO | D12: m³ | E12: 62989.24 | F12: 272.35 | G12: 0.2389 | H12: =ROUND(F12*(1+G12),2) -> 337.41 | I12: =TRUNC(H12*E12) -> 21253199 | J12: =I12/$I$90 -> 0.18004002 | K12: =J12 -> 0.18004002
A13: 3108015 | B13: Fôrmas de compensado plastificado 14 mm - uso geral - utilização de 1 vez - confecção, instalação e retirada | C13: SICRO | D13: m² | E13: 66880 | F13: 178.74 | G13: 0.2389 | H13: =ROUND(F13*(1+G13),2) -> 221.44 | I13: =TRUNC(H13*E13) -> 14809907 | J13: =I13/$I$90 -> 0.12545763 | K13: =K12+J13 -> 0.30549766
A14: 2407972 | B14: Fornecimento e aplicação de adesivo estrutural à base de resina epóxi | C14: SICRO | D14: kg | E14: 122761.6 | F14: 70.74 | G14: 0.2389 | H14: =ROUND(F14*(1+G14),2) -> 87.64 | I14: =TRUNC(H14*E14) -> 10758826 | J14: =I14/$I$90 -> 0.091140129 | K14: =K13+J14 -> 0.39663779
A15: 407819 | B15: Armação em aço CA-50 - fornecimento, preparo e colocação | C15: SICRO | D15: kg | E15: 608000 | F15: 12.59 | G15: 0.2389 | H15: =ROUND(F15*(1+G15),2) -> 15.6 | I15: =TRUNC(H15*E15) -> 9484800 | J15: =I15/$I$90 -> 0.080347604 | K15: =K14+J15 -> 0.47698539
A16: 1207723 | B16: Concreto projetado via seca fck = 40 MPa aplicado em superfícies inclinadas e verticais | C16: SICRO | D16: m³ | E16: 3744 | F16: 1437.15 | G16: 0.2389 | H16: =ROUND(F16*(1+G16),2) -> 1780.49 | I16: =TRUNC(H16*E16) -> 6666154 | J16: =I16/$I$90 -> 0.0564703 | K16: =K15+J16 -> 0.53345569
A17: 3806415 | B17: Demolição controlada de concreto com martelete | C17: SICRO | D17: m³ | E17: 6080 | F17: 723.71 | G17: 0.2389 | H17: =ROUND(F17*(1+G17),2) -> 896.6 | I17: =TRUNC(H17*E17) -> 5451328 | J17: =I17/$I$90 -> 0.046179271 | K17: =K16+J17 -> 0.57963496
A18: 3816197 | B18: Plataforma de trabalho em madeira apoiada no solo - altura de até 6 m - utilização de 5 vezes - confecção, instalação e retirada | C18: SICRO | D18: m³ | E18: 57600 | F18: 74.19 | G18: 0.2389 | H18: =ROUND(F18*(1+G18),2) -> 91.91 | I18: =TRUNC(H18*E18) -> 5294016 | J18: =I18/$I$90 -> 0.04484665 | K18: =K17+J18 -> 0.62448161
A19: ADM.02 | B19: ADMINISTRAÇÃO LOCAL DA OBRA | C19: Próprio | D19: un | E19: 1 | F19: 2707286.9 | G19: 0.2389 | H19: =ROUND(F19*(1+G19),2) -> 3354057.8 | I19: =TRUNC(H19*E19) -> 3354057 | J19: =I19/$I$90 -> 0.028412876 | K19: =K18+J19 -> 0.65289449
A20: 3806414 | B20: Remoção de concreto com jateamento d'água sob alta pressão | C20: SICRO | D20: m³ | E20: 3040 | F20: 882.27 | G20: 0.2389 | H20: =ROUND(F20*(1+G20),2) -> 1093.04 | I20: =TRUNC(H20*E20) -> 3322841 | J20: =I20/$I$90 -> 0.028148439 | K20: =K19+J20 -> 0.68104292
A21: 3806410 | B21: Plataforma de trabalho suspensa sob tabuleiro de pontes com treliças metálicas e tábuas - utilização de 100 vezes - confecção, instalação e retirada | C21: SICRO | D21: m² | E21: 32000 | F21: 67.75 | G21: 0.2389 | H21: =ROUND(F21*(1+G21),2) -> 83.94 | I21: =TRUNC(H21*E21) -> 2686080 | J21: =I21/$I$90 -> 0.022754311 | K21: =K20+J21 -> 0.70379724
A22: ANP.03 | B22: AQUISIÇÃO DE RR-2C | C22: Próprio | D22: T | E22: 212.928 | F22: 9971.66 | G22: 0.2389 | H22: =ROUND(F22*(1+G22),2) -> 12353.89 | I22: =TRUNC(H22*E22) -> 2630489 | J22: =I22/$I$90 -> 0.022283389 | K22: =K21+J22 -> 0.72608063
A23: 1207725 | B23: Concreto projetado via seca fck = 40 MPa via seca aplicado em teto | C23: SICRO | D23: m³ | E23: 960 | F23: 2156.66 | G23: 0.2389 | H23: =ROUND(F23*(1+G23),2) -> 2671.89 | I23: =TRUNC(H23*E23) -> 2565014 | J23: =I23/$I$90 -> 0.021728738 | K23: =K22+J23 -> 0.74780936
A24: 1109680 | B24: Argamassa para reparos e grauteamento - confecção em misturador e lançamento manual | C24: SICRO | D24: m³ | E24: 384 | F24: 3996.55 | G24: 0.2389 | H24: =ROUND(F24*(1+G24),2) -> 4951.33 | I24: =TRUNC(H24*E24) -> 1901310 | J24: =I24/$I$90 -> 0.016106371 | K24: =K23+J24 -> 0.76391573
A25: 3806413 | B25: Apicoamento mecanizado de concreto | C25: SICRO | D25: m² | E25: 60800 | F25: 24.87 | G25: 0.2389 | H25: =ROUND(F25*(1+G25),2) -> 30.81 | I25: =TRUNC(H25*E25) -> 1873248 | J25: =I25/$I$90 -> 0.015868652 | K25: =K24+J25 -> 0.77978439
A26: 5605945 | B26: Protensão de tirante permanente protendido de aço D = 32 mm, tensão de escoamento = 950 MPa e tensão de ruptura = 1.050 MPa - inclusive ancoragem e grauteamento da cabeça | C26: SICRO | D26: un | E26: 2400 | F26: 594.2 | G26: 0.2389 | H26: =ROUND(F26*(1+G26),2) -> 736.15 | I26: =TRUNC(H26*E26) -> 1766760 | J26: =I26/$I$90 -> 0.014966571 | K26: =K25+J26 -> 0.79475096
A27: 5605882 | B27: Tirante permanente protendido de aço D = 32 mm, tensão de escoamento = 950 MPa e tensão de ruptura = 1.050 MPa - exceto perfuração | C27: SICRO | D27: m | E27: 3600 | F27: 392.39 | G27: 0.2389 | H27: =ROUND(F27*(1+G27),2) -> 486.13 | I27: =TRUNC(H27*E27) -> 1750068 | J27: =I27/$I$90 -> 0.01482517 | K27: =K26+J27 -> 0.80957613
A28: 5914344 | B28: Transporte com caminhão basculante de 6 m³ - rodovia pavimentada | C28: SICRO | D28: tkm | E28: 1363440 | F28: 0.91 | G28: 0.2389 | H28: =ROUND(F28*(1+G28),2) -> 1.13 | I28: =TRUNC(H28*E28) -> 1540687 | J28: =I28/$I$90 -> 0.013051462 | K28: =K27+J28 -> 0.82262759
A29: 3815706 | B29: Recomposição de guarda-corpo com agregados comerciais - instalação | C29: SICRO | D29: m | E29: 8800 | F29: 134.47 | G29: 0.2389 | H29: =ROUND(F29*(1+G29),2) -> 166.59 | I29: =TRUNC(H29*E29) -> 1465992 | J29: =I29/$I$90 -> 0.012418706 | K29: =K28+J29 -> 0.8350463
A30: CPU 010 | B30: AQUISIÇÃO DE CIMENTO ASFÁLTICO CAP 50/70 | C30: Próprio | D30: T | E30: 292.8327 | F30: 3854.77 | G30: 0.2389 | H30: =ROUND(F30*(1+G30),2) -> 4775.67 | I30: =TRUNC(H30*E30) -> 1398472 | J30: =I30/$I$90 -> 0.011846731 | K30: =K29+J30 -> 0.84689303
A31: 5915433 | B31: Carga, manobra e descarga de material demolido em caminhão basculante de 6 m³ - carga manual e descarga livre | C31: SICRO | D31: t | E31: 27268.8 | F31: 38.16 | G31: 0.2389 | H31: =ROUND(F31*(1+G31),2) -> 47.28 | I31: =TRUNC(H31*E31) -> 1289268 | J31: =I31/$I$90 -> 0.010921643 | K31: =K30+J31 -> 0.85781467
A32: 4011463 | B32: Concreto asfáltico - faixa C-12,5 - areia e brita comerciais | C32: SICRO | D32: t | E32: 5177.38 | F32: 190.68 | G32: 0.2389 | H32: =ROUND(F32*(1+G32),2) -> 236.23 | I32: =TRUNC(H32*E32) -> 1223052 | J32: =I32/$I$90 -> 0.010360714 | K32: =K31+J32 -> 0.86817538
A33: CANT.04 | B33: Canteiro de Obras - Principal | C33: Próprio | D33: un | E33: 7 | F33: 130033.23 | G33: 0.2389 | H33: =ROUND(F33*(1+G33),2) -> 161098.17 | I33: =TRUNC(H33*E33) -> 1127687 | J33: =I33/$I$90 -> 0.0095528581 | K33: =K32+J33 -> 0.87772824
A34: 2419703 | B34: Pintura com tinta anticorrosiva à base de epóxi poliamida de dois componentes com pistola a ar comprimido, uma demão, espessura de 150 µm | C34: SICRO | D34: m² | E34: 60800 | F34: 14.69 | G34: 0.2389 | H34: =ROUND(F34*(1+G34),2) -> 18.2 | I34: =TRUNC(H34*E34) -> 1106560 | J34: =I34/$I$90 -> 0.0093738872 | K34: =K33+J34 -> 0.88710213
A35: 4011484 | B35: Reciclagem com incorporação do revestimento asfáltico à base e adição de brita comercial - 100% Proctor modificado | C35: SICRO | D35: m³ | E35: 8158.08 | F35: 94.87 | G35: 0.2389 | H35: =ROUND(F35*(1+G35),2) -> 117.53 | I35: =TRUNC(H35*E35) -> 958819 | J35: =I35/$I$90 -> 0.0081223441 | K35: =K34+J35 -> 0.89522447
A36: 1608144 | B36: Perfuração em concreto com coroa diamantada - D = 44 mm | C36: SICRO | D36: m | E36: 7200 | F36: 103.7 | G36: 0.2389 | H36: =ROUND(F36*(1+G36),2) -> 128.47 | I36: =TRUNC(H36*E36) -> 924984 | J36: =I36/$I$90 -> 0.0078357212 | K36: =K35+J36 -> 0.90306019
A37: 1608025 | B37: Perfuração em concreto com martelete elétrico - D = 14 mm | C37: SICRO | D37: m | E37: 16640 | F37: 40.3 | G37: 0.2389 | H37: =ROUND(F37*(1+G37),2) -> 49.93 | I37: =TRUNC(H37*E37) -> 830835 | J37: =I37/$I$90 -> 0.0070381665 | K37: =K36+J37 -> 0.91009836
A38: COMP_PPE_02 | B38: Execução de passeio em piso intertravado, com bloco retangular cor natural de 20 x 10 cm, espessura 6 cm (m²) | C38: Próprio | D38: m² | E38: 7765.82 | F38: 83.72 | G38: 0.2389 | H38: =ROUND(F38*(1+G38),2) -> 103.72 | I38: =TRUNC(H38*E38) -> 805470 | J38: =I38/$I$90 -> 0.0068232946 | K38: =K37+J38 -> 0.91692165
A39: 307733 | B39: Junta de dilatação em elastômero e perfil VV - L = 20 mm e H = 40 mm - fornecimento e instalação | C39: SICRO | D39: m | E39: 2000 | F39: 299.22 | G39: 0.2389 | H39: =ROUND(F39*(1+G39),2) -> 370.7 | I39: =TRUNC(H39*E39) -> 741400 | J39: =I39/$I$90 -> 0.0062805451 | K39: =K38+J39 -> 0.9232022
A40: 307731 | B40: Aparelho de apoio de neoprene fretado para estruturas moldadas no local - fornecimento e instalação | C40: SICRO | D40: dm³ | E40: 3600 | F40: 153.25 | G40: 0.2389 | H40: =ROUND(F40*(1+G40),2) -> 189.86 | I40: =TRUNC(H40*E40) -> 683496 | J40: =I40/$I$90 -> 0.0057900289 | K40: =K39+J40 -> 0.92899223
A41: 4805767 | B41: Escavação manual em material de 2ª categoria na profundidade de 1 a 2 m | C41: SICRO | D41: m³ | E41: 5760 | F41: 83.28 | G41: 0.2389 | H41: =ROUND(F41*(1+G41),2) -> 103.18 | I41: =TRUNC(H41*E41) -> 594316 | J41: =I41/$I$90 -> 0.0050345676 | K41: =K40+J41 -> 0.9340268
A42: 5213424 | B42: Placa modulada em aço nº 18 galvanizado com película retrorrefletiva tipo III + III - confecção | C42: SICRO | D42: m² | E42: 681.25 | F42: 629.33 | G42: 0.2389 | H42: =ROUND(F42*(1+G42),2) -> 779.68 | I42: =TRUNC(H42*E42) -> 531157 | J42: =I42/$I$90 -> 0.0044995353 | K42: =K41+J42 -> 0.93852633
A43: 1106165 | B43: Concreto ciclópico fck = 20 MPa - confecção em betoneira e lançamento manual - areia, brita e pedra de mão comerciais | C43: SICRO | D43: m³ | E43: 960 | F43: 399.22 | G43: 0.2389 | H43: =ROUND(F43*(1+G43),2) -> 494.59 | I43: =TRUNC(H43*E43) -> 474806 | J43: =I43/$I$90 -> 0.0040221749 | K43: =K42+J43 -> 0.94254851
A44: 3806420 | B44: Lançamento de viga pré-moldada de até 500 kN com utilização de guindaste | C44: SICRO | D44: un | E44: 80 | F44: 4155.66 | G44: 0.2389 | H44: =ROUND(F44*(1+G44),2) -> 5148.45 | I44: =TRUNC(H44*E44) -> 411876 | J44: =I44/$I$90 -> 0.0034890825 | K44: =K43+J44 -> 0.94603759
...

Sheet LÓGICA
B1: DEPARTAMENTO DE ESTRADAS DE RODAGEM DE PERNAMBUCO DIRETORIA DE PLANEJAMENTO E PROJETOS RELATÓRIO SINTÉTICO DO ORÇAMENTO
B4: Setor: DIRETORIA DE PLANEJAMENTO E PROJETOS
A6: Serviço: Recuperação e/ou Reforço Estrutural de OAEs | I6: Ano: 2025
A7: Orçamento: Recuperação e/ou Reforço Estrutural de Obras de Arte Especiais (Pontes, Viadutos, Passarelas e Afins) Sob Jurisdição do Departamento de Estradas de Rodagem do Estado de Pernambuco | I7: Rodovia:
A8: Trecho: Do 1º ao 8 Distrito rodoviário | I8: Extensão:
A9: BDI: 23,89 % (Geral) e 17,51% (Diferenciado) | G9: Data Base: Jul/2025 | I9: Preço Total: | J9: =VALOR_TOTAL -> 1.1804708e+08
A11: ITEM | B11: CÓDIGO | C11: FONTE | D11: DESCRIÇÃO | E11: UND. | F11: QUANT. | G11: PREÇO UNITÁRIO SEM BDI R$ | H11: BDI | I11: PREÇO UNITÁRIO COM BDI R$ | J11: PREÇO TOTAL R$
A12: 1.1 | B12: =VLOOKUP(A12,'ORÇAMENTO_SEM DESONERAÇÃO'!A12:J128,2,0) -> CANTEIRO | C12: =VLOOKUP(A12,'ORÇAMENTO_SEM DESONERAÇÃO'!A12:J128,3,0) -> Canteiro de Obras - Principal | D12: =VLOOKUP(A12,'ORÇAMENTO_SEM DESONERAÇÃO'!A12:J128,4,0) -> COMP | E12: =VLOOKUP(A12,'ORÇAMENTO_SEM DESONERAÇÃO'!A12:J128,5,0) -> und | F12: =VLOOKUP(A12,'ORÇAMENTO_SEM DESONERAÇÃO'!A12:J128,6,0) -> 7 | G12: =VLOOKUP(A12,'ORÇAMENTO_SEM DESONERAÇÃO'!A12:J128,7,0) -> 130033.23 | H12: =VLOOKUP(A12,'ORÇAMENTO_SEM DESONERAÇÃO'!A12:J128,8,0) -> 0.2389 | I12: =IFERROR(ROUND(IF(G12="","",G12*(1+H12)),2),"") -> 161098.17 | J12: =TRUNC(F12*I12,2) -> 1127687.2
A13: 1.2 | B13: =VLOOKUP(A13,'ORÇAMENTO_SEM DESONERAÇÃO'!A13:J129,2,0) -> CANTEIRO | C13: =VLOOKUP(A13,'ORÇAMENTO_SEM DESONERAÇÃO'!A13:J129,3,0) -> Canteiro de Obras - Canteiros de apoio | D13: =VLOOKUP(A13,'ORÇAMENTO_SEM DESONERAÇÃO'!A13:J129,4,0) -> COMP | E13: =VLOOKUP(A13,'ORÇAMENTO_SEM DESONERAÇÃO'!A13:J129,5,0) -> und | F13: =VLOOKUP(A13,'ORÇAMENTO_SEM DESONERAÇÃO'!A13:J129,6,0) -> 10 | G13: =VLOOKUP(A13,'ORÇAMENTO_SEM DESONERAÇÃO'!A13:J129,7,0) -> 32308.575 | H13: =VLOOKUP(A13,'ORÇAMENTO_SEM DESONERAÇÃO'!A13:J129,8,0) -> 0.2389 | I13: =IFERROR(ROUND(IF(G13="","",G13*(1+H13)),2),"") -> 40027.09 | J13: =TRUNC(F13*I13,2) -> 400270.9
A14: 2.1 | B14: =VLOOKUP(A14,'ORÇAMENTO_SEM DESONERAÇÃO'!A14:J130,2,0) -> ADM | C14: =VLOOKUP(A14,'ORÇAMENTO_SEM DESONERAÇÃO'!A14:J130,3,0) -> Administração Local da Obra | D14: =VLOOKUP(A14,'ORÇAMENTO_SEM DESONERAÇÃO'!A14:J130,4,0) -> COMP | E14: =VLOOKUP(A14,'ORÇAMENTO_SEM DESONERAÇÃO'!A14:J130,5,0) -> und | F14: =VLOOKUP(A14,'ORÇAMENTO_SEM DESONERAÇÃO'!A14:J130,6,0) -> 1 | G14: =VLOOKUP(A14,'ORÇAMENTO_SEM DESONERAÇÃO'!A14:J130,7,0) -> 2707286.9 | H14: =VLOOKUP(A14,'ORÇAMENTO_SEM DESONERAÇÃO'!A14:J130,8,0) -> 0.2389 | I14: =IFERROR(ROUND(IF(G14="","",G14*(1+H14)),2),"") -> 3354057.8 | J14: =TRUNC(F14*I14,2) -> 3354057.8
A15: 3.1 | B15: =VLOOKUP(A15,'ORÇAMENTO_SEM DESONERAÇÃO'!A15:J131,2,0) -> MOB/DESM | C15: =VLOOKUP(A15,'ORÇAMENTO_SEM DESONERAÇÃO'!A15:J131,3,0) -> Mobilização e Mesmobilização | D15: =VLOOKUP(A15,'ORÇAMENTO_SEM DESONERAÇÃO'!A15:J131,4,0) -> COMP | E15: =VLOOKUP(A15,'ORÇAMENTO_SEM DESONERAÇÃO'!A15:J131,5,0) -> und | F15: =VLOOKUP(A15,'ORÇAMENTO_SEM DESONERAÇÃO'!A15:J131,6,0) -> 1 | G15: =VLOOKUP(A15,'ORÇAMENTO_SEM DESONERAÇÃO'!A15:J131,7,0) -> 81055.37 | H15: =VLOOKUP(A15,'ORÇAMENTO_SEM DESONERAÇÃO'!A15:J131,8,0) -> 0.2389 | I15: =IFERROR(ROUND(IF(G15="","",G15*(1+H15)),2),"") -> 100419.5 | J15: =TRUNC(F15*I15,2) -> 100419.5
A16: 4.1 | B16: =VLOOKUP(A16,'ORÇAMENTO_SEM DESONERAÇÃO'!A16:J132,2,0) -> 4805767 | C16: =VLOOKUP(A16,'ORÇAMENTO_SEM DESONERAÇÃO'!A16:J132,3,0) -> Escavação manual em material de 2ª categoria na profundidade de 1 a 2 m | D16: =VLOOKUP(A16,'ORÇAMENTO_SEM DESONERAÇÃO'!A16:J132,4,0) -> SICRO | E16: =VLOOKUP(A16,'ORÇAMENTO_SEM DESONERAÇÃO'!A16:J132,5,0) -> m³ | F16: =VLOOKUP(A16,'ORÇAMENTO_SEM DESONERAÇÃO'!A16:J132,6,0) -> 5760 | G16: =VLOOKUP(A16,'ORÇAMENTO_SEM DESONERAÇÃO'!A16:J132,7,0) -> 83.28 | H16: =VLOOKUP(A16,'ORÇAMENTO_SEM DESONERAÇÃO'!A16:J132,8,0) -> 0.2389 | I16: =IFERROR(ROUND(IF(G16="","",G16*(1+H16)),2),"") -> 103.18 | J16: =TRUNC(F16*I16,2) -> 594316.8
A17: 4.2 | B17: =VLOOKUP(A17,'ORÇAMENTO_SEM DESONERAÇÃO'!A17:J133,2,0) -> 4815671 | C17: =VLOOKUP(A17,'ORÇAMENTO_SEM DESONERAÇÃO'!A17:J133,3,0) -> Reaterro e compactação com soquete vibratório | D17: =VLOOKUP(A17,'ORÇAMENTO_SEM DESONERAÇÃO'!A17:J133,4,0) -> SICRO | E17: =VLOOKUP(A17,'ORÇAMENTO_SEM DESONERAÇÃO'!A17:J133,5,0) -> m³ | F17: =VLOOKUP(A17,'ORÇAMENTO_SEM DESONERAÇÃO'!A17:J133,6,0) -> 5760 | G17: =VLOOKUP(A17,'ORÇAMENTO_SEM DESONERAÇÃO'!A17:J133,7,0) -> 19.34 | H17: =VLOOKUP(A17,'ORÇAMENTO_SEM DESONERAÇÃO'!A17:J133,8,0) -> 0.2389 | I17: =IFERROR(ROUND(IF(G17="","",G17*(1+H17)),2),"") -> 23.96 | J17: =TRUNC(F17*I17,2) -> 138009.6
A18: 4.3 | B18: =VLOOKUP(A18,'ORÇAMENTO_SEM DESONERAÇÃO'!A18:J134,2,0) -> 1505879 | C18: =VLOOKUP(A18,'ORÇAMENTO_SEM DESONERAÇÃO'!A18:J134,3,0) -> Enrocamento de pedra arrumada manualmente - pedra de mão comercial - fornecimento e assentamento | D18: =VLOOKUP(A18,'ORÇAMENTO_SEM DESONERAÇÃO'!A18:J134,4,0) -> SICRO | E18: =VLOOKUP(A18,'ORÇAMENTO_SEM DESONERAÇÃO'!A18:J134,5,0) -> m³ | F18: =VLOOKUP(A18,'ORÇAMENTO_SEM DESONERAÇÃO'!A18:J134,6,0) -> 62989.24 | G18: =VLOOKUP(A18,'ORÇAMENTO_SEM DESONERAÇÃO'!A18:J134,7,0) -> 272.35 | H18: =VLOOKUP(A18,'ORÇAMENTO_SEM DESONERAÇÃO'!A18:J134,8,0) -> 0.2389 | I18: =IFERROR(ROUND(IF(G18="","",G18*(1+H18)),2),"") -> 337.41 | J18: =TRUNC(F18*I18,2) -> 21253199
A19: 4.4 | B19: =VLOOKUP(A19,'ORÇAMENTO_SEM DESONERAÇÃO'!A19:J135,2,0) -> 3806415 | C19: =VLOOKUP(A19,'ORÇAMENTO_SEM DESONERAÇÃO'!A19:J135,3,0) -> Demolição controlada de concreto com martelete | D19: =VLOOKUP(A19,'ORÇAMENTO_SEM DESONERAÇÃO'!A19:J135,4,0) -> SICRO | E19: =VLOOKUP(A19,'ORÇAMENTO_SEM DESONERAÇÃO'!A19:J135,5,0) -> m³ | F19: =VLOOKUP(A19,'ORÇAMENTO_SEM DESONERAÇÃO'!A19:J135,6,0) -> 960 | G19: =VLOOKUP(A19,'ORÇAMENTO_SEM DESONERAÇÃO'!A19:J135,7,0) -> 723.71 | H19: =VLOOKUP(A19,'ORÇAMENTO_SEM DESONERAÇÃO'!A19:J135,8,0) -> 0.2389 | I19: =IFERROR(ROUND(IF(G19="","",G19*(1+H19)),2),"") -> 896.6 | J19: =TRUNC(F19*I19,2) -> 860736
A20: 4.5 | B20: =VLOOKUP(A20,'ORÇAMENTO_SEM DESONERAÇÃO'!A20:J136,2,0) -> 3806414 | C20: =VLOOKUP(A20,'ORÇAMENTO_SEM DESONERAÇÃO'!A20:J136,3,0) -> Remoção de concreto com jateamento d'água sob alta pressão | D20: =VLOOKUP(A20,'ORÇAMENTO_SEM DESONERAÇÃO'!A20:J136,4,0) -> SICRO | E20: =VLOOKUP(A20,'ORÇAMENTO_SEM DESONERAÇÃO'!A20:J136,5,0) -> m³ | F20: =VLOOKUP(A20,'ORÇAMENTO_SEM DESONERAÇÃO'!A20:J136,6,0) -> 480 | G20: =VLOOKUP(A20,'ORÇAMENTO_SEM DESONERAÇÃO'!A20:J136,7,0) -> 882.27 | H20: =VLOOKUP(A20,'ORÇAMENTO_SEM DESONERAÇÃO'!A20:J136,8,0) -> 0.2389 | I20: =IFERROR(ROUND(IF(G20="","",G20*(1+H20)),2),"") -> 1093.04 | J20: =TRUNC(F20*I20,2) -> 524659.2
A21: 4.6 | B21: =VLOOKUP(A21,'ORÇAMENTO_SEM DESONERAÇÃO'!A21:J137,2,0) -> 3806413 | C21: =VLOOKUP(A21,'ORÇAMENTO_SEM DESONERAÇÃO'!A21:J137,3,0) -> Apicoamento mecanizado de concreto | D21: =VLOOKUP(A21,'ORÇAMENTO_SEM DESONERAÇÃO'!A21:J137,4,0) -> SICRO | E21: =VLOOKUP(A21,'ORÇAMENTO_SEM DESONERAÇÃO'!A21:J137,5,0) -> m² | F21: =VLOOKUP(A21,'ORÇAMENTO_SEM DESONERAÇÃO'!A21:J137,6,0) -> 9600 | G21: =VLOOKUP(A21,'ORÇAMENTO_SEM DESONERAÇÃO'!A21:J137,7,0) -> 24.87 | H21: =VLOOKUP(A21,'ORÇAMENTO_SEM DESONERAÇÃO'!A21:J137,8,0) -> 0.2389 | I21: =IFERROR(ROUND(IF(G21="","",G21*(1+H21)),2),"") -> 30.81 | J21: =TRUNC(F21*I21,2) -> 295776
A22: 4.7 | B22: =VLOOKUP(A22,'ORÇAMENTO_SEM DESONERAÇÃO'!A22:J138,2,0) -> 4915639 | C22: =VLOOKUP(A22,'ORÇAMENTO_SEM DESONERAÇÃO'!A22:J138,3,0) -> Limpeza em superfície de concreto com escova de aço | D22: =VLOOKUP(A22,'ORÇAMENTO_SEM DESONERAÇÃO'!A22:J138,4,0) -> SICRO | E22: =VLOOKUP(A22,'ORÇAMENTO_SEM DESONERAÇÃO'!A22:J138,5,0) -> m² | F22: =VLOOKUP(A22,'ORÇAMENTO_SEM DESONERAÇÃO'!A22:J138,6,0) -> 9600 | G22: =VLOOKUP(A22,'ORÇAMENTO_SEM DESONERAÇÃO'!A22:J138,7,0) -> 4.75 | H22: =VLOOKUP(A22,'ORÇAMENTO_SEM DESONERAÇÃO'!A22:J138,8,0) -> 0.2389 | I22: =IFERROR(ROUND(IF(G22="","",G22*(1+H22)),2),"") -> 5.88 | J22: =TRUNC(F22*I22,2) -> 56448
A23: 4.8 | B23: =VLOOKUP(A23,'ORÇAMENTO_SEM DESONERAÇÃO'!A23:J139,2,0) -> 407819 | C23: =VLOOKUP(A23,'ORÇAMENTO_SEM DESONERAÇÃO'!A23:J139,3,0) -> Armação em aço CA-50 - fornecimento, preparo e colocação | D23: =VLOOKUP(A23,'ORÇAMENTO_SEM DESONERAÇÃO'!A23:J139,4,0) -> SICRO | E23: =VLOOKUP(A23,'ORÇAMENTO_SEM DESONERAÇÃO'!A23:J139,5,0) -> kg | F23: =VLOOKUP(A23,'ORÇAMENTO_SEM DESONERAÇÃO'!A23:J139,6,0) -> 96000 | G23: =VLOOKUP(A23,'ORÇAMENTO_SEM DESONERAÇÃO'!A23:J139,7,0) -> 12.59 | H23: =VLOOKUP(A23,'ORÇAMENTO_SEM DESONERAÇÃO'!A23:J139,8,0) -> 0.2389 | I23: =IFERROR(ROUND(IF(G23="","",G23*(1+H23)),2),"") -> 15.6 | J23: =TRUNC(F23*I23,2) -> 1497600
... A104: 12.7 | B104: =VLOOKUP(A104,'ORÇAMENTO_SEM DESONERAÇÃO'!A104:J220,2,0) -> 4011463 | C104: =VLOOKUP(A104,'ORÇAMENTO_SEM DESONERAÇÃO'!A104:J220,3,0) -> Concreto asfáltico - faixa C-12,5 - areia e brita comerciais | D104: =VLOOKUP(A104,'ORÇAMENTO_SEM DESONERAÇÃO'!A104:J220,4,0) -> SICRO | E104: =VLOOKUP(A104,'ORÇAMENTO_SEM DESONERAÇÃO'!A104:J220,5,0) -> T | F104: =VLOOKUP(A104,'ORÇAMENTO_SEM DESONERAÇÃO'!A104:J220,6,0) -> 5177.376 | G104: =VLOOKUP(A104,'ORÇAMENTO_SEM DESONERAÇÃO'!A104:J220,7,0) -> 190.68 | H104: =VLOOKUP(A104,'ORÇAMENTO_SEM DESONERAÇÃO'!A104:J220,8,0) -> 0.2389 | I104: =IFERROR(ROUND(IF(G104="","",G104*(1+H104)),2),"") -> 236.23 | J104: =TRUNC(F104*I104,2) -> 1223051.5
A105: 12.8 | B105: 4011372 | C105: Tratamento superficial duplo com banho diluído - brita comercial | D105: =VLOOKUP(A105,'ORÇAMENTO_SEM DESONERAÇÃO'!A105:J221,4,0) -> SICRO | E105: =VLOOKUP(A105,'ORÇAMENTO_SEM DESONERAÇÃO'!A105:J221,5,0) -> M² | F105: =VLOOKUP(A105,'ORÇAMENTO_SEM DESONERAÇÃO'!A105:J221,6,0) -> 40790.4 | G105: =VLOOKUP(A105,'ORÇAMENTO_SEM DESONERAÇÃO'!A105:J221,7,0) -> 6.76 | H105: =VLOOKUP(A105,'ORÇAMENTO_SEM DESONERAÇÃO'!A105:J221,8,0) -> 0.2389 | I105: =IFERROR(ROUND(IF(G105="","",G105*(1+H105)),2),"") -> 8.37 | J105: =TRUNC(F105*I105,2) -> 341415.64
A106: 12.9 | B106: =VLOOKUP(A106,'ORÇAMENTO_SEM DESONERAÇÃO'!A106:J222,2,0) -> 92396/SINAPI | C106: =VLOOKUP(A106,'ORÇAMENTO_SEM DESONERAÇÃO'!A106:J222,3,0) -> COMP_52 Execução de passeio em piso intertravado, com bloco retangular cor natural de 20 x 10 cm, espessura 6 cm | D106: =VLOOKUP(A106,'ORÇAMENTO_SEM DESONERAÇÃO'!A106:J222,4,0) -> Composições Próprias | E106: =VLOOKUP(A106,'ORÇAMENTO_SEM DESONERAÇÃO'!A106:J222,5,0) -> m² | F106: =VLOOKUP(A106,'ORÇAMENTO_SEM DESONERAÇÃO'!A106:J222,6,0) -> 7765.815 | G106: =VLOOKUP(A106,'ORÇAMENTO_SEM DESONERAÇÃO'!A106:J222,7,0) -> 83.72 | H106: =VLOOKUP(A106,'ORÇAMENTO_SEM DESONERAÇÃO'!A106:J222,8,0) -> 0.2389 | I106: =IFERROR(ROUND(IF(G106="","",G106*(1+H106)),2),"") -> 103.72 | J106: =TRUNC(F106*I106,2) -> 805470.33
A107: 12.10 | B107: =VLOOKUP(A107,'ORÇAMENTO_SEM DESONERAÇÃO'!A107:J223,2,0) -> 2003379 | C107: =VLOOKUP(A107,'ORÇAMENTO_SEM DESONERAÇÃO'!A107:J223,3,0) -> COMP_53 Meio-fio de concreto - MFC 06 - areia e brita comerciais - fôrma de madeira | D107: =VLOOKUP(A107,'ORÇAMENTO_SEM DESONERAÇÃO'!A107:J223,4,0) -> Composições Próprias | E107: =VLOOKUP(A107,'ORÇAMENTO_SEM DESONERAÇÃO'!A107:J223,5,0) -> M | F107: =VLOOKUP(A107,'ORÇAMENTO_SEM DESONERAÇÃO'!A107:J223,6,0) -> 6212.7 | G107: =VLOOKUP(A107,'ORÇAMENTO_SEM DESONERAÇÃO'!A107:J223,7,0) -> 34.54 | H107: =VLOOKUP(A107,'ORÇAMENTO_SEM DESONERAÇÃO'!A107:J223,8,0) -> 0.2389 | I107: =IFERROR(ROUND(IF(G107="","",G107*(1+H107)),2),"") -> 42.79 | J107: =TRUNC(F107*I107,2) -> 265841.43
A108: 12.11 | B108: =VLOOKUP(A108,'ORÇAMENTO_SEM DESONERAÇÃO'!A108:J224,2,0) -> 5502978 | C108: =VLOOKUP(A108,'ORÇAMENTO_SEM DESONERAÇÃO'!A108:J224,3,0) -> Compactação de aterros a 100% do Proctor normal | D108: =VLOOKUP(A108,'ORÇAMENTO_SEM DESONERAÇÃO'!A108:J224,4,0) -> SICRO | E108: =VLOOKUP(A108,'ORÇAMENTO_SEM DESONERAÇÃO'!A108:J224,5,0) -> m³ | F108: =VLOOKUP(A108,'ORÇAMENTO_SEM DESONERAÇÃO'!A108:J224,6,0) -> 1553.1 | G108: =VLOOKUP(A108,'ORÇAMENTO_SEM DESONERAÇÃO'!A108:J224,7,0) -> 5.72 | H108: =VLOOKUP(A108,'ORÇAMENTO_SEM DESONERAÇÃO'!A108:J224,8,0) -> 0.2389 | I108: =IFERROR(ROUND(IF(G108="","",G108*(1+H108)),2),"") -> 7.09 | J108: =TRUNC(F108*I108,2) -> 11011.47
A109: 12.12 | B109: =VLOOKUP(A109,'ORÇAMENTO_SEM DESONERAÇÃO'!A109:J225,2,0) -> ANP01 | C109: =VLOOKUP(A109,'ORÇAMENTO_SEM DESONERAÇÃO'!A109:J225,3,0) -> ANP Aquisição de Emulsão asfáltica para imprimação | D109: =VLOOKUP(A109,'ORÇAMENTO_SEM DESONERAÇÃO'!A109:J225,4,0) -> Composições Próprias | E109: =VLOOKUP(A109,'ORÇAMENTO_SEM DESONERAÇÃO'!A109:J225,5,0) -> t | F109: =VLOOKUP(A109,'ORÇAMENTO_SEM DESONERAÇÃO'!A109:J225,6,0) -> 2.814 | G109: =VLOOKUP(A109,'ORÇAMENTO_SEM DESONERAÇÃO'!A109:J225,7,0) -> 2619.87 | H109: =VLOOKUP(A109,'ORÇAMENTO_SEM DESONERAÇÃO'!A109:J225,8,0) -> 0.2389 | I109: =IFERROR(ROUND(IF(G109="","",G109*(1+H109)),2),"") -> 3245.76 | J109: =TRUNC(F109*I109,2) -> 9133.56
A110: 12.13 | B110: =VLOOKUP(A110,'ORÇAMENTO_SEM DESONERAÇÃO'!A110:J226,2,0) -> ANP02 | C110: =VLOOKUP(A110,'ORÇAMENTO_SEM DESONERAÇÃO'!A110:J226,3,0) -> ANP Aquisição de RR-1C | D110: =VLOOKUP(A110,'ORÇAMENTO_SEM DESONERAÇÃO'!A110:J226,4,0) -> Composições Próprias | E110: =VLOOKUP(A110,'ORÇAMENTO_SEM DESONERAÇÃO'!A110:J226,5,0) -> t | F110: =VLOOKUP(A110,'ORÇAMENTO_SEM DESONERAÇÃO'!A110:J226,6,0) -> 19.413 | G110: =VLOOKUP(A110,'ORÇAMENTO_SEM DESONERAÇÃO'!A110:J226,7,0) -> 3588.71 | H110: =VLOOKUP(A110,'ORÇAMENTO_SEM DESONERAÇÃO'!A110:J226,8,0) -> 0.2389 | I110: =IFERROR(ROUND(IF(G110="","",G110*(1+H110)),2),"") -> 4446.05 | J110: =TRUNC(F110*I110,2) -> 86311.16
A111: 12.14 | B111: =VLOOKUP(A111,'ORÇAMENTO_SEM DESONERAÇÃO'!A111:J227,2,0) -> ANP03 | C111: =VLOOKUP(A111,'ORÇAMENTO_SEM DESONERAÇÃO'!A111:J227,3,0) -> ANP Aquisição de CAP 50/70 | D111: =VLOOKUP(A111,'ORÇAMENTO_SEM DESONERAÇÃO'!A111:J227,4,0) -> Composições Próprias | E111: =VLOOKUP(A111,'ORÇAMENTO_SEM DESONERAÇÃO'!A111:J227,5,0) -> t | F111: =VLOOKUP(A111,'ORÇAMENTO_SEM DESONERAÇÃO'!A111:J227,6,0) -> 292.8327 | G111: =VLOOKUP(A111,'ORÇAMENTO_SEM DESONERAÇÃO'!A111:J227,7,0) -> 3854.77 | H111: =VLOOKUP(A111,'ORÇAMENTO_SEM DESONERAÇÃO'!A111:J227,8,0) -> 0.2389 | I111: =IFERROR(ROUND(IF(G111="","",G111*(1+H111)),2),"") -> 4775.67 | J111: =TRUNC(F111*I111,2) -> 1398472.3
A112: 12.15 | B112: =VLOOKUP(A112,'ORÇAMENTO_SEM DESONERAÇÃO'!A112:J228,2,0) -> ANP04 | C112: =VLOOKUP(A112,'ORÇAMENTO_SEM DESONERAÇÃO'!A112:J228,3,0) -> ANP Aquisição de RR-2C | D112: =VLOOKUP(A112,'ORÇAMENTO_SEM DESONERAÇÃO'!A112:J228,4,0) -> Composições Próprias | E112: =VLOOKUP(A112,'ORÇAMENTO_SEM DESONERAÇÃO'!A112:J228,5,0) -> t | F112: =VLOOKUP(A112,'ORÇAMENTO_SEM DESONERAÇÃO'!A112:J228,6,0) -> 212.928 | G112: =VLOOKUP(A112,'ORÇAMENTO_SEM DESONERAÇÃO'!A112:J228,7,0) -> 9971.66 | H112: =VLOOKUP(A112,'ORÇAMENTO_SEM DESONERAÇÃO'!A112:J228,8,0) -> 0.2389 | I112: =IFERROR(ROUND(IF(G112="","",G112*(1+H112)),2),"") -> 12353.89 | J112: =TRUNC(F112*I112,2) -> 2630489.1
A113: 12.16 | B113: =VLOOKUP(A113,'ORÇAMENTO_SEM DESONERAÇÃO'!A113:J229,2,0) -> ANP05 | C113: =VLOOKUP(A113,'ORÇAMENTO_SEM DESONERAÇÃO'!A113:J229,3,0) -> ANP Transporte de Emulsão asfáltica para imprimação | D113: =VLOOKUP(A113,'ORÇAMENTO_SEM DESONERAÇÃO'!A113:J229,4,0) -> Composições Próprias | E113: =VLOOKUP(A113,'ORÇAMENTO_SEM DESONERAÇÃO'!A113:J229,5,0) -> t | F113: =VLOOKUP(A113,'ORÇAMENTO_SEM DESONERAÇÃO'!A113:J229,6,0) -> 2.814 | G113: =VLOOKUP(A113,'ORÇAMENTO_SEM DESONERAÇÃO'!A113:J229,7,0) -> 617.82 | H113: =VLOOKUP(A113,'ORÇAMENTO_SEM DESONERAÇÃO'!A113:J229,8,0) -> 0.1751 | I113: =IFERROR(ROUND(IF(G113="","",G113*(1+H113)),2),"") -> 726 | J113: =TRUNC(F113*I113,2) -> 2042.96
A114: 12.17 | B114: =VLOOKUP(A114,'ORÇAMENTO_SEM DESONERAÇÃO'!A114:J230,2,0) -> ANP06 | C114: =VLOOKUP(A114,'ORÇAMENTO_SEM DESONERAÇÃO'!A114:J230,3,0) -> ANP Transporte de RR-1C | D114: =VLOOKUP(A114,'ORÇAMENTO_SEM DESONERAÇÃO'!A114:J230,4,0) -> Composições Próprias | E114: =VLOOKUP(A114,'ORÇAMENTO_SEM DESONERAÇÃO'!A114:J230,5,0) -> t | F114: =VLOOKUP(A114,'ORÇAMENTO_SEM DESONERAÇÃO'!A114:J230,6,0) -> 19.413 | G114: =VLOOKUP(A114,'ORÇAMENTO_SEM DESONERAÇÃO'!A114:J230,7,0) -> 617.82 | H114: =VLOOKUP(A114,'ORÇAMENTO_SEM DESONERAÇÃO'!A114:J230,8,0) -> 0.1751 | I114: =IFERROR(ROUND(IF(G114="","",G114*(1+H114)),2),"") -> 726 | J114: =TRUNC(F114*I114,2) -> 14093.83
A115: 12.18 | B115: =VLOOKUP(A115,'ORÇAMENTO_SEM DESONERAÇÃO'!A115:J231,2,0) -> ANP07 | C115: =VLOOKUP(A115,'ORÇAMENTO_SEM DESONERAÇÃO'!A115:J231,3,0) -> ANP Transporte de CAP 50/70 | D115: =VLOOKUP(A115,'ORÇAMENTO_SEM DESONERAÇÃO'!A115:J231,4,0) -> Composições Próprias | E115: =VLOOKUP(A115,'ORÇAMENTO_SEM DESONERAÇÃO'!A115:J231,5,0) -> t | F115: =VLOOKUP(A115,'ORÇAMENTO_SEM DESONERAÇÃO'!A115:J231,6,0) -> 292.8327 | G115: =VLOOKUP(A115,'ORÇAMENTO_SEM DESONERAÇÃO'!A115:J231,7,0) -> 617.82 | H115: =VLOOKUP(A115,'ORÇAMENTO_SEM DESONERAÇÃO'!A115:J231,8,0) -> 0.1751 | I115: =IFERROR(ROUND(IF(G115="","",G115*(1+H115)),2),"") -> 726 | J115: =TRUNC(F115*I115,2) -> 212596.54
A116: 12.19 | B116: =VLOOKUP(A116,'ORÇAMENTO_SEM DESONERAÇÃO'!A116:J232,2,0) -> ANP08 | C116: =VLOOKUP(A116,'ORÇAMENTO_SEM DESONERAÇÃO'!A116:J232,3,0) -> ANP Transporte de RR-2C | D116: =VLOOKUP(A116,'ORÇAMENTO_SEM DESONERAÇÃO'!A116:J232,4,0) -> Composições Próprias | E116: =VLOOKUP(A116,'ORÇAMENTO_SEM DESONERAÇÃO'!A116:J232,5,0) -> t | F116: =VLOOKUP(A116,'ORÇAMENTO_SEM DESONERAÇÃO'!A116:J232,6,0) -> 212.928 | G116: =VLOOKUP(A116,'ORÇAMENTO_SEM DESONERAÇÃO'!A116:J232,7,0) -> 617.82 | H116: =VLOOKUP(A116,'ORÇAMENTO_SEM DESONERAÇÃO'!A116:J232,8,0) -> 0.1751 | I116: =IFERROR(ROUND(IF(G116="","",G116*(1+H116)),2),"") -> 726 | J116: =TRUNC(F116*I116,2) -> 154585.72
I117: VALOR TOTAL: | J117: =SUM(J12:J116) -> 1.1804708e+08
B119: CÓDIGO | C119: FONTE | D119: DESCRIÇÃO | E119: UND. | F119: QUANT. | G119: PREÇO UNITÁRIO SEM BDI R$ | H119: BDI | I119: PREÇO UNITÁRIO COM BDI R$ | J119: PREÇO TOTAL R$
A120: =J120 -> 1127687.2 | B120: CANTEIRO | C120: Canteiro de Obras - Principal | D120: COMP | E120: und | F120: =SUMIF(LÓGICA!$C$12:$C$116,C120,LÓGICA!$F$12:$F$116) -> 7 | G120: =VLOOKUP(C120,LÓGICA!$C$12:$J$116,5,0) -> 130033.23 | H120: =VLOOKUP(B120,B12:J116,7,0) -> 0.2389 | I120: =IFERROR(ROUND(IF(G120="","",G120*(1+H120)),2),"") -> 161098.17 | J120: =TRUNC(F120*I120,2) -> 1127687.2
A121: =J121 -> 400270.9 | B121: CANTEIRO | C121: Canteiro de Obras - Canteiros de apoio | D121: COMP | E121: und | F121: =SUMIF(LÓGICA!$C$12:$C$116,C121,LÓGICA!$F$12:$F$116) -> 10 | G121: =VLOOKUP(C121,LÓGICA!$C$12:$J$116,5,0) -> 32308.575 | H121: =VLOOKUP(B121,B13:J117,7,0) -> 0.2389 | I121: =IFERROR(ROUND(IF(G121="","",G121*(1+H121)),2),"") -> 40027.09 | J121: =TRUNC(F121*I121,2) -> 400270.9
A122: =J122 -> 3354057.8 | B122: ADM | C122: Administração Local da Obra | D122: COMP | E122: und | F122: =SUMIF(LÓGICA!$C$12:$C$116,C122,LÓGICA!$F$12:$F$116) -> 1 | G122: =VLOOKUP(C122,LÓGICA!$C$12:$J$116,5,0) -> 2707286.9 | H122: =VLOOKUP(B122,B14:J118,7,0) -> 0.2389 | I122: =IFERROR(ROUND(IF(G122="","",G122*(1+H122)),2),"") -> 3354057.8 | J122: =TRUNC(F122*I122,2) -> 3354057.8
A123: =J123 -> 100419.5 | B123: MOB/DESM | C123: Mobilização e Mesmobilização | D123: COMP | E123: und | F123: =SUMIF(LÓGICA!$C$12:$C$116,C123,LÓGICA!$F$12:$F$116) -> 1 | G123: =VLOOKUP(C123,LÓGICA!$C$12:$J$116,5,0) -> 81055.37 | H123: =VLOOKUP(B123,B15:J119,7,0) -> 0.2389 | I123: =IFERROR(ROUND(IF(G123="","",G123*(1+H123)),2),"") -> 100419.5 | J123: =TRUNC(F123*I123,2) -> 100419.5
A124: =J124 -> 594316.8 | B124: 4805767 | C124: Escavação manual em material de 2ª categoria na profundidade de 1 a 2 m | D124: SICRO | E124: m³ | F124: =SUMIF(LÓGICA!$C$12:$C$116,C124,LÓGICA!$F$12:$F$116) -> 5760 | G124: =VLOOKUP(C124,LÓGICA!$C$12:$J$116,5,0) -> 83.28 | H124: =VLOOKUP(B124,B16:J120,7,0) -> 0.2389 | I124: =IFERROR(ROUND(IF(G124="","",G124*(1+H124)),2),"") -> 103.18 | J124: =TRUNC(F124*I124,2) -> 594316.8
