Workbook
Name \I: #REF!
Name \S: [1]COMPOS1!#REF!
Name _: [2]PROJETO!#REF!
Name _\: #REF!
Name _\1: #REF!
Name _\11: #REF!
Name _\a: #REF!
Name _\b: #REF!
Name _\c: #REF!
Name _\F: #REF!
Name _\fagf: #REF!
Name _\I: #REF!
Name _\p: #REF!
Name _\R: #REF!
Name _\S: #REF!
Name _\w: #REF!
Name _\z: #REF!
Name _\ZACVDERVREW: #N/A
Name __\1: #REF!
Name __\11: #REF!
Name __\a: #REF!
Name __\b: #REF!
Name __\c: #REF!
Name __\F: #REF!
Name __\fagf: #REF!
Name __\I: #REF!
Name __\p: #REF!
Name __\R: #REF!
Name __\S: #REF!
Name __\w: #REF!
Name ___\1: #REF!
Name ___\11: #REF!
Name ___\a: #REF!
Name ___\b: #REF!
Name ___\c: #REF!
Name ___\fagf: #REF!
Name ___\I: #REF!
Name ___\p: #REF!
Name ___\S: #REF!
Name ___\w: #REF!
Name ____\I: #REF!
Name ____\S: #REF!
Name _________________________________CC709: Plan1
Name _________________________________CC709: Plan1
Name _________________________________CC709: Plan1
Name _________________________________CC709: Plan1
Name _________________________________CC709: Plan1
Name _________________________________CC709: Plan1
Name _________________________________CC709: [0]!Plan1
Name _________________________________CC709: [0]!Plan1
Name _________________________________CC709: Plan1
Name _____________________________PL1: #REF!
Name _____________________________PL1: #REF!
Name _____________________________PL1: #REF!
Name ____________________________CC709: #REF!
Name ____________________________CC709: #REF!
Name ____________________________CC709: #REF!
Name ____________________________CC709: #REF!
Name ____________________________CC709: [3]!Plan1
Name ____________________________CC709: #REF!

Sheet RESUMO_ONERADO
A1: DISCRIMINAÇÃO | D1: DATA BASE: JULHO/2025 - PE
A2: (sub total dos itens do Quadro de Quantidades)
A4: ITEM | C4: Valor em R$ | D4: %
A5: ='P.O. ONERADO'!A14 -> 1.0 | B5: =VLOOKUP(A5,'P.O. ONERADO'!A:K,3,FALSE) -> ADMINISTRAÇÃO LOCAL DA OBRA | C5: =VLOOKUP(A5,'P.O. ONERADO'!A:K,11,FALSE) -> 655352.71 | D5: =C5/$C$27 -> 0.066256188
A7: ='P.O. ONERADO'!A16 -> 2.0 | B7: =VLOOKUP(A7,'P.O. ONERADO'!A:K,3,FALSE) -> CANTEIRO DE OBRAS | C7: =VLOOKUP(A7,'P.O. ONERADO'!A:K,11,FALSE) -> 1223236 | D7: =C7/$C$27 -> 0.12366921
A9: ='P.O. ONERADO'!A18 -> 3.0 | B9: =VLOOKUP(A9,'P.O. ONERADO'!A:K,3,FALSE) -> MOBILIZAÇÃO E DESMOBILIZAÇÃO | C9: =VLOOKUP(A9,'P.O. ONERADO'!A:K,11,FALSE) -> 69945.65 | D9: =C9/$C$27 -> 0.0070715083
A11: ='P.O. ONERADO'!A20 -> 4.0 | B11: =VLOOKUP(A11,'P.O. ONERADO'!A:K,3,FALSE) -> TERRAPLENAGEM | C11: =VLOOKUP(A11,'P.O. ONERADO'!A:K,11,FALSE) -> 2602426.3 | D11: =C11/$C$27 -> 0.26310542
A13: 5.0 | B13: =VLOOKUP(A13,'P.O. ONERADO'!A:K,3,FALSE) -> DRENAGEM | C13: =VLOOKUP(A13,'P.O. ONERADO'!A:K,11,FALSE) -> 607426.93 | D13: =C13/$C$27 -> 0.061410889
A15: 6.0 | B15: =VLOOKUP(A15,'P.O. ONERADO'!A:K,3,FALSE) -> PAVIMENTAÇÃO | C15: =VLOOKUP(A15,'P.O. ONERADO'!A:K,11,FALSE) -> 624569.79 | D15: =C15/$C$27 -> 0.063144033
A17: 7.0 | B17: =VLOOKUP(A17,'P.O. ONERADO'!A:K,3,FALSE) -> ESTRUTURA DE CONTENÇÃO | C17: =VLOOKUP(A17,'P.O. ONERADO'!A:K,11,FALSE) -> 2285332.6 | D17: =C17/$C$27 -> 0.23104722
A19: 8.0 | B19: =VLOOKUP(A19,'P.O. ONERADO'!A:K,3,FALSE) -> SINALIZAÇÃO | C19: =VLOOKUP(A19,'P.O. ONERADO'!A:K,11,FALSE) -> 623062.61 | D19: =C19/$C$27 -> 0.062991657
A21: 9.0 | B21: =VLOOKUP(A21,'P.O. ONERADO'!A:K,3,FALSE) -> OBRAS COMPLEMENTARES | C21: =VLOOKUP(A21,'P.O. ONERADO'!A:K,11,FALSE) -> 561010.43 | D21: =C21/$C$27 -> 0.056718179
A23: 10.0 | B23: =VLOOKUP(A23,'P.O. ONERADO'!A:K,3,FALSE) -> ILUMINAÇÃO PÚBLICA | C23: =VLOOKUP(A23,'P.O. ONERADO'!A:K,11,FALSE) -> 373448.3 | D23: =C23/$C$27 -> 0.037755639
A25: 11.0 | B25: =VLOOKUP(A25,'P.O. ONERADO'!A:K,3,FALSE) -> SINALIZAÇÃO DE OBRA | C25: =VLOOKUP(A25,'P.O. ONERADO'!A:K,11,FALSE) -> 265381.24 | D25: =C25/$C$27 -> 0.026830055
B27: TOTAL DA OBRA | C27: =SUM(C5:C26) -> 9891192.6 | D27: =SUM(C5:C26)/C27 -> 1 | F27: 9904377.2 | G27: =F27-C27 -> 13184.6
A29: NOME DA EMPRESA: JBR ENGENHARIA LTDA
A30: ='P.O. ONERADO'!A5 -> OBRA: RAMO DE EMERGÊNCIA - ÁREA DE ESCAPE
A31: TRECHO: Km 60 ao 63 da Rodovia BR-232 | F31: =C27-9891183.79 -> 8.77
A33: RESUMO DE PREÇOS - ONERADO | D33: QD - 4.1
C40: 67056537
C41: =C40-C27 -> 57165345
C42: =C41/C27 -> 5.7794188

Sheet P.O. ONERADO
B2: PROJETO PARA IMPLANTAÇÃO DE RAMO DE EMERGÊNCIA (AREA DE ESCAPE) NA RODOVIA BR 232, ENTRE OS KM 60 E 63
I4: DATA BASE: | K4: 45839
A5: OBRA: RAMO DE EMERGÊNCIA - ÁREA DE ESCAPE | I5: TRIBUTAÇÃO: | K5: ONERADO
A6: RODOVIA: BR-232 | I6: BDI SERVIÇOS: | K6: 0.2123
A7: TRECHO: KM 60 AO 63 | I7: BDI DIFERENCIADO: | K7: 0.15
N8: BÁSICO E EXECUTIVO DE ENGENHARIA PARA REJUVENESCIMENTO DA PISTA EXISTENTE, DUPLICAÇÃO E PAVIMENTAÇÃO DA RODOVIA PE-095
A9: DEMONSTRATIVO DO ORÇAMENTO
A11: ITEM | B11: CÓDIGO | C11: DESCRIÇÃO | D11: ESPECIFICAÇÃO | E11: UND | F11: QUANT. | G11: PREÇOS $
G12: CUSTO UNITÁRIO (R$) | H12: BDI (%) | I12: PREÇO UNITÁRIO (R$) | J12: CUSTO TOTAL S/ BDI (R$) | K12: PREÇO TOTAL (R$)
A14: 1.0 | C14: ADMINISTRAÇÃO LOCAL DA OBRA | K14: =SUBTOTAL(9,K15) -> 655352.71
A15: 1.1 | B15: CPUADM01 | C15: Custo da Administração Local da Obra | D15: - | E15: un | F15: 1 | G15: 540586.25 | H15: =$K$6 -> 0.2123 | I15: =ROUND(((H15+1)*G15),2) -> 655352.71 | J15: =TRUNC((G15*F15),2) -> 540586.25 | K15: =TRUNC((I15*F15),2) -> 655352.71 | L15: =K15/$K$167 -> 0.066256188
A16: 2.0 | C16: CANTEIRO DE OBRAS | K16: =SUBTOTAL(9,K17:K17) -> 1223236
A17: 2.1 | B17: CPUCAN01 | C17: Custo de instalação do Canteiro de Obras | D17: - | E17: un | F17: 1 | G17: 1009020.9 | H17: =$K$6 -> 0.2123 | I17: =ROUND(((H17+1)*G17),2) -> 1223236 | J17: =TRUNC((G17*F17),2) -> 1009020.9 | K17: =TRUNC((I17*F17),2) -> 1223236 | L17: =K17/$K$167 -> 0.12366921
A18: 3.0 | C18: MOBILIZAÇÃO E DESMOBILIZAÇÃO | K18: =SUBTOTAL(9,K19) -> 69945.65
A19: 3.1 | B19: CPUMOB01 | C19: Custo da Mobilização e Desmobilização | D19: - | E19: un | F19: 1 | G19: 57696.65 | H19: =$K$6 -> 0.2123 | I19: =ROUND(((H19+1)*G19),2) -> 69945.65 | J19: =TRUNC((G19*F19),2) -> 57696.65 | K19: =TRUNC((I19*F19),2) -> 69945.65 | L19: =K19/$K$167 -> 0.0070715083
A20: 4.0 | C20: TERRAPLENAGEM | K20: =SUBTOTAL(9,K21:K35) -> 2602426.3
A21: 4.1 | B21: 5501710 | C21: Escavação, carga e transporte em material de 1ª categoria - DMT de 50 m | D21: DNIT 106/2009 | E21: m³ | F21: 1564.06 | G21: 3.72 | H21: =$K$6 -> 0.2123 | I21: =ROUND(((H21+1)*G21),2) -> 4.51 | J21: =TRUNC((G21*F21),2) -> 5818.3 | K21: =TRUNC((I21*F21),2) -> 7053.91
A22: 4.2 | B22: 5502109 | C22: Escavação, carga e transporte de material de 1ª categoria - DMT de 50 a 200 m - caminho de serviço em leito natural - com escavadeira e caminhão basculante de 14 m³ | D22: DNIT 106/2009 | E22: m³ | F22: 586.88 | G22: 6.31 | H22: =$K$6 -> 0.2123 | I22: =ROUND(((H22+1)*G22),2) -> 7.65 | J22: =TRUNC((G22*F22),2) -> 3703.21 | K22: =TRUNC((I22*F22),2) -> 4489.63
A23: 4.3 | B23: 5502110 | C23: Escavação, carga e transporte de material de 1ª categoria - DMT de 200 a 400 m - caminho de serviço em leito natural - com escavadeira e caminhão basculante de 14 m³ | D23: DNIT 106/2009 | E23: m³ | F23: 1214.67 | G23: 6.74 | H23: =$K$6 -> 0.2123 | I23: =ROUND(((H23+1)*G23),2) -> 8.17 | J23: =TRUNC((G23*F23),2) -> 8186.87 | K23: =TRUNC((I23*F23),2) -> 9923.85
A24: 4.4 | B24: CPUTER01 | C24: Escavação, carga e transporte de material de 1ª categoria na distância de 21.62 km - caminho de serviço pavimentado - com carregadeira e caminhão basculante de 14 m³ | D24: DNIT 107/2009 | E24: m³ | F24: 1608.48 | G24: 28.63 | H24: =$K$6 -> 0.2123 | I24: =ROUND(((H24+1)*G24),2) -> 34.71 | J24: =TRUNC((G24*F24),2) -> 46050.78 | K24: =TRUNC((I24*F24),2) -> 55830.34 | L24: 65.3
A25: 4.5 | B25: 5502585 | C25: Escavação, carga e transporte de material de 2ª categoria - DMT de 50 a 200 m - caminho de serviço em leito natural - com escavadeira e caminhão basculante de 14 m³ | D25: DNIT 106/2009 | E25: m³ | F25: 734.04 | G25: 8.89 | H25: =$K$6 -> 0.2123 | I25: =ROUND(((H25+1)*G25),2) -> 10.78 | J25: =TRUNC((G25*F25),2) -> 6525.61 | K25: =TRUNC((I25*F25),2) -> 7912.95
A26: 4.6 | B26: 5502586 | C26: Escavação, carga e transporte de material de 2ª categoria - DMT de 200 a 400 m - caminho de serviço em leito natural - com escavadeira e caminhão basculante de 14 m³ | D26: DNIT 106/2009 | E26: m³ | F26: 1206.38 | G26: 9.39 | H26: =$K$6 -> 0.2123 | I26: =ROUND(((H26+1)*G26),2) -> 11.38 | J26: =TRUNC((G26*F26),2) -> 11327.9 | K26: =TRUNC((I26*F26),2) -> 13728.6
A27: 4.7 | B27: CPUTER02 | C27: Escavação, carga e transporte de material de 2ª categoria na distância de 65.82 km - caminho de serviço pavimentado - com carregadeira e caminhão basculante de 14 m³ | D27: DNIT 106/2009 DNIT 107/2009 | E27: m³ | F27: 852.77 | G27: 76.6 | H27: =$K$6 -> 0.2123 | I27: =ROUND(((H27+1)*G27),2) -> 92.86 | J27: =TRUNC((G27*F27),2) -> 65322.18 | K27: =TRUNC((I27*F27),2) -> 79188.22 | L27: 65.82
A28: 4.8 | B28: 5505766 | C28: Desmonte de material de 3ª categoria a frio com argamassa expansiva a céu aberto | D28: DNIT 106/2009 | E28: m³ | F28: 2411.26 | G28: 389.49 | H28: =$K$6 -> 0.2123 | I28: =ROUND(((H28+1)*G28),2) -> 472.18 | J28: =TRUNC((G28*F28),2) -> 939161.65 | K28: =TRUNC((I28*F28),2) -> 1138548.7
A29: 4.9 | B29: CPUTER03 | C29: Carga e transporte de material proveniente do desmonte de rocha na distância de 65.64 km - com caminhão basculante de 12m³ | D29: DNIT 106/2009 | E29: m³ | F29: 2411.26 | G29: 156.56 | H29: =$K$6 -> 0.2123 | I29: =ROUND(((H29+1)*G29),2) -> 189.8 | J29: =TRUNC((G29*F29),2) -> 377506.86 | K29: =TRUNC((I29*F29),2) -> 457657.14 | L29: 65.3
A30: 4.10 | B30: 5503041 | C30: Compactação de aterros a 100% do Proctor intermediário | D30: DNIT 108/2009-ES | E30: m³ | F30: 210 | G30: 6.48 | H30: =$K$6 -> 0.2123 | I30: =ROUND(((H30+1)*G30),2) -> 7.86 | J30: =TRUNC((G30*F30),2) -> 1360.8 | K30: =TRUNC((I30*F30),2) -> 1650.6
A31: 4.11 | B31: 5502978 | C31: Compactação de aterros a 100% do Proctor normal | D31: DNIT 108/2009-ES | E31: m³ | F31: 4724.28 | G31: 5.6 | H31: =$K$6 -> 0.2123 | I31: =ROUND(((H31+1)*G31),2) -> 6.79 | J31: =TRUNC((G31*F31),2) -> 26455.96 | K31: =TRUNC((I31*F31),2) -> 32077.86
A32: 4.12 | B32: CPUTER04 | C32: Colchão de Areia para rebaixo em rocha | D32: EC-TER-01 | E32: m³ | F32: 986.8 | G32: 205.48 | H32: =$K$6 -> 0.2123 | I32: =ROUND(((H32+1)*G32),2) -> 249.1 | J32: =TRUNC((G32*F32),2) -> 202767.66 | K32: =TRUNC((I32*F32),2) -> 245811.88
A33: 4.13 | B33: 5501700 | C33: Desmatamento, destocamento e limpeza de área com árvores de diâmetro até 0,15 m | D33: DNIT 104/2009-ES | E33: m² | F33: 6710 | G33: 0.7 | H33: =$K$6 -> 0.2123 | I33: =ROUND(((H33+1)*G33),2) -> 0.85 | J33: =TRUNC((G33*F33),2) -> 4697 | K33: =TRUNC((I33*F33),2) -> 5703.5
A34: 4.14 | B34: CPUTER05 | C34: Carga e transporte de expurgo proveniente de limpeza da área de intervenção na distância de 65.58 km - com caminhão basculante de 12m³ | D34: DNIT 106/2009 | E34: m³ | F34: 1006.5 | G34: 73.46 | H34: =$K$6 -> 0.2123 | I34: =ROUND(((H34+1)*G34),2) -> 89.06 | J34: =TRUNC((G34*F34),2) -> 73937.49 | K34: =TRUNC((I34*F34),2) -> 89638.89
A35: 4.15 | B35: CPUAMB02 | C35: Pagamento do descarrego de materiais em aterro licenciado (Solo ou Mat. Granular) | D35: EC-OC-01 | E35: t | F35: 10006.85 | G35: 39.38 | H35: =$K$7 -> 0.15 | I35: =ROUND(((H35+1)*G35),2) -> 45.29 | J35: =TRUNC((G35*F35),2) -> 394069.75 | K35: =TRUNC((I35*F35),2) -> 453210.23
A36: 5.0 | C36: DRENAGEM | K36: =SUBTOTAL(9,K37:K68) -> 607426.93
A37: 5.1 | C37: DRENAGEM SUPERFICIAL | K37: =SUBTOTAL(9,K38:K46) -> 193123.69
A38: 5.1.1 | B38: 2003309 | C38: Valeta de proteção de cortes com revestimento de concreto - VPCC 120-30 - escavação mecânica - areia e brita comerciais | D38: DNIT 018/2023-ES | E38: m | F38: 231.93 | G38: 99.59 | H38: =$K$6 -> 0.2123 | I38: =ROUND(((H38+1)*G38),2) -> 120.73 | J38: =TRUNC((G38*F38),2) -> 23097.9 | K38: =TRUNC((I38*F38),2) -> 28000.9
A39: 5.1.2 | B39: 2003315 | C39: Valeta de proteção de aterros com revestimento de concreto - VPAC 120-30 - escavação mecânica - areia e brita comerciais | D39: DNIT 018/2023-ES | E39: m | F39: 801.52 | G39: 99.59 | H39: =$K$6 -> 0.2123 | I39: =ROUND(((H39+1)*G39),2) -> 120.73 | J39: =TRUNC((G39*F39),2) -> 79823.37 | K39: =TRUNC((I39*F39),2) -> 96767.5
A40: 5.1.3 | B40: 2003269 | C40: Sarjeta triangular de concreto - STC 73-15 - escavação mecânica - areia e brita comerciais | D40: DNIT 018/2023-ES | E40: m | F40: 214.9 | G40: 45.42 | H40: =$K$6 -> 0.2123 | I40: =ROUND(((H40+1)*G40),2) -> 55.06 | J40: =TRUNC((G40*F40),2) -> 9760.75 | K40: =TRUNC((I40*F40),2) -> 11832.39
A41: 5.1.4 | B41: 2003127 | C41: Entrada para descida d'água - EDA 07 A - areia e brita comerciais | D41: DNIT 018/2023-ES | E41: un | F41: 2 | G41: 845.11 | H41: =$K$6 -> 0.2123 | I41: =ROUND(((H41+1)*G41),2) -> 1024.53 | J41: =TRUNC((G41*F41),2) -> 1690.22 | K41: =TRUNC((I41*F41),2) -> 2049.06
A42: 5.1.5 | B42: 2003147 | C42: Entrada para descida d'água - EDA 07 B - areia e brita comerciais | D42: DNIT 021/2023-ES | E42: un | F42: 3 | G42: 1157.07 | H42: =$K$6 -> 0.2123 | I42: =ROUND(((H42+1)*G42),2) -> 1402.72 | J42: =TRUNC((G42*F42),2) -> 3471.21 | K42: =TRUNC((I42*F42),2) -> 4208.16
A43: 5.1.6 | B43: 2003393 | C43: Descida d'água de aterros tipo rápido - DAR 60-30 - areia e brita comerciais | D43: DNIT 021/2023-ES | E43: m | F43: 23.85 | G43: 371.19 | H43: =$K$6 -> 0.2123 | I43: =ROUND(((H43+1)*G43),2) -> 449.99 | J43: =TRUNC((G43*F43),2) -> 8852.88 | K43: =TRUNC((I43*F43),2) -> 10732.26
A44: 5.1.7 | B44: 2003173 | C44: Descida d'água de cortes em degraus - DCD 100-50 - areia e brita comerciais | D44: DNIT 021/2023-ES | E44: m | F44: 18.6 | G44: 892.77 | H44: =$K$6 -> 0.2123 | I44: =ROUND(((H44+1)*G44),2) -> 1082.31 | J44: =TRUNC((G44*F44),2) -> 16605.52 | K44: =TRUNC((I44*F44),2) -> 20130.96
...

Sheet CRONOGRAMA ONE
C5: ='P.O. ONERADO'!B2 -> PROJETO PARA IMPLANTAÇÃO DE RAMO DE EMERGÊNCIA (AREA DE ESCAPE) NA RODOVIA BR 232, ENTRE OS KM 60 E 63
C7: RODOVIA: BR-232
C8: ='P.O. ONERADO'!A7 -> TRECHO: KM 60 AO 63
C9: CRONOGRAMA FÍSICO FINANCEIRO
C12: ATIVIDADES | F12: VALOR TOTAL | G12: MÊS | Q12: TOTAL
G13: 1 | H13: 2 | I13: 3 | J13: 4 | K13: 5 | L13: 6 | M13: 7 | N13: 8 | O13: 9 | P13: 10
C14: 1.0 | D14: =VLOOKUP(C14,'P.O. ONERADO'!A:K,3,FALSE) -> ADMINISTRAÇÃO LOCAL DA OBRA | F14: =VLOOKUP(C14,'P.O. ONERADO'!A:K,11,FALSE) -> 655352.71 | G14: =SUM(G19,G22,G25,G28,G31,G37,G40,G43,G46,G34)/SUM($F$17:$F$46) -> 0.081738673 | H14: =SUM(H19,H22,H25,H28,H31,H37,H40,H43,H46,H34)/SUM($F$17:$F$46) -> 0.043638604 | I14: =SUM(I19,I22,I25,I28,I31,I37,I40,I43,I46,I34)/SUM($F$17:$F$46) -> 0.090356549 | J14: =SUM(J19,J22,J25,J28,J31,J37,J40,J43,J46,J34)/SUM($F$17:$F$46) -> 0.077202858 | K14: =SUM(K19,K22,K25,K28,K31,K37,K40,K43,K46,K34)/SUM($F$17:$F$46) -> 0.077202858 | L14: =SUM(L19,L22,L25,L28,L31,L37,L40,L43,L46,L34)/SUM($F$17:$F$46) -> 0.19646694 | M14: =SUM(M19,M22,M25,M28,M31,M37,M40,M43,M46,M34)/SUM($F$17:$F$46) -> 0.12119523 | N14: =SUM(N19,N22,N25,N28,N31,N37,N40,N43,N46,N34)/SUM($F$17:$F$46) -> 0.13060665 | ... P14: =SUM(P19,P22,P25,P28,P31,P37,P40,P43,P46,P34)/SUM($F$17:$F$46) -> 0.11917699 | Q14: =SUM(G16:P16) -> 655352.71 | R14: =SUM(G14:P14) -> 1
G16: =$F14*G14 -> 53567.661 | H16: =$F14*H14 -> 28598.677 | I16: =$F14*I14 -> 59215.41 | J16: =$F14*J14 -> 50595.102 | K16: =$F14*K14 -> 50595.102 | L16: =$F14*L14 -> 128755.14 | M16: =$F14*M14 -> 79425.621 | N16: =$F14*N14 -> 85593.419 | ... P16: =$F14*P14 -> 78102.964 | R16: =Q14=F14 -> TRUE
C17: 2.0 | D17: =VLOOKUP(C17,'P.O. ONERADO'!A:K,3,FALSE) -> CANTEIRO DE OBRAS | F17: =VLOOKUP(C17,'P.O. ONERADO'!A:K,11,FALSE) -> 1223236 | G17: 0.6 | H17: 0.2 | I17: 0.025 | J17: 0.025 | K17: 0.025 | L17: 0.025 | M17: 0.025 | N17: 0.025 | O17: 0.025 | P17: 0.025 | Q17: =SUM(G19:P19) -> 1223236 | R17: =SUM(G17:P17) -> 1
G19: =$F17*G17 -> 733941.6 | H19: =$F17*H17 -> 244647.2 | I19: =$F17*I17 -> 30580.9 | J19: =$F17*J17 -> 30580.9 | K19: =$F17*K17 -> 30580.9 | L19: =$F17*L17 -> 30580.9 | M19: =$F17*M17 -> 30580.9 | N19: =$F17*N17 -> 30580.9 | ... P19: =$F17*P17 -> 30580.9 | R19: =Q17=F17 -> TRUE
C20: 3.0 | D20: =VLOOKUP(C20,'P.O. ONERADO'!A:K,3,FALSE) -> MOBILIZAÇÃO E DESMOBILIZAÇÃO | F20: =VLOOKUP(C20,'P.O. ONERADO'!A:K,11,FALSE) -> 69945.65 | G20: 0.3 | H20: 0.3 | P20: 0.4 | Q20: =SUM(G22:P22) -> 69945.65 | R20: =SUM(G20:P20) -> 1
G22: =$F20*G20 -> 20983.695 | H22: =$F20*H20 -> 20983.695 | I22: =$F20*I20 -> 0 | J22: =$F20*J20 -> 0 | K22: =$F20*K20 -> 0 | L22: =$F20*L20 -> 0 | M22: =$F20*M20 -> 0 | N22: =$F20*N20 -> 0 | ... P22: =$F20*P20 -> 27978.26 | R22: =Q20=F20 -> TRUE
C23: 4.0 | D23: =VLOOKUP(C23,'P.O. ONERADO'!A:K,3,FALSE) -> TERRAPLENAGEM | F23: =VLOOKUP(C23,'P.O. ONERADO'!A:K,11,FALSE) -> 2602426.3 | I23: 0.25 | J23: 0.25 | K23: 0.25 | L23: 0.25 | Q23: =SUM(G25:P25) -> 2602426.3 | R23: =SUM(G23:P23) -> 1
G25: =$F23*G23 -> 0 | H25: =$F23*H23 -> 0 | I25: =$F23*I23 -> 650606.59 | J25: =$F23*J23 -> 650606.59 | K25: =$F23*K23 -> 650606.59 | L25: =$F23*L23 -> 650606.59 | M25: =$F23*M23 -> 0 | N25: =$F23*N23 -> 0 | ... P25: =$F23*P23 -> 0 | R25: =Q23=F23 -> TRUE
C26: 5.0 | D26: =VLOOKUP(C26,'P.O. ONERADO'!A:K,3,FALSE) -> DRENAGEM | F26: =VLOOKUP(C26,'P.O. ONERADO'!A:K,11,FALSE) -> 607426.93 | H26: 0.2 | I26: 0.2 | M26: 0.2 | N26: 0.2 | O26: 0.2 | Q26: =SUM(G28:P28) -> 607426.93 | R26: =SUM(G26:P26) -> 1
G28: =$F26*G26 -> 0 | H28: =$F26*H26 -> 121485.39 | I28: =$F26*I26 -> 121485.39 | M28: =$F26*M26 -> 121485.39 | N28: =$F26*N26 -> 121485.39 | O28: =$F26*O26 -> 121485.39 | R28: =Q26=F26 -> TRUE
C29: 6.0 | D29: =VLOOKUP(C29,'P.O. ONERADO'!A:K,3,FALSE) -> PAVIMENTAÇÃO | F29: =VLOOKUP(C29,'P.O. ONERADO'!A:K,11,FALSE) -> 624569.79 | L29: 0.3 | M29: 0.4 | N29: 0.3 | Q29: =SUM(G31:P31) -> 624569.79 | R29: =SUM(G29:P29) -> 1
G31: =$F29*G29 -> 0 | H31: =$F29*H29 -> 0 | I31: =$F29*I29 -> 0 | J31: =$F29*J29 -> 0 | L31: =$F29*L29 -> 187370.94 | M31: =$F29*M29 -> 249827.92 | N31: =$F29*N29 -> 187370.94 | R31: =Q29=F29 -> TRUE
C32: 7.0 | D32: =VLOOKUP(C32,'P.O. ONERADO'!A:K,3,FALSE) -> ESTRUTURA DE CONTENÇÃO | F32: =VLOOKUP(C32,'P.O. ONERADO'!A:K,11,FALSE) -> 2285332.6 | L32: 0.4 | M32: 0.3 | N32: 0.3 | Q32: =SUM(G34:P34) -> 2285332.6 | R32: =SUM(G32:P32) -> 1
G34: =$F32*G32 -> 0 | H34: =$F32*H32 -> 0 | I34: =$F32*I32 -> 0 | J34: =$F32*J32 -> 0 | K34: =$F32*K32 -> 0 | L34: =$F32*L32 -> 914133.02 | M34: =$F32*M32 -> 685599.77 | N34: =$F32*N32 -> 685599.77 | ... P34: =$F32*P32 -> 0 | R34: =Q32=F32 -> TRUE
C35: 8.0 | D35: =VLOOKUP(C35,'P.O. ONERADO'!A:K,3,FALSE) -> SINALIZAÇÃO | F35: =VLOOKUP(C35,'P.O. ONERADO'!A:K,11,FALSE) -> 623062.61 | P35: 1 | Q35: =SUM(G37:P37) -> 623062.61 | R35: =SUM(G35:P35) -> 1
G37: =$F35*G35 -> 0 | H37: =$F35*H35 -> 0 | I37: =$F35*I35 -> 0 | J37: =$F35*J35 -> 0 | K37: =$F35*K35 -> 0 | L37: =$F35*L35 -> 0 | M37: =$F35*M35 -> 0 | N37: =$F35*N35 -> 0 | ... P37: =$F35*P35 -> 623062.61 | R37: =Q35=F35 -> TRUE
C38: 9.0 | D38: =VLOOKUP(C38,'P.O. ONERADO'!A:K,3,FALSE) -> OBRAS COMPLEMENTARES | F38: =VLOOKUP(C38,'P.O. ONERADO'!A:K,11,FALSE) -> 561010.43 | O38: 0.5 | P38: 0.5 | Q38: =SUM(G40:P40) -> 561010.43 | R38: =SUM(G38:P38) -> 1
G40: =$F38*G38 -> 0 | H40: =$F38*H38 -> 0 | I40: =$F38*I38 -> 0 | J40: =$F38*J38 -> 0 | K40: =$F38*K38 -> 0 | L40: =$F38*L38 -> 0 | M40: =$F38*M38 -> 0 | N40: =$F38*N38 -> 0 | ... P40: =$F38*P38 -> 280505.22 | R40: =Q38=F38 -> TRUE
C41: 10.0 | D41: =VLOOKUP(C41,'P.O. ONERADO'!A:K,3,FALSE) -> ILUMINAÇÃO PÚBLICA | F41: =VLOOKUP(C41,'P.O. ONERADO'!A:K,11,FALSE) -> 373448.3 | N41: 0.4 | O41: 0.3 | P41: 0.3 | Q41: =SUM(G43:P43) -> 373448.3 | R41: =SUM(G41:P41) -> 1
G43: =$F41*G41 -> 0 | H43: =$F41*H41 -> 0 | I43: =$F41*I41 -> 0 | J43: =$F41*J41 -> 0 | K43: =$F41*K41 -> 0 | L43: =$F41*L41 -> 0 | M43: =$F41*M41 -> 0 | N43: =$F41*N41 -> 149379.32 | ... P43: =$F41*P41 -> 112034.49 | R43: =Q41=F41 -> TRUE
C44: 11.0 | D44: =VLOOKUP(C44,'P.O. ONERADO'!A:K,3,FALSE) -> SINALIZAÇÃO DE OBRA | F44: =VLOOKUP(C44,'P.O. ONERADO'!A:K,11,FALSE) -> 265381.24 | H44: 0.06 | I44: 0.12 | J44: 0.12 | K44: 0.12 | L44: 0.12 | M44: 0.12 | N44: 0.12 | O44: 0.12 | P44: 0.1 | Q44: =SUM(G46:P46) -> 265381.24 | R44: =SUM(G44:P44) -> 1
G46: =$F44*G44 -> 0 | H46: =$F44*H44 -> 15922.874 | I46: =$F44*I44 -> 31845.749 | J46: =$F44*J44 -> 31845.749 | K46: =$F44*K44 -> 31845.749 | L46: =$F44*L44 -> 31845.749 | M46: =$F44*M44 -> 31845.749 | N46: =$F44*N44 -> 31845.749 | ... P46: =$F44*P44 -> 26538.124 | R46: =Q44=F44 -> TRUE
C47: TOTAIS | E47: OBRA | F47: =SUM(F14:F46) -> 9891192.6 | Q47: =SUM(Q14:Q46) -> 9891192.6 | R47: =Q47=F47 -> TRUE | S47: =F47=RESUMO_ONERADO!C27 -> TRUE
E48: EM R$ | F48: MENSAL | G48: =SUM(G16,G19,G22,G25,G28,G31,G37,G40,G43,G46,G34) -> 808492.96 | H48: =SUM(H16,H19,H22,H25,H28,H31,H37,H40,H43,H46,H34) -> 431637.83 | I48: =SUM(I16,I19,I22,I25,I28,I31,I37,I40,I43,I46,I34) -> 893734.03 | J48: =SUM(J16,J19,J22,J25,J28,J31,J37,J40,J43,J46,J34) -> 763628.34 | K48: =SUM(K16,K19,K22,K25,K28,K31,K37,K40,K43,K46,K34) -> 763628.34 | L48: =SUM(L16,L19,L22,L25,L28,L31,L37,L40,L43,L46,L34) -> 1943292.3 | M48: =SUM(M16,M19,M22,M25,M28,M31,M37,M40,M43,M46,M34) -> 1198765.3 | N48: =SUM(N16,N19,N22,N25,N28,N31,N37,N40,N43,N46,N34) -> 1291855.5 | ... P48: =SUM(P16,P19,P22,P25,P28,P31,P37,P40,P43,P46,P34) -> 1178802.6
F49: ACUMULADO | G49: =G48 -> 808492.96 | H49: =G49+H48 -> 1240130.8 | I49: =H49+I48 -> 2133864.8 | J49: =I49+J48 -> 2897493.2 | K49: =J49+K48 -> 3661121.5 | L49: =K49+L48 -> 5604413.8 | M49: =L49+M48 -> 6803179.2 | N49: =M49+N48 -> 8095034.6 | O49: =N49+O48 -> 8712390 | P49: =O49+P48 -> 9891192.6
E50: EM % | F50: MENSAL | G50: =G48/$F$47 -> 0.081738673 | H50: =H48/$F$47 -> 0.043638604 | I50: =I48/$F$47 -> 0.090356549 | J50: =J48/$F$47 -> 0.077202858 | K50: =K48/$F$47 -> 0.077202858 | L50: =L48/$F$47 -> 0.19646694 | M50: =M48/$F$47 -> 0.12119523 | N50: =N48/$F$47 -> 0.13060665 | ... P50: =P48/$F$47 -> 0.11917699
F51: ACUMULADO | G51: =G50 -> 0.081738673 | H51: =G51+H50 -> 0.12537728 | I51: =H51+I50 -> 0.21573383 | J51: =I51+J50 -> 0.29293668 | K51: =J51+K50 -> 0.37013954 | L51: =K51+L50 -> 0.56660648 | M51: =L51+M50 -> 0.68780171 | N51: =M51+N50 -> 0.81840836 | O51: =N51+O50 -> 0.88082301 | P51: =O51+P50 -> 1
J54: =1/8 -> 0.125 | L54: =20/8 -> 2.5
K56: 650 | O56: -326.09 | Q56: 0.000131162
F61: TRUE
Q62: TRUE
G65: 1270565.7 | H65: 106030.23 | I65: 4111662.6 | J65: 4575963.5 | K65: 4572572.7 | L65: 5031324.7 | M65: 4985846.7 | N65: 5562067.1 | O65: 5562067.1 | P65: 5562067.1
G68: 0.02041 | H68: 0.0017 | I68: 0.06604 | J68: 0.0735 | K68: 0.07345 | L68: 0.08081 | M68: 0.08008 | N68: 0.08934 | O68: 0.08934 | P68: 0.08934

Sheet CURVA ABC
F2: SISTEMA DE ORÇAMENTO E CUSTOS CURVA ABC DE SERVIÇOS
M3: Data: | O3: 18/03/2026
O4: 1 / 5
M5: Pág:
A11: Item | D11: Descrição Completa | G11: Unid | H11: Quantidade | K11: Preço Unitário | L11: Custo Total | N11: % | P11: %Acum.
A13: Orçamento: Projeto
A14: CPUCAN01 | D14: INSTALAÇÃO DO CANTEIRO DE OBRA | G14: UN | H14: 1 | K14: 1223236 | L14: 1223236 | N14: 12.366921 | P14: 12.366921
A15: 5505766 | D15: DESMONTE DE MATERIAL DE 3ª CATEGORIA A FRIO COM ARGAMASSA EXPANSIVA A CÉU ABERTO | G15: M³ | H15: 2411.26 | K15: 472.18 | L15: 1138548.7 | N15: 11.510733 | P15: 23.877654
A16: CPUEST02 | D16: AQUISIÇÃO DE CINASITA (ARGILA EXPANDIDA) | G16: M³ | H16: 955.84 | K16: 1092.32 | L16: 1044083.1 | N16: 10.555685 | P16: 34.433338
A17: CPUADM01 | D17: ADMINISTRAÇÃO LOCAL DA OBRA | G17: UN | H17: 1 | K17: 655352.71 | L17: 655352.71 | N17: 6.6256186 | P17: 41.058957
A18: 0407819 | D18: ARMAÇÃO EM AÇO CA-50 - FORNECIMENTO, PREPARO E COLOCAÇÃO | G18: KG | H18: 34150 | K18: 15.58 | L18: 532057 | N18: 5.3790985 | P18: 46.438056
A19: CPUOBC01 | D19: DEFENSA SEMIMALEÁVEL TRIPLA ONDA H4BW3 - FORNECIMENTO E IMPLANTAÇÃO | G19: M | H19: 420 | K19: 1108.67 | L19: 465641.4 | N19: 4.7076365 | P19: 51.145692
A20: CPUTER03 | D20: CARGA E TRANSPORTE DE MATERIAL PROVENIENTE DO DESMONTE DE ROCHA NA DISTÂNCIA DE 65,64 KM - COM CAMINHÃO BASCULANTE DE 12 M³ | G20: M³ | H20: 2411.26 | K20: 189.8 | L20: 457657.15 | N20: 4.6269157 | P20: 55.772608
A21: CPUAMB02 | D21: PAGAMENTO DE DEPÓSITO DE MATERIAL EM ATERRO LICENCIADO (SOLO OU MAT. GRANULAR) | G21: T | H21: 10040.76 | K21: 45.29 | L21: 454746.02 | N21: 4.5974841 | P21: 60.370092
A22: 3108000 | D22: FÔRMAS DE COMPENSADO RESINADO 12 MM - USO GERAL - UTILIZAÇÃO DE 2 VEZES - CONFECÇÃO, INSTALAÇÃO E RETIRADA | G22: M² | H22: 2748.21 | K22: 126.38 | L22: 347318.78 | N22: 3.5113943 | P22: 63.881486
A23: CPUEST04 | D23: AQUISIÇÃO DE CONCRETO PARA BOMBEAMAENTO FCK = 35MPA - MASSA COMERCIAL | G23: M³ | H23: 526.35 | K23: 619.16 | L23: 325894.87 | N23: 3.2947984 | P23: 67.176285
A24: CPUILU14 | D24: POSTE DE SEGURANÇA PASSIVA PARA ILUMINAÇÃO PÚBLICA, COM DESEMPENHO COLAPSÍVEL, TIPO HE, CIRCULAR CÔNICO CONTÍNUO, CURVO SIMPLES, 10,0 M DE ALTURA UTIL, EM CONFORMIDADE COM A NORMA EN12767 E A NORMA NBR 15486/2016. FABRICADOS EM CHAPA DE AÇO CARBONO ESTRUTURAL DE PROPRIEDADES MECÂNICAS GARANTIDAS POR CERTIFICADO, SOLDADO LONGITUDINALMENTE ATRAVES DE PROCEDIMENTO DE SOLDAGEM CERTIFICADO, EM CONFORMIDADE COM A NORMA AWS D1.1. FIXADO AO SOLO POR ENGASTAMENTO NA FUNDAÇÃO INTELIGENTE ATLANTECH, FAB TECHNOMAST OU EQUIVALENTE TÉCNICO | G24: UN | H24: 19 | K24: 17056.87 | L24: 324080.53 | N24: 3.2764555 | P24: 70.45274
A25: 5213630 | D25: SEMIPÓRTICO METÁLICO COM VÃO DE 8,3 M, VENTO DE 35 M/S E ÁREA DE EXPOSIÇÃO DE ATÉ 12,45 M² - FORNECIMENTO E IMPLANTAÇÃO - AREIA E BRITA COMERCIAIS | G25: UN | H25: 4 | K25: 76255.54 | L25: 305022.16 | N25: 3.0837753 | P25: 73.536515
... A38: CPUMOB01 | D38: MOBILIZAÇÃO E DESMOBILIZAÇÃO DE EQUIPAMENTOS | G38: UN | H38: 1 | K38: 69945.65 | L38: 69945.65 | N38: 0.70715081 | P38: 89.265008
F40: SISTEMA DE ORÇAMENTO E CUSTOS CURVA ABC DE SERVIÇOS
M41: Data: | O41: 18/03/2026
O42: 2 / 5
M43: Pág:
A49: Item | D49: Descrição Completa | G49: Unid | H49: Quantidade | K49: Preço Unitário | L49: Custo Total | N49: % | P49: %Acum.
A50: 6106329 | D50: ESCAVAÇÃO MECÂNICA DE FUSTE DE TUBULÃO COM TRADO PARA ROCHA EM MATERIAL DE 3ª CATEGORIA | G50: M³ | H50: 54.4 | K50: 1200.7 | L50: 65318.08 | N50: 0.66036606 | P50: 89.925374
A51: CPUOBC02 | D51: ANCORAGEM DE DEFENSA METÁLICA SEMIMALEÁVEL TRIPLA ONDA H4BAW3 - FORNECIMENTO E IMPLANTAÇÃO | G51: M | H51: 36 | K51: 1760.19 | L51: 63366.84 | N51: 0.64063901 | P51: 90.566013
A52: CPUTER01 | D52: ESCAVAÇÃO, CARGA E TRANSPORTE DE MATERIAL DE 1ª CATEGORIA NA DISTÂNCIA DE 21,62 KM - CAMINHO DE SERVIÇO PAVIMENTADO - COM ESCAVADEIRA E CAMINHÃO BASCULANTE DE 14 M³ | G52: M³ | H52: 1608.48 | K52: 34.71 | L52: 55830.341 | N52: 0.56444498 | P52: 91.130458
A53: CPUPAV07 | D53: AQUISIÇÃO DE BRITA GRADUADA SIMPLES | G53: M³ | H53: 467.63 | K53: 112.09 | L53: 52416.647 | N53: 0.52993251 | P53: 91.66039
A54: 0407818 | D54: ARMAÇÃO EM AÇO CA-25 - FORNECIMENTO, PREPARO E COLOCAÇÃO | G54: KG | H54: 3309.6 | K54: 15 | L54: 49644 | N54: 0.50190104 | P54: 92.162291
A55: CPUOAC02 | D55: CAIXA COLETORA DE TALVEGUE COM GRELHA DE CONCRETO - CCT 300-100 A - AREIA E BRITA COMERCIAIS | G55: UN | H55: 6 | K55: 8231.26 | L55: 49387.56 | N55: 0.49930844 | P55: 92.6616
A56: 5213568 | D56: PLACA EM ALUMÍNIO COMPOSTO, ESPESSURA DE 3,0 MM, MODULADA, AÉREA - PELÍCULA RETRORREFLETIVA TIPO X + SI - FORNECIMENTO E IMPLANTAÇÃO | G56: M² | H56: 30 | K56: 1600.89 | L56: 48026.7 | N56: 0.48555014 | P56: 93.14715
A57: 4011282 | D57: BASE OU SUB-BASE DE MACADAME HIDRÁULICO COM BRITA COMERCIAL - 100% PROCTOR MODIFICADO | G57: M³ | H57: 217.5 | K57: 204.7 | L57: 44522.25 | N57: 0.45012013 | P57: 93.59727
A58: CPUPAV11 | D58: EXECUÇÃO PAVIMENTO DE CONCRETO COM EQUIPAMENTO DE PEQUENO PORTE - AREIA E BRITA COMERCIAIS | G58: M³ | H58: 526.35 | K58: 71.47 | L58: 37618.234 | N58: 0.38032051 | P58: 93.97759
A59: 1106088 | D59: LANÇAMENTO MECÂNICO DE CONCRETO COM BOMBA REBOCÁVEL COM CAPACIDADE DE 30 M³/H - CONFECÇÃO EM CENTRAL DOSADORA DE 30 M³/H | G59: M³ | H59: 399.1 | K59: 82.81 | L59: 33049.471 | N59: 0.33413029 | P59: 94.311721
A60: 5502978 | D60: COMPACTAÇÃO DE ATERROS A 100% DO PROCTOR NORMAL | G60: M³ | H60: 4724.28 | K60: 6.79 | L60: 32077.861 | N60: 0.32430731 | P60: 94.636028
A61: 5213347 | D61: DISPOSITIVO DE DIRECIONAMENTO OU BLOQUEIO TIPO TAPUME - UTILIZAÇÃO DE 150 CICLOS - FORNECIMENTO, 01 IMPLANTAÇÃO E 01 RETIRADA DIÁRIA | G61: M².DIA | H61: 3080 | K61: 9.33 | L61: 28736.4 | N61: 0.29052512 | P61: 94.926553
... A75: 2003269 | D75: SARJETA TRIANGULAR DE CONCRETO - STC 73-15 - ESCAVAÇÃO MECÂNICA - AREIA E BRITA COMERCIAIS | G75: M | H75: 214.9 | K75: 55.06 | L75: 11832.394 | N75: 0.11962555 | P75: 97.576147
F77: SISTEMA DE ORÇAMENTO E CUSTOS CURVA ABC DE SERVIÇOS
M78: Data: | O78: 18/03/2026
O79: 3 / 5
...

Sheet ADM-Resumo
A1: RODOVIA: BR-232 TRECHO: Km 60 ao 63 OBRA: Área de Escape | H1: =A1 -> RODOVIA: BR-232 TRECHO: Km 60 ao 63 OBRA: Área de Escape
E4: Data-base: | F4: 45839 | L4: Data-base: | M4: =F4 -> 45839
A7: RESUMO DAS PARCELAS DA ADMINISTRAÇÃO LOCAL | H7: RESUMO DAS PARCELAS DA ADMINISTRAÇÃO LOCAL
A8: OBRA DE INTERVENÇÃO PONTUAL RESTRITA | H8: OBRA DE INTERVENÇÃO PONTUAL RESTRITA
A9: (SEM desoneração da mão de obra) | H9: (COM desoneração da mão de obra)
A11: Item | B11: Discriminação | C11: Unidade | D11: Quant. | E11: Custo unitário (R$) | F11: Custo total (R$) | H11: Item | I11: Discriminação | J11: Unidade | K11: Quant. | L11: Custo unitário (R$) | M11: Custo total (R$)
A12: 1.0 | B12: Parcela Fixa Principal | H12: 1. | I12: Parcela Fixa Principal
A13: 1.1 | B13: Mão de Obra | C13: mês | D13: 8 | E13: ='ADM-Fixa'!G37 -> 23650.43 | F13: =E13*D13 -> 189203.44 | H13: 1.1 | I13: Mão de Obra | J13: mês | K13: =D13 -> 8 | L13: ='ADM-Fixa'!R37 -> 21502.29 | M13: =L13*K13 -> 172018.32
A14: 1.2 | B14: Veículos | C14: mês | D14: 8 | E14: ='ADM-Fixa'!J53 -> 9843.4336 | F14: =E14*D14 -> 78747.469 | H14: 1.2 | I14: Veículos | J14: mês | K14: =D14 -> 8 | L14: ='ADM-Fixa'!U53 -> 9270.9276 | M14: =L14*K14 -> 74167.421
A15: Subtotal do Item 1 | F15: =SUM(F13:F14) -> 267950.91 | H15: Subtotal do Item 1 | M15: =SUM(M13:M14) -> 246185.74
A16: 2. | B16: Parcela Vinculada | H16: 2. | I16: Parcela Vinculada
A17: 2.1 | B17: Equipe de topografia | C17: mês | D17: 8 | E17: ='ADM-Vinculada'!J23 -> 20803.12 | F17: =E17*D17 -> 166424.96 | H17: 2.2 | I17: Equipe de topografia | J17: mês | K17: =D17 -> 8 | L17: 21902.949 | M17: =L17*K17 -> 175223.59
A18: 2.2 | B18: Equipe de Segurança do Trabalho | C18: mês | D18: 9 | E18: ='ADM-Vinculada'!J31 -> 7365.8624 | F18: =E18*D18 -> 66292.762 | H18: 2.2 | I18: Equipe de topografia | J18: mês | K18: =D18 -> 9 | L18: 0 | M18: =L18*K18 -> 0
A19: Subtotal do Item 2 | F19: =SUM(F17:F18) -> 232717.72 | H19: Subtotal do Item 2 | M19: =SUM(M17:M17) -> 175223.59
A20: 3. | B20: Parcela Variável | H20: 3. | I20: Parcela Variável
A21: 3.1 | B21: Equipes de frente de serviço | C21: eq x mês | D21: 0 | E21: ='ADM-Variavel$'!G14 -> 0 | F21: =E21*D21 -> 0 | H21: 3.1 | I21: Equipes de frente de serviço | J21: eq x mês | K21: =D21 -> 0 | L21: ='ADM-Variavel$'!R14 -> 0 | M21: =L21*K21 -> 0
A22: 3.2 | B22: Laboratório de solos | C22: eq x mês | D22: ='ADM-Variavel'!G9 -> 0.080973975 | E22: ='ADM-Variavel$'!G22 -> 19369.96 | F22: =E22*D22 -> 1568.4626 | H22: 3.2 | I22: Laboratório de solos | J22: eq x mês | K22: =D22 -> 0.080973975 | L22: ='ADM-Variavel$'!R22 -> 17779.956 | M22: =L22*K22 -> 1439.7137
A23: 3.3 | B23: Laboratório de concreto | C23: eq x mês | D23: ='ADM-Variavel'!G10 -> 0.13187 | E23: ='ADM-Variavel$'!G29 -> 19369.96 | F23: =E23*D23 -> 2554.3166 | H23: 3.4 | I23: Laboratório de concreto | J23: eq x mês | K23: =D23 -> 0.13187 | L23: ='ADM-Variavel$'!R29 -> 17779.956 | M23: =L23*K23 -> 2344.6428
A24: 3.4 | B24: Manejo florestal | C24: eq x mês | D24: ='ADM-Variavel'!G49 -> 0.02399 | E24: ='ADM-Variavel$'!G35 -> 1905.5374 | F24: =E24*D24 -> 45.713843 | H24: 3.5 | I24: Laboratório de concreto | J24: eq x mês | K24: =D24 -> 0.02399 | L24: ='ADM-Variavel$'!R35 -> 1741.5051 | M24: =L24*K24 -> 41.778707
A25: Subtotal do Item 3 | F25: =SUM(F21:F24) -> 4168.493 | H25: Subtotal do Item 3 | M25: =SUM(M21:M24) -> 3826.1353
A26: 4. | B26: Manutenção dos Canteiros de Obras e Acampamentos | H26: 4. | I26: Manutenção dos Canteiros de Obras e Acampamentos
A27: 4.1 | B27: Equipe de manutenção | C27: mês | D27: 8 | E27: ='MANUTENÇÃO DO CANTEIRO E ACAMP.'!G19 -> 1250.8656 | F27: =E27*D27 -> 10006.925 | H27: 4.1 | I27: Equipe de manutenção | J27: mês | K27: =D27 -> 8 | L27: ='MANUTENÇÃO DO CANTEIRO E ACAMP.'!O19 -> 1156.1364 | M27: =L27*K27 -> 9249.0914
A28: Subtotal do Item 4 | F28: =F27 -> 10006.925 | H28: Subtotal do Item 4 | M28: =M27 -> 9249.0914
A30: Subtotal | F30: =F25+F15+F28+F19 -> 514844.05 | H30: Subtotal | M30: =M25+M19+M15+M28 -> 434484.55
A32: 5. | B32: Despesas Diversas | H32: 5. | I32: Despesas Diversas
A33: 5.1 | B33: Despesas Diversas | C33: % | D33: 0.05 | F33: =F30*D33 -> 25742.202 | H33: 5.1 | I33: Despesas Diversas | J33: % | K33: 0.05 | M33: =M30*K33 -> 21724.228
A35: Custo total da Administração Local | F35: =F33+F30 -> 540586.25 | H35: Custo total da Administração Local | M35: =M33+M30 -> 456208.78
A37: OBS: As parcelas de custo incluem mão de obra e veículos | H37: OBS: As parcelas de custo incluem mão de obra e veículos
F41: 7724833.6 | M41: 7157014.9 | Q41: 7157014.9
F42: =F35=F41 -> FALSE | M42: =M35=M41 -> FALSE
P43: =M41=Q41 -> TRUE

Sheet ADM-Fixa
A2: ='ADM-Resumo'!A1 -> RODOVIA: BR-232 TRECHO: Km 60 ao 63 OBRA: Área de Escape | L2: =A2 -> RODOVIA: BR-232 TRECHO: Km 60 ao 63 OBRA: Área de Escape
A6: ADMINISTRAÇÃO LOCAL | L6: ADMINISTRAÇÃO LOCAL
A7: PARCELA FIXA - DIMENSIONAMENTO | L7: PARCELA FIXA - DIMENSIONAMENTO
A8: ONERADO | L8: DESONERADO
A10: Quantidades das equipes da parcela fixa e complementar | D10: Homens | I10: Data-base: | J10: ='ADM-Resumo'!F4 -> 45839 | L10: Quantidades das equipes da parcela fixa e complementar | O10: Homens | T10: Data-base: | U10: =J10 -> 45839
A11: Total das equipes de parcela fixa e complementar | D11: =E37 -> 2.5 | L11: Total das equipes de parcela fixa e complementar | O11: =P37 -> 2.5
A13: MÃO DE OBRA | L13: =A13 -> MÃO DE OBRA
A14: Código | B14: Discriminação | C14: Código SICRO | D14: Unidade | E14: Quantidade | F14: Custo Unit (Onerado) (R$) | G14: Custo Total (Onerado) (R$) | L14: Código | M14: Discriminação | N14: Código SICRO | O14: Unidade | P14: Quantidade | Q14: Custo Unit (Desonerado) (R$) | R14: Custo Total (Desonerado) (R$)
A15: 1. | B15: Mão de obra (principal fixa) | L15: =A15 -> 1. | M15: Mão de obra (principal fixa)
A16: 1.1. | B16: Gerência Técnica | L16: =A16 -> 1.1. | M16: =B16 -> Gerência Técnica
A17: 1.1.1. | B17: Geral | L17: =A17 -> 1.1.1. | M17: =B17 -> Geral
A18: 1.1.1.1 | B18: Engenheiro Chefe | C18: P9955 | D18: mês | E18: 0 | F18: =VLOOKUP(C18,'[33]SICRO M.O.(ONERADO)'!A:F,4,0) -> 34476.996 | G18: =F18*E18 -> 0 | L18: =A18 -> 1.1.1.1 | M18: =B18 -> Engenheiro Chefe | N18: P9955 | O18: mês | P18: =E18 -> 0 | Q18: =VLOOKUP(N18,'[33]SICRO M.O.(DESONERADO)'!A:F,4,0) -> 31045.221 | R18: =Q18*P18 -> 0
A19: 1.1.1.2 | B19: Engenheiro supervisor | C19: P9819 | D19: mês | E19: 0.25 | F19: =VLOOKUP(C19,'[33]SICRO M.O.(ONERADO)'!A:F,4,0) -> 27139.329 | G19: =F19*E19 -> 6784.8323 | L19: =A19 -> 1.1.1.2 | M19: =B19 -> Engenheiro supervisor | N19: P9819 | O19: mês | P19: =E19 -> 0.25 | Q19: =VLOOKUP(N19,'[33]SICRO M.O.(DESONERADO)'!A:F,4,0) -> 24456.766 | R19: =Q19*P19 -> 6114.1916
A20: 1.1.1.3 | B20: Encarregado geral | C20: P9840 | D20: mês | E20: 1 | F20: =VLOOKUP(C20,'[33]SICRO M.O.(ONERADO)'!A:F,4,0) -> 11171.625 | G20: =F20*E20 -> 11171.625 | L20: =A20 -> 1.1.1.3 | M20: =B20 -> Encarregado geral | N20: P9840 | O20: mês | P20: =E20 -> 1 | Q20: =VLOOKUP(N20,'[33]SICRO M.O.(DESONERADO)'!A:F,4,0) -> 10114.399 | R20: =Q20*P20 -> 10114.399
A21: 1.1.1.4 | B21: Técnico de meio ambiente | C21: P9897 | D21: mês | F21: =VLOOKUP(C21,'[33]SICRO M.O.(ONERADO)'!A:F,4,0) -> 7622.1497 | G21: =F21*E21 -> 0 | L21: =A21 -> 1.1.1.4 | M21: =B21 -> Técnico de meio ambiente | N21: P9897 | O21: mês | P21: =E21 -> 0 | Q21: =VLOOKUP(N21,'[33]SICRO M.O.(DESONERADO)'!A:F,4,0) -> 6966.0204 | R21: =Q21*P21 -> 0
A22: 1.1.1.5 | B22: Motorista | C22: P9948 | D22: mês | F22: =VLOOKUP(C22,'[33]SICRO M.O.(ONERADO)'!A:F,4,0) -> 5896.6377 | G22: =F22*E22 -> 0 | L22: =A22 -> 1.1.1.5 | M22: =B22 -> Motorista | N22: P9948 | O22: mês | P22: =E22 -> 0 | Q22: =VLOOKUP(N22,'[33]SICRO M.O.(DESONERADO)'!A:F,4,0) -> 5419.0563 | R22: =Q22*P22 -> 0
A23: 1.1.1.6 | B23: Secretária | C23: P9878 | D23: mês | F23: =VLOOKUP(C23,'[33]SICRO M.O.(ONERADO)'!A:F,4,0) -> 6719.5959 | G23: =F23*E23 -> 0 | L23: =A23 -> 1.1.1.6 | M23: =B23 -> Secretária | N23: P9878 | O23: mês | P23: =E23 -> 0 | Q23: =VLOOKUP(N23,'[33]SICRO M.O.(DESONERADO)'!A:F,4,0) -> 6154.9947 | R23: =Q23*P23 -> 0
A24: 1.1.2. | B24: Auxiliar | L24: =A24 -> 1.1.2. | M24: =B24 -> Auxiliar
A25: 1.1.2.1 | B25: Engenheiro auxiliar | C25: P9946 | D25: mês | E25: 0 | F25: =VLOOKUP(C25,'[33]SICRO M.O.(ONERADO)'!A:F,4,0) -> 24878.431 | G25: =F25*E25 -> 0 | L25: =A25 -> 1.1.2.1 | M25: =B25 -> Engenheiro auxiliar | N25: P9946 | O25: mês | P25: =E25 -> 0 | Q25: =VLOOKUP(N25,'[33]SICRO M.O.(DESONERADO)'!A:F,4,0) -> 22426.716 | R25: =Q25*P25 -> 0
A26: 1.1.2.2 | B26: Auxiliar técnico | C26: P9903 | D26: mês | E26: 0.75 | F26: =VLOOKUP(C26,'[33]SICRO M.O.(ONERADO)'!A:F,4,0) -> 4763.972 | G26: =F26*E26 -> 3572.979 | L26: =A26 -> 1.1.2.2 | M26: =B26 -> Auxiliar técnico | N26: P9903 | O26: mês | P26: =E26 -> 0.75 | Q26: =VLOOKUP(N26,'[33]SICRO M.O.(DESONERADO)'!A:F,4,0) -> 4406.6316 | R26: =Q26*P26 -> 3304.9737
A27: 1.2 | B27: Gerência Administrativa | L27: =A27 -> 1.2 | M27: =B27 -> Gerência Administrativa
A28: 1.2.1 | B28: Geral | L28: =A28 -> 1.2.1 | M28: =B28 -> Geral
A29: 1.2.1.1 | B29: Chefe do setor administrativo | C29: P9883 | D29: mês | F29: =VLOOKUP(C29,'[33]SICRO M.O.(ONERADO)'!A:F,4,0) -> 7357.4391 | G29: =F29*E29 -> 0 | L29: =A29 -> 1.2.1.1 | M29: =B29 -> Chefe do setor administrativo | N29: P9883 | O29: mês | P29: =E29 -> 0 | Q29: =VLOOKUP(N29,'[33]SICRO M.O.(DESONERADO)'!A:F,4,0) -> 6681.3799 | R29: =Q29*P29 -> 0
A30: 1.2.1.2 | B30: Encarregado administrativo | C30: P9809 | D30: mês | E30: 0 | F30: =VLOOKUP(C30,'[33]SICRO M.O.(ONERADO)'!A:F,4,0) -> 7357.4401 | G30: =F30*E30 -> 0 | L30: =A30 -> 1.2.1.2 | M30: =B30 -> Encarregado administrativo | N30: P9809 | O30: mês | P30: =E30 -> 0 | Q30: =VLOOKUP(N30,'[33]SICRO M.O.(DESONERADO)'!A:F,4,0) -> 6681.3808 | R30: =Q30*P30 -> 0
A31: 1.2.1.3 | B31: Porteiro | C31: P9896 | D31: mês | F31: =VLOOKUP(C31,'[33]SICRO M.O.(ONERADO)'!A:F,4,0) -> 4232.8134 | G31: =F31*E31 -> 0 | L31: =A31 -> 1.2.1.3 | M31: =B31 -> Porteiro | N31: P9896 | O31: mês | P31: =E31 -> 0 | Q31: =VLOOKUP(N31,'[33]SICRO M.O.(DESONERADO)'!A:F,4,0) -> 3924.5317 | R31: =Q31*P31 -> 0
A32: 1.2.1.4 | B32: Vigia | C32: P9827 | D32: mês | F32: =VLOOKUP(C32,'[33]SICRO M.O.(ONERADO)'!A:F,4,0) -> 4843.939 | G32: =F32*E32 -> 0 | L32: =A32 -> 1.2.1.4 | M32: =B32 -> Vigia | N32: P9827 | O32: mês | P32: =E32 -> 0 | Q32: =VLOOKUP(N32,'[33]SICRO M.O.(DESONERADO)'!A:F,4,0) -> 4472.5481 | R32: =Q32*P32 -> 0
A33: 1.2.1.5 | B33: Motorista | C33: P9948 | D33: mês | F33: =VLOOKUP(C33,'[33]SICRO M.O.(ONERADO)'!A:F,4,0) -> 5896.6377 | G33: =F33*E33 -> 0 | L33: =A33 -> 1.2.1.5 | M33: =B33 -> Motorista | N33: P9948 | O33: mês | P33: =E33 -> 0 | Q33: =VLOOKUP(N33,'[33]SICRO M.O.(DESONERADO)'!A:F,4,0) -> 5419.0563 | R33: =Q33*P33 -> 0
A34: 1.2.2 | B34: Auxiliar | L34: =A34 -> 1.2.2 | M34: =B34 -> Auxiliar
A35: 1.2.2.1 | B35: Auxiliar administrativo | C35: P9806 | D35: mês | F35: =VLOOKUP(C35,'[33]SICRO M.O.(ONERADO)'!A:F,4,0) -> 5029.8543 | G35: =F35*E35 -> 0 | L35: =A35 -> 1.2.2.1 | M35: =B35 -> Auxiliar administrativo | N35: P9806 | O35: mês | P35: =E35 -> 0 | Q35: =VLOOKUP(N35,'[33]SICRO M.O.(DESONERADO)'!A:F,4,0) -> 4633.8159 | R35: =Q35*P35 -> 0
A36: 1.2.2.2 | B36: Faxineiro | C36: P9842 | D36: mês | E36: 0.5 | F36: =VLOOKUP(C36,'[33]SICRO M.O.(ONERADO)'!A:F,4,0) -> 4241.9864 | G36: =F36*E36 -> 2120.9932 | L36: =A36 -> 1.2.2.2 | M36: =B36 -> Faxineiro | N36: P9842 | O36: mês | P36: =E36 -> 0.5 | Q36: =VLOOKUP(N36,'[33]SICRO M.O.(DESONERADO)'!A:F,4,0) -> 3937.4508 | R36: =Q36*P36 -> 1968.7254
A37: 1A.Total da mão de obra da parcela principal fixa | E37: =SUM(E16:E36) -> 2.5 | G37: =SUM(G18:G36) -> 23650.43 | L37: =A37 -> 1A.Total da mão de obra da parcela principal fixa | P37: =SUM(P16:P36) -> 2.5 | R37: =SUM(R16:R36) -> 21502.29
A38: OBS: Ajustes segundo o Memorando-Circular n° 491/2018/DIREX/DNIT | L38: =A38 -> OBS: Ajustes segundo o Memorando-Circular n° 491/2018/DIREX/DNIT
A39: Dimensionada conforme Tabela 14 do volume 07 do Manual de Custos do DNIT - Administração Local
A41: VEÍCULOS | L41: =A41 -> VEÍCULOS
A42: Código | B42: Discriminação | C42: Código SICRO | D42: Unidade | E42: Quantidade | F42: Utilização (h) | H42: Custo horário (R$) | J42: Custo Total (One) | L42: Código | M42: Discriminação | N42: Código SICRO | O42: Unidade | P42: Quantidade | Q42: Utilização (h) | S42: Custo horário (R$) | U42: Custo Total (Des)
F43: Produtiva | G43: Improdutiva | H43: Produtivo | I43: Improdutivo | Q43: Produtiva | R43: Improdutiva | S43: Produtivo | T43: Improdutivo
A44: 2. | B44: Veículos (principal fixa) | L44: =A44 -> 2. | M44: =B44 -> Veículos (principal fixa)
A45: 2.1. | B45: Gerência Técnica | L45: =A45 -> 2.1. | M45: =B45 -> Gerência Técnica
A46: 2.1.1. | B46: Geral | L46: =A46 -> 2.1.1. | M46: =B46 -> Geral
A47: 2.1.1.1. | B47: Veículo leve - 53 kW | C47: E9512 | D47: mês | E47: 1 | F47: 44 | G47: 176 | H47: =VLOOKUP(C47,'[33]EQUIP.(ONERADO)'!A:K,10,0) -> 68.7564 | I47: =VLOOKUP(C47,'[33]EQUIP.(ONERADO)'!A:L,11,0) -> 38.7395 | J47: =$E47*(H47*$F47+I47*$G47) -> 9843.4336 | L47: =A47 -> 2.1.1.1. | M47: =B47 -> Veículo leve - 53 kW | N47: E9512 | O47: mês | P47: =E47 -> 1 | Q47: 44 | R47: 176 | S47: =VLOOKUP(C47,'[33]EQUIP.(DESONERADO)'!A:K,10,0) -> 66.1541 | T47: =VLOOKUP(C47,'[33]EQUIP.(DESONERADO)'!A:L,11,0) -> 36.1372 | U47: =$P47*(S47*$Q47+T47*$R47) -> 9270.9276
...

Sheet ADM-Vinculada
A1: RODOVIA PE-095 TRECHO: ENTR. VPE-140 (ESTRADA DE MALHADA DE PEDRA) - ENTR. BR-104 (CARUARU) | L1: =A1 -> RODOVIA PE-095 TRECHO: ENTR. VPE-140 (ESTRADA DE MALHADA DE PEDRA) - ENTR. BR-104 (CARUARU)
A5: ADMINISTRAÇÃO LOCAL | L5: ADMINISTRAÇÃO LOCAL
A6: PARCELA VINCULADA - DIMENSIONAMENTO | L6: PARCELA VINCULADA - DIMENSIONAMENTO
A7: ONERADO | L7: DESONERADO
I8: Data-base: | J8: 45839 | T8: Data-base: | U8: =J8 -> 45839
A9: Quantidades das equipes da parcela vinculada | D9: Homens | L9: Quantidades das equipes da parcela vinculada | O9: Homens
A10: Total das equipes de parcela vinculada | D10: =E23+E31 -> 4 | L10: Total das equipes de parcela vinculada | O10: =D10 -> 4
A13: 03- Equipe de TOPOGRAFIA proposta para as obras de infraestrutura de transportes | L13: =A13 -> 03- Equipe de TOPOGRAFIA proposta para as obras de infraestrutura de transportes
A14: Código | B14: Discriminação | C14: Código SICRO | D14: Unidade | E14: Quantidade | I14: Custo Unit (Onerado) (R$) | J14: Custo Total (Onerado) (R$) | L14: Código | M14: Discriminação | N14: Código SICRO | O14: Unidade | P14: Quantidade | T14: Custo Unit (R$) | U14: Custo Total (R$)
A15: 3.1 | B15: Mão de obra | L15: =A15 -> 3.1 | M15: =B15 -> Mão de obra
A16: 3.1.1 | B16: Topógrafo | C16: P9949 | D16: mês | E16: 1 | I16: 8914.4106 | J16: =I16*E16 -> 8914.4106 | L16: =A16 -> 3.1.1 | M16: =B16 -> Topógrafo | N16: =C16 -> P9949 | O16: mês | P16: =E16 -> 1 | T16: 8128.5793 | U16: =T16*P16 -> 8128.5793
A17: 3.1.2 | B17: Auxiliar de topografia | C17: P9950 | D17: mês | E17: 2 | I17: 5944.3549 | J17: =I17*E17 -> 11888.71 | L17: =A17 -> 3.1.2 | M17: =B17 -> Auxiliar de topografia | N17: =C17 -> P9950 | O17: mês | P17: 2 | T17: 5480.8588 | U17: =T17*P17 -> 10961.718
A18: 3.2 | B18: Veículos | L18: =A18 -> 3.2 | M18: =B18 -> Veículos
B19: Discriminação | C19: Cód igo SICRO | D19: Unidade | E19: Quantidade | F19: Utilização (h) | H19: Custo horário (R$) | J19: Custo Total | M19: Discriminação | N19: Cód igo SICRO | O19: Unidade | P19: Quantidade | Q19: Utilização (h) | S19: Custo horário (R$) | U19: Custo Total
F20: Produtiva | G20: Improdutiva | H20: Produtivo | I20: Improdutivo | Q20: Produtiva | R20: Improdutiva | S20: Produtivo | T20: Improdutivo
A21: 3.2.1 | B21: Veículo tipo van furgão | C21: E9125 | D21: mês | F21: 44 | G21: 176 | H21: =VLOOKUP(C21,'[33]EQUIP.(ONERADO)'!A:K,10,0) -> 86.4606 | I21: 49.0389 | J21: =$E21*($H21*$F21+$I21*$G21) -> 0 | L21: =A21 -> 3.2.1 | M21: =B21 -> Veículo tipo van furgão | N21: =C21 -> E9125 | O21: mês | P21: =E21 -> 0 | Q21: 44 | R21: 176 | S21: 83.8583 | T21: 46.4366 | U21: =$P21*($S21*$Q21+$T21*$R21) -> 0
A23: Total da Equipe de Produção de TOPOGRAFIA | E23: =SUM(E15:E17) -> 3 | J23: =(SUM(J15:J17))+J21 -> 20803.12 | L23: Total da Equipe de Produção de TOPOGRAFIA | P23: =SUM(P15:P17) -> 3 | U23: =(SUM(U15:U17))+U21 -> 19090.297
A25: 04- Mão de obra da equipe de MEDICINA E SEGURANÇA DO TRABLALHO, | L25: =A25 -> 04- Mão de obra da equipe de MEDICINA E SEGURANÇA DO TRABLALHO,
A26: Código | B26: Discriminação | C26: Código SICRO | D26: Unidade | E26: Quantidade | I26: Custo Unitário (R$) | J26: Custo Totral (R$) | L26: Código | M26: Discriminação | N26: Código SICRO | O26: Unidade | P26: Quantidade | T26: Custo Unitário (R$) | U26: Custo Totral (R$)
A27: 4.1 | B27: Técnico de segurança do trabalho | C27: P9876 | D27: mês | E27: 1 | I27: 7365.8624 | J27: =I27*E27 -> 7365.8624 | L27: =A27 -> 4.1 | M27: =B27 -> Técnico de segurança do trabalho | N27: =C27 -> P9876 | O27: mês | P27: =E27 -> 1 | T27: 6721.9353 | U27: =T27*P27 -> 6721.9353
A28: 4.2 | B28: Engenheiro de segurança do trabalho | C28: P9864 | D28: mês | I28: 24959.615 | J28: =I28*E28 -> 0 | L28: =A28 -> 4.2 | M28: =B28 -> Engenheiro de segurança do trabalho | N28: =C28 -> P9864 | O28: mês | P28: =E28 -> 0 | T28: 22517.449 | U28: =T28*P28 -> 0
A29: 4.3 | B29: Médico do trabalho | C29: P9851 | D29: mês | E29: 0 | I29: 18676.234 | J29: =I29*E29 -> 0 | L29: =A29 -> 4.3 | M29: =B29 -> Médico do trabalho | N29: =C29 -> P9851 | O29: mês | P29: =E29 -> 0 | T29: 16850.327 | U29: =T29*P29 -> 0
A30: 4.4 | B30: Médico de câmara hiperbárica | C30: P9951 | D30: mês | E30: 0 | I30: 21265.91 | J30: =I30*E30 -> 0 | L30: =A30 -> 4.4 | M30: =B30 -> Médico de câmara hiperbárica | N30: =C30 -> P9951 | O30: mês | P30: =E30 -> 0 | T30: 19331.536 | U30: =T30*P30 -> 0
A31: Total da mão de obra da equipe de MEDICINA e SEGURANÇA DO TRABALHO | E31: =SUM(E27:E30) -> 1 | J31: =SUM(J27:J30) -> 7365.8624 | L31: Total da mão de obra da equipe de MEDICINA e SEGURANÇA DO TRABALHO | P31: =SUM(P27:P30) -> 1 | U31: =SUM(U27:U30) -> 6721.9353

Sheet ADM-Variavel$
A1: ='ADM-Resumo'!A1:F3 -> RODOVIA: BR-232 TRECHO: Km 60 ao 63 OBRA: Área de Escape | L1: =A1 -> RODOVIA: BR-232 TRECHO: Km 60 ao 63 OBRA: Área de Escape
I4: Data-base: | J4: ='ADM-Resumo'!F4 -> 45839 | T4: Data-base: | U4: =J4 -> 45839
A5: ADMINISTRAÇÃO LOCAL | L5: ADMINISTRAÇÃO LOCAL
A6: PARCELA VARIÁVEL - EQUIPES PADRÃO | L6: PARCELA VARIÁVEL - EQUIPES PADRÃO
A7: DEMONSTRATIVO ONERADO | L7: DEMONSTRATIVO DESONERADO
A10: Mão de obra de acompanhamento de frentes de serviço | L10: Mão de obra de acompanhamento de frentes de serviço
A11: Código | B11: Discriminação | C11: Código SICRO | D11: Unidade | E11: Quantidade | F11: Custo Unitário (R$) | G11: Custo Totral (R$) | L11: Código | M11: Discriminação | N11: Código SICRO | O11: Unidade | P11: Quantidade | Q11: Custo Unitário (R$) | R11: Custo Totral (R$)
A12: 1.1. | B12: Encarregado de turma | C12: P9875 | D12: mês | F12: =VLOOKUP(C12,'[33]SICRO M.O.(ONERADO)'!$A:$F,4,0) -> 5961.6777 | G12: =$F12*$E12 -> 0 | L12: 1.1. | M12: Encarregado de turma | N12: P9875 | O12: mês | P12: =E12 -> 0 | Q12: =VLOOKUP(N12,'[33]SICRO M.O.(DESONERADO)'!$A:$F,4,0) -> 5473.3439 | R12: =$Q12*$P12 -> 0
A13: 1.2. | B13: Apontador | C13: P9804 | D13: mês | F13: =VLOOKUP(C13,'[33]SICRO M.O.(ONERADO)'!$A:$F,4,0) -> 5024.237 | G13: =$F13*$E13 -> 0 | L13: 1.2. | M13: Apontador | N13: P9804 | O13: mês | P13: =E13 -> 0 | Q13: =VLOOKUP(N13,'[33]SICRO M.O.(DESONERADO)'!$A:$F,4,0) -> 4631.3708 | R13: =$Q13*$P13 -> 0
A14: Total da mão de obra da equipe de acompanhamento de frentes de serviço | E14: =SUM(E12:E13) -> 0 | G14: =SUM(G12:G13) -> 0 | L14: Total da mão de obra da equipe de acompanhamento de frentes de serviço | P14: =SUM(P12:P13) -> 0 | R14: =SUM(R12:R13) -> 0
A15: *Conforme Tabela 23 do Volume 07 - Administração Local do Manual de Custos do DNTI - 2ª Edição
A17: Mão de obra da equipe de laboratório de solos | L17: Mão de obra da equipe de laboratório de solos
A18: 1. | B18: Mão de obra | L18: 1. | M18: Mão de obra
A19: 1.1. | B19: Laboratorista | C19: P9858 | D19: mês | E19: 1 | F19: =VLOOKUP(C19,'[33]SICRO M.O.(ONERADO)'!$A:$F,4,0) -> 7520.1358 | G19: =F19*E19 -> 7520.1358 | L19: 1.1. | M19: Laboratorista | N19: P9858 | O19: mês | P19: =E19 -> 1 | Q19: =VLOOKUP(N19,'[33]SICRO M.O.(DESONERADO)'!$A:$F,4,0) -> 6864.0398 | R19: =$Q19*$P19 -> 6864.0398
A20: 1.2. | B20: Auxiliar de laboratório | C20: P9833 | D20: mês | E20: 2 | F20: =VLOOKUP(C20,'[33]SICRO M.O.(ONERADO)'!$A:$F,4,0) -> 5924.9119 | G20: =F20*E20 -> 11849.824 | L20: 1.2. | M20: Auxiliar de laboratório | N20: P9833 | O20: mês | P20: =E20 -> 2 | Q20: =VLOOKUP(N20,'[33]SICRO M.O.(DESONERADO)'!$A:$F,4,0) -> 5457.9582 | R20: =$Q20*$P20 -> 10915.916
A22: Total da mão de obra da equipe de laboratório de solos | E22: =SUM(E19:E20) -> 3 | G22: =(SUM(G19:G20)) -> 19369.96 | L22: Total da mão de obra da equipe de laboratório de solos | P22: =SUM(P19:P20) -> 3 | R22: =(SUM(R19:R20)) -> 17779.956
A24: Mão de obra da equipe de laboratório de concreto | L24: Mão de obra da equipe de laboratório de concreto
A25: 1. | B25: Mão de obra | L25: 1. | M25: Mão de obra
A26: 1.1. | B26: Laboratorista | C26: P9858 | D26: mês | E26: 1 | F26: =F19 -> 7520.1358 | G26: =F26*E26 -> 7520.1358 | L26: 1.1. | M26: Laboratorista | N26: P9858 | O26: mês | P26: =E26 -> 1 | Q26: =Q19 -> 6864.0398 | R26: =$Q26*$P26 -> 6864.0398
A27: 1.2. | B27: Auxiliar de laboratório | C27: P9833 | D27: mês | E27: 2 | F27: =F20 -> 5924.9119 | G27: =F27*E27 -> 11849.824 | L27: 1.2. | M27: Auxiliar de laboratório | N27: P9833 | O27: mês | P27: =E27 -> 2 | Q27: =Q20 -> 5457.9582 | R27: =$Q27*$P27 -> 10915.916
A29: Total da mão de obra da equipe de laboratório de concreto | E29: =SUM(E26:E27) -> 3 | G29: =(SUM(G26:G27)) -> 19369.96 | L29: Total da mão de obra da equipe de laboratório de concreto | P29: =SUM(P26:P27) -> 3 | R29: =(SUM(R26:R27)) -> 17779.956
A31: Mão de obra da equipe de manejo florestal | L31: Mão de obra da equipe de manejo florestal
A32: 1. | B32: Mão de obra | L32: 1. | M32: Mão de obra
A33: 1.1. | B33: Técnico Florestal | C33: P9947 | D33: mês | E33: 0.25 | F33: =VLOOKUP(C33,'[33]SICRO M.O.(ONERADO)'!$A:$F,4,0) -> 7622.1497 | G33: =F33*E33 -> 1905.5374 | L33: 1.1. | M33: Técnico Florestal | N33: P9947 | O33: mês | P33: =E33 -> 0.25 | Q33: =VLOOKUP(N33,'[33]SICRO M.O.(DESONERADO)'!$A:$F,4,0) -> 6966.0204 | R33: =$Q33*$P33 -> 1741.5051
A35: Total da mão de obra da equipe de Manejo Florestal | E35: =SUM(E33:E33) -> 0.25 | G35: =(SUM(G33:G33)) -> 1905.5374 | L35: Total da mão de obra da equipe de Manejo Florestal | P35: =SUM(P33:P33) -> 0.25 | R35: =(SUM(R33:R33)) -> 1741.5051

Sheet ADM-Variavel
A1: ='ADM-Resumo'!A1:F3 -> RODOVIA: BR-232 TRECHO: Km 60 ao 63 OBRA: Área de Escape
F4: Data-base: | G4: ='ADM-Resumo'!F4 -> 45839
A5: ADMINISTRAÇÃO LOCAL
A6: PARCELA VARIÁVEL - DIMENSIONAMENTO
A8: Quantidades das equipes da parcela variável | D8: Homens | E8: Equipes | F8: HxM | G8: Equipes
A9: Total da equipe de laboratório de solos | D9: ='ADM-Variavel$'!E22 -> 3 | E9: =ROUNDUP(G9,0) -> 1 | F9: =D9*E9 -> 3 | G9: =G31 -> 0.080973975
A10: Total da equipe de laboratório de concreto | D10: ='ADM-Variavel$'!E29 -> 3 | E10: =ROUNDUP(G10,0) -> 1 | F10: =D10*E10 -> 3 | G10: =G43 -> 0.13187
A11: Total das equipes | F11: =SUM(F9:F10) -> 6 | G11: =SUM(G9:G10) -> 0.21284398
A12: Média de HxM mensal | F12: =ROUNDUP(F11/23,0) -> 1
A14: Demonstrativo
A17: Equipes de controle tecnológico
A18: Item da Planilha | B18: Código SICRO | C18: Discriminação | D18: Unidade | E18: Quantidade | F18: QE | G18: EL
A19: Laboratório de solos para terraplenagem
A21: 1.1 | B21: 5502978 | C21: Compactação de aterros a 100% do Proctor normal | D21: m³ | E21: 4724.28 | F21: 165000 | G21: =E21/F21 -> 0.028632
A22: 1.2 | B22: 5503041 | C22: Compactação de aterros a 100% do Proctor intermediário | D22: m³ | E22: 210 | F22: 24300 | G22: =E22/F22 -> 0.0086419753
A23: Total das equipes de laboratório de solos para terraplenagem | G23: =SUM(G21:G22) -> 0.037273975
B25: Código SICRO | C25: Discriminação | D25: Unidade | E25: Quantidade | F25: QE | G25: EL
A26: Laboratório de solos para pavimentação
A27: 1.2 | B27: CPUPAV05 | C27: Base ou sub-base de brita graduada com brita comercial - 100% Proctor modificado | D27: M³ | E27: 467.63 | F27: 10700 | G27: =ROUND(E27/F27,5) -> 0.0437
A28: 1.2 | B28: 4011282 | C28: Base ou sub-base de macadame hidráulico com brita comercial - 100% Proctor modificado | D28: M³ | E28: 217.5 | F28: 25600 | G28: =ROUND(E28/F28,5) -> 0.0085
A30: Total das equipes de laboratório de solos para pavimentação | G30: =SUM(G27:G27) -> 0.0437
A31: TOTAL DAS EQUIPES DE LABORATÓRIO DE SOLOS | G31: =G30+G23 -> 0.080973975
B33: Código SICRO | C33: Discriminação
A35: Laboratório concreto para obras de arte correntes
A36: Equipes de Laboratório de Concreto para OAC | D36: Unidade | E36: Quantidade | F36: ELU | G36: ELC
A37: 3.1 | B37: 0804039 | C37: Corpo de BSTC D = 1,00 m PA2 - areia, brita e pedra de mão comerciais | D37: M | E37: 82 | F37: 0.00037 | G37: =ROUND(E37*F37,5) -> 0.03034
A38: 3.2 | B38: CPUOAC01 | C38: Boca BNAA 03, Adaptávem em BSTC D = 1,00 m - esconsidade 0° - areia e brita comerciais - alas esconsas | D38: UN | E38: 2 | F38: 0.00273 | G38: =ROUND(E38*F38,5) -> 0.00546
A39: Equipes de Laboratório de Concreto para pavimento de concreto | D39: Unidade | E39: Quantidade | F39: QE | G39: EL
A40: 3.3 | B40: 4011218 | C40: Sub-base de concreto adensado por vibração - areia e brita comerciais | D40: M³ | E40: 239.25 | F40: 7900 | G40: =ROUND(E40/F40,5) -> 0.03028
A41: 3.4 | B41: CPUPAV11 | C41: Pavimento de concreto com equipamento de pequeno porte - areia e brita comerciais | D41: M³ | E41: 526.35 | F41: 8000 | G41: =ROUND(E41/F41,5) -> 0.06579
A43: TOTAL DAS EQUIPES DE LABORATÓRIO CONCRETO | G43: =SUM(G37:G42) -> 0.13187
B45: Código SICRO | C45: Discriminação | D45: Unidade | E45: Quantidade | F45: Prod. Horária | G45: Tf
A46: Manejo florestal
A47: 3.6 | B47: 5501700 | C47: Desmatamento, destocamento e limpeza de área com árvores de diâmetro até 0,15m | D47: un | E47: 6710 | F47: 1532.91 | G47: =ROUND(E47/(F47*182.49),5) -> 0.02399
A49: TOTAL DAS EQUIPES DE MANEJO FLORESTAL | G49: =SUM(G47:G47) -> 0.02399

Sheet MANUTENÇÃO DO CANTEIRO E ACAMP.
A1: ='ADM-Variavel$'!A1:J3 -> RODOVIA: BR-232 TRECHO: Km 60 ao 63 OBRA: Área de Escape | I1: =A1 -> RODOVIA: BR-232 TRECHO: Km 60 ao 63 OBRA: Área de Escape
F4: Data-base: | G4: ='ADM-Resumo'!F4 -> 45839 | N4: Data-base: | O4: =G4 -> 45839
A6: ADMINISTRAÇÃO LOCAL | I6: ADMINISTRAÇÃO LOCAL
A7: Manutenção do Canteiro de Obras e Acampamentos | I7: Manutenção do Canteiro de Obras e Acampamentos
A8: ONERADO | I8: DESONERADO
A10: Equipe de Manutenção do Canteiro de Obras e Acampamentos | I10: Equipe de Manutenção do Canteiro de Obras e Acampamentos
A11: Código | B11: Discriminação | C11: Código SICRO | D11: Unidade | E11: Quantidade | F11: Custo Unitário (R$) | G11: Custo Totral (R$) | I11: Código | J11: Discriminação | K11: Código SICRO | L11: Unidade | M11: Quantidade | N11: Custo Unitário (R$) | O11: Custo Totral (R$)
A12: 1. | B12: Manutenção do Canteiro de Obras e Acampamentos | I12: =A12 -> 1. | J12: Manutenção do Canteiro de Obras e Acampamentos
A13: 1.1. | B13: Mão de obra | I13: =A13 -> 1.1. | J13: Mão de obra
A14: 1.1.1. | B14: Pedreiro - mensalista | C14: P9952 | D14: mês | E14: =0.1*G21 -> 0.082603139 | F14: =VLOOKUP(C14,'[33]SICRO M.O.(ONERADO)'!$A:$F,4,0) -> 5095.9624 | G14: =F14*$E14 -> 420.94249 | I14: =A14 -> 1.1.1. | J14: Pedreiro - mensalista | K14: =C14 -> P9952 | L14: mês | M14: =E14 -> 0.082603139 | N14: =VLOOKUP(K14,'[33]SICRO M.O.(DESONERADO)'!$A:$F,4,0) -> 4708.0184 | O14: =N14*$M14 -> 388.8971
A15: 1.1.2. | B15: Servente - mensalista | C15: P9954 | D15: mês | E15: =ROUND((22/220),2)*$G$21 -> 0.082603139 | F15: =VLOOKUP(C15,'[33]SICRO M.O.(ONERADO)'!$A:$F,4,0) -> 4112.1828 | G15: =F15*$E15 -> 339.67921 | I15: =A15 -> 1.1.2. | J15: Servente - mensalista | K15: =C15 -> P9954 | L15: mês | M15: =E15 -> 0.082603139 | N15: =VLOOKUP(K15,'[33]SICRO M.O.(DESONERADO)'!$A:$F,4,0) -> 3825.5891 | O15: =N15*$M15 -> 316.00567
A16: 1.1.3. | B16: Eletricista - mensalista | C16: P9953 | D16: mês | E16: =ROUND((22/220),2)*$G$21 -> 0.082603139 | F16: =VLOOKUP(C16,'[33]SICRO M.O.(ONERADO)'!$A:$F,4,0) -> 5934.9302 | G16: =F16*$E16 -> 490.24387 | I16: =A16 -> 1.1.3. | J16: Eletricista - mensalista | K16: =C16 -> P9953 | L16: mês | M16: =E16 -> 0.082603139 | N16: =VLOOKUP(K16,'[33]SICRO M.O.(DESONERADO)'!$A:$F,4,0) -> 5462.6696 | O16: =N16*$M16 -> 451.23366
A17: Total da Equipe para Manutenção do Canteiro de Obras e Acampamentos | G17: =SUM(G14:G16) -> 1250.8656 | I17: =A17 -> Total da Equipe para Manutenção do Canteiro de Obras e Acampamentos | O17: =SUM(O14:O16) -> 1156.1364
A18: *Conforme Tabela 49 do Vol 07 - Administração Loca do Manual de Custos - 2ª Edição | I18: =A18 -> *Conforme Tabela 49 do Vol 07 - Administração Loca do Manual de Custos - 2ª Edição
A19: Total da Manutenção do Canteiro de Obras e Acampamentos | G19: =G17 -> 1250.8656 | I19: =A19 -> Total da Manutenção do Canteiro de Obras e Acampamentos | O19: =O17 -> 1156.1364
B21: CAC = | C21: ( ACP ) | D21: = | E21: =C25 -> 252.08 | F21: = | G21: =C24 -> 0.82603139 | J21: CAC = | K21: ( ACP ) | L21: = | M21: =K25 -> 252.08 | N21: = | O21: =K24 -> 0.82603139
C22: ( ACR ) | E22: =C26 -> 305.17 | K22: ( ACR ) | M22: =K26 -> 305.17
A24: CAC = | B24: Representa o Coeficiente de Proporcionalidade de Áreas Cobertas; | C24: =C25/C26 -> 0.82603139 | I24: CAC = | J24: Representa o Coeficiente de Proporcionalidade de Áreas Cobertas; | K24: =C24 -> 0.82603139
A25: ACP = | B25: Representa a Área das Instalações Cobertas Previstas em Projeto (m²); | C25: 252.08 | I25: ACP = | J25: Representa a Área das Instalações Cobertas Previstas em Projeto (m²); | K25: =C25 -> 252.08
A26: ACR = | B26: Representa a Área das Instalações Cobertas Referenciais (m²). | C26: 305.17 | D26: *Conforme Tabela 46 do Vol 07 - Administração Local do Manual de Custos - 2ª Edição | I26: ACR = | J26: Representa a Área das Instalações Cobertas Referenciais (m²). | K26: =C26 -> 305.17

Sheet RELAÇÃO MÃO DE OBRA ORDINÁRIA
A1: RODOVIA: | B1: BR-232
A2: TRECHO: | B2: Km 60 ao 63
A3: OBRA | B3: Área de Escape
A5: DADOS DA OBRA
A7: RELAÇÃO DA MÃO DE OBRA DA ADMINISTRAÇÃO LOCAL
A8: MÃO DE OBRA FIXA : | F8: 4
A9: MÃO DE OBRA VINCULADA : | F9: 4
A10: MÃO DE OBRA VARIÁVEL : | F10: 7
A12: RELAÇÃO DA MÃO DE OBRA DA ADMINISTRAÇÃO LOCAL
A14: ITEM | B14: CÓDIGO | C14: DISCRIMINAÇÃO | D14: UNIDADE | E14: QUANTIDADE | F14: HORAS/MÊS | G14: HOMENS/MÊS
A16: 1 | B16: P9824 | C16: SERVENTE | D16: H | E16: 11141.43 | F16: 182.49 | G16: =E16/F16 -> 61.052277
A17: 2 | B17: P9801 | C17: AJUDANTE | D17: H | E17: 7356.0793 | F17: 182.49 | G17: =E17/F17 -> 40.309493
A18: 3 | B18: P9805 | C18: ARMADOR | D18: H | E18: 3834.3041 | F18: 182.49 | G18: =E18/F18 -> 21.011037
A19: 4 | B19: P9808 | C19: CARPINTEIRO | D19: H | E19: 3267.9356 | F19: 182.49 | G19: =E19/F19 -> 17.907477
A20: 5 | B20: P9821 | C20: PEDREIRO | D20: H | E20: 489.02531 | F20: 182.49 | G20: =E20/F20 -> 2.6797376
A21: 6 | B21: P9810 | C21: ELETRICISTA | D21: H | E21: 238.9433 | F21: 182.49 | G21: =E21/F21 -> 1.3093501
A22: 7 | B22: P9830 | C22: MONTADOR | D22: H | E22: 124.882 | F22: 182.49 | G22: =E22/F22 -> 0.68432241
A23: 8 | B23: P9822 | C23: PINTOR | D23: H | E23: 46.175606 | F23: 182.49 | G23: =E23/F23 -> 0.25303088
A24: 9 | B24: P9852 | C24: BLASTER | D24: H | E24: 23.812993 | F24: 182.49 | G24: =E24/F24 -> 0.1304893
