Workbook
Name \0: #REF!
Name \0: #REF!
Name \0: #REF!
Name \0: #REF!
Name \1: #REF!
Name \1: #REF!
Name \11: #REF!
Name \11: #REF!
Name \2: #REF!
Name \2: #REF!
Name \a: #REF!
Name \a: #REF!
Name \a: #REF!
Name \a: #REF!
Name \B: #REF!
Name \B: #REF!
Name \c: #REF!
Name \c: #REF!
Name \D: #REF!
Name \D: #REF!
Name \E: #REF!
Name \E: #REF!
Name \fagf: #REF!
Name \fagf: #REF!
Name \I: #REF!
Name \I: #REF!
Name \I: #REF!
Name \I: #REF!
Name \p: #REF!
Name \p: #REF!
Name \S: #REF!
Name \S: #REF!
Name \S: #REF!
Name \S: #REF!
Name \SA: #REF!
Name \SA: #REF!
Name \w: #REF!
Name \w: #REF!
Name \x: #REF!
Name \x: #REF!
Name \z: #REF!
Name \z: #REF!
Name \ZACVDERVREW: #N/A
Name _\1: #REF!
Name _\1: #REF!
Name _\11: #REF!
Name _\11: #REF!
Name _\a: #REF!
Name _\a: #REF!
Name _\b: #REF!
Name _\b: #REF!
Name _\c: #REF!
Name _\c: #REF!
Name _\fagf: #REF!
Name _\fagf: #REF!
Name _\I: #REF!
Name _\I: #REF!
Name _\p: #REF!
Name _\p: #REF!
Name _\S: #REF!

Sheet RESUMO
A2: GOVERNO DO ESTADO DE PERNAMBUCO
A3: SECRETARIA DE MOBILIDADE E INFRAESTRUTURA - SEMOBI/PE
A4: DEPARTAMENTO DE ESTRADAS E RODAGEM - DER/PE
A5: RODOVIA: | B5: PE-060
A6: TRECHO: | B6: ENTR. BR-101 (CABO DE SANTO AGOSTINHO) - DIV. PE/AL
A7: EXTENSÃO: | B7: 85,96 KM
A8: DATA BASE: | B8: OUTUBRO/2025
C9: R$ | E9: %
A10: 1.0 | B10: =PLANILHA!D2 -> MOBILIZAÇAO/DESMOBILIZAÇÃO | C10: =PLANILHA!I4 -> 30550.78 | E10: =C10/$C$21 -> 0.0023644422
A11: 2.0 | B11: =PLANILHA!D5 -> INSTALAÇÃO DO CANTEIRO DE OBRAS | C11: =PLANILHA!I7 -> 10187.12 | E11: =C11/$C$21 -> 0.00078842034
A12: 3.0 | B12: =PLANILHA!D8 -> ADMINISTRAÇÃO LOCAL | C12: =PLANILHA!I10 -> 463824.88 | E12: =C12/$C$21 -> 0.035897189
A13: 4.0 | B13: =PLANILHA!D11 -> TERRAPLENAGEM | C13: =PLANILHA!I22 -> 2270861.4 | E13: =C13/$C$21 -> 0.17575068
A14: 5.0 | B14: =PLANILHA!D23 -> DRENAGEM | C14: =PLANILHA!I31 -> 417455.92 | E14: =C14/$C$21 -> 0.032308517
A15: 6.0 | B15: =PLANILHA!D32 -> PAVIMENTAÇÃO | C15: =PLANILHA!I45 -> 6476627 | E15: =C15/$C$21 -> 0.50125104
A16: 7.0 | B16: =PLANILHA!D46 -> SINALIZAÇÃO | C16: =PLANILHA!I68 -> 407113 | E16: =C16/$C$21 -> 0.031508039
A17: 8.0 | B17: =PLANILHA!D69 -> PROTEÇÃO AMBIENTAL | C17: =PLANILHA!I72 -> 310614 | E17: =C17/$C$21 -> 0.02403961
A18: 9.0 | B18: =PLANILHA!D73 -> INTERSEÇÃO COM A PE-072 | C18: =PLANILHA!I130 -> 1614448.3 | E18: =C18/$C$21 -> 0.12494835
A19: 10.0 | B19: =PLANILHA!D131 -> INTERSEÇÃO COM A PE-038 | C19: =PLANILHA!I192 -> 919242.49 | E19: =C19/$C$21 -> 0.071143707
B21: TOTAL | C21: =C12+C11+C10+C13++C14+C15+C16+C17+C18+C19 -> 12920925 | E21: =SUM(E10,E11,E12,E13,E14,E15,E16,E17,E18,E19) -> 1
B63: RESUMO DO ORÇAMENTO | D63: QD - 3.1

Sheet PLANILHA
A1: Item | B1: Código | C1: Fonte | D1: Descrição | E1: Unid. | F1: Quantidade | G1: Custo Unit R$ | H1: Preço Unit R$ | I1: Total c/BDI | J1: BDI %
A2: 1.0 | D2: MOBILIZAÇAO/DESMOBILIZAÇÃO
A3: 1.1 | C3: COMPOSIÇÃO | D3: MOBILIZAÇÃO E DESMOBILIZAÇÃO DE EQUIPAMENTO | E3: UN | F3: 1 | G3: 25309.24 | H3: =IFERROR(ROUND((1+J3)*G3,2),0) -> 30550.78 | I3: =IFERROR(TRUNC(H3*F3,2),0) -> 30550.78 | J3: 0.2071
D4: SUBTOTAL 1.0 | I4: =SUBTOTAL(9,I2:I3) -> 30550.78
A5: 2.0 | D5: INSTALAÇÃO DO CANTEIRO DE OBRAS
A6: 2.1 | C6: COMPOSIÇÃO | D6: INSTALAÇÃO DO CANTEIRO DE OBRAS | E6: UN | F6: 1 | G6: 8439.33 | H6: =IFERROR(ROUND((1+J6)*G6,2),0) -> 10187.12 | I6: =IFERROR(TRUNC(H6*F6,2),0) -> 10187.12 | J6: 0.2071
D7: SUBTOTAL 2.0 | I7: =SUBTOTAL(9,I5:I6) -> 10187.12
A8: 3.0 | D8: ADMINISTRAÇÃO LOCAL
A9: 3.1 | C9: COMPOSIÇÃO | D9: ADMINISTRAÇÃO LOCAL DE OBRA | E9: UN | F9: 1 | G9: 384247.27 | H9: =IFERROR(ROUND((1+J9)*G9,2),0) -> 463824.88 | I9: =IFERROR(TRUNC(H9*F9,2),0) -> 463824.88 | J9: 0.2071
D10: SUBTOTAL 3.0 | I10: =SUBTOTAL(9,I8:I9) -> 463824.88
A11: 4.0 | D11: TERRAPLENAGEM
A12: 4.1 | B12: 5501700 | C12: COMPOSIÇÃO | D12: DESMATAMENTO, DESTOCAMENTO E LIMPEZA DE ÁREA COM ÁRVORES DE DIÂMETRO ATÉ 0,15 M | E12: M² | F12: 29513.06 | G12: 0.72 | H12: =IFERROR(ROUND((1+J12)*G12,2),0) -> 0.87 | I12: =IFERROR(TRUNC(H12*F12,2),0) -> 25676.36 | J12: 0.2071
A13: 4.2 | B13: 5501702 | C13: COMPOSIÇÃO | D13: DESTOCAMENTO DE ÁRVORES COM DIÂMETRO MAIOR QUE 0,30 M | E13: UN | F13: 20 | G13: 133.67 | H13: =IFERROR(ROUND((1+J13)*G13,2),0) -> 161.35 | I13: =IFERROR(TRUNC(H13*F13,2),0) -> 3227 | J13: 0.2071
A14: 4.3 | B14: 5501710 | C14: COMPOSIÇÃO | D14: ESCAVAÇÃO, CARGA E TRANSPORTE EM MATERIAL DE 1ª CATEGORIA - DMT DE 50 M | E14: M³ | F14: 712.315 | G14: 3.77 | H14: =IFERROR(ROUND((1+J14)*G14,2),0) -> 4.55 | I14: =IFERROR(TRUNC(H14*F14,2),0) -> 3241.03 | J14: 0.2071
A15: 4.4 | B15: 5502161 | C15: COMPOSIÇÃO | D15: ESCAVAÇÃO, CARGA E TRANSPORTE DE MATERIAL DE 1ª CATEGORIA - DMT DE 50 A 200 M - CAMINHO DE SERVIÇO PAVIMENTADO - COM ESCAVADEIRA E CAMINHÃO BASCULANTE DE 14 M³ | E15: M³ | F15: 74.041 | G15: 5.68 | H15: =IFERROR(ROUND((1+J15)*G15,2),0) -> 6.86 | I15: =IFERROR(TRUNC(H15*F15,2),0) -> 507.92 | J15: 0.2071
A16: 4.5 | B16: 5502162 | C16: COMPOSIÇÃO | D16: ESCAVAÇÃO, CARGA E TRANSPORTE DE MATERIAL DE 1ª CATEGORIA - DMT DE 200 A 400 M - CAMINHO DE SERVIÇO PAVIMENTADO - COM ESCAVADEIRA E CAMINHÃO BASCULANTE DE 14 M³ | E16: M³ | F16: 647.914 | G16: 6.43 | H16: =IFERROR(ROUND((1+J16)*G16,2),0) -> 7.76 | I16: =IFERROR(TRUNC(H16*F16,2),0) -> 5027.81 | J16: 0.2071
A17: 4.6 | B17: 5503041 | C17: COMPOSIÇÃO | D17: COMPACTAÇÃO DE ATERROS A 100% DO PROCTOR INTERMEDIÁRIO | E17: M³ | F17: 1147.416 | G17: 6.65 | H17: =IFERROR(ROUND((1+J17)*G17,2),0) -> 8.03 | I17: =IFERROR(TRUNC(H17*F17,2),0) -> 9213.75 | J17: 0.2071
A18: 4.7 | B18: CP0007 | C18: COMPOSIÇÃO | D18: DESTINAÇÃO FINAL DE RESÍDUOS SÓLIDOS | E18: T | F18: 15293.514 | G18: 84.54 | H18: =IFERROR(ROUND((1+J18)*G18,2),0) -> 96.8 | I18: =IFERROR(TRUNC(H18*F18,2),0) -> 1480412.1 | J18: 0.145
A19: 4.8 | B19: 5915411 | C19: COMPOSIÇÃO | D19: CARGA, MANOBRA E DESCARGA DE AGREGADOS OU SOLOS EM CAMINHÃO BASCULANTE DE 10 M³ - CARGA COM CARREGADEIRA DE 3,40 M³ E DESCARGA EM DISTRIBUIDOR AUTOPROPELIDO | E19: T | F19: =F18 -> 15293.514 | G19: 3.79 | H19: =IFERROR(ROUND((1+J19)*G19,2),0) -> 4.57 | I19: =IFERROR(TRUNC(H19*F19,2),0) -> 69891.35 | J19: 0.2071
A20: 4.9 | B20: 5914389 | C20: COMPOSIÇÃO | D20: TRANSPORTE COM CAMINHÃO BASCULANTE DE 10 M³ - RODOVIA PAVIMENTADA | E20: TKM | F20: =ROUND(F19*36.65,2) -> 560507.29 | G20: 0.83 | H20: =IFERROR(ROUND((1+J20)*G20,2),0) -> 1 | I20: =IFERROR(TRUNC(H20*F20,2),0) -> 560507.29 | J20: 0.2071
A21: 4.10 | B21: 5914359 | C21: COMPOSIÇÃO | D21: TRANSPORTE COM CAMINHÃO BASCULANTE DE 10 M³ - RODOVIA EM LEITO NATURAL | E21: TKM | F21: =ROUND(F19*4.9,2) -> 74938.22 | G21: 1.25 | H21: =IFERROR(ROUND((1+J21)*G21,2),0) -> 1.51 | I21: =IFERROR(TRUNC(H21*F21,2),0) -> 113156.71 | J21: 0.2071
D22: SUBTOTAL 4.0 | I22: =SUBTOTAL(9,I11:I21) -> 2270861.4
A23: 5.0 | D23: DRENAGEM
A24: 5.1 | B24: 2003257 | C24: COMPOSIÇÃO | D24: SARJETA TRIANGULAR DE CONCRETO - STC 100-20 - ESCAVAÇÃO MECÂNICA - AREIA E BRITA COMERCIAIS | E24: M | F24: 1725 | G24: 63.5 | H24: =IFERROR(ROUND((1+J24)*G24,2),0) -> 76.65 | I24: =IFERROR(TRUNC(H24*F24,2),0) -> 132221.25 | J24: 0.2071
A25: 5.2 | B25: 2003377 | C25: COMPOSIÇÃO | D25: MEIO-FIO DE CONCRETO - MFC 05 - AREIA E BRITA COMERCIAIS - FÔRMA DE MADEIRA | E25: M | F25: 2865 | G25: 61.81 | H25: =IFERROR(ROUND((1+J25)*G25,2),0) -> 74.61 | I25: =IFERROR(TRUNC(H25*F25,2),0) -> 213757.65 | J25: 0.2071
A26: 5.3 | B26: 2003109 | C26: COMPOSIÇÃO | D26: ENTRADA PARA DESCIDA D'ÁGUA - EDA 04 A - AREIA E BRITA COMERCIAIS | E26: un | F26: 63 | G26: 211 | H26: =IFERROR(ROUND((1+J26)*G26,2),0) -> 254.7 | I26: =IFERROR(TRUNC(H26*F26,2),0) -> 16046.1 | J26: 0.2071
A27: 5.4 | B27: 2003121 | C27: COMPOSIÇÃO | D27: ENTRADA PARA DESCIDA D'ÁGUA - EDA 04 B - AREIA E BRITA COMERCIAIS | E27: un | F27: 5 | G27: 305.84 | H27: =IFERROR(ROUND((1+J27)*G27,2),0) -> 369.18 | I27: =IFERROR(TRUNC(H27*F27,2),0) -> 1845.9 | J27: 0.2071
A28: 5.5 | B28: 2003393 | C28: COMPOSIÇÃO | D28: DESCIDA D'ÁGUA DE ATERROS TIPO RÁPIDO - DAR 60-30 - AREIA E BRITA COMERCIAIS | E28: M | F28: 68 | G28: 382.1 | H28: =IFERROR(ROUND((1+J28)*G28,2),0) -> 461.23 | I28: =IFERROR(TRUNC(H28*F28,2),0) -> 31363.64 | J28: 0.2071
A29: 5.6 | B29: 1619006 | C29: COMPOSIÇÃO | D29: DEMOLIÇÃO MECÂNICA DE CONCRETO SIMPLES COM ESCAVADEIRA HIDRÁULICA | E29: M³ | F29: 47.762 | G29: 159.01 | H29: =IFERROR(ROUND((1+J29)*G29,2),0) -> 191.94 | I29: =IFERROR(TRUNC(H29*F29,2),0) -> 9167.43 | J29: 0.2071
A30: 5.7 | B30: CP0001 | C30: COMPOSIÇÃO | D30: DESTINAÇÃO FINAL DE RESÍDUOS SÓLIDOS | E30: T | F30: 114.629 | G30: 99.46 | H30: =IFERROR(ROUND((1+J30)*G30,2),0) -> 113.88 | I30: =IFERROR(TRUNC(H30*F30,2),0) -> 13053.95 | J30: 0.145
D31: SUBTOTAL 5.0 | I31: =SUBTOTAL(9,I23:I30) -> 417455.92
A32: 6.0 | D32: PAVIMENTAÇÃO
A33: 6.1 | B33: 4011279 | C33: COMPOSIÇÃO | D33: BASE OU SUB-BASE DE MACADAME SECO COM BRITA COMERCIAL - 100% PROCTOR MODIFICADO | E33: M³ | F33: 4519.164 | G33: 272.32 | H33: =IFERROR(ROUND((1+J33)*G33,2),0) -> 328.72 | I33: =IFERROR(TRUNC(H33*F33,2),0) -> 1485539.6 | J33: 0.2071
A34: 6.2 | B34: 4011276 | C34: COMPOSIÇÃO | D34: BASE OU SUB-BASE DE BRITA GRADUADA COM BRITA COMERCIAL - 100% PROCTOR MODIFICADO | E34: M³ | F34: 4519.164 | G34: 189.15 | H34: =IFERROR(ROUND((1+J34)*G34,2),0) -> 228.32 | I34: =IFERROR(TRUNC(H34*F34,2),0) -> 1031815.5 | J34: 0.2071
A35: 6.3 | B35: CP0002 | C35: COMPOSIÇÃO | D35: MISTURA BGS | E35: M³ | F35: 4519.164 | G35: 60.14 | H35: =IFERROR(ROUND((1+J35)*G35,2),0) -> 68.86 | I35: =IFERROR(TRUNC(H35*F35,2),0) -> 311189.63 | J35: 0.145
A36: 6.4 | B36: 4011212 | C36: COMPOSIÇÃO | D36: VARREDURA DA SUPERFÍCIE PARA EXECUÇÃO DE REVESTIMENTO ASFÁLTICO | E36: M² | F36: 22595.82 | G36: 0.1 | H36: =IFERROR(ROUND((1+J36)*G36,2),0) -> 0.12 | I36: =IFERROR(TRUNC(H36*F36,2),0) -> 2711.49 | J36: 0.2071
A37: 6.5 | B37: 4011351 | C37: COMPOSIÇÃO | D37: IMPRIMAÇÃO COM ASFALTO DILUÍDO | E37: M² | F37: 22595.82 | G37: 0.7 | H37: =IFERROR(ROUND((1+J37)*G37,2),0) -> 0.84 | I37: =IFERROR(TRUNC(H37*F37,2),0) -> 18980.48 | J37: 0.2071
A38: 6.6 | B38: CP0003 | C38: COMPOSIÇÃO | D38: AQUISIÇÃO DE ASFALTO DILUÍDO CM-30 | E38: T | F38: 27.115 | G38: 5576.09 | H38: =IFERROR(ROUND((1+J38)*G38,2),0) -> 6384.62 | I38: =IFERROR(TRUNC(H38*F38,2),0) -> 173118.97 | J38: 0.145
A39: 6.7 | B39: CP0004 | C39: COMPOSIÇÃO | D39: TRANSPORTE DE ASFALTO DILUÍDO CM-30 | E39: T | F39: 27.115 | G39: 674.57 | H39: =IFERROR(ROUND((1+J39)*G39,2),0) -> 772.38 | I39: =IFERROR(TRUNC(H39*F39,2),0) -> 20943.08 | J39: 0.145
A40: 6.8 | B40: 4011353 | C40: COMPOSIÇÃO | D40: PINTURA DE LIGAÇÃO | E40: M² | F40: 45191.64 | G40: 0.53 | H40: =IFERROR(ROUND((1+J40)*G40,2),0) -> 0.64 | I40: =IFERROR(TRUNC(H40*F40,2),0) -> 28922.64 | J40: 0.2071
...

Sheet CRON
B1: CRONOGRAMA FÍSICO FINANCEIRO
B2: PROJETO EXECUTIVO DE ENGENHARIA NA RODOVIA PE-060 PROPOSTA DE IMPLANTAÇÃO DE 3º FAIXA
A3: CRONOGRAMA FÍSICO FINANCEIRO | B3: ITEM | D3: VALOR R$ | E3: DIAS CORRIDOS
C4: ATIVIDADES | E4: 30 | K4: 60 | Q4: 90 | W4: 120 | AC4: 150 | AI4: 180
B6: 1.0 | C6: =PLANILHA!D8 -> ADMINISTRAÇÃO LOCAL | D6: =D8/$AI$42 -> 0.035897189 | E6: =E8/$D$8 -> 0.23349882 | K6: =K8/$D$8 -> 0.17577641 | Q6: =Q8/$D$8 -> 0.17577641 | W6: =W8/$D$8 -> 0.17577641 | AC6: =AC8/$D$8 -> 0.17577641 | AI6: =AI8/$D$8 -> 0.063395551
D8: =RESUMO!C12 -> 463824.88 | E8: =SUM(E11+E14+E17+E29)*$D$46 -> 108302.56 | K8: =SUM(K20+K23+K29)*D46 -> 81529.471 | Q8: =SUM(Q20+Q23+Q29)*D46 -> 81529.471 | W8: =SUM(W20+W23+W29)*D46 -> 81529.471 | AC8: =SUM(AC20+AC23+AC29)*D46 -> 81529.471 | AI8: =SUM(AI11+AI26+AI29+AI32)*D46 -> 29404.434 | AO8: =SUM(E8:AN8) -> 463824.88 | AP8: =D8-AO8 -> 0
B9: 2.0 | C9: =PLANILHA!D2 -> MOBILIZAÇAO/DESMOBILIZAÇÃO | D9: =D11/$AI$42 -> 0.0023644422 | E9: 0.5 | AI9: 0.5
D11: =PLANILHA!I4 -> 30550.78 | E11: =E9*$D$11 -> 15275.39 | AI11: =AI9*$D$11 -> 15275.39 | AO11: =SUM(E11:AN11) -> 30550.78 | AP11: =D11-AO11 -> 0
B12: 3.0 | C12: =PLANILHA!D5 -> INSTALAÇÃO DO CANTEIRO DE OBRAS | D12: =D14/$AI$42 -> 0.00078842034 | E12: 1
D14: =PLANILHA!I7 -> 10187.12 | E14: =E12*$D$14 -> 10187.12 | AO14: =SUM(E14:AN14) -> 10187.12 | AP14: =D14-AO14 -> 0
B15: 4.0 | C15: =PLANILHA!$D$11 -> TERRAPLENAGEM | D15: =D17/$AI$42 -> 0.17575068 | E15: 1
D17: =PLANILHA!$I$22 -> 2270861.4 | E17: =E15*$D$17 -> 2270861.4 | AO17: =SUM(E17:AN17) -> 2270861.4 | AP17: =D17-AO17 -> 0
B18: 5.0 | C18: =PLANILHA!$D$23 -> DRENAGEM | D18: =D20/$AI$42 -> 0.032308517 | K18: 0.25 | Q18: 0.25 | W18: 0.25 | AC18: 0.25
D20: =PLANILHA!$I$31 -> 417455.92 | K20: =K18*$D$20 -> 104363.98 | Q20: =Q18*$D$20 -> 104363.98 | W20: =W18*$D$20 -> 104363.98 | AC20: =AC18*$D$20 -> 104363.98 | AO20: =SUM(E20:AN20) -> 417455.92 | AP20: =D20-AO20 -> 0
B21: 6.0 | C21: =PLANILHA!$D$32 -> PAVIMENTAÇÃO | D21: =D23/$AI$42 -> 0.50125104 | K21: 0.25 | Q21: 0.25 | W21: 0.25 | AC21: 0.25
D23: =PLANILHA!$I$45 -> 6476627 | K23: =K21*$D$23 -> 1619156.7 | Q23: =Q21*$D$23 -> 1619156.7 | W23: =W21*$D$23 -> 1619156.7 | AC23: =AC21*$D$23 -> 1619156.7 | AO23: =SUM(E23:AN23) -> 6476627 | AP23: =D23-AO23 -> 0
B24: 7.0 | C24: =PLANILHA!$D$46 -> SINALIZAÇÃO | D24: =D26/$AI$42 -> 0.021858352 | AI24: 1
D26: =SUM(PLANILHA!$I$48,PLANILHA!$I$55) -> 282430.12 | AI26: =AI24*$D$26 -> 282430.12 | AO26: =SUM(E26:AN26) -> 282430.12 | AP26: =D26-AO26 -> 0
B27: 7.3 | C27: =PLANILHA!$D$58 -> SINAIZAÇÃO DE OBRAS | D27: =D29/$AI$42 -> 0.009649687 | E27: =1/6 -> 0.16666667 | K27: =1/6 -> 0.16666667 | Q27: =1/6 -> 0.16666667 | W27: =1/6 -> 0.16666667 | AC27: =1/6 -> 0.16666667 | AI27: =1/6 -> 0.16666667
D29: =PLANILHA!$I$58 -> 124682.88 | E29: =E27*$D$29 -> 20780.48 | K29: =K27*$D$29 -> 20780.48 | Q29: =Q27*$D$29 -> 20780.48 | W29: =W27*$D$29 -> 20780.48 | AC29: =AC27*$D$29 -> 20780.48 | AI29: =AI27*$D$29 -> 20780.48 | AO29: =SUM(E29:AN29) -> 124682.88 | AP29: =D29-AO29 -> 0
B30: 8.0 | C30: =PLANILHA!D69 -> PROTEÇÃO AMBIENTAL | D30: =D32/$AI$42 -> 0.02403961 | AI30: 1
D32: =PLANILHA!I72 -> 310614 | AI32: =AI30*$D$32 -> 310614 | AO32: =SUM(E32:AN32) -> 310614 | AP32: =D32-AO32 -> 0
B33: 9.0 | C33: =PLANILHA!D73 -> INTERSEÇÃO COM A PE-072 | D33: =D35/$AI$42 -> 0.12494835 | E33: =1/6 -> 0.16666667 | K33: =1/6 -> 0.16666667 | Q33: =1/6 -> 0.16666667 | W33: =1/6 -> 0.16666667 | AC33: =1/6 -> 0.16666667 | AI33: =1/6 -> 0.16666667
D35: =PLANILHA!I130 -> 1614448.3 | E35: =E33*$D$35 -> 269074.72 | K35: =K33*$D$35 -> 269074.72 | Q35: =Q33*$D$35 -> 269074.72 | W35: =W33*$D$35 -> 269074.72 | AC35: =AC33*$D$35 -> 269074.72 | AI35: =AI33*$D$35 -> 269074.72 | AO35: =SUM(E35:AN35) -> 1614448.3 | AP35: =D35-AO35 -> 0
B36: 10.0 | C36: =PLANILHA!D131 -> INTERSEÇÃO COM A PE-038 | D36: =D38/$AI$42 -> 0.071143707 | E36: =1/6 -> 0.16666667 | K36: =1/6 -> 0.16666667 | Q36: =1/6 -> 0.16666667 | W36: =1/6 -> 0.16666667 | AC36: =1/6 -> 0.16666667 | AI36: =1/6 -> 0.16666667
D38: =PLANILHA!I192 -> 919242.49 | E38: =E36*$D$38 -> 153207.08 | K38: =K36*$D$38 -> 153207.08 | Q38: =Q36*$D$38 -> 153207.08 | W38: =W36*$D$38 -> 153207.08 | AC38: =AC36*$D$38 -> 153207.08 | AI38: =AI36*$D$38 -> 153207.08 | AO38: =SUM(E38:AN38) -> 919242.49 | AP38: =D38-AO38 -> 0
A39: QD - 8.1 | B39: DESEMBOLSO MENSAL | E39: =ROUND(E40/$D$42,4) -> 0.2204 | K39: =ROUND(K40/$D$42,4) -> 0.174 | Q39: =ROUND(Q40/$D$42,4) -> 0.174 | W39: =ROUND(W40/$D$42,4) -> 0.174 | AC39: =ROUND(AC40/$D$42,4) -> 0.174 | AI39: =ROUND(AI40/$D$42,4) -> 0.0836
E40: =SUM(E11,E14,E8,E17,E29,E35,E38) -> 2847688.7 | K40: =SUM(K8,K20,K23,K29,K35,K38) -> 2248112.5 | Q40: =SUM(Q8,Q20,Q23,Q29,Q35,Q38) -> 2248112.5 | W40: =SUM(W20,W8,W23,W29,W35,W38) -> 2248112.5 | AC40: =SUM(AC20,AC8,AC23,AC29,AC35,AC38) -> 2248112.5 | AI40: =SUM(AI11,AI8,AI26,AI29,AI32,AI35,AI38) -> 1080786.2
B41: DESEMBOLSO ACUMULADO | D41: =SUM(D30,D27,D24,D21,D18,D15,D12,D9,D6,D33,D36) -> 1 | E41: =E39 -> 0.2204 | K41: =K39+E41 -> 0.3944 | Q41: =Q39+K41 -> 0.5684 | W41: =W39+Q41 -> 0.7424 | AC41: =AC39+W41 -> 0.9164 | AI41: =AI39+AC41 -> 1
D42: =SUM(D17,D8,D11,D80,D14,D20,D23,D26,D29,D32,D35,D38) -> 12920925 | E42: =E40 -> 2847688.7 | K42: =K40+E42 -> 5095801.2 | Q42: =Q40+K42 -> 7343913.7 | W42: =W40+Q42 -> 9592026.1 | AC42: =AC40+W42 -> 11840139 | AI42: =AI40+AC42 -> 12920925
D44: =RESUMO!C21 -> 12920925
D45: =D42-D44 -> 0
D46: =D8/(D11+D14+D17+D20+D23+D26+D29+D32) -> 0.046740477

Sheet CURVA ABC
A1: GOVERNO DO ESTADO DE PERNAMBUCO
A2: SECRETARIA DE MOBILIDADE E INFRAESTRUTURA - SEMOBI/PE
A3: DEPARTAMENTO DE ESTRADAS E RODAGEM - DER/PE
A4: RODOVIA: | B4: =RESUMO!B5 -> PE-060
A5: TRECHO: | B5: =RESUMO!B6 -> ENTR. BR-101 (CABO DE SANTO AGOSTINHO) - DIV. PE/AL
A6: EXTENSÃO: | B6: =RESUMO!B7 -> 85,96 KM
A8: DEMONSTRATIVO DA CURVA ABC DE SERVIÇOS
A10: CÓDIGO | B10: DESCRIÇÃO | C10: UND | D10: QUANT. | E10: PREÇO UNITÁRIO | F10: PREÇO TOTAL | G10: CURVA ABC
G11: % | H11: % ACUM
A12: CP0007 | B12: MISTURA BETUMINOSA - FAIXA C | C12: T | D12: 1807.67 | E12: 1526.65 | F12: =TRUNC(E12*D12,2) -> 2759679.4 | G12: =F12/$F$89 -> 0.21358219 | H12: =G12 -> 0.21358219
A13: 4011279 | B13: Base ou sub-base de macadame seco com brita comercial - 100% Proctor modificado | C13: m³ | D13: 4519.16 | E13: 328.72 | F13: =TRUNC(E13*D13,2) -> 1485538.3 | G13: =F13/$F$89 -> 0.11497151 | H13: =H12+G13 -> 0.3285537
B14: DESTINAÇÃO FINAL DE RESÍDUOS SÓLIDOS (SOLOS) | C14: T | D14: 15293.51 | E14: 96.8 | F14: =TRUNC(E14*D14,2) -> 1480411.8 | G14: =F14/$F$89 -> 0.11457475 | H14: =H13+G14 -> 0.44312845
A15: 4011276 | B15: Base ou sub-base de brita graduada com brita comercial - 100% Proctor modificado | C15: m³ | D15: 5247.8 | E15: 228.32 | F15: =TRUNC(E15*D15,2) -> 1198177.7 | G15: =F15/$F$89 -> 0.092731573 | H15: =H14+G15 -> 0.53586003
A16: 4011463 | B16: Concreto asfáltico - faixa C-12,5 - areia e brita comerciais | C16: t | D16: 5272.55 | E16: 124.33 | F16: =TRUNC(E16*D16,2) -> 655536.14 | G16: =F16/$F$89 -> 0.05073446 | H16: =H15+G16 -> 0.58659449
A17: 4915801 | B17: Mistura betuminosa | C17: m³ | D17: 389.42 | E17: 1526.65 | F17: =TRUNC(E17*D17,2) -> 594508.04 | G17: =F17/$F$89 -> 0.046011261 | H17: =H16+G17 -> 0.63260575
A18: 5914389 | B18: Transporte com caminhão basculante de 10 m³ - rodovia pavimentada | C18: tkm | D18: 565438.04 | E18: 1 | F18: =TRUNC(E18*D18,2) -> 565438.04 | G18: =F18/$F$89 -> 0.043761422 | H18: =H17+G18 -> 0.67636717
A19: CP0012 | B19: ADMINISTRAÇÃO LOCAL | C19: UN | D19: 1 | E19: 463824.88 | F19: =TRUNC(E19*D19,2) -> 463824.88 | G19: =F19/$F$89 -> 0.035897189 | H19: =H18+G19 -> 0.71226436
A20: 1107888 | B20: Concreto fck = 15 MPa - confecção em betoneira e lançamento manual - areia e brita comerciais | C20: m³ | D20: 668.84 | E20: 598.67 | F20: =TRUNC(E20*D20,2) -> 400414.44 | G20: =F20/$F$89 -> 0.030989611 | H20: =H19+G20 -> 0.74325397
A21: CP0002 | B21: MISTURA BGS | C21: M³ | D21: 5247.8 | E21: 68.86 | F21: =TRUNC(E21*D21,2) -> 361363.5 | G21: =F21/$F$89 -> 0.027967309 | H21: =H20+G21 -> 0.77122128
A22: 4413996 | B22: Enleivamento | C22: m² | D22: 17250 | E22: 13.4 | F22: =TRUNC(E22*D22,2) -> 231150 | G22: =F22/$F$89 -> 0.017889586 | H22: =H21+G22 -> 0.78911086
A23: 2003377 | B23: Meio-fio de concreto - MFC 05 - areia e brita comerciais - fôrma de madeira | C23: m | D23: 2865 | E23: 74.61 | F23: =TRUNC(E23*D23,2) -> 213757.65 | G23: =F23/$F$89 -> 0.016543526 | H23: =H22+G23 -> 0.80565439
A24: CP0003 | B24: AQUISIÇÃO DE ASFALTO DILUÍDO CM-30 | C24: T | D24: 31.16 | E24: 6384.62 | F24: =TRUNC(E24*D24,2) -> 198944.75 | G24: =F24/$F$89 -> 0.015397098 | H24: =H23+G24 -> 0.82105149
A25: 5213711 | B25: Semipórtico metálico com vão de 8,3 m, vento de 40 m/s e área de exposição de até 12,45 m² - fornecimento e implantação - areia e brita comerciais | C25: un | D25: 2 | E25: 80932.05 | F25: =TRUNC(E25*D25,2) -> 161864.1 | G25: =F25/$F$89 -> 0.012527284 | H25: =H24+G25 -> 0.83357877
A26: CP0001 | B26: DESTINAÇÃO FINAL DE RESÍDUOS SÓLIDOS (ESCAVAÇÃO) | C26: T | D26: 1641.98 | E26: 96.8 | F26: =TRUNC(E26*D26,2) -> 158943.66 | G26: =F26/$F$89 -> 0.01230126 | H26: =H25+G26 -> 0.84588003
A27: 5213401 | B27: Pintura de faixa com tinta acrílica - espessura de 0,6 mm | C27: m² | D27: 4066.73 | E27: 34.56 | F27: =TRUNC(E27*D27,2) -> 140546.18 | G27: =F27/$F$89 -> 0.010877409 | H27: =H26+G27 -> 0.85675744
A28: CP0015 | B28: DESTINAÇÃO FINAL DE RESÍDUOS SÓLIDOS (ENTULHO) | C28: T | D28: 1204.59 | E28: 113.88 | F28: =TRUNC(E28*D28,2) -> 137178.7 | G28: =F28/$F$89 -> 0.010616786 | H28: =H27+G28 -> 0.86737423
A29: 2003257 | B29: Sarjeta triangular de concreto - STC 100-20 - escavação mecânica - areia e brita comerciais | C29: m | D29: 1725 | E29: 76.65 | F29: =TRUNC(E29*D29,2) -> 132221.25 | G29: =F29/$F$89 -> 0.01023311 | H29: =H28+G29 -> 0.87760734
A30: 4805750 | B30: Escavação manual em material de 1ª categoria na profundidade de até 1 m | C30: m³ | D30: 2108.01 | E30: 57.25 | F30: =TRUNC(E30*D30,2) -> 120683.57 | G30: =F30/$F$89 -> 0.009340165 | H30: =H29+G30 -> 0.8869475
A31: 2003363 | B31: Transposição de segmentos de sarjeta - TSS 140 - areia e brita comerciais | C31: m | D31: 78 | E31: 1478.95 | F31: =TRUNC(E31*D31,2) -> 115358.1 | G31: =F31/$F$89 -> 0.0089280064 | H31: =H30+G31 -> 0.89587551
A32: 5914359 | B32: Transporte com caminhão basculante de 10 m³ - rodovia em leito natural | C32: tkm | D32: 74938.22 | E32: 1.51 | F32: =TRUNC(E32*D32,2) -> 113156.71 | G32: =F32/$F$89 -> 0.0087576324 | H32: =H31+G32 -> 0.90463314
A33: CP0005 | B33: AQUISIÇÃO DE EMULSÃO ASFÁLTICA RR-1C | C33: T | D33: 25.17 | E33: 4469.29 | F33: =TRUNC(E33*D33,2) -> 112492.02 | G33: =F33/$F$89 -> 0.0087061895 | H33: =H32+G33 -> 0.91333933
A34: 5213571 | B34: Placa em aço - película I + III - fornecimento e implantação | C34: m² | D34: 173.86 | E34: 610.12 | F34: =TRUNC(E34*D34,2) -> 106075.46 | G34: =F34/$F$89 -> 0.0082095873 | H34: =H33+G34 -> 0.92154892
A35: 4413905 | B35: Hidrossemeadura | C35: m² | D35: 10320 | E35: 7.7 | F35: =TRUNC(E35*D35,2) -> 79464 | G35: =F35/$F$89 -> 0.0061500242 | H35: =H34+G35 -> 0.92769894
A36: 5915411 | B36: Carga, manobra e descarga de agregados ou solos em caminhão basculante de 10 m³ - carga com carregadeira de 3,40 m³ e descarga em distribuidor autopropelido | C36: t | D36: 15293.51 | E36: 4.57 | F36: =TRUNC(E36*D36,2) -> 69891.34 | G36: =F36/$F$89 -> 0.0054091592 | H36: =H35+G36 -> 0.9331081
A37: 5213850 | B37: Operação de sinalização por bandeirola de tecido ou com placa metálica | C37: h | D37: 2263 | E37: 28.56 | F37: =TRUNC(E37*D37,2) -> 64631.28 | G37: =F37/$F$89 -> 0.005002063 | H37: =H36+G37 -> 0.93811017
A38: 4915655 | B38: Fresagem contínua de revestimento asfáltico - espessura de 3 cm | C38: m³ | D38: 221.28 | E38: 243.17 | F38: =TRUNC(E38*D38,2) -> 53808.65 | G38: =F38/$F$89 -> 0.0041644581 | H38: =H37+G38 -> 0.94227462
A39: 2003373 | B39: Meio-fio de concreto - MFC 03 - areia e brita comerciais - fôrma de madeira | C39: m | D39: 539.62 | E39: 85.51 | F39: =TRUNC(E39*D39,2) -> 46142.9 | G39: =F39/$F$89 -> 0.0035711763 | H39: =H38+G39 -> 0.9458458
A40: 5213405 | B40: Pintura de setas e zebrados com tinta acrílica - espessura de 0,6 mm | C40: m² | D40: 850 | E40: 52.98 | F40: =TRUNC(E40*D40,2) -> 45033 | G40: =F40/$F$89 -> 0.0034852768 | H40: =H39+G40 -> 0.94933108
A41: 1600989 | B41: Demolição de concreto simples com martelete | C41: m³ | D41: 67.93 | E41: 651.59 | F41: =TRUNC(E41*D41,2) -> 44262.5 | G41: =F41/$F$89 -> 0.0034256449 | H41: =H40+G41 -> 0.95275672
A42: 804029 | B42: Corpo de BSTC D = 0,80 m PA1 - areia, brita e pedra de mão comerciais | C42: m | D42: 49.43 | E42: 796.43 | F42: =TRUNC(E42*D42,2) -> 39367.53 | G42: =F42/$F$89 -> 0.0030468044 | H42: =H41+G42 -> 0.95580353
...

Sheet Adm Local
B2: GOVERNO DO ESTADO DE PERNAMBUCO
B3: SECRETARIA DE MOBILIDADE E INFRAESTRUTURA - SEMOBI/PE
B4: DEPARTAMENTO DE ESTRADAS DE RODAGEM - DER/PE
B6: RODOVIA: | D6: =Canteiro!C6 -> PE-060
B7: TRECHO: | D7: =Canteiro!C7 -> ENTR. BR-101 (CABO DE SANTO AGOSTINHO) - DIV. PE/AL
B8: DATA BASE: | D8: =Canteiro!C8 -> OUTUBRO/2025
B9: TIPO: | D9: =Canteiro!C9 -> SEM DESONERAÇÃO
B11: ADMINISTRAÇÃO LOCAL
C13: ADMINISTRAÇÃO LOCAL
C14: De acordo com o Manual de Custos de Infraestrutura de Transportes, a administração local compreende o conjunto de gastos com pessoal, materiais e equipamentos incorridos pelo executor no local do empreendimento e indispensáveis ao apoio e à condução da obra. É exercida normalmente por pessoal técnico e administrativo, tais como: engenheiro supervisor, engenheiros setoriais, gestores administrativos, equipes de medicina e segurança no trabalho, etc. Além da gerência técnica e administrativa da obra, incluem-se na administração local as equipes responsáveis pelo controle de produção das frentes de serviços, pelo controle tecnológico da obra e pelos serviços gerais de apoio.
C18: A) Considerações :
D19: Natureza da obra: | E19: Intervenção Pontual do tipo Restrita
D20: Extensão de km de faixa do Segmento: | F20: 0
D21: Prazo de execução (meses) | F21: 6
D22: Dimensões referenciais do canteiro de obras e acampamentos: | H22: 305.17 | I22: de área de instalações referenciais
H23: =Canteiro!E79 -> 73.92 | I23: de instalações cobertas (estrutura modular);
H24: =Canteiro!E80 -> 315.89744 | I24: de áreas descobertas.
C26: B) Parcela Fixa da Administração Local :
C28: Tabela 68 – Parcela fixa da administração local para obras de intervenções pontuais (mão de obra)
C29: ITEM | D29: CÓDIGO | E29: DISCRIMINAÇÃO | F29: UNIDADE | G29: QUANTIDADE | H29: CUSTO UINTÁRIO (R$) | I29: CUSTO TOTAL (R$)
C30: 1 | D30: GERÊNCIA TÉCNICA
C31: 1.1 | D31: Geral
C32: 1.1.1 | D32: P9819 | E32: Engenheiro Supervisor | F32: mês | G32: 0.25 | H32: =VLOOKUP(D32,'[5]Mão de Obra (OK)'!$D$9:$J$109,7,0) -> 27534.562 | I32: =TRUNC(H32*G32,2) -> 6883.64
C33: 1.1.2 | D33: P9840 | E33: Encarregado geral | F33: mês | G33: 1 | H33: =VLOOKUP(D33,'[5]Mão de Obra (OK)'!$D$9:$J$109,7,0) -> 11551.203 | I33: =TRUNC(H33*G33,2) -> 11551.2
C34: SUBTOTAL DO ITEM 1 - GERÊNCIA TÉCNICA (R$) | I34: =SUM(I32:I33) -> 18434.84
C35: 2 | D35: GERÊNCIA ADMINISTRATIVA
C36: 2.1 | D36: Auxiliar
C37: 2.1.1 | D37: P9842 | E37: Faxineiro | F37: mês | G37: 1 | H37: =VLOOKUP(D37,'[5]Mão de Obra (OK)'!$D$9:$J$109,7,0) -> 4271.9216 | I37: =TRUNC(H37*G37,2) -> 4271.92
C38: SUBTOTAL DO ITEM 2 - GERÊNCIA ADMINISTRATIVA (R$) | I38: =SUM(I37:I37) -> 4271.92
C39: TOTAL DA MÃO DE OBRA DA PARCELA FIXA (R$) | I39: =SUM(I38,I34) -> 22706.76
C41: Tabela 68 – Parcela fixa da administração local para obras de intervenções pontuais (veículos)
C42: ITEM | D42: CÓDIGO | E42: DISCRIMINAÇÃO | F42: UNIDADE | G42: QUANTIDADE | H42: UTIL. PROD. | I42: UTIL. IMPROD. | J42: CHP | K42: CHI | L42: CUSTO TOTAL (R$)
C43: 1 | D43: GERÊNCIA TÉCNICA
C44: 1.1 | D44: Geral
C45: 1.1.1 | D45: E9093 | E45: Veículo leve - 53 kw | F45: mês | G45: =G33+G32 -> 1.25 | H45: 44 | I45: 176 | J45: =VLOOKUP(D45,'[5]Equipamentos (OK)'!$D$10:$G$573,3,0) -> 35.8043 | K45: =VLOOKUP(D45,'[5]Equipamentos (OK)'!$D$10:$G$573,4,0) -> 6.6485 | L45: =TRUNC(G45*((H45*J45)+(I45*K45)),2) -> 3431.9
C46: 1.1.2 | D46: E9134 | E46: Miniônibus - 111 kw | F46: mês | G46: 0 | H46: 44 | I46: 176 | J46: =VLOOKUP(D46,'[5]Equipamentos (OK)'!$D$10:$G$573,3,0) -> 242.9887 | K46: =VLOOKUP(D46,'[5]Equipamentos (OK)'!$D$10:$G$573,4,0) -> 80.8888 | L46: =TRUNC(G46*((H46*J46)+(I46*K46)),2) -> 0
L47: =SUM(L45:L46) -> 3431.9
C48: 2 | D48: GERÊNCIA ADMINISTRATIVA
C49: 2.1 | D49: Geral
C50: 2.1.1 | D50: E9093 | E50: Veículo leve - 53 kw | F50: mês | G50: =G37+G36 -> 1 | H50: 44 | I50: 176 | J50: =VLOOKUP(D50,'[5]Equipamentos (OK)'!$D$10:$G$573,3,0) -> 35.8043 | K50: =VLOOKUP(D50,'[5]Equipamentos (OK)'!$D$10:$G$573,4,0) -> 6.6485 | L50: =TRUNC(G50*((H50*J50)+(I50*K50)),2) -> 2745.52
...

Sheet EFS
A1: GOVERNO DO ESTADO DE PERNAMBUCO
A2: SECRETARIA DE MOBILIDADE E INFRAESTRUTURA - SEMOBI/PE
A3: DEPARTAMENTO DE ESTRADAS DE RODAGEM - DER/PE
A5: RODOVIA: | C5: =Canteiro!$C$6 -> PE-060
A6: TRECHO: | C6: =Canteiro!$C$7 -> ENTR. BR-101 (CABO DE SANTO AGOSTINHO) - DIV. PE/AL
A7: DATA BASE: | C7: =Canteiro!C8 -> OUTUBRO/2025
A8: TIPO: | C8: =Canteiro!C9 -> SEM DESONERAÇÃO
A10: EQUIPE PARA O CONTROLE TECNOLÓGICO
A11: Cod. Grupo | B11: Cod. Cliente | C11: Descricao Completa | D11: Unid. Comp | E11: Prod.Equipe Ph | F11: Equipe/und Efsdu | G11: Fator redutor | H11: Equipe Efs | I11: Qtde projeto Qprojeto | J11: Laboratório QE | K11: Equipe/und ELU | L11: Tipo | M11: Laboratório EL | N11: Equipe Efs | O11: Solo EL | P11: Asfalto EL | Q11: Concreto EL | R11: Manejo EL
A13: 1 | C13: PAVIMENTAÇÃO | E13: 1 | H13: x | I13: X | M13: =IF(J13<>"",ROUND(I13/J13,2),IF(K13<>"",ROUND(I13*K13,2),IF(L13="M",ROUND(I13/(E13*182.49),2),""))) | N13: =SUM(H14:H19) -> 1.08 | O13: =SUM(O14:O19) -> 0.42 | P13: =SUM(P14:P19) -> 0.5 | Q13: =SUM(Q14:Q19) -> 0 | R13: =SUM(R14:R19) -> 0
B14: 4011463 | C14: CONCRETO ASFÁLTICO - FAIXA C - AREIA E BRITA COMERCIAIS | D14: T | E14: 99.6 | H14: =IF(F14<>"",ROUND(I14*F14,2),IF(G14<>"",ROUND(G14*(I14/(E14*182.49)),2),ROUND(I14/(E14*182.49),2))) -> 0.24 | I14: 4338.4 | J14: 9000 | L14: A | M14: =IF(J14<>"",ROUND(I14/J14,2),IF(K14<>"",ROUND(I14*K14,2),IF(L14="M",ROUND(I14/(E14*182.49),2),""))) -> 0.48 | O14: =IF(L14="S",M14,0) -> 0 | P14: =IF(L14="A",M14,0) -> 0.48 | Q14: =IF(L14="C",M14,0) -> 0 | R14: =IF(L14="M",M14,0) -> 0
B15: 4011353 | C15: PINTURA DE LIGAÇÃO | D15: M² | E15: 1500 | H15: =IF(F15<>"",ROUND(I15*F15,2),IF(G15<>"",ROUND(G15*(I15/(E15*182.49)),2),ROUND(I15/(E15*182.49),2))) -> 0.17 | I15: 45191.64 | J15: 3610000 | L15: A | M15: =IF(J15<>"",ROUND(I15/J15,2),IF(K15<>"",ROUND(I15*K15,2),IF(L15="M",ROUND(I15/(E15*182.49),2),""))) -> 0.01 | O15: =IF(L15="S",M15,0) -> 0 | P15: =IF(L15="A",M15,0) -> 0.01 | Q15: =IF(L15="C",M15,0) -> 0 | R15: =IF(L15="M",M15,0) -> 0
B16: 4011351 | C16: IMPRIMAÇÃO COM ASFALTO DILUÍDO | D16: M² | E16: 1125 | H16: =IF(F16<>"",ROUND(I16*F16,2),IF(G16<>"",ROUND(G16*(I16/(E16*182.49)),2),ROUND(I16/(E16*182.49),2))) -> 0.11 | I16: 22595.82 | J16: 1610000 | L16: A | M16: =IF(J16<>"",ROUND(I16/J16,2),IF(K16<>"",ROUND(I16*K16,2),IF(L16="M",ROUND(I16/(E16*182.49),2),""))) -> 0.01 | O16: =IF(L16="S",M16,0) -> 0 | P16: =IF(L16="A",M16,0) -> 0.01 | Q16: =IF(L16="C",M16,0) -> 0 | R16: =IF(L16="M",M16,0) -> 0
B17: 4011279 | C17: BASE OU SUB-BASE DE MACADAME SECO COM BRITA COMERCIAL - 100% PROCTOR MODIFICADO | D17: M³ | E17: 84.62 | H17: =IF(F17<>"",ROUND(I17*F17,2),IF(G17<>"",ROUND(G17*(I17/(E17*182.49)),2),ROUND(I17/(E17*182.49),2))) -> 0.29 | I17: 4519.164 | J17: 21900 | L17: S | M17: =IF(J17<>"",ROUND(I17/J17,2),IF(K17<>"",ROUND(I17*K17,2),IF(L17="M",ROUND(I17/(E17*182.49),2),""))) -> 0.21 | O17: =IF(L17="S",M17,0) -> 0.21 | P17: =IF(L17="A",M17,0) -> 0
B18: 4011276 | C18: BASE OU SUB-BASE DE BRITA GRADUADA COM BRITA COMERCIAL - 100% PROCTOR MODIFICADO | D18: M³ | E18: 113.18 | H18: =IF(F18<>"",ROUND(I18*F18,2),IF(G18<>"",ROUND(G18*(I18/(E18*182.49)),2),ROUND(I18/(E18*182.49),2))) -> 0.22 | I18: 4519.164 | J18: 21900 | L18: S | M18: =IF(J18<>"",ROUND(I18/J18,2),IF(K18<>"",ROUND(I18*K18,2),IF(L18="M",ROUND(I18/(E18*182.49),2),""))) -> 0.21 | O18: =IF(L18="S",M18,0) -> 0.21 | P18: =IF(L18="A",M18,0) -> 0
B19: 4011212 | C19: VARREDURA DA SUPERFÍCIE PARA EXECUÇÃO DE REVESTIMENTO ASFÁLTICO | D19: M² | E19: 2430.24 | H19: =IF(F19<>"",ROUND(I19*F19,2),IF(G19<>"",ROUND(G19*(I19/(E19*182.49)),2),ROUND(I19/(E19*182.49),2))) -> 0.05 | I19: 22595.82 | M19: =IF(J19<>"",ROUND(I19/J19,2),IF(K19<>"",ROUND(I19*K19,2),IF(L19="M",ROUND(I19/(E19*182.49),2),""))) | O19: =IF(L19="S",M19,0) -> 0 | P19: =IF(L19="A",M19,0) -> 0 | Q19: =IF(L19="C",M19,0) -> 0 | R19: =IF(L19="M",M19,0) -> 0
A20: 2 | C20: TERRAPLENAGEM | E20: 1 | H20: x | I20: X | M20: =IF(J20<>"",ROUND(I20/J20,2),IF(K20<>"",ROUND(I20*K20,2),IF(L20="M",ROUND(I20/(E20*182.49),2),""))) | N20: =SUM(H21) -> 0.05 | O20: =SUM(O21) -> 0 | P20: =SUM(P21) -> 0 | Q20: =SUM(Q21) -> 0 | R20: =SUM(R21) -> 0
B21: 5503041 | C21: COMPACTAÇÃO DE ATERROS A 100% DO PROCTOR INTERMEDIÁRIO | D21: M³ | E21: 134.56 | H21: =IF(F21<>"",ROUND(I21*F21,2),IF(G21<>"",ROUND(G21*(I21/(E21*182.49)),2),ROUND(I21/(E21*182.49),2))) -> 0.05 | I21: 1147.416 | J21: 24200 | M21: =IF(J21<>"",ROUND(I21/J21,2),IF(K21<>"",ROUND(I21*K21,2),IF(L21="M",ROUND(I21/(E21*182.49),2),""))) -> 0.05 | O21: =IF(L21="S",M21,0) -> 0
A22: 3 | C22: DRENAGEM | E22: 1 | H22: x | I22: X | M22: =IF(J22<>"",ROUND(I22/J22,2),IF(K22<>"",ROUND(I22*K22,2),IF(L22="M",ROUND(I22/(E22*182.49),2),""))) | N22: =SUM(H23:H24) -> 0.93 | O22: =SUM(O23:O24) -> 0 | P22: =SUM(P23:P24) -> 0 | Q22: =SUM(Q23:Q24) -> 0 | R22: =SUM(R23:R24) -> 0
B23: 2003257 | C23: SARJETA TRIANGULAR DE CONCRETO - STC 100-20 - ESCAVAÇÃO MECÂNICA - AREIA E BRITA COMERCIAIS | D23: M | E23: 1 | F23: 0.00019 | H23: =IF(F23<>"",ROUND(I23*F23,2),IF(G23<>"",ROUND(G23*(I23/(E23*182.49)),2),ROUND(I23/(E23*182.49),2))) -> 0.33 | I23: 1725
B24: 2003377 | C24: MEIO-FIO DE CONCRETO - MFC 05 - AREIA E BRITA COMERCIAIS - FÔRMA DE MADEIRA | D24: M | E24: 1 | F24: 0.00021 | H24: =IF(F24<>"",ROUND(I24*F24,2),IF(G24<>"",ROUND(G24*(I24/(E24*182.49)),2),ROUND(I24/(E24*182.49),2))) -> 0.6 | I24: 2865
A25: 4 | C25: OBRAS COMPLEMENTARES, PROTEÇÃO AMBIENTAL | E25: 1 | H25: x | I25: X | M25: =IF(J25<>"",ROUND(I25/J25,2),IF(K25<>"",ROUND(I25*K25,2),IF(L25="M",ROUND(I25/(E25*182.49),2),""))) | N25: =SUM(H26) -> 0.11 | O25: =SUM(O26) -> 0 | P25: =SUM(P26) -> 0 | Q25: =SUM(Q26) -> 0 | R25: =SUM(R26) -> 0.11
B26: 5501700 | C26: DESMATAMENTO, DESTOCAMENTO E LIMPEZA DE ÁREA COM ÁRVORES DE DIÂMETRO ATÉ 0,15 M | D26: M² | E26: 1532.91 | H26: =IF(F26<>"",ROUND(I26*F26,2),IF(G26<>"",ROUND(G26*(I26/(E26*182.49)),2),ROUND(I26/(E26*182.49),2))) -> 0.11 | I26: 29513.06 | L26: M | M26: =IF(J26<>"",ROUND(I26/J26,2),IF(K26<>"",ROUND(I26*K26,2),IF(L26="M",ROUND(I26/(E26*182.49),2),""))) -> 0.11 | O26: =IF(L26="S",M26,0) -> 0 | P26: =IF(L26="A",M26,0) -> 0 | Q26: =IF(L26="C",M26,0) -> 0 | R26: =IF(L26="M",M26,0) -> 0.11
A27: 5 | C27: SINALIZAÇÃO | E27: 1 | H27: x | I27: X | M27: =IF(J27<>"",ROUND(I27/J27,2),IF(K27<>"",ROUND(I27*K27,2),IF(L27="M",ROUND(I27/(E27*182.49),2),""))) | N27: =SUM(H28:H32) -> 0.15 | O27: =SUM(O28:O32) -> 0 | P27: =SUM(P28:P32) -> 0 | Q27: =SUM(Q28:Q32) -> 0 | R27: =SUM(R28:R32) -> 0
B28: 5213442 | C28: PLACA DE REGULAMENTAÇÃO EM AÇO D = 1,00 M - PELÍCULA RETRORREFLETIVA TIPO I + SI - FORNECIMENTO E IMPLANTAÇÃO | D28: UN | E28: 3 | G28: 0.2 | H28: =IF(F28<>"",ROUND(I28*F28,2),IF(G28<>"",ROUND(G28*(I28/(E28*182.49)),2),ROUND(I28/(E28*182.49),2))) -> 0.01 | I28: 20
B29: 5213571 | C29: PLACA EM AÇO - PELÍCULA I + III - FORNECIMENTO E IMPLANTAÇÃO | D29: M² | E29: 3 | G29: 0.2 | H29: =IF(F29<>"",ROUND(I29*F29,2),IF(G29<>"",ROUND(G29*(I29/(E29*182.49)),2),ROUND(I29/(E29*182.49),2))) -> 0.05 | I29: 130
B30: 5216111 | C30: SUPORTE PARA PLACA DE SINALIZAÇÃO EM MADEIRA DE LEI TRATADA 8 X 8 CM - FORNECIMENTO E IMPLANTAÇÃO | D30: UN | E30: 4 | G30: 0.2 | H30: =IF(F30<>"",ROUND(I30*F30,2),IF(G30<>"",ROUND(G30*(I30/(E30*182.49)),2),ROUND(I30/(E30*182.49),2))) -> 0.03 | I30: 120
B31: 5213401 | C31: PINTURA DE FAIXA COM TINTA ACRÍLICA - ESPESSURA DE 0,6 MM | D31: M² | E31: 149.4 | G31: 0.2 | H31: =IF(F31<>"",ROUND(I31*F31,2),IF(G31<>"",ROUND(G31*(I31/(E31*182.49)),2),ROUND(I31/(E31*182.49),2))) -> 0.03 | I31: 3502
B32: 5213405 | C32: PINTURA DE SETAS E ZEBRADOS COM TINTA ACRÍLICA - ESPESSURA DE 0,6 MM | D32: M² | E32: 30.18 | G32: 0.2 | H32: =IF(F32<>"",ROUND(I32*F32,2),IF(G32<>"",ROUND(G32*(I32/(E32*182.49)),2),ROUND(I32/(E32*182.49),2))) -> 0.03 | I32: 850
C33: TOTAL | N33: =N13+N20+N22+N25+N27 -> 2.32 | O33: =O13+O20+O22+O25+O27 -> 0.42 | P33: =P13+P20+P22+P25+P27 -> 0.5 | Q33: =Q13+Q20+Q22+Q25+Q27 -> 0 | R33: =R13+R20+R22+R25+R27 -> 0.11

Sheet MÃO DE OBRA
A1: GOVERNO DO ESTADO DE PERNAMBUCO
A2: SECRETARIA DE MOBILIDADE E INFRAESTRUTURA - SEMOBI/PE
A3: DEPARTAMENTO DE ESTRADAS DE RODAGEM - DER/PE
A6: MÃO DE OBRA
A8: Código | B8: Descrição | C8: Unid | D8: Qtde | E8: Horas mensais | F8: Prazo da obra (meses) | G8: Quantidade
A10: P9824 | B10: SERVENTE | C10: H | D10: 4780.7611 | E10: 182.49 | F10: 6 | G10: =ROUNDUP(D10/E10/F10,0) -> 5
A11: P9808 | B11: CARPINTEIRO | C11: H | D11: 1558.7665 | E11: 182.49 | F11: =$F$10 -> 6 | G11: =ROUNDUP(D11/E11/F11,0) -> 2
A12: P9801 | B12: AJUDANTE | C12: H | D12: 1684.0803 | E12: 182.49 | F12: =$F$10 -> 6 | G12: =ROUNDUP(D12/E12/F12,0) -> 2
A13: P9845 | B13: OPERADOR DE EQUIPAMENTO PESADO | C13: H | D13: 516.02703 | E13: 182.49 | F13: =$F$10 -> 6 | G13: =ROUNDUP(D13/E13/F13,0) -> 1
A14: P9843 | B14: OPERADOR DE EQUIPAMENTO LEVE | C14: H | D14: 313.29845 | E14: 182.49 | F14: =$F$10 -> 6 | G14: =ROUNDUP(D14/E14/F14,0) -> 1
A15: P9866 | B15: MOTORISTA DE CAMINHÃO | C15: H | D15: 190.89282 | E15: 182.49 | F15: =$F$10 -> 6 | G15: =ROUNDUP(D15/E15/F15,0) -> 1
A16: P9830 | B16: MONTADOR | C16: H | D16: 88.2722 | E16: 182.49 | F16: =$F$10 -> 6 | G16: =ROUNDUP(D16/E16/F16,0) -> 1
A17: P9805 | B17: ARMADOR | C17: H | D17: 70.764336 | E17: 182.49 | F17: =$F$10 -> 6 | G17: =ROUNDUP(D17/E17/F17,0) -> 1
A18: P9821 | B18: PEDREIRO | C18: H | D18: 72.34523 | E18: 182.49 | F18: =$F$10 -> 6 | G18: =ROUNDUP(D18/E18/F18,0) -> 1
A19: P9871 | B19: MOTORISTA DE VEÍCULO ESPECIAL | C19: H | D19: 51.604775 | E19: 182.49 | F19: =$F$10 -> 6 | G19: =ROUNDUP(D19/E19/F19,0) -> 1
A20: P9846 | B20: OPERADOR DE EQUIPAMENTO ESPECIAL | C20: H | D20: 43.558232 | E20: 182.49 | F20: =$F$10 -> 6 | G20: =ROUNDUP(D20/E20/F20,0) -> 1
A21: P9822 | B21: PINTOR | C21: H | D21: 48.437106 | E21: 182.49 | F21: =$F$10 -> 6 | G21: =ROUNDUP(D21/E21/F21,0) -> 1
A22: P9853 | B22: PRÉ-MARCADOR | C22: H | D22: 51.604775 | E22: 182.49 | F22: =$F$10 -> 6 | G22: =ROUNDUP(D22/E22/F22,0) -> 1
... A24: P9825 | B24: SOLDADOR | C24: H | D24: 0.010949 | E24: 182.49 | F24: =$F$10 -> 6 | G24: =ROUNDUP(D24/E24/F24,0) -> 1
B25: TOTAL MÃO OBRA: | D25: =SUM(D10:D24) -> 9508.7105 | E25: Número total de mão de obra ordinária | G25: =SUM(G10:G24) -> 21

Sheet Canteiro
B2: GOVERNO DO ESTADO DE PERNAMBUCO
B3: SECRETARIA DE MOBILIDADE E INFRAESTRUTURA - SEMOBI/PE
B4: DEPARTAMENTO DE ESTRADAS DE RODAGEM - DER/PE
B6: RODOVIA: | C6: PE-060
B7: TRECHO: | C7: ENTR. BR-101 (CABO DE SANTO AGOSTINHO) - DIV. PE/AL
B8: DATA BASE: | C8: OUTUBRO/2025
B9: TIPO: | C9: SEM DESONERAÇÃO
B11: METODOLOGIA E CRITÉRIOS ADOTADOS PARA O CANTEIRO DE OBRAS
B13: PARÂMETROS DA OBRA CONSIDERADOS
B15: NATUREZA DA OBRA
D17: Construção | G17: Restauração | J17: Conservação Rotineira
D18: OAE - Construção | G18: OAE - Restauração | I18: X | J18: Intervenções Pontuais
B20: PORTE DA OBRA
D22: Pequena | G22: Média | J22: Grande | L22: X | M22: Único
B24: INSTALAÇÕES INDUSTRIAIS
D26: Central de Britagem (m³/h) | J26: Usina de Concreto (m³/h)
D27: Usina de Asfalto a Quente (t/h) | J27: Usina de Asfalto a Frio (t/h)
D28: Usina de Solos (m³/h) | J28: Fábrica de Premoldados
B30: PADRÃO DE CONSTRUÇÃO
D32: Provisório | G32: Permanente | I32: X | J32: Estrutura Modular
B35: CENTROS REGIONAL
C37: 97.9 | D37: Km | F37: RECIFE | H37: Município | J37: PE | K37: UF
B40: FATORES DE AJUSTE
D42: K2 - FATOR DE MOBILIÁRIO E APARELHAGEM | G42: Canteiros de Obras | K42: Fator K2
G43: Construção e restauração rodoviária de pequeno ou médio porte | K43: 1.05
G44: Construção e restauração rodoviária de grande porte | K44: 1.04
G45: Conservação rodoviária | K45: 1.13
G46: Construção ou recuperação, reforço e alargamento de obras de arte especiais de pequeno porte | K46: 1.06
G47: Construção ou recuperação, reforço e alargamento de obras de arte especiais de médio ou grande porte | K47: 1.04
G48: Construção ferroviária | K48: 1.05
G49: Inervenções Pontuais | K49: 1.33
D51: K3 - FATOR DE DISTÂNCIA DO CANTEIRO AOS CENTROS FORNECEDORES | G51: Condição do Pavimento | H51: Equação - Fator K3 | J51: Extensão | K51: Fator K3
G52: Leito Natural | H52: 1 + 0,0014 x DT | J52: 0 | K52: =TRUNC(IF(J52=0,0,(1+(0.0014*J52))),3) -> 0
G53: Revestimento Primário | H53: 1 + 0,0009 x DT | J53: 0 | K53: =TRUNC(IF(J53=0,0,(1+(0.0009*J53))),3) -> 0
G54: Rodovia Pavimentada | H54: 1 + 0,0008 x DT | J54: =C37 -> 97.9 | K54: =TRUNC(IF(J54=0,0,(1+(0.0008*J54))),3) -> 1.078
B55: CUSTO MÉDIO DA CONSTRUÇÃO CIVIL
C57: PE | D57: UF | F57: 1672.62 | G57: CMCC (R$/m²) | I57: X | J57: Desonerado | M57: Onerado
C59: PE | D59: UF | F59: 1780.31 | G59: CMCC (R$/m²) | J59: Desonerado | L59: X | M59: Onerado
B62: RELAÇÃO ENTRE ÁREA COBERTA X TERRENO
C64: Intervenções Pontuais | F64: Porte Único
...

Sheet Mobilização-Desmobilização
A2: GOVERNO DO ESTADO DE PERNAMBUCO | O2: RECIFE/PE | P2: - | Q2: TAMANDARÉ/PE | R2: = | S2: 97.9 | T2: KM
A3: SECRETARIA DE MOBILIDADE E INFRAESTRUTURA - SEMOBI/PE
A4: DEPARTAMENTO DE ESTRADAS E RODAGEM - DER/PE
A5: RODOVIA: | B5: PE-060
A6: TRECHO: | B6: ENTR. BR-101 (CABO DE SANTO AGOSTINHO) - DIV. PE/AL
A7: DATA ABSE: | B7: OUTUBRO/2025
A8: TIPO: | B8: SEM DESONERAÇÃO
A10: CUSTO DE MOBILIZAÇÃO E DESMOBILIZAÇÃO DE EQUIPAMENTOS (LEVES, MÉDIOS E PESADOS), MÁQUINAS
A12: Item | B12: Código de Equipam. | C12: Descrição | E12: Und. | F12: Quant. | G12: DMT (Km) | H12: FU | I12: Fator K | J12: Velocidade | K12: Custo horário Veículo transp. | L12: Custo Total | M12: Equipamento
A13: 1 | C13: VEÍCULOS LEVES E CAMINHÕES COMUNS
A14: 1.1 | B14: E9571 | C14: Caminhão tanque com capacidade de 10.000 l - 188 kW | E14: und | F14: 2 | G14: =$S$2 -> 97.9 | H14: 1 | I14: 1 | J14: 60 | K14: 355.6851 | L14: =IF(J14="",0,F14*(((G14*H14*I14)/J14)*K14)) -> 1160.719 | M14: Autopropelido
A15: 1.2 | B15: E9687 | C15: Caminhão carroceria com capacidade de 5 t - 115 kw | E15: und | F15: 1 | G15: =$S$2 -> 97.9 | H15: 1 | I15: 1 | J15: 60 | K15: 175.1944 | L15: =IF(J15="",0,F15*(((G15*H15*I15)/J15)*K15)) -> 285.85886 | M15: Autopropelido
A16: 1.3 | B16: E9509 | C16: Caminhão tanque distribuidor de asfalto com capacidade de 6.000 l - 7 kW/136 kW | E16: und | F16: 1 | G16: =$S$2 -> 97.9 | H16: 1 | I16: 1 | J16: 60 | K16: 333.8549 | L16: =IF(J16="",0,F16*(((G16*H16*I16)/J16)*K16)) -> 544.73991 | M16: Autopropelido
A17: 1.4 | B17: E9644 | C17: Caminhão demarcador de faixas com sistema de pintura a frio - 28 kW/115 kW | E17: und | F17: 2 | G17: =$S$2 -> 97.9 | H17: 1 | I17: 1 | J17: 60 | K17: 456.6441 | L17: =IF(J17="",0,F17*(((G17*H17*I17)/J17)*K17)) -> 1490.1819 | M17: Autopropelido
A18: 1.5 | B18: E9667 | C18: Caminhão basculante com capacidade de 14 m³ - 210 kw | E18: und | F18: 2 | G18: =$S$2 -> 97.9 | H18: 1 | I18: 1 | J18: 60 | K18: 321.1662 | L18: =IF(J18="",0,F18*(((G18*H18*I18)/J18)*K18)) -> 1048.0724 | M18: Autopropelido
A19: SUBTOTAL 01 | L19: =TRUNC(SUM(L14:L18),2) -> 4529.57
A21: Item | B21: Código de Equipam. | C21: Descrição | D21: Und. | E21: Quant. | F21: DMT (Km) | G21: FU | H21: Fator K | I21: Velocidade | J21: Preço Transporte Terrestre (CHP) | K21: Custo Total | L21: Equipamento
A22: 2 | C22: EQUIPAMENTOS DE GRANDE PORTE
A23: 2.1 | B23: E9545 | C23: Vibroacabadora de asfalto sobre esteiras - 82 kw | D23: und | E23: 1 | F23: =$S$2 -> 97.9 | G23: 0.5 | H23: 2 | I23: 60 | J23: 552.5394 | K23: =IF(I23="",0,E23*(((F23*G23*H23)/I23)*J23)) -> 901.56012 | L23: E9018
A24: 2.2 | B24: E9540 | C24: Trator sobre esteiras com lâmina - 127 kw | D24: und | E24: 1 | F24: =$S$2 -> 97.9 | G24: 0.5 | H24: 2 | I24: 60 | J24: =$J$23 -> 552.5394 | K24: =IF(I24="",0,E24*(((F24*G24*H24)/I24)*J24)) -> 901.56012 | L24: E9018
A25: 2.3 | B25: E9541 | C25: Trator sobre esteiras com lâmina - 259 kw | D25: und | E25: 1 | F25: =$S$2 -> 97.9 | G25: 1 | H25: 2 | I25: 60 | J25: =$J$23 -> 552.5394 | K25: =IF(I25="",0,E25*(((F25*G25*H25)/I25)*J25)) -> 1803.1202 | L25: E9018
A26: 2.4 | B26: E9076 | C26: Equipamento para pintura eletrostática com cabine dupla de 7,00 kW e estufa de 80.000 kCa | D26: und | E26: 1 | F26: =$S$2 -> 97.9 | G26: 1 | H26: 2 | I26: 60 | J26: 415.7346 | K26: =IF(I26="",0,E26*(((F26*G26*H26)/I26)*J26)) -> 1356.6806 | L26: E9665
A27: 2.5 | B27: E9577 | C27: Trator agrícola sobre pneus - 77 kw | D27: und | E27: 1 | F27: =$S$2 -> 97.9 | G27: 0.5 | H27: 2 | I27: 60 | J27: =$J$26 -> 415.7346 | K27: =IF(I27="",0,E27*(((F27*G27*H27)/I27)*J27)) -> 678.34029 | L27: E9665
A28: 2.6 | B28: E9514 | C28: Distribuidor de agregados sobre pneus autopropelido - 130 kW | D28: und | E28: 1 | F28: =$S$2 -> 97.9 | G28: 0.5 | H28: 2 | I28: 60 | J28: =$J$26 -> 415.7346 | K28: =IF(I28="",0,E28*(((F28*G28*H28)/I28)*J28)) -> 678.34029 | L28: E9665
A29: 2.7 | B29: E9530 | C29: Rolo compactador liso vibratório autopropelido por pneus de 11 t - 97 kW | D29: und | E29: 1 | F29: =$S$2 -> 97.9 | G29: 0.5 | H29: 2 | I29: 60 | J29: 463.9457 | K29: =IF(I29="",0,E29*(((F29*G29*H29)/I29)*J29)) -> 757.00473 | L29: E9666
A30: 2.8 | B30: E9681 | C30: Rolo compactador liso tandem vibratório autopropelido de | D30: und | E30: 1 | F30: =$S$2 -> 97.9 | G30: 0.5 | H30: 2 | I30: 60 | J30: =$J$29 -> 463.9457 | K30: =IF(I30="",0,E30*(((F30*G30*H30)/I30)*J30)) -> 757.00473 | L30: E9666
A31: 2.9 | B31: E9762 | C31: Rolo compactador de pneus autopropelido de 27 t - 85 kW | D31: und | E31: 1 | F31: =$S$2 -> 97.9 | G31: 0.5 | H31: 2 | I31: 60 | J31: =$J$29 -> 463.9457 | K31: =IF(I31="",0,E31*(((F31*G31*H31)/I31)*J31)) -> 757.00473 | L31: E9666
A32: 2.10 | B32: E9772 | C32: Retroescavadeira de pneus com caçamba de escavação | D32: und | E32: 1 | F32: =$S$2 -> 97.9 | G32: 1 | H32: 2 | I32: 60 | J32: =$J$26 -> 415.7346 | K32: =IF(I32="",0,E32*(((F32*G32*H32)/I32)*J32)) -> 1356.6806 | L32: E9665
A33: 2.11 | B33: E9558 | C33: Tanque de estocagem de asfalto com capacidade de 30.000 l | D33: und | E33: 4 | F33: =$S$2 -> 97.9 | G33: 1 | H33: 2 | I33: 60 | J33: =$J$26 -> 415.7346 | K33: =IF(I33="",0,E33*(((F33*G33*H33)/I33)*J33)) -> 5426.7223 | L33: E9665
A34: 2.12 | B34: E9685 | C34: Rolo compactador pé de carneiro vibratório | D34: und | E34: 1 | F34: =$S$2 -> 97.9 | G34: 0.5 | H34: 2 | I34: 60 | J34: =$J$29 -> 463.9457 | K34: =IF(I34="",0,E34*(((F34*G34*H34)/I34)*J34)) -> 757.00473 | L34: E9666
A35: 2.13 | B35: E9127 | C35: Escavadeira hidráulica com martelo hidráulico de 520 kg - | D35: und | E35: 1 | F35: =$S$2 -> 97.9 | G35: 1 | H35: 2 | I35: 60 | J35: =$J$29 -> 463.9457 | K35: =IF(I35="",0,E35*(((F35*G35*H35)/I35)*J35)) -> 1514.0095 | L35: E9666
A36: 2.14 | B36: E9524 | C36: Motoniveladora - 93 kw | D36: und | E36: 1 | F36: =$S$2 -> 97.9 | G36: 1 | H36: 2 | I36: 60 | J36: =$J$26 -> 415.7346 | K36: =IF(I36="",0,E36*(((F36*G36*H36)/I36)*J36)) -> 1356.6806 | L36: E9665
A37: 2.15 | B37: E9515 | C37: Escavadeira hidráulica sobre esteiras com caçamba com | D37: und | E37: 1 | F37: =$S$2 -> 97.9 | G37: 1 | H37: 2 | I37: 60 | J37: =$J$29 -> 463.9457 | K37: =IF(I37="",0,E37*(((F37*G37*H37)/I37)*J37)) -> 1514.0095 | L37: E9666
A38: SUBTOTAL 02 | K38: =TRUNC(SUM(K23:K37),2) -> 20515.72
O39: =LOWER(C38)
A40: Item | B40: Código de Equipam. | C40: Descrição | D40: Und. | E40: Quant. | F40: DMT (Km) | G40: Ida/ Volta | H40: Peso Unitário (kg) | I40: Peso Unitário (t) | J40: Peso Total (t) | K40: Origem - Destino
A41: 3 | C41: EQUIPAMENTOS DE PEQUENO PORTE (EMBARCADOS EM CAMINHÕES)
A42: 3.1 | B42: E9535 | C42: Serra circular com bancada - d = 30 cm - 4 kw | D42: und | E42: 1 | F42: =$S$2 -> 97.9 | G42: 1 | H42: 95 | I42: =H42/1000 -> 0.095 | J42: =I42*E42 -> 0.095 | K42: Recife/PE - Canteiro
A43: 3.2 | B43: E9519 | C43: Betoneira com motor a gasolina com capacidade de 600 l - 10 | D43: und | E43: 1 | F43: =$S$2 -> 97.9 | G43: 1 | H43: 1050 | I43: =H43/1000 -> 1.05 | J43: =I43*E43 -> 1.05 | K43: Recife/PE - Canteiro
A44: 3.3 | B44: E9066 | C44: Grupo gerador - 14 kva | D44: und | E44: 1 | F44: =$S$2 -> 97.9 | G44: 1 | H44: 548 | I44: =H44/1000 -> 0.548 | J44: =I44*E44 -> 0.548 | K44: Recife/PE - Canteiro
...

Sheet Equip Mínimo
A1: GOVERNO DO ESTADO DE PERNAMBUCO
A2: SECRETARIA DE MOBILIDADE E INFRAESTRUTURA - SEMOBI/PE
A3: DEPARTAMENTO DE ESTRADAS DE RODAGEM - DER/PE
A5: RODOVIA: | B5: ='Mobilização-Desmobilização'!B5:K5 -> PE-060
A6: TRECHO: | B6: ='Mobilização-Desmobilização'!B6:K6 -> ENTR. BR-101 (CABO DE SANTO AGOSTINHO) - DIV. PE/AL
A7: DATA BASE: | B7: ='Mobilização-Desmobilização'!B7:C7 -> OUTUBRO/2025
A8: TIPO: | B8: ='[6]Mob. e Desmob'!D11 -> SEM DESONERAÇÃO
A10: EQUIPAMENTO MÍNIMO
A11: Código | B11: Descrição | C11: Und | D11: Quantidade | G11: Tempo de trabalho (h/mês) | H11: Tempo de obra (meses)
D12: Produtivo | E12: Improdutivo | F12: Total | G12: 182.49 | H12: 6
A13: EQUIPAMENTOS DE GRANDE PORTE
A14: E9524 | B14: Motoniveladora - 93 kW | C14: H | D14: 4.298187 | E14: 9.721 | F14: =D14+E14 -> 14.019187 | G14: =F14/$G$12 -> 0.076821672 | H14: =ROUNDUP(G14/$H$12,0) -> 1
A15: E9687 | B15: Caminhão carroceria com capacidade de 5 t - 120 kw | C15: H | D15: 66.760046 | E15: 103.786 | F15: =D15+E15 -> 170.54605 | G15: =F15/$G$12 -> 0.93455009 | H15: =ROUNDUP(G15/$H$12,0) -> 1
A16: E9545 | B16: Vibroacabadora de asfalto sobre esteiras - 97 kW | C16: H | D16: 58.309457 | F16: =D16+E16 -> 58.309457 | G16: =F16/$G$12 -> 0.31952138 | H16: =ROUNDUP(G16/$H$12,0) -> 1
A17: E9681 | B17: Rolo compactador liso tandem vibratório autopropelido de 10,4 t - 82 kW | C17: H | D17: 46.685591 | E17: 11.623 | F17: =D17+E17 -> 58.308591 | G17: =F17/$G$12 -> 0.31951664 | H17: =ROUNDUP(G17/$H$12,0) -> 1
A18: E9558 | B18: Tanque de estocagem de asfalto com capacidade de 30.000 l | C18: H | D18: 120.71076 | F18: =D18+E18 -> 120.71076 | G18: =F18/$G$12 -> 0.66146504 | H18: =ROUNDUP(G18/$H$12,0) -> 1
A19: E9526 | B19: Retroescavadeira de pneus - capacidade da caçamba da pá-carregadeira de 0,76 m³ e da retroescavadeira de 0,29 m³ - 58 kw | C19: H | D19: 0.57 | F19: =D19+E19 -> 0.57 | G19: =F19/$G$12 -> 0.0031234588 | H19: =ROUNDUP(G19/$H$12,0) -> 1
A20: E9509 | B20: Caminhão tanque distribuidor de asfalto com capacidade de 6.000 l - 7 kW/136 kW | C20: H | D20: 60.355377 | F20: =D20+E20 -> 60.355377 | G20: =F20/$G$12 -> 0.33073252 | H20: =ROUNDUP(G20/$H$12,0) -> 1
A21: E9076 | B21: Equipamento para pintura eletrostática com cabine dupla de 7,00 kW e estufa de 80.000 kCal | C21: H | D21: 12.010538 | F21: =D21+E21 -> 12.010538 | G21: =F21/$G$12 -> 0.065814773 | H21: =ROUNDUP(G21/$H$12,0) -> 1
A22: E9577 | B22: Trator agrícola sobre pneus - 77 kW | C22: H | D22: 53.758137 | E22: 145.976 | F22: =D22+E22 -> 199.73414 | G22: =F22/$G$12 -> 1.0944936 | H22: =ROUNDUP(G22/$H$12,0) -> 1
A23: E9762 | B23: Rolo compactador de pneus autopropelido de 27 t - 85 kW | C23: H | D23: 87.864497 | E23: 17.432 | F23: =D23+E23 -> 105.2965 | G23: =F23/$G$12 -> 0.57699872 | H23: =ROUNDUP(G23/$H$12,0) -> 1
A24: E9772 | B24: Retroescavadeira de pneus com caçamba de escavação trapezoidal ou triangular com seção de corte de 0,15 a 0,20 m² - 58 kw | C24: H | D24: 42.129141 | F24: =D24+E24 -> 42.129141 | G24: =F24/$G$12 -> 0.23085726 | H24: =ROUNDUP(G24/$H$12,0) -> 1
A25: E9514 | B25: Distribuidor de agregados sobre pneus autopropelido - 130 kW | C25: H | D25: 100.27253 | F25: =D25+E25 -> 100.27253 | G25: =F25/$G$12 -> 0.5494686 | H25: =ROUNDUP(G25/$H$12,0) -> 1
A26: E9571 | B26: Caminhão tanque com capacidade de 10.000 l - 188 kw | C26: H | D26: 26.815974 | E26: 37.558 | F26: =D26+E26 -> 64.373974 | G26: =F26/$G$12 -> 0.35275343 | H26: =ROUNDUP(G26/$H$12,0) -> 1
A27: E9685 | B27: Rolo compactador pé de carneiro vibratório autopropelido por pneus de 11,6 t - 82 kw | C27: H | D27: 14.050122 | E27: 0.47 | F27: =D27+E27 -> 14.520122 | G27: =F27/$G$12 -> 0.079566672 | H27: =ROUNDUP(G27/$H$12,0) -> 1
A28: E9530 | B28: Rolo compactador liso vibratório autopropelido por pneus de 11 t - 97 kw | C28: H | D28: 93.239472 | E28: 59.938 | F28: =D28+E28 -> 153.17747 | G28: =F28/$G$12 -> 0.83937461 | H28: =ROUNDUP(G28/$H$12,0) -> 1
A29: E9645 | B29: Caminhão demarcador de faixas com sistema de pintura a quente - 5 kW/30,10 kW/136 kW | C29: H | D29: 6.518724 | F29: =D29+E29 -> 6.518724 | G29: =F29/$G$12 -> 0.035720993 | H29: =ROUNDUP(G29/$H$12,0) -> 1
A30: E9644 | B30: Caminhão demarcador de faixas com sistema de pintura a frio - 28 kw/129 kw | C30: H | D30: 55.384762 | F30: =D30+E30 -> 55.384762 | G30: =F30/$G$12 -> 0.30349478 | H30: =ROUNDUP(G30/$H$12,0) -> 1
A31: E9667 | B31: caminhão basculante com capacidade de 14 m³ - 210 kw | C31: H | D31: 9.68883 | E31: 2.534 | F31: =D31+E31 -> 12.22283 | G31: =F31/$G$12 -> 0.066978081 | H31: =ROUNDUP(G31/$H$12,0) -> 1
A32: E9515 | B32: Escavadeira hidráulica sobre esteiras com caçamba com capacidade de 1,56 m³ - 118 kw | C32: H | D32: 3.136322 | F32: =D32+E32 -> 3.136322 | G32: =F32/$G$12 -> 0.017186268 | H32: =ROUNDUP(G32/$H$12,0) -> 1
A33: E9771 | B33: Retroescavadeira de pneus com caçamba de escavação trapezoidal ou triangular com seção de corte de 0,10 a 0,15 m² - 58 kW | C33: H | D33: 8.613232 | F33: =D33+E33 -> 8.613232 | G33: =F33/$G$12 -> 0.047198378 | H33: =ROUNDUP(G33/$H$12,0) -> 1
A34: E9020 | B34: Recicladora a frio - 455 kW | C34: H | D34: 0.500334 | F34: =D34+E34 -> 0.500334 | G34: =F34/$G$12 -> 0.0027417064 | H34: =ROUNDUP(G34/$H$12,0) -> 1
A35: E9511 | B35: Carregadeira de pneus com capacidade de 3,40 m³ - 195 kw | C35: H | D35: 33.453298 | F35: =D35+E35 -> 33.453298 | G35: =F35/$G$12 -> 0.18331579 | H35: =ROUNDUP(G35/$H$12,0) -> 1
A36: E9541 | B36: Trator sobre esteiras com lâmina - 259 kw | C36: H | D36: 24.151577 | F36: =D36+E36 -> 24.151577 | G36: =F36/$G$12 -> 0.13234466 | H36: =ROUNDUP(G36/$H$12,0) -> 1
A37: E9540 | B37: Trator sobre esteiras com lâmina - 127 kw | C37: H | D37: 8.487791 | F37: =D37+E37 -> 8.487791 | G37: =F37/$G$12 -> 0.046510992 | H37: =ROUNDUP(G37/$H$12,0) -> 1
A38: E9686 | B38: Caminhão guindauto com capacidade de elevação de 6,2 t e carroceria de 7 t - 136 kw | C38: H | D38: 15.110843 | F38: =D38+E38 -> 15.110843 | G38: =F38/$G$12 -> 0.082803677 | H38: =ROUNDUP(G38/$H$12,0) -> 1
A39: E9127 | B39: Escavadeira hidráulica com martelo hidráulico de 520 kg - 75 kw | C39: H | D39: 6.12987 | F39: =D39+E39 -> 6.12987 | G39: =F39/$G$12 -> 0.033590169 | H39: =ROUNDUP(G39/$H$12,0) -> 1
A40: E9792 | B40: Caminhão para hidrossemeadura com capacidade de 7.500 l - 77,2 kw/235 kw | C40: H | D40: 24.867469 | F40: =D40+E40 -> 24.867469 | G40: =F40/$G$12 -> 0.13626757 | H40: =ROUNDUP(G40/$H$12,0) -> 1
A41: E9678 | B41: Fresadora a frio - 455 kw | C41: H | D41: 3.48747 | F41: =D41+E41 -> 3.48747 | G41: =F41/$G$12 -> 0.019110472 | H41: =ROUNDUP(G41/$H$12,0) -> 1
A42: E9579 | B42: Caminhão basculante com capacidade de 10 m³ - 210 kw | C42: H | D42: 3558.6467 | E42: 5.352 | F42: =D42+E42 -> 3563.9987 | G42: =F42/$G$12 -> 19.52983 | H42: =ROUNDUP(G42/$H$12,0) -> 4
...

Sheet Rotas
A1: GOVERNO DO ESTADO DE PERNAMBUCO
A2: SECRETARIA DE MOBILIDADE E INFRAESTRUTURA - SEMOBI/PE
A3: DEPARTAMENTO DE ESTRADAS DE RODAGEM - DER/PE
A5: RODOVIA: | B5: ='Mobilização-Desmobilização'!B5:K5 -> PE-060
A6: TRECHO: | B6: ='Mobilização-Desmobilização'!B6:K6 -> ENTR. BR-101 (CABO DE SANTO AGOSTINHO) - DIV. PE/AL
A8: ROTA CAPITAL
A10: RECIFE/PE

Sheet FIT
A1: GOVERNO DO ESTADO DE PERNAMBUCO
A2: SECRETARIA DE MOBILIDADE E INFRAESTRUTURA - SEMOBI/PE
A3: DEPARTAMENTO DE ESTRADAS DE RODAGEM - DER/PE
A5: RODOVIA: | B5: PE-060
A6: TRECHO: | B6: ENTR. BR-101 (CABO DE SANTO AGOSTINHO) - DIV. PE/AL
A7: DATA BASE: | B7: OUTUBRO/2025
A8: TIPO: | B8: SEM DESONERAÇÃO
A10: CÁLCULO DO FIT
A11: CÁLCULO DO FIT:
A12: RODOVIA | B12: MUNICÍPIO | C12: KM INICIAL | D12: KM FINAL | E12: EXTENSÃO (KM) | F12: % | G12: TRECHO URBANO (KM)
G13: KM INICIAL | H13: KM FINAL | I13: EXTENSÃO (KM)
A14: PE-060 | B14: RIO FORMOSO | C14: 57.01 | D14: 61.92 | E14: =D14-C14 -> 4.91 | F14: =E14/(SUM($E$14:$E$16)) -> 0.34097222 | I14: =H14-G14 -> 0
A15: PE-060 | B15: TAMANDARÉ | C15: 61.92 | D15: 68.6 | E15: =D15-C15 -> 6.68 | F15: =E15/(SUM($E$14:$E$16)) -> 0.46388889 | I15: =H15-G15 -> 0
A16: PE-060 | B16: BARREIROS | C16: 68.6 | D16: 71.41 | E16: =D16-C16 -> 2.81 | F16: =E16/(SUM($E$14:$E$16)) -> 0.19513889 | I16: =H16-G16 -> 0
E17: =SUM(E14:E16) -> 14.4 | F17: =SUM(F14:F16) -> 1 | I17: =SUM(I14:I16) -> 0
E18: Percentual de trecho urbano na Rodovia | I18: =I17/E17 -> 0
A19: VMD = | B19: 18228
A30: =ROUND(IF(B19<2000,0%,IF(AND(B19>=2000,B19<=11000),(((B19-2000)/600)/100),IF(B19>11000,15%,"-"))),4) -> 0.15
A31: FIT = 15%
A33: FIT = | B33: =0.15 -> 0.15

Sheet BDI
B2: GOVERNO DO ESTADO DE PERNAMBUCO
B3: SECRETARIA DE MOBILIDADE E INFRAESTRUTURA - SEMOBI/PE
B4: DEPARTAMENTO DE ESTRADAS DE RODAGEM - DER/PE
B6: RODOVIA: | C6: PE-060
B7: TRECHO: | C7: ENTR. BR-101 (CABO DE SANTO AGOSTINHO) - DIV. PE/AL
B8: DATA BASE: | C8: OUTUBRO/2025
B9: TIPO: | C9: SEM DESONERAÇÃO
B11: COMPOSIÇÃO DAS TAXAS DE BENEFÍCIOS E DESPESAS INDIRETAS (BDI)
C13: DETALHAMENTO DO BDI - SEM DESONERAÇÃO
C14: Despesas Indiretas | E14: % | F14: % sobre CD
C15: Administração Central | E15: 0.038
C16: Custos Financeiros | E16: 0.0032
C17: Seguros e Garantias Contratuais | E17: 0.005
C18: Riscos | E18: 0.0102
C19: Subtotal Despesas Indiretas | E19: =SUM(E15:F18) -> 0.0564 | F19: =SUM(F15:F18) -> 0
C20: Benefícios | E20: % | F20: % sobre CD
C21: Lucro Operacional | E21: 0.0708
C22: Subtotal Benefícios | E22: =SUM(E21) -> 0.0708 | F22: =SUM(F21) -> 0
C23: Tributos | E23: % | F23: % sobre CD
C24: PIS | E24: 0.0065
C25: COFINS | E25: 0.03
C26: ISSQN | E26: =H40 -> 0.025975694
C27: CPRB | E27: 0
C28: Subtotal Tributos | E28: =SUM(E24:F27) -> 0.062475694 | F28: =SUM(F24:F27) -> 0
C29: BDI com Impostos | E29: =(((1+E15+E16+E17)*(1+E18)*(1+E22))/(1-E28)-1) -> 0.20711294 | F29: =((1+(F15/100+F21/100))/(1-(E16/100+E17/100+E18/100+E24/100+E25/100+E26/100+E27/100))-1)*100 -> 0.080941156
C30: BDI SEM DESONERAÇÃO | F30: =E29 -> 0.20711294
B32: PERCENTUAL DO ISSQN INCIDENTE NA COMPOSIÇÃO DO BDI:
B33: Em atendimento ao item 9.2.2 do Acórdão nº 32/2008 – Plenário, que determina a previsão dos percentuais de recolhimento a título de ISS a serem aplicados na composição de LDI dos licitantes, com base nas alíquotas adotadas pelos municípios situados na região da obra, apresentamos a planilha e cálculo a seguir:
B34: MUNICÍPIO | C34: KM INICIAL | D34: KM FINAL | E34: EXTENSÃO | F34: ALÍQUOTA | G34: DEDUÇÃO | H34: ALÍQUOTA | I34: PROPORÇÃO (%)
E35: (KM)
B36: RIO FORMOSO | C36: 57.01 | D36: 61.92 | E36: =D36-C36 -> 4.91 | F36: 0.05 | G36: 0.5 | H36: =F36*(1-G36) -> 0.025 | I36: =E36/$E$39 -> 0.34097222
B37: TAMANDARÉ | C37: 61.92 | D37: 68.6 | E37: =D37-C37 -> 6.68 | F37: 0.05 | G37: 0.5 | H37: =F37*(1-G37) -> 0.025 | I37: =E37/$E$39 -> 0.46388889
B38: BARREIROS | C38: 68.6 | D38: 71.41 | E38: =D38-C38 -> 2.81 | F38: 0.05 | G38: 0.4 | H38: =F38*(1-G38) -> 0.03 | I38: =E38/$E$39 -> 0.19513889
B39: EXTENSÃO TOTAL DO TRECHO | E39: =SUM(E36:E38) -> 14.4 | I39: =SUM(I36:I38) -> 1
B40: MÉDIA PONDERADA | H40: =SUMPRODUCT(I36:I38,H36:H38) -> 0.025975694
B42: OBSERVAÇÃO:
B43: O percentual de ISSQN adotado foi proveniente das alíquotas dos municípios situados na área de influência da obra.
B44: Código Tributário do Município de Rio Formoso/Pe, Lei nº 1.645/2017. Capítulo III, Seção VII, Art. 60, § 1º e Tabela 1.
B45: Código Tributário do Município de Tamandaré, Lei nº 316/2010. Capítulo III, Seção VII, Art. 60, § 1º e Anexo I.
B46: Código Tributário do Município de Barreiros, Lei nº 919/2013. Capítulo IV, Seção II, Art. 188, I e Art. 191, III
...

Sheet Cotações
B2: GOVERNO DO ESTADO DE PERNAMBUCO
B3: SECRETARIA DE MOBILIDADE E INFRAESTRUTURA - SEMOBI/PE
B4: DEPARTAMENTO DE ESTRADAS DE RODAGEM - DER/PE
B6: RODOVIA: | C6: PE-060 | F6: DATA BASE: | G6: OUTUBRO/2025
B7: TRECHO: | C7: ENTR. BR-101 (CABO DE SANTO AGOSTINHO) - DIV. PE/AL | F7: TIPO: | G7: SEM DESONERAÇÃO
B9: COTAÇÕES
B648: INSERIR PROPOSTA ECOPARQUE

Sheet Mapa+Binômio
B2: GOVERNO DO ESTADO DE PERNAMBUCO
B3: SECRETARIA DE MOBILIDADE E INFRAESTRUTURA - SEMOBI/PE
B4: DEPARTAMENTO DE ESTRADAS DE RODAGEM - DER/PE
B6: RODOVIA: | C6: =Cotações!$C$6 -> PE-060 | K6: DATA BASE: | L6: =Cotações!G6 -> OUTUBRO/2025
B7: TRECHO: | C7: =Cotações!C7 -> ENTR. BR-101 (CABO DE SANTO AGOSTINHO) - DIV. PE/AL | K7: TIPO: | L7: =Cotações!G7 -> SEM DESONERAÇÃO
B9: MAPA DE COTAÇÕES E ESTUDO DE BINÔMIO
C10: CONSIDERAÇÕES:
C12: 1. Dados das cotações informados pelos fornecedores
C13: 2. DMT de aquisição dos Materiais Pétreos: FORNECEDOR/PARA O CANTEIRO
B15: MATERIAL PÉTREO E ARENOSO E MASSA ASFÁLTICA
