Workbook
Name \F: #REF!
Name \F: #REF!
Name \fagf: #REF!
Name \fagf: #REF!
Name \I: #REF!
Name \I: #REF!
Name \R: #REF!
Name \R: #REF!
Name \ZACVDERVREW: #N/A
Name _\1: #REF!
Name _\11: #REF!
Name _\a: #REF!
Name _\b: #REF!
Name _\c: #REF!
Name _\fagf: #REF!
Name _\I: #REF!
Name _\p: #REF!
Name _\S: #REF!
Name _\w: #REF!
Name _\z: #REF!
Name _\ZACVDERVREW: #N/A
Name _____________________________________Ext2: #REF!
Name _________________________________CC709: [0]!Plan1
Name _________________________________CC709: [0]!Plan1
Name _________________________________CC709: [0]!Plan1
Name _________________________________CC709: [0]!Plan1
Name _________________________________CC709: #N/A
Name _________________________________CC709: [0]!Plan1
Name _________________________________CC709: #REF!
Name ________________________________Ext2: #REF!
Name ______________________________Ext2: #REF!
Name _____________________________PL1: #REF!
Name _____________________________PL1: #REF!
Name ____________________________CC709: [8]!Plan1
Name ____________________________CC709: [8]!Plan1
Name ____________________________CC709: [8]!Plan1
Name ____________________________CC709: [8]!Plan1
Name ____________________________CC709: #N/A
Name ____________________________CC709: [8]!Plan1
Name ____________________________CC709: #REF!
Name ____________________________PL1: #REF!
Name ____________________________PL1: #REF!
Name ___________________________PL1: #REF!
Name ___________________________PL1: #REF!
Name __________________________PL1: #REF!
Name __________________________PL1: #REF!
Name _________________________PL1: #REF!
Name _________________________PL1: #REF!
Name ________________________PL1: #REF!
Name ________________________PL1: #REF!
Name _______________________PL1: #REF!
Name _______________________PL1: #REF!
Name ______________________PL1: #REF!
Name ______________________PL1: #REF!
Name ______________________r: #REF!
Name ______________________r: #REF!
Name _____________________CC709: [8]!Plan1
Name _____________________CC709: [8]!Plan1
Name _____________________CC709: [8]!Plan1
Name _____________________CC709: [8]!Plan1

Sheet RESUMO
A1: OBRA: | B1: =SINTÉTICO!B2 -> ELABORAÇÃO DO PROJETO EXECUTIVO DE ENGENHARIA PARA RESTAURAÇÃO DA RODOVIA VPE-140 COM EXTENSÃO DE 2,85 km | E1: DATA BASE: | F1: JAN/2026 SEM DESONERAÇÃO
A2: LOCAL: | B2: =SINTÉTICO!B3 -> RODOVIA :VPE - 140 TRECHO : Entr. PE-095 ao Povoado de Malhada de Pedra EXTENSÃO :2,85 Km
C3: R$ | E3: % | F3: VALOR / KM
A4: 1.0 | B4: =VLOOKUP(A4,SINTÉTICO!A:E,5,FALSE) -> ADMINISTRAÇÃO | C4: =VLOOKUP(A4,SINTÉTICO!A:K,11,FALSE) -> 521321.8 | E4: =C4/$C$11 -> 0.14114539 | F4: =C4/$C$12 -> 182919.93
A5: 2.0 | B5: =VLOOKUP(A5,SINTÉTICO!A:E,5,FALSE) -> CANTEIRO DE OBRAS | C5: =VLOOKUP(A5,SINTÉTICO!A:K,11,FALSE) -> 299223.6 | E5: =C5/$C$11 -> 0.081013362 | F5: =C5/$C$12 -> 104990.74
A6: 3.0 | B6: =VLOOKUP(A6,SINTÉTICO!A:E,5,FALSE) -> MOBILIZAÇÃO/DESMOBILIZAÇÃO | C6: =VLOOKUP(A6,SINTÉTICO!A:K,11,FALSE) -> 213082.06 | E6: =C6/$C$11 -> 0.057690951 | F6: =C6/$C$12 -> 74765.635
A7: 4.0 | B7: =VLOOKUP(A7,SINTÉTICO!A:E,5,FALSE) -> DRENAGEM | C7: =VLOOKUP(A7,SINTÉTICO!A:K,11,FALSE) -> 347432.38 | E7: =C7/$C$11 -> 0.094065659 | F7: =C7/$C$12 -> 121906.1
A8: 5.0 | B8: =VLOOKUP(A8,SINTÉTICO!A:E,5,FALSE) -> PAVIMENTAÇÃO | C8: =VLOOKUP(A8,SINTÉTICO!A:K,11,FALSE) -> 2078727.7 | E8: =C8/$C$11 -> 0.56280561 | F8: =C8/$C$12 -> 729378.14
A9: 6.0 | B9: =VLOOKUP(A9,SINTÉTICO!A:E,5,FALSE) -> SINALIZAÇÃO | C9: =VLOOKUP(A9,SINTÉTICO!A:K,11,FALSE) -> 136049.14 | E9: =C9/$C$11 -> 0.036834655 | F9: =C9/$C$12 -> 47736.54
A10: 7.0 | B10: =VLOOKUP(A10,SINTÉTICO!A:E,5,FALSE) -> SINALIZAÇÃO DE OBRA | C10: =VLOOKUP(A10,SINTÉTICO!A:K,11,FALSE) -> 97672.54 | E10: =C10/$C$11 -> 0.026444374 | F10: =C10/$C$12 -> 34271.067
B11: TOTAL | C11: =SUM(C4:D10) -> 3693509.2 | E11: =SUM(E4:E10) -> 1 | F11: =SUM(F4:F10) -> 1295968.2
B12: KM DO PROJETO | C12: 2.85
B13: VALOR POR KM | C13: =C11/C12 -> 1295968.2

Sheet SINTÉTICO
A1: PLANILHA ESTIMATIVA SEM DESONERAÇÃO
A2: OBJETO: | B2: ELABORAÇÃO DO PROJETO EXECUTIVO DE ENGENHARIA PARA RESTAURAÇÃO DA RODOVIA VPE-140 COM EXTENSÃO DE 2,85 km | J2: BDI | K2: 0.2123
A3: TRECHO: | B3: RODOVIA :VPE - 140 TRECHO : Entr. PE-095 ao Povoado de Malhada de Pedra EXTENSÃO :2,85 Km | J3: BDI DIF. | K3: 0.15
A4: FONTES: | B4: SICRO JAN 2026, ANP FEV/2026, COTAÇÕES, SINAPI JAN/2026 | J4: D.B | K4: 46023
A5: ITEM | B5: FONTE | C5: CÓDIGO | D5: COMPOSIÇÃO ESPELHO | E5: DESCRIÇÃO | F5: Unid. | G5: QUANTIDADE | H5: CUSTO UNIT. | I5: BDI | J5: PREÇO UNIT. | K5: TOTAL
A6: 1.0 | E6: =VLOOKUP(A6,MC,4,0) -> ADMINISTRAÇÃO | K6: =SUM(K7:K7) -> 521321.8 | L6: =COUNTIF($C6:C$8,C6) -> 0 | M6: =IF(L6>1,0,SUMIF(C:C,C6,F:F)) -> 0 | N6: =IF(L6=1,C6,0) -> 0 | O6: =SUMIF(C:C,N6,K:K) -> 0 | P6: =IF(O6=0,0,COUNTIF($O:$O,">="&O6)) -> 0 | Q6: =IF(L6=0,0,COUNTIF($P$6:P6,P6)-1) -> 0 | R6: =P6-Q6 -> 0
A7: 1.1 | B7: =VLOOKUP(A7,MC,2,0) -> COMPOSIÇÃO | C7: =VLOOKUP(A7,MC,3,0) -> CPU 001 | D7: =C7 -> CPU 001 | E7: =VLOOKUP(A7,MC,4,0) -> CUSTO COM ADMINISTRAÇÃO LOCAL DE OBRA | F7: =VLOOKUP(A7,MC,10,0) -> UN | G7: =VLOOKUP(A7,MC,9,0) -> 1 | H7: =IFERROR(VLOOKUP(C7,BANCO,4,0),IFERROR(VLOOKUP(C7,SINAPI,5,0),IFERROR(VLOOKUP(C7,SICRO,4,0),))) -> 430027.06 | I7: =$K$2 -> 0.2123 | J7: =TRUNC(H7*(1+I7),2) -> 521321.8 | K7: =TRUNC(G7*J7,2) -> 521321.8 | L7: =COUNTIF($C7:C$8,C7) -> 1 | M7: =IF(L7>1,0,SUMIF(C:C,C7,F:F)) -> 0 | N7: =IF(L7=1,C7,0) -> CPU 001 | O7: =SUMIF(C:C,N7,K:K) -> 521321.8 | P7: =IF(O7=0,0,COUNTIF($O:$O,">="&O7)) -> 3 | Q7: =IF(L7=0,0,COUNTIF($P$6:P7,P7)-1) -> 0 | R7: =P7-Q7 -> 3
A8: 2.0 | E8: =VLOOKUP(A8,MC,4,0) -> CANTEIRO DE OBRAS | K8: =SUM(K9:K11) -> 299223.6 | L8: =COUNTIF($C$8:C8,C8) -> 0 | M8: =IF(L8>1,0,SUMIF(C:C,C8,F:F)) -> 0 | N8: =IF(L8=1,C8,0) -> 0 | O8: =SUMIF(C:C,N8,K:K) -> 0 | P8: =IF(O8=0,0,COUNTIF($O:$O,">="&O8)) -> 0 | Q8: =IF(L8=0,0,COUNTIF($P$6:P8,P8)-1) -> 0 | R8: =P8-Q8 -> 0
A9: 2.1 | B9: =VLOOKUP(A9,MC,2,0) -> COMPOSIÇÃO | C9: =VLOOKUP(A9,MC,3,0) -> CPU 002 | D9: =C9 -> CPU 002 | E9: =VLOOKUP(A9,MC,4,0) -> INSTALAÇÃO DO CANTEIRO DE OBRAS | F9: =VLOOKUP(A9,MC,10,0) -> UN | G9: =VLOOKUP(A9,MC,9,0) -> 1 | H9: =IFERROR(VLOOKUP(C9,BANCO,4,0),IFERROR(VLOOKUP(C9,SINAPI,5,0),IFERROR(VLOOKUP(C9,SICRO,4,0),))) -> 221801.04 | I9: =$K$2 -> 0.2123 | J9: =TRUNC(H9*(1+I9),2) -> 268889.4 | K9: =TRUNC(G9*J9,2) -> 268889.4 | L9: =COUNTIF($C$8:C9,C9) -> 1 | M9: =IF(L9>1,0,SUMIF(C:C,C9,F:F)) -> 0 | N9: =IF(L9=1,C9,0) -> CPU 002 | O9: =SUMIF(C:C,N9,K:K) -> 268889.4 | P9: =IF(O9=0,0,COUNTIF($O:$O,">="&O9)) -> 5 | Q9: =IF(L9=0,0,COUNTIF($P$6:P9,P9)-1) -> 0 | R9: =P9-Q9 -> 5
A10: 2.2 | B10: =VLOOKUP(A10,MC,2,0) -> COMPOSIÇÃO | C10: =VLOOKUP(A10,MC,3,0) -> CPU 003 | D10: =C10 -> CPU 003 | E10: =VLOOKUP(A10,MC,4,0) -> PLACA DE OBRA EM CHAPA DE AÇO GALVANIZADO | F10: =VLOOKUP(A10,MC,10,0) -> M² | G10: =VLOOKUP(A10,MC,9,0) -> 24 | H10: =IFERROR(VLOOKUP(C10,BANCO,4,0),IFERROR(VLOOKUP(C10,SINAPI,5,0),IFERROR(VLOOKUP(C10,SICRO,4,0),))) -> 551.48573 | I10: =$K$2 -> 0.2123 | J10: =TRUNC(H10*(1+I10),2) -> 668.56 | K10: =TRUNC(G10*J10,2) -> 16045.44 | L10: =COUNTIF($C$8:C10,C10) -> 1 | M10: =IF(L10>1,0,SUMIF(C:C,C10,F:F)) -> 0 | N10: =IF(L10=1,C10,0) -> CPU 003 | O10: =SUMIF(C:C,N10,K:K) -> 16045.44 | P10: =IF(O10=0,0,COUNTIF($O:$O,">="&O10)) -> 19 | Q10: =IF(L10=0,0,COUNTIF($P$6:P10,P10)-1) -> 0 | R10: =P10-Q10 -> 19
A11: 2.3 | B11: =VLOOKUP(A11,MC,2,0) -> COMPOSIÇÃO | C11: =VLOOKUP(A11,MC,3,0) -> CPU 004 | D11: =C11 -> CPU 004 | E11: =VLOOKUP(A11,MC,4,0) -> CANTEIRO ITINERANTE | F11: =VLOOKUP(A11,MC,10,0) -> MÊS | G11: =VLOOKUP(A11,MC,9,0) -> 4 | H11: =IFERROR(VLOOKUP(C11,BANCO,4,0),IFERROR(VLOOKUP(C11,SINAPI,5,0),IFERROR(VLOOKUP(C11,SICRO,4,0),))) -> 2946.6261 | I11: =$K$2 -> 0.2123 | J11: =TRUNC(H11*(1+I11),2) -> 3572.19 | K11: =TRUNC(G11*J11,2) -> 14288.76 | L11: =COUNTIF($C$8:C11,C11) -> 1 | M11: =IF(L11>1,0,SUMIF(C:C,C11,F:F)) -> 0 | N11: =IF(L11=1,C11,0) -> CPU 004 | O11: =SUMIF(C:C,N11,K:K) -> 14288.76 | P11: =IF(O11=0,0,COUNTIF($O:$O,">="&O11)) -> 21 | Q11: =IF(L11=0,0,COUNTIF($P$6:P11,P11)-1) -> 0 | R11: =P11-Q11 -> 21
A12: 3.0 | E12: =VLOOKUP(A12,MC,4,0) -> MOBILIZAÇÃO/DESMOBILIZAÇÃO | K12: =SUM(K13:K13) -> 213082.06 | L12: =COUNTIF($C$8:C12,C12) -> 0 | M12: =IF(L12>1,0,SUMIF(C:C,C12,F:F)) -> 0 | N12: =IF(L12=1,C12,0) -> 0 | O12: =SUMIF(C:C,N12,K:K) -> 0 | P12: =IF(O12=0,0,COUNTIF($O:$O,">="&O12)) -> 0 | Q12: =IF(L12=0,0,COUNTIF($P$6:P12,P12)-1) -> 0 | R12: =P12-Q12 -> 0
A13: 3.1 | B13: =VLOOKUP(A13,MC,2,0) -> COMPOSIÇÃO | C13: =VLOOKUP(A13,MC,3,0) -> CPU 005 | D13: =C13 -> CPU 005 | E13: =VLOOKUP(A13,MC,4,0) -> CUSTO DE MOBILIZAÇÃO E DESMOBILIZAÇÃO DE EQUIPAMENTOS (LEVES, MÉDIOS E PESADOS), MÁQUINAS, MOBILIÁRIOS E PESSOAL | F13: =VLOOKUP(A13,MC,10,0) -> UN | G13: =VLOOKUP(A13,MC,9,0) -> 2 | H13: =IFERROR(VLOOKUP(C13,BANCO,4,0),IFERROR(VLOOKUP(C13,SINAPI,5,0),IFERROR(VLOOKUP(C13,SICRO,4,0),))) -> 87883.39 | I13: =$K$2 -> 0.2123 | J13: =TRUNC(H13*(1+I13),2) -> 106541.03 | K13: =TRUNC(G13*J13,2) -> 213082.06 | L13: =COUNTIF($C$8:C13,C13) -> 1 | M13: =IF(L13>1,0,SUMIF(C:C,C13,F:F)) -> 0 | N13: =IF(L13=1,C13,0) -> CPU 005 | O13: =SUMIF(C:C,N13,K:K) -> 213082.06 | P13: =IF(O13=0,0,COUNTIF($O:$O,">="&O13)) -> 6 | Q13: =IF(L13=0,0,COUNTIF($P$6:P13,P13)-1) -> 0 | R13: =P13-Q13 -> 6
A14: 4.0 | E14: =VLOOKUP(A14,MC,4,0) -> DRENAGEM | K14: =SUM(K15:K22) -> 347432.38 | L14: =COUNTIF($C$8:C14,C14) -> 0 | M14: =IF(L14>1,0,SUMIF(C:C,C14,F:F)) -> 0 | N14: =IF(L14=1,C14,0) -> 0 | O14: =SUMIF(C:C,N14,K:K) -> 0 | P14: =IF(O14=0,0,COUNTIF($O:$O,">="&O14)) -> 0 | Q14: =IF(L14=0,0,COUNTIF($P$6:P14,P14)-1) -> 0 | R14: =P14-Q14 -> 0
A15: 4.1 | B15: =VLOOKUP(A15,MC,2,0) -> SICRO | C15: =VLOOKUP(A15,MC,3,0) -> 2003373 | D15: =C15 -> 2003373 | E15: =VLOOKUP(A15,MC,4,0) -> Meio-fio de concreto - MFC 03 - areia e brita comerciais - fôrma de madeira | F15: =VLOOKUP(A15,MC,10,0) -> m | G15: =VLOOKUP(A15,MC,9,0) -> 371.28 | H15: =IFERROR(VLOOKUP(C15,BANCO,4,0),IFERROR(VLOOKUP(C15,SINAPI,5,0),IFERROR(VLOOKUP(C15,SICRO,4,0),))) -> 69.16 | I15: =$K$2 -> 0.2123 | J15: =TRUNC(H15*(1+I15),2) -> 83.84 | K15: =TRUNC(G15*J15,2) -> 31128.11 | L15: =COUNTIF($C$8:C15,C15) -> 1 | M15: =IF(L15>1,0,SUMIF(C:C,C15,F:F)) -> 0 | N15: =IF(L15=1,C15,0) -> 2003373 | O15: =SUMIF(C:C,N15,K:K) -> 31128.11 | P15: =IF(O15=0,0,COUNTIF($O:$O,">="&O15)) -> 16 | Q15: =IF(L15=0,0,COUNTIF($P$6:P15,P15)-1) -> 0 | R15: =P15-Q15 -> 16
A16: 4.2 | B16: =VLOOKUP(A16,MC,2,0) -> SICRO | C16: =VLOOKUP(A16,MC,3,0) -> 2003613 | D16: =C16 -> 2003613 | E16: =VLOOKUP(A16,MC,4,0) -> Boca de saída para dreno subsuperficial - BSD 03 - areia e brita comerciais | F16: =VLOOKUP(A16,MC,10,0) -> un | G16: =VLOOKUP(A16,MC,9,0) -> 21 | H16: =IFERROR(VLOOKUP(C16,BANCO,4,0),IFERROR(VLOOKUP(C16,SINAPI,5,0),IFERROR(VLOOKUP(C16,SICRO,4,0),))) -> 160.38 | I16: =$K$2 -> 0.2123 | J16: =TRUNC(H16*(1+I16),2) -> 194.42 | K16: =TRUNC(G16*J16,2) -> 4082.82 | L16: =COUNTIF($C$8:C16,C16) -> 1 | M16: =IF(L16>1,0,SUMIF(C:C,C16,F:F)) -> 0 | N16: =IF(L16=1,C16,0) -> 2003613 | O16: =SUMIF(C:C,N16,K:K) -> 4082.82 | P16: =IF(O16=0,0,COUNTIF($O:$O,">="&O16)) -> 32 | Q16: =IF(L16=0,0,COUNTIF($P$6:P16,P16)-1) -> 0 | R16: =P16-Q16 -> 32
A17: 4.3 | B17: =VLOOKUP(A17,MC,2,0) -> SICRO | C17: =VLOOKUP(A17,MC,3,0) -> 2003265 | D17: =C17 -> 2003265 | E17: =VLOOKUP(A17,MC,4,0) -> Sarjeta triangular de concreto - STC 88-20 - escavação mecânica - areia e brita comerciais | F17: =VLOOKUP(A17,MC,10,0) -> m | G17: =VLOOKUP(A17,MC,9,0) -> 2620 | H17: =IFERROR(VLOOKUP(C17,BANCO,4,0),IFERROR(VLOOKUP(C17,SINAPI,5,0),IFERROR(VLOOKUP(C17,SICRO,4,0),))) -> 55.72 | I17: =$K$2 -> 0.2123 | J17: =TRUNC(H17*(1+I17),2) -> 67.54 | K17: =TRUNC(G17*J17,2) -> 176954.8 | L17: =COUNTIF($C$8:C17,C17) -> 1 | M17: =IF(L17>1,0,SUMIF(C:C,C17,F:F)) -> 0 | N17: =IF(L17=1,C17,0) -> 2003265 | O17: =SUMIF(C:C,N17,K:K) -> 176954.8 | P17: =IF(O17=0,0,COUNTIF($O:$O,">="&O17)) -> 7 | Q17: =IF(L17=0,0,COUNTIF($P$6:P17,P17)-1) -> 0 | R17: =P17-Q17 -> 7
A18: 4.4 | B18: =VLOOKUP(A18,MC,2,0) -> SICRO | C18: =VLOOKUP(A18,MC,3,0) -> 2003609 | D18: =C18 -> 2003609 | E18: =VLOOKUP(A18,MC,4,0) -> Dreno subsuperficial - DSS 03 - brita comercial | F18: =VLOOKUP(A18,MC,10,0) -> m | G18: =VLOOKUP(A18,MC,9,0) -> 36 | H18: =IFERROR(VLOOKUP(C18,BANCO,4,0),IFERROR(VLOOKUP(C18,SINAPI,5,0),IFERROR(VLOOKUP(C18,SICRO,4,0),))) -> 24.4 | I18: =$K$2 -> 0.2123 | J18: =TRUNC(H18*(1+I18),2) -> 29.58 | K18: =TRUNC(G18*J18,2) -> 1064.88 | L18: =COUNTIF($C$8:C18,C18) -> 1 | M18: =IF(L18>1,0,SUMIF(C:C,C18,F:F)) -> 0 | N18: =IF(L18=1,C18,0) -> 2003609 | O18: =SUMIF(C:C,N18,K:K) -> 1064.88 | P18: =IF(O18=0,0,COUNTIF($O:$O,">="&O18)) -> 38 | Q18: =IF(L18=0,0,COUNTIF($P$6:P18,P18)-1) -> 0 | R18: =P18-Q18 -> 38
A19: 4.5 | B19: =VLOOKUP(A19,MC,2,0) -> SICRO | C19: =VLOOKUP(A19,MC,3,0) -> 2003611 | D19: =C19 -> 2003611 | E19: =VLOOKUP(A19,MC,4,0) -> Dreno subsuperficial - DSS 04 - tubo PEAD e brita comercial | F19: =VLOOKUP(A19,MC,10,0) -> m | G19: =VLOOKUP(A19,MC,9,0) -> 1100 | H19: =IFERROR(VLOOKUP(C19,BANCO,4,0),IFERROR(VLOOKUP(C19,SINAPI,5,0),IFERROR(VLOOKUP(C19,SICRO,4,0),))) -> 64.55 | I19: =$K$2 -> 0.2123 | J19: =TRUNC(H19*(1+I19),2) -> 78.25 | K19: =TRUNC(G19*J19,2) -> 86075 | L19: =COUNTIF($C$8:C19,C19) -> 1 | M19: =IF(L19>1,0,SUMIF(C:C,C19,F:F)) -> 0 | N19: =IF(L19=1,C19,0) -> 2003611 | O19: =SUMIF(C:C,N19,K:K) -> 86075 | P19: =IF(O19=0,0,COUNTIF($O:$O,">="&O19)) -> 9 | Q19: =IF(L19=0,0,COUNTIF($P$6:P19,P19)-1) -> 0 | R19: =P19-Q19 -> 9
A20: 4.6 | B20: =VLOOKUP(A20,MC,2,0) -> SICRO | C20: =VLOOKUP(A20,MC,3,0) -> 4805757 | D20: =C20 -> 4805757 | E20: =VLOOKUP(A20,MC,4,0) -> Escavação mecânica de vala em material de 1ª categoria | F20: =VLOOKUP(A20,MC,10,0) -> m³ | G20: =VLOOKUP(A20,MC,9,0) -> 656.64 | H20: =IFERROR(VLOOKUP(C20,BANCO,4,0),IFERROR(VLOOKUP(C20,SINAPI,5,0),IFERROR(VLOOKUP(C20,SICRO,4,0),))) -> 6.99 | I20: =$K$2 -> 0.2123 | J20: =TRUNC(H20*(1+I20),2) -> 8.47 | K20: =TRUNC(G20*J20,2) -> 5561.74 | L20: =COUNTIF($C$8:C20,C20) -> 1 | M20: =IF(L20>1,0,SUMIF(C:C,C20,F:F)) -> 0 | N20: =IF(L20=1,C20,0) -> 4805757 | O20: =SUMIF(C:C,N20,K:K) -> 5561.74 | P20: =IF(O20=0,0,COUNTIF($O:$O,">="&O20)) -> 29 | Q20: =IF(L20=0,0,COUNTIF($P$6:P20,P20)-1) -> 0 | R20: =P20-Q20 -> 29
A21: 4.7 | B21: =VLOOKUP(A21,MC,2,0) -> SICRO | C21: =VLOOKUP(A21,MC,3,0) -> 5914351 | D21: =C21 -> 5914351 | E21: =VLOOKUP(A21,MC,4,0) -> Carga, manobra e descarga de agregados ou solos em caminhão basculante de 14 m³ - carga com carregadeira de 3,40 m³ e descarga livre | F21: =VLOOKUP(A21,MC,10,0) -> t | G21: =VLOOKUP(A21,MC,9,0) -> 1477.44 | H21: =IFERROR(VLOOKUP(C21,BANCO,4,0),IFERROR(VLOOKUP(C21,SINAPI,5,0),IFERROR(VLOOKUP(C21,SICRO,4,0),))) -> 2.98 | I21: =$K$2 -> 0.2123 | J21: =TRUNC(H21*(1+I21),2) -> 3.61 | K21: =TRUNC(G21*J21,2) -> 5333.55 | L21: =COUNTIF($C$8:C21,C21) -> 1 | M21: =IF(L21>1,0,SUMIF(C:C,C21,F:F)) -> 0 | N21: =IF(L21=1,C21,0) -> 5914351 | O21: =SUMIF(C:C,N21,K:K) -> 5333.55 | P21: =IF(O21=0,0,COUNTIF($O:$O,">="&O21)) -> 30 | Q21: =IF(L21=0,0,COUNTIF($P$6:P21,P21)-1) -> 0 | R21: =P21-Q21 -> 30
A22: 4.8 | B22: =VLOOKUP(A22,MC,2,0) -> SICRO | C22: =VLOOKUP(A22,MC,3,0) -> 5915321 | D22: =C22 -> 5915321 | E22: =VLOOKUP(A22,MC,4,0) -> Transporte com caminhão basculante de 14 m³ - rodovia pavimentada | F22: =VLOOKUP(A22,MC,10,0) -> tkm | G22: =VLOOKUP(A22,MC,9,0) -> 44323.2 | H22: =IFERROR(VLOOKUP(C22,BANCO,4,0),IFERROR(VLOOKUP(C22,SINAPI,5,0),IFERROR(VLOOKUP(C22,SICRO,4,0),))) -> 0.7 | I22: =$K$2 -> 0.2123 | J22: =TRUNC(H22*(1+I22),2) -> 0.84 | K22: =TRUNC(G22*J22,2) -> 37231.48 | L22: =COUNTIF($C$8:C22,C22) -> 1 | M22: =IF(L22>1,0,SUMIF(C:C,C22,F:F)) -> 0 | N22: =IF(L22=1,C22,0) -> 5915321 | O22: =SUMIF(C:C,N22,K:K) -> 37231.48 | P22: =IF(O22=0,0,COUNTIF($O:$O,">="&O22)) -> 14 | Q22: =IF(L22=0,0,COUNTIF($P$6:P22,P22)-1) -> 0 | R22: =P22-Q22 -> 14
A23: 5.0 | E23: =VLOOKUP(A23,MC,4,0) -> PAVIMENTAÇÃO | K23: =SUM(K24:K36) -> 2078727.7 | L23: =COUNTIF($C$8:C23,C23) -> 0 | M23: =IF(L23>1,0,SUMIF(C:C,C23,F:F)) -> 0 | N23: =IF(L23=1,C23,0) -> 0 | O23: =SUMIF(C:C,N23,K:K) -> 0 | P23: =IF(O23=0,0,COUNTIF($O:$O,">="&O23)) -> 0 | Q23: =IF(L23=0,0,COUNTIF($P$6:P23,P23)-1) -> 0 | R23: =P23-Q23 -> 0
A24: 5.1 | B24: =VLOOKUP(A24,MC,2,0) -> SICRO | C24: =VLOOKUP(A24,MC,3,0) -> 4011484 | D24: =C24 -> 4011484 | E24: =VLOOKUP(A24,MC,4,0) -> Reciclagem com incorporação do revestimento asfáltico à base e adição de brita comercial - 100% Proctor modificado | F24: =VLOOKUP(A24,MC,10,0) -> m³ | G24: =VLOOKUP(A24,MC,9,0) -> 4060.29 | H24: =IFERROR(VLOOKUP(C24,BANCO,4,0),IFERROR(VLOOKUP(C24,SINAPI,5,0),IFERROR(VLOOKUP(C24,SICRO,4,0),))) -> 94.87 | I24: =$K$2 -> 0.2123 | J24: =TRUNC(H24*(1+I24),2) -> 115.01 | K24: =TRUNC(G24*J24,2) -> 466973.95 | L24: =COUNTIF($C$8:C24,C24) -> 1 | M24: =IF(L24>1,0,SUMIF(C:C,C24,F:F)) -> 0 | N24: =IF(L24=1,C24,0) -> 4011484 | O24: =SUMIF(C:C,N24,K:K) -> 466973.95 | P24: =IF(O24=0,0,COUNTIF($O:$O,">="&O24)) -> 4 | Q24: =IF(L24=0,0,COUNTIF($P$6:P24,P24)-1) -> 0 | R24: =P24-Q24 -> 4
A25: 5.2 | B25: =VLOOKUP(A25,MC,2,0) -> SICRO | C25: =VLOOKUP(A25,MC,3,0) -> 4011212 | D25: =C25 -> 4011212 | E25: =VLOOKUP(A25,MC,4,0) -> Varredura da superfície para execução de revestimento asfáltico | F25: =VLOOKUP(A25,MC,10,0) -> m² | G25: =VLOOKUP(A25,MC,9,0) -> 19922 | H25: =IFERROR(VLOOKUP(C25,BANCO,4,0),IFERROR(VLOOKUP(C25,SINAPI,5,0),IFERROR(VLOOKUP(C25,SICRO,4,0),))) -> 0.08 | I25: =$K$2 -> 0.2123 | J25: =TRUNC(H25*(1+I25),2) -> 0.09 | K25: =TRUNC(G25*J25,2) -> 1792.98 | L25: =COUNTIF($C$8:C25,C25) -> 1 | M25: =IF(L25>1,0,SUMIF(C:C,C25,F:F)) -> 0 | N25: =IF(L25=1,C25,0) -> 4011212 | O25: =SUMIF(C:C,N25,K:K) -> 1792.98 | P25: =IF(O25=0,0,COUNTIF($O:$O,">="&O25)) -> 37 | Q25: =IF(L25=0,0,COUNTIF($P$6:P25,P25)-1) -> 0 | R25: =P25-Q25 -> 37
A26: 5.3 | B26: =VLOOKUP(A26,MC,2,0) -> SICRO | C26: =VLOOKUP(A26,MC,3,0) -> 4011352 | D26: =C26 -> 4011352 | E26: =VLOOKUP(A26,MC,4,0) -> Imprimação com emulsão asfáltica | F26: =VLOOKUP(A26,MC,10,0) -> m² | G26: =VLOOKUP(A26,MC,9,0) -> 19922 | H26: =IFERROR(VLOOKUP(C26,BANCO,4,0),IFERROR(VLOOKUP(C26,SINAPI,5,0),IFERROR(VLOOKUP(C26,SICRO,4,0),))) -> 0.61 | I26: =$K$2 -> 0.2123 | J26: =TRUNC(H26*(1+I26),2) -> 0.73 | K26: =TRUNC(G26*J26,2) -> 14543.06 | L26: =COUNTIF($C$8:C26,C26) -> 1 | M26: =IF(L26>1,0,SUMIF(C:C,C26,F:F)) -> 0 | N26: =IF(L26=1,C26,0) -> 4011352 | O26: =SUMIF(C:C,N26,K:K) -> 14543.06 | P26: =IF(O26=0,0,COUNTIF($O:$O,">="&O26)) -> 20 | Q26: =IF(L26=0,0,COUNTIF($P$6:P26,P26)-1) -> 0 | R26: =P26-Q26 -> 20
A27: 5.4 | B27: =VLOOKUP(A27,MC,2,0) -> SICRO | C27: =VLOOKUP(A27,MC,3,0) -> 4011353 | D27: =C27 -> 4011353 | E27: =VLOOKUP(A27,MC,4,0) -> Pintura de ligação | F27: =VLOOKUP(A27,MC,10,0) -> m² | G27: =VLOOKUP(A27,MC,9,0) -> 19922 | H27: =IFERROR(VLOOKUP(C27,BANCO,4,0),IFERROR(VLOOKUP(C27,SINAPI,5,0),IFERROR(VLOOKUP(C27,SICRO,4,0),))) -> 0.42 | I27: =$K$2 -> 0.2123 | J27: =TRUNC(H27*(1+I27),2) -> 0.5 | K27: =TRUNC(G27*J27,2) -> 9961 | L27: =COUNTIF($C$8:C27,C27) -> 1 | M27: =IF(L27>1,0,SUMIF(C:C,C27,F:F)) -> 0 | N27: =IF(L27=1,C27,0) -> 4011353 | O27: =SUMIF(C:C,N27,K:K) -> 9961 | P27: =IF(O27=0,0,COUNTIF($O:$O,">="&O27)) -> 24 | Q27: =IF(L27=0,0,COUNTIF($P$6:P27,P27)-1) -> 0 | R27: =P27-Q27 -> 24
A28: 5.5 | B28: =VLOOKUP(A28,MC,2,0) -> SICRO | C28: =VLOOKUP(A28,MC,3,0) -> 4011463 | D28: =C28 -> 4011463 | E28: =VLOOKUP(A28,MC,4,0) -> Concreto asfáltico - faixa C-12,5 - areia e brita comerciais | F28: =VLOOKUP(A28,MC,10,0) -> t | G28: =VLOOKUP(A28,MC,9,0) -> 2390.64 | H28: =IFERROR(VLOOKUP(C28,BANCO,4,0),IFERROR(VLOOKUP(C28,SINAPI,5,0),IFERROR(VLOOKUP(C28,SICRO,4,0),))) -> 190.68 | I28: =$K$2 -> 0.2123 | J28: =TRUNC(H28*(1+I28),2) -> 231.16 | K28: =TRUNC(G28*J28,2) -> 552620.34 | L28: =COUNTIF($C$8:C28,C28) -> 1 | M28: =IF(L28>1,0,SUMIF(C:C,C28,F:F)) -> 0 | N28: =IF(L28=1,C28,0) -> 4011463 | O28: =SUMIF(C:C,N28,K:K) -> 552620.34 | P28: =IF(O28=0,0,COUNTIF($O:$O,">="&O28)) -> 2 | Q28: =IF(L28=0,0,COUNTIF($P$6:P28,P28)-1) -> 0 | R28: =P28-Q28 -> 2
E29: AQUISIÇÃO DE MATERIAL BETUMINOSO | L29: =COUNTIF($C$8:C29,C29) -> 0 | M29: =IF(L29>1,0,SUMIF(C:C,C29,F:F)) -> 0 | N29: =IF(L29=1,C29,0) -> 0 | O29: =SUMIF(C:C,N29,K:K) -> 0 | P29: =IF(O29=0,0,COUNTIF($O:$O,">="&O29)) -> 0 | Q29: =IF(L29=0,0,COUNTIF($P$6:P29,P29)-1) -> 0 | R29: =P29-Q29 -> 0
A30: 5.6 | B30: =VLOOKUP(A30,MC,2,0) -> ANP | C30: =VLOOKUP(A30,MC,3,0) -> CAMB01 | D30: =C30 -> CAMB01 | E30: =VLOOKUP(A30,MC,4,0) -> AQUISIÇÃO DE EMULSÃO ASFÁLTICA PARA IMPRIMAÇÃO - EAI | F30: =VLOOKUP(A30,MC,10,0) -> T | G30: =VLOOKUP(A30,MC,9,0) -> 25.9 | H30: 2651 | I30: =$K$3 -> 0.15 | J30: =TRUNC(H30*(1+I30),2) -> 3048.65 | K30: =TRUNC(G30*J30,2) -> 78960.03 | L30: =COUNTIF($C$8:C30,C30) -> 1 | M30: =IF(L30>1,0,SUMIF(C:C,C30,F:F)) -> 0 | N30: =IF(L30=1,C30,0) -> CAMB01 | O30: =SUMIF(C:C,N30,K:K) -> 78960.03 | P30: =IF(O30=0,0,COUNTIF($O:$O,">="&O30)) -> 10 | Q30: =IF(L30=0,0,COUNTIF($P$6:P30,P30)-1) -> 0 | R30: =P30-Q30 -> 10
A31: 5.7 | B31: =VLOOKUP(A31,MC,2,0) -> ANP | C31: =VLOOKUP(A31,MC,3,0) -> CAMB02 | D31: =C31 -> CAMB02 | E31: =VLOOKUP(A31,MC,4,0) -> AQUISIÇÃO DE EMULSÃO ASFÁLTICA RR-1C | F31: =VLOOKUP(A31,MC,10,0) -> T | G31: =VLOOKUP(A31,MC,9,0) -> 8.96 | H31: 3502 | I31: =$K$3 -> 0.15 | J31: =TRUNC(H31*(1+I31),2) -> 4027.3 | K31: =TRUNC(G31*J31,2) -> 36084.6 | L31: =COUNTIF($C$8:C31,C31) -> 1 | M31: =IF(L31>1,0,SUMIF(C:C,C31,F:F)) -> 0 | N31: =IF(L31=1,C31,0) -> CAMB02 | O31: =SUMIF(C:C,N31,K:K) -> 36084.6 | P31: =IF(O31=0,0,COUNTIF($O:$O,">="&O31)) -> 15 | Q31: =IF(L31=0,0,COUNTIF($P$6:P31,P31)-1) -> 0 | R31: =P31-Q31 -> 15
A32: 5.8 | B32: =VLOOKUP(A32,MC,2,0) -> ANP | C32: =VLOOKUP(A32,MC,3,0) -> CAMB03 | D32: =C32 -> CAMB03 | E32: =VLOOKUP(A32,MC,4,0) -> AQUISIÇÃO DE CIMENTO ASFÁLTICO CAP 50/70 | F32: =VLOOKUP(A32,MC,10,0) -> T | G32: =VLOOKUP(A32,MC,9,0) -> 132.56 | H32: 5283 | I32: =$K$3 -> 0.15 | J32: =TRUNC(H32*(1+I32),2) -> 6075.45 | K32: =TRUNC(G32*J32,2) -> 805361.65 | L32: =COUNTIF($C$8:C32,C32) -> 1 | M32: =IF(L32>1,0,SUMIF(C:C,C32,F:F)) -> 0 | N32: =IF(L32=1,C32,0) -> CAMB03 | O32: =SUMIF(C:C,N32,K:K) -> 805361.65 | P32: =IF(O32=0,0,COUNTIF($O:$O,">="&O32)) -> 1 | Q32: =IF(L32=0,0,COUNTIF($P$6:P32,P32)-1) -> 0 | R32: =P32-Q32 -> 1
E33: TRANSPORTE DE MATERIAL BETUMINOSO | L33: =COUNTIF($C$8:C33,C33) -> 0 | M33: =IF(L33>1,0,SUMIF(C:C,C33,F:F)) -> 0 | N33: =IF(L33=1,C33,0) -> 0 | O33: =SUMIF(C:C,N33,K:K) -> 0 | P33: =IF(O33=0,0,COUNTIF($O:$O,">="&O33)) -> 0 | Q33: =IF(L33=0,0,COUNTIF($P$6:P33,P33)-1) -> 0 | R33: =P33-Q33 -> 0
A34: 5.9 | B34: =VLOOKUP(A34,MC,2,0) -> ANP | C34: =VLOOKUP(A34,MC,3,0) -> CTMB01 | D34: =C34 -> CTMB01 | E34: =VLOOKUP(A34,MC,4,0) -> TRANSPORTE DE EMULSÃO ASFÁLTICA PARA IMPRIMAÇÃO - EAI | F34: =VLOOKUP(A34,MC,10,0) -> T | G34: =VLOOKUP(A34,MC,9,0) -> 25.9 | H34: 589.76 | I34: =$K$3 -> 0.15 | J34: =TRUNC(H34*(1+I34),2) -> 678.22 | K34: =TRUNC(G34*J34,2) -> 17565.89 | L34: =COUNTIF($C$8:C34,C34) -> 1 | M34: =IF(L34>1,0,SUMIF(C:C,C34,F:F)) -> 0 | N34: =IF(L34=1,C34,0) -> CTMB01 | O34: =SUMIF(C:C,N34,K:K) -> 17565.89 | P34: =IF(O34=0,0,COUNTIF($O:$O,">="&O34)) -> 18 | Q34: =IF(L34=0,0,COUNTIF($P$6:P34,P34)-1) -> 0 | R34: =P34-Q34 -> 18
A35: 5.10 | B35: =VLOOKUP(A35,MC,2,0) -> ANP | C35: =VLOOKUP(A35,MC,3,0) -> CTMB02 | D35: =C35 -> CTMB02 | E35: =VLOOKUP(A35,MC,4,0) -> TRANSPORTE DE EMULSÃO ASFÁLTICA RR-1C | F35: =VLOOKUP(A35,MC,10,0) -> T | G35: =VLOOKUP(A35,MC,9,0) -> 8.96 | H35: 589.76 | I35: =$K$3 -> 0.15 | J35: =TRUNC(H35*(1+I35),2) -> 678.22 | K35: =TRUNC(G35*J35,2) -> 6076.85 | L35: =COUNTIF($C$8:C35,C35) -> 1 | M35: =IF(L35>1,0,SUMIF(C:C,C35,F:F)) -> 0 | N35: =IF(L35=1,C35,0) -> CTMB02 | O35: =SUMIF(C:C,N35,K:K) -> 6076.85 | P35: =IF(O35=0,0,COUNTIF($O:$O,">="&O35)) -> 27 | Q35: =IF(L35=0,0,COUNTIF($P$6:P35,P35)-1) -> 0 | R35: =P35-Q35 -> 27
A36: 5.11 | B36: =VLOOKUP(A36,MC,2,0) -> ANP | C36: =VLOOKUP(A36,MC,3,0) -> CTMB03 | D36: =C36 -> CTMB03 | E36: =VLOOKUP(A36,MC,4,0) -> TRANSPORTE DE CIMENTO ASFÁLTICO CAP 50/70 | F36: =VLOOKUP(A36,MC,10,0) -> T | G36: =VLOOKUP(A36,MC,9,0) -> 132.56 | H36: 582.43 | I36: =$K$3 -> 0.15 | J36: =TRUNC(H36*(1+I36),2) -> 669.79 | K36: =TRUNC(G36*J36,2) -> 88787.36 | L36: =COUNTIF($C$8:C36,C36) -> 1 | M36: =IF(L36>1,0,SUMIF(C:C,C36,F:F)) -> 0 | N36: =IF(L36=1,C36,0) -> CTMB03 | O36: =SUMIF(C:C,N36,K:K) -> 88787.36 | P36: =IF(O36=0,0,COUNTIF($O:$O,">="&O36)) -> 8 | Q36: =IF(L36=0,0,COUNTIF($P$6:P36,P36)-1) -> 0 | R36: =P36-Q36 -> 8
A37: 6.0 | E37: =VLOOKUP(A37,MC,4,0) -> SINALIZAÇÃO | K37: =SUM(K38:K49) -> 136049.14 | L37: =COUNTIF($C$8:C37,C37) -> 0 | M37: =IF(L37>1,0,SUMIF(C:C,C37,F:F)) -> 0 | N37: =IF(L37=1,C37,0) -> 0 | O37: =SUMIF(C:C,N37,K:K) -> 0 | P37: =IF(O37=0,0,COUNTIF($O:$O,">="&O37)) -> 0 | Q37: =IF(L37=0,0,COUNTIF($P$6:P37,P37)-1) -> 0 | R37: =P37-Q37 -> 0
A38: 6.1 | E38: SINALIZAÇÃO HORIZONTAL | L38: =COUNTIF($C$8:C38,C38) -> 0 | M38: =IF(L38>1,0,SUMIF(C:C,C38,F:F)) -> 0 | N38: =IF(L38=1,C38,0) -> 0 | O38: =SUMIF(C:C,N38,K:K) -> 0 | P38: =IF(O38=0,0,COUNTIF($O:$O,">="&O38)) -> 0 | Q38: =IF(L38=0,0,COUNTIF($P$6:P38,P38)-1) -> 0 | R38: =P38-Q38 -> 0
A39: 6.1.1 | B39: =VLOOKUP(A39,MC,2,0) -> SICRO | C39: =VLOOKUP(A39,MC,3,0) -> 5213408 | D39: =C39 -> 5213408 | E39: =VLOOKUP(A39,MC,4,0) -> Pintura de faixa com termoplástico por aspersão - espessura de 1,5 mm | F39: =VLOOKUP(A39,MC,10,0) -> m² | G39: =VLOOKUP(A39,MC,9,0) -> 645.65 | H39: =IFERROR(VLOOKUP(C39,BANCO,4,0),IFERROR(VLOOKUP(C39,SINAPI,5,0),IFERROR(VLOOKUP(C39,SICRO,4,0),))) -> 49.64 | I39: =$K$2 -> 0.2123 | J39: =TRUNC(H39*(1+I39),2) -> 60.17 | K39: =TRUNC(G39*J39,2) -> 38848.76 | L39: =COUNTIF($C$8:C39,C39) -> 1 | M39: =IF(L39>1,0,SUMIF(C:C,C39,F:F)) -> 0 | N39: =IF(L39=1,C39,0) -> 5213408 | O39: =SUMIF(C:C,N39,K:K) -> 38848.76 | P39: =IF(O39=0,0,COUNTIF($O:$O,">="&O39)) -> 13 | Q39: =IF(L39=0,0,COUNTIF($P$6:P39,P39)-1) -> 0 | R39: =P39-Q39 -> 13
A40: 6.1.2 | B40: =VLOOKUP(A40,MC,2,0) -> SICRO | C40: =VLOOKUP(A40,MC,3,0) -> 5213362 | D40: =C40 -> 5213362 | E40: =VLOOKUP(A40,MC,4,0) -> Tachão refletivo em plástico injetado - bidirecional - fornecimento e colocação | F40: =VLOOKUP(A40,MC,10,0) -> un | G40: =VLOOKUP(A40,MC,9,0) -> 48 | H40: =IFERROR(VLOOKUP(C40,BANCO,4,0),IFERROR(VLOOKUP(C40,SINAPI,5,0),IFERROR(VLOOKUP(C40,SICRO,4,0),))) -> 88.25 | I40: =$K$2 -> 0.2123 | J40: =TRUNC(H40*(1+I40),2) -> 106.98 | K40: =TRUNC(G40*J40,2) -> 5135.04 | L40: =COUNTIF($C$8:C40,C40) -> 1 | M40: =IF(L40>1,0,SUMIF(C:C,C40,F:F)) -> 0 | N40: =IF(L40=1,C40,0) -> 5213362 | O40: =SUMIF(C:C,N40,K:K) -> 5135.04 | P40: =IF(O40=0,0,COUNTIF($O:$O,">="&O40)) -> 31 | Q40: =IF(L40=0,0,COUNTIF($P$6:P40,P40)-1) -> 0 | R40: =P40-Q40 -> 31
...

Sheet MEMÓRIA DE CÁLCULO
A1: MEMÓRIA DE CÁLCULO
A2: =SINTÉTICO!A2 -> OBJETO: | B2: =SINTÉTICO!B2:I2 -> ELABORAÇÃO DO PROJETO EXECUTIVO DE ENGENHARIA PARA RESTAURAÇÃO DA RODOVIA VPE-140 COM EXTENSÃO DE 2,85 km
A3: =SINTÉTICO!A3 -> TRECHO: | B3: =SINTÉTICO!B3:I3 -> RODOVIA :VPE - 140 TRECHO : Entr. PE-095 ao Povoado de Malhada de Pedra EXTENSÃO :2,85 Km
A4: =SINTÉTICO!A4 -> FONTES: | B4: =SINTÉTICO!B4:I4 -> SICRO JAN 2026, ANP FEV/2026, COTAÇÕES, SINAPI JAN/2026
A5: ITEM | B5: FONTE | C5: CÓDIGO | D5: DESCRIÇÃO DO ITEM | E5: MEDIDAS
E6: COMP. | F6: LARGURA | G6: PROF. / ALT. | H6: TAXA | I6: QTD | J6: UND
A7: 1.0 | D7: ADMINISTRAÇÃO
A8: 1.1 | B8: COMPOSIÇÃO | C8: CPU 001 | D8: =IFERROR(VLOOKUP(C8,BANCO,2,0),IFERROR(VLOOKUP(C8,SINAPI,2,0),IFERROR(VLOOKUP(C8,SICRO,2,0),))) -> CUSTO COM ADMINISTRAÇÃO LOCAL DE OBRA | E8: QDE | I8: =ROUND(SUM(I9:I9),2) -> 1 | J8: =IFERROR(VLOOKUP(C8,BANCO,3,0),IFERROR(VLOOKUP(C8,SINAPI,3,0),IFERROR(VLOOKUP(C8,SICRO,3,0),))) -> UN
E9: 1 | I9: =PRODUCT(E9:H9) -> 1
A11: 2.0 | D11: CANTEIRO DE OBRAS
A12: 2.1 | B12: COMPOSIÇÃO | C12: CPU 002 | D12: =IFERROR(VLOOKUP(C12,BANCO,2,0),IFERROR(VLOOKUP(C12,SINAPI,2,0),IFERROR(VLOOKUP(C12,SICRO,2,0),))) -> INSTALAÇÃO DO CANTEIRO DE OBRAS | E12: QDE | I12: =ROUND(SUM(I13:I13),2) -> 1 | J12: =IFERROR(VLOOKUP(C12,BANCO,3,0),IFERROR(VLOOKUP(C12,SINAPI,3,0),IFERROR(VLOOKUP(C12,SICRO,3,0),))) -> UN
E13: 1 | I13: =PRODUCT(E13:H13) -> 1
A15: 2.2 | B15: COMPOSIÇÃO | C15: CPU 003 | D15: =IFERROR(VLOOKUP(C15,BANCO,2,0),IFERROR(VLOOKUP(C15,SINAPI,2,0),IFERROR(VLOOKUP(C15,SICRO,2,0),))) -> PLACA DE OBRA EM CHAPA DE AÇO GALVANIZADO | E15: COMP. | F15: ALT. | H15: QDE | I15: =ROUND(SUM(I16:I16),2) -> 24 | J15: =IFERROR(VLOOKUP(C15,BANCO,3,0),IFERROR(VLOOKUP(C15,SINAPI,3,0),IFERROR(VLOOKUP(C15,SICRO,3,0),))) -> M²
E16: 4 | F16: 3 | H16: 2 | I16: =PRODUCT(E16:H16) -> 24
A18: 2.3 | B18: COMPOSIÇÃO | C18: CPU 004 | D18: =IFERROR(VLOOKUP(C18,BANCO,2,0),IFERROR(VLOOKUP(C18,SINAPI,2,0),IFERROR(VLOOKUP(C18,SICRO,2,0),))) -> CANTEIRO ITINERANTE | E18: QDE | I18: =ROUND(SUM(I19:I19),2) -> 4 | J18: =IFERROR(VLOOKUP(C18,BANCO,3,0),IFERROR(VLOOKUP(C18,SINAPI,3,0),IFERROR(VLOOKUP(C18,SICRO,3,0),))) -> MÊS
E19: 4 | I19: =PRODUCT(E19:H19) -> 4
A21: 3.0 | D21: MOBILIZAÇÃO/DESMOBILIZAÇÃO
A22: 3.1 | B22: COMPOSIÇÃO | C22: CPU 005 | D22: =IFERROR(VLOOKUP(C22,BANCO,2,0),IFERROR(VLOOKUP(C22,SINAPI,2,0),IFERROR(VLOOKUP(C22,SICRO,2,0),))) -> CUSTO DE MOBILIZAÇÃO E DESMOBILIZAÇÃO DE EQUIPAMENTOS (LEVES, MÉDIOS E PESADOS), MÁQUINAS, MOBILIÁRIOS E PESSOAL | E22: QDE | I22: =ROUND(SUM(I23:I23),2) -> 2 | J22: =IFERROR(VLOOKUP(C22,BANCO,3,0),IFERROR(VLOOKUP(C22,SINAPI,3,0),IFERROR(VLOOKUP(C22,SICRO,3,0),))) -> UN
D23: Mobilização e desmobilização | E23: 2 | I23: =PRODUCT(E23:H23) -> 2
A25: 4.0 | D25: DRENAGEM
A26: 4.1 | B26: SICRO | C26: 2003373 | D26: =IFERROR(VLOOKUP(C26,BANCO,2,0),IFERROR(VLOOKUP(C26,SINAPI,2,0),IFERROR(VLOOKUP(C26,SICRO,2,0),))) -> Meio-fio de concreto - MFC 03 - areia e brita comerciais - fôrma de madeira | E26: EXT. | I26: =ROUND(SUM(I27:I27),2) -> 371.28 | J26: =IFERROR(VLOOKUP(C26,BANCO,3,0),IFERROR(VLOOKUP(C26,SINAPI,3,0),IFERROR(VLOOKUP(C26,SICRO,3,0),))) -> m
E27: 371.28 | I27: =PRODUCT(E27:H27) -> 371.28
A29: 4.2 | B29: SICRO | C29: 2003613 | D29: =IFERROR(VLOOKUP(C29,BANCO,2,0),IFERROR(VLOOKUP(C29,SINAPI,2,0),IFERROR(VLOOKUP(C29,SICRO,2,0),))) -> Boca de saída para dreno subsuperficial - BSD 03 - areia e brita comerciais | E29: QDE | I29: =ROUND(SUM(I30:I30),2) -> 21 | J29: =IFERROR(VLOOKUP(C29,BANCO,3,0),IFERROR(VLOOKUP(C29,SINAPI,3,0),IFERROR(VLOOKUP(C29,SICRO,3,0),))) -> un
E30: 21 | I30: =PRODUCT(E30:H30) -> 21
A32: 4.3 | B32: SICRO | C32: 2003265 | D32: =IFERROR(VLOOKUP(C32,BANCO,2,0),IFERROR(VLOOKUP(C32,SINAPI,2,0),IFERROR(VLOOKUP(C32,SICRO,2,0),))) -> Sarjeta triangular de concreto - STC 88-20 - escavação mecânica - areia e brita comerciais | E32: EXT. | I32: =ROUND(SUM(I33:I33),2) -> 2620 | J32: =IFERROR(VLOOKUP(C32,BANCO,3,0),IFERROR(VLOOKUP(C32,SINAPI,3,0),IFERROR(VLOOKUP(C32,SICRO,3,0),))) -> m
E33: 2620 | I33: =PRODUCT(E33:H33) -> 2620
A35: 4.4 | B35: SICRO | C35: 2003609 | D35: =IFERROR(VLOOKUP(C35,BANCO,2,0),IFERROR(VLOOKUP(C35,SINAPI,2,0),IFERROR(VLOOKUP(C35,SICRO,2,0),))) -> Dreno subsuperficial - DSS 03 - brita comercial | E35: EXT. | I35: =ROUND(SUM(I36:I36),2) -> 36 | J35: =IFERROR(VLOOKUP(C35,BANCO,3,0),IFERROR(VLOOKUP(C35,SINAPI,3,0),IFERROR(VLOOKUP(C35,SICRO,3,0),))) -> m
E36: 36 | I36: =PRODUCT(E36:H36) -> 36
A38: 4.5 | B38: SICRO | C38: 2003611 | D38: =IFERROR(VLOOKUP(C38,BANCO,2,0),IFERROR(VLOOKUP(C38,SINAPI,2,0),IFERROR(VLOOKUP(C38,SICRO,2,0),))) -> Dreno subsuperficial - DSS 04 - tubo PEAD e brita comercial | E38: EXT. | I38: =ROUND(SUM(I39:I39),2) -> 1100 | J38: =IFERROR(VLOOKUP(C38,BANCO,3,0),IFERROR(VLOOKUP(C38,SINAPI,3,0),IFERROR(VLOOKUP(C38,SICRO,3,0),))) -> m
E39: 1100 | I39: =PRODUCT(E39:H39) -> 1100
A41: 4.6 | B41: SICRO | C41: 4805757 | D41: =IFERROR(VLOOKUP(C41,BANCO,2,0),IFERROR(VLOOKUP(C41,SINAPI,2,0),IFERROR(VLOOKUP(C41,SICRO,2,0),))) -> Escavação mecânica de vala em material de 1ª categoria | E41: VOLUME | I41: =ROUND(SUM(I42:I42),2) -> 656.64 | J41: =IFERROR(VLOOKUP(C41,BANCO,3,0),IFERROR(VLOOKUP(C41,SINAPI,3,0),IFERROR(VLOOKUP(C41,SICRO,3,0),))) -> m³
E42: 656.64 | I42: =PRODUCT(E42:H42) -> 656.64
A44: 4.7 | B44: SICRO | C44: 5914351 | D44: =IFERROR(VLOOKUP(C44,BANCO,2,0),IFERROR(VLOOKUP(C44,SINAPI,2,0),IFERROR(VLOOKUP(C44,SICRO,2,0),))) -> Carga, manobra e descarga de agregados ou solos em caminhão basculante de 14 m³ - carga com carregadeira de 3,40 m³ e descarga livre | E44: VOLUME | F44: t/m³ | H44: EMPOL. | I44: =ROUND(SUM(I45:I45),2) -> 1477.44 | J44: =IFERROR(VLOOKUP(C44,BANCO,3,0),IFERROR(VLOOKUP(C44,SINAPI,3,0),IFERROR(VLOOKUP(C44,SICRO,3,0),))) -> t
D45: Bota-fora | E45: =I41 -> 656.64 | F45: 1.5 | H45: 1.5 | I45: =PRODUCT(E45:H45) -> 1477.44
A47: 4.8 | B47: SICRO | C47: 5915321 | D47: =IFERROR(VLOOKUP(C47,BANCO,2,0),IFERROR(VLOOKUP(C47,SINAPI,2,0),IFERROR(VLOOKUP(C47,SICRO,2,0),))) -> Transporte com caminhão basculante de 14 m³ - rodovia pavimentada | E47: VOLUME | H47: DMT | I47: =ROUND(SUM(I48:I48),2) -> 44323.2 | J47: =IFERROR(VLOOKUP(C47,BANCO,3,0),IFERROR(VLOOKUP(C47,SINAPI,3,0),IFERROR(VLOOKUP(C47,SICRO,3,0),))) -> tkm
D48: Bota-fora | E48: =I44 -> 1477.44 | H48: 30 | I48: =PRODUCT(E48:H48) -> 44323.2
A50: 5.0 | D50: PAVIMENTAÇÃO
A51: 5.1 | B51: SICRO | C51: 4011484 | D51: =IFERROR(VLOOKUP(C51,BANCO,2,0),IFERROR(VLOOKUP(C51,SINAPI,2,0),IFERROR(VLOOKUP(C51,SICRO,2,0),))) -> Reciclagem com incorporação do revestimento asfáltico à base e adição de brita comercial - 100% Proctor modificado | E51: VOLUME | I51: =ROUND(SUM(I52:I52),2) -> 4060.29 | J51: =IFERROR(VLOOKUP(C51,BANCO,3,0),IFERROR(VLOOKUP(C51,SINAPI,3,0),IFERROR(VLOOKUP(C51,SICRO,3,0),))) -> m³
E52: 4060.29 | I52: =PRODUCT(E52:H52) -> 4060.29
A54: 5.2 | B54: SICRO | C54: 4011212 | D54: =IFERROR(VLOOKUP(C54,BANCO,2,0),IFERROR(VLOOKUP(C54,SINAPI,2,0),IFERROR(VLOOKUP(C54,SICRO,2,0),))) -> Varredura da superfície para execução de revestimento asfáltico | E54: ÁREA | I54: =ROUND(SUM(I55:I55),2) -> 19922 | J54: =IFERROR(VLOOKUP(C54,BANCO,3,0),IFERROR(VLOOKUP(C54,SINAPI,3,0),IFERROR(VLOOKUP(C54,SICRO,3,0),))) -> m²
...

Sheet CURVA ABC
A1: CURVA ABC DE SERVIÇOS
A2: =SINTÉTICO!A2 -> OBJETO: | B2: =SINTÉTICO!B2 -> ELABORAÇÃO DO PROJETO EXECUTIVO DE ENGENHARIA PARA RESTAURAÇÃO DA RODOVIA VPE-140 COM EXTENSÃO DE 2,85 km | I2: =SINTÉTICO!J2 -> BDI | J2: =SINTÉTICO!K2 -> 0.2123
A3: =SINTÉTICO!A3 -> TRECHO: | B3: =SINTÉTICO!B3 -> RODOVIA :VPE - 140 TRECHO : Entr. PE-095 ao Povoado de Malhada de Pedra EXTENSÃO :2,85 Km | I3: =SINTÉTICO!J3 -> BDI DIF. | J3: =SINTÉTICO!K3 -> 0.15
A4: =SINTÉTICO!A4 -> FONTES: | B4: =SINTÉTICO!B4 -> SICRO JAN 2026, ANP FEV/2026, COTAÇÕES, SINAPI JAN/2026 | I4: =SINTÉTICO!J4 -> D.B | J4: =SINTÉTICO!K4 -> 46023
A5: ITEM | B5: BANCO | C5: CÓDIGO | D5: DESCRIÇÃO | E5: UND | F5: Quant. | G5: Valor Unit. | H5: Total | I5: Peso (%) | J5: Peso Acumulado (%)
A6: 1 | B6: =VLOOKUP(K6,SINTÉTICO!$A:$R,2,0) -> ANP | C6: =VLOOKUP(K6,SINTÉTICO!$A:$R,3,0) -> CAMB03 | D6: =VLOOKUP(K6,SINTÉTICO!$A:$R,5,0) -> AQUISIÇÃO DE CIMENTO ASFÁLTICO CAP 50/70 | E6: =VLOOKUP(K6,SINTÉTICO!$A:$R,6,0) -> T | F6: =INDEX(SINTÉTICO!$G:$G,MATCH($A6,SINTÉTICO!$R:$R,0)) -> 132.56 | G6: =INDEX(SINTÉTICO!H:H,MATCH($K6,SINTÉTICO!$A:$A,0)) -> 5283 | H6: =INDEX(SINTÉTICO!O:O,MATCH($A6,SINTÉTICO!$R:$R,0)) -> 805361.65 | I6: =H6/SINTÉTICO!$K$59 -> 0.21804782 | J6: =I6 -> 0.21804782 | K6: =INDEX(SINTÉTICO!A:A,MATCH($A6,SINTÉTICO!P:P,0)) -> 5.8
A7: 2 | B7: =VLOOKUP(K7,SINTÉTICO!$A:$R,2,0) -> SICRO | C7: =VLOOKUP(K7,SINTÉTICO!$A:$R,3,0) -> 4011463 | D7: =VLOOKUP(K7,SINTÉTICO!$A:$R,5,0) -> Concreto asfáltico - faixa C-12,5 - areia e brita comerciais | E7: =VLOOKUP(K7,SINTÉTICO!$A:$R,6,0) -> t | F7: =INDEX(SINTÉTICO!$G:$G,MATCH($A7,SINTÉTICO!$R:$R,0)) -> 2390.64 | G7: =INDEX(SINTÉTICO!H:H,MATCH($K7,SINTÉTICO!$A:$A,0)) -> 190.68 | H7: =INDEX(SINTÉTICO!O:O,MATCH($A7,SINTÉTICO!$R:$R,0)) -> 552620.34 | I7: =H7/SINTÉTICO!$K$59 -> 0.14961932 | J7: =I7+J6 -> 0.36766714 | K7: =INDEX(SINTÉTICO!A:A,MATCH($A7,SINTÉTICO!P:P,0)) -> 5.5
A8: 3 | B8: =VLOOKUP(K8,SINTÉTICO!$A:$R,2,0) -> COMPOSIÇÃO | C8: =VLOOKUP(K8,SINTÉTICO!$A:$R,3,0) -> CPU 001 | D8: =VLOOKUP(K8,SINTÉTICO!$A:$R,5,0) -> CUSTO COM ADMINISTRAÇÃO LOCAL DE OBRA | E8: =VLOOKUP(K8,SINTÉTICO!$A:$R,6,0) -> UN | F8: =INDEX(SINTÉTICO!$G:$G,MATCH($A8,SINTÉTICO!$R:$R,0)) -> 1 | G8: =INDEX(SINTÉTICO!H:H,MATCH($K8,SINTÉTICO!$A:$A,0)) -> 430027.06 | H8: =INDEX(SINTÉTICO!O:O,MATCH($A8,SINTÉTICO!$R:$R,0)) -> 521321.8 | I8: =H8/SINTÉTICO!$K$59 -> 0.14114539 | J8: =I8+J7 -> 0.50881253 | K8: =INDEX(SINTÉTICO!A:A,MATCH($A8,SINTÉTICO!P:P,0)) -> 1.1
A9: 4 | B9: =VLOOKUP(K9,SINTÉTICO!$A:$R,2,0) -> SICRO | C9: =VLOOKUP(K9,SINTÉTICO!$A:$R,3,0) -> 4011484 | D9: =VLOOKUP(K9,SINTÉTICO!$A:$R,5,0) -> Reciclagem com incorporação do revestimento asfáltico à base e adição de brita comercial - 100% Proctor modificado | E9: =VLOOKUP(K9,SINTÉTICO!$A:$R,6,0) -> m³ | F9: =INDEX(SINTÉTICO!$G:$G,MATCH($A9,SINTÉTICO!$R:$R,0)) -> 4060.29 | G9: =INDEX(SINTÉTICO!H:H,MATCH($K9,SINTÉTICO!$A:$A,0)) -> 94.87 | H9: =INDEX(SINTÉTICO!O:O,MATCH($A9,SINTÉTICO!$R:$R,0)) -> 466973.95 | I9: =H9/SINTÉTICO!$K$59 -> 0.12643097 | J9: =I9+J8 -> 0.6352435 | K9: =INDEX(SINTÉTICO!A:A,MATCH($A9,SINTÉTICO!P:P,0)) -> 5.1
A10: 5 | B10: =VLOOKUP(K10,SINTÉTICO!$A:$R,2,0) -> COMPOSIÇÃO | C10: =VLOOKUP(K10,SINTÉTICO!$A:$R,3,0) -> CPU 002 | D10: =VLOOKUP(K10,SINTÉTICO!$A:$R,5,0) -> INSTALAÇÃO DO CANTEIRO DE OBRAS | E10: =VLOOKUP(K10,SINTÉTICO!$A:$R,6,0) -> UN | F10: =INDEX(SINTÉTICO!$G:$G,MATCH($A10,SINTÉTICO!$R:$R,0)) -> 1 | G10: =INDEX(SINTÉTICO!H:H,MATCH($K10,SINTÉTICO!$A:$A,0)) -> 221801.04 | H10: =INDEX(SINTÉTICO!O:O,MATCH($A10,SINTÉTICO!$R:$R,0)) -> 268889.4 | I10: =H10/SINTÉTICO!$K$59 -> 0.072800522 | J10: =I10+J9 -> 0.70804402 | K10: =INDEX(SINTÉTICO!A:A,MATCH($A10,SINTÉTICO!P:P,0)) -> 2.1
A11: 6 | B11: =VLOOKUP(K11,SINTÉTICO!$A:$R,2,0) -> COMPOSIÇÃO | C11: =VLOOKUP(K11,SINTÉTICO!$A:$R,3,0) -> CPU 005 | D11: =VLOOKUP(K11,SINTÉTICO!$A:$R,5,0) -> CUSTO DE MOBILIZAÇÃO E DESMOBILIZAÇÃO DE EQUIPAMENTOS (LEVES, MÉDIOS E PESADOS), MÁQUINAS, MOBILIÁRIOS E PESSOAL | E11: =VLOOKUP(K11,SINTÉTICO!$A:$R,6,0) -> UN | F11: =INDEX(SINTÉTICO!$G:$G,MATCH($A11,SINTÉTICO!$R:$R,0)) -> 2 | G11: =INDEX(SINTÉTICO!H:H,MATCH($K11,SINTÉTICO!$A:$A,0)) -> 87883.39 | H11: =INDEX(SINTÉTICO!O:O,MATCH($A11,SINTÉTICO!$R:$R,0)) -> 213082.06 | I11: =H11/SINTÉTICO!$K$59 -> 0.057690951 | J11: =I11+J10 -> 0.76573498 | K11: =INDEX(SINTÉTICO!A:A,MATCH($A11,SINTÉTICO!P:P,0)) -> 3.1
A12: 7 | B12: =VLOOKUP(K12,SINTÉTICO!$A:$R,2,0) -> SICRO | C12: =VLOOKUP(K12,SINTÉTICO!$A:$R,3,0) -> 2003265 | D12: =VLOOKUP(K12,SINTÉTICO!$A:$R,5,0) -> Sarjeta triangular de concreto - STC 88-20 - escavação mecânica - areia e brita comerciais | E12: =VLOOKUP(K12,SINTÉTICO!$A:$R,6,0) -> m | F12: =INDEX(SINTÉTICO!$G:$G,MATCH($A12,SINTÉTICO!$R:$R,0)) -> 2620 | G12: =INDEX(SINTÉTICO!H:H,MATCH($K12,SINTÉTICO!$A:$A,0)) -> 55.72 | H12: =INDEX(SINTÉTICO!O:O,MATCH($A12,SINTÉTICO!$R:$R,0)) -> 176954.8 | I12: =H12/SINTÉTICO!$K$59 -> 0.047909668 | J12: =I12+J11 -> 0.81364464 | K12: =INDEX(SINTÉTICO!A:A,MATCH($A12,SINTÉTICO!P:P,0)) -> 4.3
A13: 8 | B13: =VLOOKUP(K13,SINTÉTICO!$A:$R,2,0) -> ANP | C13: =VLOOKUP(K13,SINTÉTICO!$A:$R,3,0) -> CTMB03 | D13: =VLOOKUP(K13,SINTÉTICO!$A:$R,5,0) -> TRANSPORTE DE CIMENTO ASFÁLTICO CAP 50/70 | E13: =VLOOKUP(K13,SINTÉTICO!$A:$R,6,0) -> T | F13: =INDEX(SINTÉTICO!$G:$G,MATCH($A13,SINTÉTICO!$R:$R,0)) -> 132.56 | G13: =INDEX(SINTÉTICO!H:H,MATCH($K13,SINTÉTICO!$A:$A,0)) -> 582.43 | H13: =INDEX(SINTÉTICO!O:O,MATCH($A13,SINTÉTICO!$R:$R,0)) -> 88787.36 | I13: =H13/SINTÉTICO!$K$59 -> 0.024038754 | J13: =I13+J12 -> 0.8376834 | K13: =INDEX(SINTÉTICO!A:A,MATCH($A13,SINTÉTICO!P:P,0)) -> 5.11
A14: 9 | B14: =VLOOKUP(K14,SINTÉTICO!$A:$R,2,0) -> SICRO | C14: =VLOOKUP(K14,SINTÉTICO!$A:$R,3,0) -> 2003611 | D14: =VLOOKUP(K14,SINTÉTICO!$A:$R,5,0) -> Dreno subsuperficial - DSS 04 - tubo PEAD e brita comercial | E14: =VLOOKUP(K14,SINTÉTICO!$A:$R,6,0) -> m | F14: =INDEX(SINTÉTICO!$G:$G,MATCH($A14,SINTÉTICO!$R:$R,0)) -> 1100 | G14: =INDEX(SINTÉTICO!H:H,MATCH($K14,SINTÉTICO!$A:$A,0)) -> 64.55 | H14: =INDEX(SINTÉTICO!O:O,MATCH($A14,SINTÉTICO!$R:$R,0)) -> 86075 | I14: =H14/SINTÉTICO!$K$59 -> 0.023304396 | J14: =I14+J13 -> 0.86098779 | K14: =INDEX(SINTÉTICO!A:A,MATCH($A14,SINTÉTICO!P:P,0)) -> 4.5
A15: 10 | B15: =VLOOKUP(K15,SINTÉTICO!$A:$R,2,0) -> ANP | C15: =VLOOKUP(K15,SINTÉTICO!$A:$R,3,0) -> CAMB01 | D15: =VLOOKUP(K15,SINTÉTICO!$A:$R,5,0) -> AQUISIÇÃO DE EMULSÃO ASFÁLTICA PARA IMPRIMAÇÃO - EAI | E15: =VLOOKUP(K15,SINTÉTICO!$A:$R,6,0) -> T | F15: =INDEX(SINTÉTICO!$G:$G,MATCH($A15,SINTÉTICO!$R:$R,0)) -> 25.9 | G15: =INDEX(SINTÉTICO!H:H,MATCH($K15,SINTÉTICO!$A:$A,0)) -> 2651 | H15: =INDEX(SINTÉTICO!O:O,MATCH($A15,SINTÉTICO!$R:$R,0)) -> 78960.03 | I15: =H15/SINTÉTICO!$K$59 -> 0.021378051 | J15: =I15+J14 -> 0.88236584 | K15: =INDEX(SINTÉTICO!A:A,MATCH($A15,SINTÉTICO!P:P,0)) -> 5.6
A16: 11 | B16: =VLOOKUP(K16,SINTÉTICO!$A:$R,2,0) -> SICRO | C16: =VLOOKUP(K16,SINTÉTICO!$A:$R,3,0) -> 5213850 | D16: =VLOOKUP(K16,SINTÉTICO!$A:$R,5,0) -> Operação de sinalização por bandeirola de tecido ou com placa metálica | E16: =VLOOKUP(K16,SINTÉTICO!$A:$R,6,0) -> h | F16: =INDEX(SINTÉTICO!$G:$G,MATCH($A16,SINTÉTICO!$R:$R,0)) -> 2212 | G16: =INDEX(SINTÉTICO!H:H,MATCH($K16,SINTÉTICO!$A:$A,0)) -> 23.74 | H16: =INDEX(SINTÉTICO!O:O,MATCH($A16,SINTÉTICO!$R:$R,0)) -> 72899.74 | I16: =H16/SINTÉTICO!$K$59 -> 0.019737257 | J16: =I16+J15 -> 0.9021031 | K16: =INDEX(SINTÉTICO!A:A,MATCH($A16,SINTÉTICO!P:P,0)) -> 7.5
A17: 12 | B17: =VLOOKUP(K17,SINTÉTICO!$A:$R,2,0) -> SICRO | C17: =VLOOKUP(K17,SINTÉTICO!$A:$R,3,0) -> 5213360 | D17: =VLOOKUP(K17,SINTÉTICO!$A:$R,5,0) -> Tacha refletiva em plástico injetado - bidirecional tipo I - com um pino - fornecimento e colocação | E17: =VLOOKUP(K17,SINTÉTICO!$A:$R,6,0) -> un | F17: =INDEX(SINTÉTICO!$G:$G,MATCH($A17,SINTÉTICO!$R:$R,0)) -> 912 | G17: =INDEX(SINTÉTICO!H:H,MATCH($K17,SINTÉTICO!$A:$A,0)) -> 35.68 | H17: =INDEX(SINTÉTICO!O:O,MATCH($A17,SINTÉTICO!$R:$R,0)) -> 39444 | I17: =H17/SINTÉTICO!$K$59 -> 0.010679275 | J17: =I17+J16 -> 0.91278238 | K17: =INDEX(SINTÉTICO!A:A,MATCH($A17,SINTÉTICO!P:P,0)) -> 6.1.3
A18: 13 | B18: =VLOOKUP(K18,SINTÉTICO!$A:$R,2,0) -> SICRO | C18: =VLOOKUP(K18,SINTÉTICO!$A:$R,3,0) -> 5213408 | D18: =VLOOKUP(K18,SINTÉTICO!$A:$R,5,0) -> Pintura de faixa com termoplástico por aspersão - espessura de 1,5 mm | E18: =VLOOKUP(K18,SINTÉTICO!$A:$R,6,0) -> m² | F18: =INDEX(SINTÉTICO!$G:$G,MATCH($A18,SINTÉTICO!$R:$R,0)) -> 645.65 | G18: =INDEX(SINTÉTICO!H:H,MATCH($K18,SINTÉTICO!$A:$A,0)) -> 49.64 | H18: =INDEX(SINTÉTICO!O:O,MATCH($A18,SINTÉTICO!$R:$R,0)) -> 38848.76 | I18: =H18/SINTÉTICO!$K$59 -> 0.010518116 | J18: =I18+J17 -> 0.92330049 | K18: =INDEX(SINTÉTICO!A:A,MATCH($A18,SINTÉTICO!P:P,0)) -> 6.1.1
... A45: 40 | B45: =VLOOKUP(K45,SINTÉTICO!$A:$R,2,0) -> SICRO | C45: =VLOOKUP(K45,SINTÉTICO!$A:$R,3,0) -> 5213848 | D45: =VLOOKUP(K45,SINTÉTICO!$A:$R,5,0) -> Luz de advertência e bateria para dispositivos de sinalização - utilização de 200 ciclos - fornecimento, 01 implantação e 01 retirada diária | E45: =VLOOKUP(K45,SINTÉTICO!$A:$R,6,0) -> un.dia | F45: =INDEX(SINTÉTICO!$G:$G,MATCH($A45,SINTÉTICO!$R:$R,0)) -> 201 | G45: =INDEX(SINTÉTICO!H:H,MATCH($K45,SINTÉTICO!$A:$A,0)) -> 1.12 | H45: =INDEX(SINTÉTICO!O:O,MATCH($A45,SINTÉTICO!$R:$R,0)) -> 271.35 | I45: =H45/SINTÉTICO!$K$59 -> 7.3466718e-05 | J45: =I45+J44 -> 1 | K45: =INDEX(SINTÉTICO!A:A,MATCH($A45,SINTÉTICO!P:P,0)) -> 7.6
A46: TOTAL GERAL | J46: =SUM(H6:H45) -> 3693509.2 | K46: =IF(J46=SINTÉTICO!K59,"OK","FALSO") -> OK
K47: =RESUMO!C11 -> 3693509.2

Sheet CRONO. FIS-FINANC
E1: DATA BASE: | G1: JAN/2026 - ONERADO
A3: OBRA: | B3: =SINTÉTICO!B2 -> ELABORAÇÃO DO PROJETO EXECUTIVO DE ENGENHARIA PARA RESTAURAÇÃO DA RODOVIA VPE-140 COM EXTENSÃO DE 2,85 km | E3: BDI OBRA | G3: =SINTÉTICO!K2 -> 0.2123
A5: LOCAL: | B5: RODOVIA | C5: PE-140 | E5: BDI DIFERENCIADO | G5: =SINTÉTICO!K3 -> 0.15
B6: TRECHO | C6: Entr. PE-095 ao Povoado de Malhada de Pedra
B7: EXTENSÃO | C7: 2,85 km
A9: CRONOGRAMA FÍSICO-FINANCEIRO ONERADO
A12: ITEM | B12: DESCRIÇÃO | C12: TOTAL | D12: 1º MÊS | E12: 2º MÊS | F12: 3º MÊS | G12: 4º MÊS
A13: 1.0 | B13: =RESUMO!B4 -> ADMINISTRAÇÃO | C13: =RESUMO!C4 -> 521321.8 | D13: =$C13*D14 -> 119220.99 | E13: =$C13*E14 -> 130260.65 | F13: =$C13*F14 -> 141439.91 | G13: =$C13*G14 -> 130400.25 | H13: =SUM(D13:G13) -> 521321.8 | I13: =H13=C13 -> TRUE
D14: =SUM(D15,D17,D19,D21,D23,D25)/SUM($C$15,$C$17,$C$19,$C$21,$C$23,$C$25) -> 0.22868983 | E14: =SUM(E15,E17,E19,E21,E23,E25)/SUM($C$15,$C$17,$C$19,$C$21,$C$23,$C$25) -> 0.24986612 | F14: =SUM(F15,F17,F19,F21,F23,F25)/SUM($C$15,$C$17,$C$19,$C$21,$C$23,$C$25) -> 0.27131017 | G14: =SUM(G15,G17,G19,G21,G23,G25)/SUM($C$15,$C$17,$C$19,$C$21,$C$23,$C$25) -> 0.25013388 | H14: =SUM(D14:G14) -> 1
A15: 2.0 | B15: =RESUMO!B5 -> CANTEIRO DE OBRAS | C15: =RESUMO!C5 -> 299223.6 | D15: =$C15*D16 -> 74805.9 | E15: =$C15*E16 -> 74805.9 | F15: =$C15*F16 -> 74805.9 | G15: =$C15*G16 -> 74805.9 | H15: =SUM(D15:G15) -> 299223.6 | I15: =H15=C15 -> TRUE
D16: =1/4 -> 0.25 | E16: =1/4 -> 0.25 | F16: =1/4 -> 0.25 | G16: =1/4 -> 0.25 | H16: =SUM(D16:G16) -> 1
A17: 3.0 | B17: =RESUMO!B6 -> MOBILIZAÇÃO/DESMOBILIZAÇÃO | C17: =RESUMO!C6 -> 213082.06 | D17: =$C17*D18 -> 106541.03 | E17: =$C17*E18 -> 0 | F17: =$C17*F18 -> 0 | G17: =$C17*G18 -> 106541.03 | H17: =SUM(D17:G17) -> 213082.06 | I17: =H17=C17 -> TRUE
D18: 0.5 | G18: 0.5 | H18: =SUM(D18:G18) -> 1
A19: 4.0 | B19: =RESUMO!B7 -> DRENAGEM | C19: =RESUMO!C7 -> 347432.38 | D19: =$C$19*D20 -> 0 | E19: =$C$19*E20 -> 173716.19 | F19: =$C$19*F20 -> 173716.19 | G19: =$C$19*G20 -> 0 | H19: =SUM(D19:G19) -> 347432.38 | I19: =H19=C19 -> TRUE
E20: 0.5 | F20: 0.5 | H20: =SUM(D20:G20) -> 1
A21: 5.0 | B21: =RESUMO!B8 -> PAVIMENTAÇÃO | C21: =RESUMO!C8 -> 2078727.7 | D21: =$C$21*D22 -> 519681.93 | E21: =$C$21*E22 -> 519681.93 | F21: =$C$21*F22 -> 519681.93 | G21: =$C$21*G22 -> 519681.93 | H21: =SUM(D21:G21) -> 2078727.7 | I21: =H21=C21 -> TRUE
D22: 0.25 | E22: 0.25 | F22: 0.25 | G22: 0.25 | H22: =SUM(D22:G22) -> 1
A23: 6.0 | B23: =RESUMO!B9 -> SINALIZAÇÃO | C23: =RESUMO!C9 -> 136049.14 | D23: =$C$23*D24 -> 0 | E23: =$C$23*E24 -> 0 | F23: =$C$23*F24 -> 68024.57 | G23: =$C$23*G24 -> 68024.57 | H23: =SUM(D23:G23) -> 136049.14 | I23: =H23=C23 -> TRUE
F24: 0.5 | G24: 0.5 | H24: =SUM(D24:G24) -> 1
A25: 7.0 | B25: =RESUMO!B10 -> SINALIZAÇÃO DE OBRA | C25: =RESUMO!C10 -> 97672.54 | D25: =$C$25*D26 -> 24418.135 | E25: =$C$25*E26 -> 24418.135 | F25: =$C$25*F26 -> 24418.135 | G25: =$C$25*G26 -> 24418.135 | H25: =SUM(D25:G25) -> 97672.54 | I25: =H25=C25 -> TRUE
D26: 0.25 | E26: 0.25 | F26: 0.25 | G26: 0.25 | H26: =SUM(D26:G26) -> 1
A29: TOTAL = | C29: =SUM(C13,C15,C17,C21,C23,C25,C19) -> 3693509.2 | D29: =D13+D15+D17+D21+D23+D25+D19 -> 844667.98 | E29: =E13+E15+E17+E21+E23+E25+E19 -> 922882.81 | F29: =F13+F15+F17+F21+F23+F25+F19 -> 1002086.6 | G29: =G13+G15+G17+G21+G23+G25+G19 -> 923871.81
D30: =D29/$C$29 -> 0.22868983 | E30: =E29/$C$29 -> 0.24986612 | F30: =F29/$C$29 -> 0.27131017 | G30: =G29/$C$29 -> 0.25013388
A31: TOTAL ACUMULADO = | C31: =C29 -> 3693509.2 | D31: =D29 -> 844667.98 | E31: =D31+E29 -> 1767550.8 | F31: =E31+F29 -> 2769637.4 | G31: =F31+G29 -> 3693509.2
D32: =D31/$C$29 -> 0.22868983 | E32: =D32+E30 -> 0.47855594 | F32: =E32+F30 -> 0.74986612 | G32: =F32+G30 -> 1
D35: =D36/$C$36 -> #REF! | E35: =E36/$C$36 -> #REF! | F35: =F36/$C$36 -> #REF! | G35: =G36/$C$36 -> #REF!
C36: =SUM(D36:G36) -> #REF! | D36: =D15+D17+D21+D23+D25+#REF!+D19+#REF! -> #REF! | E36: =E15+E17+E21+E23+E25+#REF!+E19+#REF! -> #REF! | F36: =F15+F17+F21+F23+F25+#REF!+F19+#REF! -> #REF! | G36: =G15+G17+G21+G23+G25+#REF!+G19+#REF! -> #REF!
B37: ADM LOCAL | C37: =SUM(D37:G37) -> #REF! | D37: =D38*D36 -> #REF! | E37: =E38*E36 -> #REF! | F37: =F38*F36 -> #REF! | G37: =G38*G36 -> #REF!
B38: % SOBRE CUSTO DIRETO | C38: =C13 -> 521321.8 | D38: =C38/C36 -> #REF! | E38: =#REF! -> #REF! | F38: =E38 -> #REF! | G38: =F38 -> #REF!
C39: =C38/12 -> 43443.483

Sheet Composições Gerais
D1: Obra | E1: Bancos | G1: B.D.I. | I1: Encargos Sociais
D2: VPE - 144 - ONERADO | E2: SINAPI - 01/2026 - Pernambuco SICRO3 - 01/2026 - Pernambuco | G2: 0.2123 | I2: Não Desonerado: embutido nos preços unitário dos insumos de mão de obra, de acordo com as bases.
A3: Composições Analíticas com Preço Unitário - Gerais
A4: 1 | D4: 'ADMINISTRAÇAO
B5: Código | C5: Banco | D5: Descrição | E5: Tipo | G5: Und | H5: Quant. | I5: Valor Unit | J5: Total
A6: Insumo | B6: CPU 001 | C6: Próprio | D6: CUSTO COM ADMINISTRAÇÃO LOCAL DE OBRA | E6: Equipamento | G6: UN | H6: 1 | I6: 430027.06 | J6: =H6*I6 -> 430027.06
E7: MO sem LS => | F7: 0 | G7: LS => | H7: 0 | I7: MO com LS => | J7: 0
E8: Valor do BDI => | F8: 0.2123 | H8: Valor com BDI => | J8: =J6*(1+F8) -> 521321.81
G9: Quant. => | H9: 1,00 | I9: Preço Total => | J9: =J8 -> 521321.81
A11: 2 | D11: CANTEIRO DE OBRAS
A12: 2.1 | B12: Código | C12: Banco | D12: Descrição | E12: Tipo | G12: Und | H12: Quant. | I12: Valor Unit | J12: Total
A13: Insumo | B13: CPU 002 | C13: Próprio | D13: INSTALAÇÃO DO CANTEIRO DE OBRAS | E13: Equipamento | G13: UN | H13: 1 | I13: 221801.04 | J13: =H13*I13 -> 221801.04
E14: MO sem LS => | F14: 0 | G14: LS => | H14: 0 | I14: MO com LS => | J14: 0
E15: Valor do BDI => | H15: Valor com BDI => | J15: =J13*(1+G2) -> 268889.4
G16: Quant. => | H16: 1,00 | I16: Preço Total => | J16: =J15 -> 268889.4
A18: 2.2 | B18: Código | C18: Banco | D18: Descrição | E18: Tipo | G18: Und | H18: Quant. | I18: Valor Unit | J18: Total
A19: Insumo | B19: CPU 003 | C19: Próprio | D19: PLACA DE OBRA EM CHAPA DE ACO GALVANIZADO | E19: Equipamento | G19: M² | H19: 1 | I19: ='Composições Canteiro'!J7 -> 551.48573 | J19: =H19*I19 -> 551.48573
E20: MO sem LS => | F20: 0 | G20: LS => | H20: 0 | I20: MO com LS => | J20: 0
E21: Valor do BDI => | H21: Valor com BDI => | J21: =J19*(1+G2) -> 668.56615
G22: Quant. => | H22: 1 | I22: Preço Total => | J22: =H22*J21 -> 668.56615
A25: 2.3 | B25: Código | C25: Banco | D25: Descrição | E25: Tipo | G25: Und | H25: Quant. | I25: Valor Unit | J25: Total
A26: Insumo | B26: CPU 004 | C26: Próprio | D26: CANTEIRO ITINERANTE | E26: Equipamento | G26: UN | H26: 1 | I26: ='Composições Canteiro'!J20 -> 2946.6261 | J26: =H26*I26 -> 2946.6261
E27: MO sem LS => | F27: 0 | G27: LS => | H27: 0 | I27: MO com LS => | J27: 0
E28: Valor do BDI => | F28: 0.2123 | H28: Valor com BDI => | J28: =J26*(1+F28) -> 3572.1948
G29: Quant. => | I29: Preço Total =>
A33: 3 | D33: MOBILIZAÇAO/ DESMOBILIZAÇÃO
A34: 3.1 | B34: Código | C34: Banco | D34: Descrição | E34: Tipo | G34: Und | H34: Quant. | I34: Valor Unit | J34: Total
A35: Insumo | B35: CPU 05 | C35: Próprio | D35: CUSTO DE MOBILIZAÇÃO E DESMOBILIZAÇÃO DE EQUIPAMENTOS (LEVES, MÉDIOS E PESADOS), MÁQUINAS, MOBILIÁRIOS E PESSOAL | E35: Equipamento | G35: UN | H35: 1 | I35: 87883.39 | J35: =H35*I35 -> 87883.39
E36: MO sem LS => | F36: 0 | G36: LS => | H36: 0 | I36: MO com LS => | J36: 0
E37: Valor do BDI => | H37: Valor com BDI => | J37: =J38*(1+G2) -> 106541.03
G38: Quant. => | H38: 1 | I38: Preço Total => | J38: =J35*H38 -> 87883.39
A41: 4 | D41: DRENAGEM
A42: 4.1 | B42: Código | C42: Banco | D42: Descrição | E42: Tipo | G42: Und | H42: Quant. | I42: Valor Unit | J42: Total
A43: Composição | B43: 2003373 | C43: SICRO3 | D43: Meio-fio de concreto - MFC 03 - areia e brita comerciais - fôrma de madeira | G43: m | H43: 1 | I43: 69.16 | J43: 69.16
F44: Custo Horário de Execução => | J44: 0
F45: Fator de Influencia da Chuva - FIC => | J45: 0
F46: Custo do FIC => | J46: 0
F47: Produção de Equipe => | J47: 1
F48: Custo Unitário de Execução => | J48: 0
A49: D | B49: Banco | C49: Código | D49: Atividades Auxiliares | E49: Quantidade | F49: Unidade | G49: Preço Unitário | J49: Custo Horário
...

Sheet Composições Canteiro
D1: Obra | E1: Bancos | G1: B.D.I. | I1: Encargos Sociais
D2: VPE - 144 - ONERADO | E2: SINAPI - 01/2026 - Pernambuco SICRO3 - 01/2026 - Pernambuco | G2: 0.2123 | I2: Não Desonerado: embutido nos preços unitário dos insumos de mão de obra, de acordo com as bases.
A3: Composições Analíticas com Preço Unitário
A4: Composições CANTEIRO DE OBRAS
A6: 2.2 | B6: Código | C6: Banco | D6: Descrição | E6: Tipo | G6: Und | H6: Quant. | I6: Valor Unit | J6: Total
A7: Composição | B7: CPU 003 | C7: Próprio | D7: PLACA DE OBRA EM CHAPA DE AÇO GALVANIZADO | G7: M² | H7: 1 | I7: =J7 -> 551.48573 | J7: =SUM(J8:J14) -> 551.48573
A8: Composição Auxiliar | B8: 5213421 | C8: SICRO3 | D8: =IFERROR(VLOOKUP(B8,SICRO,2,0),IFERROR(VLOOKUP(B8,SINAPI,2,0),IFERROR(VLOOKUP(B8,MO.SICRO,2,0),IFERROR(VLOOKUP(B8,INS.SICRO,2,0),IFERROR(VLOOKUP(B8,EQ.SICRO,2,0),))))) -> Placa em aço nº 16 galvanizado com película retrorrefletiva tipo I + IV - confecção | G8: =IFERROR(VLOOKUP(B8,SICRO,3,0),IFERROR(VLOOKUP(B8,SINAPI,3,0),IFERROR(VLOOKUP(B8,MO.SICRO,3,0),IFERROR(VLOOKUP(B8,INS.SICRO,3,0),IFERROR(VLOOKUP(B8,EQ.SICRO,3,0),))))) -> m² | H8: 1 | I8: =IFERROR(VLOOKUP(B8,SICRO,4,0),IFERROR(VLOOKUP(B8,SINAPI,4,0),IFERROR(VLOOKUP(B8,MO.SICRO,4,0),IFERROR(VLOOKUP(B8,INS.SICRO,4,0),IFERROR(VLOOKUP(B8,EQ.SICRO,10,0),))))) -> 394.89 | J8: =H8*I8 -> 394.89
A9: Composição Auxiliar | B9: 1106057 | C9: SICRO3 | D9: =IFERROR(VLOOKUP(B9,SICRO,2,0),IFERROR(VLOOKUP(B9,SINAPI,2,0),IFERROR(VLOOKUP(B9,MO.SICRO,2,0),IFERROR(VLOOKUP(B9,INS.SICRO,2,0),IFERROR(VLOOKUP(B9,EQ.SICRO,2,0),))))) -> Concreto magro - confecção em betoneira e lançamento manual - areia e brita comerciais | G9: =IFERROR(VLOOKUP(B9,SICRO,3,0),IFERROR(VLOOKUP(B9,SINAPI,3,0),IFERROR(VLOOKUP(B9,MO.SICRO,3,0),IFERROR(VLOOKUP(B9,INS.SICRO,3,0),IFERROR(VLOOKUP(B9,EQ.SICRO,3,0),))))) -> m³ | H9: 0.01 | I9: =IFERROR(VLOOKUP(B9,SICRO,4,0),IFERROR(VLOOKUP(B9,SINAPI,4,0),IFERROR(VLOOKUP(B9,MO.SICRO,4,0),IFERROR(VLOOKUP(B9,INS.SICRO,4,0),IFERROR(VLOOKUP(B9,EQ.SICRO,10,0),))))) -> 453.59 | J9: =H9*I9 -> 4.5359
A10: Insumo | B10: M0284 | C10: SICRO3 | D10: =IFERROR(VLOOKUP(B10,SICRO,2,0),IFERROR(VLOOKUP(B10,SINAPI,2,0),IFERROR(VLOOKUP(B10,MO.SICRO,2,0),IFERROR(VLOOKUP(B10,INS.SICRO,2,0),IFERROR(VLOOKUP(B10,EQ.SICRO,2,0),))))) -> Caibro de pinho - L = 7,5 cm e E = 7,5 cm | E10: Material | G10: =IFERROR(VLOOKUP(B10,SICRO,3,0),IFERROR(VLOOKUP(B10,SINAPI,3,0),IFERROR(VLOOKUP(B10,MO.SICRO,3,0),IFERROR(VLOOKUP(B10,INS.SICRO,3,0),IFERROR(VLOOKUP(B10,EQ.SICRO,3,0),))))) -> m | H10: 4 | I10: =IFERROR(VLOOKUP(B10,SICRO,4,0),IFERROR(VLOOKUP(B10,SINAPI,4,0),IFERROR(VLOOKUP(B10,MO.SICRO,4,0),IFERROR(VLOOKUP(B10,INS.SICRO,4,0),IFERROR(VLOOKUP(B10,EQ.SICRO,10,0),))))) -> 17.1081 | J10: =H10*I10 -> 68.4324
A11: Insumo | B11: P9824 | C11: SICRO3 | D11: =IFERROR(VLOOKUP(B11,SICRO,2,0),IFERROR(VLOOKUP(B11,SINAPI,2,0),IFERROR(VLOOKUP(B11,MO.SICRO,2,0),IFERROR(VLOOKUP(B11,INS.SICRO,2,0),IFERROR(VLOOKUP(B11,EQ.SICRO,2,0),))))) -> Servente | E11: Mão de Obra | G11: =IFERROR(VLOOKUP(B11,SICRO,3,0),IFERROR(VLOOKUP(B11,SINAPI,3,0),IFERROR(VLOOKUP(B11,MO.SICRO,3,0),IFERROR(VLOOKUP(B11,INS.SICRO,3,0),IFERROR(VLOOKUP(B11,EQ.SICRO,3,0),))))) -> h | H11: 2 | I11: =IFERROR(VLOOKUP(B11,SICRO,4,0),IFERROR(VLOOKUP(B11,SINAPI,4,0),IFERROR(VLOOKUP(B11,MO.SICRO,4,0),IFERROR(VLOOKUP(B11,INS.SICRO,4,0),IFERROR(VLOOKUP(B11,EQ.SICRO,10,0),))))) -> 23.4491 | J11: =H11*I11 -> 46.8982
A12: Insumo | B12: M0310 | C12: SICRO3 | D12: =IFERROR(VLOOKUP(B12,SICRO,2,0),IFERROR(VLOOKUP(B12,SINAPI,2,0),IFERROR(VLOOKUP(B12,MO.SICRO,2,0),IFERROR(VLOOKUP(B12,INS.SICRO,2,0),IFERROR(VLOOKUP(B12,EQ.SICRO,2,0),))))) -> Peça de madeira - L = 7,5 cm e E = 2,5 cm | E12: Material | G12: =IFERROR(VLOOKUP(B12,SICRO,3,0),IFERROR(VLOOKUP(B12,SINAPI,3,0),IFERROR(VLOOKUP(B12,MO.SICRO,3,0),IFERROR(VLOOKUP(B12,INS.SICRO,3,0),IFERROR(VLOOKUP(B12,EQ.SICRO,3,0),))))) -> m | H12: 1 | I12: =IFERROR(VLOOKUP(B12,SICRO,4,0),IFERROR(VLOOKUP(B12,SINAPI,4,0),IFERROR(VLOOKUP(B12,MO.SICRO,4,0),IFERROR(VLOOKUP(B12,INS.SICRO,4,0),IFERROR(VLOOKUP(B12,EQ.SICRO,10,0),))))) -> 6.0352 | J12: =H12*I12 -> 6.0352
A13: Insumo | B13: M1205 | C13: SICRO3 | D13: =IFERROR(VLOOKUP(B13,SICRO,2,0),IFERROR(VLOOKUP(B13,SINAPI,2,0),IFERROR(VLOOKUP(B13,MO.SICRO,2,0),IFERROR(VLOOKUP(B13,INS.SICRO,2,0),IFERROR(VLOOKUP(B13,EQ.SICRO,2,0),))))) -> Prego de ferro | E13: Material | G13: =IFERROR(VLOOKUP(B13,SICRO,3,0),IFERROR(VLOOKUP(B13,SINAPI,3,0),IFERROR(VLOOKUP(B13,MO.SICRO,3,0),IFERROR(VLOOKUP(B13,INS.SICRO,3,0),IFERROR(VLOOKUP(B13,EQ.SICRO,3,0),))))) -> kg | H13: 0.11 | I13: =IFERROR(VLOOKUP(B13,SICRO,4,0),IFERROR(VLOOKUP(B13,SINAPI,4,0),IFERROR(VLOOKUP(B13,MO.SICRO,4,0),IFERROR(VLOOKUP(B13,INS.SICRO,4,0),IFERROR(VLOOKUP(B13,EQ.SICRO,10,0),))))) -> 13.4203 | J13: =H13*I13 -> 1.476233
A14: Insumo | B14: P9808 | C14: SICRO3 | D14: =IFERROR(VLOOKUP(B14,SICRO,2,0),IFERROR(VLOOKUP(B14,SINAPI,2,0),IFERROR(VLOOKUP(B14,MO.SICRO,2,0),IFERROR(VLOOKUP(B14,INS.SICRO,2,0),IFERROR(VLOOKUP(B14,EQ.SICRO,2,0),))))) -> Carpinteiro | E14: Mão de Obra | G14: =IFERROR(VLOOKUP(B14,SICRO,3,0),IFERROR(VLOOKUP(B14,SINAPI,3,0),IFERROR(VLOOKUP(B14,MO.SICRO,3,0),IFERROR(VLOOKUP(B14,INS.SICRO,3,0),IFERROR(VLOOKUP(B14,EQ.SICRO,3,0),))))) -> h | H14: 1 | I14: =IFERROR(VLOOKUP(B14,SICRO,4,0),IFERROR(VLOOKUP(B14,SINAPI,4,0),IFERROR(VLOOKUP(B14,MO.SICRO,4,0),IFERROR(VLOOKUP(B14,INS.SICRO,4,0),IFERROR(VLOOKUP(B14,EQ.SICRO,10,0),))))) -> 29.2178 | J14: =H14*I14 -> 29.2178
E15: MO sem LS => | F15: =J11+J14 -> 76.116 | G15: LS => | H15: 0 | I15: MO com LS => | J15: =J11+J14 -> 76.116
E16: Valor do BDI => | H16: Valor com BDI =>
A19: 2.4 | B19: Código | C19: Banco | D19: Descrição | E19: Tipo | G19: Und | H19: Quant. | I19: Valor Unit | J19: Total
A20: Composição | B20: CPU 004 | C20: Próprio | D20: CANTEIRO ITINERANTE | G20: MÊS | H20: 1 | I20: =J20 -> 2946.6261 | J20: =SUM(J21:J26) -> 2946.6261
A21: Insumo | B21: VPE-144 COT006 | C21: Próprio | D21: BANHEIRO QUÍMICO | E21: Material | G21: UN | H21: 0.00833 | I21: 1983.94 | J21: =H21*I21 -> 16.52622
A22: Insumo | B22: VPE-144 COT005 | C22: Próprio | D22: CONJUNTO DE MESA E CADEIRAS (COTAÇÃO) | E22: Material | G22: UN | H22: 0.00833 | I22: 380.41 | J22: =H22*I22 -> 3.1688153
A23: Insumo | B23: VPE125 COT004 | C23: Próprio | D23: TENDA PLÁSTICA (COTAÇÃO) | E23: Material | G23: UN | H23: 0.02083 | I23: 266.1 | J23: =H23*I23 -> 5.542863
A24: Insumo | B24: P9824 | C24: SICRO3 | D24: =IFERROR(VLOOKUP(B24,SICRO,2,0),IFERROR(VLOOKUP(B24,SINAPI,2,0),IFERROR(VLOOKUP(B24,MO.SICRO,2,0),IFERROR(VLOOKUP(B24,INS.SICRO,2,0),IFERROR(VLOOKUP(B24,EQ.SICRO,2,0),))))) -> Servente | E24: Mão de Obra | G24: =IFERROR(VLOOKUP(B24,SICRO,3,0),IFERROR(VLOOKUP(B24,SINAPI,3,0),IFERROR(VLOOKUP(B24,MO.SICRO,3,0),IFERROR(VLOOKUP(B24,INS.SICRO,3,0),IFERROR(VLOOKUP(B24,EQ.SICRO,3,0),))))) -> h | H24: 6.67 | I24: =IFERROR(VLOOKUP(B24,SICRO,4,0),IFERROR(VLOOKUP(B24,SINAPI,4,0),IFERROR(VLOOKUP(B24,MO.SICRO,4,0),IFERROR(VLOOKUP(B24,INS.SICRO,4,0),IFERROR(VLOOKUP(B24,EQ.SICRO,10,0),))))) -> 23.4491 | J24: =H24*I24 -> 156.4055
A25: Insumo | B25: VPE-1445 COT003 | C25: Próprio | D25: BEBEDOURO DE COLUNA (COTAÇÃO) | E25: Material | G25: UN | H25: 0.008333 | I25: 696.56 | J25: =H25*I25 -> 5.8044345
A26: Insumo | B26: E9199 | C26: SICRO3 | D26: =IFERROR(VLOOKUP(B26,SICRO,2,0),IFERROR(VLOOKUP(B26,SINAPI,2,0),IFERROR(VLOOKUP(B26,MO.SICRO,2,0),IFERROR(VLOOKUP(B26,INS.SICRO,2,0),IFERROR(VLOOKUP(B26,EQ.SICRO,2,0),))))) -> Caminhão com sistema de hidrojateamento de alta pressão e vácuo para limpeza e desobstrução de bueiros com capacidade total de 15.600 l - 188 kW | E26: Equipamento | G26: =IFERROR(VLOOKUP(B26,SICRO,3,0),IFERROR(VLOOKUP(B26,SINAPI,3,0),IFERROR(VLOOKUP(B26,MO.SICRO,3,0),IFERROR(VLOOKUP(B26,INS.SICRO,3,0),IFERROR(VLOOKUP(B26,EQ.SICRO,3,0),))))) -> 0 | H26: 6.67 | I26: =IFERROR(VLOOKUP(B26,SICRO,4,0),IFERROR(VLOOKUP(B26,SINAPI,4,0),IFERROR(VLOOKUP(B26,MO.SICRO,4,0),IFERROR(VLOOKUP(B26,INS.SICRO,4,0),IFERROR(VLOOKUP(B26,EQ.SICRO,10,0),))))) -> 413.6699 | J26: =H26*I26 -> 2759.1782
E27: MO sem LS => | F27: =J24 -> 156.4055 | G27: LS => | H27: 0 | I27: MO com LS => | J27: =J24 -> 156.4055
E28: Valor do BDI => | H28: Valor com BDI =>

Sheet Canteiro de Obras
A1: DIMENSIONAMENTO DO CANTEIRO DE OBRAS
A3: 1) CANTEIRO PRINCIPAL
A5: Planejamento das unidades do canteiro em containers
A6: Instalação | B6: Áreas de referência
A7: Escritório e seção técnica | B7: 14.86
A8: Alojamentos | B8: Não Considerado
A9: Residências | B9: Não Considerado
A10: Refeitório e cozinha | B10: Não Considerado
A11: Banheiros e vestiário | B11: 14.79
A12: Guarita | B12: 7.44
A13: Ambulatório | B13: Não Considerado
A14: Almoxarifado | B14: 29.74
