Workbook
Name \0: #REF!
Name \1: [1]PLANILHA!#REF!
Name \11: [2]PLANILHA!#REF!
Name \2: #REF!
Name \a: [3]COMPOS1!#REF!
Name \b: [4]SID_NI_5!#REF!
Name \c: [4]SID_NI_5!#REF!
Name \D: #REF!
Name \E: #REF!
Name \F: #REF!
Name \fagf: #REF!
Name \I: #REF!
Name \p: [4]SID_NI_5!#REF!
Name \R: #REF!
Name \S: #REF!
Name \SA: #REF!
Name \w: [5]PLANILHA!#REF!
Name \x: #REF!
Name \z: [6]MARSHALL!$M$3
Name \ZACVDERVREW: #N/A
Name _\: #REF!
Name _\1: #REF!
Name _\11: #REF!
Name _\a: #REF!
Name _\b: #REF!
Name _\c: #REF!
Name _\F: #REF!
Name _\fagf: #REF!
Name _\I: #REF!
Name _\p: #REF!
Name _\R: #REF!
Name _\S: #REF!
Name _\w: #REF!
Name _\z: #REF!
Name _\ZACVDERVREW: #N/A
Name __\1: #REF!
Name __\11: #REF!
Name __\a: #REF!
Name __\b: #REF!
Name __\c: #REF!
Name __\F: #REF!
Name __\fagf: #REF!
Name __\fagf: #REF!
Name __\I: #REF!
Name __\I: #REF!
Name __\p: #REF!
Name __\R: #REF!
Name __\S: #REF!
Name __\S: #REF!
Name __\w: #REF!
Name __\z: #REF!
Name __\ZACVDERVREW: #N/A
Name ___\1: #REF!
Name ___\11: #REF!
Name ___\a: #REF!
Name ___\b: #REF!
Name ___\c: #REF!
Name ___\F: #REF!
Name ___\fagf: #REF!
Name ___\I: #REF!

Sheet BINÔMIO 
A1: GOVERNO DO ESTADO DE PERNAMBUCO DEPARTAMENTO DE ESTRADAS DE RODAGEM
A2: OBJETO: | B2: EXECUÇÃO DAS OBRAS DE RESTAURAÇÃO DA RODOVIA PE-460
A3: RODOVIA : | B3: PE - 460
A4: TRECHO: | B4: ACESSO AO PORTO DA BARRA DE TARRACHIL
A5: EXTENSÃO: | B5: 4,86KM
A6: MAPA DE COTAÇÕES COM ESTUDO DE BINÔMIO
A7: FORNECEDOR | B7: DESCRIÇÃO | C7: DATA COTAÇÃO | D7: PREÇO COTADO (M³) | E7: PREÇO COTADO (T) | F7: FRETE | G7: ÍNDICE ADOTADO | H7: DATA BASE ORÇAMENTO | I7: ÍNDICE DE REAJUSTAMENTO | K7: FATOR DE REGRESSÃO | L7: PREÇO EM JULH-25 (R$/m³.) | M7: PREÇO EM JULH-25 (R$/T.) | N7: DENSIDADE | O7: DIST. FIXA ESTIMADA (KM) | R7: TRANSPORTE | S7: PREÇO UNITÁRIO DO TRANSPORTE | W7: VALOR DO TRANSPORTE | X7: BINÔMIO (AQUISIÇÃO + TRANSPORTE)
I8: ÍNDICE COTAÇÃO | J8: ÍNDICE DATA BASE | O8: P | P8: RP | Q8: LN | R8: DESCRIÇÃO | S8: P (5914389) | T8: RP (5914374) | U8: LN (5914359) | V8: UND | W8: TOTAL | X8: VALOR TOTAL | Y8: UND
A9: BRITA 0 (M0005) | B9: BRITA FORT | C9: 45877 | D9: 115 | E9: _ | F9: FOB | G9: PAVIMENTAÇÃO | H9: 45839 | I9: 589.643 | J9: 587.477 | K9: =J9/I9 -> 0.99632659 | L9: =ROUND(D9*K9,2) -> 114.58 | M9: =ROUND(L9/N9,2) -> 76.39 | N9: 1.5 | O9: ='ROTA PEDREIRA'!G76 -> 198 | P9: 0 | Q9: ='ROTA PEDREIRA'!G77 -> 2.83 | R9: CAMINHÃO BASCULANTE 10m³ | S9: 0.82 | T9: 0.99 | U9: 1.24 | V9: R$/T.km | W9: =N9*(O9*S9+P9*T9+Q9*U9) -> 248.8038 | X9: =L9+W9 -> 363.3838 | Y9: R$/m³. | AA9: =X9 -> 363.3838
B10: SN BARBOSA (PEDREIRA BARBOSA) | C10: 45863 | D10: 143 | E10: _ | F10: FOB | G10: PAVIMENTAÇÃO | H10: 45839 | I10: 587.477 | J10: 587.477 | K10: =J10/I10 -> 1 | L10: =ROUND(D10*K10,2) -> 143 | M10: =ROUND(L10/N10,2) -> 95.33 | N10: 1.5 | O10: ='ROTA PEDREIRA'!G136 -> 82.8 | P10: 0 | Q10: ='ROTA PEDREIRA'!G137 -> 2.52 | R10: CAMINHÃO BASCULANTE 10m³ | S10: 0.82 | T10: 0.99 | U10: 1.24 | V10: R$/T.km | W10: =N10*(O10*S10+P10*T10+Q10*U10) -> 106.5312 | X10: =L10+W10 -> 249.5312 | Y10: R$/m³. | AA10: =X10 -> 249.5312
B11: PAVIKAR MINERAÇÃO | C11: 45964 | D11: =E11*N11 -> 190.5 | E11: 127 | F11: FOB | G11: PAVIMENTAÇÃO | H11: 45839 | I11: 590.239 | J11: 587.477 | K11: =J11/I11 -> 0.99532054 | L11: =ROUND(D11*K11,2) -> 189.61 | M11: =ROUND(L11/N11,2) -> 126.41 | N11: 1.5 | O11: ='ROTA PEDREIRA'!G196 -> 168 | P11: 0 | Q11: ='ROTA PEDREIRA'!G197 -> 2.52 | R11: CAMINHÃO BASCULANTE 10m³ | S11: 0.82 | T11: 0.99 | U11: 1.24 | V11: R$/T.km | W11: =N11*(O11*S11+P11*T11+Q11*U11) -> 211.3272 | X11: =L11+W11 -> 400.9372 | Y11: R$/m³. | AA11: =X11 -> 400.9372
B12: PREMOCIL | C12: 45868 | D12: 120 | E12: _ | F12: FOB | G12: PAVIMENTAÇÃO | H12: 45839 | I12: 587.477 | J12: 587.477 | K12: =J12/I12 -> 1 | L12: =ROUND(D12*K12,2) -> 120 | M12: =ROUND(L12/N12,2) -> 80 | N12: 1.5 | O12: ='ROTA PEDREIRA'!G256 -> 140 | P12: 0 | Q12: ='ROTA PEDREIRA'!G257 -> 2.52 | R12: CAMINHÃO BASCULANTE 10m³ | S12: 0.82 | T12: 0.99 | U12: 1.24 | V12: R$/T.km | W12: =N12*(O12*S12+P12*T12+Q12*U12) -> 176.8872 | X12: =L12+W12 -> 296.8872 | Y12: R$/m³. | AA12: =X12 -> 296.8872
A13: BRITA 1 (M0191) | B13: BRITA FORT | C13: 45877 | D13: 110 | E13: _ | F13: FOB | G13: PAVIMENTAÇÃO | H13: 45839 | I13: 589.643 | J13: 587.477 | K13: =J13/I13 -> 0.99632659 | L13: =ROUND(D13*K13,2) -> 109.6 | M13: =ROUND(L13/N13,2) -> 73.07 | N13: 1.5 | O13: =O9 -> 198 | P13: 0 | Q13: =Q9 -> 2.83 | R13: CAMINHÃO BASCULANTE 10m³ | S13: 0.82 | T13: 0.99 | U13: 1.24 | V13: R$/T.km | W13: =N13*(O13*S13+P13*T13+Q13*U13) -> 248.8038 | X13: =L13+W13 -> 358.4038 | Y13: R$/m³. | AA13: =X13 -> 358.4038
B14: SN BARBOSA (PEDREIRA BARBOSA) | C14: 45863 | D14: 132 | E14: _ | F14: FOB | G14: PAVIMENTAÇÃO | H14: 45839 | I14: 587.477 | J14: 587.477 | K14: =J14/I14 -> 1 | L14: =ROUND(D14*K14,2) -> 132 | M14: =ROUND(L14/N14,2) -> 88 | N14: 1.5 | O14: =O10 -> 82.8 | P14: =P10 -> 0 | Q14: =Q10 -> 2.52 | R14: CAMINHÃO BASCULANTE 10m³ | S14: 0.82 | T14: 0.99 | U14: 1.24 | V14: R$/T.km | W14: =N14*(O14*S14+P14*T14+Q14*U14) -> 106.5312 | X14: =L14+W14 -> 238.5312 | Y14: R$/m³. | AA14: =X14 -> 238.5312
B15: PAVIKAR MINERAÇÃO | C15: 45964 | D15: =E15*N15 -> 175.5 | E15: 117 | F15: FOB | G15: PAVIMENTAÇÃO | H15: 45839 | I15: 590.239 | J15: 587.477 | K15: =J15/I15 -> 0.99532054 | L15: =ROUND(D15*K15,2) -> 174.68 | M15: =ROUND(L15/N15,2) -> 116.45 | N15: 1.5 | O15: =O11 -> 168 | P15: =P11 -> 0 | Q15: =Q11 -> 2.52 | R15: CAMINHÃO BASCULANTE 10m³ | S15: 0.82 | T15: 0.99 | U15: 1.24 | V15: R$/T.km | W15: =N15*(O15*S15+P15*T15+Q15*U15) -> 211.3272 | X15: =L15+W15 -> 386.0072 | Y15: R$/m³. | AA15: =X15 -> 386.0072
B16: PREMOCIL | C16: 45868 | D16: 120 | E16: _ | F16: FOB | G16: PAVIMENTAÇÃO | H16: 45839 | I16: 587.477 | J16: 587.477 | K16: =J16/I16 -> 1 | L16: =ROUND(D16*K16,2) -> 120 | M16: =ROUND(L16/N16,2) -> 80 | N16: 1.5 | O16: =O12 -> 140 | P16: 0 | Q16: =Q12 -> 2.52 | R16: CAMINHÃO BASCULANTE 10m³ | S16: 0.82 | T16: 0.99 | U16: 1.24 | V16: R$/T.km | W16: =N16*(O16*S16+P16*T16+Q16*U16) -> 176.8872 | X16: =L16+W16 -> 296.8872 | Y16: R$/m³. | AA16: =X16 -> 296.8872
A17: BRITA 2 (M0192) | B17: BRITA FORT | C17: 45877 | D17: 110 | E17: _ | F17: FOB | G17: DRENAGEM | H17: 45839 | I17: 487.228 | J17: 484.688 | K17: =J17/I17 -> 0.99478683 | L17: =ROUND(D17*K17,2) -> 109.43 | M17: =ROUND(L17/N17,2) -> 72.95 | N17: 1.5 | O17: ='ROTA PEDREIRA'!G56 -> 198 | P17: 0 | Q17: ='ROTA PEDREIRA'!G57 -> 2.7415 | R17: CAMINHÃO BASCULANTE 10m³ | S17: 0.82 | T17: 0.99 | U17: 1.24 | V17: R$/T.km | W17: =N17*(O17*S17+P17*T17+Q17*U17) -> 248.63919 | X17: =L17+W17 -> 358.06919 | Y17: R$/m³. | AA17: =X17 -> 358.06919
B18: SN BARBOSA (PEDREIRA BARBOSA) | C18: 45863 | D18: 132 | E18: _ | F18: FOB | G18: DRENAGEM | H18: 45839 | I18: 484.688 | J18: 484.688 | K18: =J18/I18 -> 1 | L18: =ROUND(D18*K18,2) -> 132 | M18: =ROUND(L18/N18,2) -> 88 | N18: 1.5 | O18: =O14 -> 82.8 | P18: =P14 -> 0 | Q18: ='ROTA PEDREIRA'!G118 -> 2.4315 | R18: CAMINHÃO BASCULANTE 10m³ | S18: 0.82 | T18: 0.99 | U18: 1.24 | V18: R$/T.km | W18: =N18*(O18*S18+P18*T18+Q18*U18) -> 106.36659 | X18: =L18+W18 -> 238.36659 | Y18: R$/m³. | AA18: =X18 -> 238.36659
B19: PAVIKAR MINERAÇÃO | C19: 45964 | D19: =E19*N19 -> 163.5 | E19: 109 | F19: FOB | G19: DRENAGEM | H19: 45839 | I19: 491.278 | J19: 484.688 | K19: =J19/I19 -> 0.98658601 | L19: =ROUND(D19*K19,2) -> 161.31 | M19: =ROUND(L19/N19,2) -> 107.54 | N19: 1.5 | O19: =O15 -> 168 | P19: =P15 -> 0 | Q19: =Q18 -> 2.4315 | R19: CAMINHÃO BASCULANTE 10m³ | S19: 0.82 | T19: 0.99 | U19: 1.24 | V19: R$/T.km | W19: =N19*(O19*S19+P19*T19+Q19*U19) -> 211.16259 | X19: =L19+W19 -> 372.47259 | Y19: R$/m³. | AA19: =X19 -> 372.47259
B20: PREMOCIL | C20: 45868 | D20: 120 | E20: _ | F20: FOB | G20: DRENAGEM | H20: 45839 | I20: 484.688 | J20: 484.688 | K20: =J20/I20 -> 1 | L20: =ROUND(D20*K20,2) -> 120 | M20: =ROUND(L20/N20,2) -> 80 | N20: 1.5 | O20: =O16 -> 140 | P20: 0 | Q20: =Q19 -> 2.4315 | R20: CAMINHÃO BASCULANTE 10m³ | S20: 0.82 | T20: 0.99 | U20: 1.24 | V20: R$/T.km | W20: =N20*(O20*S20+P20*T20+Q20*U20) -> 176.72259 | X20: =L20+W20 -> 296.72259 | Y20: R$/m³. | AA20: =X20 -> 296.72259
A21: PEDRA DE MÃO (M1097) | B21: BRITA FORT | C21: 45877 | D21: 90 | E21: _ | F21: FOB | G21: DRENAGEM | H21: 45839 | I21: 487.228 | J21: 484.688 | K21: =J21/I21 -> 0.99478683 | L21: =ROUND(D21*K21,2) -> 89.53 | M21: =ROUND(L21/N21,2) -> 59.69 | N21: 1.5 | O21: =O17 -> 198 | P21: =P17 -> 0 | Q21: =Q17 -> 2.7415 | R21: CAMINHÃO BASCULANTE 10m³ | S21: 0.82 | T21: 0.99 | U21: 1.24 | V21: R$/T.km | W21: =N21*(O21*S21+P21*T21+Q21*U21) -> 248.63919 | X21: =L21+W21 -> 338.16919 | Y21: R$/m³. | AA21: =X21 -> 338.16919
B22: SN BARBOSA (PEDREIRA BARBOSA) | C22: 45863 | D22: 121 | E22: _ | F22: FOB | G22: DRENAGEM | H22: 45839 | I22: 484.688 | J22: 484.688 | K22: =J22/I22 -> 1 | L22: =ROUND(D22*K22,2) -> 121 | M22: =ROUND(L22/N22,2) -> 80.67 | N22: 1.5 | O22: =O18 -> 82.8 | P22: =P18 -> 0 | Q22: =Q18 -> 2.4315 | R22: CAMINHÃO BASCULANTE 10m³ | S22: 0.82 | T22: 0.99 | U22: 1.24 | V22: R$/T.km | W22: =N22*(O22*S22+P22*T22+Q22*U22) -> 106.36659 | X22: =L22+W22 -> 227.36659 | Y22: R$/m³. | AA22: =X22 -> 227.36659
B23: PAVIKAR MINERAÇÃO | C23: 45964 | D23: =E23*N23 -> 163.5 | E23: 109 | F23: FOB | G23: DRENAGEM | H23: 45839 | I23: 491.278 | J23: 484.688 | K23: =J23/I23 -> 0.98658601 | L23: =ROUND(D23*K23,2) -> 161.31 | M23: =ROUND(L23/N23,2) -> 107.54 | N23: 1.5 | O23: =O19 -> 168 | P23: =P19 -> 0 | Q23: =Q19 -> 2.4315 | R23: CAMINHÃO BASCULANTE 10m³ | S23: 0.82 | T23: 0.99 | U23: 1.24 | V23: R$/T.km | W23: =N23*(O23*S23+P23*T23+Q23*U23) -> 211.16259 | X23: =L23+W23 -> 372.47259 | Y23: R$/m³. | AA23: =X23 -> 372.47259
B24: PREMOCIL | C24: 45868 | D24: 90 | E24: _ | F24: FOB | G24: DRENAGEM | H24: 45839 | I24: 484.688 | J24: 484.688 | K24: =J24/I24 -> 1 | L24: =ROUND(D24*K24,2) -> 90 | M24: =ROUND(L24/N24,2) -> 60 | N24: 1.5 | O24: =O20 -> 140 | P24: 0 | Q24: =Q20 -> 2.4315 | R24: CAMINHÃO BASCULANTE 10m³ | S24: 0.82 | T24: 0.99 | U24: 1.24 | V24: R$/T.km | W24: =N24*(O24*S24+P24*T24+Q24*U24) -> 176.72259 | X24: =L24+W24 -> 266.72259 | Y24: R$/m³. | AA24: =X24 -> 266.72259
A25: PÓ DE PEDRA (M1135) | B25: BRITA FORT | C25: 45877 | D25: 50 | E25: _ | F25: FOB | G25: PAVIMENTAÇÃO | H25: 45839 | I25: 589.643 | J25: 587.477 | K25: =J25/I25 -> 0.99632659 | L25: =ROUND(D25*K25,2) -> 49.82 | M25: =ROUND(L25/N25,2) -> 33.21 | N25: 1.5 | O25: =O21 -> 198 | P25: =P21 -> 0 | Q25: =Q9 -> 2.83 | R25: CAMINHÃO BASCULANTE 10m³ | S25: 0.82 | T25: 0.99 | U25: 1.24 | V25: R$/T.km | W25: =N25*(O25*S25+P25*T25+Q25*U25) -> 248.8038 | X25: =L25+W25 -> 298.6238 | Y25: R$/m³. | AA25: =X25 -> 298.6238
B26: PAVIKAR MINERAÇÃO | C26: 45964 | D26: =E26*N26 -> 138 | E26: 92 | F26: FOB | G26: PAVIMENTAÇÃO | H26: 45839 | I26: 590.239 | J26: 587.477 | K26: =J26/I26 -> 0.99532054 | L26: =ROUND(D26*K26,2) -> 137.35 | M26: =ROUND(L26/N26,2) -> 91.57 | N26: 1.5 | O26: =O23 -> 168 | P26: =P23 -> 0 | Q26: =Q11 -> 2.52 | R26: CAMINHÃO BASCULANTE 10m³ | S26: 0.82 | T26: 0.99 | U26: 1.24 | V26: R$/T.km | W26: =N26*(O26*S26+P26*T26+Q26*U26) -> 211.3272 | X26: =L26+W26 -> 348.6772 | Y26: R$/m³. | AA26: =X26 -> 348.6772
B27: PREMOCIL | C27: 45868 | D27: 110 | E27: _ | F27: FOB | G27: PAVIMENTAÇÃO | H27: 45839 | I27: 587.477 | J27: 587.477 | K27: =J27/I27 -> 1 | L27: =ROUND(D27*K27,2) -> 110 | M27: =ROUND(L27/N27,2) -> 73.33 | N27: 1.5 | O27: =O24 -> 140 | P27: 0 | Q27: =Q26 -> 2.52 | R27: CAMINHÃO BASCULANTE 10m³ | S27: 0.82 | T27: 0.99 | U27: 1.24 | V27: R$/T.km | W27: =N27*(O27*S27+P27*T27+Q27*U27) -> 176.8872 | X27: =L27+W27 -> 286.8872 | Y27: R$/m³. | AA27: =X27 -> 286.8872
A28: FORNECEDOR | B28: DESCRIÇÃO | C28: DATA COTAÇÃO | D28: PREÇO COTADO (M³) | E28: PREÇO COTADO (T) | F28: FRETE | G28: ÍNDICE ADOTADO | H28: DATA BASE ORÇAMENTO | I28: ÍNDICE DE REAJUSTAMENTO | K28: FATOR DE REGRESSÃO | L28: PREÇO EM JULH-25 (R$/m³.) | M28: PREÇO EM JULH-25 (R$/T.) | N28: DENSIDADE | O28: DIST. FIXA ESTIMADA (KM) | R28: TRANSPORTE | S28: PREÇO UNITÁRIO DO TRANSPORTE | W28: VALOR DO TRANSPORTE | X28: BINÔMIO (AQUISIÇÃO + TRANSPORTE)
I29: ÍNDICE COTAÇÃO | J29: ÍNDICE DATA BASE | O29: P | P29: RP | Q29: LN | R29: DESCRIÇÃO | S29: P (5914389) | T29: RP (5914374) | U29: LN (5914359) | V29: UND | W29: TOTAL | X29: VALOR TOTAL | Y29: UND
A30: MASSA ASFÁLTICA | B30: ROTAÇÃO EMPREENDIMENTOS | C30: 45824 | E30: 499.07 | F30: FOB | G30: PAVIMENTAÇÃO | H30: 45839 | I30: 586.211 | J30: 579.756 | K30: =J30/I30 -> 0.98898861 | M30: =ROUND(K30*E30,2) -> 493.57 | O30: ='ROTA MASSA'!G40 -> 137 | P30: 0 | Q30: ='ROTA MASSA'!G38 -> 2.4315 | R30: CAMINHÃO BASCULANTE 10m³ | S30: 0.82 | T30: 0.99 | U30: 1.24 | V30: R$/T.km | W30: =(O30*S30+P30*T30+Q30*U30) -> 115.35506 | X30: =M30+W30 -> 608.92506 | Y30: R$/T. | AA30: =SMALL(X30:X32,1) -> 608.92506
B31: CONSTRUTORA GONÇALO | C31: 45972 | E31: 870 | F31: FOB | G31: PAVIMENTAÇÃO | H31: 45839 | I31: 590.239 | J31: 579.756 | K31: =J31/I31 -> 0.9822394 | M31: =ROUND(K31*E31,2) -> 854.55 | O31: ='ROTA MASSA'!G79 -> 138 | P31: 0 | Q31: ='ROTA MASSA'!G80 -> 2.4315 | R31: CAMINHÃO BASCULANTE 10m³ | S31: 0.82 | T31: 0.99 | U31: 1.24 | V31: R$/T.km | W31: =(O31*S31+P31*T31+Q31*U31) -> 116.17506 | X31: =M31+W31 -> 970.72506 | Y31: R$/T. | AA31: =AA30 -> 608.92506
B32: PLANNA | C32: 45785 | E32: 950 | F32: FOB | G32: PAVIMENTAÇÃO | H32: 45839 | I32: 587.552 | J32: 579.756 | K32: =J32/I32 -> 0.98673139 | M32: =ROUND(K32*E32,2) -> 937.39 | O32: ='ROTA MASSA'!G120 -> 214 | P32: 0 | Q32: ='ROTA MASSA'!G121 -> 2.4315 | R32: CAMINHÃO BASCULANTE 10m³ | S32: 0.82 | T32: 0.99 | U32: 1.24 | V32: R$/T.km | W32: =(O32*S32+P32*T32+Q32*U32) -> 178.49506 | X32: =M32+W32 -> 1115.8851 | Y32: R$/T. | AA32: =AA31 -> 608.92506
A34: OBS: Devido a indisponibilidade dos indíces de reajustamento de novembro de 2025, foram adotados os indíces de reajustamento de Outubro de 2025.
A35: OBS 2: Não foi realizado estudo de viabilidade para produção própria de massa asfáltica, uma vez que, considerando a extensão reduzida (4,86 km), torna-se inviável a implantação de uma usina de asfalto dedicada. Dessa forma, optou-se pela utilização de massa asfáltica comercial, solução mais adequada e economicamente justificável para as condições deste trecho rodoviário.

Sheet ROTA PEDREIRA
A1: CÁLCULO DE DMT (PEDREIRA-OBRA):
A3: BRITA FORT
O37: =2.45+2.43 -> 4.88
E45: 198
E46: 0.31
H47: =(((121-0)*20)+(11.5))/1000 -> 2.4315 | J47: =((243-121)*20+(3-11.5))/1000 -> 2.4315 | P47: ESTACA | R47: KM
B48: =A3 -> BRITA FORT | O48: INICIAL | P48: 0 | Q48: 0 | R48: =(P48*20)+Q48 -> 0
O49: FINAL | P49: 243 | Q49: 3 | R49: =(P49*20)+Q49 -> 4863
F50: =CONCATENATE("E",P48,"+",TEXT(Q48,"0,00")) -> E0+0,00 | J50: =CONCATENATE("E",P50,"+",TEXT(Q50,"0,00")) -> E121+11,50 | L50: E243+3,00 | O50: MEIO | P50: 121 | Q50: 11.5 | R50: =ROUND((R49-R48)/2,2) -> 2431.5
O51: CANTEIRO | P51: 121 | Q51: 0 | R51: =(P51*20)+Q51 -> 2420
C52: DMT (BRITAFORT - ESTACA 0 - PAV)= | G52: =E45 -> 198 | H52: km | O52: Dist. Até a pista | P52: =ROUND((R50-R48)/1000,2) -> 2.43
C53: DMT (BRITAFORT - ESTACA 0 - LN)= | G53: =E46+E48 -> 0.31 | H53: km
C54: DMT(E+0,00 - E121+11,50 - LN) | G54: =H47 -> 2.4315 | H54: km
C55: =CONCATENATE("DMT (",B48," - PISTA)") -> DMT (BRITA FORT - PISTA) | G55: =SUM(G52:G54) -> 200.7415 | H55: km
F56: PAV= | G56: =G52 -> 198 | H56: km
F57: LN= | G57: =G55-G56 -> 2.7415 | H57: km
I60: CANTEIRO
J62: 0.1
J63: 0
E64: =E45 -> 198
E65: =E46 -> 0.31
H66: =((121)*20)/1000 -> 2.42 | J66: =(((243-121)*20)+(3))/1000 -> 2.443 | P66: ESTACA | R66: KM
B67: BRITA FORT | O67: INICIAL | P67: 0 | Q67: 0 | R67: =(P67*20)+Q67 -> 0
O68: FINAL | P68: 243 | Q68: 3 | R68: =(P68*20)+Q68 -> 4863
F69: =CONCATENATE("E",P67,"+",TEXT(Q67,"0,00")) -> E0+0,00 | J69: E121+0,00 | L69: E243+3,00 | O69: MEIO | P69: 121 | Q69: 11.5 | R69: =ROUND((R68-R67)/2,2) -> 2431.5
O70: CANTEIRO | P70: 121 | Q70: 0 | R70: =(P70*20)+Q70 -> 2420
C71: DMT (BRITAFORT - ESTACA 0 - PAV)= | G71: =E64 -> 198 | H71: km | O71: Dist. Até a pista | P71: =ROUND((R69-R67)/1000,2) -> 2.43
C72: DMT (BRITAFORT - ESTACA 0 - LN)= | G72: =E65+E67 -> 0.31 | H72: km
C73: DMT(E+0,00 - E121 - LN) | G73: =H66 -> 2.42 | H73: km
C74: DMT(E121+0,00 - CANTEIRO - LN)= | G74: =J62 -> 0.1 | H74: km
C75: DMT(BRITAFORT - CANTEIRO)= | G75: =SUM(G71:G74) -> 200.83 | H75: km
F76: PAV= | G76: =G71 -> 198 | H76: km
F77: LN= | G77: =G75-G76 -> 2.83 | H77: km
A78: PEDREIRA BARBOSA
E107: 82.8
E108: 0
H109: =((121-0)*20+(11.5))/1000 -> 2.4315 | J109: =((243-121)*20+(3-11.5))/1000 -> 2.4315 | P109: ESTACA | R109: KM
B110: =A78 -> PEDREIRA BARBOSA | O110: INICIAL | P110: 0 | Q110: 0 | R110: =(P110*20)+Q110 -> 0
O111: FINAL | P111: 243 | Q111: 3 | R111: =(P111*20)+Q111 -> 4863
F112: =CONCATENATE("E",P110,"+",TEXT(Q110,"0,00")) -> E0+0,00 | J112: =CONCATENATE("E",P112,"+",TEXT(Q112,"0,00")) -> E121+11,50 | L112: E243+3,00 | O112: MEIO | P112: 121 | Q112: 11.5 | R112: =ROUND((R111-R110)/2,2) -> 2431.5
...

Sheet ROTA MASSA
A1: CÁLCULO DE DMT (MASSA ASFÁLTICA-PISTA):
A3: ROTAÇÃO EMPREENDIMENTOS
P8: 983789496
E30: 137
E31: 0
H32: =((121-0)*20+(11.5))/1000 -> 2.4315 | J32: =((243-121)*20+(3-11.5))/1000 -> 2.4315 | P32: ESTACA | R32: KM
B33: =A3 -> ROTAÇÃO EMPREENDIMENTOS | O33: INICIAL | P33: 0 | Q33: 0 | R33: =(P33*20)+Q33 -> 0
O34: FINAL | P34: 243 | Q34: 3 | R34: =(P34*20)+Q34 -> 4863
F35: =CONCATENATE("E",P33,"+",TEXT(Q33,"0,00")) -> E0+0,00 | J35: =CONCATENATE("E",P35,"+",TEXT(Q35,"0,00")) -> E121+11,50 | L35: E243+3,00 | O35: MEIO | P35: 121 | Q35: 11.5 | R35: =ROUND((R34-R33)/2,2) -> 2431.5
O36: CANTEIRO | P36: 121 | Q36: 0 | R36: =(P36*20)+Q36 -> 2420
C37: DMT (ROTAÇÃO- ESTACA 0 - PAV)= | G37: =E30 -> 137 | H37: km | O37: Dist. Até a pista | P37: =ROUND((R35-R33)/1000,2) -> 2.43
C38: DMT(E+0,00 - E121+11,50 - LN) | G38: =H32 -> 2.4315 | H38: km
C39: =CONCATENATE("DMT (",B33," - PISTA)") -> DMT (ROTAÇÃO EMPREENDIMENTOS - PISTA) | G39: =SUM(G37:G38) -> 139.4315 | H39: km
F40: PAV= | G40: =G37 -> 137 | H40: km
F41: LN= | G41: =G39-G40 -> 2.4315 | H41: km
A43: CONST. GONÇALO
P48: 983789496
E69: 138
E70: 0
H71: =((121-0)*20+(11.5))/1000 -> 2.4315 | J71: =((243-121)*20+(3-11.5))/1000 -> 2.4315 | P71: ESTACA | R71: KM
B72: =A43 -> CONST. GONÇALO | O72: INICIAL | P72: 0 | Q72: 0 | R72: =(P72*20)+Q72 -> 0
O73: FINAL | P73: 243 | Q73: 3 | R73: =(P73*20)+Q73 -> 4863
F74: =CONCATENATE("E",P72,"+",TEXT(Q72,"0,00")) -> E0+0,00 | J74: =CONCATENATE("E",P74,"+",TEXT(Q74,"0,00")) -> E121+11,50 | L74: E243+3,00 | O74: MEIO | P74: 121 | Q74: 11.5 | R74: =ROUND((R73-R72)/2,2) -> 2431.5
O75: CANTEIRO | P75: 121 | Q75: 0 | R75: =(P75*20)+Q75 -> 2420
C76: DMT (CONST. GONÇALO - ESTACA 0 - PAV)= | G76: =E69 -> 138 | H76: km | O76: Dist. Até a pista | P76: =ROUND((R74-R72)/1000,2) -> 2.43
C77: DMT(E+0,00 - E121+11,50 - LN) | G77: =H71 -> 2.4315 | H77: km
C78: =CONCATENATE("DMT (",B72," - PISTA)") -> DMT (CONST. GONÇALO - PISTA) | G78: =SUM(G76:G77) -> 140.4315 | H78: km
F79: PAV= | G79: =G76 -> 138 | H79: km
F80: LN= | G80: =G78-G79 -> 2.4315 | H80: km
A82: CÁLCULO DE DMT (MASSA ASFÁLTICA-PISTA):
A84: PLANNA ASFALTO
P89: 983789496
E110: 214
E111: 0
H112: =((121-0)*20+(11.5))/1000 -> 2.4315 | J112: =((243-121)*20+(3-11.5))/1000 -> 2.4315 | P112: ESTACA | R112: KM
B113: =A84 -> PLANNA ASFALTO | O113: INICIAL | P113: 0 | Q113: 0 | R113: =(P113*20)+Q113 -> 0
O114: FINAL | P114: 243 | Q114: 3 | R114: =(P114*20)+Q114 -> 4863
F115: =CONCATENATE("E",P113,"+",TEXT(Q113,"0,00")) -> E0+0,00 | J115: =CONCATENATE("E",P115,"+",TEXT(Q115,"0,00")) -> E121+11,50 | L115: E243+3,00 | O115: MEIO | P115: 121 | Q115: 11.5 | R115: =ROUND((R114-R113)/2,2) -> 2431.5
O116: CANTEIRO | P116: 121 | Q116: 0 | R116: =(P116*20)+Q116 -> 2420
C117: DMT (PLANNA - ESTACA 0 - PAV)= | G117: =E110 -> 214 | H117: km | O117: Dist. Até a pista | P117: =ROUND((R115-R113)/1000,2) -> 2.43
...

Sheet RESUMO_ONE
B1: DEPARTAMENTO DE ESTRADAS DE RODAGEM DE PERNAMBUCO DIRETORIA DE PLANEJAMENTO E PROJETOS RESUMO DO ORÇAMENTO SINTÉTICO
B4: Setor: DIRETORIA DE PLANEJAMENTO E PROJETOS
A6: =ORÇAMENTO_ONE!A6 -> Serviço: RESTAURAÇÃO DA RODOVIA PE-460 | I6: =ORÇAMENTO_ONE!I6 -> Ano: 2025
A7: =ORÇAMENTO_ONE!A7 -> Orçamento: EXECUÇÃO DE OBRAS E SERVIÇOS DE ENGENHARIA PARA RESTAURAÇÃO DA PE-460, NO MUNICÍPIO DE BELÉM DE SÃO FRANCISCO - PE (SEM DESONERAÇÂO) | I7: =ORÇAMENTO_ONE!I7 -> Rodovia: PE-460
A8: =ORÇAMENTO_ONE!A8 -> SEGMENTO: ACESSO AO PORTO DA BARRA DE TARRACHIL | I8: =ORÇAMENTO_ONE!I8 -> Extensão: 4,86 km
A9: =ORÇAMENTO_ONE!A9 -> BDI: 23,78% (Geral) e 17,42% (Diferenciado) | F9: =ORÇAMENTO_ONE!F9 -> Data Base: JULHO/2025 | I9: =ORÇAMENTO_ONE!I9 -> Preço Total: | J9: =SUM(J24) -> 13493762
A12: RESUMO DO ORÇAMENTO - ONERADO
A13: Referência | B13: Descrição | I13: % | J13: Preço (R$)
A14: 001 | B14: ADMINISTRAÇÃO DE OBRA | I14: =J14/$J$24 -> 0.053881491 | J14: =VLOOKUP(B14,ORÇAMENTO_ONE!$E:$K,7,FALSE) -> 727064.04 | L14: 1
A15: 002 | B15: CANTEIRO DE OBRA | C15: CANTEIRO DE OBRA | D15: CANTEIRO DE OBRA | E15: CANTEIRO DE OBRA | I15: =J15/$J$24 -> 0.006355561 | J15: =VLOOKUP(B15,ORÇAMENTO_ONE!$E:$K,7,FALSE) -> 85760.43 | L15: 2
A16: 003 | B16: MOBILIZAÇÃO E DESMOBILIZAÇÃO DE OBRA | C16: MOBILIZAÇÃO E DESMOBILIZAÇÃO | D16: MOBILIZAÇÃO E DESMOBILIZAÇÃO | E16: MOBILIZAÇÃO E DESMOBILIZAÇÃO | I16: =J16/$J$24 -> 0.023834863 | J16: =VLOOKUP(B16,ORÇAMENTO_ONE!$E:$K,7,FALSE) -> 321621.98
A17: 004 | B17: TERRAPLENAGEM | C17: TERRAPLENAGEM | D17: TERRAPLENAGEM | E17: TERRAPLENAGEM | I17: =J17/$J$24 -> 0.019175787 | J17: =VLOOKUP(B17,ORÇAMENTO_ONE!$E:$K,7,FALSE) -> 258753.52
A18: 005 | B18: DRENAGEM | C18: PAVIMENTAÇÃO E URBANISMO | D18: PAVIMENTAÇÃO E URBANISMO | E18: PAVIMENTAÇÃO E URBANISMO | I18: =J18/$J$24 -> 0.072294713 | J18: =VLOOKUP(B18,ORÇAMENTO_ONE!$E:$K,7,FALSE) -> 975527.68
A19: 006 | B19: PAVIMENTAÇÃO | C19: DRENAGEM | D19: DRENAGEM | E19: DRENAGEM | I19: =J19/$J$24 -> 0.78353855 | J19: =VLOOKUP(B19,ORÇAMENTO_ONE!$E:$K,7,FALSE) -> 10572883
A20: 007 | B20: SINALIZAÇÃO | C20: OBRA DE ARTE CORRENTE | D20: OBRA DE ARTE CORRENTE | E20: OBRA DE ARTE CORRENTE | I20: =J20/$J$24 -> 0.022276213 | J20: =VLOOKUP(B20,ORÇAMENTO_ONE!$E:$K,7,FALSE) -> 300589.92
A21: 008 | B21: SINALIZAÇÃO DE OBRAS | C21: SINALIZAÇÃO | D21: SINALIZAÇÃO | E21: SINALIZAÇÃO | I21: =J21/$J$24 -> 0.006291129 | J21: =VLOOKUP(B21,ORÇAMENTO_ONE!$E:$K,7,FALSE) -> 84891
A22: 009 | B22: PROTEÇÃO AMBIENTAL | C22: SINALIZAÇÃO PROVISÓRIA | D22: SINALIZAÇÃO PROVISÓRIA | E22: SINALIZAÇÃO PROVISÓRIA | I22: =J22/$J$24 -> 0.0015647156 | J22: =VLOOKUP(B22,ORÇAMENTO_ONE!$E:$K,7,FALSE) -> 21113.9
A23: 010 | B23: OBRAS COMPLEMENTARES | C23: PROTEÇÃO AMBIENTAL | D23: PROTEÇÃO AMBIENTAL | E23: PROTEÇÃO AMBIENTAL | I23: =J23/$J$24 -> 0.010786977 | J23: =VLOOKUP(B23,ORÇAMENTO_ONE!$E:$K,7,FALSE) -> 145556.91
A24: TOTAIS GERAIS: | I24: =SUM(I14:I23) -> 1 | J24: =SUM(J14:K23) -> 13493762

Sheet ORÇAMENTO_ONE
B1: DEPARTAMENTO DE ESTRADAS DE RODAGEM DE PERNAMBUCO DIRETORIA DE PLANEJAMENTO E PROJETOS RELATÓRIO SINTÉTICO DO ORÇAMENTO | M1: BDI GERAL | N1: 23.78
M2: BDI DIF | N2: 17.42
B4: Setor: DIRETORIA DE PLANEJAMENTO E PROJETOS
A6: Serviço: RESTAURAÇÃO DA RODOVIA PE-460 | I6: Ano: 2025
A7: Orçamento: EXECUÇÃO DE OBRAS E SERVIÇOS DE ENGENHARIA PARA RESTAURAÇÃO DA PE-460, NO MUNICÍPIO DE BELÉM DE SÃO FRANCISCO - PE (SEM DESONERAÇÂO) | I7: Rodovia: PE-460
A8: SEGMENTO: ACESSO AO PORTO DA BARRA DE TARRACHIL | I8: Extensão: 4,86 km
A9: =CONCATENATE("BDI: ",N1,"% (Geral) e ",N2,"% (Diferenciado)") -> BDI: 23,78% (Geral) e 17,42% (Diferenciado) | F9: Data Base: JULHO/2025 | I9: Preço Total: | J9: =K106 -> 145556.91
A11: RELATÓRIO SINTÉTICO DO ORÇAMENTO - ONERADO
A12: Item | B12: Código | C12: Código Aux. | D12: Fonte | E12: Descrição Completa | F12: Unid. | G12: Qtde | H12: Custo Unitário | I12: BDI (%) | J12: Preço Unitário | K12: Preço Total
A13: 001 | E13: ADMINISTRAÇÃO DE OBRA | K13: =SUBTOTAL(9,K14) -> 727064.04
A14: 001.001 | B14: CPU0017 | C14: CPU0017 | D14: Apropriada | E14: ADMINISTRAÇÃO LOCAL DE OBRA | F14: un | G14: 1 | H14: 587384.1 | I14: =$N$1 -> 23.78 | J14: =ROUND(H14*((I14/100)+1),2) -> 727064.04 | K14: =TRUNC(G14*J14,2) -> 727064.04
A15: 002 | E15: CANTEIRO DE OBRA | K15: =SUBTOTAL(9,K16:K17) -> 85760.43
A16: 002.001 | B16: CPU0018 | C16: CPU0018 | D16: Apropriada | E16: INSTALAÇÃO DE CANTEIRO DE OBRA | F16: un | G16: 1 | H16: 36534.62 | I16: =$N$1 -> 23.78 | J16: =ROUND(H16*((I16/100)+1),2) -> 45222.55 | K16: =TRUNC(G16*J16,2) -> 45222.55
A17: 002.002 | B17: 0903802 | C17: C09019 | D17: DNIT PE 07/2025 | E17: BACIA DE CONTENÇÃO PARA TANQUE DE EMULSÃO DE 30.000 L - INCLUSIVE DEMOLIÇÃO | F17: un | G17: 2 | H17: 16374.97 | I17: =$N$1 -> 23.78 | J17: =ROUND(H17*((I17/100)+1),2) -> 20268.94 | K17: =TRUNC(G17*J17,2) -> 40537.88
A18: 003 | E18: MOBILIZAÇÃO E DESMOBILIZAÇÃO DE OBRA | K18: =SUBTOTAL(9,K19) -> 321621.98
A19: 003.001 | B19: CPU0019 | C19: CPU0019 | D19: Apropriada | E19: MOBILIZAÇÃO E DESMOBILIZAÇÃO DE EQUIPAMENTOS E PESSOAL | F19: un | G19: 1 | H19: 259833.56 | I19: =$N$1 -> 23.78 | J19: =ROUND(H19*((I19/100)+1),2) -> 321621.98 | K19: =TRUNC(G19*J19,2) -> 321621.98
A20: 004 | E20: TERRAPLENAGEM | K20: =SUBTOTAL(9,K21:K33) -> 258753.52
A21: 004.001 | B21: 5501700 | C21: C55010 | D21: DNIT PE 07/2025 | E21: DESMATAMENTO, DESTOCAMENTO E LIMPEZA DE ÁREA COM ÁRVORES DE DIÂMETRO ATÉ 0,15 M | F21: m² | G21: 18497.12 | H21: 0.7 | I21: =$N$1 -> 23.78 | J21: =ROUND(H21*((I21/100)+1),2) -> 0.87 | K21: =TRUNC(G21*J21,2) -> 16092.49
A22: 004.002 | B22: 5501710 | C22: C55264 | D22: DNIT PE 07/2025 | E22: ESCAVAÇÃO, CARGA E TRANSPORTE EM MATERIAL DE 1ª CATEGORIA - DMT DE 50 M | F22: m³ | G22: 4973 | H22: 3.72 | I22: =$N$1 -> 23.78 | J22: =ROUND(H22*((I22/100)+1),2) -> 4.6 | K22: =TRUNC(G22*J22,2) -> 22875.8
A23: 004.003 | B23: 5502109 | C23: C55029 | D23: DNIT PE 07/2025 | E23: ESCAVAÇÃO, CARGA E TRANSPORTE DE MATERIAL DE 1ª CATEGORIA - DMT DE 50 A 200 M - CAMINHO DE SERVIÇO EM LEITO NATURAL - COM ESCAVADEIRA E CAMINHÃO BASCULANTE DE 14 M³ | F23: m³ | G23: 30 | H23: 6.31 | I23: =$N$1 -> 23.78 | J23: =ROUND(H23*((I23/100)+1),2) -> 7.81 | K23: =TRUNC(G23*J23,2) -> 234.3
A24: 004.004 | B24: 5502110 | C24: C55035 | D24: DNIT PE 07/2025 | E24: ESCAVAÇÃO, CARGA E TRANSPORTE DE MATERIAL DE 1ª CATEGORIA - DMT DE 200 A 400 M - CAMINHO DE SERVIÇO EM LEITO NATURAL - COM ESCAVADEIRA E CAMINHÃO BASCULANTE DE 14 M³ | F24: m³ | G24: 298 | H24: 6.74 | I24: =$N$1 -> 23.78 | J24: =ROUND(H24*((I24/100)+1),2) -> 8.34 | K24: =TRUNC(G24*J24,2) -> 2485.32
A25: 004.005 | B25: 5502111 | C25: C55041 | D25: DNIT PE 07/2025 | E25: ESCAVAÇÃO, CARGA E TRANSPORTE DE MATERIAL DE 1ª CATEGORIA - DMT DE 400 A 600 M - CAMINHO DE SERVIÇO EM LEITO NATURAL - COM ESCAVADEIRA E CAMINHÃO BASCULANTE DE 14 M³ | F25: m³ | G25: 433 | H25: 7.12 | I25: =$N$1 -> 23.78 | J25: =ROUND(H25*((I25/100)+1),2) -> 8.81 | K25: =TRUNC(G25*J25,2) -> 3814.73
A26: 004.006 | B26: 5502112 | C26: C55047 | D26: DNIT PE 07/2025 | E26: ESCAVAÇÃO, CARGA E TRANSPORTE DE MATERIAL DE 1ª CATEGORIA - DMT DE 600 A 800 M - CAMINHO DE SERVIÇO EM LEITO NATURAL - COM ESCAVADEIRA E CAMINHÃO BASCULANTE DE 14 M³ | F26: m³ | G26: 411 | H26: 7.87 | I26: =$N$1 -> 23.78 | J26: =ROUND(H26*((I26/100)+1),2) -> 9.74 | K26: =TRUNC(G26*J26,2) -> 4003.14
A27: 004.007 | B27: 5502113 | C27: C55052 | D27: DNIT PE 07/2025 | E27: ESCAVAÇÃO, CARGA E TRANSPORTE DE MATERIAL DE 1ª CATEGORIA - DMT DE 800 A 1.000 M - CAMINHO DE SERVIÇO EM LEITO NATURAL - COM ESCAVADEIRA E CAMINHÃO BASCULANTE DE 14 M³ | F27: m³ | G27: 1 | H27: 8.16 | I27: =$N$1 -> 23.78 | J27: =ROUND(H27*((I27/100)+1),2) -> 10.1 | K27: =TRUNC(G27*J27,2) -> 10.1
A28: 004.008 | B28: 5502167 | C28: C55069 | D28: DNIT PE 07/2025 | E28: ESCAVAÇÃO, CARGA E TRANSPORTE DE MATERIAL DE 1ª CATEGORIA - DMT DE 1.200 A 1.400 M - CAMINHO DE SERVIÇO PAVIMENTADO - COM ESCAVADEIRA E CAMINHÃO BASCULANTE DE 14 M³ | F28: m³ | G28: 54 | H28: 7.72 | I28: =$N$1 -> 23.78 | J28: =ROUND(H28*((I28/100)+1),2) -> 9.56 | K28: =TRUNC(G28*J28,2) -> 516.24
A29: 004.009 | B29: 5502116 | C29: C55071 | D29: DNIT PE 07/2025 | E29: ESCAVAÇÃO, CARGA E TRANSPORTE DE MATERIAL DE 1ª CATEGORIA - DMT DE 1.400 A 1.600 M - CAMINHO DE SERVIÇO EM LEITO NATURAL - COM ESCAVADEIRA E CAMINHÃO BASCULANTE DE 14 M³ | F29: m³ | G29: 7656 | H29: 9.41 | I29: =$N$1 -> 23.78 | J29: =ROUND(H29*((I29/100)+1),2) -> 11.65 | K29: =TRUNC(G29*J29,2) -> 89192.4
A30: 004.010 | B30: 5502118 | C30: C55083 | D30: DNIT PE 07/2025 | E30: ESCAVAÇÃO, CARGA E TRANSPORTE DE MATERIAL DE 1ª CATEGORIA - DMT DE 1.800 A 2.000 M - CAMINHO DE SERVIÇO EM LEITO NATURAL - COM ESCAVADEIRA E CAMINHÃO BASCULANTE DE 14 M³ | F30: m³ | G30: 20 | H30: 9.99 | I30: =$N$1 -> 23.78 | J30: =ROUND(H30*((I30/100)+1),2) -> 12.37 | K30: =TRUNC(G30*J30,2) -> 247.4
A31: 004.011 | B31: 5502119 | C31: C55089 | D31: DNIT PE 07/2025 | E31: ESCAVAÇÃO, CARGA E TRANSPORTE DE MATERIAL DE 1ª CATEGORIA - DMT DE 2.000 A 2.500 M - CAMINHO DE SERVIÇO EM LEITO NATURAL - COM ESCAVADEIRA E CAMINHÃO BASCULANTE DE 14 M³ | F31: m³ | G31: 1558 | H31: 10.91 | I31: =$N$1 -> 23.78 | J31: =ROUND(H31*((I31/100)+1),2) -> 13.5 | K31: =TRUNC(G31*J31,2) -> 21033
A32: 004.012 | B32: 5502978 | C32: C55007 | D32: DNIT PE 07/2025 | E32: COMPACTAÇÃO DE ATERROS A 100% DO PROCTOR NORMAL | F32: m³ | G32: 711.28 | H32: 5.6 | I32: =$N$1 -> 23.78 | J32: =ROUND(H32*((I32/100)+1),2) -> 6.93 | K32: =TRUNC(G32*J32,2) -> 4929.17
A33: 004.013 | B33: 5503041 | C33: C55006 | D33: DNIT PE 07/2025 | E33: COMPACTAÇÃO DE ATERROS A 100% DO PROCTOR INTERMEDIÁRIO | F33: m³ | G33: 11635.84 | H33: 6.48 | I33: =$N$1 -> 23.78 | J33: =ROUND(H33*((I33/100)+1),2) -> 8.02 | K33: =TRUNC(G33*J33,2) -> 93319.43
A34: 005 | E34: DRENAGEM | K34: =SUBTOTAL(9,K35:K57) -> 975527.68
A35: 005.001 | E35: OBRAS DE ARTE CORRENTES | K35: =SUBTOTAL(9,K36:K48) -> 278300.6
A36: 005.001.001 | B36: 0804029 | C36: C08406 | D36: DNIT PE 07/2025 | E36: CORPO DE BSTC D = 0,80 M PA1 - AREIA, BRITA E PEDRA DE MÃO COMERCIAIS | F36: m | G36: 24 | H36: 663.46 | I36: =$N$1 -> 23.78 | J36: =ROUND(H36*((I36/100)+1),2) -> 821.23 | K36: =TRUNC(G36*J36,2) -> 19709.52
A37: 005.001.002 | B37: 0605653 | C37: C06144 | D37: DNIT PE 07/2025 | E37: BUEIRO METÁLICO COM CHAPAS MÚLTIPLAS MP 100 GALVANIZADAS - D = 0,80 M - BRITA COMERCIAL | F37: m | G37: 7 | H37: 1856.5 | I37: =$N$1 -> 23.78 | J37: =ROUND(H37*((I37/100)+1),2) -> 2297.98 | K37: =TRUNC(G37*J37,2) -> 16085.86
A38: 005.001.003 | B38: 0804045 | C38: C08422 | D38: DNIT PE 07/2025 | E38: CORPO DE BSTC D = 1,20 M PA1 - AREIA, BRITA E PEDRA DE MÃO COMERCIAIS | F38: m | G38: 13 | H38: 1029.8 | I38: =$N$1 -> 23.78 | J38: =ROUND(H38*((I38/100)+1),2) -> 1274.69 | K38: =TRUNC(G38*J38,2) -> 16570.97
A39: 005.001.004 | B39: 0804053 | C39: C08430 | D39: DNIT PE 07/2025 | E39: CORPO DE BSTC D = 1,50 M PA1 - AREIA, BRITA E PEDRA DE MÃO COMERCIAIS | F39: m | G39: 13 | H39: 1627.46 | I39: =$N$1 -> 23.78 | J39: =ROUND(H39*((I39/100)+1),2) -> 2014.47 | K39: =TRUNC(G39*J39,2) -> 26188.11
A40: 005.001.005 | B40: 0705287 | C40: C07183 | D40: DNIT PE 07/2025 | E40: CORPO DE BDCC 2,50 X 2,50 M - MOLDADO NO LOCAL - ALTURA DO ATERRO 1,00 A 2,50 M - AREIA E BRITA COMERCIAIS | F40: m | G40: 6 | H40: 7356.86 | I40: =$N$1 -> 23.78 | J40: =ROUND(H40*((I40/100)+1),2) -> 9106.32 | K40: =TRUNC(G40*J40,2) -> 54637.92
A41: 005.001.006 | B41: 0705241 | C41: C07017 | D41: DNIT PE 07/2025 | E41: BOCA DE BSCC 2,50 X 2,50 M - ESCONSIDADE 0° - AREIA E BRITA COMERCIAIS | F41: un | G41: 2 | H41: 26303.16 | I41: =$N$1 -> 23.78 | J41: =ROUND(H41*((I41/100)+1),2) -> 32558.05 | K41: =TRUNC(G41*J41,2) -> 65116.1
A42: 005.001.007 | B42: 0804101 | C42: C08050 | D42: DNIT PE 07/2025 | E42: BOCA DE BSTC D = 0,80 M - ESCONSIDADE 0° - AREIA E BRITA COMERCIAIS - ALAS RETAS | F42: un | G42: 8 | H42: 1420.93 | I42: =$N$1 -> 23.78 | J42: =ROUND(H42*((I42/100)+1),2) -> 1758.83 | K42: =TRUNC(G42*J42,2) -> 14070.64
A43: 005.001.008 | B43: 0804141 | C43: C08106 | D43: DNIT PE 07/2025 | E43: BOCA DE BSTC D = 1,20 M - ESCONSIDADE 0° - AREIA E BRITA COMERCIAIS - ALAS RETAS | F43: un | G43: 2 | H43: 2966.21 | I43: =$N$1 -> 23.78 | J43: =ROUND(H43*((I43/100)+1),2) -> 3671.57 | K43: =TRUNC(G43*J43,2) -> 7343.14
...

Sheet CRONO_ONE
A1: CRONOGRAMA FÍSICO FINANCEIRO - ONERADO
A2: =CONCATENATE("PE-460 - ",RESUMO_ONE!A8) -> PE-460 - SEGMENTO: ACESSO AO PORTO DA BARRA DE TARRACHIL
A3: ITEM | C3: VALOR R$ | D3: DIAS CORRIDOS
B4: ATIVIDADES | D4: 1 | E4: 2 | F4: 3 | G4: 4 | H4: 5 | I4: 6
A6: 1 | B6: =RESUMO_ONE!B14 -> ADMINISTRAÇÃO DE OBRA | C6: =C8/$C$40 -> 0.053881491 | D6: =D40/$J$40 -> 0.01931364 | E6: =E40/$J$40 -> 0.27901511 | F6: =F40/$J$40 -> 0.36183122 | G6: =G40/$J$40 -> 0.26888119 | H6: =H40/$J$40 -> 0.037905927 | I6: =I40/$J$40 -> 0.033052908 | J6: =SUM(D6:I6) -> 1 | K6: =J6=100% -> TRUE
C8: =VLOOKUP(B6,RESUMO_ONE!$B:$K,9,FALSE) -> 727064.04 | D8: =D6*$C$8 -> 14042.253 | E8: =E6*$C$8 -> 202861.86 | F8: =F6*$C$8 -> 263074.47 | G8: =G6*$C$8 -> 195493.84 | H8: =H6*$C$8 -> 27560.036 | I8: =I6*$C$8 -> 24031.581 | J8: =SUM(D8:I8) -> 727064.04 | K8: =J8=C8 -> TRUE
A9: 2 | B9: =RESUMO_ONE!B15 -> CANTEIRO DE OBRA | C9: =C11/$C$40 -> 0.006355561 | D9: 1 | J9: =SUM(D9:I9) -> 1 | K9: =J9=100% -> TRUE
C11: =VLOOKUP(B9,RESUMO_ONE!$B:$K,9,FALSE) -> 85760.43 | D11: =D9*$C$11 -> 85760.43 | J11: =SUM(D11:I11) -> 85760.43 | K11: =J11=C11 -> TRUE
A12: 3 | B12: =RESUMO_ONE!B16 -> MOBILIZAÇÃO E DESMOBILIZAÇÃO DE OBRA | C12: =C14/$C$40 -> 0.023834863 | D12: 0.5 | I12: 0.5 | J12: =SUM(D12:I12) -> 1 | K12: =J12=100% -> TRUE
C14: =VLOOKUP(B12,RESUMO_ONE!$B:$K,9,FALSE) -> 321621.98 | D14: =D12*$C$14 -> 160810.99 | I14: =I12*$C$14 -> 160810.99 | J14: =SUM(D14:I14) -> 321621.98 | K14: =J14=C14 -> TRUE
A15: 4 | B15: =RESUMO_ONE!B17 -> TERRAPLENAGEM | C15: =C17/$C$40 -> 0.019175787 | E15: 0.5 | F15: 0.5 | J15: =SUM(D15:I15) -> 1 | K15: =J15=100% -> TRUE
C17: =VLOOKUP(B15,RESUMO_ONE!$B:$K,9,FALSE) -> 258753.52 | E17: =E15*$C$17 -> 129376.76 | F17: =F15*$C$17 -> 129376.76 | J17: =SUM(D17:I17) -> 258753.52 | K17: =J17=C17 -> TRUE
A18: 5 | B18: =RESUMO_ONE!B18 -> DRENAGEM | C18: =C20/$C$40 -> 0.072294713 | E18: 0.25 | F18: 0.25 | G18: 0.25 | H18: 0.25 | J18: =SUM(D18:I18) -> 1 | K18: =J18=100% -> TRUE | M18: =100/6 -> 16.666667
C20: =VLOOKUP(B18,RESUMO_ONE!$B:$K,9,FALSE) -> 975527.68 | E20: =E18*$C$20 -> 243881.92 | F20: =F18*$C$20 -> 243881.92 | G20: =G18*$C$20 -> 243881.92 | H20: =H18*$C$20 -> 243881.92 | J20: =SUM(D20:I20) -> 975527.68 | K20: =J20=C20 -> TRUE
A21: 6 | B21: =RESUMO_ONE!B19 -> PAVIMENTAÇÃO | C21: =C23/$C$40 -> 0.78353855 | E21: 0.3 | F21: 0.4 | G21: 0.3 | J21: =SUM(D21:I21) -> 1 | K21: =J21=100% -> TRUE
C23: =VLOOKUP(B21,RESUMO_ONE!$B:$K,9,FALSE) -> 10572883 | E23: =E21*$C$23 -> 3171864.9 | F23: =F21*$C$23 -> 4229153.2 | G23: =G21*$C$23 -> 3171864.9 | J23: =SUM(D23:I23) -> 10572883 | K23: =J23=C23 -> TRUE
A24: 7 | B24: =RESUMO_ONE!B20 -> SINALIZAÇÃO | C24: =C26/$C$40 -> 0.022276213 | H24: 0.5 | I24: 0.5 | J24: =SUM(D24:I24) -> 1 | K24: =J24=100% -> TRUE
C26: =VLOOKUP(B24,RESUMO_ONE!$B:$K,9,FALSE) -> 300589.92 | H26: =H24*$C$26 -> 150294.96 | I26: =I24*$C$26 -> 150294.96 | J26: =SUM(D26:I26) -> 300589.92 | K26: =J26=C26 -> TRUE
A27: 8 | B27: =RESUMO_ONE!B21 -> SINALIZAÇÃO DE OBRAS | C27: =C29/$C$40 -> 0.006291129 | E27: 0.2 | F27: 0.2 | G27: 0.2 | H27: 0.2 | I27: 0.2 | J27: =SUM(D27:I27) -> 1 | K27: =J27=100% -> TRUE
C29: =VLOOKUP(B27,RESUMO_ONE!$B:$K,9,FALSE) -> 84891 | E29: =E27*$C$29 -> 16978.2 | F29: =F27*$C$29 -> 16978.2 | G29: =G27*$C$29 -> 16978.2 | H29: =H27*$C$29 -> 16978.2 | I29: =I27*$C$29 -> 16978.2 | J29: =SUM(D29:I29) -> 84891 | K29: =J29=C29 -> TRUE
A30: 9 | B30: =RESUMO_ONE!B22 -> PROTEÇÃO AMBIENTAL | C30: =C32/$C$40 -> 0.0015647156 | I30: 1 | J30: =SUM(D30:I30) -> 1 | K30: =J30=100% -> TRUE
C32: =VLOOKUP(B30,RESUMO_ONE!$B:$K,9,FALSE) -> 21113.9 | I32: =I30*$C$32 -> 21113.9 | J32: =SUM(D32:I32) -> 21113.9 | K32: =J32=C32 -> TRUE
A33: 10 | B33: =RESUMO_ONE!B23 -> OBRAS COMPLEMENTARES | C33: =C35/$C$40 -> 0.010786977 | H33: 0.5 | I33: 0.5 | J33: =SUM(D33:I33) -> 1 | K33: =J33=100% -> TRUE
C35: =VLOOKUP(B33,RESUMO_ONE!$B:$K,9,FALSE) -> 145556.91 | H35: =H33*$C$35 -> 72778.455 | I35: =I33*$C$35 -> 72778.455 | J35: =SUM(D35:I35) -> 145556.91 | K35: =J35=C35 -> TRUE
A36: DESEMBOLSO MENSAL (R$) | C36: PARCIAL | D36: =D8+D11+D14+D17+D20+D23+D26+D29+D32+D35 -> 260613.67 | E36: =E8+E11+E14+E17+E20+E23+E26+E29+E32+E35 -> 3764963.6 | F36: =F8+F11+F14+F17+F20+F23+F26+F29+F32+F35 -> 4882464.6 | G36: =G8+G11+G14+G17+G20+G23+G26+G29+G32+G35 -> 3628218.9 | H36: =H8+H11+H14+H17+H20+H23+H26+H29+H32+H35 -> 511493.57 | I36: =I8+I11+I14+I17+I20+I23+I26+I29+I32+I35 -> 446008.09
C37: ACUMULADO | D37: =D36 -> 260613.67 | E37: =E36+D37 -> 4025577.3 | F37: =F36+E37 -> 8908041.9 | G37: =G36+F37 -> 12536261 | H37: =H36+G37 -> 13047754 | I37: =I36+H37 -> 13493762
A38: DESEMBOLSO MENSAL (%) | C38: PARCIAL | D38: =D36/$C$40 -> 0.01931364 | E38: =E36/$C$40 -> 0.27901511 | F38: =F36/$C$40 -> 0.36183122 | G38: =G36/$C$40 -> 0.26888119 | H38: =H36/$C$40 -> 0.037905927 | I38: =I36/$C$40 -> 0.033052908
C39: ACUMULADO | D39: =D38 -> 0.01931364 | E39: =E38+D39 -> 0.29832875 | F39: =F38+E39 -> 0.66015998 | G39: =G38+F39 -> 0.92904117 | H39: =H38+G39 -> 0.96694709 | I39: =I38+H39 -> 1
C40: =C8+C11+C14+C17+C20+C23+C26+C29+C32+C35 -> 13493762 | D40: =SUM(D29,D26,D23,D20,D17,D14,D11,D32,D35) -> 246571.42 | E40: =SUM(E29,E26,E23,E20,E17,E14,E11,E32,E35) -> 3562101.8 | F40: =SUM(F29,F26,F23,F20,F17,F14,F11,F32,F35) -> 4619390.1 | G40: =SUM(G29,G26,G23,G20,G17,G14,G11,G32,G35) -> 3432725 | H40: =SUM(H29,H26,H23,H20,H17,H14,H11,H32,H35) -> 483933.54 | I40: =SUM(I29,I26,I23,I20,I17,I14,I11,I32,I35) -> 421976.51 | J40: =SUM(D40:I40) -> 12766698 | K40: =(J40+C8)=C40 -> TRUE
D41: =ROUND(D40/$J$40,4) -> 0.0193 | E41: =ROUND(E40/$J$40,4) -> 0.279 | F41: =ROUND(F40/$J$40,4) -> 0.3618 | G41: =ROUND(G40/$J$40,4) -> 0.2689 | H41: =ROUND(H40/$J$40,4) -> 0.0379 | I41: =ROUND(I40/$J$40,4) -> 0.0331 | J41: =SUM(D41:I41) -> 1

Sheet CURVA ABC
B1: DEPARTAMENTO DE ESTRADAS DE RODAGEM DE PERNAMBUCO DIRETORIA DE PLANEJAMENTO E PROJETOS RELATÓRIO SINTÉTICO DO ORÇAMENTO
B4: Setor: DIRETORIA DE PLANEJAMENTO E PROJETOS
A6: =ORÇAMENTO_ONE!A6 -> Serviço: RESTAURAÇÃO DA RODOVIA PE-460 | I6: Ano: 2025 | L6: BDI GERAL | M6: 23.78
A7: Orçamento: EXECUÇÃO DE OBRAS E SERVIÇOS DE ENGENHARIA PARA RESTAURAÇÃO DA PE-460, NO MUNICÍPIO DE BELÉM DE SÃO FRANCISCO - PE (SEM DESONERAÇÂO) | I7: Rodovia: PE-460 | L7: BDI DIF | M7: 17.42
A8: SEGMENTO: ACESSO AO PORTO DA BARRA DE TARRACHIL | I8: Extensão: 4,86 km
A9: =CONCATENATE("BDI: ",M6,"% (Geral) e ",M7,"% (Diferenciado)") -> BDI: 23,78% (Geral) e 17,42% (Diferenciado) | F9: Data Base: JULHO/2025 | I9: Preço Total: | J9: =K91 -> 13493762
A11: CURVA ABC - ONERADO
A12: Item | B12: Código | C12: Código Aux. | D12: Fonte | E12: Descrição Completa | F12: Unid. | G12: Qtde | H12: Custo Unitário | I12: BDI (%) | J12: Preço Unitário | K12: Preço Total | L12: % | M12: % Acumulada
A13: 1 | B13: CPU0027 | C13: CPU0027 | D13: Apropriada | E13: SUB-BASE ESTABILIZADA GRANULOMETRICAMENTE COM MISTURA BRITA SOLO (75% - 25%) NA PISTA COM MATERIAL DE JAZIDA E BRITA COMERCIAL - 100% PROCTOR MODIFICADO | F13: m³ | G13: 12757.2 | H13: =VLOOKUP(B13,ORÇAMENTO_ONE!$B$13:$I$106,7,FALSE) -> 277.62 | I13: =$M$6 -> 23.78 | J13: =ROUND(H13*((I13/100)+1),2) -> 343.64 | K13: =TRUNC(G13*J13,2) -> 4383884.2 | L13: =K13/$K$91 -> 0.32488227 | M13: =L13 -> 0.32488227
A14: 2 | B14: CPU0028 | C14: CPU0028 | D14: Apropriada | E14: AQUISIÇÃO DE MASSA ASFÁLTICA COMERCIAL FAIXA C | F14: t | G14: 4723.12 | H14: =VLOOKUP(B14,ORÇAMENTO_ONE!$B$13:$I$106,7,FALSE) -> 493.57 | I14: =$M$7 -> 17.42 | J14: =ROUND(H14*((I14/100)+1),2) -> 579.55 | K14: =TRUNC(G14*J14,2) -> 2737284.2 | L14: =K14/$K$91 -> 0.20285552 | M14: =M13+L14 -> 0.52773779
A15: 3 | B15: CPU0026 | C15: CPU0026 | D15: Apropriada | E15: BASE ESTABILIZADA GRANULOMETRICAMENTE COM MISTURA SOLO BRITA (75% - 25%) EM USINA COM MATERIAL DE JAZIDA E BRITA COMERCIAL | F15: m³ | G15: 5865.69 | H15: =VLOOKUP(B15,ORÇAMENTO_ONE!$B$13:$I$106,7,FALSE) -> 282.41 | I15: =$M$6 -> 23.78 | J15: =ROUND(H15*((I15/100)+1),2) -> 349.57 | K15: =TRUNC(G15*J15,2) -> 2050469.2 | L15: =K15/$K$91 -> 0.15195682 | M15: =M14+L15 -> 0.67969462
A16: 4 | B16: 4011464 | C16: C40045 | D16: DNIT PE 07/2025 | E16: CONCRETO ASFÁLTICO - FAIXA C-12,5 - MASSA COMERCIAL | F16: t | G16: 4723.12 | H16: =VLOOKUP(B16,ORÇAMENTO_ONE!$B$13:$I$106,7,FALSE) -> 136.06 | I16: =$M$6 -> 23.78 | J16: =ROUND(H16*((I16/100)+1),2) -> 168.42 | K16: =TRUNC(G16*J16,2) -> 795467.87 | L16: =K16/$K$91 -> 0.058950784 | M16: =M15+L16 -> 0.7386454
A17: 5 | B17: CPU0017 | C17: CPU0017 | D17: Apropriada | E17: ADMINISTRAÇÃO LOCAL DE OBRA | F17: un | G17: 1 | H17: =VLOOKUP(B17,ORÇAMENTO_ONE!$B$13:$I$106,7,FALSE) -> 587384.1 | I17: =$M$6 -> 23.78 | J17: =ROUND(H17*((I17/100)+1),2) -> 727064.04 | K17: =TRUNC(G17*J17,2) -> 727064.04 | L17: =K17/$K$91 -> 0.053881491 | M17: =M16+L17 -> 0.79252689
A18: 6 | B18: CPU0007 | C18: CPU0007 | D18: Apropriada | E18: MEIO-FIO DE CONCRETO - MFC 01 - AREIA E BRITA COMERCIAIS - FÔRMA DE MADEIRA | F18: m | G18: 4283.72 | H18: =VLOOKUP(B18,ORÇAMENTO_ONE!$B$13:$I$106,7,FALSE) -> 117.74 | I18: =$M$6 -> 23.78 | J18: =ROUND(H18*((I18/100)+1),2) -> 145.74 | K18: =TRUNC(G18*J18,2) -> 624309.35 | L18: =K18/$K$91 -> 0.046266514 | M18: =M17+L18 -> 0.8387934
A19: 7 | B19: CPU0019 | C19: CPU0019 | D19: Apropriada | E19: MOBILIZAÇÃO E DESMOBILIZAÇÃO DE EQUIPAMENTOS E PESSOAL | F19: un | G19: 1 | H19: =VLOOKUP(B19,ORÇAMENTO_ONE!$B$13:$I$106,7,FALSE) -> 259833.56 | I19: =$M$6 -> 23.78 | J19: =ROUND(H19*((I19/100)+1),2) -> 321621.98 | K19: =TRUNC(G19*J19,2) -> 321621.98 | L19: =K19/$K$91 -> 0.023834863 | M19: =M18+L19 -> 0.86262827
A20: 8 | B20: CPU0009 | C20: CPU0009 | D20: Apropriada | E20: EXECUÇÃO DE PAVIMENTO EM PARALELEPÍPEDOS, REJUNTAMENTO COM ARGAMASSA TRAÇO 1:3 (CIMENTO E AREIA). | F20: m2 | G20: 2280 | H20: =VLOOKUP(B20,ORÇAMENTO_ONE!$B$13:$I$106,7,FALSE) -> 87.69 | I20: =$M$6 -> 23.78 | J20: =ROUND(H20*((I20/100)+1),2) -> 108.54 | K20: =TRUNC(G20*J20,2) -> 247471.2 | L20: =K20/$K$91 -> 0.018339674 | M20: =M19+L20 -> 0.88096794
A21: 9 | B21: CPU0013 | C21: CPU0013 | D21: Apropriada | E21: AQUISIÇÃO DE EMULSÃO ASFÁLTICA PARA IMPRIMAÇÃO | F21: t | G21: 51.2 | H21: =VLOOKUP(B21,ORÇAMENTO_ONE!$B$13:$I$106,7,FALSE) -> 2731.69 | I21: =$M$7 -> 17.42 | J21: =ROUND(H21*((I21/100)+1),2) -> 3207.55 | K21: =TRUNC(G21*J21,2) -> 164226.56 | L21: =K21/$K$91 -> 0.012170554 | M21: =M20+L21 -> 0.8931385
A22: 10 | B22: 3713608 | C22: C37020 | D22: DNIT PE 07/2025 | E22: CERCA COM 4 FIOS DE ARAME FARPADO E MOURÃO DE MADEIRA A CADA 2,5 M E ESTICADOR A CADA 50 M | F22: m | G22: 4886.1 | H22: =VLOOKUP(B22,ORÇAMENTO_ONE!$B$13:$I$106,7,FALSE) -> 24.07 | I22: =$M$6 -> 23.78 | J22: =ROUND(H22*((I22/100)+1),2) -> 29.79 | K22: =TRUNC(G22*J22,2) -> 145556.91 | L22: =K22/$K$91 -> 0.010786977 | M22: =M21+L22 -> 0.90392547
A23: 11 | B23: 5219623 | C23: C52475 | D23: DNIT PE 07/2025 | E23: TACHA REFLETIVA EM RESINA SINTÉTICA - BIDIRECIONAL TIPO III - COM UM PINO - FORNECIMENTO E COLOCAÇÃO | F23: un | G23: 1605 | H23: =VLOOKUP(B23,ORÇAMENTO_ONE!$B$13:$I$106,7,FALSE) -> 54.39 | I23: =$M$6 -> 23.78 | J23: =ROUND(H23*((I23/100)+1),2) -> 67.32 | K23: =TRUNC(G23*J23,2) -> 108048.6 | L23: =K23/$K$91 -> 0.0080072997 | M23: =M22+L23 -> 0.91193277
A24: 12 | B24: 5503041 | C24: C55006 | D24: DNIT PE 07/2025 | E24: COMPACTAÇÃO DE ATERROS A 100% DO PROCTOR INTERMEDIÁRIO | F24: m³ | G24: 11635.84 | H24: =VLOOKUP(B24,ORÇAMENTO_ONE!$B$13:$I$106,7,FALSE) -> 6.48 | I24: =$M$6 -> 23.78 | J24: =ROUND(H24*((I24/100)+1),2) -> 8.02 | K24: =TRUNC(G24*J24,2) -> 93319.43 | L24: =K24/$K$91 -> 0.0069157458 | M24: =M23+L24 -> 0.91884852
A25: 13 | B25: 4011209 | C25: C40174 | D25: DNIT PE 07/2025 | E25: REGULARIZAÇÃO DO SUBLEITO - 100% PROCTOR INTERMEDIÁRIO | F25: m² | G25: 41080.13 | H25: =VLOOKUP(B25,ORÇAMENTO_ONE!$B$13:$I$106,7,FALSE) -> 1.8 | I25: =$M$6 -> 23.78 | J25: =ROUND(H25*((I25/100)+1),2) -> 2.23 | K25: =TRUNC(G25*J25,2) -> 91608.68 | L25: =K25/$K$91 -> 0.006788965 | M25: =M24+L25 -> 0.92563748
A26: 14 | B26: 5502116 | C26: C55071 | D26: DNIT PE 07/2025 | E26: ESCAVAÇÃO, CARGA E TRANSPORTE DE MATERIAL DE 1ª CATEGORIA - DMT DE 1.400 A 1.600 M - CAMINHO DE SERVIÇO EM LEITO NATURAL - COM ESCAVADEIRA E CAMINHÃO BASCULANTE DE 14 M³ | F26: m³ | G26: 7656 | H26: =VLOOKUP(B26,ORÇAMENTO_ONE!$B$13:$I$106,7,FALSE) -> 9.41 | I26: =$M$6 -> 23.78 | J26: =ROUND(H26*((I26/100)+1),2) -> 11.65 | K26: =TRUNC(G26*J26,2) -> 89192.4 | L26: =K26/$K$91 -> 0.0066098985 | M26: =M25+L26 -> 0.93224738
A27: 15 | B27: 5213850 | C27: C52200 | D27: DNIT PE 07/2025 | E27: OPERAÇÃO DE SINALIZAÇÃO POR BANDEIROLA DE TECIDO OU COM PLACA METÁLICA | F27: h | G27: 2640 | H27: =VLOOKUP(B27,ORÇAMENTO_ONE!$B$13:$I$106,7,FALSE) -> 22.27 | I27: =$M$6 -> 23.78 | J27: =ROUND(H27*((I27/100)+1),2) -> 27.57 | K27: =TRUNC(G27*J27,2) -> 72784.8 | L27: =K27/$K$91 -> 0.0053939589 | M27: =M26+L27 -> 0.93764134
A28: 16 | B28: 5213401 | C28: C52208 | D28: DNIT PE 07/2025 | E28: PINTURA DE FAIXA COM TINTA ACRÍLICA - ESPESSURA DE 0,6 MM | F28: m² | G28: 1944.65 | H28: =VLOOKUP(B28,ORÇAMENTO_ONE!$B$13:$I$106,7,FALSE) -> 28.94 | I28: =$M$6 -> 23.78 | J28: =ROUND(H28*((I28/100)+1),2) -> 35.82 | K28: =TRUNC(G28*J28,2) -> 69657.36 | L28: =K28/$K$91 -> 0.0051621896 | M28: =M27+L28 -> 0.94280353
A29: 17 | B29: 0705241 | C29: C07017 | D29: DNIT PE 07/2025 | E29: BOCA DE BSCC 2,50 X 2,50 M - ESCONSIDADE 0° - AREIA E BRITA COMERCIAIS | F29: un | G29: 2 | H29: =VLOOKUP(B29,ORÇAMENTO_ONE!$B$13:$I$106,7,FALSE) -> 26303.16 | I29: =$M$6 -> 23.78 | J29: =ROUND(H29*((I29/100)+1),2) -> 32558.05 | K29: =TRUNC(G29*J29,2) -> 65116.1 | L29: =K29/$K$91 -> 0.0048256445 | M29: =M28+L29 -> 0.94762917
A30: 18 | B30: 0705287 | C30: C07183 | D30: DNIT PE 07/2025 | E30: CORPO DE BDCC 2,50 X 2,50 M - MOLDADO NO LOCAL - ALTURA DO ATERRO 1,00 A 2,50 M - AREIA E BRITA COMERCIAIS | F30: m | G30: 6 | H30: =VLOOKUP(B30,ORÇAMENTO_ONE!$B$13:$I$106,7,FALSE) -> 7356.86 | I30: =$M$6 -> 23.78 | J30: =ROUND(H30*((I30/100)+1),2) -> 9106.32 | K30: =TRUNC(G30*J30,2) -> 54637.92 | L30: =K30/$K$91 -> 0.0040491242 | M30: =M29+L30 -> 0.9516783
A31: 19 | B31: CPU0008 | C31: CPU0008 | D31: Apropriada | E31: MEIO-FIO DE CONCRETO - MFC 05 - AREIA E BRITA COMERCIAIS - FÔRMA DE MADEIRA | F31: m | G31: 595.75 | H31: =VLOOKUP(B31,ORÇAMENTO_ONE!$B$13:$I$106,7,FALSE) -> 72.4 | I31: =$M$6 -> 23.78 | J31: =ROUND(H31*((I31/100)+1),2) -> 89.62 | K31: =TRUNC(G31*J31,2) -> 53391.11 | L31: =K31/$K$91 -> 0.0039567252 | M31: =M30+L31 -> 0.95563502
A32: 20 | B32: CPU0018 | C32: CPU0018 | D32: Apropriada | E32: INSTALAÇÃO DE CANTEIRO DE OBRA | F32: un | G32: 1 | H32: =VLOOKUP(B32,ORÇAMENTO_ONE!$B$13:$I$106,7,FALSE) -> 36534.62 | I32: =$M$6 -> 23.78 | J32: =ROUND(H32*((I32/100)+1),2) -> 45222.55 | K32: =TRUNC(G32*J32,2) -> 45222.55 | L32: =K32/$K$91 -> 0.003351367 | M32: =M31+L32 -> 0.95898639
A33: 21 | B33: 0903802 | C33: C09019 | D33: DNIT PE 07/2025 | E33: BACIA DE CONTENÇÃO PARA TANQUE DE EMULSÃO DE 30.000 L - INCLUSIVE DEMOLIÇÃO | F33: un | G33: 2 | H33: =VLOOKUP(B33,ORÇAMENTO_ONE!$B$13:$I$106,7,FALSE) -> 16374.97 | I33: =$M$6 -> 23.78 | J33: =ROUND(H33*((I33/100)+1),2) -> 20268.94 | K33: =TRUNC(G33*J33,2) -> 40537.88 | L33: =K33/$K$91 -> 0.003004194 | M33: =M32+L33 -> 0.96199059
A34: 22 | B34: 4011352 | C34: C40067 | D34: DNIT PE 07/2025 | E34: IMPRIMAÇÃO COM EMULSÃO ASFÁLTICA | F34: m² | G34: 39359.33 | H34: =VLOOKUP(B34,ORÇAMENTO_ONE!$B$13:$I$106,7,FALSE) -> 0.69 | I34: =$M$6 -> 23.78 | J34: =ROUND(H34*((I34/100)+1),2) -> 0.85 | K34: =TRUNC(G34*J34,2) -> 33455.43 | L34: =K34/$K$91 -> 0.0024793256 | M34: =M33+L34 -> 0.96446991
A35: 23 | B35: CPU0015 | C35: CPU0015 | D35: Apropriada | E35: TRANSPORTE DE EMULSÃO ASFÁLTICA PARA IMPRIMAÇÃO | F35: t | G35: 51.2 | H35: =VLOOKUP(B35,ORÇAMENTO_ONE!$B$13:$I$106,7,FALSE) -> 530.24 | I35: =$M$7 -> 17.42 | J35: =ROUND(H35*((I35/100)+1),2) -> 622.61 | K35: =TRUNC(G35*J35,2) -> 31877.63 | L35: =K35/$K$91 -> 0.0023623975 | M35: =M34+L35 -> 0.96683231
A36: 24 | B36: 5213577 | C36: C52122 | D36: DNIT PE 07/2025 | E36: PLACA EM AÇO, MODULADA - ACIMA DE 2 M² - PELÍCULA I + III - FORNECIMENTO E IMPLANTAÇÃO | F36: m² | G36: 35.25 | H36: =VLOOKUP(B36,ORÇAMENTO_ONE!$B$13:$I$106,7,FALSE) -> 640.83 | I36: =$M$6 -> 23.78 | J36: =ROUND(H36*((I36/100)+1),2) -> 793.22 | K36: =TRUNC(G36*J36,2) -> 27961 | L36: =K36/$K$91 -> 0.0020721426 | M36: =M35+L36 -> 0.96890445
A37: 25 | B37: 1600438 | C37: C16002 | D37: DNIT PE 07/2025 | E37: DEMOLIÇÃO MANUAL DE CONCRETO ARMADO | F37: m³ | G37: 36.53 | H37: =VLOOKUP(B37,ORÇAMENTO_ONE!$B$13:$I$106,7,FALSE) -> 611.48 | I37: =$M$6 -> 23.78 | J37: =ROUND(H37*((I37/100)+1),2) -> 756.89 | K37: =TRUNC(G37*J37,2) -> 27649.19 | L37: =K37/$K$91 -> 0.0020490349 | M37: =M36+L37 -> 0.97095349
A38: 26 | B38: 0804053 | C38: C08430 | D38: DNIT PE 07/2025 | E38: CORPO DE BSTC D = 1,50 M PA1 - AREIA, BRITA E PEDRA DE MÃO COMERCIAIS | F38: m | G38: 13 | H38: =VLOOKUP(B38,ORÇAMENTO_ONE!$B$13:$I$106,7,FALSE) -> 1627.46 | I38: =$M$6 -> 23.78 | J38: =ROUND(H38*((I38/100)+1),2) -> 2014.47 | K38: =TRUNC(G38*J38,2) -> 26188.11 | L38: =K38/$K$91 -> 0.0019407567 | M38: =M37+L38 -> 0.97289424
A39: 27 | B39: 4915669 | C39: C49097 | D39: DNIT PE 07/2025 | E39: REMOÇÃO MECANIZADA DE CAMADA GRANULAR DO PAVIMENTO | F39: m³ | G39: 1626 | H39: =VLOOKUP(B39,ORÇAMENTO_ONE!$B$13:$I$106,7,FALSE) -> 11.99 | I39: =$M$6 -> 23.78 | J39: =ROUND(H39*((I39/100)+1),2) -> 14.84 | K39: =TRUNC(G39*J39,2) -> 24129.84 | L39: =K39/$K$91 -> 0.0017882218 | M39: =M38+L39 -> 0.97468246
A40: 28 | B40: 5501710 | C40: C55264 | D40: DNIT PE 07/2025 | E40: ESCAVAÇÃO, CARGA E TRANSPORTE EM MATERIAL DE 1ª CATEGORIA - DMT DE 50 M | F40: m³ | G40: 4973 | H40: =VLOOKUP(B40,ORÇAMENTO_ONE!$B$13:$I$106,7,FALSE) -> 3.72 | I40: =$M$6 -> 23.78 | J40: =ROUND(H40*((I40/100)+1),2) -> 4.6 | K40: =TRUNC(G40*J40,2) -> 22875.8 | L40: =K40/$K$91 -> 0.001695287 | M40: =M39+L40 -> 0.97637775
A41: 29 | B41: 5502119 | C41: C55089 | D41: DNIT PE 07/2025 | E41: ESCAVAÇÃO, CARGA E TRANSPORTE DE MATERIAL DE 1ª CATEGORIA - DMT DE 2.000 A 2.500 M - CAMINHO DE SERVIÇO EM LEITO NATURAL - COM ESCAVADEIRA E CAMINHÃO BASCULANTE DE 14 M³ | F41: m³ | G41: 1558 | H41: =VLOOKUP(B41,ORÇAMENTO_ONE!$B$13:$I$106,7,FALSE) -> 10.91 | I41: =$M$6 -> 23.78 | J41: =ROUND(H41*((I41/100)+1),2) -> 13.5 | K41: =TRUNC(G41*J41,2) -> 21033 | L41: =K41/$K$91 -> 0.0015587202 | M41: =M40+L41 -> 0.97793647
A42: 30 | B42: 5213571 | C42: C52125 | D42: DNIT PE 07/2025 | E42: PLACA EM AÇO - PELÍCULA I + III - FORNECIMENTO E IMPLANTAÇÃO | F42: m² | G42: 31.38 | H42: =VLOOKUP(B42,ORÇAMENTO_ONE!$B$13:$I$106,7,FALSE) -> 525.31 | I42: =$M$6 -> 23.78 | J42: =ROUND(H42*((I42/100)+1),2) -> 650.23 | K42: =TRUNC(G42*J42,2) -> 20404.21 | L42: =K42/$K$91 -> 0.0015121216 | M42: =M41+L42 -> 0.97944859
A43: 31 | B43: 0804029 | C43: C08406 | D43: DNIT PE 07/2025 | E43: CORPO DE BSTC D = 0,80 M PA1 - AREIA, BRITA E PEDRA DE MÃO COMERCIAIS | F43: m | G43: 24 | H43: =VLOOKUP(B43,ORÇAMENTO_ONE!$B$13:$I$106,7,FALSE) -> 663.46 | I43: =$M$6 -> 23.78 | J43: =ROUND(H43*((I43/100)+1),2) -> 821.23 | K43: =TRUNC(G43*J43,2) -> 19709.52 | L43: =K43/$K$91 -> 0.0014606393 | M43: =M42+L43 -> 0.98090923
A44: 32 | B44: 5219631 | C44: C52483 | D44: DNIT PE 07/2025 | E44: TACHA REFLETIVA EM RESINA SINTÉTICA - MONODIRECIONAL TIPO III - COM UM PINO - FORNECIMENTO E COLOCAÇÃO | F44: un | G44: 276 | H44: =VLOOKUP(B44,ORÇAMENTO_ONE!$B$13:$I$106,7,FALSE) -> 52.15 | I44: =$M$6 -> 23.78 | J44: =ROUND(H44*((I44/100)+1),2) -> 64.55 | K44: =TRUNC(G44*J44,2) -> 17815.8 | L44: =K44/$K$91 -> 0.0013202989 | M44: =M43+L44 -> 0.98222953
...

Sheet CPUS
G1: DEPARTAMENTO DE ESTRADAS DE RODAGEM DE PERNAMBUCO DIRETORIA DE PLANEJAMENTO E PROJETO | AB1: Pág: 1/153
AB4: Data:
G5: Relatório de Composições do Orçamento (Sem Desoneração)
A8: Rodovia: PE-460
A9: Objeto: EXECUÇÃO DE OBRAS E SERVIÇOS DE ENGENHARIA PARA RESTAURAÇÃO DO ACESSO AO PORTO DE BARRA DE TARRACHIL | Y9: BDI: 0,00%
A11: Código: | I11: ADMINISTRAÇÃO LOCAL DE OBRA | Y11: Unid.: | AD11: UN
E12: Data base: | H12: Serviço:
A13: CPU0017 | Y13: Prod. Equipe: | AD13: 1
A15: OBS.: Origem: Este Projeto
A16: *VALORES EXPRESSOS EM REAIS (R$)
A17: Equipamento (A) | M17: Qtde. | N17: Utilização | T17: Custo Operacional | AC17: Custo Horário
N18: Operat. | P18: Improd. | T18: Operat. | X18: Improd.
M19: CUSTO HORÁRIO DE EQUIPAMENTO = | Z19: 0
A20: Mão de Obra (B) | O20: Encargos | S20: Qtde. | W20: Salário-Hora | AC20: Custo Horário
M21: CUSTO HORÁRIO DE MÃO DE OBRA = | Z21: 0
M22: CUSTO HORÁRIO DE EXECUÇÃO = | Z22: 0
M23: CUSTO UNITÁRIO DE EXECUÇÃO = | Z23: 0
M24: CUSTO DO FIC = | Z24: 0
M25: CUSTO DO FIT = | Z25: 0
A26: Material (C) | O26: Qtde. | S26: Unidade | W26: Preço Unit. | AC26: Custo Unitário
C27: ADM0001 | D27: ADMINISTRAÇÃO LOCAL DE OBRA | O27: 1 | S27: UN | W27: 587384.1 | AC27: 587384.1
M28: CUSTO TOTAL DO MATERIAL = | Z28: 587384.1
A29: Atividades Auxiliares (D) | O29: Qtde. | S29: Unidade | W29: Preço Unit. | AC29: Custo Unitário
M30: CUSTO TOTAL DAS ATIVIDADES = | Z30: 0
A31: Tempo Fixo (E) | O31: Qtde. | S31: Unidade | W31: Preço Unit. | AC31: Custo Unitário
M32: CUSTO UNITÁRIO TOTAL DO TEMPO FIXO = | Z32: 0
A33: Momento de Transporte (F) | J33: Qtde. | L33: DMT-LN | M33: DMT-RP | N33: DMT-P | P33: P1 | T33: P2 | X33: P3 | AC33: Custo Unitário
M34: CUSTO UNITÁRIO TOTAL DE TRANSPORTE = | Z34: 0
M36: CUSTO UNITÁRIO DIRETO TOTAL = | Z36: 587384.1
K37: BONIFICAÇÕES E DESPESAS INDIRETAS ( | R37: 0 | V37: % ) = | Z37: 0
M39: PREÇO UNITÁRIO TOTAL = | Z39: 587384.1
G43: DEPARTAMENTO DE ESTRADAS DE RODAGEM DE PERNAMBUCO DIRETORIA DE PLANEJAMENTO E PROJETO | AB43: Pág: 2/153
AB46: Data:
G47: Relatório de Composições do Orçamento (Sem Desoneração)
A50: Rodovia: PE-460
A52: Objeto: EXECUÇÃO DE OBRAS E SERVIÇOS DE ENGENHARIA PARA RESTAURAÇÃO DO ACESSO AO PORTO DE BARRA DE TARRACHIL | Y52: BDI: 0,00%
A54: Código: | I54: INSTALAÇÃO DE CANTEIRO DE OBRA | Y54: Unid.: | AD54: UN
E55: Data base: | H55: Serviço:
A56: CPU0018 | Y56: Prod. Equipe: | AD56: 1
A58: OBS.: Origem: Este Projeto
...

Sheet 01-ADM-Resumo
A1: Rodovia: PE-460
A2: Trecho: Acesso ao Porto da Barra do Tarrachil | H2: 6 | I2: MESES
A3: Extensão: 4,86 km
A5: RESUMO DAS PARCELAS DA ADMINISTRAÇÃO LOCAL
A6: (Não considerando a desoneração da mão de obra)
E7: Data-base: | F7: 45839
F8: Não desonerado
A9: Item | B9: Discriminação | C9: Unidade | D9: Quantidade | E9: Custo unitário (R$) | F9: Custo total (R$)
A10: 1. | B10: Parcela Fixa Principal
A11: 1.1 | B11: Mão de Obra | C11: mês | D11: 5 | E11: ='02-ADM-Fixa'!G43 -> 22198.45 | F11: =E11*D11 -> 110992.25
A12: 1.2 | B12: Veículos | C12: mês | D12: 5 | E12: ='02-ADM-Fixa'!J61 -> 30830.34 | F12: =E12*D12 -> 154151.7
A13: Subtotal do Item 1 | F13: =SUM(F11:F12) -> 265143.95
A14: 2. | B14: Parcela Vinculada
A15: 2.1 | B15: Equipe de topografia | C15: mês | D15: 5 | E15: ='03-ADM-Vinculada'!G47 -> 23615.77 | F15: =E15*D15 -> 118078.85
A16: Subtotal do Item 2 | F16: =SUM(F15:F15) -> 118078.85
A17: 3. | B17: Parcela Variável
A18: 3.1 | B18: Equipes de frente de serviço | C18: eq x mês | D18: ='04-ADM-Variavel'!G10 -> 16.348264 | E18: ='05-ADM-Variavel$'!G14 -> 8473.8 | F18: =E18*D18 -> 138531.92
A19: 3.2 | B19: Controle Tecnológico | C19: eq x mês | D19: ='04-ADM-Variavel'!G12 -> 1.5083813 | E19: ='05-ADM-Variavel$'!G27 -> 22182.61 | F19: =E19*D19 -> 33459.834
A20: 3.5 | B20: Manejo florestal | C20: eq x mês | D20: ='04-ADM-Variavel'!G11 -> 0.066122366 | E20: ='05-ADM-Variavel$'!G32 -> 7622.15 | F20: =E20*D20 -> 503.99459
A21: Subtotal do Item 3 | F21: =SUM(F18:F20) -> 172495.75
A22: 4. | B22: Manutenção dos Canteiros de Obras e Acampamentos
A23: 4.1 | B23: Equipe de manutenção | C23: mês | D23: 4 | E23: ='06-Manutenção Canteiro'!G17 -> 923.72 | F23: =E23*D23 -> 3694.88
A24: Subtotal do Item 4 | F24: =F23 -> 3694.88
A26: Subtotal | F26: =F21+F16+F13+F24 -> 559413.43
A28: 5. | B28: Despesas Diversas
A29: 5.1 | B29: Despesas Diversas | C29: % | D29: 0.05 | F29: =F26*D29 -> 27970.671
A31: Custo total da Administração Local | F31: =F29+F26 -> 587384.1
A32: OBS: As parcelas de custo incluem mão de obra e veículos

Sheet 02-ADM-Fixa
A1: ='01-ADM-Resumo'!A1 -> Rodovia: PE-460
A2: ='01-ADM-Resumo'!A2 -> Trecho: Acesso ao Porto da Barra do Tarrachil
A3: ='01-ADM-Resumo'!A3 -> Extensão: 4,86 km
A5: ADMINISTRAÇÃO LOCAL
A6: PARCELA FIXA - DIMENSIONAMENTO
A8: Quantidades das equipes da parcela fixa e complementar | D8: Homens
A9: Total das equipes de parcela fixa e complementar | D9: =E43 -> 2.25
F11: Data-base: | G11: ='01-ADM-Resumo'!$F$7 -> 45839 | H11: Não desonerada
A12: Administração local - parcela fixa principal - mão de obra
A13: Código | B13: Discriminação | C13: Código SICRO | D13: Unidade | E13: Quantidade | F13: Custo Unitário (R$) | G13: Custo Total (R$)
A14: 1. | B14: Mão de obra (principal fixa)
A15: 1.1. | B15: Gerência Técnica
A16: 1.1.1. | B16: Geral
A17: 1.1.1.1. | B17: Engenheiro Chefe | C17: P9955 | D17: mês | E17: 0 | F17: =IFERROR(VLOOKUP(C17,'[149]MÃO DE OBRA-JUL25'!$A:$D,4,0),"nloc") -> 34476.996 | G17: =ROUND(F17*E17,2) -> 0
A18: 1.1.1.1. | B18: =IFERROR(VLOOKUP(C18,'[149]MÃO DE OBRA-JUL25'!$A:$D,2,0),"nloc") -> Engenheiro supervisor | C18: P9819 | D18: mês | E18: 0.25 | F18: =IFERROR(VLOOKUP(C18,'[149]MÃO DE OBRA-JUL25'!$A:$D,4,0),"nloc") -> 27139.329 | G18: =ROUND(F18*E18,2) -> 6784.83
A19: 1.1.1.2. | B19: =IFERROR(VLOOKUP(C19,'[149]MÃO DE OBRA-JUL25'!$A:$D,2,0),"nloc") -> Encarregado geral | C19: P9840 | D19: mês | E19: 1 | F19: =IFERROR(VLOOKUP(C19,'[149]MÃO DE OBRA-JUL25'!$A:$D,4,0),"nloc") -> 11171.625 | G19: =ROUND(F19*E19,2) -> 11171.63
A20: 1.1.1.3. | B20: Técnico de meio ambiente | C20: P9897 | D20: mês | E20: 0 | F20: =IFERROR(VLOOKUP(C20,'[149]MÃO DE OBRA-JUL25'!$A:$D,4,0),"nloc") -> 7622.1497 | G20: =ROUND(F20*E20,2) -> 0
A21: 1.1.1.6. | B21: Motorista | C21: P9948 | D21: mês | E21: 0 | F21: =IFERROR(VLOOKUP(C21,'[149]MÃO DE OBRA-JUL25'!$A:$D,4,0),"nloc") -> 5896.6377 | G21: =ROUND(F21*E21,2) -> 0
A22: 1.1.1.7. | B22: Secretária | C22: P9878 | D22: mês | E22: 0 | F22: =IFERROR(VLOOKUP(C22,'[149]MÃO DE OBRA-JUL25'!$A:$D,4,0),"nloc") -> 6719.5959 | G22: =ROUND(F22*E22,2) -> 0
A23: 1.1.2. | B23: Auxiliar
A24: 1.1.2.1. | B24: =IFERROR(VLOOKUP(C24,'[149]MÃO DE OBRA-JUL25'!$A:$D,2,0),"nloc") -> Engenheiro auxiliar | C24: P9946 | D24: mês | E24: 0 | F24: =IFERROR(VLOOKUP(C24,'[149]MÃO DE OBRA-JUL25'!$A:$D,4,0),"nloc") -> 24878.431 | G24: =ROUND(F24*E24,2) -> 0
A25: 1.1.2.2. | B25: =IFERROR(VLOOKUP(C25,'[149]MÃO DE OBRA-JUL25'!$A:$D,2,0),"nloc") -> Auxiliar técnico | C25: P9903 | D25: mês | E25: 0 | F25: =IFERROR(VLOOKUP(C25,'[149]MÃO DE OBRA-JUL25'!$A:$D,4,0),"nloc") -> 4763.972 | G25: =ROUND(F25*E25,2) -> 0
A26: 1.2. | B26: Gerência Administrativa
A27: 1.2.1. | B27: Geral
A28: 1.2.1.1. | B28: Chefe do setor administrativo | C28: P9883 | D28: mês | E28: 0 | F28: =IFERROR(VLOOKUP(C28,'[149]MÃO DE OBRA-JUL25'!$A:$D,4,0),"nloc") -> 7357.4391 | G28: =ROUND(F28*E28,2) -> 0
A29: 1.2.1.2. | B29: Encarregado administrativo | C29: P9809 | D29: mês | E29: 0 | F29: =IFERROR(VLOOKUP(C29,'[149]MÃO DE OBRA-JUL25'!$A:$D,4,0),"nloc") -> 7357.4401 | G29: =ROUND(F29*E29,2) -> 0
A30: 1.2.1.2. | B30: Porteiro | C30: P9896 | D30: mês | E30: 0 | F30: =IFERROR(VLOOKUP(C30,'[149]MÃO DE OBRA-JUL25'!$A:$D,4,0),"nloc") -> 4232.8134 | G30: =ROUND(F30*E30,2) -> 0
A31: 1.2.1.3. | B31: =IFERROR(VLOOKUP(C31,'[149]MÃO DE OBRA-JUL25'!$A:$D,2,0),"nloc") -> Vigia | C31: P9827 | D31: mês | E31: 0 | F31: =IFERROR(VLOOKUP(C31,'[149]MÃO DE OBRA-JUL25'!$A:$D,4,0),"nloc") -> 4843.939 | G31: =ROUND(F31*E31,2) -> 0
A32: 1.2.1.5. | B32: Motorista | C32: P9948 | D32: mês | E32: 0 | F32: =IFERROR(VLOOKUP(C32,'[149]MÃO DE OBRA-JUL25'!$A:$D,4,0),"nloc") -> 5896.6377 | G32: =ROUND(F32*E32,2) -> 0
A33: 1.2.2. | B33: Auxiliar
A34: 1.2.2.1. | B34: =IFERROR(VLOOKUP(C34,'[149]MÃO DE OBRA-JUL25'!$A:$D,2,0),"nloc") -> Auxiliar administrativo | C34: P9806 | D34: mês | E34: 0 | F34: =IFERROR(VLOOKUP(C34,'[149]MÃO DE OBRA-JUL25'!$A:$D,4,0),"nloc") -> 5029.8543 | G34: =ROUND(F34*E34,2) -> 0
