Workbook
Name \0: #REF!
Name \0: #REF!
Name \1: #REF!
Name \11: #REF!
Name \2: #REF!
Name \a: #REF!
Name \a: #REF!
Name \B: #REF!
Name \c: #REF!
Name \D: #REF!
Name \E: #REF!
Name \fagf: #REF!
Name \I: #REF!
Name \I: #REF!
Name \p: #REF!
Name \S: #REF!
Name \S: #REF!
Name \SA: #REF!
Name \w: #REF!
Name \x: #REF!
Name \z: #REF!
Name \ZACVDERVREW: #N/A
Name _\: [1]Orçamento!$F$61:$F$659
Name _\1: [2]planilha!#REF!
Name _\11: [3]planilha!#REF!
Name _\a: [4]compos1!#REF!
Name _\b: [5]sid_ni_5!#REF!
Name _\c: [5]sid_ni_5!#REF!
Name _\F: #REF!
Name _\fagf: #REF!
Name _\I: #REF!
Name _\p: [5]sid_ni_5!#REF!
Name _\R: #REF!
Name _\S: [6]compos1!#REF!
Name _\w: [7]Planilha!#REF!
Name _\z: [8]MARSHALL!$M$3
Name _\ZACVDERVREW: #N/A
Name __\1: [2]planilha!#REF!
Name __\11: [3]planilha!#REF!
Name __\a: [4]compos1!#REF!
Name __\b: [5]sid_ni_5!#REF!
Name __\c: [5]sid_ni_5!#REF!
Name __\F: #REF!
Name __\fagf: #REF!
Name __\I: #REF!
Name __\p: [5]sid_ni_5!#REF!
Name __\R: #REF!
Name __\S: [6]compos1!#REF!
Name __\w: [7]Planilha!#REF!
Name ___\1: [2]planilha!#REF!
Name ___\11: [3]planilha!#REF!
Name ___\a: [4]compos1!#REF!
Name ___\b: [5]sid_ni_5!#REF!
Name ___\c: [5]sid_ni_5!#REF!
Name ___\fagf: #REF!
Name ___\I: #REF!
Name ___\p: [5]sid_ni_5!#REF!
Name ___\S: #REF!
Name ___\w: [7]Planilha!#REF!
Name ____\I: #REF!

Sheet CPU's
F1: CUSTO UNITÁRIO DE REFERÊNCIA | X1: Pág: 1
A2: Serviço: | D2: ADMINISTRAÇAO LOCAL DE OBRAS | P2: Código | T2: C0001 | Y2: D.B. | AB2: 45658
P3: Prod. Equipe: | T3: 1 | Y3: Unid: | AB3: UN
A5: Equipamento (A) | I5: Qtde. | J5: Utilização | Q5: Custo Operacional | Z5: Custo Horário
J6: Operat. | M6: Improd. | Q6: Operat. | V6: Improd.
I7: CUSTO HORÁRIO DE EQUIPAMENTO = | W7: 0
A8: Mão de Obra (B) | K8: Encargos | P8: Qtde. | U8: Salário-Hora | Z8: Custo Horário
I9: CUSTO HORÁRIO DE MÃO DE OBRA = | W9: 0
I10: CUSTO HORÁRIO DE EXECUÇÃO = | W10: 0
I11: CUSTO UNITÁRIO DE EXECUÇÃO = | W11: 0
I12: CUSTO DO FIC = | W12: 0
I13: CUSTO DO FIT = | W13: 0
A14: Material (C) | K14: Qtde. | P14: Unidade | U14: Preço Unit. | Z14: Custo Unitário
B15: IN0009 | D15: CUSTO DA ADMINISTRAÇÃO LOCAL | K15: 1 | P15: UND | U15: 1538018.4 | Z15: 1538018.4
I16: CUSTO TOTAL DO MATERIAL = | W16: 1538018.4
A17: Atividades Auxiliares (D) | K17: Qtde. | P17: Unidade | U17: Preço Unit. | Z17: Custo Unitário
I18: CUSTO TOTAL DAS ATIVIDADES = | W18: 0
A19: Tempo Fixo (E) | K19: Qtde. | P19: Unidade | U19: Preço Unit. | Z19: Custo Unitário
I20: CUSTO UNITÁRIO TOTAL DO TEMPO FIXO = | W20: 0
A21: Momento de Transporte (F) | E21: Qtde. | H21: DMT-LN | I21: DMT-RP | J21: DMT-P | M21: P1 | Q21: P2 | V21: P3 | Z21: Custo Unitário
I22: CUSTO UNITÁRIO TOTAL DE TRANSPORTE = | W22: 0
I24: CUSTO UNITÁRIO DIRETO TOTAL = | W24: 1538018.4
G25: BONIFICAÇÕES E DESPESAS INDIRETAS ( | O25: 0 | S25: % ) = | W25: 0
I26: PREÇO UNITÁRIO TOTAL = | W26: 1538018.4
F31: CUSTO UNITÁRIO DE REFERÊNCIA | X31: Pág: 2
A32: Serviço: | D32: CUSTO PARA IMPLANTAÇÃO DO CANTEIRO DE OBRAS | P32: Código | T32: C0002 | Y32: D.B. | AB32: 45658
P33: Prod. Equipe: | T33: 1 | Y33: Unid: | AB33: UN
A35: Equipamento (A) | I35: Qtde. | J35: Utilização | Q35: Custo Operacional | Z35: Custo Horário
J36: Operat. | M36: Improd. | Q36: Operat. | V36: Improd.
I37: CUSTO HORÁRIO DE EQUIPAMENTO = | W37: 0
A38: Mão de Obra (B) | K38: Encargos | P38: Qtde. | U38: Salário-Hora | Z38: Custo Horário
I39: CUSTO HORÁRIO DE MÃO DE OBRA = | W39: 0
I40: CUSTO HORÁRIO DE EXECUÇÃO = | W40: 0
I41: CUSTO UNITÁRIO DE EXECUÇÃO = | W41: 0
I42: CUSTO DO FIC = | W42: 0
I43: CUSTO DO FIT = | W43: 0
A44: Material (C) | K44: Qtde. | P44: Unidade | U44: Preço Unit. | Z44: Custo Unitário
B45: IN0008 | D45: CUSTO DO CANTEIRO DE OBRAS | K45: 1 | P45: UN | U45: 508139.35 | Z45: 508139.35
I46: CUSTO TOTAL DO MATERIAL = | W46: 508139.35
A47: Atividades Auxiliares (D) | K47: Qtde. | P47: Unidade | U47: Preço Unit. | Z47: Custo Unitário
...

Sheet RESUMO
A1: CLIENTE: | B1: DEPARTAMENTO DE ESTRADAS DE RODAGEM DO ESTADO DE PERNAMBUCO - DER/PE | D1: DATA BASE: | E1: JANEIRO/2025 - PE
A2: PROJETO: | B2: REABILITAÇÃO DE RODOVIAS DO ESTADO DE PERNAMBUCO
A3: RODOVIAS: | B3: 626APE0005 / 655APE0001 / PE-625 / PE-626 / PE-628 / PE-632 / PE-634 / PE-635
A4: LOTE: | B4: LOTE 09
A5: EXTENSÃO: | B5: 219,15km | D5: TRIBUTAÇÃO: | E5: SEM DESONERAÇÃO
A6: ITEM | B6: DESCRIÇÃO DOS SERVIÇOS | C6: R$ | D6: % | E6: VALOR / KM
A7: ='P.O.'!A14 -> 1 | B7: ='P.O.'!D14 -> ADMINISTRAÇAO LOCAL DE OBRAS | C7: ='P.O.'!J14 -> 1864539.7 | D7: =C7/$C$18 -> 0.021885859 | E7: =C7/$D$19 -> 8508.0526
A8: ='P.O.'!A17 -> 2 | B8: ='P.O.'!D17 -> CANTEIRO DE OBRAS | C8: ='P.O.'!J17 -> 783758.25 | D8: =C8/$C$18 -> 0.0091997088 | E8: =C8/$D$19 -> 3576.3552
A9: ='P.O.'!A22 -> 3 | B9: ='P.O.'!D22 -> MOBILIZAÇÃO E DESMOBILIZAÇÃO | C9: ='P.O.'!J22 -> 761512.52 | D9: =C9/$C$18 -> 0.0089385897 | E9: =C9/$D$19 -> 3474.8461
A10: ='P.O.'!A25 -> 4 | B10: ='P.O.'!D25 -> 626APE0005 - ENTR. BR-428 (PETROLINA) / ENTR. PE-626 (KM 4,95) | C10: ='P.O.'!J25 -> 1749681.7 | D10: =C10/$C$18 -> 0.020537662 | E10: =C10/$D$19 -> 7983.9458
A11: ='P.O.'!A62 -> 5 | B11: ='P.O.'!D62 -> 655APE0001 - PETROLINA / ENTR. PE-655 (JATOBÁ) | C11: ='P.O.'!J62 -> 2325334.5 | D11: =C11/$C$18 -> 0.027294641 | E11: =C11/$D$19 -> 10610.698
A12: ='P.O.'!A95 -> 6 | B12: ='P.O.'!D95 -> RODOVIA PE-625 - ENTR. PE604 (SANTA CRUZ) / ENTR. PE-630 (SANTA FILOMENA) | C12: ='P.O.'!J95 -> 8416727.4 | D12: =C12/$C$18 -> 0.098795057 | E12: =C12/$D$19 -> 38406.24
A13: ='P.O.'!A138 -> 7 | B13: ='P.O.'!D138 -> RODOVIA PE-626 - ENTR. BR-428 (PRÓXIMO A LAGOA GRANDE) / PETROLINA | C13: ='P.O.'!J138 -> 17772987 | D13: =C13/$C$18 -> 0.20861829 | E13: =C13/$D$19 -> 81099.645
A14: ='P.O.'!A185 -> 8 | B14: ='P.O.'!D185 -> RODOVIA PE-628 - ENTR. BR-428 / ENTR. PE-634 (P/ URUÁS) | C14: ='P.O.'!J185 -> 11225054 | D14: =C14/$C$18 -> 0.13175903 | E14: =C14/$D$19 -> 51220.87
A15: ='P.O.'!A225 -> 9 | B15: ='P.O.'!D225 -> RODOVIA PE-632 - ENTR. 428 / CAPIM | C15: ='P.O.'!J225 -> 1905551.3 | D15: =C15/$C$18 -> 0.022367251 | E15: =C15/$D$19 -> 8695.192
A16: ='P.O.'!A259 -> 10 | B16: ='P.O.'!D259 -> RODOVIA PE-634 - ENTR. BR407 / URUÁS/CRUZ DE SALINAS | C16: ='P.O.'!J259 -> 3979525.3 | D16: =C16/$C$18 -> 0.046711436 | E16: =C16/$D$19 -> 18158.911
A17: 12 | B17: ='P.O.'!D293 -> RODOVIA PE-635 - ENTR. PE-604 / ENTR. PE-630 (DORMENTES) | C17: ='P.O.'!J293 -> 34409139 | D17: =C17/$C$18 -> 0.40389248 | E17: =C17/$D$19 -> 157011.82
B18: TOTAL GERAL | C18: =C12+C11+C10+C9+C8+C7+C13+C14+C15+C16+C17 -> 85193811 | D18: =D12+D11+D10+D9+D8+D7+D13+D14+D15+D16+D17 -> 1 | E18: =C18/$D$19 -> 388746.57
C19: KM DO PROJETO | D19: 219.15 | E19: Km

Sheet P.O.
A1: =RESUMO!A1 -> CLIENTE: | B1: =RESUMO!B1 -> DEPARTAMENTO DE ESTRADAS DE RODAGEM DO ESTADO DE PERNAMBUCO - DER/PE
A2: =RESUMO!A2 -> PROJETO: | B2: =RESUMO!B2 -> REABILITAÇÃO DE RODOVIAS DO ESTADO DE PERNAMBUCO
A3: =RESUMO!A3 -> RODOVIAS: | B3: =RESUMO!B3 -> 626APE0005 / 655APE0001 / PE-625 / PE-626 / PE-628 / PE-632 / PE-634 / PE-635
A4: =RESUMO!A4 -> LOTE: | B4: =RESUMO!B4 -> LOTE 09 | I4: DATA BASE: | J4: =RESUMO!E1 -> JANEIRO/2025 - PE
A5: =RESUMO!A5 -> EXTENSÃO: | B5: =RESUMO!B5 -> 219,15km | I5: TRIBUTAÇÃO: | J5: =RESUMO!E5 -> SEM DESONERAÇÃO | M5: =SUBTOTAL(9,J29:J318) -> 3.0746784e+08 | N5: =M5/M6 -> 3.6090397
I6: BDI SERVIÇOS: | J6: 0.2123 | M6: =J335 -> 85193811
I7: BDI DIFERENCIADO: | J7: 0.15
A9: PLANILHA ORÇAMENTÁRIA
A11: ITEM | B11: CÓDIGO | C11: FONTE | D11: DESCRIÇÃO | E11: UND | F11: QUANT. | G11: CUSTO UNITÁRIO (R$) | H11: BDI (%) | I11: PREÇO UNITÁRIO (R$) | J11: PREÇO TOTAL (R$)
A14: 1 | D14: ADMINISTRAÇAO LOCAL DE OBRAS | J14: =J15 -> 1864539.7
A15: 1.1 | B15: C0001 | C15: PRÓPRIA | D15: CUSTO DA ADMINISTRAÇÃO LOCAL | E15: UN | F15: 1 | G15: 1538018.4 | H15: =$J$6 -> 0.2123 | I15: =ROUND(((H15+1)*G15),2) -> 1864539.7 | J15: =TRUNC((I15*F15),2) -> 1864539.7 | K15: =G15*F15 -> 1538018.4
A17: 2 | D17: CANTEIRO DE OBRAS | J17: =SUM(J18:J20) -> 783758.25
A18: 2.1 | B18: C0002 | C18: PRÓPRIA | D18: CUSTO PARA IMPLANTAÇÃO DO CANTEIRO DE OBRAS | E18: UN | F18: 1 | G18: 508139.35 | H18: =$J$6 -> 0.2123 | I18: =ROUND(((H18+1)*G18),2) -> 616017.33 | J18: =TRUNC((I18*F18),2) -> 616017.33 | K18: =G18*F18 -> 508139.35
A19: 2.2 | B19: C0003 | C19: PRÓPRIA | D19: FORNECIMENTO, TRANSPORTE E ASSENTAMENTO DE PLACA DE OBRA | E19: M² | F19: =7*2*12 -> 168 | G19: 445.45 | H19: =$J$6 -> 0.2123 | I19: =ROUND(((H19+1)*G19),2) -> 540.02 | J19: =TRUNC((I19*F19),2) -> 90723.36 | K19: =G19*F19 -> 74835.6
A20: 2.3 | B20: 903802 | C20: SICRO | D20: BACIA DE CONTENÇÃO PARA TANQUE DE EMULSÃO DE 30.000 L, SEM COBERTURA, INCLUSIVE DEMOLIÇÕES | E20: UN | F20: 4 | G20: 15882.53 | H20: =$J$6 -> 0.2123 | I20: =ROUND(((H20+1)*G20),2) -> 19254.39 | J20: =TRUNC((I20*F20),2) -> 77017.56 | K20: =G20*F20 -> 63530.12
A22: 3 | D22: MOBILIZAÇÃO E DESMOBILIZAÇÃO | J22: =J23 -> 761512.52
A23: 3.1 | B23: C0003 | C23: PRÓPRIA | D23: CUSTO DE MOBILIZAÇÃO E DESMOBILIZAÇÃO DA OBRA | E23: UN | F23: 2 | G23: 314077.59 | H23: =$J$6 -> 0.2123 | I23: =ROUND(((H23+1)*G23),2) -> 380756.26 | J23: =TRUNC((I23*F23),2) -> 761512.52 | K23: =G23*F23 -> 628155.18
A25: 4 | D25: 626APE0005 - ENTR. BR-428 (PETROLINA) / ENTR. PE-626 (KM 4,95) | J25: =J26+J39+J43 -> 1749681.7
A26: 4.1 | D26: PAVIMENTAÇÃO | J26: =J27+J34 -> 495345.54
A27: 4.1.1 | D27: PISTA DE ROLAMENTO E ACOSTAMENTO | J27: =SUM(J28:J33) -> 137555.45
A28: 4.1.1.1 | B28: 4915746 | C28: SICRO | D28: REMENDO PROFUNDO COM IMPRIMAÇÃO COM ASFALTO DILUÍDO - DEMOLIÇÃO MECÂNICA E CORTE COM SERRA | E28: M³ | F28: 5.396 | G28: 412.98 | H28: =$J$6 -> 0.2123 | I28: =ROUND(((H28+1)*G28),2) -> 500.66 | J28: =TRUNC((I28*F28),2) -> 2701.56 | K28: =G28*F28 -> 2228.4401
A29: 4.1.1.2 | B29: S0010 | C29: PRÓPRIA | D29: AQUISIÇÃO DE MASSA ASFÁLTICA COMERCIAL | E29: T | F29: 3.24 | G29: 669.95 | H29: =$J$7 -> 0.15 | I29: =ROUND(((H29+1)*G29),2) -> 770.44 | J29: =TRUNC((I29*F29),2) -> 2496.22 | K29: =G29*F29 -> 2170.638
A30: 4.1.1.3 | B30: 5914389 | C30: SICRO | D30: TRANSPORTE COM CAMINHÃO BASCULANTE DE 10 M³ - RODOVIA PAVIMENTADA | E30: TKM | F30: =F29*44.77 -> 145.0548 | G30: 0.83 | H30: =$J$6 -> 0.2123 | I30: =ROUND(((H30+1)*G30),2) -> 1.01 | J30: =TRUNC((I30*F30),2) -> 146.5 | K30: =G30*F30 -> 120.39548
A31: 4.1.1.4 | B31: 4011212 | C31: SICRO | D31: VARREDURA DA SUPERFÍCIE PARA EXECUÇÃO DE REVESTIMENTO ASFÁLTICO | E31: M² | F31: 26980 | G31: 0.07 | H31: =$J$6 -> 0.2123 | I31: =ROUND(((H31+1)*G31),2) -> 0.08 | J31: =TRUNC((I31*F31),2) -> 2158.4 | K31: =G31*F31 -> 1888.6
A32: 4.1.1.5 | B32: 4011353 | C32: SICRO | D32: PINTURA DE LIGAÇÃO | E32: M² | F32: 26.98 | G32: 0.28 | H32: =$J$6 -> 0.2123 | I32: =ROUND(((H32+1)*G32),2) -> 0.34 | J32: =TRUNC((I32*F32),2) -> 9.17 | K32: =G32*F32 -> 7.5544
A33: 4.1.1.6 | B33: 4011410 | C33: SICRO | D33: MICRORREVESTIMENTO A FRIO COM EMULSÃO MODIFICADA COM POLÍMERO DE 1,5 CM - FAIXA III - BRITA COMERCIAL | E33: M² | F33: 26980 | G33: 3.98 | H33: =$J$6 -> 0.2123 | I33: =ROUND(((H33+1)*G33),2) -> 4.82 | J33: =TRUNC((I33*F33),2) -> 130043.6 | K33: =G33*F33 -> 107380.4
A34: 4.1.2 | D34: MATERIAIS BETUMINOSOS | J34: =SUM(J35:J38) -> 357790.09
A35: 4.1.2.1 | B35: S0002 | C35: ANP | D35: AQUISIÇÃO DE MATERIAL BETUMINOSO - EMULSÕES ASFÁLTICAS RR-1C | E35: T | F35: 0.012 | G35: 3880.63 | H35: =$J$7 -> 0.15 | I35: =ROUND(((H35+1)*G35),2) -> 4462.72 | J35: =TRUNC((I35*F35),2) -> 53.55 | K35: =G35*F35 -> 46.56756
A36: 4.1.2.2 | B36: S0004 | C36: ANP | D36: AQUISIÇÃO DE MATERIAL BETUMINOSO - EMULSÕES ASFÁLTICA MODIFICADA POR POLÍMEROS RR1C-E | E36: T | F36: 63.673 | G36: 4516.85 | H36: =$J$7 -> 0.15 | I36: =ROUND(((H36+1)*G36),2) -> 5194.38 | J36: =TRUNC((I36*F36),2) -> 330741.75 | K36: =G36*F36 -> 287601.39
A37: 4.1.2.3 | B37: S0006 | C37: SICRO | D37: TRANSPORTE DE MATERIAL BETUMINOSO - EMULSÕES ASFÁLTICAS RR-1C | E37: T | F37: =F35 -> 0.012 | G37: 368.59 | H37: =$J$7 -> 0.15 | I37: =ROUND(((H37+1)*G37),2) -> 423.88 | J37: =TRUNC((I37*F37),2) -> 5.08 | K37: =G37*F37 -> 4.42308
A38: 4.1.2.4 | B38: S0008 | C38: SICRO | D38: TRANSPORTE DE MATERIAL BETUMINOSO - EMULSÕES ASFÁLTICA MODIFICADA POR POLÍMEROS RR1C-E | E38: T | F38: =F36 -> 63.673 | G38: 368.59 | H38: =$J$7 -> 0.15 | I38: =ROUND(((H38+1)*G38),2) -> 423.88 | J38: =TRUNC((I38*F38),2) -> 26989.71 | K38: =G38*F38 -> 23469.231
A39: 4.2 | D39: DRENAGEM | J39: =SUM(J40:J42) -> 276952.94
A40: 4.2.1 | B40: 2003377 | C40: SICRO | D40: MEIO-FIO DE CONCRETO - MFC 05 - AREIA E BRITA COMERCIAIS - FÔRMA DE MADEIRA | E40: M | F40: 3366 | G40: 57.4 | H40: =$J$6 -> 0.2123 | I40: =ROUND(((H40+1)*G40),2) -> 69.59 | J40: =TRUNC((I40*F40),2) -> 234239.94 | K40: =G40*F40 -> 193208.4
A41: 4.2.2 | B41: 1619006 | C41: SICRO | D41: DEMOLIÇÃO MECÂNICA DE CONCRETO SIMPLES COM ESCAVADEIRA HIDRÁULICA | E41: M³ | F41: 112.4244 | G41: 113.84 | H41: =$J$6 -> 0.2123 | I41: =ROUND(((H41+1)*G41),2) -> 138.01 | J41: =TRUNC((I41*F41),2) -> 15515.69 | K41: =G41*F41 -> 12798.394
A42: 4.2.3 | B42: S0009 | C42: PRÓPRIA | D42: DESTINAÇÃO DE RESÍDUOS SÓLIDOS EM CTR | E42: T | F42: 269.8146 | G42: 87.65 | H42: =$J$7 -> 0.15 | I42: =ROUND(((H42+1)*G42),2) -> 100.8 | J42: =TRUNC((I42*F42),2) -> 27197.31 | K42: =G42*F42 -> 23649.25
A43: 4.3 | D43: SINALIZAÇÃO | J43: =J44+J48+J53 -> 977383.24
A44: 4.3.1 | D44: SINALIZAÇÃO HORIZONTAL | J44: =SUM(J45:J47) -> 826537.86
A45: 4.3.1.1 | B45: 5213408 | C45: SICRO | D45: PINTURA DE FAIXA COM TERMOPLÁSTICO POR ASPERSÃO - ESPESSURA DE 1,5 MM | E45: M² | F45: 5442.81 | G45: 48.21 | H45: =$J$6 -> 0.2123 | I45: =ROUND(((H45+1)*G45),2) -> 58.44 | J45: =TRUNC((I45*F45),2) -> 318077.81 | K45: =G45*F45 -> 262397.87
A46: 4.3.1.2 | B46: 5213409 | C46: SICRO | D46: PINTURA DE SETAS E ZEBRADOS COM TERMOPLÁSTICO POR EXTRUSÃO - ESPESSURA DE 3,0 MM | E46: M² | F46: 28.13 | G46: 102.62 | H46: =$J$6 -> 0.2123 | I46: =ROUND(((H46+1)*G46),2) -> 124.41 | J46: =TRUNC((I46*F46),2) -> 3499.65 | K46: =G46*F46 -> 2886.7006
A47: 4.3.1.3 | B47: 5219623 | C47: SICRO | D47: TACHA REFLETIVA EM RESINA SINTÉTICA - BIDIRECIONAL TIPO III - COM UM PINO - FORNECIMENTO E COLOCAÇÃO | E47: UN | F47: 7841 | G47: 53.12 | H47: =$J$6 -> 0.2123 | I47: =ROUND(((H47+1)*G47),2) -> 64.4 | J47: =TRUNC((I47*F47),2) -> 504960.4 | K47: =G47*F47 -> 416513.92
...

Sheet CURVA ABC
A1: =RESUMO!A1 -> CLIENTE: | B1: =RESUMO!B1 -> DEPARTAMENTO DE ESTRADAS DE RODAGEM DO ESTADO DE PERNAMBUCO - DER/PE
A2: =RESUMO!A2 -> PROJETO: | B2: =RESUMO!B2 -> REABILITAÇÃO DE RODOVIAS DO ESTADO DE PERNAMBUCO
A3: =RESUMO!A3 -> RODOVIAS: | B3: =RESUMO!B3 -> 626APE0005 / 655APE0001 / PE-625 / PE-626 / PE-628 / PE-632 / PE-634 / PE-635
A4: =RESUMO!A4 -> LOTE: | B4: =RESUMO!B4 -> LOTE 09 | I4: =[10]RESUMO!E1 -> JANEIRO/2025 - PE
A5: =RESUMO!A5 -> EXTENSÃO: | B5: =RESUMO!B5 -> 219,15km | I5: =[10]RESUMO!E5 -> SEM DESONERAÇÃO
H6: BDI SERVIÇOS: | I6: 0.2123
H7: BDI DIFERENCIADO: | I7: 0.15
A10: CÓDIGO | B10: FONTE | C10: DESCRIÇÃO | D10: UND | E10: QUANT. | F10: PREÇO UNITÁRIO (R$) | G10: PREÇO TOTAL (R$) | H10: CURVA ABC
H11: % | I11: % ACUM
A12: S0010 | B12: PRÓPRIA | C12: AQUISIÇÃO DE MASSA ASFÁLTICA COMERCIAL | D12: T | E12: =SUMIF('P.O.'!$D$14:$F$334,C12,'P.O.'!$F$14:$F$334) -> 26530.591 | F12: =VLOOKUP(C12,'P.O.'!$D$14:$I$334,6,) -> 770.44 | G12: =TRUNC((E12*F12),2) -> 20440229 | H12: =G12/$G$61 -> 0.23992621 | I12: =H12 -> 0.23992621
A13: S0004 | B13: ANP | C13: AQUISIÇÃO DE MATERIAL BETUMINOSO - EMULSÕES ASFÁLTICA MODIFICADA POR POLÍMEROS RR1C-E | D13: T | E13: =SUMIF('P.O.'!$D$14:$F$334,C13,'P.O.'!$F$14:$F$334) -> 3720.582 | F13: =VLOOKUP(C13,'P.O.'!$D$14:$I$334,6,) -> 5194.38 | G13: =TRUNC((E13*F13),2) -> 19326117 | H13: =G13/$G$61 -> 0.22684883 | I13: =H13+I12 -> 0.46677505
A14: 4011410 | B14: SICRO | C14: MICRORREVESTIMENTO A FRIO COM EMULSÃO MODIFICADA COM POLÍMERO DE 1,5 CM - FAIXA III - BRITA COMERCIAL | D14: M² | E14: =SUMIF('P.O.'!$D$14:$F$334,C14,'P.O.'!$F$14:$F$334) -> 1576518.2 | F14: =VLOOKUP(C14,'P.O.'!$D$14:$I$334,6,) -> 4.82 | G14: =TRUNC((E14*F14),2) -> 7598817.7 | H14: =G14/$G$61 -> 0.089194481 | I14: =H14+I13 -> 0.55596953
A15: 2003377 | B15: SICRO | C15: MEIO-FIO DE CONCRETO - MFC 05 - AREIA E BRITA COMERCIAIS - FÔRMA DE MADEIRA | D15: M | E15: =SUMIF('P.O.'!$D$14:$F$334,C15,'P.O.'!$F$14:$F$334) -> 85570.1 | F15: =VLOOKUP(C15,'P.O.'!$D$14:$I$334,6,) -> 69.59 | G15: =TRUNC((E15*F15),2) -> 5954823.2 | H15: =G15/$G$61 -> 0.069897369 | I15: =H15+I14 -> 0.6258669
A16: 5219623 | B16: SICRO | C16: TACHA REFLETIVA EM RESINA SINTÉTICA - BIDIRECIONAL TIPO III - COM UM PINO - FORNECIMENTO E COLOCAÇÃO | D16: UN | E16: =SUMIF('P.O.'!$D$14:$F$334,C16,'P.O.'!$F$14:$F$334) -> 91270 | F16: =VLOOKUP(C16,'P.O.'!$D$14:$I$334,6,) -> 64.4 | G16: =TRUNC((E16*F16),2) -> 5877788 | H16: =G16/$G$61 -> 0.068993134 | I16: =H16+I15 -> 0.69486003
A17: 5213408 | B17: SICRO | C17: PINTURA DE FAIXA COM TERMOPLÁSTICO POR ASPERSÃO - ESPESSURA DE 1,5 MM | D17: M² | E17: =SUMIF('P.O.'!$D$14:$F$334,C17,'P.O.'!$F$14:$F$334) -> 90258.61 | F17: =VLOOKUP(C17,'P.O.'!$D$14:$I$334,6,) -> 58.44 | G17: =TRUNC((E17*F17),2) -> 5274713.2 | H17: =G17/$G$61 -> 0.061914276 | I17: =H17+I16 -> 0.75677431
A18: 4011484 | B18: SICRO | C18: RECICLAGEM COM INCORPORAÇÃO DO REVESTIMENTO ASFÁLTICO À BASE E ADIÇÃO DE BRITA COMERCIAL - 100% PROCTOR MODIFICADO | D18: M³ | E18: =SUMIF('P.O.'!$D$14:$F$334,C18,'P.O.'!$F$14:$F$334) -> 44200 | F18: =VLOOKUP(C18,'P.O.'!$D$14:$I$334,6,) -> 94.6 | G18: =TRUNC((E18*F18),2) -> 4181320 | H18: =G18/$G$61 -> 0.049080091 | I18: =H18+I17 -> 0.8058544
A19: S0001 | B19: ANP | C19: AQUISIÇÃO DE MATERIAL BETUMINOSO - ASFALTOS DILUÍDOS CM-30 | D19: T | E19: =SUMIF('P.O.'!$D$14:$F$334,C19,'P.O.'!$F$14:$F$334) -> 265.2 | F19: =VLOOKUP(C19,'P.O.'!$D$14:$I$334,6,) -> 9229.6 | G19: =TRUNC((E19*F19),2) -> 2447689.9 | H19: =G19/$G$61 -> 0.028730842 | I19: =H19+I18 -> 0.83458524
A20: C0001 | B20: PRÓPRIA | C20: CUSTO DA ADMINISTRAÇÃO LOCAL | D20: UN | E20: =SUMIF('P.O.'!$D$14:$F$334,C20,'P.O.'!$F$14:$F$334) -> 1 | F20: =VLOOKUP(C20,'P.O.'!$D$14:$I$334,6,) -> 1864539.7 | G20: =TRUNC((E20*F20),2) -> 1864539.7 | H20: =G20/$G$61 -> 0.021885859 | I20: =H20+I19 -> 0.8564711
A21: S0008 | B21: SICRO | C21: TRANSPORTE DE MATERIAL BETUMINOSO - EMULSÕES ASFÁLTICA MODIFICADA POR POLÍMEROS RR1C-E | D21: T | E21: =SUMIF('P.O.'!$D$14:$F$334,C21,'P.O.'!$F$14:$F$334) -> 3720.582 | F21: =VLOOKUP(C21,'P.O.'!$D$14:$I$334,6,) -> 423.88 | G21: =TRUNC((E21*F21),2) -> 1577080.3 | H21: =G21/$G$61 -> 0.018511677 | I21: =H21+I20 -> 0.87498278
A22: 5914389 | B22: SICRO | C22: TRANSPORTE COM CAMINHÃO BASCULANTE DE 10 M³ - RODOVIA PAVIMENTADA | D22: TKM | E22: =SUMIF('P.O.'!$D$14:$F$334,C22,'P.O.'!$F$14:$F$334) -> 1187774.6 | F22: =VLOOKUP(C22,'P.O.'!$D$14:$I$334,6,) -> 1.01 | G22: =TRUNC((E22*F22),2) -> 1199652.3 | H22: =G22/$G$61 -> 0.014081449 | I22: =H22+I21 -> 0.88906423
A23: 4011464 | B23: SICRO | C23: CONCRETO ASFÁLTICO - FAIXA C-12,5 - MASSA COMERCIAL | D23: T | E23: =SUMIF('P.O.'!$D$14:$F$334,C23,'P.O.'!$F$14:$F$334) -> 26523.511 | F23: =VLOOKUP(C23,'P.O.'!$D$14:$I$334,6,) -> 40.32 | G23: =TRUNC((E23*F23),2) -> 1069428 | H23: =G23/$G$61 -> 0.012552883 | I23: =H23+I22 -> 0.90161711
A24: 5213572 | B24: SICRO | C24: PLACA EM AÇO - PELÍCULA III + III - FORNECIMENTO E IMPLANTAÇÃO | D24: M² | E24: =SUMIF('P.O.'!$D$14:$F$334,C24,'P.O.'!$F$14:$F$334) -> 1241.81 | F24: =VLOOKUP(C24,'P.O.'!$D$14:$I$334,6,) -> 759.19 | G24: =TRUNC((E24*F24),2) -> 942769.73 | H24: =G24/$G$61 -> 0.011066176 | I24: =H24+I23 -> 0.91268329
A25: 5213850 | B25: SICRO | C25: OPERAÇÃO DE SINALIZAÇÃO POR BANDEIROLA DE TECIDO OU COM PLACA METÁLICA | D25: H | E25: =SUMIF('P.O.'!$D$14:$F$334,C25,'P.O.'!$F$14:$F$334) -> 33443.102 | F25: =VLOOKUP(C25,'P.O.'!$D$14:$I$334,6,) -> 26.85 | G25: =TRUNC((E25*F25),2) -> 897947.29 | H25: =G25/$G$61 -> 0.010540053 | I25: =H25+I24 -> 0.92322334
A26: C0003 | B26: PRÓPRIA | C26: CUSTO DE MOBILIZAÇÃO E DESMOBILIZAÇÃO DA OBRA | D26: UN | E26: =SUMIF('P.O.'!$D$14:$F$334,C26,'P.O.'!$F$14:$F$334) -> 2 | F26: =VLOOKUP(C26,'P.O.'!$D$14:$I$334,6,) -> 380756.26 | G26: =TRUNC((E26*F26),2) -> 761512.52 | H26: =G26/$G$61 -> 0.0089385897 | I26: =H26+I25 -> 0.93216193
A27: C64084 | B27: PRÓPRIA | C27: PLACA EM AÇO - PELÍCULA I + SI - FORNECIMENTO E IMPLANTAÇÃO | D27: M² | E27: =SUMIF('P.O.'!$D$14:$F$334,C27,'P.O.'!$F$14:$F$334) -> 877.074 | F27: =VLOOKUP(C27,'P.O.'!$D$14:$I$334,6,) -> 793.33 | G27: =TRUNC((E27*F27),2) -> 695809.11 | H27: =G27/$G$61 -> 0.0081673669 | I27: =H27+I26 -> 0.9403293
A28: S0009 | B28: PRÓPRIA | C28: DESTINAÇÃO DE RESÍDUOS SÓLIDOS EM CTR | D28: T | E28: =SUMIF('P.O.'!$D$14:$F$334,C28,'P.O.'!$F$14:$F$334) -> 6884.0189 | F28: =VLOOKUP(C28,'P.O.'!$D$14:$I$334,6,) -> 100.8 | G28: =TRUNC((E28*F28),2) -> 693909.1 | H28: =G28/$G$61 -> 0.0081450647 | I28: =H28+I27 -> 0.94847436
A29: 5216111 | B29: SICRO | C29: SUPORTE PARA PLACA DE SINALIZAÇÃO EM MADEIRA DE LEI TRATADA 8 X 8 CM - FORNECIMENTO E IMPLANTAÇÃO | D29: UN | E29: =SUMIF('P.O.'!$D$14:$F$334,C29,'P.O.'!$F$14:$F$334) -> 5071 | F29: =VLOOKUP(C29,'P.O.'!$D$14:$I$334,6,) -> 141.68 | G29: =TRUNC((E29*F29),2) -> 718459.28 | H29: =G29/$G$61 -> 0.0084332333 | I29: =H29+I28 -> 0.95690759
A30: C0002 | B30: PRÓPRIA | C30: CUSTO PARA IMPLANTAÇÃO DO CANTEIRO DE OBRAS | D30: UN | E30: =SUMIF('P.O.'!$D$14:$F$334,C30,'P.O.'!$F$14:$F$334) -> 1 | F30: =VLOOKUP(C30,'P.O.'!$D$14:$I$334,6,) -> 616017.33 | G30: =TRUNC((E30*F30),2) -> 616017.33 | H30: =G30/$G$61 -> 0.0072307756 | I30: =H30+I29 -> 0.96413837
A31: S0002 | B31: ANP | C31: AQUISIÇÃO DE MATERIAL BETUMINOSO - EMULSÕES ASFÁLTICAS RR-1C | D31: T | E31: =SUMIF('P.O.'!$D$14:$F$334,C31,'P.O.'!$F$14:$F$334) -> 99.489 | F31: =VLOOKUP(C31,'P.O.'!$D$14:$I$334,6,) -> 4462.72 | G31: =TRUNC((E31*F31),2) -> 443991.55 | H31: =G31/$G$61 -> 0.005211547 | I31: =H31+I30 -> 0.96934992
A32: 5219631 | B32: SICRO | C32: TACHA REFLETIVA EM RESINA SINTÉTICA - MONODIRECIONAL TIPO III - COM UM PINO - FORNECIMENTO E COLOCAÇÃO | D32: UN | E32: =SUMIF('P.O.'!$D$14:$F$334,C32,'P.O.'!$F$14:$F$334) -> 8192 | F32: =VLOOKUP(C32,'P.O.'!$D$14:$I$334,6,) -> 58.28 | G32: =TRUNC((E32*F32),2) -> 477429.76 | H32: =G32/$G$61 -> 0.0056040428 | I32: =H32+I31 -> 0.97495396
A33: 1619006 | B33: SICRO | C33: DEMOLIÇÃO MECÂNICA DE CONCRETO SIMPLES COM ESCAVADEIRA HIDRÁULICA | D33: M³ | E33: =SUMIF('P.O.'!$D$14:$F$334,C33,'P.O.'!$F$14:$F$334) -> 2867.9015 | F33: =VLOOKUP(C33,'P.O.'!$D$14:$I$334,6,) -> 138.01 | G33: =TRUNC((E33*F33),2) -> 395799.08 | H33: =G33/$G$61 -> 0.0046458666 | I33: =H33+I32 -> 0.97959983
A34: 5213409 | B34: SICRO | C34: PINTURA DE SETAS E ZEBRADOS COM TERMOPLÁSTICO POR EXTRUSÃO - ESPESSURA DE 3,0 MM | D34: M² | E34: =SUMIF('P.O.'!$D$14:$F$334,C34,'P.O.'!$F$14:$F$334) -> 3303.92 | F34: =VLOOKUP(C34,'P.O.'!$D$14:$I$334,6,) -> 124.41 | G34: =TRUNC((E34*F34),2) -> 411040.68 | H34: =G34/$G$61 -> 0.0048247716 | I34: =H34+I33 -> 0.9844246
A35: C64092 | B35: PRÓPRIA | C35: PLACA EM ACM - PELÍCULA III + SI - FORNECIEMNTO E IMPLANTAÇÃO | D35: M² | E35: =SUMIF('P.O.'!$D$14:$F$334,C35,'P.O.'!$F$14:$F$334) -> 214.41 | F35: =VLOOKUP(C35,'P.O.'!$D$14:$I$334,6,) -> 925.14 | G35: =TRUNC((E35*F35),2) -> 198359.26 | H35: =G35/$G$61 -> 0.0023283295 | I35: =H35+I34 -> 0.98675293
A36: 4011212 | B36: SICRO | C36: VARREDURA DA SUPERFÍCIE PARA EXECUÇÃO DE REVESTIMENTO ASFÁLTICO | D36: M² | E36: =SUMIF('P.O.'!$D$14:$F$334,C36,'P.O.'!$F$14:$F$334) -> 1797518.2 | F36: =VLOOKUP(C36,'P.O.'!$D$14:$I$334,6,) -> 0.08 | G36: =TRUNC((E36*F36),2) -> 143801.45 | H36: =G36/$G$61 -> 0.0016879331 | I36: =H36+I35 -> 0.98844086
A37: S0005 | B37: SICRO | C37: TRANSPORTE DE MATERIAL BETUMINOSO - ASFALTOS DILUÍDOS CM-30 | D37: T | E37: =SUMIF('P.O.'!$D$14:$F$334,C37,'P.O.'!$F$14:$F$334) -> 265.2 | F37: =VLOOKUP(C37,'P.O.'!$D$14:$I$334,6,) -> 477.71 | G37: =TRUNC((E37*F37),2) -> 126688.69 | H37: =G37/$G$61 -> 0.0014870645 | I37: =H37+I36 -> 0.98992792
A38: 5219644 | B38: SICRO | C38: TACHÃO REFLETIVO EM RESINA SINTÉTICA - MONODIRECIONAL - FORNECIMENTO E COLOCAÇÃO | D38: UN | E38: =SUMIF('P.O.'!$D$14:$F$334,C38,'P.O.'!$F$14:$F$334) -> 1314 | F38: =VLOOKUP(C38,'P.O.'!$D$14:$I$334,6,) -> 93.47 | G38: =TRUNC((E38*F38),2) -> 122819.58 | H38: =G38/$G$61 -> 0.0014416491 | I38: =H38+I37 -> 0.99136957
A39: 4011351 | B39: SICRO | C39: IMPRIMAÇÃO COM ASFALTO DILUÍDO | D39: M² | E39: =SUMIF('P.O.'!$D$14:$F$334,C39,'P.O.'!$F$14:$F$334) -> 221000 | F39: =VLOOKUP(C39,'P.O.'!$D$14:$I$334,6,) -> 0.46 | G39: =TRUNC((E39*F39),2) -> 101660 | H39: =G39/$G$61 -> 0.0011932792 | I39: =H39+I38 -> 0.99256285
A40: C0003 | B40: PRÓPRIA | C40: FORNECIMENTO, TRANSPORTE E ASSENTAMENTO DE PLACA DE OBRA | D40: M² | E40: =SUMIF('P.O.'!$D$14:$F$334,C40,'P.O.'!$F$14:$F$334) -> 168 | F40: =VLOOKUP(C40,'P.O.'!$D$14:$I$334,6,) -> 540.02 | G40: =TRUNC((E40*F40),2) -> 90723.36 | H40: =G40/$G$61 -> 0.0010649055 | I40: =H40+I39 -> 0.99362776
A41: 4011353 | B41: SICRO | C41: PINTURA DE LIGAÇÃO | D41: M² | E41: =SUMIF('P.O.'!$D$14:$F$334,C41,'P.O.'!$F$14:$F$334) -> 221088.23 | F41: =VLOOKUP(C41,'P.O.'!$D$14:$I$334,6,) -> 0.34 | G41: =TRUNC((E41*F41),2) -> 75169.99 | H41: =G41/$G$61 -> 0.00088234097 | I41: =H41+I40 -> 0.9945101
A42: 903802 | B42: SICRO | C42: BACIA DE CONTENÇÃO PARA TANQUE DE EMULSÃO DE 30.000 L, SEM COBERTURA, INCLUSIVE DEMOLIÇÕES | D42: UN | E42: =SUMIF('P.O.'!$D$14:$F$334,C42,'P.O.'!$F$14:$F$334) -> 4 | F42: =VLOOKUP(C42,'P.O.'!$D$14:$I$334,6,) -> 19254.39 | G42: =TRUNC((E42*F42),2) -> 77017.56 | H42: =G42/$G$61 -> 0.00090402764 | I42: =H42+I41 -> 0.99541413
...

Sheet CRONOGRAMA - ONE - L09
A1: PROJETO EXECUTIVO DE ENGENHARIA PARA REABILITAÇÃO FUNCIONAL DAS RODOVIAS DO LOTE 09
A2: RODOVIAS : Diversas LOTE : 09 EXTENSÃO: 219,15 KM
A3: CRONOGRAMA FÍSICO-FINANCEIRO (SEM DESONERAÇÃO) DATA BASE: JANEIRO/2025 - PE
A4: ITEM | B4: DISCRIMINAÇÃO | C4: UND | D4: VALOR TOTAL | E4: REABILITAÇÃO FUNCIONAL | K4: TOTAL (% / R$)
E5: 30 | F5: 60 | G5: 90 | H5: 120 | I5: 150 | J5: 180
A6: 1 | B6: ADMINISTRAÇÃO LOCAL | C6: % | D6: =D8/$D$31 -> 0.021885859 | E6: 0.1667 | F6: 0.1667 | G6: 0.1667 | H6: 0.1667 | I6: 0.1667 | J6: 0.1665 | K6: =SUM(E6:J6) -> 1
C8: R$ | D8: 1864539.7 | E8: =ROUND($D$8*E6,2) -> 310818.77 | F8: =ROUND($D$8*F6,2) -> 310818.77 | G8: =ROUND($D$8*G6,2) -> 310818.77 | H8: =ROUND($D$8*H6,2) -> 310818.77 | I8: =ROUND($D$8*I6,2) -> 310818.77 | J8: =ROUND($D$8*J6,2) -> 310445.86 | K8: =SUM(E8:J8)+0.02 -> 1864539.7 | L8: =K8-D8 -> 0.01
A9: 2 | B9: CANTEIRO DE OBRAS | C9: % | D9: =D11/$D$31 -> 0.0091997088 | E9: 1 | K9: =SUM(E9:J9) -> 1
C11: R$ | D11: 783758.25 | E11: =ROUND($D$11*E9,2) -> 783758.25 | K11: =SUM(E11:J11) -> 783758.25 | L11: =K11-D11 -> 0
A12: 3 | B12: MOBILIZAÇÃO E DESMOBILIZAÇÃO | C12: % | D12: =D14/$D$31 -> 0.0089385897 | E12: 0.8 | J12: 0.2 | K12: =SUM(E12:J12) -> 1
C14: R$ | D14: 761512.52 | E14: =ROUND($D$14*E12,2) -> 609210.02 | J14: =ROUND($D$14*J12,2) -> 152302.5 | K14: =SUM(E14:J14) -> 761512.52 | L14: =K14-D14 -> 0
A15: 4 | B15: SERVIÇOS PRELIMINARES | C15: % | D15: =D17/$D$31 -> 0.00057924349 | F15: 0.25 | G15: 0.25 | H15: 0.25 | I15: 0.25 | K15: =SUM(E15:J15) -> 1
C17: R$ | D17: 49347.96 | F17: =ROUND($D$17*F15,2) -> 12336.99 | G17: =ROUND($D$17*G15,2) -> 12336.99 | H17: =ROUND($D$17*H15,2) -> 12336.99 | I17: =ROUND($D$17*I15,2) -> 12336.99 | K17: =SUM(E17:J17)-0.02 -> 49347.94 | L17: =K17-D17+0.02 -> 1.0477379e-11
A18: 5 | B18: PAVIMENTAÇÃO | C18: % | D18: =D20/$D$31 -> 0.69010341 | F18: 0.25 | G18: 0.25 | H18: 0.25 | I18: 0.25 | K18: =SUM(E18:J18) -> 1
C20: R$ | D20: 58792539 | F20: =ROUND($D$20*F18,2) -> 14698135 | G20: =ROUND($D$20*G18,2) -> 14698135 | H20: =ROUND($D$20*H18,2) -> 14698135 | I20: =ROUND($D$20*I18,2) -> 14698135 | K20: =SUM(E20:J20)-0.01 -> 58792539 | L20: =K20-D20 -> 0.010000005
A21: 6 | B21: DRENAGEM | C21: % | D21: =D23/$D$31 -> 0.083710906 | F21: 0.25 | G21: 0.25 | H21: 0.25 | I21: 0.25 | K21: =SUM(E21:J21) -> 1
C23: R$ | D23: 7131651.1 | F23: =ROUND($D$23*F21,2) -> 1782912.8 | G23: =ROUND($D$23*G21,2) -> 1782912.8 | H23: =ROUND($D$23*H21,2) -> 1782912.8 | I23: =ROUND($D$23*I21,2) -> 1782912.8 | K23: =SUM(E23:J23)-0.03 -> 7131651.1 | L23: =K23-D23+0.01 -> -0.010000001
A24: 7 | B24: SINALIZAÇÃO | C24: % | D24: =D26/$D$31 -> 0.17426123 | I24: 0.5 | J24: 0.5 | K24: =SUM(E24:J24) -> 1
C26: R$ | D26: 14845978 | I26: =ROUND($D$26*I24,2) -> 7422989.2 | J26: =ROUND($D$26*J24,2) -> 7422989.2 | K26: =SUM(E26:J26) -> 14845978 | L26: =K26-D26 -> 0.010000002
A27: 8 | B27: SINALIZAÇÃO DE OBRAS | C27: % | D27: =D29/$D$31 -> 0.011321057 | E27: 0.1667 | F27: 0.1667 | G27: 0.1667 | H27: 0.1667 | I27: 0.1667 | J27: 0.1665 | K27: =SUM(E27:J27) -> 1
C29: R$ | D29: 964483.97 | E29: =ROUND($D$29*E27,2) -> 160779.48 | F29: =ROUND($D$29*F27,2) -> 160779.48 | G29: =ROUND($D$29*G27,2) -> 160779.48 | H29: =ROUND($D$29*H27,2) -> 160779.48 | I29: =ROUND($D$29*I27,2) -> 160779.48 | J29: =ROUND($D$29*J27,2) -> 160586.58 | K29: =SUM(E29:J29)-0.02 -> 964483.96 | L29: =K29-D29+0.03 -> 0.02
B30: % TOTAL | C30: % | D30: =D12+D9+D6+D21+D18+D24+D15+D27 -> 1 | E30: =E31/$D$31 -> 0.021886173 | F30: =F31/$D$31 -> 0.19913398 | G30: =G31/$D$31 -> 0.19913398 | H30: =H31/$D$31 -> 0.19913398 | I30: =I31/$D$31 -> 0.2862646 | J30: =J31/$D$31 -> 0.094447285 | K30: =K31/$D$31 -> 1
A31: TOTAL SIMPLES | C31: R$ | D31: =D14+D11+D8+D23+D20+D26+D17+D29 -> 85193811 | E31: =E14+E11+E8+E23+E20+E26+E17+E29 -> 1864566.5 | F31: =F14+F11+F8+F23+F20+F26+F17+F29 -> 16964983 | G31: =G14+G11+G8+G23+G20+G26+G17+G29 -> 16964983 | H31: =H14+H11+H8+H23+H20+H26+H17+H29 -> 16964983 | I31: =I14+I11+I8+I23+I20+I26+I17+I29 -> 24387972 | J31: =J14+J11+J8+J23+J20+J26+J17+J29 -> 8046324.1 | K31: =K14+K11+K8+K23+K20+K26+K17+K29+0.02 -> 85193811
A32: TOTAL ACUMULADO | C32: R$ | D32: =D31 -> 85193811 | E32: =E31 -> 1864566.5 | F32: =F31+E32 -> 18829549 | G32: =G31+F32 -> 35794532 | H32: =H31+G32 -> 52759515 | I32: =I31+H32 -> 77147487 | J32: =J31+I32-0.04 -> 85193811 | L32: =J32-K31 -> 0

Sheet Mat. Betuminoso
B2: GOVERNO DO ESTADO DE PERNAMBUCO
B3: SECRETARIA DE MOBILIDADE E INFRAESTRUTURA
B4: DEPARTAMENTO DE ESTRADAS DE RODAGEM - DER/PE
B6: RODOVIA: | C6: LOTE 09 | F6: EXTENSÃO: | G6: 183.12
B7: UF: | C7: PE | F7: DATA BASE: | G7: JANEIRO/2025
F8: TIPO: | G8: SEM DESONERAÇÃO
B10: TRANSPORTE DE MATERIAL BETUMINOSO - PEDÁGIO
B12: As equações tarifárias de transporte referidas na Portaria nº 1977 de 25 de outubro de 2017 não consideram eventuais despesas relacionadas ao pagamento de pedágio em rodovias concessionadas. Para fim de cálculo do custo referencial de pedágio foram considerados veículos de classe 3S3 com capacidade de carga de 28 toneladas. Segue relação de postos de pedágio em cada percurso considerado na avaliação do binômio "Aquisição + Transporte" dos fornecedores de material betuminoso. | N12: IND. REAJ. | O12: DATA BASE | Q12: FATOR
O13: I0 | P13: I1
O14: 45689 | P14: 45658
N15: PAVIM | O15: 587.959 | P15: 584.512 | Q15: =ROUND((P15/O15),4) -> 0.9941
C18: Refinaria | D18: Localidade | E18: DMT | F18: Local do pedágio | G18: Valor (R$) | H18: Total Pedágio | I18: Total Pedágio | J18: Total Pedágio (P/ tonelada)
C19: Refinaria Mataripe | D19: Mataripe/BA | E19: 497 | J19: =EVEN(2*(I19:I19/28)) -> 0
C20: Refinaria Lubrificantes e Derivados do Nordeste (Lubnor) | D20: Fortaleza/CE | E20: 786 | J20: =EVEN(2*(I20/28)) -> 0 | N20: =1646+18.1 -> 1664.1
C21: Refinaria Gabriel Passo (Regap) | D21: Betim/MG | E21: 1664 | J21: =EVEN(2*(I21/28)) -> 0
B23: Origem das emulsões asfálficas e asfaltos modificados definidos nas bases de industrialização, seguindo a orientação da Portaria nº 1977 de 25 de outubro de 2017, art. 4º.
C25: Distribuidora | D25: Localidade | E25: DMT | F25: Local do pedágio | G25: Valor (R$) | H25: Total Pedágio | I25: Total Pedágio | J25: Total Pedágio (P/tonelada)
C26: BRASIL Asfaltos | D26: Candeias/BA | E26: 600 | J26: =EVEN(2*(I26/28)) -> 0
C28: CBAA Asfaltos | D28: Feira de Santana/BA | E28: 429 | J28: =EVEN(2*(I28/28)) -> 0
C30: Betunel Asfaltos | D30: Fortaleza/CE | E30: 774 | J30: =EVEN(2*(I30/28)) -> 0
C32: Custo do pedágio reajustado conforme índice de pavimentação - último índice de reajustamento disponível na elaboração do PATO: Outubro/2024 Fonte: https://qualp.com.br/
B35: PREÇOS DE DISTRIBUIÇÃO DE PRODUTOS ASFÁLTICOS
B37: Agência Nacional do Petróleo, Gás Natural e Biocombustíveis
B38: Superintendência de Defesa da Concorrência, Estudos e Regulação Econômica
B41: PREÇO MÉDIO MENSAL PONDERADO PRATICADO PELOS DISTRIBUIDORES DE PRODUTOS ASFÁLTICOS (R$/KG)
D43: Mês | E43: Produto | G43: Estado/Região | H43: Preço
D44: =$G$7 -> JANEIRO/2025 | E44: ASFALTOS DILUÍDOS CM-30 | G44: Nordeste | H44: 6.087525
D45: =$G$7 -> JANEIRO/2025 | E45: ASFALTOS DILUÍDOS CM-30 | G45: Nordeste | H45: 6.087525
D46: =$G$7 -> JANEIRO/2025 | E46: ASFALTOS DILUÍDOS CM-30 | G46: Sudeste | H46: 5.73853
D47: =$G$7 -> JANEIRO/2025 | E47: EMULSÕES ASFÁLTICAS RR-1C | G47: Nordeste | H47: 2.9434581
D48: =$G$7 -> JANEIRO/2025 | E48: EMULSÕES ASFÁLTICAS RR-1C | G48: Nordeste | H48: 2.9434581
D49: =$G$7 -> JANEIRO/2025 | E49: EMULSÕES ASFÁLTICAS RR-1C | G49: Ceará | H49: 2.780745
D50: =$G$7 -> JANEIRO/2025 | E50: EMULSÕES ASFÁLTICAS RR-2C | G50: Nordeste | H50: 2.9736
D51: =$G$7 -> JANEIRO/2025 | E51: EMULSÕES ASFÁLTICAS RR-2C | G51: Nordeste | H51: 2.9736
D52: =$G$7 -> JANEIRO/2025 | E52: EMULSÕES ASFÁLTICAS RR-2C | G52: Ceará | H52: 2.930866
D53: =$G$7 -> JANEIRO/2025 | E53: EMULSÕES ASFÁLTICAS RR-1C-E | G53: Brasil | H53: 3.4260306
D54: =$G$7 -> JANEIRO/2025 | E54: EMULSÕES ASFÁLTICAS RR-1C-E | G54: Brasil | H54: 3.4260306
D55: =$G$7 -> JANEIRO/2025 | E55: EMULSÕES ASFÁLTICAS RR-1C-E | G55: Brasil | H55: 3.8904178
D56: Fonte: https://www.gov.br/anp/pt-br/assuntos/precos-e-defesa-da-concorrencia/precos/precos-de-distribuicao-de-produtos-asfalticos

Sheet Aquis. Betuminoso
B2: GOVERNO DO ESTADO DE PERNAMBUCO
B3: SECRETARIA DE MOBILIDADE E INFRAESTRUTURA
B4: DEPARTAMENTO DE ESTRADAS DE RODAGEM - DER/PE
B6: RODOVIA: | C6: ='Mat. Betuminoso'!C6:E6 -> LOTE 09 | J6: EXTENSÃO: | K6: ='Mat. Betuminoso'!G6 -> 183.12
B7: UF: | C7: ='Mat. Betuminoso'!C7:E7 -> PE | J7: DATA BASE: | K7: ='Mat. Betuminoso'!G7 -> JANEIRO/2025
J8: TIPO: | K8: ='Mat. Betuminoso'!G8 -> SEM DESONERAÇÃO
B10: CUSTO DO MATERIAL BETUMINOSO - BINÔMIO DE AQUISIÇÃO E TRANSPORTE
B11: BASEADO NA PORTARIA Nº 1977 DE 25 DE OUTUBRO DE 2017 E PORTARIA COMPLEMENTAR Nº 434 DE 14 DE MARÇO DE 2017
B14: MATERIAL BETUMINOSO - CM-30
C16: UF | D16: LOCAL (AQUISIÇÃO) | E16: FLU (D) | F16: PAV (D1) | G16: N PAV (D2) | H16: L N (D3) | I16: ICMS (%) | J16: COFINS (%) | K16: PIS (%) | L16: BDI (%) | M16: AQUISIÇÃO ANP (R$/kg) | N16: VALOR PEDÁGIO | O16: VALOR BALSA
B17: R-1 | C17: ='Mat. Betuminoso'!G44 -> Nordeste | D17: ='Mat. Betuminoso'!D19 -> Mataripe/BA | E17: 0 | F17: ='Mat. Betuminoso'!E19 -> 497 | G17: 0 | H17: 0 | I17: 20.5 | J17: 3 | K17: 0.65 | L17: 0 | M17: ='Mat. Betuminoso'!H44 -> 6.087525 | N17: =VLOOKUP(D17,'Mat. Betuminoso'!$D$19:$J$21,7,0) -> 0 | O17: 0
B18: R-2 | C18: ='Mat. Betuminoso'!G45 -> Nordeste | D18: ='Mat. Betuminoso'!D20 -> Fortaleza/CE | E18: 0 | F18: ='Mat. Betuminoso'!E20 -> 786 | G18: 0 | H18: 0 | I18: 20.5 | J18: 3 | K18: 0.65 | L18: 0 | M18: ='Mat. Betuminoso'!H45 -> 6.087525 | N18: =VLOOKUP(D18,'Mat. Betuminoso'!$D$19:$J$21,7,0) -> 0 | O18: 0
B19: R-3 | C19: ='Mat. Betuminoso'!G46 -> Sudeste | D19: ='Mat. Betuminoso'!D21 -> Betim/MG | E19: 0 | F19: ='Mat. Betuminoso'!E21 -> 1664 | G19: 0 | H19: 0 | I19: 20.5 | J19: 3 | K19: 0.65 | L19: 0 | M19: ='Mat. Betuminoso'!H46 -> 5.73853 | N19: =VLOOKUP(D19,'Mat. Betuminoso'!$D$19:$J$21,7,0) -> 0 | O19: 0
C21: Transporte Rodoviário | H21: Indice Reajuste | I21: DATA BASE | K21: Fator Correção
C22: T.R. = 26,939 + (0,253 x D1) + (0,299xD2) + (0,412xD3) | I22: I0 | J22: I1
I23: 41821 | J23: ='Mat. Betuminoso'!$P$14 -> 45658
H24: PAVIM | I24: 270.237 | J24: ='Mat. Betuminoso'!$P$15 -> 584.512 | K24: =ROUND((J24/I24),4) -> 2.163
B27: Serviço | D27: R-1 Sem ICMS | E27: Unidade | G27: R-2 Sem ICMS | H27: Unidade | J27: R-3 Sem ICMS | K27: Unidade | M27: R-4 Sem ICMS | N27: Unidade
B28: Aquisição | D28: =M17*1000 -> 6087.525 | E28: R$/T | G28: =M18*1000 -> 6087.525 | H28: R$/T | J28: =M19*1000 -> 5738.53 | K28: R$/T
B29: Transporte | D29: =TRUNC(($K$24*((26.939+(0.253*F17)+(0.299*G17)+(0.412*H17)))),2) -> 330.24 | E29: R$/T | G29: =TRUNC(($K$24*((26.939+(0.253*F18)+(0.299*G18)+(0.412*H18)))),2) -> 488.39 | H29: R$/T | J29: =($K$24*((26.939+(0.253*F19)+(0.299*G19)+(0.412*H19)))) -> 968.87475 | K29: R$/T
B31: Serviço | D31: R-1 Com Impostos | E31: Unidade | G31: R-2 Com Impostos | H31: Unidade | J31: R-3 Com Impostos | K31: Unidade | M31: R-4 Com Impostos | N31: Unidade
B32: Aquisição | D32: =D28/(1-(I17/100)-(J17/100)-(K17/100)) -> 8025.7416 | E32: R$/T | G32: =G28/(1-(I18/100)-(J18/100)-(K18/100)) -> 8025.7416 | H32: R$/T | J32: =J28/(1-(I19/100)-(J19/100)-(K19/100)) -> 7565.6295 | K32: R$/T
B33: Transporte | D33: =D29/(1-(I17/100)) -> 415.39623 | E33: R$/T | G33: =G29/(1-(I18/100)) -> 614.32704 | H33: R$/T | J33: =J29/(1-(I19/100)) -> 1218.7104 | K33: R$/T
B35: Serviço | D35: R-1 C/ Impostos/Pedágio | E35: Unidade | G35: R-2 C/ Impostos/Pedágio | H35: Unidade | J35: R-3 C/ Impostos/Pedágio | K35: Unidade | M35: R-4 C/ Impostos/Pedágio | N35: Unidade
B36: Aquisição | D36: =D32 -> 8025.7416 | E36: R$/T | G36: =G32 -> 8025.7416 | H36: R$/T | J36: =J32 -> 7565.6295 | K36: R$/T
B37: Transporte | D37: =SUM(D33,N17) -> 415.39623 | E37: R$/T | G37: =SUM(G33,N18) -> 614.32704 | H37: R$/T | J37: =SUM(J33,N19) -> 1218.7104 | K37: R$/T
B39: Serviço | D39: BDI | E39: Unidade | G39: BDI | H39: Unidade | J39: BDI | K39: Unidade | M39: BDI | N39: Unidade
B40: Aquisição | D40: =D36*L17/100 -> 0 | E40: R$/T | G40: =G36*L18/100 -> 0 | H40: R$/T | J40: =J36*L19/100 -> 0 | K40: R$/T
B41: Transporte | D41: =D37*L17/100 -> 0 | E41: R$/T | G41: =G37*L18/100 -> 0 | H41: R$/T | J41: =J37*L19/100 -> 0 | K41: R$/T
B43: Serviço | D43: R-1 Total | E43: Unidade | G43: R-2 Total | H43: Unidade | J43: R-3 Total | K43: Unidade | M43: R-4 Total | N43: Unidade
B44: Aquisição | D44: =TRUNC(SUM(D36,D40),3) -> 8025.741 | E44: R$ | G44: =TRUNC(SUM(G36,G40),3) -> 8025.741 | H44: R$ | J44: =TRUNC(SUM(J36,J40),2) -> 7565.62 | K44: R$
B45: Transporte | D45: =TRUNC(SUM(D37,D41),3) -> 415.396 | E45: R$ | G45: =TRUNC(SUM(G37,G41),3) -> 614.327 | H45: R$ | J45: =TRUNC(SUM(J37,J41),2) -> 1218.71 | K45: R$
B46: Total | D46: =IF(D44=0,0,SUM(D44:D45)) -> 8441.137 | E46: R$ | G46: =IF(G44=0,0,SUM(G44:G45)) -> 8640.068 | H46: R$ | J46: =IF(J44=0,0,SUM(J44:J45)) -> 8784.33 | K46: R$
B75: MATERIAL BETUMINOSO - RR-1C
C77: UF | D77: LOCAL (AQUISIÇÃO) | E77: FLU (D) | F77: PAV (D1) | G77: N PAV (D2) | H77: L N (D3) | I77: ICMS (%) | J77: COFINS (%) | K77: PIS (%) | L77: BDI (%) | M77: AQUISIÇÃO ANP (R$/kg) | N77: VALOR PEDÁGIO | O77: VALOR BALSA
B78: R-1 | C78: ='Mat. Betuminoso'!G47 -> Nordeste | D78: ='Mat. Betuminoso'!$D$26 -> Candeias/BA | E78: 0 | F78: ='Mat. Betuminoso'!$E$26 -> 600 | G78: 0 | H78: 0 | I78: 20.5 | J78: 3 | K78: 0.65 | L78: 0 | M78: =VLOOKUP(C78,'Mat. Betuminoso'!$G$47:$H$49,2,0) -> 2.9434581 | N78: =VLOOKUP(D78,'Mat. Betuminoso'!$D$26:$J$31,7,0) -> 0 | O78: 0
B79: R-2 | C79: ='Mat. Betuminoso'!G48 -> Nordeste | D79: ='Mat. Betuminoso'!$D$28 -> Feira de Santana/BA | E79: 0 | F79: ='Mat. Betuminoso'!$E$28 -> 429 | G79: 0 | H79: 0 | I79: 20.5 | J79: 3 | K79: 0.65 | L79: 0 | M79: =VLOOKUP(C79,'Mat. Betuminoso'!$G$47:$H$49,2,0) -> 2.9434581 | N79: =VLOOKUP(D79,'Mat. Betuminoso'!$D$26:$J$31,7,0) -> 0 | O79: 0
B80: R-3 | C80: ='Mat. Betuminoso'!G49 -> Ceará | D80: ='Mat. Betuminoso'!$D$30 -> Fortaleza/CE | E80: 0 | F80: ='Mat. Betuminoso'!$E$30 -> 774 | G80: 0 | H80: 0 | I80: 20.5 | J80: 3 | K80: 0.65 | L80: 0 | M80: =VLOOKUP(C80,'Mat. Betuminoso'!$G$47:$H$49,2,0) -> 2.780745 | N80: =VLOOKUP(D80,'Mat. Betuminoso'!$D$26:$J$31,7,0) -> 0 | O80: 0
C82: Transporte Rodoviário | H82: Indice Reajuste | I82: DATA BASE | K82: Fator Correção
C83: T.R. = 26,939 + (0,253 x D1) + (0,299xD2) + (0,412xD3) | I83: I0 | J83: I1
...

Sheet Cotações
B2: GOVERNO DO ESTADO DE PERNAMBUCO
B3: SECRETARIA DE MOBILIDADE E INFRAESTRUTURA
B4: DEPARTAMENTO DE ESTRADAS DE RODAGEM - DER/PE
B6: RODOVIA: | C6: ='Mat. Betuminoso'!C6:E6 -> LOTE 09 | F6: EXTENSÃO: | G6: ='Mat. Betuminoso'!G6:K6 -> 183.12
B7: UF: | C7: ='Mat. Betuminoso'!C7:E7 -> PE | F7: DATA BASE: | G7: ='Mat. Betuminoso'!G7:K7 -> JANEIRO/2025
F8: TIPO: | G8: ='Mat. Betuminoso'!G8:K8 -> SEM DESONERAÇÃO
B11: COTAÇÕES

Sheet Mapa+Binômio
B2: GOVERNO DO ESTADO DE PERNAMBUCO
B3: SECRETARIA DE MOBILIDADE E INFRAESTRUTURA - SEMOBI/PE
B4: DEPARTAMENTO DE ESTRADAS DE RODAGEM - DER/PE
B6: RODOVIA: | C6: ='Mat. Betuminoso'!C6:E6 -> LOTE 09 | J6: EXTENSÃO: | K6: ='Mat. Betuminoso'!G6 -> 183.12
B7: UF: | C7: ='Mat. Betuminoso'!C7:E7 -> PE | J7: DATA BASE: | K7: ='Mat. Betuminoso'!G7 -> JANEIRO/2025
J8: TIPO: | K8: ='Mat. Betuminoso'!G8 -> SEM DESONERAÇÃO
B10: MAPA DE COTAÇÕES E ESTUDO DE BINÔMIO
C11: CONSIDERAÇÕES:
C13: 1. Dados das cotações informados pelos fornecedores
C14: 2. DMT de aquisição dos Materiais Pétreos: FORNECEDOR/PARA O CANTEIRO
B16: MATERIAL PÉTREO E ARENOSO E MASSA ASFÁLTICA
B18: Insumo | C18: Fornecedor | D18: Data Cotação | E18: Preço Cotação | F18: Condição de Frete | G18: Índice Adotado | H18: Data Base Orçamento | I18: Índice de Reajsutamento | K18: Fator de Regressão | L18: Custo Reajustado | M18: Densidade Adotada | N18: Custo Reajustado (R$/m³) | O18: Distância Fixa | R18: Transporte | S18: Preço Unitário do Transporte | W18: Valor Total do Transporte | X18: Binômio (Aquisição + Transporte)
I19: Índice Cotação | J19: Índice Data Base | O19: P | P19: RP | Q19: LN | S19: P (5914389) | T19: RP (5914374) | U19: LN (5914359) | V19: Und | X19: Valor Total | Y19: Und
B20: BRITA 0 | C20: BRITAFORTE | D20: 45627 | E20: 115 | F20: FOB | G20: PAVIMENTAÇÃO | H20: 45658 | I20: 583.334 | J20: 584.512 | K20: =TRUNC(J20/I20,4) -> 1.002 | L20: =TRUNC(E20*K20,2) -> 115.23 | M20: 1.5 | N20: =L20 -> 115.23 | O20: 199 | Q20: 0.02 | R20: Transp C. Basc 10 m³ (t.km) | S20: 0.83 | T20: 1.02 | U20: 1.27 | V20: R$/t.km | W20: =TRUNC((O20*S20+P20*T20+Q20*U20),2) -> 165.19 | X20: =W20+N20 -> 280.42 | Y20: R$/m³
C21: PEDREIRA BARBOSA | D21: 45748 | E21: 143 | F21: FOB | G21: PAVIMENTAÇÃO | H21: 45658 | I21: 587.959 | J21: 584.512 | K21: =TRUNC(J21/I21,4) -> 0.9941 | L21: =TRUNC(E21*K21,2) -> 142.15 | M21: 1.5 | N21: =L21 -> 142.15 | O21: 209 | Q21: 0.02 | R21: Transp C. Basc 10 m³ (t.km) | S21: =$S$20 -> 0.83 | T21: =$T$20 -> 1.02 | U21: =$U$20 -> 1.27 | V21: R$/t.km | W21: =TRUNC((O21*S21+P21*T21+Q21*U21),2) -> 173.49 | X21: =W21+N21 -> 315.64 | Y21: R$/m³
C22: QUALITY BRITA | D22: 45809 | E22: 93.47 | F22: FOB | G22: PAVIMENTAÇÃO | H22: 45658 | I22: 587.552 | J22: 584.512 | K22: =TRUNC(J22/I22,4) -> 0.9948 | L22: =TRUNC(E22*K22,2) -> 92.98 | M22: 1.438 | N22: =L22 -> 92.98 | O22: 2.4 | Q22: 0.02 | R22: Transp C. Basc 10 m³ (t.km) | S22: =$S$20 -> 0.83 | T22: =$T$20 -> 1.02 | U22: =$U$20 -> 1.27 | V22: R$/t.km | W22: =TRUNC((O22*S22+P22*T22+Q22*U22),2) -> 2.01 | X22: =W22+N22 -> 94.99 | Y22: R$/m³
K23: =TRUNC(J23/I23,4) -> #DIV/0! | L23: =TRUNC(E23*K23,2) -> #DIV/0! | M23: 1.5 | N23: =L23 -> #DIV/0! | R23: Transp C. Basc 10 m³ (t.km) | S23: =$S$20 -> 0.83 | T23: =$T$20 -> 1.02 | U23: =$U$20 -> 1.27 | V23: R$/t.km | W23: =TRUNC((O23*S23+P23*T23+Q23*U23),2) -> 0 | X23: =W23+N23 -> #DIV/0! | Y23: R$/m³
B24: BRITA 1 | C24: =$C$20 -> BRITAFORTE | D24: =$D$20 -> 45627 | E24: 110 | F24: FOB | G24: PAVIMENTAÇÃO | H24: 45658 | I24: 583.334 | J24: 584.512 | K24: =TRUNC(J24/I24,4) -> 1.002 | L24: =TRUNC(E24*K24,2) -> 110.22 | M24: 1.5 | N24: =L24 -> 110.22 | O24: 199 | Q24: 0.02 | R24: Transp C. Basc 10 m³ (t.km) | S24: 0.83 | T24: 1.02 | U24: 1.27 | V24: R$/t.km | W24: =TRUNC((O24*S24+P24*T24+Q24*U24),2) -> 165.19 | X24: =W24+N24 -> 275.41 | Y24: R$/m³
C25: =$C$21 -> PEDREIRA BARBOSA | D25: =$D$21 -> 45748 | E25: 132 | F25: FOB | G25: PAVIMENTAÇÃO | H25: 45658 | I25: 587.959 | J25: 584.512 | K25: =TRUNC(J25/I25,4) -> 0.9941 | L25: =TRUNC(E25*K25,2) -> 131.22 | M25: 1.5 | N25: =L25 -> 131.22 | O25: 209 | Q25: 0.02 | R25: Transp C. Basc 10 m³ (t.km) | S25: =$S$20 -> 0.83 | T25: =$T$20 -> 1.02 | U25: =$U$20 -> 1.27 | V25: R$/t.km | W25: =TRUNC((O25*S25+P25*T25+Q25*U25),2) -> 173.49 | X25: =W25+N25 -> 304.71 | Y25: R$/m³
C26: =$C$22 -> QUALITY BRITA | D26: 45809 | E26: 84.3 | F26: FOB | G26: PAVIMENTAÇÃO | H26: 45658 | I26: 587.552 | J26: 584.512 | K26: =TRUNC(J26/I26,4) -> 0.9948 | L26: =TRUNC(E26*K26,2) -> 83.86 | M26: 1.405 | N26: =L26 -> 83.86 | O26: 2.4 | Q26: 0.02 | R26: Transp C. Basc 10 m³ (t.km) | S26: =$S$20 -> 0.83 | T26: =$T$20 -> 1.02 | U26: =$U$20 -> 1.27 | V26: R$/t.km | W26: =TRUNC((O26*S26+P26*T26+Q26*U26),2) -> 2.01 | X26: =W26+N26 -> 85.87 | Y26: R$/m³
C27: =$C$23 -> 0 | G27: PAVIMENTAÇÃO | H27: 45658 | I27: 583.334 | J27: 584.512 | K27: =TRUNC(J27/I27,4) -> 1.002 | L27: =TRUNC(E27*K27,2) -> 0 | M27: 1.5 | N27: =L27 -> 0 | R27: Transp C. Basc 10 m³ (t.km) | S27: =$S$20 -> 0.83 | T27: =$T$20 -> 1.02 | U27: =$U$20 -> 1.27 | V27: R$/t.km | W27: =TRUNC((O27*S27+P27*T27+Q27*U27),2) -> 0 | X27: =W27+N27 -> 0 | Y27: R$/m³
B28: BRITA 2 | C28: =$C$20 -> BRITAFORTE | D28: =$D$20 -> 45627 | E28: 110 | F28: FOB | G28: PAVIMENTAÇÃO | H28: 45658 | I28: 583.334 | J28: 584.512 | K28: =TRUNC(J28/I28,4) -> 1.002 | L28: =TRUNC(E28*K28,2) -> 110.22 | M28: 1.5 | N28: =L28 -> 110.22 | O28: 199 | Q28: 0.02 | R28: Transp C. Basc 10 m³ (t.km) | S28: 0.83 | T28: 1.02 | U28: 1.27 | V28: R$/t.km | W28: =TRUNC((O28*S28+P28*T28+Q28*U28),2) -> 165.19 | X28: =W28+N28 -> 275.41 | Y28: R$/m³
C29: =$C$21 -> PEDREIRA BARBOSA | D29: =$D$21 -> 45748 | E29: 132 | F29: FOB | G29: PAVIMENTAÇÃO | H29: 45658 | I29: 587.959 | J29: 584.512 | K29: =TRUNC(J29/I29,4) -> 0.9941 | L29: =TRUNC(E29*K29,2) -> 131.22 | M29: 1.5 | N29: =L29 -> 131.22 | O29: 209 | Q29: 0.02 | R29: Transp C. Basc 10 m³ (t.km) | S29: =$S$20 -> 0.83 | T29: =$T$20 -> 1.02 | U29: =$U$20 -> 1.27 | V29: R$/t.km | W29: =TRUNC((O29*S29+P29*T29+Q29*U29),2) -> 173.49 | X29: =W29+N29 -> 304.71 | Y29: R$/m³
C30: =$C$22 -> QUALITY BRITA | D30: 45809 | E30: 90.66 | F30: FOB | G30: PAVIMENTAÇÃO | H30: 45658 | I30: 587.552 | J30: 584.512 | K30: =TRUNC(J30/I30,4) -> 0.9948 | L30: =TRUNC(E30*K30,2) -> 90.18 | M30: 1.395 | N30: =L30 -> 90.18 | O30: 2.4 | Q30: 0.02 | R30: Transp C. Basc 10 m³ (t.km) | S30: =$S$20 -> 0.83 | T30: =$T$20 -> 1.02 | U30: =$U$20 -> 1.27 | V30: R$/t.km | W30: =TRUNC((O30*S30+P30*T30+Q30*U30),2) -> 2.01 | X30: =W30+N30 -> 92.19 | Y30: R$/m³
C31: =$C$23 -> 0 | G31: PAVIMENTAÇÃO | H31: 45658 | I31: 583.334 | J31: 584.512 | K31: =TRUNC(J31/I31,4) -> 1.002 | L31: =TRUNC(E31*K31,2) -> 0 | M31: 1.5 | N31: =L31 -> 0 | R31: Transp C. Basc 10 m³ (t.km) | S31: =$S$20 -> 0.83 | T31: =$T$20 -> 1.02 | U31: =$U$20 -> 1.27 | V31: R$/t.km | W31: =TRUNC((O31*S31+P31*T31+Q31*U31),2) -> 0 | X31: =W31+N31 -> 0 | Y31: R$/m³
B32: BRITA 4 | C32: =$C$21 -> PEDREIRA BARBOSA | D32: =$D$21 -> 45748 | E32: 132 | F32: FOB | G32: PAVIMENTAÇÃO | H32: 45658 | I32: 587.959 | J32: 584.512 | K32: =TRUNC(J32/I32,4) -> 0.9941 | L32: =TRUNC(E32*K32,2) -> 131.22 | M32: 1.5 | N32: =L32 -> 131.22 | O32: =$O$21 -> 209 | Q32: =$Q$21 -> 0.02 | R32: Transp C. Basc 10 m³ (t.km) | S32: =$S$20 -> 0.83 | T32: =$T$20 -> 1.02 | U32: =$U$20 -> 1.27 | V32: R$/t.km | W32: =TRUNC((O32*S32+P32*T32+Q32*U32),2) -> 173.49 | X32: =W32+N32 -> 304.71 | Y32: R$/m³
D33: =$D$21 -> 45748 | F33: FOB | G33: PAVIMENTAÇÃO | H33: 45658 | I33: 587.959 | J33: 584.512 | K33: =TRUNC(J33/I33,4) -> 0.9941 | L33: =TRUNC(E33*K33,2) -> 0 | M33: 1.5 | N33: =L33 -> 0 | O33: =$O$21 -> 209 | Q33: =$Q$21 -> 0.02 | R33: Transp C. Basc 10 m³ (t.km) | S33: =$S$20 -> 0.83 | T33: =$T$20 -> 1.02 | U33: =$U$20 -> 1.27 | V33: R$/t.km | W33: =TRUNC((O33*S33+P33*T33+Q33*U33),2) -> 173.49 | X33: =W33+N33 -> 173.49 | Y33: R$/m³
C34: =$C$22 -> QUALITY BRITA | G34: PAVIMENTAÇÃO | H34: 45658 | I34: 583.334 | J34: 584.512 | K34: =TRUNC(J34/I34,4) -> 1.002 | L34: =TRUNC(E34*K34,2) -> 0 | M34: 1.5 | N34: =L34 -> 0 | R34: Transp C. Basc 10 m³ (t.km) | S34: =$S$20 -> 0.83 | T34: =$T$20 -> 1.02 | U34: =$U$20 -> 1.27 | V34: R$/t.km | W34: =TRUNC((O34*S34+P34*T34+Q34*U34),2) -> 0 | X34: =W34+N34 -> 0 | Y34: R$/m³
C35: =$C$23 -> 0 | G35: PAVIMENTAÇÃO | H35: 45658 | I35: 583.334 | J35: 584.512 | K35: =TRUNC(J35/I35,4) -> 1.002 | L35: =TRUNC(E35*K35,2) -> 0 | M35: 1.5 | N35: =L35 -> 0 | R35: Transp C. Basc 10 m³ (t.km) | S35: =$S$20 -> 0.83 | T35: =$T$20 -> 1.02 | U35: =$U$20 -> 1.27 | V35: R$/t.km | W35: =TRUNC((O35*S35+P35*T35+Q35*U35),2) -> 0 | X35: =W35+N35 -> 0 | Y35: R$/m³
B36: PEDRA DE MÃO | C36: =$C$20 -> BRITAFORTE | D36: 45627 | E36: 90 | F36: FOB | G36: DRENAGEM | H36: 45658 | I36: 476.054 | J36: 477.285 | K36: =TRUNC(J36/I36,4) -> 1.0025 | L36: =TRUNC(E36*K36,2) -> 90.22 | M36: 1.5 | N36: =L36 -> 90.22 | O36: 199 | Q36: 0.02 | R36: Transp C. Basc 10 m³ (t.km) | S36: 0.83 | T36: 1.02 | U36: 1.27 | V36: R$/t.km | W36: =TRUNC((O36*S36+P36*T36+Q36*U36),2) -> 165.19 | X36: =W36+N36 -> 255.41 | Y36: R$/m³
C37: =$C$21 -> PEDREIRA BARBOSA | D37: =$D$21 -> 45748 | G37: DRENAGEM | H37: 45658 | J37: 477.285 | K37: =TRUNC(J37/I37,4) -> #DIV/0! | L37: =TRUNC(E37*K37,2) -> #DIV/0! | M37: 1.5 | N37: =L37 -> #DIV/0! | O37: 209 | Q37: 0.02 | R37: Transp C. Basc 10 m³ (t.km) | S37: =$S$20 -> 0.83 | T37: =$T$20 -> 1.02 | U37: =$U$20 -> 1.27 | V37: R$/t.km | W37: =TRUNC((O37*S37+P37*T37+Q37*U37),2) -> 173.49 | X37: =W37+N37 -> #DIV/0! | Y37: R$/m³
C38: =$C$22 -> QUALITY BRITA | D38: 45809 | E38: 72.05 | F38: FOB | G38: DRENAGEM | H38: 45658 | I38: 482.629 | J38: 477.285 | K38: =TRUNC(J38/I38,4) -> 0.9889 | L38: =TRUNC(E38*K38,2) -> 71.25 | M38: 1.31 | N38: =L38 -> 71.25 | O38: 2.4 | Q38: 0.02 | R38: Transp C. Basc 10 m³ (t.km) | S38: =$S$20 -> 0.83 | T38: =$T$20 -> 1.02 | U38: =$U$20 -> 1.27 | V38: R$/t.km | W38: =TRUNC((O38*S38+P38*T38+Q38*U38),2) -> 2.01 | X38: =W38+N38 -> 73.26 | Y38: R$/m³
C39: =$C$23 -> 0 | G39: DRENAGEM | H39: 45658 | J39: 477.285 | K39: =TRUNC(J39/I39,4) -> #DIV/0! | L39: =TRUNC(E39*K39,2) -> #DIV/0! | M39: 1.5 | N39: =L39 -> #DIV/0! | R39: Transp C. Basc 10 m³ (t.km) | S39: =$S$20 -> 0.83 | T39: =$T$20 -> 1.02 | U39: =$U$20 -> 1.27 | V39: R$/t.km | W39: =TRUNC((O39*S39+P39*T39+Q39*U39),2) -> 0 | X39: =W39+N39 -> #DIV/0! | Y39: R$/m³
B40: BGS | C40: =$C$20 -> BRITAFORTE | D40: 45627 | E40: 95 | F40: FOB | G40: PAVIMENTAÇÃO | H40: 45658 | I40: 583.334 | J40: 584.512 | K40: =TRUNC(J40/I40,4) -> 1.002 | L40: =TRUNC(E40*K40,2) -> 95.19 | M40: 1.5 | N40: =L40 -> 95.19 | O40: 199 | Q40: 0.02 | R40: Transp C. Basc 10 m³ (t.km) | S40: 0.83 | T40: 1.02 | U40: 1.27 | V40: R$/t.km | W40: =TRUNC((O40*S40+P40*T40+Q40*U40),2) -> 165.19 | X40: =W40+N40 -> 260.38 | Y40: R$/m³
C41: =$C$21 -> PEDREIRA BARBOSA | D41: =$D$21 -> 45748 | E41: 120 | F41: FOB | G41: PAVIMENTAÇÃO | H41: 45658 | I41: 587.959 | J41: 584.512 | K41: =TRUNC(J41/I41,4) -> 0.9941 | L41: =TRUNC(E41*K41,2) -> 119.29 | M41: 1.5 | N41: =L41 -> 119.29 | O41: 209 | Q41: 0.02 | R41: Transp C. Basc 10 m³ (t.km) | S41: =$S$20 -> 0.83 | T41: =$T$20 -> 1.02 | U41: =$U$20 -> 1.27 | V41: R$/t.km | W41: =TRUNC((O41*S41+P41*T41+Q41*U41),2) -> 173.49 | X41: =W41+N41 -> 292.78 | Y41: R$/m³
C42: =$C$22 -> QUALITY BRITA | D42: 45809 | E42: 79.09 | F42: FOB | G42: PAVIMENTAÇÃO | H42: 45658 | I42: 587.552 | J42: 584.512 | K42: =TRUNC(J42/I42,4) -> 0.9948 | L42: =TRUNC(E42*K42,2) -> 78.67 | M42: 1.61 | N42: =L42 -> 78.67 | O42: 2.4 | Q42: 0.02 | R42: Transp C. Basc 10 m³ (t.km) | S42: =$S$20 -> 0.83 | T42: =$T$20 -> 1.02 | U42: =$U$20 -> 1.27 | V42: R$/t.km | W42: =TRUNC((O42*S42+P42*T42+Q42*U42),2) -> 2.01 | X42: =W42+N42 -> 80.68 | Y42: R$/m³
C43: =$C$23 -> 0 | G43: PAVIMENTAÇÃO | H43: 45658 | I43: 583.334 | J43: 584.512 | K43: =TRUNC(J43/I43,4) -> 1.002 | L43: =TRUNC(E43*K43,2) -> 0 | M43: 1.5 | N43: =L43 -> 0 | R43: Transp C. Basc 10 m³ (t.km) | S43: =$S$20 -> 0.83 | T43: =$T$20 -> 1.02 | U43: =$U$20 -> 1.27 | V43: R$/t.km | W43: =TRUNC((O43*S43+P43*T43+Q43*U43),2) -> 0 | X43: =W43+N43 -> 0 | Y43: R$/m³
B44: PÓ DE PEDRA | C44: =$C$20 -> BRITAFORTE | D44: 45627 | E44: 50 | F44: FOB | G44: PAVIMENTAÇÃO | H44: 45658 | I44: 583.334 | J44: 584.512 | K44: =TRUNC(J44/I44,4) -> 1.002 | L44: =TRUNC(E44*K44,2) -> 50.1 | M44: 1.5 | N44: =L44 -> 50.1 | O44: 199 | Q44: 0.02 | R44: Transp C. Basc 10 m³ (t.km) | S44: 0.83 | T44: 1.02 | U44: 1.27 | V44: R$/t.km | W44: =TRUNC((O44*S44+P44*T44+Q44*U44),2) -> 165.19 | X44: =W44+N44 -> 215.29 | Y44: R$/m³
C45: =$C$21 -> PEDREIRA BARBOSA | D45: =$D$21 -> 45748 | E45: 90 | F45: FOB | G45: PAVIMENTAÇÃO | H45: 45658 | I45: 587.959 | J45: 584.512 | K45: =TRUNC(J45/I45,4) -> 0.9941 | L45: =TRUNC(E45*K45,2) -> 89.46 | M45: 1.5 | N45: =L45 -> 89.46 | O45: 209 | Q45: 0.02 | R45: Transp C. Basc 10 m³ (t.km) | S45: =$S$20 -> 0.83 | T45: =$T$20 -> 1.02 | U45: =$U$20 -> 1.27 | V45: R$/t.km | W45: =TRUNC((O45*S45+P45*T45+Q45*U45),2) -> 173.49 | X45: =W45+N45 -> 262.95 | Y45: R$/m³
C46: =$C$22 -> QUALITY BRITA | D46: 45809 | E46: 62.12 | F46: FOB | G46: PAVIMENTAÇÃO | H46: 45658 | I46: 587.552 | J46: 584.512 | K46: =TRUNC(J46/I46,4) -> 0.9948 | L46: =TRUNC(E46*K46,2) -> 61.79 | M46: 1.553 | N46: =L46 -> 61.79 | O46: 2.4 | Q46: 0.02 | R46: Transp C. Basc 10 m³ (t.km) | S46: =$S$20 -> 0.83 | T46: =$T$20 -> 1.02 | U46: =$U$20 -> 1.27 | V46: R$/t.km | W46: =TRUNC((O46*S46+P46*T46+Q46*U46),2) -> 2.01 | X46: =W46+N46 -> 63.8 | Y46: R$/m³
...

Sheet Mob. e Desmob
B2: GOVERNO DO ESTADO DE PERNAMBUCO
B3: SECRETARIA DE MOBILIDADE E INFRAESTRUTURA
B4: DEPARTAMENTO DE ESTRADAS DE RODAGEM - DER/PE
B6: RODOVIA: | D6: ='Mat. Betuminoso'!C6 -> LOTE 09
B7: UF: | D7: ='Mat. Betuminoso'!C7 -> PE
B8: EXTENSÃO: | D8: ='Mat. Betuminoso'!G6 -> 183.12
B9: DATA BASE: | D9: ='Mat. Betuminoso'!G7 -> JANEIRO/2025
B10: TIPO: | D10: ='Mat. Betuminoso'!G8 -> SEM DESONERAÇÃO
B12: MOBILIZAÇÃO E DESMOBILIZAÇÃO DE EQUIPAMENTOS E VEÍCULOS
C14: CONSIDERAÇÕES INICIAIS:
C15: Segundo a nova metodologia, os custos de mobilização de um determinado projeto podem ser definidos em função de composições de custos de referência elaboradas para os diferentes veículos transportadores, conforme expressão apresentada abaixo:
H17: CMob | I17: Representa o custo de mobilização;
H18: DM | I18: Representa a distância de mobilização, em quilômetros (km) ou em milhas náuticas (mi);
H19: K | I19: Representa o fator relacionado à necessidade de retorno do veículo a sua origem;
H20: FU | I20: Representa o fator de utilização do veículo transportador
H21: V | I21: representa a velocidade média de transporte, em km/h ou nós;
H22: CH | I22: Representa o custo horário do veículo transportador;
C24: O fator K será igual a 1 quando o veículo não retornar e 2 quando o veículo transportador retornar ao local de origem
C25: Já o fator FU representa o inverso do número de equipamentos a serem transportados nos diferentes veículos transportadores.
C27: OBSERVAÇÕES:
C28: 1 - De acordo com o Manual Sicro - Volume 9 - Mobilização e Desmobilização, as ferramentas e os equipamentos leves ou de pequeno porte, cujo peso individual e formato permitem que sejam transportados, embarcados ou rebocados, serão transportados em veículos transportadores autônomos da frota mobilizada (que podem se deslocar pelos próprios meios)
C30: 2 - A cada mobilização corresponderá uma desmobilização, cujo cálculo será igual ao da mobilização.
C32: DADOS DE ENTRADA:
H33: Tabela 01 - Velocidades médias de transporte por tipo e condição da via e extensões
H34: Velocidade Rodovia Pav (P) - km/h | L34: 60
H35: Velocidade Rodovia Revestimento Primário (RP) - km/h | L35: 50
H36: Velocidade Rodovia Leito Natural (LN) - km/h | L36: 40
H37: DMT Capital - Canteiro (km) | J37: Recife/PE | L37: 690
C68: ITEM | D68: CÓDIGO | E68: DISCRIMINAÇÃO | I68: ORIGEM | J68: DESTINO | K68: DISTANCIA MOBILIZAÇÃO DM (km) | L68: VELOCIDADE MÉDIA - V (km/h) | M68: TEMPO DE VIAGEM (h) | N68: FATOR DE UTILIZAÇÃO (FU) | O68: IDA/ VOLTA (K) | P68: QUANTIDADE | Q68: EQUIPAMENTO TRANSPORTADOR | R68: CUSTO HORÁRIO - CH (R$) | S68: CUSTO TOTAL MOBILIZAÇÃO - Cmob (R$)
C69: 1 | D69: EQUIPAMENTOS DE GRANDE PORTE
C70: 1.1 | D70: M0041 | E70: Container de 1 TEU com banheiros | I70: =J37 -> Recife/PE | J70: Canteiro | K70: =$L$37 -> 690 | L70: =$L$34 -> 60 | M70: =TRUNC(K70/L70,2) -> 11.5 | N70: 0.5 | O70: =IF(D70=Q70,1,2) -> 2 | P70: =Canteiro!K111 -> 1 | Q70: E9665 | R70: =VLOOKUP(Q70,'[11]Equipamentos (OK)'!$D$15:$G$545,3,0) -> 389.8279 | S70: =TRUNC(M70*N70*O70*P70*R70,2) -> 4483.02
C71: 1.2 | D71: M0042 | E71: Container 1 TEU com janela | I71: =$I$70 -> Recife/PE | J71: Canteiro | K71: =$L$37 -> 690 | L71: =$L$34 -> 60 | M71: =TRUNC(K71/L71,2) -> 11.5 | N71: 0.5 | O71: =IF(D71=Q71,1,2) -> 2 | P71: =Canteiro!K112 -> 1 | Q71: E9665 | R71: =VLOOKUP(Q71,'[11]Equipamentos (OK)'!$D$15:$G$545,3,0) -> 389.8279 | S71: =TRUNC(M71*N71*O71*P71*R71,2) -> 4483.02
C72: 1.3 | D72: M0057 | E72: Container 1 TEU duplo (6,0 m x 4,88 m) com janela | I72: =$I$70 -> Recife/PE | J72: Canteiro | K72: =$L$37 -> 690 | L72: =$L$34 -> 60 | M72: =TRUNC(K72/L72,2) -> 11.5 | N72: 0.5 | O72: =IF(D72=Q72,1,2) -> 2 | P72: =(SUM(Canteiro!K106,Canteiro!K107,Canteiro!K109)) -> 3 | Q72: E9665 | R72: =VLOOKUP(Q72,'[11]Equipamentos (OK)'!$D$15:$G$545,3,0) -> 389.8279 | S72: =TRUNC(M72*N72*O72*P72*R72,2) -> 13449.06
C73: 1.4 | D73: M0058 | E73: Container 1 TEU duplo (6,0 m x 4,88 m) com janela e 2 lavabos | I73: =$I$70 -> Recife/PE | J73: Canteiro | K73: =$L$37 -> 690 | L73: =$L$34 -> 60 | M73: =TRUNC(K73/L73,2) -> 11.5 | N73: 0.5 | O73: =IF(D73=Q73,1,2) -> 2 | P73: =Canteiro!K108 -> 1 | Q73: E9665 | R73: =VLOOKUP(Q73,'[11]Equipamentos (OK)'!$D$15:$G$545,3,0) -> 389.8279 | S73: =TRUNC(M73*N73*O73*P73*R73,2) -> 4483.02
C74: 1.5 | D74: M0060 | E74: Container 3/4 de 1 TEU com janela | I74: =$I$70 -> Recife/PE | J74: Canteiro | K74: =$L$37 -> 690 | L74: =$L$34 -> 60 | M74: =TRUNC(K74/L74,2) -> 11.5 | N74: 0.5 | O74: =IF(D74=Q74,1,2) -> 2 | P74: =Canteiro!K113 -> 1 | Q74: E9665 | R74: =VLOOKUP(Q74,'[11]Equipamentos (OK)'!$D$15:$G$545,3,0) -> 389.8279 | S74: =TRUNC(M74*N74*O74*P74*R74,2) -> 4483.02
C75: 1.6 | D75: M0065 | E75: Container 3/4 de 1 TEU com janela e 1 banheiro | I75: =$I$70 -> Recife/PE | J75: Canteiro | K75: =$L$37 -> 690 | L75: =$L$34 -> 60 | M75: =TRUNC(K75/L75,2) -> 11.5 | N75: 0.5 | O75: =IF(D75=Q75,1,2) -> 2 | P75: =Canteiro!K114 -> 1 | Q75: E9665 | R75: =VLOOKUP(Q75,'[11]Equipamentos (OK)'!$D$15:$G$545,3,0) -> 389.8279 | S75: =TRUNC(M75*N75*O75*P75*R75,2) -> 4483.02
C76: 1.7 | D76: M0066 | E76: Container 2 TEU revestimento térmico (ar cond.) com janela e 1 lavabo | I76: =$I$70 -> Recife/PE | J76: Canteiro | K76: =$L$37 -> 690 | L76: =$L$34 -> 60 | M76: =TRUNC(K76/L76,2) -> 11.5 | N76: 1 | O76: =IF(D76=Q76,1,2) -> 2 | P76: =SUM(Canteiro!K105,Canteiro!K115) -> 2 | Q76: E9018 | R76: =VLOOKUP(Q76,'[11]Equipamentos (OK)'!$D$15:$G$545,3,0) -> 501.7756 | S76: =TRUNC(M76*N76*O76*P76*R76,2) -> 23081.67
C77: 1.8 | D77: M0071 | E77: Contêiner com 3 janelas para guarita - L = 2,44 m e C = 3,05 m (1/2 TEU) | I77: =$I$70 -> Recife/PE | J77: Canteiro | K77: =$L$37 -> 690 | L77: =$L$34 -> 60 | M77: =TRUNC(K77/L77,2) -> 11.5 | N77: 0.33 | O77: 2 | P77: =Canteiro!K116 -> 1 | Q77: E9665 | R77: =VLOOKUP(Q77,'[11]Equipamentos (OK)'!$D$15:$G$545,3,0) -> 389.8279 | S77: =TRUNC(M77*N77*O77*P77*R77,2) -> 2958.79
C78: 1.9 | D78: E9076 | E78: Equipamento de pintura eletrostática com cabine de 13,2 kW e estufa de 90.000 kCal | I78: =$I$70 -> Recife/PE | J78: Canteiro | K78: =$L$37 -> 690 | L78: =$L$34 -> 60 | M78: =TRUNC(K78/L78,2) -> 11.5 | N78: 1 | O78: 2 | P78: 1 | Q78: E9665 | R78: =VLOOKUP(Q78,'[11]Equipamentos (OK)'!$D$15:$G$545,3,0) -> 389.8279 | S78: =TRUNC(M78*N78*O78*P78*R78,2) -> 8966.04
C79: 1.10 | D79: E9127 | E79: Escavadeira hidráulica com martelo hidráulico de 520 kg - 75 Kw | I79: =$I$70 -> Recife/PE | J79: Canteiro | K79: =$L$37 -> 690 | L79: =$L$34 -> 60 | M79: =TRUNC(K79/L79,2) -> 11.5 | N79: 1 | O79: =IF(D79=Q79,1,2) -> 2 | P79: 9 | Q79: E9665 | R79: =VLOOKUP(Q79,'[11]Equipamentos (OK)'!$D$15:$G$545,3,0) -> 389.8279 | S79: =TRUNC(M79*N79*O79*P79*R79,2) -> 80694.37
...

Sheet Canteiro
B2: GOVERNO DO ESTADO DE PERNAMBUCO
B3: SECRETARIA DE MOBILIDADE E INFRAESTRUTURA
