Workbook
Name \0: #REF!
Name \0: #REF!
Name \0: #REF!
Name \0: #REF!
Name \1: #REF!
Name \1: #REF!
Name \1: #REF!
Name \11: #REF!
Name \11: #REF!
Name \11: #REF!
Name \2: #REF!
Name \2: #REF!
Name \2: #REF!
Name \a: #REF!
Name \a: #REF!
Name \a: #REF!
Name \a: #REF!
Name \B: #REF!
Name \B: #REF!
Name \B: #REF!
Name \c: #REF!
Name \c: #REF!
Name \c: #REF!
Name \D: #REF!
Name \D: #REF!
Name \D: #REF!
Name \E: #REF!
Name \E: #REF!
Name \E: #REF!
Name \fagf: #REF!
Name \fagf: #REF!
Name \fagf: #REF!
Name \I: #REF!
Name \I: #REF!
Name \I: #REF!
Name \I: #REF!
Name \p: #REF!
Name \p: #REF!
Name \p: #REF!
Name \S: #REF!
Name \S: #REF!
Name \S: #REF!
Name \S: #REF!
Name \SA: #REF!
Name \SA: #REF!
Name \SA: #REF!
Name \w: #REF!
Name \w: #REF!
Name \w: #REF!
Name \x: #REF!
Name \x: #REF!
Name \x: #REF!
Name \z: #REF!
Name \z: #REF!
Name \z: #REF!
Name \ZACVDERVREW: #N/A
Name _\1: #REF!
Name _\1: #REF!
Name _\11: #REF!
Name _\11: #REF!

Sheet RESUMO
A2: GOVERNO DO ESTADO DE PERNAMBUCO
A3: SECRETARIA DE MOBILIDADE E INFRAESTRUTURA - SEMOBI/PE
A4: DEPARTAMENTO DE ESTRADAS E RODAGEM - DER/PE
A5: OBRA: | B5: ELABORAÇÃO DE PROJETO BÁSICO E EXECUTIVO DE ENGENHARIA PARA DUPLICAÇÃO, ADEQUAÇÃO E RESTAURAÇÃO DA PISTA EXISTENTE DA RODOVIA BR-232/PE (LOTE 2), TRECHO: FIM DA DUPLICAÇÃO (SÃO CAETANO) - ENTR. VPE-230 (PESQUEIRA), SEGMENTO: KM 149,10 - KM 177,90, EXTENSÃO: 28,80KM
A6: DATA BASE: | B6: JULHO/2025
A7: ITEM | B7: DESCRIÇÃO | C7: R$ | E7: %
A8: 1.0 | B8: =PLANILHA!D2 -> MOBILIZAÇÃO/DESMOBILIZAÇÃO | C8: =PLANILHA!I4 -> 193210.11 | E8: =C8/$C$19 -> 0.00077473507
A9: 2.0 | B9: =PLANILHA!D5 -> INSTALAÇÃO DO CANTEIRO DE OBRAS | C9: =PLANILHA!I11 -> 3907193.7 | E9: =C9/$C$19 -> 0.015667089
A10: 3.0 | B10: =PLANILHA!D12 -> ADMINISTRAÇÃO LOCAL DE OBRA | C10: =PLANILHA!I14 -> 14739272 | E10: =C10/$C$19 -> 0.059101622
A11: 4.0 | B11: =PLANILHA!D15 -> TERRAPLENAGEM | C11: =PLANILHA!I36 -> 54672766 | E11: =C11/$C$19 -> 0.21922719
A12: 5.0 | B12: =PLANILHA!D37 -> DRENAGEM E OBRAS DE ARTE CORRENTES | C12: =PLANILHA!I89 -> 25342906 | E12: =C12/$C$19 -> 0.10162014
A13: 6.0 | B13: =PLANILHA!D90 -> PAVIMENTAÇÃO | C13: =PLANILHA!I120 -> 1.2070929e+08 | E13: =C13/$C$19 -> 0.48402086
A14: 7.0 | B14: =PLANILHA!D121 -> OBRAS DE ARTE ESPECIAIS | C14: =PLANILHA!I280 -> 13006582 | E14: =C14/$C$19 -> 0.052153871
A15: 8.0 | B15: =PLANILHA!D281 -> OBRAS COMPLEMENTARES | C15: =PLANILHA!I291 -> 6349631.6 | E15: =C15/$C$19 -> 0.025460791
A16: 9.0 | B16: =PLANILHA!D292 -> SINALIZAÇÃO | C16: =PLANILHA!I326 -> 8172712.2 | E16: =C16/$C$19 -> 0.032770991
A17: 10.0 | B17: =PLANILHA!D327 -> ILUMINAÇÃO PÚBLICA | C17: =PLANILHA!I359 -> 191807.32 | E17: =C17/$C$19 -> 0.00076911016
A18: 11.0 | B18: =PLANILHA!D360 -> PROTEÇÃO AMBIENTAL | C18: =PLANILHA!I363 -> 2103243.1 | E18: =C18/$C$19 -> 0.0084335969
B19: TOTAL | C19: =SUM(C8:D18) -> 2.4938862e+08 | E19: =SUM(E8:E18) -> 1
B57: RESUMO DO ORÇAMENTO | D57: QD - 3.1

Sheet PLANILHA
A1: Item | B1: Código | D1: Descrição | E1: Unid. | F1: Quantidade | G1: Custo Unit R$ | H1: Preço Unit R$ | I1: Total c/BDI | J1: BDI %
A2: 1.0 | D2: MOBILIZAÇÃO/DESMOBILIZAÇÃO
A3: 1.1 | B3: CP0017 | C3: COMPOSIÇÃO | D3: MOBILIZAÇÃO E DESMOBILIZAÇÃO DE EQUIPAMENTOS | E3: UN | F3: 1 | G3: 158681.1 | H3: =IFERROR(ROUND((1+J3)*G3,2),0) -> 193210.11 | I3: =IFERROR(TRUNC(H3*F3,2),0) -> 193210.11 | J3: 0.2176
D4: SUBTOTAL 1. | I4: =SUBTOTAL(9,I3) -> 193210.11
A5: 2.0 | D5: INSTALAÇÃO DO CANTEIRO DE OBRAS
A6: 2.1 | B6: CP0016 | C6: COMPOSIÇÃO | D6: INSTALAÇÃO DO CANTEIRO DE OBRAS | E6: UN | F6: 1 | G6: 2636406.8 | H6: =IFERROR(ROUND((1+J6)*G6,2),0) -> 3210088.9 | I6: =IFERROR(TRUNC(H6*F6,2),0) -> 3210088.9 | J6: 0.2176
A7: 2.2 | B7: 0903810 | C7: COMPOSIÇÃO | D7: INSTALAÇÃO DA USINA DE ASFALTO A QUENTE CAPACIDADE DE 120 T/H | E7: UN | F7: 1 | G7: 214293.39 | H7: =IFERROR(ROUND((1+J7)*G7,2),0) -> 260923.63 | I7: =IFERROR(TRUNC(H7*F7,2),0) -> 260923.63 | J7: 0.2176
A8: 2.3 | B8: 0903806 | C8: COMPOSIÇÃO | D8: INSTALAÇÃO DA CENTRAL DE CONCRETO COM CAPACIDADE DE 150 M³/H | E8: UN | F8: 1 | G8: 202544.34 | H8: =IFERROR(ROUND((1+J8)*G8,2),0) -> 246617.99 | I8: =IFERROR(TRUNC(H8*F8,2),0) -> 246617.99 | J8: 0.2176
A9: 2.4 | B9: 0903802 | C9: COMPOSIÇÃO | D9: BACIA DE CONTENÇÃO PARA TANQUE DE EMULSÃO DE 30.000 L - INCLUSIVE DEMOLIÇÃO | E9: UN | F9: 6 | G9: 16612.61 | H9: =IFERROR(ROUND((1+J9)*G9,2),0) -> 20227.51 | I9: =IFERROR(TRUNC(H9*F9,2),0) -> 121365.06 | J9: 0.2176
A10: 2.5 | B10: CP0001 | C10: COMPOSIÇÃO | D10: DESTINAÇÃO FINAL DE RESÍDUOS SÓLIDOS (METRALHA) | E10: T | F10: 705.4 | G10: 83.68 | H10: =IFERROR(ROUND((1+J10)*G10,2),0) -> 96.68 | I10: =IFERROR(TRUNC(H10*F10,2),0) -> 68198.07 | J10: 0.1554
D11: SUBTOTAL 2. | I11: =SUBTOTAL(9,I5:I10) -> 3907193.7
A12: 3.0 | D12: ADMINISTRAÇÃO LOCAL DE OBRA
A13: 3.1 | B13: CP0018 | C13: COMPOSIÇÃO | D13: ADMINISTRAÇÃO LOCAL DE OBRA | E13: UN | F13: 1 | G13: 12105184 | H13: =IFERROR(ROUND((1+J13)*G13,2),0) -> 14739272 | I13: =IFERROR(TRUNC(H13*F13,2),0) -> 14739272 | J13: 0.2176
D14: SUBTOTAL 3. | I14: =SUBTOTAL(9,I12:I13) -> 14739272
A15: 4.0 | D15: TERRAPLENAGEM
A16: 4.1 | B16: 5501710 | C16: COMPOSIÇÃO | D16: ESCAVAÇÃO, CARGA E TRANSPORTE EM MATERIAL DE 1ª CATEGORIA - DMT DE 50 M | E16: M³ | F16: 64847.097 | G16: 3.72 | H16: =IFERROR(ROUND((1+J16)*G16,2),0) -> 4.53 | I16: =IFERROR(TRUNC(H16*F16,2),0) -> 293757.34 | J16: 0.2176
A17: 4.2 | B17: 5502161 | C17: COMPOSIÇÃO | D17: ESCAVAÇÃO, CARGA E TRANSPORTE DE MATERIAL DE 1ª CATEGORIA - DMT DE 50 A 200 M - CAMINHO DE SERVIÇO PAVIMENTADO - COM ESCAVADEIRA E CAMINHÃO BASCULANTE DE 14 M³ | E17: M³ | F17: 730.593 | G17: 5.66 | H17: =IFERROR(ROUND((1+J17)*G17,2),0) -> 6.89 | I17: =IFERROR(TRUNC(H17*F17,2),0) -> 5033.78 | J17: 0.2176
A18: 4.3 | B18: 5502162 | C18: COMPOSIÇÃO | D18: ESCAVAÇÃO, CARGA E TRANSPORTE DE MATERIAL DE 1ª CATEGORIA - DMT DE 200 A 400 M - CAMINHO DE SERVIÇO PAVIMENTADO - COM ESCAVADEIRA E CAMINHÃO BASCULANTE DE 14 M³ | E18: M³ | F18: 15027.339 | G18: 6.39 | H18: =IFERROR(ROUND((1+J18)*G18,2),0) -> 7.78 | I18: =IFERROR(TRUNC(H18*F18,2),0) -> 116912.69 | J18: 0.2176
A19: 4.4 | B19: 5502138 | C19: COMPOSIÇÃO | D19: ESCAVAÇÃO, CARGA E TRANSPORTE DE MATERIAL DE 1ª CATEGORIA - DMT DE 600 A 800 M - CAMINHO DE SERVIÇO EM REVESTIMENTO PRIMÁRIO - COM ESCAVADEIRA E CAMINHÃO BASCULANTE DE 14 M³ | E19: M³ | F19: 13208.823 | G19: 6.77 | H19: =IFERROR(ROUND((1+J19)*G19,2),0) -> 8.24 | I19: =IFERROR(TRUNC(H19*F19,2),0) -> 108840.7 | J19: 0.2176
A20: 4.5 | B20: 5502166 | C20: COMPOSIÇÃO | D20: ESCAVAÇÃO, CARGA E TRANSPORTE DE MATERIAL DE 1ª CATEGORIA - DMT DE 1.000 A 1.200 M - CAMINHO DE SERVIÇO PAVIMENTADO - COM ESCAVADEIRA E CAMINHÃO BASCULANTE DE 14 M³ | E20: M³ | F20: 2491.875 | G20: 7.58 | H20: =IFERROR(ROUND((1+J20)*G20,2),0) -> 9.23 | I20: =IFERROR(TRUNC(H20*F20,2),0) -> 23000 | J20: 0.2176
A21: 4.6 | B21: 5502167 | C21: COMPOSIÇÃO | D21: ESCAVAÇÃO, CARGA E TRANSPORTE DE MATERIAL DE 1ª CATEGORIA - DMT DE 1.200 A 1.400 M - CAMINHO DE SERVIÇO PAVIMENTADO - COM ESCAVADEIRA E CAMINHÃO BASCULANTE DE 14 M³ | E21: M³ | F21: 997.564 | G21: 7.72 | H21: =IFERROR(ROUND((1+J21)*G21,2),0) -> 9.4 | I21: =IFERROR(TRUNC(H21*F21,2),0) -> 9377.1 | J21: 0.2176
A22: 4.7 | B22: 5502168 | C22: COMPOSIÇÃO | D22: ESCAVAÇÃO, CARGA E TRANSPORTE DE MATERIAL DE 1ª CATEGORIA - DMT DE 1.400 A 1.600 M - CAMINHO DE SERVIÇO PAVIMENTADO - COM ESCAVADEIRA E CAMINHÃO BASCULANTE DE 14 M³ | E22: M³ | F22: 5858.14 | G22: 7.87 | H22: =IFERROR(ROUND((1+J22)*G22,2),0) -> 9.58 | I22: =IFERROR(TRUNC(H22*F22,2),0) -> 56120.98 | J22: 0.2176
A23: 4.8 | B23: 5502169 | C23: COMPOSIÇÃO | D23: ESCAVAÇÃO, CARGA E TRANSPORTE DE MATERIAL DE 1ª CATEGORIA - DMT DE 1.600 A 1.800 M - CAMINHO DE SERVIÇO PAVIMENTADO - COM ESCAVADEIRA E CAMINHÃO BASCULANTE DE 14 M³ | E23: M³ | F23: 351.38 | G23: 8.06 | H23: =IFERROR(ROUND((1+J23)*G23,2),0) -> 9.81 | I23: =IFERROR(TRUNC(H23*F23,2),0) -> 3447.03 | J23: 0.2176
A24: 4.9 | B24: 5502170 | C24: COMPOSIÇÃO | D24: ESCAVAÇÃO, CARGA E TRANSPORTE DE MATERIAL DE 1ª CATEGORIA - DMT DE 1.800 A 2.000 M - CAMINHO DE SERVIÇO PAVIMENTADO - COM ESCAVADEIRA E CAMINHÃO BASCULANTE DE 14 M³ | E24: M³ | F24: 57.25 | G24: 8.21 | H24: =IFERROR(ROUND((1+J24)*G24,2),0) -> 10 | I24: =IFERROR(TRUNC(H24*F24,2),0) -> 572.5 | J24: 0.2176
A25: 4.10 | B25: 5502171 | C25: COMPOSIÇÃO | D25: ESCAVAÇÃO, CARGA E TRANSPORTE DE MATERIAL DE 1ª CATEGORIA - DMT DE 2.000 A 2.500 M - CAMINHO DE SERVIÇO PAVIMENTADO - COM ESCAVADEIRA E CAMINHÃO BASCULANTE DE 14 M³ | E25: M³ | F25: 3475.11 | G25: 8.5 | H25: =IFERROR(ROUND((1+J25)*G25,2),0) -> 10.35 | I25: =IFERROR(TRUNC(H25*F25,2),0) -> 35967.38 | J25: 0.2176
A26: 4.11 | B26: 5502172 | C26: COMPOSIÇÃO | D26: ESCAVAÇÃO, CARGA E TRANSPORTE DE MATERIAL DE 1ª CATEGORIA - DMT DE 2.500 A 3.000 M - CAMINHO DE SERVIÇO PAVIMENTADO - COM ESCAVADEIRA E CAMINHÃO BASCULANTE DE 14 M³ | E26: M³ | F26: 1621142.1 | G26: 9.41 | H26: =IFERROR(ROUND((1+J26)*G26,2),0) -> 11.46 | I26: =IFERROR(TRUNC(H26*F26,2),0) -> 18578288 | J26: 0.2176
A27: 4.12 | B27: 5502648 | C27: COMPOSIÇÃO | D27: ESCAVAÇÃO, CARGA E TRANSPORTE DE MATERIAL DE 2ª CATEGORIA - DMT DE 2.500 A 3.000 M - CAMINHO DE SERVIÇO PAVIMENTADO - COM ESCAVADEIRA E CAMINHÃO BASCULANTE DE 14 M³ | E27: M³ | F27: 200.14 | G27: 12.12 | H27: =IFERROR(ROUND((1+J27)*G27,2),0) -> 14.76 | I27: =IFERROR(TRUNC(H27*F27,2),0) -> 2954.06 | J27: 0.2176
... A32: 4.17 | B32: 5501700 | C32: COMPOSIÇÃO | D32: DESMATAMENTO, DESTOCAMENTO E LIMPEZA DE ÁREA COM ÁRVORES DE DIÂMETRO ATÉ 0,15 M | E32: M² | F32: 760200 | G32: 0.7 | H32: =IFERROR(ROUND((1+J32)*G32,2),0) -> 0.85 | I32: =IFERROR(TRUNC(H32*F32,2),0) -> 646170 | J32: 0.2176
A33: 4.18 | B33: CP0004 | C33: COMPOSIÇÃO | D33: COMPACTAÇÃO DE CAMADA FINAL DE ATERRO DE ROCHA | E33: M³ | F33: 336.6 | G33: 4.49 | H33: =IFERROR(ROUND((1+J33)*G33,2),0) -> 5.47 | I33: =IFERROR(TRUNC(H33*F33,2),0) -> 1841.2 | J33: 0.2176
A34: 4.19 | B34: 5915321 | C34: COMPOSIÇÃO | D34: TRANSPORTE COM CAMINHÃO BASCULANTE DE 14 M³ - RODOVIA PAVIMENTADA | E34: TKM | F34: 22606854 | G34: 0.68 | H34: =IFERROR(ROUND((1+J34)*G34,2),0) -> 0.83 | I34: =IFERROR(TRUNC(H34*F34,2),0) -> 18763688 | J34: 0.2176
A35: 4.20 | B35: 5915319 | C35: COMPOSIÇÃO | D35: TRANSPORTE COM CAMINHÃO BASCULANTE DE 14 M³ - RODOVIA EM LEITO NATURAL | E35: TKM | F35: 2103890.7 | G35: 0.93 | H35: =IFERROR(ROUND((1+J35)*G35,2),0) -> 1.13 | I35: =IFERROR(TRUNC(H35*F35,2),0) -> 2377396.5 | J35: 0.2176
D36: SUBTOTAL 4. | I36: =SUBTOTAL(9,I15:I35) -> 54672766
A37: 5.0 | D37: DRENAGEM E OBRAS DE ARTE CORRENTES
A38: 5.1 | B38: 2003311 | C38: COMPOSIÇÃO | D38: VALETA DE PROTEÇÃO DE ATERROS COM REVESTIMENTO VEGETAL - VPAG 120-30 - ESCAVAÇÃO MECÂNICA | E38: M | F38: 3031 | G38: 44.18 | H38: =IFERROR(ROUND((1+J38)*G38,2),0) -> 53.79 | I38: =IFERROR(TRUNC(H38*F38,2),0) -> 163037.49 | J38: 0.2176
A39: 5.2 | B39: 2003305 | C39: COMPOSIÇÃO | D39: VALETA DE PROTEÇÃO DE CORTES COM REVESTIMENTO VEGETAL - VPCG 120-30 - ESCAVAÇÃO MECÂNICA | E39: M | F39: 3610 | G39: 44.18 | H39: =IFERROR(ROUND((1+J39)*G39,2),0) -> 53.79 | I39: =IFERROR(TRUNC(H39*F39,2),0) -> 194181.9 | J39: 0.2176
A40: 5.3 | B40: 2003257 | C40: COMPOSIÇÃO | D40: SARJETA TRIANGULAR DE CONCRETO - STC 100-20 - ESCAVAÇÃO MECÂNICA - AREIA E BRITA COMERCIAIS | E40: M | F40: 11141 | G40: 54.09 | H40: =IFERROR(ROUND((1+J40)*G40,2),0) -> 65.86 | I40: =IFERROR(TRUNC(H40*F40,2),0) -> 733746.26 | J40: 0.2176
A41: 5.4 | B41: 2003355 | C41: COMPOSIÇÃO | D41: SARJETA TRAPEZOIDAL DE CANTEIRO CENTRAL DE CONCRETO - SZCC 140-35 - AREIA E BRITA COMERCIAIS | E41: M | F41: 27687 | G41: 84.76 | H41: =IFERROR(TRUNC((1+J41)*G41,3),0) -> 103.203 | I41: =IFERROR(TRUNC(H41*F41,2),0) -> 2857381.5 | J41: 0.2176
A42: 5.5 | B42: 2003377 | C42: COMPOSIÇÃO | D42: MEIO-FIO DE CONCRETO - MFC 05 - AREIA E BRITA COMERCIAIS - FÔRMA DE MADEIRA | E42: M | F42: 64825 | G42: 57.51 | H42: =IFERROR(ROUND((1+J42)*G42,2),0) -> 70.02 | I42: =IFERROR(TRUNC(H42*F42,2),0) -> 4539046.5 | J42: 0.2176
A43: 5.6 | B43: 2003109 | C43: COMPOSIÇÃO | D43: ENTRADA PARA DESCIDA D'ÁGUA - EDA 04 A - AREIA E BRITA COMERCIAIS | E43: un | F43: 685 | G43: 191.92 | H43: =IFERROR(ROUND((1+J43)*G43,2),0) -> 233.68 | I43: =IFERROR(TRUNC(H43*F43,2),0) -> 160070.8 | J43: 0.2176
A44: 5.7 | B44: 2003121 | C44: COMPOSIÇÃO | D44: ENTRADA PARA DESCIDA D'ÁGUA - EDA 04 B - AREIA E BRITA COMERCIAIS | E44: un | F44: 43 | G44: 277.82 | H44: =IFERROR(ROUND((1+J44)*G44,2),0) -> 338.27 | I44: =IFERROR(TRUNC(H44*F44,2),0) -> 14545.61 | J44: 0.2176
...

Sheet CURVA ABC
A1: GOVERNO DO ESTADO DE PERNAMBUCO
A2: SECRETARIA DE MOBILIDADE E INFRAESTRUTURA - SEMOBI/PE
A3: DEPARTAMENTO DE ESTRADAS E RODAGEM - DER/PE
A4: =RESUMO!B5 -> ELABORAÇÃO DE PROJETO BÁSICO E EXECUTIVO DE ENGENHARIA PARA DUPLICAÇÃO, ADEQUAÇÃO E RESTAURAÇÃO DA PISTA EXISTENTE DA RODOVIA BR-232/PE (LOTE 2), TRECHO: FIM DA DUPLICAÇÃO (SÃO CAETANO) - ENTR. VPE-230 (PESQUEIRA), SEGMENTO: KM 149,10 - KM 177,90, EXTENSÃO: 28,80KM | F4: BDI OBRA: | G4: 0.2074
F5: BDI DIFERENCIADO: | G5: 0.1453
A7: DEMONSTRATIVO DA CURVA ABC DE SERVIÇOS
A9: CÓDIGO | B9: DESCRIÇÃO | C9: UND | D9: QUANT. | E9: PREÇO UNITÁRIO | F9: PREÇO TOTAL | G9: CURVA ABC
G10: % | H10: % ACUM
A11: CP0014 | B11: PAVIMENTO DE CONCRETO COM FÔRMAS DESLIZANTES - AREIA E BRITA COMERCIAIS (IMPLANTAÇÃO) | C11: M³ | D11: 77372.18 | E11: 683.78 | F11: =TRUNC(E11*D11,2) -> 52905549 | G11: =F11/$F$196 -> 0.21214099 | H11: =G11 -> 0.21214099
A12: CP0014 | B12: PAVIMENTO DE CONCRETO COM FÔRMAS DESLIZANTES - AREIA E BRITA COMERCIAIS (WHITETOPPING) | C12: M³ | D12: 67242.78 | E12: 683.78 | F12: =TRUNC(E12*D12,2) -> 45979268 | G12: =F12/$F$196 -> 0.18436795 | H12: =H11+G12 -> 0.39650894
A13: 5915321 | B13: TRANSPORTE COM CAMINHÃO BASCULANTE DE 14 M³ - RODOVIA PAVIMENTADA | C13: TKM | D13: 22606854 | E13: 0.83 | F13: =TRUNC(E13*D13,2) -> 18763688 | G13: =F13/$F$196 -> 0.075238752 | H13: =H12+G13 -> 0.47174769
A14: 5502172 | B14: ESCAVAÇÃO, CARGA E TRANSPORTE DE MATERIAL DE 1ª CATEGORIA - DMT DE 2.500 A 3.000 M - CAMINHO DE SERVIÇO PAVIMENTADO - COM ESCAVADEIRA E CAMINHÃO BASCULANTE DE 14 M³ | C14: M³ | D14: 1621142.1 | E14: 11.46 | F14: =TRUNC(E14*D14,2) -> 18578288 | G14: =F14/$F$196 -> 0.074495333 | H14: =H13+G14 -> 0.54624303
A15: CP0018 | B15: ADMINISTRAÇÃO LOCAL | C15: UN | D15: 1 | E15: 14739272 | F15: =TRUNC(E15*D15,2) -> 14739272 | G15: =F15/$F$196 -> 0.059101622 | H15: =H14+G15 -> 0.60534465
A16: 4011214 | B16: SUB-BASE DE CONCRETO COMPACTADO COM ROLO - BRITA COMERCIAL | C16: M³ | D16: 39194.08 | E16: 316.3 | F16: =TRUNC(E16*D16,2) -> 12397088 | G16: =F16/$F$196 -> 0.049709917 | H16: =H15+G16 -> 0.65505456
A17: 5503041 | B17: COMPACTAÇÃO DE ATERROS A 100% DO PROCTOR INTERMEDIÁRIO | C17: M³ | D17: 1504216.1 | E17: 7.89 | F17: =TRUNC(E17*D17,2) -> 11868265 | G17: =F17/$F$196 -> 0.047589441 | H17: =H16+G17 -> 0.70264401
A18: CP0002 | B18: DRENO LONGITUDINAL DE PAVIMENTO H = 0,60 M - COM GEOCOMPOSTO DRENANTE | C18: M | D18: 112909 | E18: 78.24 | F18: =TRUNC(E18*D18,2) -> 8834000.2 | G18: =F18/$F$196 -> 0.035422627 | H18: =H17+G18 -> 0.73806663
A19: 407819 | B19: ARMAÇÃO EM AÇO CA-50 - FORNECIMENTO, PREPARO E COLOCAÇÃO | C19: KG | D19: 328043.67 | E19: 15.65 | F19: =TRUNC(E19*D19,2) -> 5133883.4 | G19: =F19/$F$196 -> 0.020585877 | H19: =H18+G19 -> 0.75865251
A20: 3713604 | B20: DEFENSA SEMIMALEÁVEL SIMPLES - FORNECIMENTO E IMPLANTAÇÃO | C20: M | D20: 11688.04 | E20: 390 | F20: =TRUNC(E20*D20,2) -> 4558335.6 | G20: =F20/$F$196 -> 0.018278042 | H20: =H19+G20 -> 0.77693055
A21: 2003377 | B21: MEIO-FIO DE CONCRETO - MFC 05 - AREIA E BRITA COMERCIAIS - FÔRMA DE MADEIRA | C21: M | D21: 64825 | E21: 70.02 | F21: =TRUNC(E21*D21,2) -> 4539046.5 | G21: =F21/$F$196 -> 0.018200696 | H21: =H20+G21 -> 0.79513125
A22: CP0016 | B22: INSTALAÇÃO DO CANTEIRO DE OBRA | C22: UN | D22: 1 | E22: 3210088.9 | F22: =TRUNC(E22*D22,2) -> 3210088.9 | G22: =F22/$F$196 -> 0.012871834 | H22: =H21+G22 -> 0.80800308
A23: 5213408 | B23: PINTURA DE FAIXA COM TERMOPLÁSTICO POR ASPERSÃO - ESPESSURA DE 1,5 MM | C23: M² | D23: 51938.03 | E23: 59.72 | F23: =TRUNC(E23*D23,2) -> 3101739.1 | G23: =F23/$F$196 -> 0.012437372 | H23: =H22+G23 -> 0.82044045
A24: 2003355 | B24: SARJETA TRAPEZOIDAL DE CANTEIRO CENTRAL DE CONCRETO - SZCC 140-35 - AREIA E BRITA COMERCIAIS | C24: M | D24: 27687 | E24: 103.2 | F24: =TRUNC(E24*D24,2) -> 2857298.4 | G24: =F24/$F$196 -> 0.011457212 | H24: =H23+G24 -> 0.83189767
A25: CP0046 | B25: AQUISIÇÃO DE CIMENTO ASFÁLTICO CAP 50/70 | C25: T | D25: 451.29 | E25: 5544.46 | F25: =TRUNC(E25*D25,2) -> 2502159.4 | G25: =F25/$F$196 -> 0.010033174 | H25: =H24+G25 -> 0.84193084
A26: 5915319 | B26: TRANSPORTE COM CAMINHÃO BASCULANTE DE 14 M³ - RODOVIA EM LEITO NATURAL | C26: TKM | D26: 2103890.7 | E26: 1.13 | F26: =TRUNC(E26*D26,2) -> 2377396.5 | G26: =F26/$F$196 -> 0.0095328988 | H26: =H25+G26 -> 0.85146374
A27: 4011459 | B27: CONCRETO ASFÁLTICO - FAIXA B-19 - AREIA E BRITA COMERCIAIS | C27: T | D27: 9468.94 | E27: 215.44 | F27: =TRUNC(E27*D27,2) -> 2039988.4 | G27: =F27/$F$196 -> 0.008179958 | H27: =H26+G27 -> 0.8596437
A28: 4413996 | B28: ENLEIVAMENTO | C28: M² | D28: 157528.58 | E28: 12.91 | F28: =TRUNC(E28*D28,2) -> 2033694 | G28: =F28/$F$196 -> 0.0081547184 | H28: =H27+G28 -> 0.86779842
A29: 1107904 | B29: CONCRETO FCK = 35 MPA - CONFECÇÃO EM BETONEIRA E LANÇAMENTO MANUAL - AREIA E BRITA COMERCIAIS | C29: M³ | D29: 3003.857 | E29: 602.79 | F29: =TRUNC(E29*D29,2) -> 1810695 | G29: =F29/$F$196 -> 0.0072605356 | H29: =H28+G29 -> 0.87505895
A30: CP0049 | B30: Pintura de faixa com promotor de aderência, e= 0,3 mm | C30: m² | D30: 61679.99 | E30: 25.48 | F30: =TRUNC(E30*D30,2) -> 1571606.1 | G30: =F30/$F$196 -> 0.0063018358 | H30: =H29+G30 -> 0.88136079
A31: 5502978 | B31: COMPACTAÇÃO DE ATERROS A 100% DO PROCTOR NORMAL | C31: M³ | D31: 226368 | E31: 6.82 | F31: =TRUNC(E31*D31,2) -> 1543829.8 | G31: =F31/$F$196 -> 0.0061904579 | H31: =H30+G31 -> 0.88755125
A32: 1506055 | B32: PEDRA ARGAMASSADA COM CIMENTO E AREIA 1:3 - AREIA E PEDRA DE MÃO COMERCIAL - FORNECIMENTO E ASSENTAMENTO | C32: M³ | D32: 3041.7 | E32: 469.84 | F32: =TRUNC(E32*D32,2) -> 1429112.3 | G32: =F32/$F$196 -> 0.0057304633 | H32: =H31+G32 -> 0.89328171
A33: 3108015 | B33: FÔRMAS DE COMPENSADO PLASTIFICADO 14 MM - USO GERAL - UTILIZAÇÃO DE 1 VEZ - CONFECÇÃO, INSTALAÇÃO E RETIRADA | C33: M² | D33: 6201.026 | E33: 218.92 | F33: =TRUNC(E33*D33,2) -> 1357528.6 | G33: =F33/$F$196 -> 0.0054434265 | H33: =H32+G33 -> 0.89872514
A34: CP0048 | B34: DESTINAÇÃO FINAL DE RESÍDUOS SÓLIDOS (RESÍDUO DE ASFALTO) | C34: T | D34: 11276.74 | E34: 96.68 | F34: =TRUNC(E34*D34,2) -> 1090235.2 | G34: =F34/$F$196 -> 0.0043716318 | H34: =H33+G34 -> 0.90309677
A35: CP0021 | B35: AQUISIÇÃO DE EMULSÃO ASFÁLTICA RR-2C | C35: T | D35: 252.298 | E35: 4020.89 | F35: =TRUNC(E35*D35,2) -> 1014462.5 | G35: =F35/$F$196 -> 0.0040677979 | H35: =H34+G35 -> 0.90716457
A36: 4011209 | B36: REGULARIZAÇÃO DO SUBLEITO - 100% PROCTOR INTERMEDIÁRIO | C36: M² | D36: 391940.8 | E36: 2.53 | F36: =TRUNC(E36*D36,2) -> 991610.22 | G36: =F36/$F$196 -> 0.0039761647 | H36: =H35+G36 -> 0.91114073
A37: 3713902 | B37: TERMINAL ABSORVEDOR DE ENERGIA DE ABERTURA COM NÍVEL DE CONTENÇÃO TL3 PARA DEFENSA METÁLICA - FORNECIMENTO E IMPLANTAÇÃO | C37: UN | D37: 47 | E37: 19696.38 | F37: =TRUNC(E37*D37,2) -> 925729.86 | G37: =F37/$F$196 -> 0.0037119972 | H37: =H36+G37 -> 0.91485273
A38: 4915669 | B38: REMOÇÃO MECANIZADA DE CAMADA GRANULAR DO PAVIMENTO | C38: M³ | D38: 7517.83 | E38: 115.22 | F38: =TRUNC(E38*D38,2) -> 866204.37 | G38: =F38/$F$196 -> 0.0034733115 | H38: =H37+G38 -> 0.91832604
A39: 2003257 | B39: SARJETA TRIANGULAR DE CONCRETO - STC 100-20 - ESCAVAÇÃO MECÂNICA - AREIA E BRITA COMERCIAIS | C39: M | D39: 11141 | E39: 65.86 | F39: =TRUNC(E39*D39,2) -> 733746.26 | G39: =F39/$F$196 -> 0.0029421802 | H39: =H38+G39 -> 0.92126822
A40: 5219615 | B40: TACHA REFLETIVA EM PLÁSTICO INJETADO - MONODIRECIONAL TIPO III - COM UM PINO - FORNECIMENTO E COLOCAÇÃO | C40: UN | D40: 17056 | E40: 42.8 | F40: =TRUNC(E40*D40,2) -> 729996.8 | G40: =F40/$F$196 -> 0.0029271456 | H40: =H39+G40 -> 0.92419536
A41: 705273 | B41: CORPO DE BDCC 2,00 X 2,00 M - MOLDADO NO LOCAL - ALTURA DO ATERRO 1,00 A 2,50 M - AREIA E BRITA COMERCIAIS | C41: M | D41: 111 | E41: 6411.24 | F41: =TRUNC(E41*D41,2) -> 711647.64 | G41: =F41/$F$196 -> 0.002853569 | H41: =H40+G41 -> 0.92704893
A42: 5501700 | B42: DESMATAMENTO, DESTOCAMENTO E LIMPEZA DE ÁREA COM ÁRVORES DE DIÂMETRO ATÉ 0,15 M | C42: M² | D42: 760200 | E42: 0.85 | F42: =TRUNC(E42*D42,2) -> 646170 | G42: =F42/$F$196 -> 0.0025910164 | H42: =H41+G42 -> 0.92963995
...

Sheet CRON
B1: CRONOGRAMA FÍSICO FINANCEIRO
B2: =RESUMO!B5:E5 -> ELABORAÇÃO DE PROJETO BÁSICO E EXECUTIVO DE ENGENHARIA PARA DUPLICAÇÃO, ADEQUAÇÃO E RESTAURAÇÃO DA PISTA EXISTENTE DA RODOVIA BR-232/PE (LOTE 2), TRECHO: FIM DA DUPLICAÇÃO (SÃO CAETANO) - ENTR. VPE-230 (PESQUEIRA), SEGMENTO: KM 149,10 - KM 177,90, EXTENSÃO: 28,80KM
A3: CRONOGRAMA FÍSICO FINANCEIRO | B3: ITEM | D3: VALOR R$ | E3: DIAS CORRIDOS
C4: ATIVIDADES | E4: 30 | K4: 60 | Q4: 90 | W4: 120 | AC4: 150 | AI4: 180 | AO4: 210 | AU4: 240 | BA4: 270 | BG4: 300 | BM4: 330 | BS4: 360 | BY4: 390 | CE4: 420 | CK4: 450 | CQ4: 480 | CW4: 510 | DC4: 540 | DI4: 570 | DO4: 600 | DU4: 630 | EA4: 660 | EG4: 690 | EM4: 720
B6: 1.0 | C6: =PLANILHA!D2 -> MOBILIZAÇÃO/DESMOBILIZAÇÃO | D6: =D8/$EM$81 -> 0.00077473507 | E6: =E8/$D$8 -> 0.062200949 | F6: =F8/$C$8 -> #DIV/0! | G6: =G8/$C$8 -> #DIV/0! | H6: =H8/$C$8 -> #DIV/0! | I6: =I8/$C$8 -> #DIV/0! | J6: =J8/$C$8 -> #DIV/0! | K6: =K8/$D$8 -> 0.034844579 | L6: =L8/$C$8 -> #DIV/0! | M6: =M8/$C$8 -> #DIV/0! | N6: =N8/$C$8 -> #DIV/0! | O6: =O8/$C$8 -> #DIV/0! | P6: =P8/$C$8 -> #DIV/0! | Q6: =Q8/$D$8 -> 0.034844579 | R6: =R8/$C$8 -> #DIV/0! | S6: =S8/$C$8 -> #DIV/0! | T6: =T8/$C$8 -> #DIV/0! | U6: =U8/$C$8 -> #DIV/0! | V6: =V8/$C$8 -> #DIV/0! | W6: =W8/$D$8 -> 0.034844579 | X6: =X8/$C$8 -> #DIV/0! | Y6: =Y8/$C$8 -> #DIV/0! | Z6: =Z8/$C$8 -> #DIV/0! | AA6: =AA8/$C$8 -> #DIV/0! | AB6: =AB8/$C$8 -> #DIV/0! | AC6: =AC8/$D$8 -> 0.034844579 | AD6: =AD8/$C$8 -> #DIV/0! | AE6: =AE8/$C$8 -> #DIV/0! | AF6: =AF8/$C$8 -> #DIV/0! | AG6: =AG8/$C$8 -> #DIV/0! | AH6: =AH8/$C$8 -> #DIV/0! | AI6: =AI8/$D$8 -> 0.034844579 | AJ6: =AJ8/$C$8 -> #DIV/0! | AK6: =AK8/$C$8 -> #DIV/0! | AL6: =AL8/$C$8 -> #DIV/0! | AM6: =AM8/$C$8 -> #DIV/0! | AN6: =AN8/$C$8 -> #DIV/0! | AO6: =AO8/$D$8 -> 0.040823075 | AP6: =AP8/$C$8 -> #DIV/0! | AQ6: =AQ8/$C$8 -> #DIV/0! | AR6: =AR8/$C$8 -> #DIV/0! | AS6: =AS8/$C$8 -> #DIV/0! | AT6: =AT8/$C$8 -> #DIV/0! | AU6: =AU8/$D$8 -> 0.040823075 | AV6: =AV8/$C$8 -> #DIV/0! | AW6: =AW8/$C$8 -> #DIV/0! | AX6: =AX8/$C$8 -> #DIV/0! | AY6: =AY8/$C$8 -> #DIV/0! | AZ6: =AZ8/$C$8 -> #DIV/0! | BA6: =BA8/$D$8 -> 0.040823075 | BB6: =BB8/$C$8 -> #DIV/0! | BC6: =BC8/$C$8 -> #DIV/0! | BD6: =BD8/$C$8 -> #DIV/0! | BE6: =BE8/$C$8 -> #DIV/0! | BF6: =BF8/$C$8 -> #DIV/0! | BG6: =BG8/$D$8 -> 0.040823075 | BH6: =BH8/$C$8 -> #DIV/0! | BI6: =BI8/$C$8 -> #DIV/0! | BJ6: =BJ8/$C$8 -> #DIV/0! | BK6: =BK8/$C$8 -> #DIV/0! | BL6: =BL8/$C$8 -> #DIV/0! | BM6: =BM8/$D$8 -> 0.040823075 | BN6: =BN8/$C$8 -> #DIV/0! | BO6: =BO8/$C$8 -> #DIV/0! | BP6: =BP8/$C$8 -> #DIV/0! | BQ6: =BQ8/$C$8 -> #DIV/0! | BR6: =BR8/$C$8 -> #DIV/0! | BS6: =BS8/$D$8 -> 0.040823075 | BT6: =BT8/$C$8 -> #DIV/0! | BU6: =BU8/$C$8 -> #DIV/0! | BV6: =BV8/$C$8 -> #DIV/0! | BW6: =BW8/$C$8 -> #DIV/0! | BX6: =BX8/$C$8 -> #DIV/0! | BY6: =BY8/$D$8 -> 0.040823075 | BZ6: =BZ8/$C$8 -> #DIV/0! | CA6: =CA8/$C$8 -> #DIV/0! | CB6: =CB8/$C$8 -> #DIV/0! | CC6: =CC8/$C$8 -> #DIV/0! | CD6: =CD8/$C$8 -> #DIV/0! | CE6: =CE8/$D$8 -> 0.044935979 | CF6: =CF8/$C$8 -> #DIV/0! | CG6: =CG8/$C$8 -> #DIV/0! | CH6: =CH8/$C$8 -> #DIV/0! | CI6: =CI8/$C$8 -> #DIV/0! | CJ6: =CJ8/$C$8 -> #DIV/0! | CK6: =CK8/$D$8 -> 0.044935979 | CL6: =CL8/$C$8 -> #DIV/0! | CM6: =CM8/$C$8 -> #DIV/0! | CN6: =CN8/$C$8 -> #DIV/0! | CO6: =CO8/$C$8 -> #DIV/0! | CP6: =CP8/$C$8 -> #DIV/0! | CQ6: =CQ8/$D$8 -> 0.04882747 | CR6: =CR8/$C$8 -> #DIV/0! | CS6: =CS8/$C$8 -> #DIV/0! | CT6: =CT8/$C$8 -> #DIV/0! | CU6: =CU8/$C$8 -> #DIV/0! | CV6: =CV8/$C$8 -> #DIV/0! | CW6: =CW8/$D$8 -> 0.04882747 | CX6: =CX8/$C$8 -> #DIV/0! | CY6: =CY8/$C$8 -> #DIV/0! | CZ6: =CZ8/$C$8 -> #DIV/0! | DA6: =DA8/$C$8 -> #DIV/0! | DB6: =DB8/$C$8 -> #DIV/0! | DC6: =DC8/$D$8 -> 0.050484771 | DD6: =DD8/$C$8 -> #DIV/0! | DE6: =DE8/$C$8 -> #DIV/0! | DF6: =DF8/$C$8 -> #DIV/0! | DG6: =DG8/$C$8 -> #DIV/0! | DH6: =DH8/$C$8 -> #DIV/0! | DI6: =DI8/$D$8 -> 0.044682605 | DJ6: =DJ8/$C$8 -> #DIV/0! | DK6: =DK8/$C$8 -> #DIV/0! | DL6: =DL8/$C$8 -> #DIV/0! | DM6: =DM8/$C$8 -> #DIV/0! | DN6: =DN8/$C$8 -> #DIV/0! | DO6: =DO8/$D$8 -> 0.044682605 | DP6: =DP8/$C$8 -> #DIV/0! | DQ6: =DQ8/$C$8 -> #DIV/0! | DR6: =DR8/$C$8 -> #DIV/0! | DS6: =DS8/$C$8 -> #DIV/0! | DT6: =DT8/$C$8 -> #DIV/0! | DU6: =DU8/$D$8 -> 0.044682605 | DV6: =DV8/$C$8 -> #DIV/0! | DW6: =DW8/$C$8 -> #DIV/0! | DX6: =DX8/$C$8 -> #DIV/0! | DY6: =DY8/$C$8 -> #DIV/0! | DZ6: =DZ8/$C$8 -> #DIV/0! | EA6: =EA8/$D$8 -> 0.029604351 | EB6: =EB8/$C$8 -> #DIV/0! | EC6: =EC8/$C$8 -> #DIV/0! | ED6: =ED8/$C$8 -> #DIV/0! | EE6: =EE8/$C$8 -> #DIV/0! | EF6: =EF8/$C$8 -> #DIV/0! | EG6: =EG8/$D$8 -> 0.029604351 | EH6: =EH8/$C$8 -> #DIV/0! | EI6: =EI8/$C$8 -> #DIV/0! | EJ6: =EJ8/$C$8 -> #DIV/0! | EK6: =EK8/$C$8 -> #DIV/0! | EL6: =EL8/$C$8 -> #DIV/0! | EM6: =EM8/$D$8 -> 0.046546444 | EN6: =EN8/$C$8 -> #DIV/0! | EO6: =EO8/$C$8 -> #DIV/0! | EP6: =EP8/$C$8 -> #DIV/0! | EQ6: =EQ8/$C$8 -> #DIV/0! | ER6: =ER8/$C$8 -> #DIV/0!
D8: =PLANILHA!I4 -> 193210.11 | E8: =(E11+E14+E17+E20+E26+E29+E32+E35+E38+E41+E44+E47+E50+E53+E56+E59+E62+E74+E77)*$D$83 -> 12017.852 | F8: =(F11+F14+F17+F20+F26+F29+F32)*$C$38 -> 0 | G8: =(G11+G14+G17+G20+G26+G29+G32)*$C$38 -> 0 | H8: =(H11+H14+H17+H20+H26+H29+H32)*$C$38 -> 0 | I8: =(I11+I14+I17+I20+I26+I29+I32)*$C$38 -> 0 | J8: =(J11+J14+J17+J20+J26+J29+J32)*$C$38 -> 0 | K8: =(K11+K14+K17+K20+K26+K29+K32+K35+K38+K41+K44+K47+K50+K53+K56+K59+K62+K74+K77)*$D$83 -> 6732.325 | L8: =(L11+L14+L17+L20+L26+L29+L32)*$C$38 -> 0 | M8: =(M11+M14+M17+M20+M26+M29+M32)*$C$38 -> 0 | N8: =(N11+N14+N17+N20+N26+N29+N32)*$C$38 -> 0 | O8: =(O11+O14+O17+O20+O26+O29+O32)*$C$38 -> 0 | P8: =(P11+P14+P17+P20+P26+P29+P32)*$C$38 -> 0 | Q8: =(Q11+Q14+Q17+Q20+Q26+Q29+Q32+Q35+Q38+Q41+Q44+Q47+Q50+Q53+Q56+Q59+Q62+Q74+Q77)*$D$83 -> 6732.325 | R8: =(R11+R14+R17+R20+R26+R29+R32)*$C$38 -> 0 | S8: =(S11+S14+S17+S20+S26+S29+S32)*$C$38 -> 0 | T8: =(T11+T14+T17+T20+T26+T29+T32)*$C$38 -> 0 | U8: =(U11+U14+U17+U20+U26+U29+U32)*$C$38 -> 0 | V8: =(V11+V14+V17+V20+V26+V29+V32)*$C$38 -> 0 | W8: =(W11+W14+W17+W20+W26+W29+W32+W35+W38+W41+W44+W47+W50+W53+W56+W59+W62+W74+W77)*$D$83 -> 6732.325 | X8: =(X11+X14+X17+X20+X26+X29+X32)*$C$38 -> 0 | Y8: =(Y11+Y14+Y17+Y20+Y26+Y29+Y32)*$C$38 -> 0 | Z8: =(Z11+Z14+Z17+Z20+Z26+Z29+Z32)*$C$38 -> 0 | AA8: =(AA11+AA14+AA17+AA20+AA26+AA29+AA32)*$C$38 -> 0 | AB8: =(AB11+AB14+AB17+AB20+AB26+AB29+AB32)*$C$38 -> 0 | AC8: =(AC11+AC14+AC17+AC20+AC26+AC29+AC32+AC35+AC38+AC41+AC44+AC47+AC50+AC53+AC56+AC59+AC62+AC74+AC77)*$D$83 -> 6732.325 | AD8: =(AD11+AD14+AD17+AD20+AD26+AD29+AD32)*$C$38 -> 0 | AE8: =(AE11+AE14+AE17+AE20+AE26+AE29+AE32)*$C$38 -> 0 | AF8: =(AF11+AF14+AF17+AF20+AF26+AF29+AF32)*$C$38 -> 0 | AG8: =(AG11+AG14+AG17+AG20+AG26+AG29+AG32)*$C$38 -> 0 | AH8: =(AH11+AH14+AH17+AH20+AH26+AH29+AH32)*$C$38 -> 0 | AI8: =(AI11+AI14+AI17+AI20+AI26+AI29+AI32+AI35+AI38+AI41+AI44+AI47+AI50+AI53+AI56+AI59+AI62+AI74+AI77)*$D$83 -> 6732.325 | AJ8: =(AJ11+AJ14+AJ17+AJ20+AJ26+AJ29+AJ32)*$C$38 -> 0 | AK8: =(AK11+AK14+AK17+AK20+AK26+AK29+AK32)*$C$38 -> 0 | AL8: =(AL11+AL14+AL17+AL20+AL26+AL29+AL32)*$C$38 -> 0 | AM8: =(AM11+AM14+AM17+AM20+AM26+AM29+AM32)*$C$38 -> 0 | AN8: =(AN11+AN14+AN17+AN20+AN26+AN29+AN32)*$C$38 -> 0 | AO8: =(AO11+AO14+AO17+AO20+AO26+AO29+AO32+AO35+AO38+AO41+AO44+AO47+AO50+AO53+AO56+AO59+AO62+AO74+AO77)*$D$83 -> 7887.4308 | AP8: =(AP11+AP14+AP17+AP20+AP26+AP29+AP32)*$C$38 -> 0 | AQ8: =(AQ11+AQ14+AQ17+AQ20+AQ26+AQ29+AQ32)*$C$38 -> 0 | AR8: =(AR11+AR14+AR17+AR20+AR26+AR29+AR32)*$C$38 -> 0 | AS8: =(AS11+AS14+AS17+AS20+AS26+AS29+AS32)*$C$38 -> 0 | AT8: =(AT11+AT14+AT17+AT20+AT26+AT29+AT32)*$C$38 -> 0 | AU8: =(AU11+AU14+AU17+AU20+AU26+AU29+AU32+AU35+AU38+AU41+AU44+AU47+AU50+AU53+AU56+AU59+AU62+AU74+AU77)*$D$83 -> 7887.4308 | AV8: =(AV11+AV14+AV17+AV20+AV26+AV29+AV32)*$C$38 -> 0 | AW8: =(AW11+AW14+AW17+AW20+AW26+AW29+AW32)*$C$38 -> 0 | AX8: =(AX11+AX14+AX17+AX20+AX26+AX29+AX32)*$C$38 -> 0 | AY8: =(AY11+AY14+AY17+AY20+AY26+AY29+AY32)*$C$38 -> 0 | AZ8: =(AZ11+AZ14+AZ17+AZ20+AZ26+AZ29+AZ32)*$C$38 -> 0 | BA8: =(BA11+BA14+BA17+BA20+BA26+BA29+BA32+BA35+BA38+BA41+BA44+BA47+BA50+BA53+BA56+BA59+BA62+BA74+BA77)*$D$83 -> 7887.4308 | BB8: =(BB11+BB14+BB17+BB20+BB26+BB29+BB32)*$C$38 -> 0 | BC8: =(BC11+BC14+BC17+BC20+BC26+BC29+BC32)*$C$38 -> 0 | BD8: =(BD11+BD14+BD17+BD20+BD26+BD29+BD32)*$C$38 -> 0 | BE8: =(BE11+BE14+BE17+BE20+BE26+BE29+BE32)*$C$38 -> 0 | BF8: =(BF11+BF14+BF17+BF20+BF26+BF29+BF32)*$C$38 -> 0 | BG8: =(BG11+BG14+BG17+BG20+BG26+BG29+BG32+BG35+BG38+BG41+BG44+BG47+BG50+BG53+BG56+BG59+BG62+BG74+BG77)*$D$83 -> 7887.4308 | BH8: =(BH11+BH14+BH17+BH20+BH26+BH29+BH32)*$C$38 -> 0 | BI8: =(BI11+BI14+BI17+BI20+BI26+BI29+BI32)*$C$38 -> 0 | BJ8: =(BJ11+BJ14+BJ17+BJ20+BJ26+BJ29+BJ32)*$C$38 -> 0 | BK8: =(BK11+BK14+BK17+BK20+BK26+BK29+BK32)*$C$38 -> 0 | BL8: =(BL11+BL14+BL17+BL20+BL26+BL29+BL32)*$C$38 -> 0 | BM8: =(BM11+BM14+BM17+BM20+BM26+BM29+BM32+BM35+BM38+BM41+BM44+BM47+BM50+BM53+BM56+BM59+BM62+BM74+BM77)*$D$83 -> 7887.4308 | BN8: =(BN11+BN14+BN17+BN20+BN26+BN29+BN32)*$C$38 -> 0 | BO8: =(BO11+BO14+BO17+BO20+BO26+BO29+BO32)*$C$38 -> 0 | BP8: =(BP11+BP14+BP17+BP20+BP26+BP29+BP32)*$C$38 -> 0 | BQ8: =(BQ11+BQ14+BQ17+BQ20+BQ26+BQ29+BQ32)*$C$38 -> 0 | BR8: =(BR11+BR14+BR17+BR20+BR26+BR29+BR32)*$C$38 -> 0 | BS8: =(BS11+BS14+BS17+BS20+BS26+BS29+BS32+BS35+BS38+BS41+BS44+BS47+BS50+BS53+BS56+BS59+BS62+BS74+BS77)*$D$83 -> 7887.4308 | BT8: =(BT11+BT14+BT17+BT20+BT26+BT29+BT32)*$C$38 -> 0 | BU8: =(BU11+BU14+BU17+BU20+BU26+BU29+BU32)*$C$38 -> 0 | BV8: =(BV11+BV14+BV17+BV20+BV26+BV29+BV32)*$C$38 -> 0 | BW8: =(BW11+BW14+BW17+BW20+BW26+BW29+BW32)*$C$38 -> 0 | BX8: =(BX11+BX14+BX17+BX20+BX26+BX29+BX32)*$C$38 -> 0 | BY8: =(BY11+BY14+BY17+BY20+BY26+BY29+BY32+BY35+BY38+BY41+BY44+BY47+BY50+BY53+BY56+BY59+BY62+BY74+BY77)*$D$83 -> 7887.4308 | BZ8: =(BZ11+BZ14+BZ17+BZ20+BZ26+BZ29+BZ32)*$C$38 -> 0 | CA8: =(CA11+CA14+CA17+CA20+CA26+CA29+CA32)*$C$38 -> 0 | CB8: =(CB11+CB14+CB17+CB20+CB26+CB29+CB32)*$C$38 -> 0 | CC8: =(CC11+CC14+CC17+CC20+CC26+CC29+CC32)*$C$38 -> 0 | CD8: =(CD11+CD14+CD17+CD20+CD26+CD29+CD32)*$C$38 -> 0 | CE8: =(CE11+CE14+CE17+CE20+CE26+CE29+CE32+CE35+CE38+CE41+CE44+CE47+CE50+CE53+CE56+CE59+CE62+CE74+CE77)*$D$83 -> 8682.0855 | CF8: =(CF11+CF14+CF17+CF20+CF26+CF29+CF32)*$C$38 -> 0 | CG8: =(CG11+CG14+CG17+CG20+CG26+CG29+CG32)*$C$38 -> 0 | CH8: =(CH11+CH14+CH17+CH20+CH26+CH29+CH32)*$C$38 -> 0 | CI8: =(CI11+CI14+CI17+CI20+CI26+CI29+CI32)*$C$38 -> 0 | CJ8: =(CJ11+CJ14+CJ17+CJ20+CJ26+CJ29+CJ32)*$C$38 -> 0 | CK8: =(CK11+CK14+CK17+CK20+CK26+CK29+CK32+CK35+CK38+CK41+CK44+CK47+CK50+CK53+CK56+CK59+CK62+CK74+CK77)*$D$83 -> 8682.0855 | CL8: =(CL11+CL14+CL17+CL20+CL26+CL29+CL32)*$C$38 -> 0 | CM8: =(CM11+CM14+CM17+CM20+CM26+CM29+CM32)*$C$38 -> 0 | CN8: =(CN11+CN14+CN17+CN20+CN26+CN29+CN32)*$C$38 -> 0 | CO8: =(CO11+CO14+CO17+CO20+CO26+CO29+CO32)*$C$38 -> 0 | CP8: =(CP11+CP14+CP17+CP20+CP26+CP29+CP32)*$C$38 -> 0 | CQ8: =(CQ11+CQ14+CQ17+CQ20+CQ26+CQ29+CQ32+CQ35+CQ38+CQ41+CQ44+CQ47+CQ50+CQ53+CQ56+CQ59+CQ62+CQ74+CQ77)*$D$83 -> 9433.9609 | CR8: =(CR11+CR14+CR17+CR20+CR26+CR29+CR32)*$C$38 -> 0 | CS8: =(CS11+CS14+CS17+CS20+CS26+CS29+CS32)*$C$38 -> 0 | CT8: =(CT11+CT14+CT17+CT20+CT26+CT29+CT32)*$C$38 -> 0 | CU8: =(CU11+CU14+CU17+CU20+CU26+CU29+CU32)*$C$38 -> 0 | CV8: =(CV11+CV14+CV17+CV20+CV26+CV29+CV32)*$C$38 -> 0 | CW8: =(CW11+CW14+CW17+CW20+CW26+CW29+CW32+CW35+CW38+CW41+CW44+CW47+CW50+CW53+CW56+CW59+CW62+CW74+CW77)*$D$83 -> 9433.9609 | CX8: =(CX11+CX14+CX17+CX20+CX26+CX29+CX32)*$C$38 -> 0 | CY8: =(CY11+CY14+CY17+CY20+CY26+CY29+CY32)*$C$38 -> 0 | CZ8: =(CZ11+CZ14+CZ17+CZ20+CZ26+CZ29+CZ32)*$C$38 -> 0 | DA8: =(DA11+DA14+DA17+DA20+DA26+DA29+DA32)*$C$38 -> 0 | DB8: =(DB11+DB14+DB17+DB20+DB26+DB29+DB32)*$C$38 -> 0 | DC8: =(DC11+DC14+DC17+DC20+DC26+DC29+DC32+DC35+DC38+DC41+DC44+DC47+DC50+DC53+DC56+DC59+DC62+DC74+DC77)*$D$83 -> 9754.1682 | DD8: =(DD11+DD14+DD17+DD20+DD26+DD29+DD32)*$C$38 -> 0 | DE8: =(DE11+DE14+DE17+DE20+DE26+DE29+DE32)*$C$38 -> 0 | DF8: =(DF11+DF14+DF17+DF20+DF26+DF29+DF32)*$C$38 -> 0 | DG8: =(DG11+DG14+DG17+DG20+DG26+DG29+DG32)*$C$38 -> 0 | DH8: =(DH11+DH14+DH17+DH20+DH26+DH29+DH32)*$C$38 -> 0 | DI8: =(DI11+DI14+DI17+DI20+DI26+DI29+DI32+DI35+DI38+DI41+DI44+DI47+DI50+DI53+DI56+DI59+DI62+DI74+DI77)*$D$83 -> 8633.1309 | DJ8: =(DJ11+DJ14+DJ17+DJ20+DJ26+DJ29+DJ32)*$C$38 -> 0 | DK8: =(DK11+DK14+DK17+DK20+DK26+DK29+DK32)*$C$38 -> 0 | DL8: =(DL11+DL14+DL17+DL20+DL26+DL29+DL32)*$C$38 -> 0 | DM8: =(DM11+DM14+DM17+DM20+DM26+DM29+DM32)*$C$38 -> 0 | DN8: =(DN11+DN14+DN17+DN20+DN26+DN29+DN32)*$C$38 -> 0 | DO8: =(DO11+DO14+DO17+DO20+DO26+DO29+DO32+DO35+DO38+DO41+DO44+DO47+DO50+DO53+DO56+DO59+DO62+DO74+DO77)*$D$83 -> 8633.1309 | DP8: =(DP11+DP14+DP17+DP20+DP26+DP29+DP32)*$C$38 -> 0 | DQ8: =(DQ11+DQ14+DQ17+DQ20+DQ26+DQ29+DQ32)*$C$38 -> 0 | DR8: =(DR11+DR14+DR17+DR20+DR26+DR29+DR32)*$C$38 -> 0 | DS8: =(DS11+DS14+DS17+DS20+DS26+DS29+DS32)*$C$38 -> 0 | DT8: =(DT11+DT14+DT17+DT20+DT26+DT29+DT32)*$C$38 -> 0 | DU8: =(DU11+DU14+DU17+DU20+DU26+DU29+DU32+DU35+DU38+DU41+DU44+DU47+DU50+DU53+DU56+DU59+DU62+DU74+DU77)*$D$83 -> 8633.1309 | DV8: =(DV11+DV14+DV17+DV20+DV26+DV29+DV32)*$C$38 -> 0 | DW8: =(DW11+DW14+DW17+DW20+DW26+DW29+DW32)*$C$38 -> 0 | DX8: =(DX11+DX14+DX17+DX20+DX26+DX29+DX32)*$C$38 -> 0 | DY8: =(DY11+DY14+DY17+DY20+DY26+DY29+DY32)*$C$38 -> 0 | DZ8: =(DZ11+DZ14+DZ17+DZ20+DZ26+DZ29+DZ32)*$C$38 -> 0 | EA8: =(EA11+EA14+EA17+EA20+EA26+EA29+EA32+EA35+EA38+EA41+EA44+EA47+EA50+EA53+EA56+EA59+EA62+EA74+EA77)*$D$83 -> 5719.8599 | EB8: =(EB11+EB14+EB17+EB20+EB26+EB29+EB32)*$C$38 -> 0 | EC8: =(EC11+EC14+EC17+EC20+EC26+EC29+EC32)*$C$38 -> 0 | ED8: =(ED11+ED14+ED17+ED20+ED26+ED29+ED32)*$C$38 -> 0 | EE8: =(EE11+EE14+EE17+EE20+EE26+EE29+EE32)*$C$38 -> 0 | EF8: =(EF11+EF14+EF17+EF20+EF26+EF29+EF32)*$C$38 -> 0 | EG8: =(EG11+EG14+EG17+EG20+EG26+EG29+EG32+EG35+EG38+EG41+EG44+EG47+EG50+EG53+EG56+EG59+EG62+EG74+EG77)*$D$83 -> 5719.8599 | EH8: =(EH11+EH14+EH17+EH20+EH26+EH29+EH32)*$C$38 -> 0 | EI8: =(EI11+EI14+EI17+EI20+EI26+EI29+EI32)*$C$38 -> 0 | EJ8: =(EJ11+EJ14+EJ17+EJ20+EJ26+EJ29+EJ32)*$C$38 -> 0 | EK8: =(EK11+EK14+EK17+EK20+EK26+EK29+EK32)*$C$38 -> 0 | EL8: =(EL11+EL14+EL17+EL20+EL26+EL29+EL32)*$C$38 -> 0 | EM8: =(EM11+EM14+EM17+EM20+EM26+EM29+EM32+EM35+EM38+EM41+EM44+EM47+EM50+EM53+EM56+EM59+EM62+EM74+EM77)*$D$83 -> 8993.2435 | EN8: =(EN11+EN14+EN17+EN20+EN26+EN29+EN32)*$C$38 -> 0 | EO8: =(EO11+EO14+EO17+EO20+EO26+EO29+EO32)*$C$38 -> 0 | EP8: =(EP11+EP14+EP17+EP20+EP26+EP29+EP32)*$C$38 -> 0 | EQ8: =(EQ11+EQ14+EQ17+EQ20+EQ26+EQ29+EQ32)*$C$38 -> 0 | ER8: =(ER11+ER14+ER17+ER20+ER26+ER29+ER32)*$C$38 -> 0 | ES8: =SUM(E8:ER8) -> 193210.11 | ET8: =D8-ES8 -> 0
B9: 2.0 | C9: =PLANILHA!D5 -> INSTALAÇÃO DO CANTEIRO DE OBRAS | D9: =D11/$EM$81 -> 0.015667089 | E9: 1
D11: =PLANILHA!I11 -> 3907193.7 | E11: =D11*E9 -> 3907193.7 | ES11: =SUM(E11:ER11) -> 3907193.7 | ET11: =D11-ES11 -> 0
B12: 3.0 | C12: =RESUMO!B10 -> ADMINISTRAÇÃO LOCAL DE OBRA | D12: =D14/$EM$81 -> 0.059101622 | E12: =1/2 -> 0.5 | EM12: =1/2 -> 0.5
D14: =RESUMO!C10 -> 14739272 | E14: =E12*$D$14 -> 7369636 | EM14: =EM12*$D$14 -> 7369636 | ES14: =SUM(E14:ER14) -> 14739272 | ET14: =D14-ES14 -> 0
B15: 4.0 | C15: =RESUMO!B11 -> TERRAPLENAGEM | D15: =D17/$EM$81 -> 0.21922719 | K15: =1/20 -> 0.05 | Q15: =1/20 -> 0.05 | W15: =1/20 -> 0.05 | AC15: =1/20 -> 0.05 | AI15: =1/20 -> 0.05 | AO15: =1/20 -> 0.05 | AU15: =1/20 -> 0.05 | BA15: =1/20 -> 0.05 | BG15: =1/20 -> 0.05 | BM15: =1/20 -> 0.05 | BS15: =1/20 -> 0.05 | BY15: =1/20 -> 0.05 | CE15: =1/20 -> 0.05 | CK15: =1/20 -> 0.05 | CQ15: =1/20 -> 0.05 | CW15: =1/20 -> 0.05 | DC15: =1/20 -> 0.05 | DI15: =1/20 -> 0.05 | DO15: =1/20 -> 0.05 | DU15: =1/20 -> 0.05
D17: =RESUMO!C11 -> 54672766 | K17: =K15*$D$17 -> 2733638.3 | Q17: =Q15*$D$17 -> 2733638.3 | W17: =W15*$D$17 -> 2733638.3 | AC17: =AC15*$D$17 -> 2733638.3 | AI17: =AI15*$D$17 -> 2733638.3 | AO17: =AO15*$D$17 -> 2733638.3 | AU17: =AU15*$D$17 -> 2733638.3 | BA17: =BA15*$D$17 -> 2733638.3 | BG17: =BG15*$D$17 -> 2733638.3 | BM17: =BM15*$D$17 -> 2733638.3 | BS17: =BS15*$D$17 -> 2733638.3 | BY17: =BY15*$D$17 -> 2733638.3 | CE17: =CE15*$D$17 -> 2733638.3 | CK17: =CK15*$D$17 -> 2733638.3 | CQ17: =CQ15*$D$17 -> 2733638.3 | CW17: =CW15*$D$17 -> 2733638.3 | DC17: =DC15*$D$17 -> 2733638.3 | DI17: =DI15*$D$17 -> 2733638.3 | DO17: =DO15*$D$17 -> 2733638.3 | DU17: =DU15*$D$17 -> 2733638.3 | ES17: =SUM(E17:ER17) -> 54672766 | ET17: =D17-ES17 -> 0
B18: 5.0 | C18: =RESUMO!B12 -> DRENAGEM E OBRAS DE ARTE CORRENTES | D18: =D20/$EM$81 -> 0.10162014 | K18: =1/22 -> 0.045454545 | Q18: =1/22 -> 0.045454545 | W18: =1/22 -> 0.045454545 | AC18: =1/22 -> 0.045454545 | AI18: =1/22 -> 0.045454545 | AO18: =1/22 -> 0.045454545 | AU18: =1/22 -> 0.045454545 | BA18: =1/22 -> 0.045454545 | BG18: =1/22 -> 0.045454545 | BM18: =1/22 -> 0.045454545 | BS18: =1/22 -> 0.045454545 | BY18: =1/22 -> 0.045454545 | CE18: =1/22 -> 0.045454545 | CK18: =1/22 -> 0.045454545 | CQ18: =1/22 -> 0.045454545 | CW18: =1/22 -> 0.045454545 | DC18: =1/22 -> 0.045454545 | DI18: =1/22 -> 0.045454545 | DO18: =1/22 -> 0.045454545 | DU18: =1/22 -> 0.045454545 | EA18: =1/22 -> 0.045454545 | EG18: =1/22 -> 0.045454545
D20: =RESUMO!C12 -> 25342906 | K20: =K18*$D$20 -> 1151950.3 | Q20: =Q18*$D$20 -> 1151950.3 | W20: =W18*$D$20 -> 1151950.3 | AC20: =AC18*$D$20 -> 1151950.3 | AI20: =AI18*$D$20 -> 1151950.3 | AO20: =AO18*$D$20 -> 1151950.3 | AU20: =AU18*$D$20 -> 1151950.3 | BA20: =BA18*$D$20 -> 1151950.3 | BG20: =BG18*$D$20 -> 1151950.3 | BM20: =BM18*$D$20 -> 1151950.3 | BS20: =BS18*$D$20 -> 1151950.3 | BY20: =BY18*$D$20 -> 1151950.3 | CE20: =CE18*$D$20 -> 1151950.3 | CK20: =CK18*$D$20 -> 1151950.3 | CQ20: =CQ18*$D$20 -> 1151950.3 | CW20: =CW18*$D$20 -> 1151950.3 | DC20: =DC18*$D$20 -> 1151950.3 | DI20: =DI18*$D$20 -> 1151950.3 | DO20: =DO18*$D$20 -> 1151950.3 | DU20: =DU18*$D$20 -> 1151950.3 | EA20: =EA18*$D$20 -> 1151950.3 | EG20: =EG18*$D$20 -> 1151950.3 | ES20: =SUM(E20:ER20) -> 25342906 | ET20: =D20-ES20 -> 0
B21: 6.0 | C21: =PLANILHA!D92 -> PISTA DUPLICADA - PAVIMENTO RÍGIDO | D21: =D23/$EM$81 -> 0.27226047 | K21: =1/13 -> 0.076923077 | Q21: =1/13 -> 0.076923077 | W21: =1/13 -> 0.076923077 | AC21: =1/13 -> 0.076923077 | AI21: =1/13 -> 0.076923077 | AO21: =1/13 -> 0.076923077 | AU21: =1/13 -> 0.076923077 | BA21: =1/13 -> 0.076923077 | BG21: =1/13 -> 0.076923077 | BM21: =1/13 -> 0.076923077 | BS21: =1/13 -> 0.076923077 | BY21: =1/13 -> 0.076923077 | CE21: =1/13 -> 0.076923077
D23: =PLANILHA!I92 -> 67898663 | K23: =K21*$D$23 -> 5222974 | Q23: =Q21*$D$23 -> 5222974 | W23: =W21*$D$23 -> 5222974 | AC23: =AC21*$D$23 -> 5222974 | AI23: =AI21*$D$23 -> 5222974 | AO23: =AO21*$D$23 -> 5222974 | AU23: =AU21*$D$23 -> 5222974 | BA23: =BA21*$D$23 -> 5222974 | BG23: =BG21*$D$23 -> 5222974 | BM23: =BM21*$D$23 -> 5222974 | BS23: =BS21*$D$23 -> 5222974 | BY23: =BY21*$D$23 -> 5222974 | CE23: =CE21*$D$23 -> 5222974 | ES23: =SUM(E23:ER23) -> 67898663 | ET23: =D23-ES23 -> 0
B24: 6.0 | C24: =PLANILHA!D108 -> PISTA EXISTENTE - PAVIMENTO RÍGIDO | D24: =D26/$EM$81 -> 0.21176039 | K24: =1/22 -> 0.045454545 | Q24: =1/22 -> 0.045454545 | W24: =1/22 -> 0.045454545 | AC24: =1/22 -> 0.045454545 | AI24: =1/22 -> 0.045454545 | AO24: =1/22 -> 0.045454545 | AU24: =1/22 -> 0.045454545 | BA24: =1/22 -> 0.045454545 | BG24: =1/22 -> 0.045454545 | BM24: =1/22 -> 0.045454545 | BS24: =1/22 -> 0.045454545 | BY24: =1/22 -> 0.045454545 | CE24: =1/22 -> 0.045454545 | CK24: =1/22 -> 0.045454545 | CQ24: =1/22 -> 0.045454545 | CW24: =1/22 -> 0.045454545 | DC24: =1/22 -> 0.045454545 | DI24: =1/22 -> 0.045454545 | DO24: =1/22 -> 0.045454545 | DU24: =1/22 -> 0.045454545 | EA24: =1/22 -> 0.045454545 | EG24: =1/22 -> 0.045454545
D26: =PLANILHA!I108 -> 52810632 | K26: =K24*$D$26 -> 2400483.3 | Q26: =Q24*$D$26 -> 2400483.3 | W26: =W24*$D$26 -> 2400483.3 | AC26: =AC24*$D$26 -> 2400483.3 | AI26: =AI24*$D$26 -> 2400483.3 | AO26: =AO24*$D$26 -> 2400483.3 | AU26: =AU24*$D$26 -> 2400483.3 | BA26: =BA24*$D$26 -> 2400483.3 | BG26: =BG24*$D$26 -> 2400483.3 | BM26: =BM24*$D$26 -> 2400483.3 | BS26: =BS24*$D$26 -> 2400483.3 | BY26: =BY24*$D$26 -> 2400483.3 | CE26: =CE24*$D$26 -> 2400483.3 | CK26: =CK24*$D$26 -> 2400483.3 | CQ26: =CQ24*$D$26 -> 2400483.3 | CW26: =CW24*$D$26 -> 2400483.3 | DC26: =DC24*$D$26 -> 2400483.3 | DI26: =DI24*$D$26 -> 2400483.3 | DO26: =DO24*$D$26 -> 2400483.3 | DU26: =DU24*$D$26 -> 2400483.3 | EA26: =EA24*$D$26 -> 2400483.3 | EG26: =EG24*$D$26 -> 2400483.3 | ES26: =SUM(E26:ER26) -> 52810632 | ET26: =D26-ES26 -> 0
B27: 7.0 | C27: =RESUMO!B14 -> OBRAS DE ARTE ESPECIAIS | D27: =D29/$EM$81 -> 0.052153871 | AO27: =1/12 -> 0.083333333 | AU27: =1/12 -> 0.083333333 | BA27: =1/12 -> 0.083333333 | BG27: =1/12 -> 0.083333333 | BM27: =1/12 -> 0.083333333 | BS27: =1/12 -> 0.083333333 | BY27: =1/12 -> 0.083333333 | CE27: =1/12 -> 0.083333333 | CK27: =1/12 -> 0.083333333 | CQ27: =1/12 -> 0.083333333 | CW27: =1/12 -> 0.083333333 | DC27: =1/12 -> 0.083333333
D29: =RESUMO!C14 -> 13006582 | AO29: =AO27*$D$29 -> 1083881.8 | AU29: =AU27*$D$29 -> 1083881.8 | BA29: =BA27*$D$29 -> 1083881.8 | BG29: =BG27*$D$29 -> 1083881.8 | BM29: =BM27*$D$29 -> 1083881.8 | BS29: =BS27*$D$29 -> 1083881.8 | BY29: =BY27*$D$29 -> 1083881.8 | CE29: =CE27*$D$29 -> 1083881.8 | CK29: =CK27*$D$29 -> 1083881.8 | CQ29: =CQ27*$D$29 -> 1083881.8 | CW29: =CW27*$D$29 -> 1083881.8 | DC29: =DC27*$D$29 -> 1083881.8 | ES29: =SUM(E29:ER29) -> 13006582 | ET29: =D29-ES29 -> 0
B30: 8.0 | C30: =RESUMO!B15 -> OBRAS COMPLEMENTARES | D30: =D32/$EM$81 -> 0.025460791 | CQ30: =1/9 -> 0.11111111 | CW30: =1/9 -> 0.11111111 | DC30: =1/9 -> 0.11111111 | DI30: =1/9 -> 0.11111111 | DO30: =1/9 -> 0.11111111 | DU30: =1/9 -> 0.11111111 | EA30: =1/9 -> 0.11111111 | EG30: =1/9 -> 0.11111111 | EM30: =1/9 -> 0.11111111
D32: =RESUMO!C15 -> 6349631.6 | CQ32: =CQ30*$D$32 -> 705514.62 | CW32: =CW30*$D$32 -> 705514.62 | DC32: =DC30*$D$32 -> 705514.62 | DI32: =DI30*$D$32 -> 705514.62 | DO32: =DO30*$D$32 -> 705514.62 | DU32: =DU30*$D$32 -> 705514.62 | EA32: =EA30*$D$32 -> 705514.62 | EG32: =EG30*$D$32 -> 705514.62 | EM32: =EM30*$D$32 -> 705514.62 | ES32: =SUM(E32:ER32) -> 6349631.6 | ET32: =D32-ES32 -> 0
B33: 8.1 | C33: SINALIZAÇÃO DE OBRAS | D33: =D35/$EM$81 -> 0.0028716245 | K33: =1/23 -> 0.043478261 | Q33: =1/23 -> 0.043478261 | W33: =1/23 -> 0.043478261 | AC33: =1/23 -> 0.043478261 | AI33: =1/23 -> 0.043478261 | AO33: =1/23 -> 0.043478261 | AU33: =1/23 -> 0.043478261 | BA33: =1/23 -> 0.043478261 | BG33: =1/23 -> 0.043478261 | BM33: =1/23 -> 0.043478261 | BS33: =1/23 -> 0.043478261 | BY33: =1/23 -> 0.043478261 | CE33: =1/23 -> 0.043478261 | CK33: =1/23 -> 0.043478261 | CQ33: =1/23 -> 0.043478261 | CW33: =1/23 -> 0.043478261 | DC33: =1/23 -> 0.043478261 | DI33: =1/23 -> 0.043478261 | DO33: =1/23 -> 0.043478261 | DU33: =1/23 -> 0.043478261 | EA33: =1/23 -> 0.043478261 | EG33: =1/23 -> 0.043478261 | EM33: =1/23 -> 0.043478261
D35: =PLANILHA!I317 -> 716150.46 | K35: =K33*$D$35 -> 31136.977 | Q35: =Q33*$D$35 -> 31136.977 | W35: =W33*$D$35 -> 31136.977 | AC35: =AC33*$D$35 -> 31136.977 | AI35: =AI33*$D$35 -> 31136.977 | AO35: =AO33*$D$35 -> 31136.977 | AU35: =AU33*$D$35 -> 31136.977 | BA35: =BA33*$D$35 -> 31136.977 | BG35: =BG33*$D$35 -> 31136.977 | BM35: =BM33*$D$35 -> 31136.977 | BS35: =BS33*$D$35 -> 31136.977 | BY35: =BY33*$D$35 -> 31136.977 | CE35: =CE33*$D$35 -> 31136.977 | CK35: =CK33*$D$35 -> 31136.977 | CQ35: =CQ33*$D$35 -> 31136.977 | CW35: =CW33*$D$35 -> 31136.977 | DC35: =DC33*$D$35 -> 31136.977 | DI35: =DI33*$D$35 -> 31136.977 | DO35: =DO33*$D$35 -> 31136.977 | DU35: =DU33*$D$35 -> 31136.977 | EA35: =EA33*$D$35 -> 31136.977 | EG35: =EG33*$D$35 -> 31136.977 | EM35: =EM33*$D$35 -> 31136.977 | ES35: =SUM(E35:ER35) -> 716150.46 | ET35: =D35-ES35 -> 0
B36: 9.0 | C36: =RESUMO!B16 -> SINALIZAÇÃO | D36: =D38/$EM$81 -> 0.029899366 | CE36: =1/10 -> 0.1 | CK36: =1/10 -> 0.1 | CQ36: =1/10 -> 0.1 | CW36: =1/10 -> 0.1 | DC36: =1/10 -> 0.1 | DI36: =1/10 -> 0.1 | DO36: =1/10 -> 0.1 | DU36: =1/10 -> 0.1 | EA36: =1/10 -> 0.1 | EG36: =1/10 -> 0.1
D38: =SUM(PLANILHA!I293+PLANILHA!I302) -> 7456561.7 | CE38: =CE36*$D$38 -> 745656.17 | CK38: =CK36*$D$38 -> 745656.17 | CQ38: =CQ36*$D$38 -> 745656.17 | CW38: =CW36*$D$38 -> 745656.17 | DC38: =DC36*$D$38 -> 745656.17 | DI38: =DI36*$D$38 -> 745656.17 | DO38: =DO36*$D$38 -> 745656.17 | DU38: =DU36*$D$38 -> 745656.17 | EA38: =EA36*$D$38 -> 745656.17 | EG38: =EG36*$D$38 -> 745656.17 | ES38: =SUM(E38:ER38) -> 7456561.7 | ET38: =D38-ES38 -> 0
B39: 10.0 | C39: =RESUMO!B17 -> ILUMINAÇÃO PÚBLICA | D39: =D41/$EM$81 -> 0.00076911016 | DI39: =1/6 -> 0.16666667 | DO39: =1/6 -> 0.16666667 | DU39: =1/6 -> 0.16666667 | EA39: =1/6 -> 0.16666667 | EG39: =1/6 -> 0.16666667 | EM39: =1/6 -> 0.16666667
D41: =RESUMO!C17 -> 191807.32 | DI41: =DI39*$D$41 -> 31967.887 | DO41: =DO39*$D$41 -> 31967.887 | DU41: =DU39*$D$41 -> 31967.887 | EA41: =EA39*$D$41 -> 31967.887 | EG41: =EG39*$D$41 -> 31967.887 | EM41: =EM39*$D$41 -> 31967.887 | ES41: =SUM(E41:ER41) -> 191807.32 | ET41: =D41-ES41 -> 0
B42: 11.0 | C42: =RESUMO!B18 -> PROTEÇÃO AMBIENTAL | D42: =D44/$EM$81 -> 0.0084335969 | DC42: =1/7 -> 0.14285714 | DI42: =1/7 -> 0.14285714 | DO42: =1/7 -> 0.14285714 | DU42: =1/7 -> 0.14285714 | EA42: =1/7 -> 0.14285714 | EG42: =1/7 -> 0.14285714 | EM42: =1/7 -> 0.14285714
D44: =RESUMO!C18 -> 2103243.1 | DC44: =DC42*$D$44 -> 300463.3 | DI44: =DI42*$D$44 -> 300463.3 | DO44: =DO42*$D$44 -> 300463.3 | DU44: =DU42*$D$44 -> 300463.3 | EA44: =EA42*$D$44 -> 300463.3 | EG44: =EG42*$D$44 -> 300463.3 | EM44: =EM42*$D$44 -> 300463.3 | ES44: =SUM(E44:ER44) -> 2103243.1 | ET44: =D44-ES44 -> 0
A78: QD - 8.1 | B78: DESEMBOLSO MENSAL | E78: =ROUND(E79/$D$81,4) -> 0.0453 | K78: =ROUND(K79/$D$81,4) -> 0.0463 | Q78: =ROUND(Q79/$D$81,4) -> 0.0463 | W78: =ROUND(W79/$D$81,4) -> 0.0463 | AC78: =ROUND(AC79/$D$81,4) -> 0.0463 | AI78: =ROUND(AI79/$D$81,4) -> 0.0463 | AO78: =ROUND(AO79/$D$81,4) -> 0.0507 | AU78: =ROUND(AU79/$D$81,4) -> 0.0507 | BA78: =ROUND(BA79/$D$81,4) -> 0.0507 | BG78: =ROUND(BG79/$D$81,4) -> 0.0507 | BM78: =ROUND(BM79/$D$81,4) -> 0.0507 | BS78: =ROUND(BS79/$D$81,4) -> 0.0507 | BY78: =ROUND(BY79/$D$81,4) -> 0.0507 | CE78: =ROUND(CE79/$D$81,4) -> 0.0536 | CK78: =ROUND(CK79/$D$81,4) -> 0.0327 | CQ78: =ROUND(CQ79/$D$81,4) -> 0.0355 | CW78: =ROUND(CW79/$D$81,4) -> 0.0355 | DC78: =ROUND(DC79/$D$81,4) -> 0.0367 | DI78: =ROUND(DI79/$D$81,4) -> 0.0325 | DO78: =ROUND(DO79/$D$81,4) -> 0.0325 | DU78: =ROUND(DU79/$D$81,4) -> 0.0325 | EA78: =ROUND(EA79/$D$81,4) -> 0.0215 | EG78: =ROUND(EG79/$D$81,4) -> 0.0215 | EM78: =ROUND(EM79/$D$81,4)-0.01% -> 0.0338
E79: =SUM(E8,E11,E14) -> 11288848 | K79: =SUM(K8,K17,K20,K26,K35,K23) -> 11546915 | Q79: =SUM(Q8,Q17,Q20,Q26,Q35,Q23) -> 11546915 | W79: =SUM(W26,W20,W8,W35,W17,W23) -> 11546915 | AC79: =SUM(AC35,AC8,AC26,AC20,AC17,AC23) -> 11546915 | AI79: =SUM(AI35,AI8,AI26,AI20,AI17,AI23) -> 11546915 | AO79: =SUM(AO8,AO17,AO20,AO23,AO26,AO29,AO35) -> 12631952 | AU79: =SUM(AU35,AU26,AU8,AU20,AU17,AU23,AU29) -> 12631952 | BA79: =SUM(BA35,BA8,BA26,BA20,BA17,BA23,BA29) -> 12631952 | BG79: =SUM(BG35,BG8,BG26,BG20,BG17,BG23,BG29) -> 12631952 | BM79: =SUM(BM35,BM29,BM8,BM26,BM20,BM23,BM17) -> 12631952 | BS79: =SUM(BS35,BS29,BS8,BS26,BS20,BS23,BS17) -> 12631952 | BY79: =SUM(BY35,BY29,BY8,BY26,BY20,BY23,BY17) -> 12631952 | CE79: =SUM(CE35,CE23,CE8,CE26,CE20,CE38,CE17,CE29) -> 13378403 | CK79: =SUM(CK35,CK29,CK8,CK26,CK20,CK38,CK17) -> 8155429 | CQ79: =SUM(CQ35,CQ29,CQ8,CQ26,CQ20,CQ38,CQ17,CQ32) -> 8861695.5 | CW79: =SUM(CW35,CW29,CW8,CW26,CW20,CW38,CW17,CW32) -> 8861695.5 | DC79: =SUM(DC35,DC17,DC8,DC26,DC20,DC38,DC29,DC32,DC44) -> 9162479 | DI79: =SUM(DI35,DI17,DI8,DI26,DI20,DI38,DI41,DI32,DI44) -> 8109444 | DO79: =SUM(DO35,DO32,DO8,DO26,DO20,DO38,DO41,DO17,DO44) -> 8109444 | DU79: =SUM(DU32,DU8,DU26,DU20,DU35,DU38,DU44,DU17,DU41) -> 8109444 | EA79: =SUM(EA32,EA35,EA8,EA26,EA20,EA44,EA38,EA41) -> 5372892.4 | EG79: =SUM(EG32,EG35,EG8,EG26,EG44,EG20,EG38,EG41) -> 5372892.4 | EM79: =SUM(EM8,EM14,EM35,EM32,EM44,EM41) -> 8447712.1
B80: DESEMBOLSO ACUMULADO | D80: 1 | E80: =E78 -> 0.0453 | K80: =K78+E80 -> 0.0916 | Q80: =Q78+K80 -> 0.1379 | W80: =W78+Q80 -> 0.1842 | AC80: =AC78+W80 -> 0.2305 | AI80: =AI78+AC80 -> 0.2768 | AO80: =AO78+AI80 -> 0.3275 | AU80: =AU78+AO80 -> 0.3782 | BA80: =BA78+AU80 -> 0.4289 | BG80: =BG78+BA80 -> 0.4796 | BM80: =BM78+BG80 -> 0.5303 | BS80: =BS78+BM80 -> 0.581 | BY80: =BY78+BS80 -> 0.6317 | CE80: =CE78+BY80 -> 0.6853 | CK80: =CK78+CE80 -> 0.718 | CQ80: =CQ78+CK80 -> 0.7535 | CW80: =CW78+CQ80 -> 0.789 | DC80: =DC78+CW80 -> 0.8257 | DI80: =DI78+DC80 -> 0.8582 | DO80: =DO78+DI80 -> 0.8907 | DU80: =DU78+DO80 -> 0.9232 | EA80: =EA78+DU80 -> 0.9447 | EG80: =EG78+EA80 -> 0.9662 | EM80: =EM78+EG80 -> 1
D81: =SUM(D17,D14,D8,D119,D11,D20,D26,D29,D32,D35,D38,D41,D44,D23) -> 2.4938862e+08 | E81: =E79 -> 11288848 | K81: =K79+E81 -> 22835763 | Q81: =Q79+K81 -> 34382678 | W81: =W79+Q81 -> 45929593 | AC81: =AC79+W81 -> 57476508 | AI81: =AI79+AC81 -> 69023424 | AO81: =AO79+AI81 -> 81655376 | AU81: =AU79+AO81 -> 94287328 | BA81: =BA79+AU81 -> 1.0691928e+08 | BG81: =BG79+BA81 -> 1.1955123e+08 | BM81: =BM79+BG81 -> 1.3218318e+08 | BS81: =BS79+BM81 -> 1.4481514e+08 | BY81: =BY79+BS81 -> 1.5744709e+08 | CE81: =CE79+BY81 -> 1.7082549e+08 | CK81: =CK79+CE81 -> 1.7898092e+08 | CQ81: =CQ79+CK81 -> 1.8784262e+08 | CW81: =CW79+CQ81 -> 1.9670431e+08 | DC81: =DC79+CW81 -> 2.0586679e+08 | DI81: =DI79+DC81 -> 2.1397623e+08 | DO81: =DO79+DI81 -> 2.2208568e+08 | DU81: =DU79+DO81 -> 2.3019512e+08 | EA81: =EA79+DU81 -> 2.3556802e+08 | EG81: =EG79+EA81 -> 2.4094091e+08 | EM81: =EM79+EG81 -> 2.4938862e+08
D83: =D8/(D11+D14+D17+D20+D26+D29+D32+D35+D38+D41+D44) -> 0.001065712
D85: =RESUMO!C19 -> 2.4938862e+08
D87: =D81-D85 -> 0

Sheet BDI
B2: GOVERNO DO ESTADO DE PERNAMBUCO
B3: SECRETARIA DE MOBILIDADE E INFRAESTRUTURA - SEMOBI/PE
B4: DEPARTAMENTO DE ESTRADAS DE RODAGEM - DER/PE
B6: RODOVIA: | C6: BR-232
B7: TRECHO: | C7: FIM DA DUPLICAÇÃO (SÃO CAETANO) - ENTR. VPE-230 (PESQUEIRA)
B8: SEGMENTO: | C8: KM 149,10 - KM 177,90
B9: EXTENSÃO: | C9: 28.8
B10: DATA BASE: | C10: JULHO/2025
B11: TIPO: | C11: SEM DESONERAÇÃO
B13: COMPOSIÇÃO DAS TAXAS DE BENEFÍCIOS E DESPESAS INDIRETAS (BDI)
C15: DETALHAMENTO DO BDI - SEM DESONERAÇÃO
C16: Despesas Indiretas | E16: % | F16: % sobre CD
C17: Administração Central | E17: 0.038
C18: Seguros e Garantias Contratuais | E18: 0.012
C19: Riscos | E19: 0.005
C20: Despesa Financeira | E20: 0.0102
C21: Subtotal Despesas Indiretas | E21: =SUM(E17:F20) -> 0.0652 | F21: =SUM(F17:F20) -> 0
C22: Benefícios | E22: % | F22: % sobre CD
C23: Lucro Operacional | E23: 0.0708
C24: Subtotal Benefícios | E24: =SUM(E23) -> 0.0708 | F24: =SUM(F23) -> 0
C25: Tributos | E25: % | F25: % sobre CD
C26: PIS | E26: 0.0065
C27: COFINS | E27: 0.03
C28: ISSQN | E28: =H42 -> 0.026232639
C29: CPRB | E29: 0
C30: Subtotal Tributos | E30: =SUM(E26:F29) -> 0.062732639 | F30: =SUM(F26:F29) -> 0
C31: BDI com Impostos | E31: =(((1+E17+E18+E19)*(1+E20)*(1+E24))/(1-E30)-1) -> 0.21760015 | F31: =((1+(F17/100+F23/100))/(1-(E18/100+E19/100+E20/100+E26/100+E27/100+E28/100+E29/100))-1)*100 -> 0.09001359
C32: BDI SEM DESONERAÇÃO | F32: =E31 -> 0.21760015
B34: PERCENTUAL DO ISSQN INCIDENTE NA COMPOSIÇÃO DO BDI:
B35: Em atendimento ao item 9.2.2 do Acórdão nº 32/2008 – Plenário, que determina a previsão dos percentuais de recolhimento a título de ISS a serem aplicados na composição de LDI dos licitantes, com base nas alíquotas adotadas pelos municípios situados na região da obra, apresentamos a planilha e cálculo a seguir:
B36: MUNICÍPIO | C36: KM INICIAL | D36: KM FINAL | E36: EXTENSÃO | F36: ALÍQUOTA | G36: DEDUÇÃO | H36: ALÍQUOTA | I36: PROPORÇÃO (%)
E37: (KM)
B38: SÃO CAETANO/PE | C38: 149.1 | D38: 157.1 | E38: =D38-C38 -> 8 | F38: 0.05 | G38: 0.5 | H38: =F38*(1-G38) -> 0.025 | I38: =E38/$E$41 -> 0.27777778
B39: TACAIMBÓ/PE | C39: 157.1 | D39: 170.8 | E39: =D39-C39 -> 13.7 | F39: 0.05 | G39: 0.5 | H39: =F39*(1-G39) -> 0.025 | I39: =E39/$E$41 -> 0.47569444
B40: BELO JARDIM/PE | C40: 170.8 | D40: 177.9 | E40: =D40-C40 -> 7.1 | F40: 0.05 | G40: 0.4 | H40: =F40*(1-G40) -> 0.03 | I40: =E40/$E$41 -> 0.24652778
B41: EXTENSÃO TOTAL DO TRECHO | E41: =SUM(E38:E40) -> 28.8 | I41: =SUM(I38:I40) -> 1
B42: MÉDIA PONDERADA | H42: =SUMPRODUCT(I38:I40,H38:H40) -> 0.026232639
B44: OBSERVAÇÃO:
B45: O percentual de ISSQN adotado foi proveniente das alíquotas dos municípios situados na área de influência da obra.
B46: Código Tributário do Município de São Caetano, Lei Complementar nº 006/2010. Título I, Capítulo V, Seção II, Art. 258, III e Capítulo VI, art. 274.
...

Sheet MUNICÍPIOS
A1: GOVERNO DO ESTADO DE PERNAMBUCO
A2: SECRETARIA DE MOBILIDADE E INFRAESTRUTURA - SEMOBI/PE
A3: DEPARTAMENTO DE ESTRADAS DE RODAGEM - DER/PE
A6: RODOVIA: | B6: =BDI!C6 -> BR-232
A7: TRECHO: | B7: =BDI!C7 -> FIM DA DUPLICAÇÃO (SÃO CAETANO) - ENTR. VPE-230 (PESQUEIRA)
A8: EXTENSÃO: | B8: =BDI!C9 -> 28.8 | C8: KM
A10: EXTENSÃO DO MUNICÍPIO: SÃO CAETANO/PE
A44: EXTENSÃO DO MUNICÍPIO: TACAIMBÓ/PE
A77: EXTENSÃO DO MUNICÍPIO: BELO JARDIM/PE

Sheet HISTOGRAMA
C4: CRONOGRAMA DE UTILIZAÇÃO DE MÃO DE OBRA
C5: =CONCATENATE([14]DADOS!$B$4," ",[14]DADOS!$C$4) -> RODOVIA: BR-232
C6: =CONCATENATE([14]DADOS!$B$5," ",[14]DADOS!$C$5) -> TRECHO: FIM DA DUPLICAÇÃO (SÃO CAETANO) - ENTR. VPE-230 (PESQUEIRA) | W6: =CONCATENATE([14]DADOS!$B$7," ",[14]DADOS!$C$7) -> DATA BASE: JULHO/2025 - SEM DESONERAÇÃO
C8: CÓDIGO | D8: DESCRIÇÃO | E8: QUANTIDADE (h) | F8: QUANTIDADE (und) | G8: PRAZO DA OBRA
G9: =IF([14]DADOS!$C$8>=1,"MÊS 01","") -> MÊS 01 | H9: =IF([14]DADOS!$C$8>=2,"MÊS 02","") -> MÊS 02 | I9: =IF([14]DADOS!$C$8>=3,"MÊS 03","") -> MÊS 03 | J9: =IF([14]DADOS!$C$8>=4,"MÊS 04","") -> MÊS 04 | K9: =IF([14]DADOS!$C$8>=5,"MÊS 05","") -> MÊS 05 | L9: =IF([14]DADOS!$C$8>=6,"MÊS 06","") -> MÊS 06 | M9: =IF([14]DADOS!$C$8>=7,"MÊS 07","") -> MÊS 07 | N9: =IF([14]DADOS!$C$8>=8,"MÊS 08","") -> MÊS 08 | O9: =IF([14]DADOS!$C$8>=9,"MÊS 09","") -> MÊS 09 | P9: =IF([14]DADOS!$C$8>=10,"MÊS 10","") -> MÊS 10 | Q9: =IF([14]DADOS!$C$8>=11,"MÊS 11","") -> MÊS 11 | R9: =IF([14]DADOS!$C$8>=12,"MÊS 12","") -> MÊS 12 | S9: =IF([14]DADOS!$C$8>=13,"MÊS 13","") -> MÊS 13 | T9: =IF([14]DADOS!$C$8>=14,"MÊS 14","") -> MÊS 14 | U9: =IF([14]DADOS!$C$8>=15,"MÊS 15","") -> MÊS 15 | V9: =IF([14]DADOS!$C$8>=16,"MÊS 16","") -> MÊS 16 | W9: =IF([14]DADOS!$C$8>=17,"MÊS 17","") -> MÊS 17 | X9: =IF([14]DADOS!$C$8>=18,"MÊS 18","") -> MÊS 18 | Y9: =IF([14]DADOS!$C$8>=19,"MÊS 19","") -> MÊS 19 | Z9: =IF([14]DADOS!$C$8>=20,"MÊS 20","") -> MÊS 20 | AA9: =IF([14]DADOS!$C$8>=21,"MÊS 21","") -> MÊS 21 | AB9: =IF([14]DADOS!$C$8>=22,"MÊS 22","") -> MÊS 22 | AC9: =IF([14]DADOS!$C$8>=23,"MÊS 23","") -> MÊS 23 | AD9: =IF([14]DADOS!$C$8>=24,"MÊS 24","") -> MÊS 24
C11: =IF(D11<>"","4.","") -> 4. | D11: =IFERROR(INDEX([14]COMPOR!$A:$J,MATCH("4.",[14]COMPOR!$I:$I,0),10),"") -> TERRAPLENAGEM
C12: =IF("IH"=LEFT('[14]ABC INS.'!B6,2),'[14]ABC INS.'!B6,"") -> IH9824 | D12: =IF($C12="","",INDEX('[14]ABC INS.'!$B:$J,MATCH($C12,'[14]ABC INS.'!$B:$B,0),8)) -> SERVENTE | E12: =IF($C12="","",INDEX('[14]ABC INS.'!$B:$J,MATCH($C12,'[14]ABC INS.'!$H:$H,0),9)) -> 14648.84 | F12: =IF($E12="","",ROUNDUP($E12/(182.49*(COUNTIF([14]CRONO!$23:$23,"x"))),0)) -> 5 | G12: =IF(G$9="","",IF($E12="","",IF(OFFSET(INDEX([14]CRONO!$A:$AD,10,MATCH(G$9,[14]CRONO!$10:$10,0)),13,0)=0,"",IF(OFFSET(INDEX([14]CRONO!$A:$AD,10,MATCH(G$9,[14]CRONO!$10:$10,0)),13,0)="x",$F12,"ERRO")))) -> #VALUE! | H12: =IF(H$9="","",IF($E12="","",IF(OFFSET(INDEX([14]CRONO!$A:$AD,10,MATCH(H$9,[14]CRONO!$10:$10,0)),13,0)=0,"",IF(OFFSET(INDEX([14]CRONO!$A:$AD,10,MATCH(H$9,[14]CRONO!$10:$10,0)),13,0)="x",$F12,"ERRO")))) -> #VALUE! | I12: =IF(I$9="","",IF($E12="","",IF(OFFSET(INDEX([14]CRONO!$A:$AD,10,MATCH(I$9,[14]CRONO!$10:$10,0)),13,0)=0,"",IF(OFFSET(INDEX([14]CRONO!$A:$AD,10,MATCH(I$9,[14]CRONO!$10:$10,0)),13,0)="x",$F12,"ERRO")))) -> #VALUE! | J12: =IF(J$9="","",IF($E12="","",IF(OFFSET(INDEX([14]CRONO!$A:$AD,10,MATCH(J$9,[14]CRONO!$10:$10,0)),13,0)=0,"",IF(OFFSET(INDEX([14]CRONO!$A:$AD,10,MATCH(J$9,[14]CRONO!$10:$10,0)),13,0)="x",$F12,"ERRO")))) -> #VALUE! | K12: =IF(K$9="","",IF($E12="","",IF(OFFSET(INDEX([14]CRONO!$A:$AD,10,MATCH(K$9,[14]CRONO!$10:$10,0)),13,0)=0,"",IF(OFFSET(INDEX([14]CRONO!$A:$AD,10,MATCH(K$9,[14]CRONO!$10:$10,0)),13,0)="x",$F12,"ERRO")))) -> #VALUE! | L12: =IF(L$9="","",IF($E12="","",IF(OFFSET(INDEX([14]CRONO!$A:$AD,10,MATCH(L$9,[14]CRONO!$10:$10,0)),13,0)=0,"",IF(OFFSET(INDEX([14]CRONO!$A:$AD,10,MATCH(L$9,[14]CRONO!$10:$10,0)),13,0)="x",$F12,"ERRO")))) -> #VALUE! | M12: =IF(M$9="","",IF($E12="","",IF(OFFSET(INDEX([14]CRONO!$A:$AD,10,MATCH(M$9,[14]CRONO!$10:$10,0)),13,0)=0,"",IF(OFFSET(INDEX([14]CRONO!$A:$AD,10,MATCH(M$9,[14]CRONO!$10:$10,0)),13,0)="x",$F12,"ERRO")))) -> #VALUE! | N12: =IF(N$9="","",IF($E12="","",IF(OFFSET(INDEX([14]CRONO!$A:$AD,10,MATCH(N$9,[14]CRONO!$10:$10,0)),13,0)=0,"",IF(OFFSET(INDEX([14]CRONO!$A:$AD,10,MATCH(N$9,[14]CRONO!$10:$10,0)),13,0)="x",$F12,"ERRO")))) -> #VALUE! | ... Z12: =IF(Z$9="","",IF($E12="","",IF(OFFSET(INDEX([14]CRONO!$A:$AD,10,MATCH(Z$9,[14]CRONO!$10:$10,0)),13,0)=0,"",IF(OFFSET(INDEX([14]CRONO!$A:$AD,10,MATCH(Z$9,[14]CRONO!$10:$10,0)),13,0)="x",$F12,"ERRO")))) -> #VALUE! | AA12: 5 | AB12: =IF(AB$9="","",IF($E12="","",IF(OFFSET(INDEX([14]CRONO!$A:$AD,10,MATCH(AB$9,[14]CRONO!$10:$10,0)),13,0)=0,"",IF(OFFSET(INDEX([14]CRONO!$A:$AD,10,MATCH(AB$9,[14]CRONO!$10:$10,0)),13,0)="x",$F12,"ERRO")))) -> #VALUE! | AC12: =IF(AC$9="","",IF($E12="","",IF(OFFSET(INDEX([14]CRONO!$A:$AD,10,MATCH(AC$9,[14]CRONO!$10:$10,0)),13,0)=0,"",IF(OFFSET(INDEX([14]CRONO!$A:$AD,10,MATCH(AC$9,[14]CRONO!$10:$10,0)),13,0)="x",$F12,"ERRO")))) -> #VALUE! | AD12: =IF(AD$9="","",IF($E12="","",IF(OFFSET(INDEX([14]CRONO!$A:$AD,10,MATCH(AD$9,[14]CRONO!$10:$10,0)),13,0)=0,"",IF(OFFSET(INDEX([14]CRONO!$A:$AD,10,MATCH(AD$9,[14]CRONO!$10:$10,0)),13,0)="x",$F12,"ERRO")))) -> #VALUE!
