Workbook
Name \0: #REF!
Name \0: #REF!
Name \0: #REF!
Name \0: #REF!
Name \1: #REF!
Name \1: #REF!
Name \1: #REF!
Name \1: #REF!
Name \11: #REF!
Name \11: #REF!
Name \11: #REF!
Name \11: #REF!
Name \2: #REF!
Name \2: #REF!
Name \2: #REF!
Name \a: #REF!
Name \a: #REF!
Name \a: #REF!
Name \a: #REF!
Name \b: #REF!
Name \B: #REF!
Name \B: #REF!
Name \b: #REF!
Name \c: #REF!
Name \c: #REF!
Name \c: #REF!
Name \c: #REF!
Name \D: #REF!
Name \D: #REF!
Name \D: #REF!
Name \E: #REF!
Name \E: #REF!
Name \E: #REF!
Name \F: #REF!
Name \F: #REF!
Name \fagf: #REF!
Name \fagf: #REF!
Name \fagf: #REF!
Name \I: #REF!
Name \I: #REF!
Name \I: #REF!
Name \p: #REF!
Name \p: #REF!
Name \p: #REF!
Name \p: #REF!
Name \R: #REF!
Name \R: #REF!
Name \S: #REF!
Name \S: #REF!
Name \S: #REF!
Name \S: #REF!
Name \SA: #REF!
Name \SA: #REF!
Name \SA: #REF!
Name \w: #REF!
Name \w: #REF!
Name \w: #REF!
Name \w: #REF!
Name \x: #REF!
Name \x: #REF!

Sheet APOIO ABC
A1: ITEM | B1: FONTE | C1: CÓDIGO | D1: DESCRIÇÃO | E1: Unid. | F1: QUANTIDADE | G1: PREÇO UNIT. | H1: TOTAL
A2: 4.1.1 | B2: COMPOSIÇÃO | C2: COMP_06 | D2: Meio-fio de concreto - MFC 03 - areia e brita comerciais - fôrma de madeira | E2: m | F2: 15327.09 | G2: 81.78 | H2: =TRUNC(G2*F2,2) -> 1253449.4
A3: 4.1.2 | B3: COMPOSIÇÃO | C3: COMP_07 | D3: Meio-fio de concreto - MFC 05 - areia e brita comerciais - fôrma de madeira | E3: m | F3: =I3+J3+K3+L3+M3+N3 -> 3234.96 | G3: 71.37 | H3: =TRUNC(G3*F3,2) -> 230879.09 | I3: 415.43 | J3: 2819.53
A4: 4.1.3 | B4: COMPOSIÇÃO | C4: COMP_08 | D4: Sarjeta triangular de concreto - STC 100-20 - escavação mecânica - areia e brita | E4: m | F4: 10893.87 | G4: 73.02 | H4: =TRUNC(G4*F4,2) -> 795470.38
A5: 4.1.4 | B5: COMPOSIÇÃO | C5: COMP_09 | D5: Valeta de proteção de cortes com revestimento de concreto - VPCC 120-30 - escavação mecânica - areia e brita comerciais | E5: m | F5: 1502.29 | G5: 122.46 | H5: =TRUNC(G5*F5,2) -> 183970.43
A6: 4.1.5 | B6: COMPOSIÇÃO | C6: COMP_10 | D6: Valeta de proteção de aterros com revestimento de concreto - VPAC 120-30 - escavação mecânica - areia e brita comerciais | E6: m | F6: 2323.67 | G6: 122.46 | H6: =TRUNC(G6*F6,2) -> 284556.62
A7: 4.1.6 | B7: COMPOSIÇÃO | C7: COMP_11 | D7: Entrada para descida d'água - EDA 03 A - areia e brita comerciais | E7: un | F7: 23 | G7: 230.63 | H7: =TRUNC(G7*F7,2) -> 5304.49
A8: 4.1.7 | B8: COMPOSIÇÃO | C8: COMP_12 | D8: Entrada para descida d'água - EDA 15 A - areia e brita comerciais | E8: un | F8: 26 | G8: 1417.34 | H8: =TRUNC(G8*F8,2) -> 36850.84
A9: 4.1.8 | B9: COMPOSIÇÃO | C9: COMP_13 | D9: Entrada para descida d'água - EDA 03 B - areia e brita comerciais | E9: un | F9: 3 | G9: 334.64 | H9: =TRUNC(G9*F9,2) -> 1003.92
A10: 4.1.9 | B10: COMPOSIÇÃO | C10: COMP_14 | D10: Entrada para descida d'água - EDA 15 B - areia e brita comerciais | E10: un | F10: 6 | G10: 1925.55 | H10: =TRUNC(G10*F10,2) -> 11553.3
A11: 4.1.10 | B11: COMPOSIÇÃO | C11: COMP_15 | D11: Descida d'água de aterros em degraus - DAD 110-26 - areia e brita comerciais | E11: m | F11: 16.45 | G11: 954.69 | H11: =TRUNC(G11*F11,2) -> 15704.65
A12: 4.1.11 | B12: COMPOSIÇÃO | C12: COMP_16 | D12: Descida d'água de aterros em degraus - DAD 60-36 - areia e brita comerciais | E12: m | F12: 24.93 | G12: 817.84 | H12: =TRUNC(G12*F12,2) -> 20388.75
A13: 4.1.12 | B13: COMPOSIÇÃO | C13: COMP_17 | D13: Descida d'água de cortes em degraus - DCD 60-30 - areia e brita comerciais | E13: m | F13: 15.86 | G13: 746.04 | H13: =TRUNC(G13*F13,2) -> 11832.19
A14: 4.1.13 | B14: COMPOSIÇÃO | C14: COMP_18 | D14: Descida d'água de aterros tipo rápido - DAR 60-30 - areia e brita comerciais | E14: m | F14: =I14+J14+K14+L14+M14+N14 -> 292.8 | G14: 442.5 | H14: =TRUNC(G14*F14,2) -> 129564 | I14: 278.68 | J14: 14.12
A15: 4.1.14 | B15: COMPOSIÇÃO | C15: COMP_19 | D15: Descida d'água de aterros tipo rápido com tampa - DAR 60-30 - areia e brita comerciais | E15: m | F15: 196.66 | G15: 470.93 | H15: =TRUNC(G15*F15,2) -> 92613.09
A16: 4.1.15 | B16: COMPOSIÇÃO | C16: COMP_20 | D16: Dissipador de energia - DES 120-360 - areia, brita e pedra de mão comerciais | E16: un | F16: 2 | G16: 1351.95 | H16: =TRUNC(G16*F16,2) -> 2703.9
A17: 4.1.16 | B17: COMPOSIÇÃO | C17: COMP_21 | D17: Dissipador de energia - DEB 180-263 - areia, brita e pedra de mão comerciais | E17: un | F17: 1 | G17: 1226.58 | H17: =TRUNC(G17*F17,2) -> 1226.58
A18: 4.1.17 | B18: COMPOSIÇÃO | C18: COMP_22 | D18: Dissipador de energia - DED 01 A - areia, brita e pedra de mão comerciais | E18: un | F18: 5 | G18: 866.35 | H18: =TRUNC(G18*F18,2) -> 4331.75
A19: 4.1.18 | B19: COMPOSIÇÃO | C19: COMP_23 | D19: Dissipador de energia - DED 01 B - areia e brita comerciais | E19: un | F19: 11 | G19: 821.28 | H19: =TRUNC(G19*F19,2) -> 9034.08
A20: 4.1.19 | B20: COMPOSIÇÃO | C20: COMP_24 | D20: Dreno longitudinal profundo para corte em solo - DPS 07 - tubo PEAD e brita comercial | E20: m | F20: 550.16 | G20: 246.11 | H20: =TRUNC(G20*F20,2) -> 135399.87
A21: 4.1.20 | B21: SICRO | C21: 4805749 | D21: Escavação manual de vala em material de 1ª categoria | E21: m³ | F21: 412.62 | G21: 90.95 | H21: =TRUNC(G21*F21,2) -> 37527.78
A22: 4.1.21 | B22: COMPOSIÇÃO | C22: COMP_25 | D22: Boca de BSTC D = 0,60 m - esconsidade 45° - areia e brita comerciais - alas retas | E22: un | F22: 1 | G22: 1063.34 | H22: =TRUNC(G22*F22,2) -> 1063.34
A23: 4.1.22 | B23: COMPOSIÇÃO | C23: COMP_26 | D23: Boca de BSTC D = 0,60 m - esconsidade 0° - areia e brita comerciais - alas esconsas | E23: un | F23: =I23+J23+K23+L23+M23+N23 -> 3 | G23: 1415.47 | H23: =TRUNC(G23*F23,2) -> 4246.41 | I23: 1 | J23: 2
A24: 4.1.23 | B24: COMPOSIÇÃO | C24: COMP_27 | D24: Boca de BSTC D = 0,60 m - esconsidade 0° - areia e brita comerciais - alas retas | E24: un | F24: 1 | G24: 962.03 | H24: =TRUNC(G24*F24,2) -> 962.03
A25: 4.1.24 | B25: COMPOSIÇÃO | C25: COMP_28 | D25: Corpo de BSTC D = 0,60 m PA1 - areia, brita e pedra de mão comerciais | E25: m | F25: =I25+J25+K25+L25+M25+N25 -> 56.5 | G25: 480.5 | H25: =TRUNC(G25*F25,2) -> 27148.25 | I25: 51.5 | J25: 5
A26: 4.1.25 | B26: COMPOSIÇÃO | C26: COMP_29 | D26: Caixa coletora de sarjeta - CCS 200-60 A - com grelha de concreto - areia e brita comerciais | E26: un | F26: =I26+J26+K26+L26+M26+N26 -> 6 | G26: 5799.15 | H26: =TRUNC(G26*F26,2) -> 34794.9 | I26: 4 | J26: 2
A27: 4.1.26 | B27: SICRO | C27: 5501706 | D27: Escavação mecânica com retroescavadeira em material de 1ª categoria | E27: m³ | F27: 537.23 | G27: 7.98 | H27: =TRUNC(G27*F27,2) -> 4287.09
A28: 4.1.27 | B28: SICRO | C28: 4815671 | D28: Reaterro e compactação com soquete vibratório | E28: m³ | F28: 302.38 | G28: 20.87 | H28: =TRUNC(G28*F28,2) -> 6310.67
A29: 4.2.3 | B29: COMPOSIÇÃO | C29: COMP_30 | D29: Sarjeta triangular de concreto - STC 125-25 - escavação mecânica - areia e brita comerciais | E29: m | F29: 467.41 | G29: 88.57 | H29: =TRUNC(G29*F29,2) -> 41398.5
A30: 4.3.1 | B30: SICRO | C30: 4915712 | D30: Limpeza de bueiro | E30: m³ | F30: 117.04 | G30: 26.85 | H30: =TRUNC(G30*F30,2) -> 3142.52
A31: 4.3.2 | B31: SICRO | C31: 4915633 | D31: Limpeza e desobstrução mecanizada de bueiros com diâmetro de até 1,00 m | E31: m | F31: 158.91 | G31: 23.91 | H31: =TRUNC(G31*F31,2) -> 3799.53
A32: 4.3.3 | B32: SICRO | C32: 1619006 | D32: Demolição mecânica de concreto simples com escavadeira hidráulica | E32: m³ | F32: 52.79 | G32: 53.74 | H32: =TRUNC(G32*F32,2) -> 2836.93
A33: 4.3.4 | B33: COTAÇÃO | C33: COTAÇÃO | D33: Destinação de resíduos sólidos em aterro licenciado (entulho) | E33: t | F33: =I33+J33+K33+L33+M33+N33 -> 128.812 | G33: 92 | H33: =TRUNC(G33*F33,2) -> 11850.7 | I33: 126.7 | J33: 2.112
A34: 4.3.5 | B34: COTAÇÃO | C34: COTAÇÃO | D34: Destinação de resíduos sólidos em aterro licenciado (material escavado) | E34: t | F34: 301.93 | G34: 109.25 | H34: =TRUNC(G34*F34,2) -> 32985.85
A35: 4.3.6 | B35: SICRO | C35: 5914647 | D35: Carga, manobra e descarga de agregados ou solos em caminhão basculante de 10 m³ - carga com carregadeira de 3,40 m³ (exclusa) e descarga livre | E35: t | F35: =I35+J35+K35+L35+M35+N35 -> 430.742 | G35: 2.21 | H35: =TRUNC(G35*F35,2) -> 951.93 | I35: 428.63 | J35: 2.112
A36: 4.3.7 | B36: SICRO | C36: 5914389 | D36: Transporte com caminhão basculante de 10 m³ - rodovia pavimentada | E36: tkm | F36: =I36+J36+K36+L36+M36+N36 -> 6525.7413 | G36: 1 | H36: =TRUNC(G36*F36,2) -> 6525.74 | I36: 6493.7445 | J36: 31.9968
A37: 4.3.9 | B37: COMPOSIÇÃO | C37: COMP_31 | D37: Boca de BSTC D = 0,80 m - esconsidade 0° - areia e brita comerciais - alas esconsas | E37: un | F37: 1 | G37: 2365.82 | H37: =TRUNC(G37*F37,2) -> 2365.82
A38: 4.3.10 | B38: COMPOSIÇÃO | C38: COMP_32 | D38: Boca de BSTC D = 0,80 m - esconsidade 15° - areia e brita comerciais - alas esconsas | E38: un | F38: 1 | G38: 2493.14 | H38: =TRUNC(G38*F38,2) -> 2493.14
A39: 4.3.11 | B39: COMPOSIÇÃO | C39: COMP_33 | D39: Boca de BDTC D = 0,80 m - esconsidade 0° - areia e brita comerciais - alas retas | E39: un | F39: 2 | G39: 1970.28 | H39: =TRUNC(G39*F39,2) -> 3940.56
A40: 4.3.12 | B40: COMPOSIÇÃO | C40: COMP_34 | D40: Boca de BSCC 1,50 x 1,50 m - esconsidade 0° - areia e brita comerciais | E40: un | F40: 17 | G40: 14420.36 | H40: =TRUNC(G40*F40,2) -> 245146.12
...

Sheet 4.RESUMO
A2: GOVERNO DO ESTADO DE PERNAMBUCO
A3: DEPARTAMENTO DE ESTRADAS DE RODAGEM DO ESTADO DE PERNAMBUCO
A5: CLIENTE: | B5: DEPARTAMENTO DE ESTRADAS DE RODAGEM DO ESTADO DE PERNAMBUCO | E5: DATA BASE: | F5: OUTUBRO/2025 SEM DESONERAÇÃO
A6: OBRA: | B6: ELABORAÇÃO DO PROJETO EXECUTIVO DE ENGENHARIA PARA RESTAURAÇÃO DA RODOVIA PE-219.
A7: LOCAL: | B7: PE-219 TRECHO: ENTR. PE-197 (PESQUEIRA) / CIMBRES EXTENSÃO: 18,30 KM
C8: R$ | E8: % | F8: VALOR / KM
A9: 1.0 | B9: =VLOOKUP(A9,'5.SINTETICO'!A:E,5,FALSE) -> ADMINISTRAÇAO | C9: =VLOOKUP(A9,'5.SINTETICO'!A:K,11,FALSE) -> 1700667 | E9: =C9/$C$19 -> 0.041630202 | F9: =C9/$E$20 -> 92932.623
A10: 2.0 | B10: =VLOOKUP(A10,'5.SINTETICO'!A:E,5,FALSE) -> CANTEIRODEOBRAS | C10: =VLOOKUP(A10,'5.SINTETICO'!A:K,11,FALSE) -> 578571.52 | E10: =C10/$C$19 -> 0.014162707 | F10: =C10/$E$20 -> 31615.93
A11: 3.0 | B11: =VLOOKUP(A11,'5.SINTETICO'!A:E,5,FALSE) -> MOBILIZAÇAO/DESMOBILIZAÇÃO | C11: =VLOOKUP(A11,'5.SINTETICO'!A:K,11,FALSE) -> 503143.82 | E11: =C11/$C$19 -> 0.012316332 | F11: =C11/$E$20 -> 27494.198
A12: 4.0 | B12: =VLOOKUP(A12,'5.SINTETICO'!A:E,5,FALSE) -> DRENAGEM | C12: =VLOOKUP(A12,'5.SINTETICO'!A:K,11,FALSE) -> 8460701.6 | E12: =C12/$C$19 -> 0.2071074 | F12: =C12/$E$20 -> 462333.42
A13: 5.0 | B13: =VLOOKUP(A13,'5.SINTETICO'!A:E,5,FALSE) -> TERRAPLENAGEM | C13: =VLOOKUP(A13,'5.SINTETICO'!A:K,11,FALSE) -> 1353697.8 | E13: =C13/$C$19 -> 0.033136828 | F13: =C13/$E$20 -> 73972.555
A14: 6.0 | B14: =VLOOKUP(A14,'5.SINTETICO'!A:E,5,FALSE) -> PAVIMENTAÇÃO | C14: =VLOOKUP(A14,'5.SINTETICO'!A:K,11,FALSE) -> 22968555 | E14: =C14/$C$19 -> 0.5622415 | F14: =C14/$E$20 -> 1255112.3
A15: 7.0 | B15: =VLOOKUP(A15,'5.SINTETICO'!A:E,5,FALSE) -> SINALIZAÇÃO | C15: =VLOOKUP(A15,'5.SINTETICO'!A:K,11,FALSE) -> 1044201 | E15: =C15/$C$19 -> 0.025560735 | F15: =C15/$E$20 -> 57060.163
A16: 8.0 | B16: =VLOOKUP(A16,'5.SINTETICO'!A:E,5,FALSE) -> OBRASCOMPLEMENTARES | C16: =VLOOKUP(A16,'5.SINTETICO'!A:K,11,FALSE) -> 2899086.1 | E16: =C16/$C$19 -> 0.070966002 | F16: =C16/$E$20 -> 158420
A17: 9.0 | B17: =VLOOKUP(A17,'5.SINTETICO'!A:E,5,FALSE) -> OBRASDEARTEESPECIAL | C17: =VLOOKUP(A17,'5.SINTETICO'!A:K,11,FALSE) -> 219157.47 | E17: =C17/$C$19 -> 0.0053647009 | F17: =C17/$E$20 -> 11975.818
A18: 10.0 | B18: =VLOOKUP(A18,'5.SINTETICO'!A:E,5,FALSE) -> PROTEÇÃOVEGETAL | C18: =VLOOKUP(A18,'5.SINTETICO'!A:K,11,FALSE) -> 1123978.6 | E18: =C18/$C$19 -> 0.02751359 | F18: =C18/$E$20 -> 61419.593
B19: TOTAL | C19: =SUM(C9:D18) -> 40851760 | E19: =SUM(E9:E18) -> 1 | F19: =C19/$E$20 -> 2232336.6 | G19: 32517771
B20: KM DO PROJETO | E20: 18.3 | F20: KM | G20: =C19-G19 -> 8333988.3
B21: VALOR POR KM | C21: =C19/E20 -> 2232336.6

Sheet 5.SINTETICO
A1: PLANILHAESTIMATIVADECUSTOSEMDESONERAÇÃO
A2: OBJETO: | B2: ='4.RESUMO'!B6 -> ELABORAÇÃO DO PROJETO EXECUTIVO DE ENGENHARIA PARA RESTAURAÇÃO DA RODOVIA PE-219. | J2: BDI | K2: 0.2123
A3: OBRA: | B3: ='4.RESUMO'!B7 -> PE-219 TRECHO: ENTR. PE-197 (PESQUEIRA) / CIMBRES EXTENSÃO: 18,30 KM | J3: BDIDIF. | K3: 0.15
A4: FONTES: | B4: SICRO OUTUBRO 2025,ANP OUTUBRO 2025 E COMPOSIÇÕES. | J4: DATABASE | K4: 45931 | L4: 40851760
A5: ITEM | B5: FONTE | C5: CÓDIGO | D5: COMPOSIÇÃOESPELHO | E5: DESCRIÇÃO | F5: Unid. | G5: QUANTIDADE | H5: CUSTOUNIT. | I5: BDI | J5: PREÇOUNIT. | K5: TOTAL
A6: 1.0 | E6: ADMINISTRAÇAO | K6: =K7 -> 1700667
A7: 1.1 | B7: COMPOSIÇÃO | C7: CP ADM | E7: Custocomadministraçãolocaldeobra | F7: un | G7: 1 | H7: 1402843.4 | I7: =$K$2 -> 0.2123 | J7: =TRUNC((1+I7)*H7,2) -> 1700667 | K7: =TRUNC(J7*G7,2) -> 1700667 | L7: =K7/$L$4 -> 0.041630202
A8: 2.0 | E8: CANTEIRODEOBRAS | K8: =SUM(K9:K14) -> 578571.52
A9: 2.1 | B9: COMPOSIÇÃO | C9: CP CANT | E9: Instalaçãodocanteirodeobras | F9: un | G9: 1 | H9: 71672.13 | I9: =$K$2 -> 0.2123 | J9: =TRUNC((1+I9)*H9,2) -> 86888.12 | K9: =TRUNC(J9*G9,2) -> 86888.12 | L9: =K9/$L$4 -> 0.0021269125
A10: 2.2 | B10: COMPOSIÇÃO | C10: COMP_001 | E10: Placa de Obra em Chapa de Aço Galvanizado | F10: m² | G10: 24 | H10: 487.58 | I10: =$K$2 -> 0.2123 | J10: =TRUNC((1+I10)*H10,2) -> 591.09 | K10: =TRUNC(J10*G10,2) -> 14186.16 | L10: =K10/$L$4 -> 0.00034725946
A11: 2.3 | B11: COMPOSIÇÃO | C11: COMP_002 | E11: Tapume Com Telha Metalica | F11: m² | G11: 563.4 | H11: 96.6 | I11: =$K$2 -> 0.2123 | J11: =TRUNC((1+I11)*H11,2) -> 117.1 | K11: =TRUNC(J11*G11,2) -> 65974.14 | L11: =K11/$L$4 -> 0.0016149645 | M11: =281.7*2 -> 563.4 | N11: AREADOCANTEIRO*2M
A12: 2.4 | B12: COMPOSIÇÃO | C12: COMP_003 | E12: Canteiro Itinerante | F12: mês | G12: 8 | H12: 4567.81 | I12: =$K$2 -> 0.2123 | J12: =TRUNC((1+I12)*H12,2) -> 5537.55 | K12: =TRUNC(J12*G12,2) -> 44300.4 | L12: =K12/$L$4 -> 0.0010844184
A13: 2.5 | B13: SICRO | C13: 0903802 | E13: Bacia de contenção para tanque de emulsão de 30.000 l - inclusive demolição | F13: un | G13: 6 | H13: 15545.71 | I13: =$K$2 -> 0.2123 | J13: =TRUNC((1+I13)*H13,2) -> 18846.06 | K13: =TRUNC(J13*G13,2) -> 113076.36 | L13: =K13/$L$4 -> 0.0027679679
A14: 2.6 | B14: SICRO | C14: 0903810 | E14: Instalação da usina de asfalto a quente capacidade de 120 t/h | F14: un | G14: 1 | H14: 209639.81 | I14: =$K$2 -> 0.2123 | J14: =TRUNC((1+I14)*H14,2) -> 254146.34 | K14: =TRUNC(J14*G14,2) -> 254146.34 | L14: =K14/$L$4 -> 0.0062211847
A15: 3.0 | E15: MOBILIZAÇAO/DESMOBILIZAÇÃO | K15: =K16 -> 503143.82
A16: 3.1 | B16: COMPOSIÇÃO | C16: COMP_MOB | E16: Custodemobilizaçãoedesmobilizaçãodeequipamentos(leves,médiosepesados) | F16: un | G16: 1 | H16: 415032.44 | I16: =$K$2 -> 0.2123 | J16: =TRUNC((1+I16)*H16,2) -> 503143.82 | K16: =TRUNC(J16*G16,2) -> 503143.82 | L16: =K16/$L$4 -> 0.012316332
A17: 4.0 | E17: DRENAGEM | K17: =SUM(K19:K71) -> 8460701.6
A18: 4.1 | E18: DRENAGEMSUPERFICIALEPROFUNDA-IMPLANTAÇÃO
A19: 4.1.1 | B19: SICRO | C19: 2003373 | E19: Meio-fio de concreto - MFC 03 - areia e brita comerciais - fôrma de madeira | F19: m | G19: 15327.09 | H19: 68.33 | I19: =$K$2 -> 0.2123 | J19: =TRUNC((1+I19)*H19,2) -> 82.83 | K19: =TRUNC(J19*G19,2) -> 1269542.9 | L19: =K19/$L$4 -> 0.031076822
A20: 4.1.2 | B20: SICRO | C20: 2003377 | E20: Meio-fio de concreto - MFC 05 - areia e brita comerciais - fôrma de madeira | F20: m | G20: 415.43 | H20: 59.81 | I20: =$K$2 -> 0.2123 | J20: =TRUNC((1+I20)*H20,2) -> 72.5 | K20: =TRUNC(J20*G20,2) -> 30118.67 | L20: =K20/$L$4 -> 0.00073726739
A21: 4.1.3 | B21: SICRO | C21: 2003257 | E21: Sarjeta triangular de concreto - STC 100-20 - escavação mecânica - areia e brita | F21: m | G21: 10893.87 | H21: 57.84 | I21: =$K$2 -> 0.2123 | J21: =TRUNC((1+I21)*H21,2) -> 70.11 | K21: =TRUNC(J21*G21,2) -> 763769.22 | L21: =K21/$L$4 -> 0.018696116
A22: 4.1.4 | B22: SICRO | C22: 2003309 | E22: Valeta de proteção de cortes com revestimento de concreto - VPCC 120-30 - escavação mecânica - areia e brita comerciais | F22: m | G22: 1502.29 | H22: 99.34 | I22: =$K$2 -> 0.2123 | J22: =TRUNC((1+I22)*H22,2) -> 120.42 | K22: =TRUNC(J22*G22,2) -> 180905.76 | L22: =K22/$L$4 -> 0.0044283468
A23: 4.1.5 | B23: SICRO | C23: 2003315 | E23: Valeta de proteção de aterros com revestimento de concreto - VPAC 120-30 - escavação mecânica - areia e brita comerciais | F23: m | G23: 2323.67 | H23: 99.34 | I23: =$K$2 -> 0.2123 | J23: =TRUNC((1+I23)*H23,2) -> 120.42 | K23: =TRUNC(J23*G23,2) -> 279816.34 | L23: =K23/$L$4 -> 0.0068495542
A24: 4.1.6 | B24: SICRO | C24: 2003107 | E24: Entrada para descida d'água - EDA 03 A - areia e brita comerciais | F24: un | G24: 23 | H24: 190.54 | I24: =$K$2 -> 0.2123 | J24: =TRUNC((1+I24)*H24,2) -> 230.99 | K24: =TRUNC(J24*G24,2) -> 5312.77 | L24: =K24/$L$4 -> 0.00013004997
A25: 4.1.7 | B25: SICRO | C25: 2003143 | E25: Entrada para descida d'água - EDA 15 A - areia e brita comerciais | F25: un | G25: 26 | H25: 1166.2 | I25: =$K$2 -> 0.2123 | J25: =TRUNC((1+I25)*H25,2) -> 1413.78 | K25: =TRUNC(J25*G25,2) -> 36758.28 | L25: =K25/$L$4 -> 0.00089979674
A26: 4.1.8 | B26: SICRO | C26: 2003119 | E26: Entrada para descida d'água - EDA 03 B - areia e brita comerciais | F26: un | G26: 3 | H26: 276.24 | I26: =$K$2 -> 0.2123 | J26: =TRUNC((1+I26)*H26,2) -> 334.88 | K26: =TRUNC(J26*G26,2) -> 1004.64 | L26: =K26/$L$4 -> 2.4592331e-05
A27: 4.1.9 | B27: SICRO | C27: 2003163 | E27: Entrada para descida d'água - EDA 15 B - areia e brita comerciais | F27: un | G27: 6 | H27: 1580.4 | I27: =$K$2 -> 0.2123 | J27: =TRUNC((1+I27)*H27,2) -> 1915.91 | K27: =TRUNC(J27*G27,2) -> 11495.46 | L27: =K27/$L$4 -> 0.00028139449
A28: 4.1.10 | B28: SICRO | C28: 2003411 | E28: Descida d'água de aterros em degraus - DAD 110-26 - areia e brita comerciais | F28: m | G28: 16.45 | H28: 799.04 | I28: =$K$2 -> 0.2123 | J28: =TRUNC((1+I28)*H28,2) -> 968.67 | K28: =TRUNC(J28*G28,2) -> 15934.62 | L28: =K28/$L$4 -> 0.00039005958
A29: 4.1.11 | B29: SICRO | C29: 2003407 | E29: Descida d'água de aterros em degraus - DAD 60-36 - areia e brita comerciais | F29: m | G29: 24.93 | H29: 686.56 | I29: =$K$2 -> 0.2123 | J29: =TRUNC((1+I29)*H29,2) -> 832.31 | K29: =TRUNC(J29*G29,2) -> 20749.48 | L29: =K29/$L$4 -> 0.00050792133
A30: 4.1.12 | B30: SICRO | C30: 2003399 | E30: Descida d'água de cortes em degraus - DCD 60-30 - areia e brita comerciais | F30: m | G30: 15.86 | H30: 626.32 | I30: =$K$2 -> 0.2123 | J30: =TRUNC((1+I30)*H30,2) -> 759.28 | K30: =TRUNC(J30*G30,2) -> 12042.18 | L30: =K30/$L$4 -> 0.00029477751
... A45: 4.1.27 | B45: SICRO | C45: 4815671 | E45: Reaterro e compactação com soquete vibratório | F45: m³ | G45: 302.38 | H45: 19.34 | I45: =$K$2 -> 0.2123 | J45: =TRUNC((1+I45)*H45,2) -> 23.44 | K45: =TRUNC(J45*G45,2) -> 7087.78 | L45: =K45/$L$4 -> 0.00017349999
A46: 4.1.28 | B46: SICRO | C46: 2003613 | E46: Boca de saída para dreno subsuperficial - BSD 03 - areia e brita comerciais | F46: un | G46: 914 | H46: 158.47 | I46: 0.2123 | J46: =TRUNC((1+I46)*H46,2) -> 192.11 | K46: =TRUNC(J46*G46,2) -> 175588.54 | L46: =K46/$L$4 -> 0.0042981879
A47: 4.1.29 | B47: COMPOSIÇÃO | C47: COMP_005 | E47: Dreno de pavimento em microvala com geocomposto drenante H = 0,60 m - inclusive corte, enchimento com areia e selo asfáltico | F47: m | G47: 37506 | H47: 97.37 | I47: 0.2123 | J47: =TRUNC((1+I47)*H47,2) -> 118.04 | K47: =TRUNC(J47*G47,2) -> 4427208.2 | L47: =K47/$L$4 -> 0.10837252
A48: 4.2 | E48: DRENAGEMSUPERFICIAL-LIMPEZA
A49: 4.2.1 | B49: SICRO | C49: 2003377 | E49: Meio-fio de concreto - MFC 05 - areia e brita comerciais - fôrma de madeira | F49: m | G49: 2819.53 | H49: 59.81 | I49: =$K$2 -> 0.2123 | J49: =TRUNC((1+I49)*H49,2) -> 72.5 | K49: =TRUNC(J49*G49,2) -> 204415.92 | L49: =K49/$L$4 -> 0.0050038462
A50: 4.2.2 | B50: SICRO | C50: 2003393 | E50: Descida d'água de aterros tipo rápido - DAR 60-30 - areia e brita comerciais | F50: m | G50: 14.12 | H50: 370.73 | I50: =$K$2 -> 0.2123 | J50: =TRUNC((1+I50)*H50,2) -> 449.43 | K50: =TRUNC(J50*G50,2) -> 6345.95 | L50: =K50/$L$4 -> 0.00015534092
A51: 4.2.3 | B51: SICRO | C51: 2003319 | E51: Sarjeta triangular de concreto - STC 125-25 - escavação mecânica - areia e brita comerciais | F51: m | G51: 467.41 | H51: 70.03 | I51: =$K$2 -> 0.2123 | J51: =TRUNC((1+I51)*H51,2) -> 84.89 | K51: =TRUNC(J51*G51,2) -> 39678.43 | L51: =K51/$L$4 -> 0.00097127836
A52: 4.3 | E52: OAC'SEXISTENTES-LIMPEZAEPROLONGAMENTO
A53: 4.3.1 | B53: SICRO | C53: 4915712 | E53: Limpeza de bueiro | F53: m³ | G53: 117.04 | H53: 23.67 | I53: =$K$2 -> 0.2123 | J53: =TRUNC((1+I53)*H53,2) -> 28.69 | K53: =TRUNC(J53*G53,2) -> 3357.87 | L53: =K53/$L$4 -> 8.219646e-05
A54: 4.3.2 | B54: SICRO | C54: 4915633 | E54: Limpeza e desobstrução mecanizada de bueiros com diâmetro de até 1,00 m | F54: m | G54: 158.91 | H54: 23.43 | I54: =$K$2 -> 0.2123 | J54: =TRUNC((1+I54)*H54,2) -> 28.4 | K54: =TRUNC(J54*G54,2) -> 4513.04 | L54: =K54/$L$4 -> 0.00011047358
...

Sheet 6.CURVA ABC
A1: DEMONSTRATIVO DA CURVA ABC
A2: OBJETO: | B2: ='4.RESUMO'!B6 -> ELABORAÇÃO DO PROJETO EXECUTIVO DE ENGENHARIA PARA RESTAURAÇÃO DA RODOVIA PE-219. | J2: BDI | K2: 0.2123
A3: OBRA: | B3: ='4.RESUMO'!B7 -> PE-219 TRECHO: ENTR. PE-197 (PESQUEIRA) / CIMBRES EXTENSÃO: 18,30 KM | J3: BDI DIF. | K3: 0.15
A4: FONTES: | B4: SICRO OUTUBRO 2025, ANP OUTUBRO 2025 E COMPOSIÇÕES. | J4: DATA BASE | K4: 45931
A5: ITEM | B5: FONTE | C5: CÓDIGO | D5: DESCRIÇÃO | E5: Unid. | F5: QUANTIDADE | G5: CUSTO UNIT. | H5: PREÇO UNIT. | I5: TOTAL | J5: % | K5: % ACUMULADO
D6: Reciclagem com incorporação do revestimento asfáltico à base e adição de35% brita comercial e 3% de cimento- 100% Proctor modificado | E6: m³ | F6: 27193.6 | G6: 160.06 | H6: =TRUNC((1+L6)*G6,2) -> 194.04 | I6: =TRUNC(F6*H6,2) -> 5276646.1 | J6: =I6/$I$161 -> 0.1291657 | K6: =J6 -> 0.1291657 | L6: 0.2123
D7: Aquisição de CAP 50/70 | E7: t | F7: 976.109 | G7: 4044 | H7: =TRUNC((1+L7)*G7,2) -> 4902.54 | I7: =TRUNC(F7*H7,2) -> 4785413.4 | J7: =I7/$I$161 -> 0.11714094 | K7: =J7+K6 -> 0.24630664 | L7: 0.2123
D8: Dreno de pavimento em microvala com geocomposto drenante H = 0,60 m - inclusive corte, enchimento com areia e selo asfáltico | E8: m | F8: 37506 | G8: 97.37 | H8: =TRUNC((1+L8)*G8,2) -> 118.04 | I8: =TRUNC(F8*H8,2) -> 4427208.2 | J8: =I8/$I$161 -> 0.10837252 | K8: =J8+K7 -> 0.35467916 | L8: 0.2123
D9: Concreto asfáltico - faixa C-12,5 - areia e brita comerciais | E9: t | F9: 17257.92 | G9: 190.96 | H9: =TRUNC((1+L9)*G9,2) -> 231.5 | I9: =TRUNC(F9*H9,2) -> 3995208.5 | J9: =I9/$I$161 -> 0.097797709 | K9: =J9+K8 -> 0.45247687 | L9: 0.2123
D10: Aquisição de RR-2C | E10: t | F10: 709.76 | G10: 3129 | H10: =TRUNC((1+L10)*G10,2) -> 3793.28 | I10: =TRUNC(F10*H10,2) -> 2692318.4 | J10: =I10/$I$161 -> 0.065904589 | K10: =J10+K9 -> 0.51838146 | L10: 0.2123
D11: Execução de passeio em piso intertravado, com bloco retangular cor natural de 20 x 10 cm, espessura 6 cm | E11: m² | F11: 25886.05 | G11: 64.93 | H11: =TRUNC((1+L11)*G11,2) -> 78.71 | I11: =TRUNC(F11*H11,2) -> 2037491 | J11: =I11/$I$161 -> 0.049875232 | K11: =J11+K10 -> 0.56825669 | L11: 0.2123
D12: Defensa semimaleável simples - fornecimento e implantação | E12: m | F12: 4768 | G12: 344.43 | H12: =TRUNC((1+L12)*G12,2) -> 417.55 | I12: =TRUNC(F12*H12,2) -> 1990878.4 | J12: =I12/$I$161 -> 0.048734214 | K12: =J12+K11 -> 0.6169909 | L12: 0.2123
D13: Administração Local da obra | E13: un | F13: 1 | G13: 1402843.4 | H13: =TRUNC((1+L13)*G13,2) -> 1700667 | I13: =TRUNC(F13*H13,2) -> 1700667 | J13: =I13/$I$161 -> 0.041630202 | K13: =J13+K12 -> 0.65862111 | L13: 0.2123
D14: Meio-fio de concreto - MFC 03 - areia e brita comerciais - fôrma de madeira | E14: m | F14: 15327.09 | G14: 68.33 | H14: =TRUNC((1+L14)*G14,2) -> 82.83 | I14: =TRUNC(F14*H14,2) -> 1269542.9 | J14: =I14/$I$161 -> 0.031076822 | K14: =J14+K13 -> 0.68969793 | L14: 0.2123
D15: Tratamento superficial duplo com banho diluído - brita comercial | E15: m² | F15: 135968 | G15: 6.94 | H15: =TRUNC((1+L15)*G15,2) -> 8.41 | I15: =TRUNC(F15*H15,2) -> 1143490.9 | J15: =I15/$I$161 -> 0.027991227 | K15: =J15+K14 -> 0.71768916 | L15: 0.2123
D16: Hidrossemeadura | E16: m² | F16: 145404.73 | G16: 6.38 | H16: =TRUNC((1+L16)*G16,2) -> 7.73 | I16: =TRUNC(F16*H16,2) -> 1123978.6 | J16: =I16/$I$161 -> 0.02751359 | K16: =J16+K15 -> 0.74520275 | L16: 0.2123
D17: Meio-fio de concreto - MFC 06 - areia e brita comerciais - fôrma de madeira | E17: m | F17: 20709 | G17: 34.11 | H17: =TRUNC((1+L17)*G17,2) -> 41.35 | I17: =TRUNC(F17*H17,2) -> 856317.15 | J17: =I17/$I$161 -> 0.020961573 | K17: =J17+K16 -> 0.76616432 | L17: 0.2123
D18: Sarjeta triangular de concreto - STC 100-20 - escavação mecânica - areia e brita comerciais | E18: m | F18: 10893.87 | G18: 57.84 | H18: =TRUNC((1+L18)*G18,2) -> 70.11 | I18: =TRUNC(F18*H18,2) -> 763769.22 | J18: =I18/$I$161 -> 0.018696116 | K18: =J18+K17 -> 0.78486043 | L18: 0.2123
... D160: Escavação, carga e transporte de material de 2ª categoria - DMT de 600 a 800 m - caminho de serviço pavimentado - com escavadeira e caminhão basculante de 14 m³ | E160: m³ | F160: 0.54 | G160: 9.58 | H160: =TRUNC((1+L160)*G160,2) -> 11.61 | I160: =TRUNC(F160*H160,2) -> 6.26 | J160: =I160/$I$161 -> 1.5323697e-07 | K160: =J160+K159 -> 1 | L160: 0.2123
D161: TOTAL | I161: =SUM(I6:I160)-0.25 -> 40851760
I162: {='4.RESUMO'!C19:D19} -> 40851760 | J162: 0
I163: =I161-I162 -> 0

Sheet 7.BDI
B2: GOVERNO DO ESTADO DE PERNAMBUCO
B3: SECRETARIA DE MOBILIDADE E INFRAESTRUTURA - SEMOBI/PE
B4: DEPARTAMENTO DE ESTRADAS DE RODAGEM - DER/PE
B6: RODOVIA: | C6: PE-219
B7: TRECHO: | C7: ENTR. PE-197 (PESQUEIRA) / CIMBRES
B8: EXTENSÃO: | C8: 18.3
B9: DATA BASE: | C9: OUTUBRO/2025
B10: TIPO: | C10: SEM DESONERAÇÃO
B12: COMPOSIÇÃO DAS TAXAS DE BENEFÍCIOS E DESPESAS INDIRETAS (BDI)
C14: DETALHAMENTO DO BDI - SEM DESONERAÇÃO
C15: Despesas Indiretas | E15: % | F15: % sobre CD
C16: Administração Central | E16: 0.038
C17: Custos Financeiros | E17: 0.0032
C18: Seguros e Garantias Contratuais | E18: 0.005
C19: Riscos | E19: 0.0102
C20: Subtotal Despesas Indiretas | E20: =SUM(E16:F19) -> 0.0564 | F20: =SUM(F16:F19) -> 0
C21: Benefícios | E21: % | F21: % sobre CD
C22: Lucro Operacional | E22: 0.0708
C23: Subtotal Benefícios | E23: =SUM(E22) -> 0.0708 | F23: =SUM(F22) -> 0
C24: Tributos | E24: % | F24: % sobre CD
C25: PIS | E25: 0.0065
C26: COFINS | E26: 0.03
C27: ISSQN | E27: =H43 -> 0.03
C28: CPRB | E28: 0
C29: Subtotal Tributos | E29: =SUM(E25:F28) -> 0.0665 | F29: =SUM(F25:F28) -> 0
C30: BDI com Impostos | E30: =(((1+E16+E17+E18)*(1+E19)*(1+E23))/(1-E29)-1) -> 0.21231679 | F30: =((1+(F16/100+F22/100))/(1-(E17/100+E18/100+E19/100+E25/100+E26/100+E27/100+E28/100))-1)*100 -> 0.084972141
C31: BDI SEM DESONERAÇÃO | F31: =E30 -> 0.21231679
B33: PERCENTUAL DO ISSQN INCIDENTE NA COMPOSIÇÃO DO BDI:
B34: Em atendimento ao item 9.2.2 do Acórdão nº 32/2008 – Plenário, que determina a previsão dos percentuais de recolhimento a título de ISS a serem aplicados na composição de LDI dos licitantes, com base nas alíquotas adotadas pelos municípios situados na região da obra, apresentamos a planilha e cálculo a seguir:
B35: MUNICÍPIO | C35: KM INICIAL | D35: KM FINAL | E35: EXTENSÃO | F35: ALÍQUOTA | G35: DEDUÇÃO | H35: ALÍQUOTA | I35: PROPORÇÃO (%)
E36: (KM)
B37: PESQUEIRA/PE | C37: 0 | D37: 18.3 | E37: =D37-C37 -> 18.3 | F37: 0.05 | G37: 0.4 | H37: =F37*(1-G37) -> 0.03 | I37: =E37/$E$42 -> 1
B42: EXTENSÃO TOTAL DO TRECHO | E42: =SUM(E37:E41) -> 18.3 | I42: =SUM(I37:I41) -> 1
B43: MÉDIA PONDERADA | H43: =SUMPRODUCT(I37:I41,H37:H41) -> 0.03
B45: OBSERVAÇÃO:
B46: O percentual de ISSQN adotado foi proveniente das alíquotas dos municípios situados na área de influência da obra.
B47: Código Tributário do Município de Pesqueira, Lei nº 3.075/2013. Capítulo V, Seção I, Art. 75, Anexo I.
B52: GOVERNO DO ESTADO DE PERNAMBUCO
B53: SECRETARIA DE MOBILIDADE E INFRAESTRUTURA - SEMOBI/PE
B54: DEPARTAMENTO DE ESTRADAS DE RODAGEM - DER/PE
...

Sheet Mobilização e desmobilização
B2: GOVERNO DO ESTADO DE PERNAMBUCO
B3: SECRETARIA DE MOBILIDADE E INFRAESTRUTURA - SEMOBI/PE
B4: DEPARTAMENTO DE ESTRADAS DE RODAGEM - DER/PE
B6: OBRA: | D6: ELABORAÇÃO DO PROJETO EXECUTIVO DE ENGENHARIA PARA RESTAURAÇÃO DA RODOVIA PE-219. | Q6: DATA BASE: | S6: OUT/2025 SEM DESONERAÇÃO
B7: LOCAL: | D7: PE-219 TRECHO: ENTR. PE-197 (PESQUEIRA) / CIMBRES EXTENSÃO: 18,30 KM
B11: MOBILIZAÇÃO E DESMOBILIZAÇÃO DE EQUIPAMENTOS E VEÍCULOS
C13: Manual de Custos de Infraestrutura de Transportes - Volume 08 - Mobilização e Desmobilização
C14: DADOS DE ENTRADA:
H15: Tabela 01 - Velocidades médias - modo rodoviário
H16: Velocidade Rodovia Pav (P) - km/h | J16: Caminhões e veículos transportadores | N16: 60
J17: Cavalo mecânico com reboque ou dolly | N17: 30
H18: Velocidade Rodovia Revestimento Primário (RP) - km/h | J18: Caminhões e veículos transportadores | N18: 50
J19: Cavalo mecânico com reboque ou dolly | N19: 25
H20: Velocidade Rodovia Leito Natural (LN) - km/h | J20: Caminhões e veículos transportadores | N20: 40
J21: Cavalo mecânico com reboque ou dolly | N21: 20
H22: DMT Capital - Canteiro (km) | K22: Recife | L22: /PE | M22: PAV | N22: 227
M23: NP | N23: 0
C25: ITEM | D25: CÓDIGO | E25: DISCRIMINAÇÃO | I25: ORIGEM | J25: QUANTIDADE | K25: EQUIPAMENTO TRANSPORTADOR | L25: DISTANCIA MOBILIZAÇÃO DM (km) | N25: VELOCIDADE MÉDIA - V (km/h) | P25: TEMPO DE VIAGEM (h) | Q25: FATOR DE UTILIZAÇÃO (FU) | R25: IDA/ VOLTA (K) | S25: CUSTO HORÁRIO - CH (R$) | T25: CUSTO TOTAL MOBILIZAÇÃO - Cmob (R$)
L26: PAV | M26: NP | N26: PAV | O26: NP
D27: EQUIPAMENTOS AUTOPROPELIDOS
C28: 1 | D28: E9571 | E28: =VLOOKUP(D28,EQ!$A:$C,2,0) -> Caminhão tanque com capacidade de 10.000 l - 188 kW | I28: =$K$22 -> Recife | J28: 3 | K28: =D28 -> E9571 | L28: =$N$22 -> 227 | M28: =$N$23 -> 0 | N28: =$N$16 -> 60 | O28: =$N$20 -> 40 | P28: =(L28/N28)+(M28/O28) -> 3.7833333 | Q28: 1 | R28: 1 | S28: =VLOOKUP(K28,EQ!$A:$C,3,0) -> 355.6851 | T28: =TRUNC(P28*Q28*R28*J28*S28,2) -> 4037.02
C29: 9 | D29: E9785 | E29: =VLOOKUP(D29,EQ!$A:$C,2,0) -> Guindaste móvel sobre pneus com 2 eixos com capacidade máxima de 55 t - 186 kW | I29: =$K$22 -> Recife | J29: 1 | K29: =D29 -> E9785 | L29: =$N$22 -> 227 | M29: =$N$23 -> 0 | N29: =$N$16 -> 60 | O29: =$N$20 -> 40 | P29: =(L29/N29)+(M29/O29) -> 3.7833333 | Q29: 1 | R29: 1 | S29: =VLOOKUP(K29,EQ!$A:$C,3,0) -> 510.9686 | T29: =TRUNC(P29*Q29*R29*J29*S29,2) -> 1933.16
C30: 2 | D30: E9592 | E30: =VLOOKUP(D30,EQ!$A:$C,2,0) -> Caminhão carroceria com capacidade de 15 t - 188 kW | I30: =$K$22 -> Recife | J30: 1 | K30: =D30 -> E9592 | L30: =$N$22 -> 227 | M30: =$N$23 -> 0 | N30: =$N$16 -> 60 | O30: =$N$20 -> 40 | P30: =(L30/N30)+(M30/O30) -> 3.7833333 | Q30: 1 | R30: 1 | S30: =VLOOKUP(K30,EQ!$A:$C,3,0) -> 280.3525 | T30: =TRUNC(P30*Q30*R30*J30*S30,2) -> 1060.66
C31: 6 | D31: E9579 | E31: =VLOOKUP(D31,EQ!$A:$C,2,0) -> Caminhão basculante com capacidade de 10 m³ - 210 kW | I31: =$K$22 -> Recife | J31: 9 | K31: =D31 -> E9579 | L31: =$N$22 -> 227 | M31: =$N$23 -> 0 | N31: =$N$16 -> 60 | O31: =$N$20 -> 40 | P31: =(L31/N31)+(M31/O31) -> 3.7833333 | Q31: 1 | R31: 1 | S31: =VLOOKUP(K31,EQ!$A:$C,3,0) -> 309.0751 | T31: =TRUNC(P31*Q31*R31*J31*S31,2) -> 10524
C32: 7 | D32: E9686 | E32: =VLOOKUP(D32,EQ!$A:$C,2,0) -> Caminhão guindauto com capacidade de elevação de 6,2 t e carroceria de 7 t - 136 kW | I32: =$K$22 -> Recife | J32: 1 | K32: =D32 -> E9686 | L32: =$N$22 -> 227 | M32: =$N$23 -> 0 | N32: =$N$16 -> 60 | O32: =$N$20 -> 40 | P32: =(L32/N32)+(M32/O32) -> 3.7833333 | Q32: 1 | R32: =IF(D32=K32,1,2) -> 1 | S32: =VLOOKUP(K32,EQ!$A:$C,3,0) -> 316.3314 | T32: =TRUNC(P32*Q32*R32*J32*S32,2) -> 1196.78
C33: 2 | D33: E9199 | E33: =VLOOKUP(D33,EQ!$A:$C,2,0) -> Caminhão com sistema de hidrojateamento de alta pressão e vácuo para limpeza e desobstrução de bueiros com capacidade total de 15.600 l - 188 kW | I33: =$K$22 -> Recife | J33: 1 | K33: =D33 -> E9199 | L33: =$N$22 -> 227 | M33: =$N$23 -> 0 | N33: =$N$16 -> 60 | O33: =$N$20 -> 40 | P33: =(L33/N33)+(M33/O33) -> 3.7833333 | Q33: 1 | R33: 1 | S33: =VLOOKUP(K33,EQ!$A:$C,3,0) -> 409.1411 | T33: =TRUNC(P33*Q33*R33*J33*S33,2) -> 1547.91
C34: 5 | D34: E9667 | E34: =VLOOKUP(D34,EQ!$A:$C,2,0) -> Caminhão basculante com capacidade de 14 m³ - 210 kW | I34: =$K$22 -> Recife | J34: 10 | K34: =D34 -> E9667 | L34: =$N$22 -> 227 | M34: =$N$23 -> 0 | N34: =$N$16 -> 60 | O34: =$N$20 -> 40 | P34: =(L34/N34)+(M34/O34) -> 3.7833333 | Q34: 1 | R34: 1 | S34: =VLOOKUP(K34,EQ!$A:$C,3,0) -> 321.1662 | T34: =TRUNC(P34*Q34*R34*J34*S34,2) -> 12150.78
C35: 8 | D35: E9672 | E35: =VLOOKUP(D35,EQ!$A:$C,2,0) -> Caminhão basculante para rocha com capacidade de 12 m³ - 210 kW | I35: =$K$22 -> Recife | J35: 1 | K35: =D35 -> E9672 | L35: =$N$22 -> 227 | M35: =$N$23 -> 0 | N35: =$N$16 -> 60 | O35: =$N$20 -> 40 | P35: =(L35/N35)+(M35/O35) -> 3.7833333 | Q35: 1 | R35: =IF(D35=K35,1,2) -> 1 | S35: =VLOOKUP(K35,EQ!$A:$C,3,0) -> 350.8662 | T35: =TRUNC(P35*Q35*R35*J35*S35,2) -> 1327.44
C36: 2 | D36: E9520 | E36: =VLOOKUP(D36,EQ!$A:$C,2,0) -> Caminhão com caçamba térmica com capacidade de 6 m³ - 136 kW | I36: =$K$22 -> Recife | J36: 1 | K36: =D36 -> E9520 | L36: =$N$22 -> 227 | M36: =$N$23 -> 0 | N36: =$N$16 -> 60 | O36: =$N$20 -> 40 | P36: =(L36/N36)+(M36/O36) -> 3.7833333 | Q36: 1 | R36: 1 | S36: =VLOOKUP(K36,EQ!$A:$C,3,0) -> 203.7368 | T36: =TRUNC(P36*Q36*R36*J36*S36,2) -> 770.8
C37: 2 | D37: E9509 | E37: =VLOOKUP(D37,EQ!$A:$C,2,0) -> Caminhão tanque distribuidor de asfalto com capacidade de 6.000 l - 7 kW/136 kW | I37: =$K$22 -> Recife | J37: 1 | K37: =D37 -> E9509 | L37: =$N$22 -> 227 | M37: =$N$23 -> 0 | N37: =$N$16 -> 60 | O37: =$N$20 -> 40 | P37: =(L37/N37)+(M37/O37) -> 3.7833333 | Q37: 1 | R37: 1 | S37: =VLOOKUP(K37,EQ!$A:$C,3,0) -> 333.8549 | T37: =TRUNC(P37*Q37*R37*J37*S37,2) -> 1263.08
C38: 8 | D38: E9687 | E38: =VLOOKUP(D38,EQ!$A:$C,2,0) -> Caminhão carroceria com capacidade de 5 t - 120 kW | I38: =$K$22 -> Recife | J38: 1 | K38: =D38 -> E9687 | L38: =$N$22 -> 227 | M38: =$N$23 -> 0 | N38: =$N$16 -> 60 | O38: =$N$20 -> 40 | P38: =(L38/N38)+(M38/O38) -> 3.7833333 | Q38: 1 | R38: =IF(D38=K38,1,2) -> 1 | S38: =VLOOKUP(K38,EQ!$A:$C,3,0) -> 175.1944 | T38: =TRUNC(P38*Q38*R38*J38*S38,2) -> 662.81
C39: 3 | D39: E9645 | E39: =VLOOKUP(D39,EQ!$A:$C,2,0) -> Caminhão demarcador de faixas com sistema de pintura a quente - 5 kW/30,10 kW/136 kW | I39: =$K$22 -> Recife | J39: 1 | K39: =D39 -> E9645 | L39: =$N$22 -> 227 | M39: =$N$23 -> 0 | N39: =$N$16 -> 60 | O39: =$N$20 -> 40 | P39: =(L39/N39)+(M39/O39) -> 3.7833333 | Q39: 1 | R39: 1 | S39: =VLOOKUP(K39,EQ!$A:$C,3,0) -> 689.5744 | T39: =TRUNC(P39*Q39*R39*J39*S39,2) -> 2608.88
C40: 3 | D40: E9082 | E40: =VLOOKUP(D40,EQ!$A:$C,2,0) -> Bate-estaca hidráulico para defensas montado em caminhão guindauto com capacidade de 6,2 t e carroceria de 5 t - 152 kW | I40: =$K$22 -> Recife | J40: 1 | K40: =D40 -> E9082 | L40: =$N$22 -> 227 | M40: =$N$23 -> 0 | N40: =$N$16 -> 60 | O40: =$N$20 -> 40 | P40: =(L40/N40)+(M40/O40) -> 3.7833333 | Q40: 1 | R40: 1 | S40: =VLOOKUP(K40,EQ!$A:$C,3,0) -> 391.4404 | T40: =TRUNC(P40*Q40*R40*J40*S40,2) -> 1480.94
C41: 3 | D41: E9605 | E41: =VLOOKUP(D41,EQ!$A:$C,2,0) -> Caminhão tanque com capacidade de 6.000 l - 136 kW | I41: =$K$22 -> Recife | J41: 1 | K41: =D41 -> E9605 | L41: =$N$22 -> 227 | M41: =$N$23 -> 0 | N41: =$N$16 -> 60 | O41: =$N$20 -> 40 | P41: =(L41/N41)+(M41/O41) -> 3.7833333 | Q41: 1 | R41: 1 | S41: =VLOOKUP(K41,EQ!$A:$C,3,0) -> 279.3222 | T41: =TRUNC(P41*Q41*R41*J41*S41,2) -> 1056.76
C42: 9 | D42: E9792 | E42: =VLOOKUP(D42,EQ!$A:$C,2,0) -> Caminhão para hidrossemeadura com capacidade de 7.500 l - 77,2 kW/235 kW | I42: =$K$22 -> Recife | J42: 1 | K42: =D42 -> E9792 | L42: =$N$22 -> 227 | M42: =$N$23 -> 0 | N42: =$N$16 -> 60 | O42: =$N$20 -> 40 | P42: =(L42/N42)+(M42/O42) -> 3.7833333 | Q42: 1 | R42: 1 | S42: =VLOOKUP(K42,EQ!$A:$C,3,0) -> 591.0242 | T42: =TRUNC(P42*Q42*R42*J42*S42,2) -> 2236.04
D43: EQUIPAMENTOS TRANSPORTADOS
C44: 10 | D44: =D74 -> E9584 | E44: =E74 -> Carregadeira de pneus com capacidade de 1,72 m³ - 113 kW | I44: =$K$22 -> Recife | J44: 1 | K44: =K74 -> E9665 | L44: =$N$22 -> 227 | M44: =$N$23 -> 0 | N44: 30 | O44: 20 | P44: =(L44/N44)+(M44/O44) -> 7.5666667 | Q44: =R74 -> 0.66699611 | R44: 2 | S44: =VLOOKUP(K44,EQ!$A:$C,3,0) -> 415.7346 | T44: =TRUNC(P44*Q44*R44*J44*S44,2) -> 4196.37
C45: 8 | D45: =D75 -> E9127 | E45: =E75 -> Escavadeira hidráulica com martelo hidráulico de 520 kg - 75 kW | I45: =$K$22 -> Recife | J45: 2 | K45: =K75 -> E9665 | L45: =$N$22 -> 227 | M45: =$N$23 -> 0 | N45: =$N$17 -> 30 | O45: 20 | P45: =(L45/N45)+(M45/O45) -> 7.5666667 | Q45: =R75 -> 0.81833463 | R45: 2 | S45: =VLOOKUP(K45,EQ!$A:$C,3,0) -> 415.7346 | T45: =TRUNC(P45*Q45*R45*J45*S45,2) -> 10297.02
C46: 9 | D46: =D76 -> E9540 | E46: =E76 -> Trator sobre esteiras com lâmina - 127 kW | I46: =$K$22 -> Recife | J46: 2 | K46: =K76 -> E9665 | L46: =$N$22 -> 227 | M46: =$N$23 -> 0 | N46: =$N$17 -> 30 | O46: 20 | P46: =(L46/N46)+(M46/O46) -> 7.5666667 | Q46: =R76 -> 0.8641863 | R46: 2 | S46: =VLOOKUP(K46,EQ!$A:$C,3,0) -> 415.7346 | T46: =TRUNC(P46*Q46*R46*J46*S46,2) -> 10873.97
C47: 10 | D47: =D77 -> E9524 | E47: =E77 -> Motoniveladora - 93 kW | I47: =$K$22 -> Recife | J47: 2 | K47: =K77 -> E9666 | L47: =$N$22 -> 227 | M47: =$N$23 -> 0 | N47: =$N$17 -> 30 | O47: 20 | P47: =(L47/N47)+(M47/O47) -> 7.5666667 | Q47: =R77 -> 0.83108108 | R47: 2 | S47: =VLOOKUP(K47,EQ!$A:$C,3,0) -> 463.9457 | T47: =TRUNC(P47*Q47*R47*J47*S47,2) -> 11670.11
...

Sheet EQ
A1: Código | B1: Descrição | C1: Custo Produtivo (R$/h)
A2: E9001 | B2: Conjunto vibratório para tubos de concreto com encaixe PB e 3 jogos de fôrmas - D = 0,60 m - 2,20 kW | C2: 18.5651
A3: E9002 | B3: Conjunto vibratório para tubos de concreto com encaixe PB e 3 jogos de fôrmas - D = 0,80 m - 2,20 kW | C3: 24.3315
A4: E9003 | B4: Conjunto vibratório para tubos de concreto com encaixe PB e 3 jogos de fôrmas - D = 1,00 m - 2,20 kW | C4: 25.4425
A5: E9004 | B5: Conjunto vibratório para tubos de concreto com encaixe PB e 3 jogos de fôrmas - D = 1,20 m - 2,20 kW | C5: 32.0689
A6: E9005 | B6: Conjunto vibratório para tubos de concreto com encaixe PB e 3 jogos de fôrmas - D = 1,50 m - 2,20 kW | C6: 37.9534
A7: E9006 | B7: Equipamento para sondagem manual | C7: 1.5046
A8: E9007 | B8: Bomba de pistão triplex com capacidade de 7,80 m³/h (130 l/min) - 8,20 kW | C8: 42.5214
A9: E9008 | B9: Transportador manual de tubos de concreto com capacidade de 1 t | C9: 2.4762
A10: E9009 | B10: Embarcação rebocadora - 268 kW | C10: 428.7206
A11: E9010 | B11: Balança plataforma digital à bateria, com mesa de 75 x 75 cm e capacidade de 500 kg | C11: 1.2223
A12: E9011 | B12: Carro manual modelo plataforma de 200 x 80 cm com capacidade de 800 kg | C12: 0.565
A13: E9014 | B13: Deflectômetro de impacto (FWD) instalado em picape com reboque e faixa de carga de 7 a 120 kN - 147 kW | C13: 376.3458
... A565: A9362 | B565: Tanque para hidrossemeadura com capacidade de 7.500 l - 77,2 kW | C565: 206.6266

Sheet 01-Canteiro
B2: GOVERNO DO ESTADO DE PERNAMBUCO
B3: SECRETARIA DE MOBILIDADE E INFRAESTRUTURA - SEMOBI/PE
B4: DEPARTAMENTO DE ESTRADAS DE RODAGEM - DER/PE
B6: OBRA: | C6: PE-219
B7: TRECHO: | C7: TRECHO: ENTR. PE-197 (PESQUEIRA) / CIMBRES EXTENSÃO: 18,30 KM
B10: DATA BASE: | C10: 45931
B11: TIPO: | C11: SEM DESONERAÇÃO
B13: METODOLOGIA E CRITÉRIOS ADOTADOS PARA O CANTEIRO DE OBRAS - MANUAL DE CUSTOS DE INFRAESTRUTURA DE TRANSPORTES - VOLUME 06
B15: PARÂMETROS DA OBRA CONSIDERADOS
B17: NATUREZA DA OBRA
C19: X | D19: Construção | G19: Restauração | J19: Conservação Rotineira
D20: OAE - Construção | G20: OAE - Restauração | J20: Intervenções Pontuais
B23: PORTE DA OBRA
D25: Restrita | F25: X | G25: Obras contínuas
B28: INSTALAÇÕES INDUSTRIAIS
D30: Central de Britagem (m³/h) | J30: Usina de Concreto (m³/h)
D31: Usina de Asfalto a Quente (t/h) | J31: Usina de Asfalto a Frio (t/h)
D32: Usina de Solos (m³/h) | J32: Fábrica de Premoldados
B34: PADRÃO DE CONSTRUÇÃO
D36: Provisório | G36: Permanente | I36: X | J36: Containers
B39: CENTROS REGIONAL
B41: PV | C41: 10.8 | D41: Km | F41: PESQUEIRA | H41: Município | J41: PE | K41: UF
B42: LN | D42: km
B44: FATORES DE AJUSTE
G45: Tabela 35 - Fatores de Ajuste de Mobiliário e Aparelhagem (Manual de Custos-Vol. 06 -Canteiro de Obras)
D46: K2 - FATOR DE MOBILIÁRIO E APARELHAGEM | G46: Canteiros de Obras | K46: Fator K2
G47: Construção e restauração rodoviária de pequeno ou médio porte | K47: 1.05
G48: Construção e restauração rodoviária de grande porte | K48: 1.04
G49: Conservação rodoviária | K49: 1.11
G50: Construção ou recuperação, reforço e alargamento de obras de arte especiais de pequeno porte | K50: 1.06
G51: Construção ou recuperação, reforço e alargamento de obras de arte especiais de médio ou grande porte | K51: 1.04
G52: Construção ferroviária | K52: 1.05
G53: Inervenções Pontuais | K53: 1.13
D55: K3 - FATOR DE DISTÂNCIA DO CANTEIRO AOS CENTROS FORNECEDORES | G55: Condição do Pavimento | H55: Equação - Fator K3 | J55: Extensão | K55: Fator K3
G56: Leito Natural | H56: 1 + 0,0014 x DT | J56: =C42 -> 0 | K56: =TRUNC(IF(J56=0,0,(1+(0.0014*J56))),3) -> 0
G57: Revestimento Primário | H57: 1 + 0,0009 x DT | J57: 0 | K57: =TRUNC(IF(J57=0,0,(1+(0.0009*J57))),3) -> 0
G58: Rodovia Pavimentada | H58: 1 + 0,0008 x DT | J58: =C41 -> 10.8 | K58: =TRUNC(IF(J58=0,0,(1+(0.0008*J58))),3) -> 1.008
B59: CUSTO MÉDIO DA CONSTRUÇÃO CIVIL
C61: PE | D61: UF | F61: 1672.62 | G61: CMCC (R$/m²) | I61: X | J61: Desonerado | M61: Onerado
C63: PE | D63: UF | F63: 1780.31 | G63: CMCC (R$/m²) | J63: Desonerado | L63: X | M63: Onerado
...

Sheet 01-ADM-Resumo
B1: PE-219 TRECHO: ENTR. PE-197 (PESQUEIRA) / CIMBRES EXTENSÃO: 18,30 KM
A5: RESUMO DAS PARCELAS DA ADMINISTRAÇÃO LOCAL
E6: Data-base: | F6: 45931
B7: Prazo: | C7: 8 | D7: meses | F7: Não desonerado
A8: Item | B8: Discriminação | C8: Unidade | D8: Quantidade | E8: Custo unitário (R$) | F8: Custo total (R$)
A9: 1. | B9: Parcela Fixa Principal
A10: 1.1 | B10: Mão de Obra | C10: mês | D10: 8 | E10: ='02-ADM-Fixa'!G37 -> 57952.906 | F10: =E10*D10 -> 463623.24
A11: 1.2 | B11: Veículos | C11: mês | D11: 8 | E11: ='02-ADM-Fixa'!J53 -> 37228.026 | F11: =E11*D11 -> 297824.21
A12: Subtotal do Item 1 | F12: =SUM(F10:F11) -> 761447.45
A13: 2. | B13: Parcela Vinculada
A14: 2.1 | B14: Equipe de produção de terraplenagem | C14: mês | D14: 2 | E14: ='03-ADM-Vinculada'!G21 -> 8287.4949 | F14: =E14*D14 -> 16574.99
A15: 2.2 | B15: Equipe de produção de pavimentação | C15: mês | D15: 6 | E15: ='03-ADM-Vinculada'!G33 -> 11033.02 | F15: =E15*D15 -> 66198.121
A16: 2.3 | B16: Equipe de topografia | C16: mês | D16: 2 | E16: ='03-ADM-Vinculada'!G46 -> 17601.76 | F16: =E16*D16 -> 35203.52
A17: 2.4 | B17: Equipe de medicina e segurança do trabalho | C17: mês | D17: 8 | E17: ='03-ADM-Vinculada'!G54 -> 7702.3911 | F17: =E17*D17 -> 61619.129
A18: Subtotal do Item 2 | F18: =SUM(F14:F17) -> 179595.76
A19: 3. | B19: Parcela Variável
A20: 3.1 | B20: Equipes de frente de serviço | C20: eq x mês | D20: ='04-ADM-Variavel'!G10 -> 18.861029 | E20: ='05-ADM-Variavel$'!G15 -> 8830.5136 | F20: =E20*D20 -> 166552.58
A21: 3.2 | B21: Laboratório de solos | C21: eq x mês | D21: ='04-ADM-Variavel'!G11 -> 3.8301087 | E21: ='05-ADM-Variavel$'!G26 -> 19748.148 | F21: =E21*D21 -> 75637.556
A22: 3.3 | B22: Laboratório de asfaltos | C22: eq x mês | D22: ='04-ADM-Variavel'!G12 -> 4.2004044 | E22: ='05-ADM-Variavel$'!G37 -> 22493.674 | F22: =E22*D22 -> 94482.526
A23: 3.4 | B23: Laboratório de concreto | C23: eq x mês | D23: ='04-ADM-Variavel'!G13 -> 0.19141 | E23: ='05-ADM-Variavel$'!G48 -> 22493.674 | F23: =E23*D23 -> 4305.5141
A24: 3.5 | B24: Controle e Manejo Florestal | C24: eq x mês | D24: ='04-ADM-Variavel'!G14 -> 0.20941897 | E24: ='05-ADM-Variavel$'!G53 -> 4014.9522 | F24: =E24*D24 -> 840.80714
A25: Subtotal do Item 3 | F25: =SUM(F20:F24) -> 341818.98
A26: 4. | B26: Manutenção dos Canteiros de Obras e Acampamentos
A27: 4.1 | B27: Equipe de manutenção | C27: mês | D27: 6 | E27: ='06-Manutenção Canteiro'!G28 -> 8863.1841 | F27: =E27*D27 -> 53179.105
A28: Subtotal do Item 4 | F28: =F27 -> 53179.105
A30: Subtotal | F30: =F25+F18+F12+F28 -> 1336041.3
A32: 5. | B32: Despesas Diversas
A33: 5.1 | B33: Despesas Diversas | C33: % | D33: 0.05 | F33: =F30*D33 -> 66802.065
A35: Custo total da Administração Local | F35: =F33+F30 -> 1402843.4
A36: OBS: As parcelas de custo incluem mão de obra e veículos

Sheet 02-ADM-Fixa
B1: PE-219 TRECHO: ENTR. PE-197 (PESQUEIRA) / CIMBRES EXTENSÃO: 18,30 KM
A5: ADMINISTRAÇÃO LOCAL
A6: PARCELA FIXA - DIMENSIONAMENTO
A8: Quantidades das equipes da parcela fixa e complementar | D8: Homens
A9: Total das equipes de parcela fixa e complementar | D9: =E37 -> 6
F11: Data-base: | G11: ='01-ADM-Resumo'!$F$6 -> 45931 | H11: Não desonerado
A12: Administração local - parcela fixa principal - mão de obra
A13: Código | B13: Discriminação | C13: Código SICRO | D13: Unidade | E13: Quantidade | F13: Custo Unitário (R$) | G13: Custo Totral (R$)
A14: 1. | B14: Mão de obra (principal fixa)
A15: 1.1. | B15: Gerência Técnica
A16: 1.1.1. | B16: Geral
A17: 1.1.1.1. | B17: Engenheiro Chefe | C17: P9955 | D17: mês
A18: 1.1.1.2. | B18: Engenheiro supervisor | C18: P9819 | D18: mês | E18: 0.5 | F18: =VLOOKUP(C18,[2]MO!$A$6:$F$115,6,0) -> 27534.562 | G18: =F18*E18 -> 13767.281
A19: 1.1.1.3. | B19: Engenheiro Mecânico | C19: P9891 | D19: mês
A20: 1.1.1.4. | B20: Encarregado geral | C20: P9840 | D20: mês | E20: 1 | F20: =VLOOKUP(C20,[2]MO!$A$6:$F$115,6,0) -> 11551.203 | G20: =F20*E20 -> 11551.203
A21: 1.1.1.5. | B21: Técnico de meio ambiente | C21: P9897 | D21: mês
A22: 1.1.1.6. | B22: Motorista | C22: P9948 | D22: mês
A23: 1.1.1.7. | B23: Secretária | C23: P9878 | D23: mês
A24: 1.1.2. | B24: Auxiliar
A25: 1.1.2.1. | B25: Engenheiro auxiliar | C25: P9946 | D25: mês | E25: 0.5 | F25: =VLOOKUP(C25,[2]MO!$A$6:$F$150,6,0) -> 25005.828 | G25: =F25*E25 -> 12502.914
A26: 1.1.2.2. | B26: Auxiliar técnico | C26: P9903 | D26: mês | E26: 1 | F26: =VLOOKUP(C26,[2]MO!$A$6:$F$115,6,0) -> 4887.4143 | G26: =F26*E26 -> 4887.4143
A27: 1.2. | B27: Gerência Administrativa
A28: 1.2.1. | B28: Geral
A29: 1.2.1.1. | B29: Chefe do setor administrativo | C29: P9883 | D29: mês
A30: 1.2.1.2. | B30: Encarregado administrativo | C30: P9809 | D30: mês
A31: 1.2.1.3. | B31: Porteiro | C31: P9896 | D31: mês
A32: 1.2.1.4. | B32: Vigia | C32: P9827 | D32: mês | E32: 2 | F32: =VLOOKUP(C32,[2]MO!$A$6:$F$115,6,0) -> 4985.9787 | G32: =F32*E32 -> 9971.9574
A33: 1.2.1.5. | B33: Motorista | C33: P9948 | D33: mês
A34: 1.2.2. | B34: Auxiliar
A35: 1.2.2.1. | B35: Auxiliar administrativo | C35: P9806 | D35: mês | E35: 1 | F35: =VLOOKUP(C35,[2]MO!$A$6:$F$115,6,0) -> 5272.1359 | G35: =F35*E35 -> 5272.1359
A36: 1.2.2.2. | B36: Faxineiro | C36: P9842 | D36: mês
A37: 1A.Total da mão de obra da parcela principal fixa | E37: =TRUNC(SUM(E15:E36),0) -> 6 | G37: =SUM(G15:G36) -> 57952.906
A38: OBS: Ajustes segundo o Memorando-Circular n° 491/2018/DIREX/DNIT
A41: Administração local - parcela fixa principal - veículos
A42: Código | B42: Discriminação | C42: Código SICRO | D42: Unidade | E42: Quantidade | F42: Utilização (h) | H42: Custo horário (R$) | J42: Custo Total
F43: Produtiva | G43: Improdutiva | H43: Produtivo | I43: Improdutivo
A44: 2. | B44: Veículos (principal fixa)
A45: 2.1. | B45: Gerência Técnica
A46: 2.1.1. | B46: Geral
A47: 2.1.1.1. | B47: Veículo leve - 53 kW | C47: E9093 | D47: mês | E47: 1 | F47: 44 | G47: 176 | H47: =VLOOKUP($C47,[2]EQ!$A$5:$D$526,3,FALSE) -> 35.8043 | I47: =VLOOKUP($C47,[2]EQ!$A$5:$D$526,4,FALSE) -> 6.6485 | J47: =E47*(H47*F47+I47*G47) -> 2745.5252
...

Sheet 03-ADM-Vinculada
B1: PE-219 TRECHO: ENTR. PE-197 (PESQUEIRA) / CIMBRES EXTENSÃO: 18,30 KM
A5: ADMINISTRAÇÃO LOCAL
A6: PARCELA VINCULADA - DIMENSIONAMENTO
A8: Quantidades das equipes da parcela vinculada | D8: Homens | H8: Data-base: | I8: ='01-ADM-Resumo'!$F$6 -> 45931
A9: Total das equipes de parcela vinculada | D9: =E33+E46+E54+E21+E79 -> 5 | I9: Não desonerado
A11: Equipe de produção de terraplenagem
A12: Código | B12: Discriminação | C12: Código SICRO | D12: Unidade | E12: Quantidade | F12: Custo Unitário (R$) | G12: Custo Totral (R$)
A13: 1. | B13: Equipe de Produção de Terraplenagem
A14: 1.1. | B14: Mão de obra
A15: 1.1.1. | B15: Encarregado de terraplenagem | C15: P9884 | D15: mês | E15: 1 | F15: =VLOOKUP(C15,[2]MO!$A$6:$F$115,6,FALSE) -> 8287.4949 | G15: =F15*E15 -> 8287.4949
A16: 1.2. | B16: Veículos
B17: Discriminação | C17: Código SICRO | D17: Unidade | E17: Quantidade | F17: Utilização (h) | H17: Custo horário (R$) | J17: Custo Total
F18: Produtiva | G18: Improdutiva | H18: Produtivo | I18: Improdutivo
A19: 1.2.1. | B19: Veículo leve - 53 kW | C19: E9093 | D19: mês | F19: 44 | G19: 176 | H19: =VLOOKUP(C19,[2]EQ!$A$5:$C$520,3,FALSE) -> 35.8043 | I19: =VLOOKUP(C19,[2]EQ!$A$5:$D$520,4,FALSE) -> 6.6485 | J19: =E19*(H19*F19+I19*G19) -> 0
A21: Total da Equipe de Produção de Terraplenagem | E21: =SUM(E13:E15) -> 1 | G21: =G15+J19 -> 8287.4949
A23: Equipe de produção de pavimentação
A24: Código | B24: Discriminação | C24: Código SICRO | D24: Unidade | E24: Quantidade | F24: Custo Unitário (R$) | G24: Custo Totral (R$)
A25: 1. | B25: Equipe de Produção de Pavimentação
A26: 1.1. | B26: Mão de obra
A27: 1.1.1. | B27: Encarregado de pavimentação | C27: P9893 | D27: mês | E27: 1 | F27: =VLOOKUP(C27,[2]MO!$A$6:$F$115,6,FALSE) -> 8287.4949 | G27: =F27*E27 -> 8287.4949
A28: 1.2. | B28: Veículos
B29: Discriminação | C29: Código SICRO | D29: Unidade | E29: Quantidade | F29: Utilização (h) | H29: Custo horário (R$) | J29: Custo Total
F30: Produtiva | G30: Improdutiva | H30: Produtivo | I30: Improdutivo
A31: 1.2.1. | B31: Veículo leve - 53 kW | C31: E9093 | D31: mês | E31: 1 | F31: 44 | G31: 176 | H31: =VLOOKUP($C31,[2]EQ!$A$5:$D$526,3,FALSE) -> 35.8043 | I31: =VLOOKUP($C31,[2]EQ!$A$5:$D$526,4,FALSE) -> 6.6485 | J31: =E31*(H31*F31+I31*G31) -> 2745.5252
A33: Total da Equipe de Produção de Pavimentação | E33: =SUM(E25:E27) -> 1 | G33: =G27+J31 -> 11033.02
A35: Equipe de topografia proposta para as obras de infraestrutura de transportes
A36: Código | B36: Discriminação | C36: Código SICRO | D36: Unidade | E36: Quantidade | F36: Custo Unitário (R$) | G36: Custo Totral (R$)
A37: 2. | B37: Equipe de Topografia
A38: 2.1. | B38: Mão de obra
A39: 2.1.1. | B39: Topógrafo | C39: P9949 | D39: mês | E39: 1 | F39: =VLOOKUP(C39,[2]MO!$A$6:$F$150,6,FALSE) -> 8892.4903 | G39: =F39*E39 -> 8892.4903
A40: 2.1.2. | B40: Auxiliar de topografia | C40: P9950 | D40: mês | E40: 1 | F40: =VLOOKUP(C40,[2]MO!$A$6:$F$150,6,FALSE) -> 5963.7447 | G40: =F40*E40 -> 5963.7447
A41: 2.2. | B41: Veículos
B42: Discriminação | C42: Código SICRO | D42: Unidade | E42: Quantidade | F42: Utilização (h) | H42: Custo horário (R$) | J42: Custo Total
F43: Produtiva | G43: Improdutiva | H43: Produtivo | I43: Improdutivo
A44: 2.2.1. | B44: Veículo leve - 53 kW | C44: E9093 | D44: mês | E44: 1 | F44: 44 | G44: 176 | H44: =VLOOKUP($C44,[2]EQ!$A$5:$D$526,3,FALSE) -> 35.8043 | I44: =VLOOKUP($C44,[2]EQ!$A$5:$D$526,4,FALSE) -> 6.6485 | J44: =E44*(H44*F44+I44*G44) -> 2745.5252
A46: 1A.Total da mão de obra da parcela vinculada | E46: =SUM(E37:E40) -> 2 | G46: =(SUM(G37:G40))+J44 -> 17601.76
A48: Mão de obra da equipe de medicina e segurança do trabalho
A49: Código | B49: Discriminação | C49: Código SICRO | D49: Unidade | E49: Quantidade | F49: Custo Unitário (R$) | G49: Custo Totral (R$)
A50: 3.1 | B50: Técnico de segurança do trabalho | C50: P9876 | D50: mês | E50: 1 | F50: =VLOOKUP(C50,[2]MO!$A$6:$F$115,6,FALSE) -> 7702.3911 | G50: =F50*E50 -> 7702.3911
A51: 3.2 | B51: Engenheiro de segurança do trabalho | C51: P9864 | D51: mês | F51: =VLOOKUP(C51,[2]MO!$A$6:$F$115,6,FALSE) -> 25094.22 | G51: =F51*E51 -> 0
...

Sheet 04-ADM-Variavel
B1: PE-219 TRECHO: ENTR. PE-197 (PESQUEIRA) / CIMBRES EXTENSÃO: 18,30 KM
A5: ADMINISTRAÇÃO LOCAL
A6: PARCELA VARIÁVEL - DIMENSIONAMENTO
E7: Data-base: | F7: ='01-ADM-Resumo'!$F$6 -> 45931
F8: Não desonerado
A9: Quantidades das equipes da parcela variável | D9: Homens | E9: Equipes | F9: HxM | G9: Equipes
A10: Total das equipes de frente de serviço | D10: ='05-ADM-Variavel$'!E15 -> 1.5 | E10: =G25+G36+G48+G68+G75+G90+G98+G103 -> 18.861029 | F10: =TRUNC(D10*E10,0) -> 28 | G10: =G105 -> 18.861029
A11: Total da equipe de laboratório de solos | D11: ='05-ADM-Variavel$'!E26 -> 3 | E11: =G122 -> 3.8301087 | F11: =D11*E11 -> 11.490326 | G11: =G122 -> 3.8301087
A12: Total da equipe de laboratório de asfalto | D12: ='05-ADM-Variavel$'!E37 -> 3 | E12: =(G130) -> 4.2004044 | F12: =D12*E12 -> 12.601213 | G12: =G130 -> 4.2004044
A13: Total da equipe de laboratório de concreto | D13: ='05-ADM-Variavel$'!E48 -> 3 | E13: =(G152) -> 0.19141 | F13: =D13*E13 -> 0.57423 | G13: =G152 -> 0.19141
A14: Total da equipe de controle e manejo florestal | D14: ='05-ADM-Variavel$'!E53 -> 0.5 | E14: =G75 -> 0.20941897 | F14: =D14*E14 -> 0.10470948 | G14: =G75 -> 0.20941897
A15: Total das equipes | F15: =SUM(F10:F14) -> 52.770479 | G15: =SUM(G10:G14) -> 27.292371
A16: Média de HxM mensal | F16: =ROUNDUP(F15/'01-ADM-Resumo'!$C$7,0) -> 7
A18: Demonstrativo
A20: Equipes de acompanhamento das frentes de serviço de terraplenagem
A21: Item da Planilha | B21: Código SICRO | C21: Discriminação | D21: Unidade | E21: Quantidade | F21: Produção Horária | G21: Efs
A22: 5.42 | B22: 5503041 | C22: Compactação de aterros a 100% do Proctor intermediário | D22: m³ | E22: 3850.14 | F22: 134.56 | G22: =E22/(F22*182.49) -> 0.15679112
A23: 5.43 | B23: 5502978 | C23: Compactação de aterros a 100% do Proctor normal | D23: m³ | E23: 24920.61 | F23: 168.2 | G23: =E23/(F23*182.49) -> 0.8118833
A24: 6.9 | B24: 5502978 | C24: Compactação de aterros a 100% do Proctor normal | D24: m³ | E24: 5177 | F24: 168.2 | G24: =E24/(F24*182.49) -> 0.16866039
A25: Total de Equipes para Terraplenagem | G25: =SUM(G22:G24) -> 1.1373348
A27: Equipes de acompanhamento das frentes de serviço de pavimentação
A28: Item da Planilha | B28: Código SICRO | C28: Discriminação | D28: Unidade | E28: Quantidade | F28: Produção Horária | G28: Efs
A29: 6.1 | B29: 4011484 | C29: Reciclagem com incorporação do revestimento asfáltico à base e adição de brita comercial - 100% Proctor modificado | D29: m³ | E29: 27193.6 | F29: 90.84 | G29: =E29/(F29*182.49) -> 1.6404028
A30: 6.2 | B30: 4011276 | C30: Base ou sub-base de brita graduada com brita comercial - 100% Proctor modificado | D30: m³ | E30: 1412.64 | F30: 113.18 | G30: =E30/(F30*182.49) -> 0.068394746
A31: 6.3 | B31: 4011212 | C31: Varredura da superfície para execução de revestimento asfáltico | D31: m² | E31: 143816 | F31: 2430.24 | G31: =E31/(F31*182.49) -> 0.32427911
A32: 6.4 | B32: 4011351 | C32: Imprimação com asfalto diluído | D32: m² | E32: 7848 | F32: 1125 | G32: =E32/(F32*182.49) -> 0.038226752
A33: 6.5 | B33: 4011353 | C33: Pintura de ligação | D33: m² | E33: 271936 | F33: 1500 | G33: =E33/(F33*182.49) -> 0.99342795
A34: 6.6 | B34: 4011372 | C34: Tratamento superficial duplo com banho diluído - brita comercial | D34: m² | E34: 135968 | F34: 283.02 | G34: =E34/(F34*182.49) -> 2.6325735
A35: 6.7 | B35: 4011463 | C35: Concreto asfáltico - faixa C-12,5 - areia e brita comerciais | D35: t | E35: 17257.92 | F35: 99.6 | G35: =E35/(F35*182.49) -> 0.94948923
A36: Total de Equipes para Pavimentação | G36: =SUM(G29:G35) -> 6.6467941
A38: Equipes de acompanhamento das frentes de serviço de drenagem
A39: Item da Planilha | B39: Código SICRO | C39: Discriminação | D39: Unidade | E39: Quantidade | F39: Efsdu | G39: Efs
A40: 4.1.1 | B40: 2003373 | C40: Meio-fio de concreto - MFC 03 - areia e brita comerciais - fôrma de madeira | D40: m | E40: 15327.09 | F40: 0.0001 | G40: =E40*F40 -> 1.532709
A41: 4.1.2 | B41: 2003377 | C41: Meio-fio de concreto - MFC 05 - areia e brita comerciais - fôrma de madeira | D41: m | E41: 415.43 | F41: 0.0001 | G41: =E41*F41 -> 0.041543
A42: 4.1.3 | B42: 2003257 | C42: Sarjeta triangular de concreto - STC 100-20 - escavação mecânica - areia e brita comerciais | D42: m | E42: 10893.87 | F42: 0.0002 | G42: =E42*F42 -> 2.178774
A43: 4.1.4 | B43: 2003309 | C43: Valeta de proteção de cortes com revestimento de concreto - VPCC 120-30 - escavação mecânica - areia e brita comerciais | D43: m | E43: 1502.29 | F43: 0.00029 | G43: =E43*F43 -> 0.4356641
A44: 4.1.5 | B44: 2003315 | C44: Valeta de proteção de aterros com revestimento de concreto - VPAC 120-30 - escavação mecânica - areia e brita comerciais | D44: m | E44: 2323.67 | F44: 0.00029 | G44: =E44*F44 -> 0.6738643
A45: 4.2.1 | B45: 2003377 | C45: Meio-fio de concreto - MFC 05 - areia e brita comerciais - fôrma de madeira | D45: m | E45: 2819.53 | F45: 0.0001 | G45: =E45*F45 -> 0.281953
A46: 4.2.3 | B46: 2003319 | C46: Sarjeta triangular de concreto - STC 125-25 - escavação mecânica - areia e brita comerciais | D46: m | E46: 467.41 | F46: 0.0002 | G46: =E46*F46 -> 0.093482
A47: 6.8 | B47: 2003379 | C47: Meio-fio de concreto - MFC 06 - areia e brita comerciais - fôrma de madeira | D47: m | E47: 20709 | F47: 0.0001 | G47: =E47*F47 -> 2.0709
...

Sheet 05-ADM-Variavel$
B1: PE-219 TRECHO: ENTR. PE-197 (PESQUEIRA) / CIMBRES EXTENSÃO: 18,30 KM
A5: ADMINISTRAÇÃO LOCAL
A6: PARCELA VARIÁVEL - EQUIPES PADRÃO
G7: Data-base: | H7: ='01-ADM-Resumo'!$F$6 -> 45931 | I7: Não desonerado
A10: Composição de custo das equipes da parcela variável da administração local
A11: Código | B11: Discriminação | C11: Código SICRO | D11: Unidade | E11: Quantidade | F11: Custo Unitário (R$) | G11: Custo Totral (R$)
A12: Mão de obra de acompanhamento de frentes de serviço
A13: 1.1. | B13: Encarregado de turma | C13: P9875 | D13: mês | E13: 1 | F13: =VLOOKUP(C13,[2]MO!$A$6:$F$115,6,FALSE) -> 6191.2078 | G13: =F13*E13 -> 6191.2078
A14: 1.2. | B14: Apontador | C14: P9804 | D14: mês | E14: 0.5 | F14: =VLOOKUP(C14,[2]MO!$A$6:$F$115,6,FALSE) -> 5278.6116 | G14: =F14*E14 -> 2639.3058 | L14: =E15+E26+E37+E48 -> 10.5
A15: Total da mão de obra da equipe de acompanhamento de frentes de serviço | E15: =SUM(E13:E14) -> 1.5 | G15: =SUM(G13:G14) -> 8830.5136
A17: Mão de obra da equipe de laboratório de solos
A18: 1. | B18: Mão de obra
A19: 1.1. | B19: Laboratorista | C19: P9858 | D19: mês | E19: 1 | F19: =VLOOKUP(C19,[2]MO!$A$6:$F$115,6,FALSE) -> 7854.3998 | G19: =F19*E19 -> 7854.3998
A20: 1.2. | B20: Auxiliar de laboratório | C20: P9833 | D20: mês | E20: 2 | F20: =VLOOKUP(C20,[2]MO!$A$6:$F$115,6,FALSE) -> 5946.8743 | G20: =F20*E20 -> 11893.749
A21: 2. | B21: Veículos
B22: Discriminação | C22: Código SICRO | D22: Unidade | E22: Quantidade | F22: Utilização (h) | H22: Custo horário (R$) | J22: Custo Total
F23: Produtiva | G23: Improdutiva | H23: Produtivo | I23: Improdutivo
A24: 2.1. | B24: Veículo leve - 53 kW | C24: E9093 | D24: mês | E24: 0 | F24: 44 | G24: 176 | H24: =VLOOKUP($C24,[2]EQ!$A$5:$D$526,3,FALSE) -> 35.8043 | I24: =VLOOKUP($C24,[2]EQ!$A$5:$D$526,4,FALSE) -> 6.6485 | J24: =E24*(H24*F24+I24*G24) -> 0
A26: Total da mão de obra da equipe de laboratório de solos | E26: =SUM(E19:E20) -> 3 | G26: =(SUM(G19:G20))+J24 -> 19748.148
A28: Mão de obra da equipe de laboratório de asfalto
A29: 1. | B29: Mão de obra
A30: 1.1. | B30: Laboratorista | C30: P9858 | D30: mês | E30: 1 | F30: =VLOOKUP(C30,[2]MO!$A$6:$F$115,6,FALSE) -> 7854.3998 | G30: =F30*E30 -> 7854.3998
A31: 1.2. | B31: Auxiliar de laboratório | C31: P9833 | D31: mês | E31: 2 | F31: =VLOOKUP(C31,[2]MO!$A$6:$F$115,6,FALSE) -> 5946.8743 | G31: =F31*E31 -> 11893.749
A32: 2. | B32: Veículos
B33: Discriminação | C33: Código SICRO | D33: Unidade | E33: Quantidade | F33: Utilização (h) | H33: Custo horário (R$) | J33: Custo Total | Q33: =G112+G42+G35+G106+G75+G97+G56+G23 -> #VALUE!
F34: Produtiva | G34: Improdutiva | H34: Produtivo | I34: Improdutivo
A35: 2.1. | B35: Veículo leve - 53 kW | C35: E9093 | D35: mês | E35: 1 | F35: 44 | G35: 176 | H35: =VLOOKUP($C35,[2]EQ!$A$5:$D$526,3,FALSE) -> 35.8043 | I35: =VLOOKUP($C35,[2]EQ!$A$5:$D$526,4,FALSE) -> 6.6485 | J35: =E35*(H35*F35+I35*G35) -> 2745.5252
A37: Total da mão de obra da equipe de laboratório de asfalto | E37: =SUM(E30:E31) -> 3 | G37: =(SUM(G30:G31))+J35 -> 22493.674
A39: Mão de obra da equipe de laboratório de concreto
A40: 1. | B40: Mão de obra
