Workbook
Name \0: #REF!
Name \a: #REF!
Name \I: #REF!
Name \I: #REF!
Name \S: [1]COMPOS1!#REF!
Name \S: #REF!
Name _: [2]PROJETO!#REF!
Name _: [2]PROJETO!#REF!
Name ______________________CAP20: #REF!
Name ______________________TB10: #REF!
Name ______________________TCB5: #REF!
Name ______________________tcc4: #REF!
Name _____________________CAP20: #REF!
Name _____________________TB10: #REF!
Name _____________________TCB5: #REF!
Name _____________________tcc4: #REF!
Name ____________________tcc4: #REF!
Name ___________________CAP20: #REF!
Name ___________________TB10: #REF!
Name ___________________TCB5: #REF!
Name ___________________tcc4: #REF!
Name __________________CAP20: #REF!
Name __________________PL1: #REF!
Name __________________PL1: #REF!
Name __________________TB10: #REF!
Name __________________TCB5: #REF!
Name __________________tcc4: #REF!
Name _________________CAP20: #REF!
Name _________________PL1: #REF!
Name _________________PL1: #REF!
Name _________________TB10: #REF!
Name _________________TCB5: #REF!
Name _________________tcc4: #REF!
Name ________________CAP20: #REF!
Name ________________PL1: #REF!
Name ________________PL1: #REF!
Name ________________TB10: #REF!
Name ________________TCB5: #REF!
Name ________________tcc4: #REF!
Name _______________CAP20: #REF!
Name _______________Ext2: '[3]P A T O 99 B'!#REF!
Name _______________Ext2: '[3]P A T O 99 B'!#REF!
Name _______________PL1: #REF!
Name _______________PL1: #REF!
Name _______________r: #REF!
Name _______________r: #REF!
Name _______________TB10: #REF!
Name _______________TCB5: #REF!
Name _______________tcc4: #REF!
Name ______________CAP20: #REF!
Name ______________Ext2: '[3]P A T O 99 B'!#REF!
Name ______________Ext2: '[3]P A T O 99 B'!#REF!
Name ______________PL1: #REF!
Name ______________PL1: #REF!
Name ______________r: #REF!
Name ______________r: #REF!
Name ______________Rbv1: '[4]Página 16'!$C$3:$C$7
Name ______________TB10: #REF!
Name ______________TCB5: #REF!
Name ______________tcc4: #REF!

Sheet RESUMO
A1: DISCRIMINAÇÃO (sub total dos itens do quadro de Quantidades) | D1: DATA BASE OUTUBRO/2025
A3: ITEM | B3: DESCRIÇÃO | C3: R$ | E3: %
A4: 1.0 | B4: =PLANILHA!D9 -> MOBILIZAÇÃO/DESMOBILIZAÇÃO | C4: =PLANILHA!I11 -> 99869 | E4: =C4/$C$16 -> 0.00083177279
A5: 2.0 | B5: =PLANILHA!D12 -> INSTALAÇÃO DO CANTEIRO DE OBRAS | C5: =PLANILHA!I19 -> 2134806.5 | E5: =C5/$C$16 -> 0.017780032
A6: 3.0 | B6: =PLANILHA!D20 -> ADMINISTRAÇÃO LOCAL DE OBRA | C6: =PLANILHA!I22 -> 7950634.7 | E6: =C6/$C$16 -> 0.066217962
A7: 4.0 | B7: =PLANILHA!D23 -> TERRAPLENAGEM | C7: =PLANILHA!I41 -> 8102214.4 | E7: =C7/$C$16 -> 0.067480414
A8: 5.0 | B8: =PLANILHA!D42 -> DRENAGEM | C8: =PLANILHA!I64 -> 13805842 | E8: =C8/$C$16 -> 0.11498387
A9: 6.0 | B9: =PLANILHA!D65 -> OBRAS DE ARTE CORRENTES | C9: =PLANILHA!I91 -> 1450048.7 | E9: =C9/$C$16 -> 0.012076931
A10: 7.0 | B10: =PLANILHA!D92 -> PAVIMENTAÇÃO | C10: =PLANILHA!I122 -> 81757222 | E10: =C10/$C$16 -> 0.68092633
A11: 8.0 | B11: =PLANILHA!D123 -> OBRAS DE ARTE ESPECIAIS - RESTAURAÇÃO | C11: =PLANILHA!I333 -> 1373547.9 | E11: =C11/$C$16 -> 0.011439784
A12: 9.0 | B12: =PLANILHA!D334 -> SINALIZAÇÃO | C12: =PLANILHA!I368 -> 1828989.5 | E12: =C12/$C$16 -> 0.015232992
A13: 10.0 | B13: =PLANILHA!D369 -> SINALIZAÇÃO DE OBRAS | C13: =PLANILHA!I382 -> 546355.66 | E13: =C13/$C$16 -> 0.0045503987
A14: 11.0 | B14: =PLANILHA!D383 -> OBRAS COMPLEMENTARES | C14: =PLANILHA!I400 -> 929385.12 | E14: =C14/$C$16 -> 0.0077405126
A15: 12.0 | B15: =PLANILHA!D401 -> PROTEÇÃO AMBIENTAL | C15: =PLANILHA!I405 -> 88730.03 | E15: =C15/$C$16 -> 0.00073900033
B16: TOTAL | C16: =SUM(C4:D15) -> 1.2006765e+08 | E16: =SUM(E4:E15) -> 1
A18: RODOVIA: PE - 120
A19: TRECHO: Entr. PE-126 (Catende) –Entr. BR-104 (Agrestina)
A20: EXTENSÃO: 41,60 Km
A21: RESUMO DE PREÇOS - ONERADO | D21: QD - 4.1
C24: =C16/41.6 -> 2886241.5 | F24: P/KM

Sheet PLANILHA
A2: RODOVIA: PE - 120 | G2: DATA BASE: | I2: 45931
A3: TRECHO: Entr. PE-126 (Catende) –Entr. BR-104 (Agrestina) | G3: BDI SERVIÇOS: | I3: 0.2064
G4: BDI DOS MATERIAIS: | I4: 0.1444
A5: PROJETO BÁSICO E EXECUTIVO DE ENGENHARIA PARA RESTAURAÇÃO DA RODOVIA PE-120
A7: DEMONSTRATIVO DO ORÇAMENTO - ONERADO
A8: Item | B8: Código | C8: Fonte | D8: Descrição | E8: Unid. | F8: Quantidade | G8: Custo Unit R$ | H8: Preço Unit R$ | I8: Total c/BDI | J8: BDI %
A9: 1.0 | D9: MOBILIZAÇÃO/DESMOBILIZAÇÃO
A10: 1.1 | C10: COMPOSIÇÃO | D10: MOBILIZAÇÃO E DESMOBILIZAÇÃO DE EQUIPAMENTOS | E10: UN | F10: 1 | G10: 82782.66 | H10: =IFERROR(ROUND((1+J10)*G10,2),0) -> 99869 | I10: =IFERROR(TRUNC(H10*F10,2),0) -> 99869 | J10: 0.2064
D11: SUBTOTAL 1. | I11: =SUBTOTAL(9,I10) -> 99869
A12: 2.0 | D12: INSTALAÇÃO DO CANTEIRO DE OBRAS
A13: 2.1 | B13: CP0002 | C13: COMPOSIÇÃO | D13: INSTALAÇÃO DO CANTEIRO DE OBRA | E13: UN | F13: 1 | G13: 1115617.9 | H13: =IFERROR(ROUND((1+J13)*G13,2),0) -> 1345881.4 | I13: =IFERROR(TRUNC(H13*F13,2),0) -> 1345881.4 | J13: 0.2064
A14: 2.2 | B14: 903802 | C14: COMPOSIÇÃO | D14: Bacia de contenção para tanque de emulsão de 30.000 l - inclusive demolição | E14: un | F14: 10 | G14: 16325.45 | H14: =IFERROR(ROUND((1+J14)*G14,2),0) -> 19695.02 | I14: =IFERROR(TRUNC(H14*F14,2),0) -> 196950.2 | J14: 0.2064
A15: 2.3 | B15: 903810 | C15: COMPOSIÇÃO | D15: Instalação da usina de asfalto a quente capacidade de 120 t/h | E15: un | F15: 1 | G15: 212676.4 | H15: =IFERROR(ROUND((1+J15)*G15,2),0) -> 256572.81 | I15: =IFERROR(TRUNC(H15*F15,2),0) -> 256572.81 | J15: 0.2064
A16: 2.4 | B16: 903808 | C16: COMPOSIÇÃO | D16: Instalação da usina misturadora de solos com capacidade de 300 t/h | E16: un | F16: 1 | G16: 127397.3 | H16: =IFERROR(ROUND((1+J16)*G16,2),0) -> 153692.1 | I16: =IFERROR(TRUNC(H16*F16,2),0) -> 153692.1 | J16: 0.2064
A17: 2.5 | B17: 903804 | C17: COMPOSIÇÃO | D17: Instalação da central de concreto com capacidade de 30 m³/h | E17: un | F17: 1 | G17: 74142.47 | H17: =IFERROR(ROUND((1+J17)*G17,2),0) -> 89445.48 | I17: =IFERROR(TRUNC(H17*F17,2),0) -> 89445.48 | J17: 0.2064
A18: 2.6 | B18: CP0003 | C18: COMPOSIÇÃO | D18: DESTINAÇÃO DE RESÍDUOS SÓLIDOS (METRALHA) | E18: T | F18: 823.57 | G18: 97.89 | H18: =IFERROR(ROUND((1+J18)*G18,2),0) -> 112.03 | I18: =IFERROR(TRUNC(H18*F18,2),0) -> 92264.54 | J18: 0.1444
D19: SUBTOTAL 2. | I19: =SUBTOTAL(9,I12:I18) -> 2134806.5
A20: 3.0 | D20: ADMINISTRAÇÃO LOCAL DE OBRA
A21: 3.1 | C21: COMPOSIÇÃO | D21: ADMINISTRAÇÃO LOCAL DE OBRA | E21: UN | F21: 1 | G21: 6590380.2 | H21: =IFERROR(ROUND((1+J21)*G21,2),0) -> 7950634.7 | I21: =IFERROR(TRUNC(H21*F21,2),0) -> 7950634.7 | J21: 0.2064
D22: SUBTOTAL 3. | I22: =SUBTOTAL(9,I20:I21) -> 7950634.7
A23: 4.0 | D23: TERRAPLENAGEM
A24: 4.1 | B24: 5501710 | C24: COMPOSIÇÃO | D24: Escavação, carga e transporte em material de 1ª categoria - DMT de 50 m | E24: m³ | F24: 12962.14 | G24: 3.77 | H24: =IFERROR(ROUND((1+J24)*G24,2),0) -> 4.55 | I24: =IFERROR(TRUNC(H24*F24,2),0) -> 58977.73 | J24: 0.2064
A25: 4.2 | B25: 5502161 | C25: COMPOSIÇÃO | D25: Escavação, carga e transporte de material de 1ª categoria - DMT de 50 a 200 m - caminho de serviço pavimentado - com escavadeira e caminhão basculante de 14 m³ | E25: m³ | F25: 1360.24 | G25: 5.68 | H25: =IFERROR(ROUND((1+J25)*G25,2),0) -> 6.85 | I25: =IFERROR(TRUNC(H25*F25,2),0) -> 9317.64 | J25: 0.2064
A26: 4.3 | B26: 5502162 | C26: COMPOSIÇÃO | D26: Escavação, carga e transporte de material de 1ª categoria - DMT de 200 a 400 m - caminho de serviço pavimentado - com escavadeira e caminhão basculante de 14 m³ | E26: m³ | F26: 1270.42 | G26: 6.43 | H26: =IFERROR(ROUND((1+J26)*G26,2),0) -> 7.76 | I26: =IFERROR(TRUNC(H26*F26,2),0) -> 9858.45 | J26: 0.2064
A27: 4.4 | B27: 5502163 | C27: COMPOSIÇÃO | D27: Escavação, carga e transporte de material de 1ª categoria - DMT de 400 a 600 m - caminho de serviço pavimentado - com escavadeira e caminhão basculante de 14 m³ | E27: m³ | F27: 102.55 | G27: 6.62 | H27: =IFERROR(ROUND((1+J27)*G27,2),0) -> 7.99 | I27: =IFERROR(TRUNC(H27*F27,2),0) -> 819.37 | J27: 0.2064
A28: 4.5 | B28: 5502164 | C28: COMPOSIÇÃO | D28: Escavação, carga e transporte de material de 1ª categoria - DMT de 600 a 800 m - caminho de serviço pavimentado - com escavadeira e caminhão basculante de 14 m³ | E28: m³ | F28: 2641.26 | G28: 6.81 | H28: =IFERROR(ROUND((1+J28)*G28,2),0) -> 8.22 | I28: =IFERROR(TRUNC(H28*F28,2),0) -> 21711.15 | J28: 0.2064
A29: 4.6 | B29: 5502165 | C29: COMPOSIÇÃO | D29: Escavação, carga e transporte de material de 1ª categoria - DMT de 800 a 1.000 m - caminho de serviço pavimentado - com escavadeira e caminhão basculante de 14 m³ | E29: m³ | F29: 567.94 | G29: 7 | H29: =IFERROR(ROUND((1+J29)*G29,2),0) -> 8.44 | I29: =IFERROR(TRUNC(H29*F29,2),0) -> 4793.41 | J29: 0.2064
A30: 4.7 | B30: 5502166 | C30: COMPOSIÇÃO | D30: Escavação, carga e transporte de material de 1ª categoria - DMT de 1.000 a 1.200 m - caminho de serviço pavimentado - com escavadeira e caminhão basculante de 14 m³ | E30: m³ | F30: 3133.26 | G30: 7.65 | H30: =IFERROR(ROUND((1+J30)*G30,2),0) -> 9.23 | I30: =IFERROR(TRUNC(H30*F30,2),0) -> 28919.98 | J30: 0.2064
A31: 4.8 | B31: 5502167 | C31: COMPOSIÇÃO | D31: Escavação, carga e transporte de material de 1ª categoria - DMT de 1.200 a 1.400 m - caminho de serviço pavimentado - com escavadeira e caminhão basculante de 14 m³ | E31: m³ | F31: 9.74 | G31: 7.79 | H31: =IFERROR(ROUND((1+J31)*G31,2),0) -> 9.4 | I31: =IFERROR(TRUNC(H31*F31,2),0) -> 91.55 | J31: 0.2064
A32: 4.9 | B32: 5502168 | C32: COMPOSIÇÃO | D32: Escavação, carga e transporte de material de 1ª categoria - DMT de 1.400 a 1.600 m - caminho de serviço pavimentado - com escavadeira e caminhão basculante de 14 m³ | E32: m³ | F32: 15.59 | G32: 7.93 | H32: =IFERROR(ROUND((1+J32)*G32,2),0) -> 9.57 | I32: =IFERROR(TRUNC(H32*F32,2),0) -> 149.19 | J32: 0.2064
A33: 4.10 | B33: 5502169 | C33: COMPOSIÇÃO | D33: Escavação, carga e transporte de material de 1ª categoria - DMT de 1.600 a 1.800 m - caminho de serviço pavimentado - com escavadeira e caminhão basculante de 14 m³ | E33: m³ | F33: 160.67 | G33: 8.12 | H33: =IFERROR(ROUND((1+J33)*G33,2),0) -> 9.8 | I33: =IFERROR(TRUNC(H33*F33,2),0) -> 1574.56 | J33: 0.2064
A34: 4.11 | B34: 5502170 | C34: COMPOSIÇÃO | D34: Escavação, carga e transporte de material de 1ª categoria - DMT de 1.800 a 2.000 m - caminho de serviço pavimentado - com escavadeira e caminhão basculante de 14 m³ | E34: m³ | F34: 1107.22 | G34: 8.26 | H34: =IFERROR(ROUND((1+J34)*G34,2),0) -> 9.96 | I34: =IFERROR(TRUNC(H34*F34,2),0) -> 11027.91 | J34: 0.2064
A35: 4.12 | B35: CP0005 | C35: COMPOSIÇÃO | D35: Escavação, carga e transporte de material de 1ª categoria na | E35: m³ | F35: 66100.63 | G35: 74.52 | H35: =IFERROR(ROUND((1+J35)*G35,2),0) -> 89.9 | I35: =IFERROR(TRUNC(H35*F35,2),0) -> 5942446.6 | J35: 0.2064 | L35: 130099.26 | M35: 11695923
A36: 4.13 | B36: 5503041 | C36: COMPOSIÇÃO | D36: Compactação de aterros a 100% do Proctor intermediário | E36: m³ | F36: 21444.06 | G36: 6.65 | H36: =IFERROR(ROUND((1+J36)*G36,2),0) -> 8.02 | I36: =IFERROR(TRUNC(H36*F36,2),0) -> 171981.36 | J36: 0.2064
A37: 4.14 | B37: 5501700 | C37: COMPOSIÇÃO | D37: Desmatamento, destocamento e limpeza de área com árvores de diâmetro até 0,15 m | E37: m² | F37: 16.68 | G37: 0.72 | H37: =IFERROR(ROUND((1+J37)*G37,2),0) -> 0.87 | I37: =IFERROR(TRUNC(H37*F37,2),0) -> 14.51 | J37: 0.2064
A38: 4.15 | B38: 5501701 | C38: COMPOSIÇÃO | D38: Destocamento de árvores com diâmetro de 0,15 a 0,30 m | E38: un | F38: 8 | G38: 53.47 | H38: =IFERROR(ROUND((1+J38)*G38,2),0) -> 64.51 | I38: =IFERROR(TRUNC(H38*F38,2),0) -> 516.08 | J38: 0.2064
A39: 4.16 | B39: 5501702 | C39: COMPOSIÇÃO | D39: Destocamento de árvores com diâmetro maior que 0,30 m | E39: un | F39: 10 | G39: 133.67 | H39: =IFERROR(ROUND((1+J39)*G39,2),0) -> 161.26 | I39: =IFERROR(TRUNC(H39*F39,2),0) -> 1612.6 | J39: 0.2064
A40: 4.17 | B40: CP0006 | C40: COMPOSIÇÃO | D40: DESTINAÇÃO DE RESÍDUOS SÓLIDOS (SOLO) | E40: T | F40: 20787 | G40: 77.28 | H40: =IFERROR(ROUND((1+J40)*G40,2),0) -> 88.44 | I40: =IFERROR(TRUNC(H40*F40,2),0) -> 1838402.3 | J40: 0.1444 | L40: 14750642
D41: SUBTOTAL 4. | I41: =SUBTOTAL(9,I23:I40) -> 8102214.4
A42: 5.0 | D42: DRENAGEM
...

Sheet CURVA ABC
A1: DEMONSTRATIVO DA CURVA ABC DE SERVIÇOS
A2: CÓDIGO | B2: DESCRIÇÃO | C2: UND | D2: QUANT. | E2: PREÇO UNITÁRIO | F2: PREÇO TOTAL | G2: CURVA ABC
G3: % | H3: % ACUM
A4: CP0026 | B4: AQUISIÇÃO DE ASFALTO CAP 55/75-E | C4: T | D4: 2610.206 | E4: 7370.04 | F4: =TRUNC(E4*D4,2) -> 19237323 | G4: =F4/$F$173 -> 0.1602207 | H4: =G4 -> 0.1602207
A5: 4011278 | B5: Base ou sub-base de brita graduada tratada com cimento com brita comercial - 100% Proctor modificado | C5: m³ | D5: 37749.333 | E5: 313.46 | F5: =TRUNC(E5*D5,2) -> 11832906 | G5: =F5/$F$173 -> 0.098551994 | H5: =H4+G5 -> 0.2587727
A6: 4011466 | B6: Concreto asfáltico com asfalto polímero - faixa C - areia e brita comerciais | C6: t | D6: 43488.55 | E6: 256.67 | F6: =TRUNC(E6*D6,2) -> 11162206 | G6: =F6/$F$173 -> 0.092965978 | H6: =H5+G6 -> 0.35173868
A7: CP0001 | B7: ADMINISTRAÇÃO LOCAL | C7: UN | D7: 1 | E7: 7950634.7 | F7: =TRUNC(E7*D7,2) -> 7950634.7 | G7: =F7/$F$173 -> 0.066217962 | H7: =H6+G7 -> 0.41795664
A8: 4011520 | B8: Pavimento de concreto com equipamento de pequeno porte - areia e brita comerciais (Whitetopping) | C8: m³ | D8: 9970.8 | E8: 717.1 | F8: =TRUNC(E8*D8,2) -> 7150060.7 | G8: =F8/$F$173 -> 0.05955027 | H8: =H7+G8 -> 0.47750691
A9: 2003611 | B9: Dreno subsuperficial - DSS 04 - tubo PEAD e brita comercial | C9: m | D9: 83506 | E9: 75.85 | F9: =TRUNC(E9*D9,2) -> 6333930.1 | G9: =F9/$F$173 -> 0.052753013 | H9: =H8+G9 -> 0.53025992
A10: CP0005 | B10: Escavação, carga e transporte de material de 1ª categoria na | C10: m³ | D10: 66100.63 | E10: 89.9 | F10: =TRUNC(E10*D10,2) -> 5942446.6 | G10: =F10/$F$173 -> 0.049492489 | H10: =H9+G10 -> 0.57975241
A11: 4011276 | B11: Base ou sub-base de brita graduada com brita comercial - 100% Proctor modificado | C11: m³ | D11: 21201.25 | E11: 251.22 | F11: =TRUNC(E11*D11,2) -> 5326178 | G11: =F11/$F$173 -> 0.044359811 | H11: =H10+G11 -> 0.62411222
A12: CP0034 | B12: Aquisição de Emulsão asfáltica RR-2C | C12: t | D12: 1088.99 | E12: 4545.59 | F12: =TRUNC(E12*D12,2) -> 4950102 | G12: =F12/$F$173 -> 0.04122761 | H12: =H11+G12 -> 0.66533983
A13: CP0006 | B13: DESTINAÇÃO DE RESÍDUOS SÓLIDOS (SOLO) | C13: T | D13: 53156.83 | E13: 88.44 | F13: =TRUNC(E13*D13,2) -> 4701190 | G13: =F13/$F$173 -> 0.039154512 | H13: =H12+G13 -> 0.70449434
A14: 4011282 | B14: Base ou sub-base de macadame hidráulico com brita comercial - 100% Proctor modificado (Rachinha) | C14: m³ | D14: 22139.45 | E14: 208.07 | F14: =TRUNC(E14*D14,2) -> 4606555.4 | G14: =F14/$F$173 -> 0.038366334 | H14: =H13+G14 -> 0.74286068
A15: 4915669 | B15: Remoção mecanizada de camada granular do pavimento | C15: m³ | D15: 21579.88 | E15: 169.63 | F15: =TRUNC(E15*D15,2) -> 3660595 | G15: =F15/$F$173 -> 0.030487772 | H15: =H14+G15 -> 0.77334845
A16: 4915657 | B16: Fresagem contínua de revestimento asfáltico - espessura de 5 cm | C16: m³ | D16: 12097.226 | E16: 228.47 | F16: =TRUNC(E16*D16,2) -> 2763853.2 | G16: =F16/$F$173 -> 0.023019134 | H16: =H15+G16 -> 0.79636758
A17: CP0007 | B17: Dreno longitudinal profundo para corte em solo - DPS 07 - tubo PEAD e brita comercial | C17: m | D17: 9958.49 | E17: 220.86 | F17: =TRUNC(E17*D17,2) -> 2199432.1 | G17: =F17/$F$173 -> 0.018318275 | H17: =H16+G17 -> 0.81468586
A18: CP0028 | B18: TRANSPORTE DE CAP 55/75-E | C18: T | D18: 2610.206 | E18: 677.01 | F18: =TRUNC(E18*D18,2) -> 1767135.6 | G18: =F18/$F$173 -> 0.014717833 | H18: =H17+G18 -> 0.82940369
A19: 4011370 | B19: Tratamento superficial duplo com emulsão - brita comercial | C19: m² | D19: 243278.11 | E19: 7.25 | F19: =TRUNC(E19*D19,2) -> 1763766.3 | G19: =F19/$F$173 -> 0.014689772 | H19: =H18+G19 -> 0.84409346
A20: 1600989 | B20: Demolição de concreto simples com martelete | C20: m³ | D20: 2191.04 | E20: 692.71 | F20: =TRUNC(E20*D20,2) -> 1517755.3 | G20: =F20/$F$173 -> 0.012640835 | H20: =H19+G20 -> 0.8567343
A21: CP0002 | B21: INSTALAÇÃO DO CANTEIRO DE OBRA | C21: UN | D21: 1 | E21: 1345881.4 | F21: =TRUNC(E21*D21,2) -> 1345881.4 | G21: =F21/$F$173 -> 0.011209359 | H21: =H20+G21 -> 0.86794366
A22: 2003309 | B22: Valeta de proteção de cortes com revestimento de concreto - VPCC 120-30 - escavação mecânica - areia e brita comerciais | C22: m | D22: 9100 | E22: 114.32 | F22: =TRUNC(E22*D22,2) -> 1040312 | G22: =F22/$F$173 -> 0.0086643824 | H22: =H21+G22 -> 0.87660804
A23: 2003377 | B23: Meio-fio de concreto - MFC 05 - areia e brita comerciais - fôrma de madeira | C23: m | D23: 13471.8 | E23: 70.71 | F23: =TRUNC(E23*D23,2) -> 952590.97 | G23: =F23/$F$173 -> 0.0079337857 | H23: =H22+G23 -> 0.88454182
A24: CP0025 | B24: AQUISIÇÃO DE EMULSÃO ASFÁLTICA RR-1C | C24: T | D24: 169.841 | E24: 5446.09 | F24: =TRUNC(E24*D24,2) -> 924969.37 | G24: =F24/$F$173 -> 0.0077037354 | H24: =H23+G24 -> 0.89224556
A25: 2003257 | B25: Sarjeta triangular de concreto - STC 100-20 - escavação mecânica - areia e brita comerciais | C25: m | D25: 12960 | E25: 65.68 | F25: =TRUNC(E25*D25,2) -> 851212.8 | G25: =F25/$F$173 -> 0.0070894436 | H25: =H24+G25 -> 0.899335
A26: CP0003 | B26: DESTINAÇÃO DE RESÍDUOS SÓLIDOS (METRALHA) | C26: T | D26: 6611.93 | E26: 112.03 | F26: =TRUNC(E26*D26,2) -> 740734.51 | G26: =F26/$F$173 -> 0.0061693099 | H26: =H25+G26 -> 0.90550431
A27: CP0035 | B27: Transporte de Emulsão asfáltic RR-2C | C27: t | D27: 1088.99 | E27: 677.01 | F27: =TRUNC(E27*D27,2) -> 737257.11 | G27: =F27/$F$173 -> 0.0061403479 | H27: =H26+G27 -> 0.91164466
A28: 2003099 | B28: Transposição de segmentos de sarjeta - TSS 150 - areia e brita comerciais | C28: m | D28: 445 | E28: 1424.29 | F28: =TRUNC(E28*D28,2) -> 633809.05 | G28: =F28/$F$173 -> 0.0052787664 | H28: =H27+G28 -> 0.91692343
A29: 5213401 | B29: Pintura de faixa com tinta acrílica - espessura de 0,6 mm | C29: m² | D29: 15810.59 | E29: 34.73 | F29: =TRUNC(E29*D29,2) -> 549101.79 | G29: =F29/$F$173 -> 0.0045732702 | H29: =H28+G29 -> 0.9214967
A30: 5219631 | B30: Tacha refletiva em resina sintética - monodirecional tipo III - com um pino - fornecimento e colocação | C30: un | D30: 6518 | E30: 66.63 | F30: =TRUNC(E30*D30,2) -> 434294.34 | G30: =F30/$F$173 -> 0.0036170805 | H30: =H29+G30 -> 0.92511378
A31: 705225 | B31: Boca de BSCC 1,50 x 1,50 m - esconsidade 0° - areia e brita comerciais | C31: un | D31: 29 | E31: 14131.14 | F31: =TRUNC(E31*D31,2) -> 409803.06 | G31: =F31/$F$173 -> 0.0034131015 | H31: =H30+G31 -> 0.92852688
A32: 5213850 | B32: Operação de sinalização por bandeirola de tecido ou com placa metálica | C32: h | D32: 14203 | E32: 28.54 | F32: =TRUNC(E32*D32,2) -> 405353.62 | G32: =F32/$F$173 -> 0.0033760437 | H32: =H31+G32 -> 0.93190292
A33: 2003613 | B33: Boca de saída para dreno subsuperficial - BSD 03 - areia e brita comerciais | C33: un | D33: 2038 | E33: 187.03 | F33: =TRUNC(E33*D33,2) -> 381167.14 | G33: =F33/$F$173 -> 0.0031746033 | H33: =H32+G33 -> 0.93507753
A34: 4011209 | B34: Regularização do subleito - 100% Proctor intermediário | C34: m² | D34: 157694.36 | E34: 2.32 | F34: =TRUNC(E34*D34,2) -> 365850.91 | G34: =F34/$F$173 -> 0.0030470399 | H34: =H33+G34 -> 0.93812457
A35: 2003315 | B35: Valeta de proteção de aterros com revestimento de concreto - VPAC 120-30 - escavação mecânica - areia e brita comerciais | C35: m | D35: 2780 | E35: 114.32 | F35: =TRUNC(E35*D35,2) -> 317809.6 | G35: =F35/$F$173 -> 0.0026469212 | H35: =H34+G35 -> 0.94077149
A36: CP0047 | B36: Terminal absorvedor de energia de não abertura com nível de contenção TL3 para defensa metálica - fornecimento e implantação | C36: UN | D36: 16 | E36: 19524.05 | F36: =TRUNC(E36*D36,2) -> 312384.8 | G36: =F36/$F$173 -> 0.00260174 | H36: =H35+G36 -> 0.94337323
A37: CP0030 | B37: Defensa metálica dupla onda H1W4 - fornecimento e implantação | C37: M | D37: 1032 | E37: 294.31 | F37: =TRUNC(E37*D37,2) -> 303727.92 | G37: =F37/$F$173 -> 0.00252964 | H37: =H36+G37 -> 0.94590287
A38: 903810 | B38: Instalação da usina de asfalto a quente capacidade de 120 t/h | C38: un | D38: 1 | E38: 256572.81 | F38: =TRUNC(E38*D38,2) -> 256572.81 | G38: =F38/$F$173 -> 0.0021369022 | H38: =H37+G38 -> 0.94803977
A39: 4011214 | B39: Sub-base de concreto compactado com rolo - brita comercial | C39: m³ | D39: 745.5 | E39: 327.15 | F39: =TRUNC(E39*D39,2) -> 243890.32 | G39: =F39/$F$173 -> 0.0020312743 | H39: =H38+G39 -> 0.95007104
A40: 1207721 | B40: Concreto projetado via seca fck = 30 MPa aplicado em teto | C40: m³ | D40: 109.97 | E40: 2200.67 | F40: =TRUNC(E40*D40,2) -> 242007.67 | G40: =F40/$F$173 -> 0.0020155944 | H40: =H39+G40 -> 0.95208664
...

Sheet CRON
A2: PROJETO BÁSICO E EXECUTIVO DE ENGENHARIA PARA RESTAURAÇÃO DA RODOVIA PE-120
A3: RODOVIA: PE - 120
A4: TRECHO: Entr. PE-126 (Catende) –Entr. BR-104 (Agrestina)
A5: CRONOGRAMA FÍSICO FINANCEIRO
A6: ITEM | C6: VALOR R$ | D6: DIAS CORRIDOS
B7: ATIVIDADES | D7: 30 | J7: 60 | P7: 90 | V7: 120 | AB7: 150 | AH7: 180 | AN7: 210 | AT7: 240 | AZ7: 270 | BF7: 300 | BL7: 330 | BR7: 360 | BX7: 390 | CD7: 420 | CJ7: 450 | CP7: 480 | CV7: 510 | DB7: 540 | DH7: 570 | DN7: 600 | DT7: 630 | DZ7: 660 | EF7: 690 | EL7: 720
A9: 1.0 | B9: =RESUMO!B6 -> ADMINISTRAÇÃO LOCAL DE OBRA | C9: =C11/$EL$84 -> 0.066217962 | D9: =D11/$C$11 -> 0.0077945033 | E9: =E11/$B$11 -> #REF! | F9: =F11/$B$11 -> #REF! | G9: =G11/$B$11 -> #REF! | H9: =H11/$B$11 -> #REF! | I9: =I11/$B$11 -> #REF! | J9: =J11/$C$11 -> 0.010602677 | K9: =K11/$B$11 -> #REF! | L9: =L11/$B$11 -> #REF! | M9: =M11/$B$11 -> #REF! | N9: =N11/$B$11 -> #REF! | O9: =O11/$B$11 -> #REF! | P9: =P11/$C$11 -> 0.021241015 | Q9: =Q11/$B$11 -> #REF! | R9: =R11/$B$11 -> #REF! | S9: =S11/$B$11 -> #REF! | T9: =T11/$B$11 -> #REF! | U9: =U11/$B$11 -> #REF! | V9: =V11/$C$11 -> 0.061096564 | W9: =W11/$B$11 -> #REF! | X9: =X11/$B$11 -> #REF! | Y9: =Y11/$B$11 -> #REF! | Z9: =Z11/$B$11 -> #REF! | AA9: =AA11/$B$11 -> #REF! | AB9: =AB11/$C$11 -> 0.061096564 | AC9: =AC11/$B$11 -> #REF! | AD9: =AD11/$B$11 -> #REF! | AE9: =AE11/$B$11 -> #REF! | AF9: =AF11/$B$11 -> #REF! | AG9: =AG11/$B$11 -> #REF! | AH9: =AH11/$C$11 -> 0.059803229 | AI9: =AI11/$B$11 -> #REF! | AJ9: =AJ11/$B$11 -> #REF! | AK9: =AK11/$B$11 -> #REF! | AL9: =AL11/$B$11 -> #REF! | AM9: =AM11/$B$11 -> #REF! | AN9: =AN11/$C$11 -> 0.067095363 | AO9: =AO11/$B$11 -> #REF! | AP9: =AP11/$B$11 -> #REF! | AQ9: =AQ11/$B$11 -> #REF! | AR9: =AR11/$B$11 -> #REF! | AS9: =AS11/$B$11 -> #REF! | AT9: =AT11/$C$11 -> 0.065826836 | AU9: =AU11/$B$11 -> #REF! | AV9: =AV11/$B$11 -> #REF! | AW9: =AW11/$B$11 -> #REF! | AX9: =AX11/$B$11 -> #REF! | AY9: =AY11/$B$11 -> #REF! | AZ9: =AZ11/$C$11 -> 0.065826836 | BA9: =BA11/$B$11 -> #REF! | BB9: =BB11/$B$11 -> #REF! | BC9: =BC11/$B$11 -> #REF! | BD9: =BD11/$B$11 -> #REF! | BE9: =BE11/$B$11 -> #REF! | BF9: =BF11/$C$11 -> 0.065826836 | BG9: =BG11/$B$11 -> #REF! | BH9: =BH11/$B$11 -> #REF! | BI9: =BI11/$B$11 -> #REF! | BJ9: =BJ11/$B$11 -> #REF! | BK9: =BK11/$B$11 -> #REF! | BL9: =BL11/$C$11 -> 0.065826836 | BM9: =BM11/$B$11 -> #REF! | BN9: =BN11/$B$11 -> #REF! | BO9: =BO11/$B$11 -> #REF! | BP9: =BP11/$B$11 -> #REF! | BQ9: =BQ11/$B$11 -> #REF! | BR9: =BR11/$C$11 -> 0.058600266 | BS9: =BS11/$B$11 -> #REF! | BT9: =BT11/$B$11 -> #REF! | BU9: =BU11/$B$11 -> #REF! | BV9: =BV11/$B$11 -> #REF! | BW9: =BW11/$B$11 -> #REF! | BX9: =BX11/$C$11 -> 0.058355246 | BY9: =BY11/$B$11 -> #REF! | BZ9: =BZ11/$B$11 -> #REF! | CA9: =CA11/$B$11 -> #REF! | CB9: =CB11/$B$11 -> #REF! | CC9: =CC11/$B$11 -> #REF! | CD9: =CD11/$C$11 -> 0.058355246 | CE9: =CE11/$B$11 -> #REF! | CF9: =CF11/$B$11 -> #REF! | CG9: =CG11/$B$11 -> #REF! | CH9: =CH11/$B$11 -> #REF! | CI9: =CI11/$B$11 -> #REF! | CJ9: =CJ11/$C$11 -> 0.052720996 | CK9: =CK11/$B$11 -> #REF! | CL9: =CL11/$B$11 -> #REF! | CM9: =CM11/$B$11 -> #REF! | CN9: =CN11/$B$11 -> #REF! | CO9: =CO11/$B$11 -> #REF! | CP9: =CP11/$C$11 -> 0.045428863 | CQ9: =CQ11/$B$11 -> #REF! | CR9: =CR11/$B$11 -> #REF! | CS9: =CS11/$B$11 -> #REF! | CT9: =CT11/$B$11 -> #REF! | CU9: =CU11/$B$11 -> #REF! | CV9: =CV11/$C$11 -> 0.044282901 | CW9: =CW11/$B$11 -> #REF! | CX9: =CX11/$B$11 -> #REF! | CY9: =CY11/$B$11 -> #REF! | CZ9: =CZ11/$B$11 -> #REF! | DA9: =DA11/$B$11 -> #REF! | DB9: =DB11/$C$11 -> 0.044282901 | DC9: =DC11/$B$11 -> #REF! | DD9: =DD11/$B$11 -> #REF! | DE9: =DE11/$B$11 -> #REF! | DF9: =DF11/$B$11 -> #REF! | DG9: =DG11/$B$11 -> #REF! | DH9: =DH11/$C$11 -> 0.044282901 | DI9: =DI11/$B$11 -> #REF! | DJ9: =DJ11/$B$11 -> #REF! | DK9: =DK11/$B$11 -> #REF! | DL9: =DL11/$B$11 -> #REF! | DM9: =DM11/$B$11 -> #REF! | DN9: =DN11/$C$11 -> 0.0061643493 | DO9: =DO11/$B$11 -> #REF! | DP9: =DP11/$B$11 -> #REF! | DQ9: =DQ11/$B$11 -> #REF! | DR9: =DR11/$B$11 -> #REF! | DS9: =DS11/$B$11 -> #REF! | DT9: =DT11/$C$11 -> 0.0062039195 | DU9: =DU11/$B$11 -> #REF! | DV9: =DV11/$B$11 -> #REF! | DW9: =DW11/$B$11 -> #REF! | DX9: =DX11/$B$11 -> #REF! | DY9: =DY11/$B$11 -> #REF! | DZ9: =DZ11/$C$11 -> 0.0062929952 | EA9: =EA11/$B$11 -> #REF! | EB9: =EB11/$B$11 -> #REF! | EC9: =EC11/$B$11 -> #REF! | ED9: =ED11/$B$11 -> #REF! | EE9: =EE11/$B$11 -> #REF! | EF9: =EF11/$C$11 -> 0.014538681 | EG9: =EG11/$B$11 -> #REF! | EH9: =EH11/$B$11 -> #REF! | EI9: =EI11/$B$11 -> #REF! | EJ9: =EJ11/$B$11 -> #REF! | EK9: =EK11/$B$11 -> #REF! | EL9: =EL11/$C$11 -> 0.0084534723 | EM9: =EM11/$B$11 -> #REF! | EN9: =EN11/$B$11 -> #REF! | EO9: =EO11/$B$11 -> #REF! | EP9: =EP11/$B$11 -> #REF! | EQ9: =EQ11/$B$11 -> #REF!
C11: =RESUMO!C6 -> 7950634.7 | D11: =(D14+D17+D20)*$C$86 -> 61971.249 | E11: =(E14+E17+E20+E23+E29+E32+E35)*#REF! -> #REF! | F11: =(F14+F17+F20+F23+F29+F32+F35)*#REF! -> #REF! | G11: =(G14+G17+G20+G23+G29+G32+G35)*#REF! -> #REF! | H11: =(H14+H17+H20+H23+H29+H32+H35)*#REF! -> #REF! | I11: =(I14+I17+I20+I23+I29+I32+I35)*#REF! -> #REF! | J11: =(J14+J17+J20+J23+J29+J26+J35+J38+J41+J44+J47+J50+J53+J56+J59+J62+J77+J80)*$C$86 -> 84298.015 | K11: =(K14+K17+K20+K23+K29+K32+K35)*#REF! -> #REF! | L11: =(L14+L17+L20+L23+L29+L32+L35)*#REF! -> #REF! | M11: =(M14+M17+M20+M23+M29+M32+M35)*#REF! -> #REF! | N11: =(N14+N17+N20+N23+N29+N32+N35)*#REF! -> #REF! | O11: =(O14+O17+O20+O23+O29+O32+O35)*#REF! -> #REF! | P11: =(P14+P17+P20+P23+P29+P26+P35+P38+P41+P44+P47+P50+P53+P56+P59+P62+P77+P80)*$C$86 -> 168879.55 | Q11: =(Q14+Q17+Q20+Q23+Q29+Q32+Q35)*#REF! -> #REF! | R11: =(R14+R17+R20+R23+R29+R32+R35)*#REF! -> #REF! | S11: =(S14+S17+S20+S23+S29+S32+S35)*#REF! -> #REF! | T11: =(T14+T17+T20+T23+T29+T32+T35)*#REF! -> #REF! | U11: =(U14+U17+U20+U23+U29+U32+U35)*#REF! -> #REF! | V11: =(V14+V17+V20+V23+V29+V26+V35+V38+V41+V44+V47+V50+V53+V56+V59+V62+V77+V80)*$C$86 -> 485756.47 | W11: =(W14+W17+W20+W23+W29+W32+W35)*#REF! -> #REF! | X11: =(X14+X17+X20+X23+X29+X32+X35)*#REF! -> #REF! | Y11: =(Y14+Y17+Y20+Y23+Y29+Y32+Y35)*#REF! -> #REF! | Z11: =(Z14+Z17+Z20+Z23+Z29+Z32+Z35)*#REF! -> #REF! | AA11: =(AA14+AA17+AA20+AA23+AA29+AA32+AA35)*#REF! -> #REF! | AB11: =(AB14+AB17+AB20+AB23+AB29+AB26+AB35+AB38+AB41+AB44+AB47+AB50+AB53+AB56+AB59+AB62+AB77+AB80)*$C$86 -> 485756.47 | AC11: =(AC14+AC17+AC20+AC23+AC29+AC32+AC35)*#REF! -> #REF! | AD11: =(AD14+AD17+AD20+AD23+AD29+AD32+AD35)*#REF! -> #REF! | AE11: =(AE14+AE17+AE20+AE23+AE29+AE32+AE35)*#REF! -> #REF! | AF11: =(AF14+AF17+AF20+AF23+AF29+AF32+AF35)*#REF! -> #REF! | AG11: =(AG14+AG17+AG20+AG23+AG29+AG32+AG35)*#REF! -> #REF! | AH11: =(AH14+AH17+AH20+AH23+AH29+AH26+AH35+AH38+AH41+AH44+AH47+AH50+AH53+AH56+AH59+AH62+AH77+AH80)*$C$86 -> 475473.63 | AI11: =(AI14+AI17+AI20+AI23+AI29+AI32+AI35)*#REF! -> #REF! | AJ11: =(AJ14+AJ17+AJ20+AJ23+AJ29+AJ32+AJ35)*#REF! -> #REF! | AK11: =(AK14+AK17+AK20+AK23+AK29+AK32+AK35)*#REF! -> #REF! | AL11: =(AL14+AL17+AL20+AL23+AL29+AL32+AL35)*#REF! -> #REF! | AM11: =(AM14+AM17+AM20+AM23+AM29+AM32+AM35)*#REF! -> #REF! | AN11: =(AN14+AN17+AN20+AN23+AN29+AN32+AN26+AN38+AN41+AN44+AN47+AN50+AN53+AN56+AN59+AN62+AN77+AN80)*$C$86 -> 533450.72 | AO11: =(AO14+AO17+AO20+AO23+AO29+AO32+AO35)*#REF! -> #REF! | AP11: =(AP14+AP17+AP20+AP23+AP29+AP32+AP35)*#REF! -> #REF! | AQ11: =(AQ14+AQ17+AQ20+AQ23+AQ29+AQ32+AQ35)*#REF! -> #REF! | AR11: =(AR14+AR17+AR20+AR23+AR29+AR32+AR35)*#REF! -> #REF! | AS11: =(AS14+AS17+AS20+AS23+AS29+AS32+AS35)*#REF! -> #REF! | AT11: =(AT14+AT17+AT20+AT23+AT29+AT32+AT26+AT38+AT41+AT44+AT47+AT50+AT53+AT56+AT59+AT62+AT77+AT80)*$C$86 -> 523365.13 | AU11: =(AU14+AU17+AU20+AU23+AU29+AU32+AU35)*#REF! -> #REF! | AV11: =(AV14+AV17+AV20+AV23+AV29+AV32+AV35)*#REF! -> #REF! | AW11: =(AW14+AW17+AW20+AW23+AW29+AW32+AW35)*#REF! -> #REF! | AX11: =(AX14+AX17+AX20+AX23+AX29+AX32+AX35)*#REF! -> #REF! | AY11: =(AY14+AY17+AY20+AY23+AY29+AY32+AY35)*#REF! -> #REF! | AZ11: =(AZ14+AZ17+AZ20+AZ23+AZ29+AZ32+AZ26+AZ38+AZ41+AZ44+AZ47+AZ50+AZ53+AZ56+AZ59+AZ62+AZ77+AZ80)*$C$86 -> 523365.13 | BA11: =(BA14+BA17+BA20+BA23+BA29+BA32+BA35)*#REF! -> #REF! | BB11: =(BB14+BB17+BB20+BB23+BB29+BB32+BB35)*#REF! -> #REF! | BC11: =(BC14+BC17+BC20+BC23+BC29+BC32+BC35)*#REF! -> #REF! | BD11: =(BD14+BD17+BD20+BD23+BD29+BD32+BD35)*#REF! -> #REF! | BE11: =(BE14+BE17+BE20+BE23+BE29+BE32+BE35)*#REF! -> #REF! | BF11: =(BF14+BF17+BF20+BF23+BF29+BF32+BF26+BF38+BF41+BF44+BF47+BF50+BF53+BF56+BF59+BF62+BF77+BF80)*$C$86 -> 523365.13 | BG11: =(BG14+BG17+BG20+BG23+BG29+BG32+BG35)*#REF! -> #REF! | BH11: =(BH14+BH17+BH20+BH23+BH29+BH32+BH35)*#REF! -> #REF! | BI11: =(BI14+BI17+BI20+BI23+BI29+BI32+BI35)*#REF! -> #REF! | BJ11: =(BJ14+BJ17+BJ20+BJ23+BJ29+BJ32+BJ35)*#REF! -> #REF! | BK11: =(BK14+BK17+BK20+BK23+BK29+BK32+BK35)*#REF! -> #REF! | BL11: =(BL14+BL17+BL20+BL23+BL29+BL32+BL26+BL38+BL41+BL44+BL47+BL50+BL53+BL56+BL59+BL62+BL77+BL80)*$C$86 -> 523365.13 | BM11: =(BM14+BM17+BM20+BM23+BM29+BM32+BM35)*#REF! -> #REF! | BN11: =(BN14+BN17+BN20+BN23+BN29+BN32+BN35)*#REF! -> #REF! | BO11: =(BO14+BO17+BO20+BO23+BO29+BO32+BO35)*#REF! -> #REF! | BP11: =(BP14+BP17+BP20+BP23+BP29+BP32+BP35)*#REF! -> #REF! | BQ11: =(BQ14+BQ17+BQ20+BQ23+BQ29+BQ32+BQ35)*#REF! -> #REF! | BR11: =(BR14+BR17+BR20+BR23+BR29+BR32+BR26+BR38+BR41+BR44+BR47+BR50+BR53+BR56+BR59+BR62+BR77+BR80)*$C$86 -> 465909.31 | BS11: =(BS14+BS17+BS20+BS23+BS29+BS32+BS35)*#REF! -> #REF! | BT11: =(BT14+BT17+BT20+BT23+BT29+BT32+BT35)*#REF! -> #REF! | BU11: =(BU14+BU17+BU20+BU23+BU29+BU32+BU35)*#REF! -> #REF! | BV11: =(BV14+BV17+BV20+BV23+BV29+BV32+BV35)*#REF! -> #REF! | BW11: =(BW14+BW17+BW20+BW23+BW29+BW32+BW35)*#REF! -> #REF! | BX11: =(BX14+BX17+BX20+BX23+BX29+BX32+BX26+BX38+BX41+BX44+BX47+BX50+BX53+BX56+BX59+BX62+BX77+BX80)*$C$86 -> 463961.24 | BY11: =(BY14+BY17+BY20+BY23+BY29+BY32+BY35)*#REF! -> #REF! | BZ11: =(BZ14+BZ17+BZ20+BZ23+BZ29+BZ32+BZ35)*#REF! -> #REF! | CA11: =(CA14+CA17+CA20+CA23+CA29+CA32+CA35)*#REF! -> #REF! | CB11: =(CB14+CB17+CB20+CB23+CB29+CB32+CB35)*#REF! -> #REF! | CC11: =(CC14+CC17+CC20+CC23+CC29+CC32+CC35)*#REF! -> #REF! | CD11: =(CD14+CD17+CD20+CD23+CD29+CD32+CD26+CD38+CD41+CD44+CD47+CD50+CD53+CD56+CD59+CD62+CD77+CD80)*$C$86 -> 463961.24 | CE11: =(CE14+CE17+CE20+CE23+CE29+CE32+CE35)*#REF! -> #REF! | CF11: =(CF14+CF17+CF20+CF23+CF29+CF32+CF35)*#REF! -> #REF! | CG11: =(CG14+CG17+CG20+CG23+CG29+CG32+CG35)*#REF! -> #REF! | CH11: =(CH14+CH17+CH20+CH23+CH29+CH32+CH35)*#REF! -> #REF! | CI11: =(CI14+CI17+CI20+CI23+CI29+CI32+CI35)*#REF! -> #REF! | CJ11: =(CJ14+CJ17+CJ20+CJ23+CJ29+CJ32+CJ35+CJ38+CJ41+CJ44+CJ47+CJ50+CJ53+CJ56+CJ59+CJ62+CJ77+CJ80)*$C$86 -> 419165.39 | CK11: =(CK14+CK17+CK20+CK23+CK29+CK32+CK35)*#REF! -> #REF! | CL11: =(CL14+CL17+CL20+CL23+CL29+CL32+CL35)*#REF! -> #REF! | CM11: =(CM14+CM17+CM20+CM23+CM29+CM32+CM35)*#REF! -> #REF! | CN11: =(CN14+CN17+CN20+CN23+CN29+CN32+CN35)*#REF! -> #REF! | CO11: =(CO14+CO17+CO20+CO23+CO29+CO32+CO35)*#REF! -> #REF! | CP11: =(CP14+CP17+CP20+CP23+CP29+CP32+CP35+CP38+CP41+CP44+CP47+CP50+CP53+CP56+CP59+CP62+CP77+CP80)*$C$86 -> 361188.3 | CQ11: =(CQ14+CQ17+CQ20+CQ23+CQ29+CQ32+CQ35)*#REF! -> #REF! | CR11: =(CR14+CR17+CR20+CR23+CR29+CR32+CR35)*#REF! -> #REF! | CS11: =(CS14+CS17+CS20+CS23+CS29+CS32+CS35)*#REF! -> #REF! | CT11: =(CT14+CT17+CT20+CT23+CT29+CT32+CT35)*#REF! -> #REF! | CU11: =(CU14+CU17+CU20+CU23+CU29+CU32+CU35)*#REF! -> #REF! | CV11: =(CV14+CV17+CV20+CV23+CV29+CV32+CV35+CV38+CV41+CV44+CV47+CV50+CV53+CV56+CV59+CV62+CV77+CV80)*$C$86 -> 352077.17 | CW11: =(CW14+CW17+CW20+CW23+CW29+CW32+CW35)*#REF! -> #REF! | CX11: =(CX14+CX17+CX20+CX23+CX29+CX32+CX35)*#REF! -> #REF! | CY11: =(CY14+CY17+CY20+CY23+CY29+CY32+CY35)*#REF! -> #REF! | CZ11: =(CZ14+CZ17+CZ20+CZ23+CZ29+CZ32+CZ35)*#REF! -> #REF! | DA11: =(DA14+DA17+DA20+DA23+DA29+DA32+DA35)*#REF! -> #REF! | DB11: =(DB14+DB17+DB20+DB23+DB29+DB32+DB35+DB38+DB41+DB44+DB47+DB50+DB53+DB56+DB59+DB62+DB77+DB80)*$C$86 -> 352077.17 | DC11: =(DC14+DC17+DC20+DC23+DC29+DC32+DC35)*#REF! -> #REF! | DD11: =(DD14+DD17+DD20+DD23+DD29+DD32+DD35)*#REF! -> #REF! | DE11: =(DE14+DE17+DE20+DE23+DE29+DE32+DE35)*#REF! -> #REF! | DF11: =(DF14+DF17+DF20+DF23+DF29+DF32+DF35)*#REF! -> #REF! | DG11: =(DG14+DG17+DG20+DG23+DG29+DG32+DG35)*#REF! -> #REF! | DH11: =(DH14+DH17+DH20+DH23+DH29+DH32+DH35+DH38+DH41+DH44+DH47+DH50+DH53+DH56+DH59+DH62+DH77+DH80)*$C$86 -> 352077.17 | DI11: =(DI14+DI17+DI20+DI23+DI29+DI32+DI35)*#REF! -> #REF! | DJ11: =(DJ14+DJ17+DJ20+DJ23+DJ29+DJ32+DJ35)*#REF! -> #REF! | DK11: =(DK14+DK17+DK20+DK23+DK29+DK32+DK35)*#REF! -> #REF! | DL11: =(DL14+DL17+DL20+DL23+DL29+DL32+DL35)*#REF! -> #REF! | DM11: =(DM14+DM17+DM20+DM23+DM29+DM32+DM35)*#REF! -> #REF! | DN11: =(DN14+DN17+DN20+DN23+DN29+DN32+DN35+DN38+DN41+DN44+DN47+DN50+DN53+DN56+DN59+DN62+DN77+DN80)*$C$86 -> 49010.489 | DO11: =(DO14+DO17+DO20+DO23+DO29+DO32+DO35)*#REF! -> #REF! | DP11: =(DP14+DP17+DP20+DP23+DP29+DP32+DP35)*#REF! -> #REF! | DQ11: =(DQ14+DQ17+DQ20+DQ23+DQ29+DQ32+DQ35)*#REF! -> #REF! | DR11: =(DR14+DR17+DR20+DR23+DR29+DR32+DR35)*#REF! -> #REF! | DS11: =(DS14+DS17+DS20+DS23+DS29+DS32+DS35)*#REF! -> #REF! | DT11: =(DT14+DT17+DT20+DT23+DT29+DT32+DT35+DT38+DT41+DT44+DT47+DT50+DT53+DT56+DT59+DT62+DT77+DT80)*$C$86 -> 49325.098 | DU11: =(DU14+DU17+DU20+DU23+DU29+DU32+DU35)*#REF! -> #REF! | DV11: =(DV14+DV17+DV20+DV23+DV29+DV32+DV35)*#REF! -> #REF! | DW11: =(DW14+DW17+DW20+DW23+DW29+DW32+DW35)*#REF! -> #REF! | DX11: =(DX14+DX17+DX20+DX23+DX29+DX32+DX35)*#REF! -> #REF! | DY11: =(DY14+DY17+DY20+DY23+DY29+DY32+DY35)*#REF! -> #REF! | DZ11: =(DZ14+DZ17+DZ20+DZ23+DZ29+DZ32+DZ35+DZ38+DZ41+DZ44+DZ47+DZ50+DZ53+DZ56+DZ59+DZ62+DZ77+DZ80)*$C$86 -> 50033.306 | EA11: =(EA14+EA17+EA20+EA23+EA29+EA32+EA35)*#REF! -> #REF! | EB11: =(EB14+EB17+EB20+EB23+EB29+EB32+EB35)*#REF! -> #REF! | EC11: =(EC14+EC17+EC20+EC23+EC29+EC32+EC35)*#REF! -> #REF! | ED11: =(ED14+ED17+ED20+ED23+ED29+ED32+ED35)*#REF! -> #REF! | EE11: =(EE14+EE17+EE20+EE23+EE29+EE32+EE35)*#REF! -> #REF! | EF11: =(EF14+EF17+EF20+EF23+EF29+EF32+EF35+EF38+EF41+EF44+EF47+EF50+EF53+EF56+EF59+EF62+EF77+EF80)*$C$86 -> 115591.74 | EG11: =(EG14+EG17+EG20+EG23+EG29+EG32+EG35)*#REF! -> #REF! | EH11: =(EH14+EH17+EH20+EH23+EH29+EH32+EH35)*#REF! -> #REF! | EI11: =(EI14+EI17+EI20+EI23+EI29+EI32+EI35)*#REF! -> #REF! | EJ11: =(EJ14+EJ17+EJ20+EJ23+EJ29+EJ32+EJ35)*#REF! -> #REF! | EK11: =(EK14+EK17+EK20+EK23+EK29+EK32+EK35)*#REF! -> #REF! | EL11: =(EL14+EL17+EL20+EL23+EL29+EL32+EL35+EL38+EL41+EL44+EL47+EL50+EL53+EL56+EL59+EL62+EL77+EL80)*$C$86 -> 67210.47 | EM11: =(EM14+EM17+EM20+EM23+EM29+EM32+EM35)*#REF! -> #REF! | EN11: =(EN14+EN17+EN20+EN23+EN29+EN32+EN35)*#REF! -> #REF! | EO11: =(EO14+EO17+EO20+EO23+EO29+EO32+EO35)*#REF! -> #REF! | EP11: =(EP14+EP17+EP20+EP23+EP29+EP32+EP35)*#REF! -> #REF! | EQ11: =(EQ14+EQ17+EQ20+EQ23+EQ29+EQ32+EQ35)*#REF! -> #REF!
A12: 2.0 | B12: =PLANILHA!D12 -> INSTALAÇÃO DO CANTEIRO DE OBRAS | C12: =C14/$EL$84 -> 0.017780032 | D12: 0.4 | J12: 0.4 | P12: 0.2
C14: =PLANILHA!I19 -> 2134806.5 | D14: =C14*D12 -> 853922.61 | J14: =C14*J12 -> 853922.61 | P14: =C14*P12 -> 426961.31 | ER14: =SUM(D14:EQ14) -> 2134806.5 | ES14: =C14-ER14 -> 0
A15: 3.0 | B15: =RESUMO!B4 -> MOBILIZAÇÃO/DESMOBILIZAÇÃO | C15: =C17/$EL$84 -> 0.00083177279 | D15: 0.2 | J15: 0.2 | P15: 0.1 | DZ15: 0.1 | EF15: 0.2 | EL15: 0.2
C17: =RESUMO!C4 -> 99869 | D17: =D15*$C$17 -> 19973.8 | J17: =J15*$C$17 -> 19973.8 | P17: =P15*$C$17 -> 9986.9 | DZ17: =DZ15*$C$17 -> 9986.9 | EF17: =EF15*$C$17 -> 19973.8 | EL17: =EL15*$C$17 -> 19973.8 | ER17: =SUM(D17:EQ17) -> 99869 | ES17: =C17-ER17 -> 0
A18: 4.0 | B18: =RESUMO!B7 -> TERRAPLENAGEM | C18: =C20/$EL$84 -> 0.067480414 | P18: 0.12 | V18: 0.12 | AB18: 0.12 | AH18: 0.12 | AN18: 0.12 | AT18: 0.1 | AZ18: 0.1 | BF18: 0.1 | BL18: 0.1
C20: =RESUMO!C7 -> 8102214.4 | P20: =P18*$C$20 -> 972265.73 | V20: =V18*$C$20 -> 972265.73 | AB20: =AB18*$C$20 -> 972265.73 | AH20: =AH18*$C$20 -> 972265.73 | AN20: =AN18*$C$20 -> 972265.73 | AT20: =AT18*$C$20 -> 810221.44 | AZ20: =AZ18*$C$20 -> 810221.44 | BF20: =BF18*$C$20 -> 810221.44 | BL20: =BL18*$C$20 -> 810221.44 | ER20: =SUM(D20:EQ20) -> 8102214.4 | ES20: =C20-ER20 -> 0
A21: 5.0 | B21: =RESUMO!B8 -> DRENAGEM | C21: =C23/$EL$84 -> 0.11498387 | P21: =1/21 -> 0.047619048 | V21: =1/21 -> 0.047619048 | AB21: =1/21 -> 0.047619048 | AH21: =1/21 -> 0.047619048 | AN21: =1/21 -> 0.047619048 | AT21: =1/21 -> 0.047619048 | AZ21: =1/21 -> 0.047619048 | BF21: =1/21 -> 0.047619048 | BL21: =1/21 -> 0.047619048 | BR21: =1/21 -> 0.047619048 | BX21: =1/21 -> 0.047619048 | CD21: =1/21 -> 0.047619048 | CJ21: =1/21 -> 0.047619048 | CP21: =1/21 -> 0.047619048 | CV21: =1/21 -> 0.047619048 | DB21: =1/21 -> 0.047619048 | DH21: =1/21 -> 0.047619048 | DN21: =1/21 -> 0.047619048 | DT21: =1/21 -> 0.047619048 | DZ21: =1/21 -> 0.047619048 | EF21: =1/21 -> 0.047619048
C23: =RESUMO!C8 -> 13805842 | P23: =P21*$C$23 -> 657421.06 | V23: =V21*$C$23 -> 657421.06 | AB23: =AB21*$C$23 -> 657421.06 | AH23: =AH21*$C$23 -> 657421.06 | AN23: =AN21*$C$23 -> 657421.06 | AT23: =AT21*$C$23 -> 657421.06 | AZ23: =AZ21*$C$23 -> 657421.06 | BF23: =BF21*$C$23 -> 657421.06 | BL23: =BL21*$C$23 -> 657421.06 | BR23: =BR21*$C$23 -> 657421.06 | BX23: =BX21*$C$23 -> 657421.06 | CD23: =CD21*$C$23 -> 657421.06 | CJ23: =CJ21*$C$23 -> 657421.06 | CP23: =CP21*$C$23 -> 657421.06 | CV23: =CV21*$C$23 -> 657421.06 | DB23: =DB21*$C$23 -> 657421.06 | DH23: =DH21*$C$23 -> 657421.06 | DN23: =DN21*$C$23 -> 657421.06 | DT23: =DT21*$C$23 -> 657421.06 | DZ23: =DZ21*$C$23 -> 657421.06 | EF23: =EF21*$C$23 -> 657421.06 | ER23: =SUM(D23:EQ23) -> 13805842 | ES23: =C23-ER23 -> 0
A24: 6.0 | B24: =RESUMO!B9 -> OBRAS DE ARTE CORRENTES | C24: =C26/$EL$84 -> 0.012076931 | J24: 0.2 | P24: 0.2 | V24: 0.2 | AB24: 0.2 | AH24: 0.1 | AN24: 0.1
C26: =RESUMO!C9 -> 1450048.7 | J26: =J24*$C$26 -> 290009.74 | P26: =P24*$C$26 -> 290009.74 | V26: =V24*$C$26 -> 290009.74 | AB26: =AB24*$C$26 -> 290009.74 | AH26: =AH24*$C$26 -> 145004.87 | AN26: =AN24*$C$26 -> 145004.87 | ER26: =SUM(D26:EQ26) -> 1450048.7 | ES26: =C26-ER26 -> 0
A27: 7.0 | B27: =RESUMO!B10 -> PAVIMENTAÇÃO | C27: =C29/$EL$84 -> 0.68092633 | V27: 0.06 | AB27: 0.06 | AH27: 0.06 | AN27: 0.07 | AT27: 0.07 | AZ27: 0.07 | BF27: 0.07 | BL27: 0.07 | BR27: 0.07 | BX27: 0.07 | CD27: 0.07 | CJ27: 0.06 | CP27: 0.05 | CV27: 0.05 | DB27: 0.05 | DH27: 0.05
C29: =RESUMO!C10 -> 81757222 | V29: =V27*$C$29 -> 4905433.3 | AB29: =AB27*$C$29 -> 4905433.3 | AH29: =AH27*$C$29 -> 4905433.3 | AN29: =AN27*$C$29 -> 5723005.5 | AT29: =AT27*$C$29 -> 5723005.5 | AZ29: =AZ27*$C$29 -> 5723005.5 | BF29: =BF27*$C$29 -> 5723005.5 | BL29: =BL27*$C$29 -> 5723005.5 | BR29: =BR27*$C$29 -> 5723005.5 | BX29: =BX27*$C$29 -> 5723005.5 | CD29: =CD27*$C$29 -> 5723005.5 | CJ29: =CJ27*$C$29 -> 4905433.3 | CP29: =CP27*$C$29 -> 4087861.1 | CV29: =CV27*$C$29 -> 4087861.1 | DB29: =DB27*$C$29 -> 4087861.1 | DH29: =DH27*$C$29 -> 4087861.1 | ER29: =SUM(D29:EQ29) -> 81757222 | ES29: =C29-ER29 -> 0
A30: 8.0 | B30: =RESUMO!B11 -> OBRAS DE ARTE ESPECIAIS - RESTAURAÇÃO | C30: =C32/$EL$84 -> 0.011439784 | AT30: 0.12 | AZ30: 0.12 | BF30: 0.12 | BL30: 0.12 | BR30: 0.12 | BX30: 0.1 | CD30: 0.1 | CJ30: 0.1 | CP30: 0.1
C32: =RESUMO!C11 -> 1373547.9 | AT32: =AT30*$C$32 -> 164825.75 | AZ32: =AZ30*$C$32 -> 164825.75 | BF32: =BF30*$C$32 -> 164825.75 | BL32: =BL30*$C$32 -> 164825.75 | BR32: =BR30*$C$32 -> 164825.75 | BX32: =BX30*$C$32 -> 137354.79 | CD32: =CD30*$C$32 -> 137354.79 | CJ32: =CJ30*$C$32 -> 137354.79 | CP32: =CP30*$C$32 -> 137354.79 | ER32: =SUM(D32:EQ32) -> 1373547.9 | ES32: =C32-ER32 -> 0
A33: 9.0 | B33: =RESUMO!B12 -> SINALIZAÇÃO | C33: =C35/$EL$84 -> 0.015232992 | EF33: 0.5 | EL33: 0.5
C35: =RESUMO!C12 -> 1828989.5 | EF35: =EF33*$C$35 -> 914494.74 | EL35: =EL33*$C$35 -> 914494.74 | ER35: =SUM(D35:EQ35) -> 1828989.5 | ES35: =C35-ER35 -> 0
A36: 10.0 | B36: SINALIZAÇÃO DE OBRAS | C36: =C38/$EL$84 -> 0.0045503987 | J36: =1/22 -> 0.045454545 | P36: =1/22 -> 0.045454545 | V36: =1/22 -> 0.045454545 | AB36: =1/22 -> 0.045454545 | AH36: =1/22 -> 0.045454545 | AN36: =1/22 -> 0.045454545 | AT36: =1/22 -> 0.045454545 | AZ36: =1/22 -> 0.045454545 | BF36: =1/22 -> 0.045454545 | BL36: =1/22 -> 0.045454545 | BR36: =1/22 -> 0.045454545 | BX36: =1/22 -> 0.045454545 | CD36: =1/22 -> 0.045454545 | CJ36: =1/22 -> 0.045454545 | CP36: =1/22 -> 0.045454545 | CV36: =1/22 -> 0.045454545 | DB36: =1/22 -> 0.045454545 | DH36: =1/22 -> 0.045454545 | DN36: =1/22 -> 0.045454545 | DT36: =1/22 -> 0.045454545 | DZ36: =1/22 -> 0.045454545 | EF36: =1/22 -> 0.045454545
C38: =RESUMO!C13 -> 546355.66 | J38: =J36*$C$38 -> 24834.348 | P38: =P36*$C$38 -> 24834.348 | V38: =V36*$C$38 -> 24834.348 | AB38: =AB36*$C$38 -> 24834.348 | AH38: =AH36*$C$38 -> 24834.348 | AN38: =AN36*$C$38 -> 24834.348 | AT38: =AT36*$C$38 -> 24834.348 | AZ38: =AZ36*$C$38 -> 24834.348 | BF38: =BF36*$C$38 -> 24834.348 | BL38: =BL36*$C$38 -> 24834.348 | BR38: =BR36*$C$38 -> 24834.348 | BX38: =BX36*$C$38 -> 24834.348 | CD38: =CD36*$C$38 -> 24834.348 | CJ38: =CJ36*$C$38 -> 24834.348 | CP38: =CP36*$C$38 -> 24834.348 | CV38: =CV36*$C$38 -> 24834.348 | DB38: =DB36*$C$38 -> 24834.348 | DH38: =DH36*$C$38 -> 24834.348 | DN38: =DN36*$C$38 -> 24834.348 | DT38: =DT36*$C$38 -> 24834.348 | DZ38: =DZ36*$C$38 -> 24834.348 | EF38: =EF36*$C$38 -> 24834.348 | ER38: =SUM(D38:EQ38) -> 546355.66 | ES38: =C38-ER38 -> 0
A39: 11.0 | B39: =RESUMO!B14 -> OBRAS COMPLEMENTARES | C39: =C41/$EL$84 -> 0.0077405126 | CJ39: 0.2 | CP39: 0.2 | CV39: 0.2 | DB39: 0.2 | DH39: 0.2
C41: =RESUMO!C14 -> 929385.12 | CJ41: =CJ39*$C$41 -> 185877.02 | CP41: =CP39*$C$41 -> 185877.02 | CV41: =CV39*$C$41 -> 185877.02 | DB41: =DB39*$C$41 -> 185877.02 | DH41: =DH39*$C$41 -> 185877.02 | ER41: =SUM(D41:EQ41) -> 929385.12 | ES41: =C41-ER41 -> 0
A42: 12.0 | B42: =RESUMO!B15 -> PROTEÇÃO AMBIENTAL | C42: =C44/$EL$84 -> 0.00073900033 | CV42: 0.1 | DB42: 0.1 | DH42: 0.1 | DN42: 0.1 | DT42: 0.15 | DZ42: 0.15 | EF42: 0.15 | EL42: 0.15
C44: =RESUMO!C15 -> 88730.03 | CV44: =CV42*$C$44 -> 8873.003 | DB44: =DB42*$C$44 -> 8873.003 | DH44: =DH42*$C$44 -> 8873.003 | DN44: =DN42*$C$44 -> 8873.003 | DT44: =DT42*$C$44 -> 13309.504 | DZ44: =DZ42*$C$44 -> 13309.504 | EF44: =EF42*$C$44 -> 13309.504 | EL44: =EL42*$C$44 -> 13309.504 | ER44: =SUM(D44:EQ44) -> 88730.03 | ES44: =C44-ER44 -> 0
A81: DESEMBOLSO MENSAL | D81: =ROUND(D82/$C$84,4) -> 0.0078 | J81: =ROUND(J82/$C$84,4) -> 0.0106 | P81: =ROUND(P82/$C$84,4) -> 0.0212 | V81: =ROUND(V82/$C$84,4) -> 0.0611 | AB81: =ROUND(AB82/$C$84,4) -> 0.0611 | AH81: =ROUND(AH82/$C$84,4) -> 0.0598 | AN81: =ROUND(AN82/$C$84,4) -> 0.0671 | AT81: =ROUND(AT82/$C$84,4) -> 0.0658 | AZ81: =ROUND(AZ82/$C$84,4) -> 0.0658 | BF81: =ROUND(BF82/$C$84,4) -> 0.0658 | BL81: =ROUND(BL82/$C$84,4) -> 0.0658 | BR81: =ROUND(BR82/$C$84,4) -> 0.0586 | BX81: =ROUND(BX82/$C$84,4) -> 0.0584 | CD81: =ROUND(CD82/$C$84,4) -> 0.0584 | CJ81: =ROUND(CJ82/$C$84,4) -> 0.0527 | CP81: =ROUND(CP82/$C$84,4) -> 0.0454 | CV81: =ROUND(CV82/$C$84,4) -> 0.0443 | DB81: =ROUND(DB82/$C$84,4) -> 0.0443 | DH81: =ROUND(DH82/$C$84,4) -> 0.0443 | DN81: =ROUND(DN82/$C$84,4) -> 0.0062 | DT81: =ROUND(DT82/$C$84,4) -> 0.0062 | DZ81: =ROUND(DZ82/$C$84,4) -> 0.0063 | EF81: =ROUND(EF82/$C$84,4) -> 0.0145 | EL81: =ROUND(EL82/$C$84,4) -> 0.0085
D82: =SUM(D11,D14,D17) -> 935867.66 | J82: =SUM(J11,J14,J17,J23,J29,J38,J26) -> 1273038.5 | P82: =SUM(P11,P14,P20,P23,P17,P38,P26) -> 2550358.6 | V82: =SUM(V29,V23,V11,V38,V20,V26) -> 7335720.6 | AB82: =SUM(AB38,AB11,AB29,AB23,AB20,AB26) -> 7335720.6 | AH82: =SUM(AH38,AH11,AH29,AH23,AH20,AH26) -> 7180432.9 | AN82: =SUM(AN11,AN20,AN23,AN26,AN29,AN32,AN38) -> 8055982.2 | AT82: =SUM(AT38,AT29,AT11,AT23,AT20,AT26,AT32) -> 7903673.2 | AZ82: =SUM(AZ38,AZ11,AZ29,AZ23,AZ20,AZ26,AZ32) -> 7903673.2 | BF82: =SUM(BF38,BF11,BF29,BF23,BF20,BF26,BF32) -> 7903673.2 | BL82: =SUM(BL38,BL32,BL11,BL29,BL23,BL26,BL20) -> 7903673.2 | BR82: =SUM(BR38,BR32,BR11,BR29,BR23,BR26,BR20) -> 7035996 | BX82: =SUM(BX38,BX32,BX11,BX29,BX23,BX26,BX20) -> 7006577 | CD82: =SUM(CD38,CD26,CD11,CD29,CD23,CD20,CD32) -> 7006577 | CJ82: =SUM(CJ38,CJ32,CJ11,CJ29,CJ23,CJ41) -> 6330085.9 | CP82: =SUM(CP38,CP32,CP11,CP29,CP23,CP20,CP41) -> 5454536.6 | CV82: =SUM(CV38,CV44,CV11,CV29,CV23,CV20,CV41) -> 5316943.7 | DB82: =SUM(DB38,DB20,DB11,DB29,DB23,DB41,DB35,DB44) -> 5316943.7 | DH82: =SUM(DH38,DH20,DH11,DH29,DH23,DH41,DH35,DH44) -> 5316943.7 | DN82: =SUM(DN38,DN35,DN11,DN29,DN23,DN41,DN20,DN44) -> 740138.9 | DT82: =SUM(DT35,DT11,DT29,DT23,DT38,DT44,DT20,DT41) -> 744890.01 | DZ82: =SUM(DZ35,DZ38,DZ11,DZ17,DZ23,DZ44,DZ41) -> 755585.12 | EF82: =SUM(EF35,EF38,EF11,EF17,EF44,EF23,EF41) -> 1745625.2 | EL82: =SUM(EL11,EL17,EL38,EL35,EL44,EL41) -> 1014988.5
A83: DESEMBOLSO ACUMULADO | C83: 1 | D83: =D81 -> 0.0078 | J83: =J81+D83 -> 0.0184 | P83: =P81+J83 -> 0.0396 | V83: =V81+P83 -> 0.1007 | AB83: =AB81+V83 -> 0.1618 | AH83: =AH81+AB83 -> 0.2216 | AN83: =AN81+AH83 -> 0.2887 | AT83: =AT81+AN83 -> 0.3545 | AZ83: =AZ81+AT83 -> 0.4203 | BF83: =BF81+AZ83 -> 0.4861 | BL83: =BL81+BF83 -> 0.5519 | BR83: =BR81+BL83 -> 0.6105 | BX83: =BX81+BR83 -> 0.6689 | CD83: =CD81+BX83 -> 0.7273 | CJ83: =CJ81+CD83 -> 0.78 | CP83: =CP81+CJ83 -> 0.8254 | CV83: =CV81+CP83 -> 0.8697 | DB83: =DB81+CV83 -> 0.914 | DH83: =DH81+DB83 -> 0.9583 | DN83: =DN81+DH83 -> 0.9645 | DT83: =DT81+DN83 -> 0.9707 | DZ83: =DZ81+DT83 -> 0.977 | EF83: =EF81+DZ83 -> 0.9915 | EL83: =EL81+EF83 -> 1
C84: =SUM(C20,C17,C11,C122,C14,C23,C29,C32,C35,C38,C41,C44,C26) -> 1.2006765e+08 | D84: =D82 -> 935867.66 | J84: =J82+D84 -> 2208906.2 | P84: =P82+J84 -> 4759264.8 | V84: =V82+P84 -> 12094985 | AB84: =AB82+V84 -> 19430706 | AH84: =AH82+AB84 -> 26611139 | AN84: =AN82+AH84 -> 34667121 | AT84: =AT82+AN84 -> 42570795 | AZ84: =AZ82+AT84 -> 50474468 | BF84: =BF82+AZ84 -> 58378141 | BL84: =BL82+BF84 -> 66281814 | BR84: =BR82+BL84 -> 73317810 | BX84: =BX82+BR84 -> 80324387 | CD84: =CD82+BX84 -> 87330964 | CJ84: =CJ82+CD84 -> 93661050 | CP84: =CP82+CJ84 -> 99115587 | CV84: =CV82+CP84 -> 1.0443253e+08 | DB84: =DB82+CV84 -> 1.0974947e+08 | DH84: =DH82+DB84 -> 1.1506642e+08 | DN84: =DN82+DH84 -> 1.1580656e+08 | DT84: =DT82+DN84 -> 1.1655145e+08 | DZ84: =DZ82+DT84 -> 1.1730703e+08 | EF84: =EF82+DZ84 -> 1.1905266e+08 | EL84: =EL82+EF84 -> 1.2006765e+08
C86: =C11/(C14+C17+C20+C23+C26+C29+C32+C35+C38+C41+C44) -> 0.070913724
C88: =RESUMO!C16 -> 1.2006765e+08
C90: =C84-C88 -> 0

Sheet CANT_Efetivo
A2: RODOVIA: | C2: PE-120
A3: TRECHO: | C3: Entr. PE-126 (Catende) – Entr. BR-104 (Agrestina)
A4: EXTENSÃO: | C4: 41.6
A5: DATA BASE: | C5: OUTUBRO/2025
A6: TIPO: | C6: SEM DESONERAÇÃO
A8: EFETIVO
B10: N | C10: c/ coef. | D10: Efetivo para dimensionamento do canteiro
A11: Npf | B11: 11 | C11: =ROUNDUP((B11*1),0) -> 11 | D11: Número de funcionários da parcela fixa da administração local
A12: Npf-v | B12: 10.75 | C12: =ROUNDUP((B12*1),0) -> 11 | D12: Número de funcionários das parcelas fixa e vinculada da administração local
A13: Np-v | B13: 12 | C13: =ROUNDUP((B13*1.33),0) -> 16 | D13: Número de funcionários da parcela variável da administração local no mês de pico
A14: Nmo | B14: ='MÃO DE OBRA'!G28 -> 73 | C14: =ROUNDUP((B14*1.33),0) -> 98 | D14: Número de funcionários da mão de obra ordinária no mês de pico
A15: Nfa | B15: 0 | C15: =ROUNDUP((B15*1),0) -> 0 | D15: Número de funcionários alojados no canteiro
A16: Nmax | C16: =C12+C14+C13 -> 125 | D16: Número máximo de funcionários
A18: Nota:
A19: Nfa = (Npf-v) + (Npv+Nmo)/2
A20: Nmax = (Npf-v) + (Nmo) + (Npv)
A21: Obs.: Para o dimensionamento do canteiro, considera-se os valores com a aplicação dos coeficientes.

Sheet CANT_Coef
A1: CANTEIRO DE OBRAS - Fatores de Ajuste
A3: Fator de ajuste padrão da construção | B3: Provisório | C3: Permanente
A4: K1 | B4: 0.8 | C4: 1
A6: Fator de Mobiliário e Aparelhagem | B6: K2
A7: Construção e restauração rodoviária de pequeno ou médio porte | B7: 1.05
A8: Construção e restauração rodoviária de grande porte | B8: 1.04
A9: Conservação rodoviária | B9: 1.13
A10: Construção ou recuperação, reforço e alargamento de obras de arte especiais de pequeno porte | B10: 1.06
A11: Construção ou recuperação, reforço e alargamento de obras de arte especiais de médio ou grande porte | B11: 1.04
A12: Construção ferroviária | B12: 1.05
A14: Fator de Ajuste da Distância do Canteiro aos Centros Fornecedores | B14: Condição do Pavimento
B15: Leito Natural | C15: Revestimento Primário | D15: Rodovia Pavimentada
A16: K3: Fórmulas | B16: 1+0,0014XDT | C16: 1+0,0009XDT | D16: 1+0,0008XDT
A17: DT (Km) | B17: 0 | C17: 0 | D17: 25.32
A18: Parciais Decimais | B18: =0.0014*B17 -> 0 | C18: =0.0009*C17 -> 0 | D18: =0.0008*D17 -> 0.020256
A19: OBS.: Centro urbano mais próximo até o canteiro, município de Caruaru/PE
A21: Definição de Fatores
A22: K1 | B22: =B4 -> 0.8 | C22: Provisória
A23: K2 | B23: =B7 -> 1.05 | C23: =A7 -> Construção e restauração rodoviária de pequeno ou médio porte
B24: =B10 -> 1.06 | C24: Construção ou recuperação OAE
A25: K3 | B25: =1+(B18+C18+D18) -> 1.020256 | C25: Rodovia Pavimentada
A27: Obs.:
A28: DT= Distância do canteiro ao centro fornecedor

Sheet CANT_Princ
A1: CANTEIRO - Custo do Canteiro Principal (CCP)
A3: Relação entre áreas Cobertas e áreas totais dos terrenos
A4: Construção e Restauração de Rodovias | B4: Pequeno | C4: Médio | D4: Grande
A5: Relação entre as áreas cobertas edificadas e as áreas totais dos terrenos | B5: 0.3333 | C5: 0.4 | D5: 0.45
A7: Fator de Equivalência de Áreas descobertas
A8: FEAD
A9: 0.05
A11: CMCC (obtido através do Site da caixa e IBGE)
A12: CMCC | B12: 1780.31 | C12: Custo médio da Construção civil - Out/2025 (Pernambuco) (Não considerando a desoneração)
A14: Dimensionamento das áreas Variáveis (Tabela 40 - pág. 88 do Manual Vol. 7)
A15: Instalações Cobertas | B15: Áreas Dimensionadas | C15: Equações de Dimensionamento das Áreas
A16: Escritório e seção técnica | B16: =(57.95+(4.5*CANT_Efetivo!C11))*0.8 -> 85.96 | C16: AE-ST = (57,95 + 4,5 x NPF) * 80%
A17: Refeitório e cozinha | B17: =(1.55*(0.5*CANT_Efetivo!C16))*0.8 -> 77.5 | C17: AR-C = (1,55 x 50% NMAX) * 80%
A18: Alojamentos | B18: =(3.11*0.5*(CANT_Efetivo!C14+CANT_Efetivo!C13))*0.8 -> 141.816 | C18: AAL = (3,11 x 50% x (Nmo + Npv)) * 80%
A19: Banheiros e vestiário | B19: =(0.77*(CANT_Efetivo!C14+CANT_Efetivo!C13))*0.8 -> 70.224 | C19: AB-V = (0,77 x (NMO + NPV)) * 80%
A20: Ambulatório | B20: =(0.25*CANT_Efetivo!C16)*0.8 -> 25 | C20: AAMB = (0,25 x Nmax) * 80%
A21: Redução de 20% no cálculo das áreas, conforme instrução de serviço Nº 01 GEP/DER-PE, de 08 de setembro de 2020
A23: Áreas fixas - Construção e Restauração Rodoviária
A24: Instalações Cobertas | B24: Porte
B25: Pequeno | C25: Médio | D25: Grande
A26: Almoxarifado e Depósito de cimento | B26: 100 | C26: 136 | D26: 172
A27: Oficina | B27: 120 | C27: 120 | D27: 120
A28: Guarita | B28: 2.25 | C28: 2.25 | D28: 2.25
A29: Redução de áreas, conforme instrução de serviço Nº 01 GEP/DER-PE, de 08 de setembro de 2020
A31: ÁREAS COBERTAS Aplicar fator de equivalência de áreas cobertas (fatores apresentados na pág. 112 do Vol. 7)
A32: Instalações | B32: Área de Ref. (m2) (AF) | C32: FEAC | D32: Áreas Equivalentes (AE)
A33: Escritório e seção técnica | B33: =B16 -> 85.96 | C33: 70 | D33: =B33*(C33/100) -> 60.172
A34: Refeitório e cozinha | B34: =B17 -> 77.5 | C34: 70 | D34: =B34*(C34/100) -> 54.25
A35: Alojamentos | B35: =B18 -> 141.816 | C35: 70 | D35: =B35*(C35/100) -> 99.2712
A36: Banheiros e vestiário | B36: =B19 -> 70.224 | C36: 70 | D36: =B36*(C36/100) -> 49.1568
A37: Ambulatório | B37: =B20 -> 25 | C37: 60 | D37: =B37*(C37/100) -> 15
A38: Almoxarifado e Depósito de cimento | B38: =C26 -> 136 | C38: 50 | D38: =B38*(C38/100) -> 68
A39: Oficina | B39: =C27 -> 120 | C39: 50 | D39: =B39*(C39/100) -> 60
A40: Guarita | B40: =C28 -> 2.25 | C40: 70 | D40: =B40*(C40/100) -> 1.575
A41: Total | B41: =SUM(B33:B40) -> 658.75 | D41: =SUM(D33:D40) -> 407.425
A43: Área de referência do terreno (m2) (AT)
A44: Área Total de Referência do terreno | B44: =B41/C5 -> 1646.875 | C44: AT = AF / 45%
A45: *obtido através da relação entre áreas totais e cobertas da pág. 91, Vol. 7
A47: Área descoberta (m2) (AD)
A48: Área descoberta | B48: =B44-B41 -> 988.125 | C48: AD = AT - AF
...

Sheet CANT_Compl OAE
A1: CANTEIRO - Custo do Canteiro Complementar (CCC)
A3: Relação entre áreas Cobertas e áreas totais dos terrenos
A4: Construção ou recuperação, reforço e alargamento de obras de arte especiais | B4: Pequeno | C4: Médio | D4: Grande
A5: Relação entre as áreas cobertas edificadas e as áreas totais dos terrenos | B5: 0.35 | C5: 0.35 | D5: 0.35
A7: Fator de Equivalência de Áreas descobertas
A8: FEAD
A9: 0.05
A11: CMCC (obtido através do Site da caixa e IBGE)
A12: CMCC | B12: 1777.58 | C12: Custo médio da Construção civil - Jul/2025 (Pernambuco) (Não considerando a desoneração)
A14: Áreas fixas - Construção e Restauração Rodoviária ( Tabela 45 - Pág. 89 do Vol. 7)
A15: Instalações Cobertas | B15: Porte
B16: Pequeno | C16: Médio | D16: Grande
A17: Almoxarifado e Depósito de cimento | B17: 131 | C17: 136 | D17: 172
A18: Oficina | B18: 18.1 | C18: 120 | D18: 120
A19: Guarita | B19: 2.25 | C19: 2.25 | D19: 2.25
A20: Redução de áreas, conforme instrução de serviço Nº 01 GEP/DER-PE, de 08 de setembro de 2020
A22: ÁREAS COBERTAS Aplicar fator de equivalência de áreas cobertas (fatores apresentados na pág. 112 do Vol. 7)
A23: Instalações | B23: Área de Ref. (m2) (AF) | C23: FEAC | D23: Áreas Equivalentes (AE)
A24: Almoxarifado e Depósito de cimento | B24: =B17 -> 131 | C24: 50 | D24: =B24*(C24/100) -> 65.5
A25: Oficina | B25: =B18 -> 18.1 | C25: 50 | D25: =B25*(C25/100) -> 9.05
A26: Guarita | B26: =B19 -> 2.25 | C26: 70 | D26: =B26*(C26/100) -> 1.575
A27: Total | B27: =SUM(B24:B26) -> 151.35 | D27: =SUM(D24:D26) -> 76.125
A29: Área de referência do terreno (m2) (AT)
A30: Área Total de Referência do terreno | B30: =B27/B5 -> 432.42857 | C30: AT = AF / 35%
A31: *obtido através da relação entre áreas totais e cobertas da pág. 91, Vol. 7
A33: Área descoberta (m2) (AD)
A34: Área descoberta | B34: =B30-B27 -> 281.07857 | C34: AD = AT - AF
A35: *diferença entre área total do terreno e área coberta
A37: Área do canteiro coberto (AC)
A38: Área (m2) | B38: =B27 -> 151.35 | C38: AC = AF
A40: CCP - Custo do Canteiro Principal (pág. 109, Vol. 7)
A41: CCP | B41: =(((CANT_Coef!B22*CANT_Coef!B24*CANT_Coef!B25*D27)+(B34*A9))*B12) -> 142056.26
A43: CCO = [(k1 x k2 x k3 xΣAC x FEAC )+(ΣAD x FEAD )]x CMCC
A447: COT03 (*)

Sheet CANT_Ind
A1: CANTEIRO - Custo do Canteiro Industrial (CCI)
A3: CMCC (obtido através do Site da caixa e IBGE)
A4: CMCC | B4: =CANT_Princ!B12 -> 1780.31 | C4: =CANT_Princ!C12 -> Custo médio da Construção civil - Out/2025 (Pernambuco) (Não considerando a desoneração)
A6: Instalações Industriais
A8: ÁREAS COBERTAS
A9: Instalações | B9: Área de Ref. | C9: FEAC | D9: Áreas Equivalentes
A10: Laboratórios (asfalto e concreto) | B10: =94.36+94.36 -> 188.72 | C10: 60 | D10: =B10*(C10/100) -> 113.232
A11: Almoxarifados (concreto e asfalto) | B11: =41.68+41.68 -> 83.36 | C11: 50 | D11: =B11*(C11/100) -> 41.68
A12: Oficinas (concreto e asfalto) | B12: =18.1+18.1 -> 36.2 | C12: 50 | D12: =B12*(C12/100) -> 18.1
A13: Total | B13: =SUM(B10:B12) -> 308.28 | D13: =SUM(D10:D12) -> 173.012
A15: Construções em padrão provisório (Áreas Cobertas) | D15: =CANT_Coef!$B$22*CANT_Coef!$B$23*CANT_Coef!$B$25*CANT_Ind!$D$13*$B$4 -> 263973.48 | E15: k1*k2*k3* Áreas Equivalentes*CMCC
A18: CUSTO TOTAL DOS CANTEIROS INDUSTRIAIS | F18: =D15 -> 263973.48

Sheet MÃO DE OBRA
A1: RODOVIA: | B1: =CANT_Efetivo!C2 -> PE-120
A2: TRECHO: | B2: =CANT_Efetivo!C3 -> Entr. PE-126 (Catende) – Entr. BR-104 (Agrestina)
A3: EXTENSÃO: | B3: 41.6
A4: RELAÇÃO DE MÃO DE OBRA ORDINÁRIA
A6: Código | B6: Descrição | C6: Unid | D6: Qtde | E6: Horas/Mês | F6: Prazo da obra (meses) | G6: Quantidade
A8: P9824 | B8: Servente | C8: H | D8: 164101.77 | E8: 182.49 | F8: 24 | G8: =ROUNDUP(D8/E8/F8,0) -> 38
A9: P9801 | B9: Ajudante | C9: H | D9: 26711.034 | E9: 182.49 | F9: =$F$8 -> 24 | G9: =ROUNDUP(D9/E9/F9,0) -> 7
A10: P9808 | B10: Carpinteiro | C10: H | D10: 16673.498 | E10: 182.49 | F10: =$F$8 -> 24 | G10: =ROUNDUP(D10/E10/F10,0) -> 4
A11: P9845 | B11: Operador de equipamento pesado | C11: H | D11: 10998.833 | E11: 182.49 | F11: =$F$8 -> 24 | G11: =ROUNDUP(D11/E11/F11,0) -> 3
A12: P9866 | B12: Motorista de caminhão | C12: H | D12: 7634.8327 | E12: 182.49 | F12: =$F$8 -> 24 | G12: =ROUNDUP(D12/E12/F12,0) -> 2
A13: P9843 | B13: Operador de equipamento leve | C13: H | D13: 9260.5392 | E13: 182.49 | F13: =$F$8 -> 24 | G13: =ROUNDUP(D13/E13/F13,0) -> 3
A14: P9805 | B14: Armador | C14: H | D14: 6543.0171 | E14: 182.49 | F14: =$F$8 -> 24 | G14: =ROUNDUP(D14/E14/F14,0) -> 2
A15: P9821 | B15: Pedreiro | C15: H | D15: 7101.5596 | E15: 182.49 | F15: =$F$8 -> 24 | G15: =ROUNDUP(D15/E15/F15,0) -> 2
A16: P9830 | B16: Montador | C16: H | D16: 3874.754 | E16: 182.49 | F16: =$F$8 -> 24 | G16: =ROUNDUP(D16/E16/F16,0) -> 1
A17: P9846 | B17: Operador de equipamento especial | C17: H | D17: 1455.9407 | E17: 182.49 | F17: =$F$8 -> 24 | G17: =ROUNDUP(D17/E17/F17,0) -> 1
A18: P9822 | B18: Pintor | C18: H | D18: 1858.9289 | E18: 182.49 | F18: =$F$8 -> 24 | G18: =ROUNDUP(D18/E18/F18,0) -> 1
A19: P9815 | B19: Jardineiro | C19: H | D19: 223.16667 | E19: 182.49 | F19: =$F$8 -> 24 | G19: =ROUNDUP(D19/E19/F19,0) -> 1
A20: P9802 | B20: Ajudante especializado | C20: H | D20: 216.86156 | E20: 182.49 | F20: =$F$8 -> 24 | G20: =ROUNDUP(D20/E20/F20,0) -> 1
... A25: P9852 | B25: Blaster | C25: H | D25: 45.385744 | E25: 182.49 | F25: =$F$8 -> 24 | G25: =ROUNDUP(D25/E25/F25,0) -> 1
A26: P9810 | B26: Eletricista | D26: 3.999871 | E26: 182.49 | F26: =$F$8 -> 24 | G26: =ROUNDUP(D26/E26/F26,0) -> 1
A27: P9807 | B27: Bombeiro hidráulico | C27: H | D27: 4 | E27: 182.49 | F27: =$F$8 -> 24 | G27: =ROUNDUP(D27/E27/F27,0) -> 1
B28: TOTAL MÃO OBRA | D28: =SUM(D8:D27) -> 257196.09 | E28: HOMENS/MÊS MÉDIO | G28: =SUM(G8:G27) -> 73

Sheet Adm Local
B3: OBRA: | D3: PE-120
B4: DATA BASE: | D4: OUTUBRO/2025
B5: TIPO: | D5: SEM DESONERAÇÃO
B7: ADMINISTRAÇÃO LOCAL
C9: ADMINISTRAÇÃO LOCAL
C10: De acordo com o Manual de Custos de Infraestrutura de Transportes, a administração local compreende o conjunto de gastos com pessoal, materiais e equipamentos incorridos pelo executor no local do empreendimento e indispensáveis ao apoio e à condução da obra. É exercida normalmente por pessoal técnico e administrativo, tais como: engenheiro supervisor, engenheiros setoriais, gestores administrativos, equipes de medicina e segurança no trabalho, etc. Além da gerência técnica e administrativa da obra, incluem-se na administração local as equipes responsáveis pelo controle de produção das frentes de serviços, pelo controle tecnológico da obra e pelos serviços gerais de apoio.
C14: A) Considerações :
D15: Natureza da obra: | E15: Construção/Restauração Rodoviária de Médio Porte
D16: Prazo de execução (meses): | F16: 24
D17: Dimensões referenciais do canteiro de obras e acampamentos: | H17: 571.84 | I17: de instalações cobertas:
D18: Data base: | E18: =D4 -> OUTUBRO/2025 | H18: 688 | I18: de áreas descobertas.
C20: B) Parcela Fixa da Administração Local :
C22: Composição de custo da parcela fixa da administração local (mão de obra)
C23: ITEM | D23: CÓDIGO | E23: DISCRIMINAÇÃO | F23: UNIDADE | G23: QUANTIDADE | H23: CUSTO UINTÁRIO (R$) | I23: CUSTO TOTAL (R$) | K23: Npf= | L23: =SUM(G26:G28,G30:G31,G35:G39,G41:G42) -> 11
C24: 1 | D24: GERÊNCIA TÉCNICA
C25: 1.1 | D25: Geral
