Workbook
Name LINHA7: #REF!
Name LINHA7: #REF!

Sheet 1 - Orçamento Resumido
E2: PREFEITURA MUNICIPAL DE JARDIM | H2: BANCOS:
E3: RUA CORONEL JUVÊNCIO, Nº 547 | G3: ENCARGOS SOCIAIS | H3: SINAP 09/2025 - MS | I3: SBC 10/2025
E4: CNPJ: 03.162.047/0001-40 | G4: SEM DESONERAÇÃO | H4: AGESUL 06/2025 | I4: SEINFRA 028
E5: OBRA: CONSTRUÇÃO DO CENTRO DE ATENÇÃO PSICOSSOCIAL I E II | H5: ORSE 08/2025 | I5: IOPS 07/2025
G6: HORISTA: 107,52% | H6: CPOS 09/2025 | I6: EMOP 09/2025
E7: LOCAL: RUA JOSÉ DE ALENCAR, ESQ. C/ RUA DÁLIA BERNADINO DA SILVA, JARDIM/MS | G7: MENSALISTA: 64,8% | H7: AGETOP 06/2025 | I7: BDI: 25,00%
B9: ORÇAMENTO RESUMIDO
B11: ITEM | E11: DESCRIÇÃO | I11: TOTAL | J11: PESO (%)
B13: 1 | E13: SERVIÇOS PRELIMINARES E INDIRETOS | I13: 149455.06 | J13: 0.056417493
B14: 2 | C14: 2 | E14: FUNDAÇÃO | I14: 256655.79 | J14: 0.096884482
B15: 3 | C15: 3 | E15: ESTRUTURA | I15: 261481.5 | J15: 0.09870613
B16: 4 | C16: 4 | E16: ALVENARIA, VEDAÇÕES E DIVISÓRIAS | I16: 205573.09 | J16: 0.077601376
B17: 5 | C17: 5 | E17: COBERTURA | I17: 98886.73 | J17: 0.037328555
B18: 6 | C18: 6 | E18: IMPERMEABILIZAÇÃO | I18: 38895.46 | J18: 0.01468257
B19: 7 | C19: 7 | E19: ESQUADRIAS | I19: 229739.92 | J19: 0.086724064
B20: 8 | C20: 8 | E20: REVESTIMENTO DE PAREDE | I20: 107041.4 | J20: 0.040406845
B21: 9 | C21: 9 | E21: REVESTIMENTO DE PISO INTERNO | I21: 146517.41 | J21: 0.055308565
B22: 10 | C22: 10 | E22: REVESTIMENTO DE PISO EXTERNO | I22: 39170.56 | J22: 0.014786417
B23: 11 | C23: 11 | E23: REVESTIMENTO DE TETO | I23: 45136.83 | J23: 0.017038612
B24: 12 | C24: 12 | E24: PINTURA | I24: 88858.89 | J24: 0.033543165
B25: 13 | C25: 13 | E25: MARMORARIA | I25: 24962.46 | J25: 0.0094230292
... B30: 18 | C30: 18 | E30: DADOS E VOZ | I30: 21896.19 | J30: 0.0082655491
B31: 19 | C31: 18 | E31: URBANIZAÇÃO | I31: 15344.81 | J31: 0.0057924817
B32: 20 | C32: 19 | E32: MURO | I32: 158843.22 | J32: 0.05996141
B33: 21 | C33: 20 | E33: SERVIÇOS COMPLEMENTARES | I33: 12533.22 | J33: 0.0047311402
H35: Total sem BDI | J35: 2119412.4
H36: Total do BDI | J36: 529678.36
H37: Total Geral | J37: 2649090.8

Sheet 2 - Orçamento Sintético
D2: ='1 - Orçamento Resumido'!E2 -> PREFEITURA MUNICIPAL DE JARDIM | H2: ='1 - Orçamento Resumido'!H2 -> BANCOS:
D3: ='1 - Orçamento Resumido'!E3 -> RUA CORONEL JUVÊNCIO, Nº 547 | F3: ENCARGOS SOCIAIS | H3: ='1 - Orçamento Resumido'!H3 -> SINAP 09/2025 - MS | I3: ='1 - Orçamento Resumido'!I3 -> SBC 10/2025
D4: ='1 - Orçamento Resumido'!E4 -> CNPJ: 03.162.047/0001-40 | F4: ='1 - Orçamento Resumido'!G4 -> SEM DESONERAÇÃO | H4: ='1 - Orçamento Resumido'!H4 -> AGESUL 06/2025 | I4: ='1 - Orçamento Resumido'!I4 -> SEINFRA 028
D5: {='1 - Orçamento Resumido'!E5:F6} -> OBRA: CONSTRUÇÃO DO CENTRO DE ATENÇÃO PSICOSSOCIAL I E II | E5: 0 | H5: ='1 - Orçamento Resumido'!H5 -> ORSE 08/2025 | I5: ='1 - Orçamento Resumido'!I5 -> IOPS 07/2025
D6: 0 | E6: 0 | F6: HORISTA: 107,52% | H6: ='1 - Orçamento Resumido'!H6 -> CPOS 09/2025 | I6: ='1 - Orçamento Resumido'!I6 -> EMOP 09/2025
D7: {='1 - Orçamento Resumido'!E7:F7} -> LOCAL: RUA JOSÉ DE ALENCAR, ESQ. C/ RUA DÁLIA BERNADINO DA SILVA, JARDIM/MS | E7: 0 | F7: MENSALISTA: 64,8% | H7: ='1 - Orçamento Resumido'!H7 -> AGETOP 06/2025 | I7: ='1 - Orçamento Resumido'!I7 -> BDI: 25,00%
B9: ORÇAMENTO SINTÉTICO
B11: ITEM | C11: CÓDIGO | D11: BANCO | E11: DESCRIÇÃO | F11: UND | G11: QUANT | H11: VALOR UNIT | I11: VALOR UNIT COM BDI | J11: TOTAL | K11: PESO (%)
B13: 1 | E13: SERVIÇOS PRELIMINARES E INDIRETOS | G13: 1 | I13: 149455.06 | J13: 149455.06 | K13: 0.056417493
B14: 1.1 | E14: CANTEIRO DE OBRAS | G14: 1 | I14: 81496.86 | J14: 81496.86 | K14: 0.030764087
B15: 1.1.1 | C15: CPU2526 | D15: Próprio | E15: LOCAÇÃO DE CONTAINER TIPO DEPÓSITO - ÁREA MÍNIMA DE 13,80 M2 | F15: UNXMÊS | G15: 14 | H15: 88.07 | I15: 110.08 | J15: 1541.12 | K15: 0.00058175432
B16: 1.1.2 | C16: CPU2527 | D16: Próprio | E16: BARRACÃO ABERTO PARA APOIO À PRODUÇÃO (CARPINTARIA, CENTRAL DE ARMAÇÃO, OFICINA, ETC.) C/ TESOURAS, TELHA 4MM, PISO EM CONCRETO DESEMPOLADO | F16: m² | G16: 15 | H16: 233.28 | I16: 291.6 | J16: 4374 | K16: 0.0016511325
B17: 1.1.3 | C17: CPU2528 | D17: Próprio | E17: LOCAÇÃO DE CONTAINER - BANHEIRO COM CHUVEIROS E VASOS - 4,30 X 2,30M | F17: MÊS | G17: 14 | H17: 962.26 | I17: 1202.82 | J17: 16839.48 | K17: 0.0063567017
B18: 1.1.4 | C18: CPU2529 | D18: Próprio | E18: BARRACAO PARA REFEITORIO EM OBRAS EM COMPENSADO | F18: m² | G18: 13 | H18: 1028.55 | I18: 1285.68 | J18: 16713.84 | K18: 0.0063092741
B19: 1.1.5 | C19: 95648 | D19: SINAPI | E19: KIT CAVALETE PARA MEDIÇÃO DE ÁGUA - ENTRADA INDIVIDUALIZADA, EM CPVC DN 28 MM (1"), PARA 1 MEDIDOR - FORNECIMENTO E INSTALAÇÃO (EXCLUSIVE HIDRÔMETRO). AF_03/2024 | F19: UN | G19: 1 | H19: 682.72 | I19: 853.4 | J19: 853.4 | K19: 0.00032214826
B20: 1.1.6 | C20: 95673 | D20: SINAPI | E20: HIDRÔMETRO DN 1/2", 1,5 M3/H - FORNECIMENTO E INSTALAÇÃO. AF_03/2024 | F20: UN | G20: 1 | H20: 130.95 | I20: 163.68 | J20: 163.68 | K20: 6.1787237e-05
B21: 1.1.7 | C21: 101509 | D21: SINAPI | E21: ENTRADA DE ENERGIA ELÉTRICA, AÉREA, TRIFÁSICA, COM CAIXA DE EMBUTIR, CABO DE 10 MM2 E DISJUNTOR DIN 50A (NÃO INCLUSO O POSTE DE CONCRETO). AF_07/2020 | F21: UN | G21: 1 | H21: 1907.7 | I21: 2384.62 | J21: 2384.62 | K21: 0.00090016545
B22: 1.1.8 | C22: 103689 | D22: SINAPI | E22: FORNECIMENTO E INSTALAÇÃO DE PLACA DE OBRA COM CHAPA GALVANIZADA E ESTRUTURA DE MADEIRA. AF_03/2022_PS | F22: m² | G22: 6 | H22: 457.25 | I22: 571.56 | J22: 3429.36 | K22: 0.0012945423
B23: 1.1.9 | C23: CPU2530 | D23: Próprio | E23: REMOÇÃO DE ENTULHO SEPARADO DE OBRA COM CAÇAMBA METÁLICA - TERRA, ALVENARIA, CONCRETO, ARGAMASSA, MADEIRA, PAPEL, PLÁSTICO OU METAL | F23: m³ | G23: 140 | H23: 13.03 | I23: 16.28 | J23: 2279.2 | K23: 0.00086037066
B24: 1.1.10 | C24: 98459 | D24: SINAPI | E24: TAPUME COM TELHA METÁLICA. AF_03/2024 | F24: m² | G24: 325.6 | H24: 80.88 | I24: 101.1 | J24: 32918.16 | K24: 0.012426211
B25: 1.2 | E25: ADMINISTRAÇÃO LOCAL DA OBRA | G25: 1 | I25: 47982.6 | J25: 47982.6 | K25: 0.018112856
B26: 1.2.1 | C26: 93565 | D26: SINAPI | E26: ENGENHEIRO CIVIL DE OBRA JUNIOR COM ENCARGOS COMPLEMENTARES | F26: MES | G26: 1.75 | H26: 21934.91 | I26: 27418.63 | J26: 47982.6 | K26: 0.018112856
B27: 1.3 | E27: MOBILIZAÇÃO E DESMOBILIZAÇÃO | G27: 1 | I27: 7874.92 | J27: 7874.92 | K27: 0.0029726878
B28: 1.3.1 | C28: CPU2531 | D28: Próprio | E28: MOBILIZACAO E DESMOBILIZACAO DE CANTEIRO | F28: UN | G28: 1 | H28: 6299.94 | I28: 7874.92 | J28: 7874.92 | K28: 0.0029726878
B29: 1.4 | E29: EQUIPAMENTOS DE APOIO | G29: 1 | I29: 12100.68 | J29: 12100.68 | K29: 0.0045678616
B30: 1.4.1 | C30: CPU1926 | D30: Próprio | E30: LOCACAO DE ANDAIME METALICO TIPO FACHADEIRO, PECAS COM APROXIMADAMENTE 1,20 M DE LARGURA E 2,0 M DE ALTURA, INCLUINDO DIAGONAIS EM X, BARRAS DE LIGACAO, SAPATAS E DEMAIS ITENS NECESSARIOS A MONTAGEM, INCLUSIVE MONTAGEM E DESMONTAGEM | F30: M2XMÊS | G30: 273.4 | H30: 35.41 | I30: 44.26 | J30: 12100.68 | K30: 0.0045678616
B31: 2 | E31: FUNDAÇÃO | G31: 1 | I31: 256655.79 | J31: 256655.79 | K31: 0.096884482
B32: 2.1 | E32: ESTACAS ESCAVADAS | G32: 1 | I32: 119958.23 | J32: 119958.23 | K32: 0.045282793
B33: 2.1.1 | C33: 99059 | D33: SINAPI | E33: LOCAÇÃO CONVENCIONAL DE OBRA, UTILIZANDO GABARITO DE TÁBUAS CORRIDAS PONTALETADAS A CADA 2,00M - 2 UTILIZAÇÕES. AF_03/2024 | F33: M | G33: 97.5 | H33: 62.08 | I33: 77.6 | J33: 7566 | K33: 0.0028560743
B34: 2.1.2 | C34: 0301000134 | D34: AGESUL | E34: ESTACA ESCAVADA MECANICAMENTE, SEM FLUIDO ESTABILIZANTE, COM 40CM DE DIAMETRO, CONCRETO LANCADO POR CAMINHAO BETONEIRA (EXCLUSIVE FERRAGENS, MOBILIZACAO E DESMOBILIZACAO) | F34: M | G34: 510 | H34: 114.66 | I34: 143.32 | J34: 73093.2 | K34: 0.027591806
B35: 2.1.3 | C35: 95577 | D35: SINAPI | E35: MONTAGEM DE ARMADURA DE ESTACAS, DIÂMETRO = 10,0 MM. AF_09/2021_PS | F35: KG | G35: 1043.2 | H35: 10.57 | I35: 13.21 | J35: 13780.67 | K35: 0.0052020376
B36: 2.1.4 | C36: 95583 | D36: SINAPI | E36: MONTAGEM DE ARMADURA TRANSVERSAL DE ESTACAS DE SEÇÃO CIRCULAR, DIÂMETRO = 5,0 MM. AF_09/2021_PS | F36: KG | G36: 405.7 | H36: 15.67 | I36: 19.58 | J36: 7943.6 | K36: 0.0029986137
B37: 2.1.5 | C37: 95601 | D37: SINAPI | E37: ARRASAMENTO MECANICO DE ESTACA DE CONCRETO ARMADO, DIAMETROS DE ATÉ 40 CM. AF_05/2021 | F37: UN | G37: 94 | H37: 17.78 | I37: 22.22 | J37: 2088.68 | K37: 0.00078845165
B38: 2.1.6 | C38: 0601003200 | D38: AGESUL | E38: BOMBEAMENTO, ADENSAMENTO E ACABAMENTO DE CONCRETO | F38: m³ | G38: 64 | H38: 90.56 | I38: 113.2 | J38: 7244.8 | K38: 0.0027348251
B39: 2.1.7 | C39: CPU2532 | D39: Próprio | E39: CONTROLE TECNOLOGICO DE CONCRETOS | F39: m³ | G39: 64 | H39: 103.02 | I39: 128.77 | J39: 8241.28 | K39: 0.0031109844
B40: 2.2 | E40: BLOCOS | G40: 1 | I40: 75994.35 | J40: 75994.35 | K40: 0.028686956
B41: 2.2.1 | C41: 96523 | D41: SINAPI | E41: ESCAVAÇÃO MANUAL PARA BLOCO DE COROAMENTO OU SAPATA (INCLUINDO ESCAVAÇÃO PARA COLOCAÇÃO DE FÔRMAS). AF_01/2024 | F41: m³ | G41: 39.16 | H41: 94.07 | I41: 117.58 | J41: 4604.43 | K41: 0.0017381171
B42: 2.2.2 | C42: 96534 | D42: SINAPI | E42: FABRICAÇÃO, MONTAGEM E DESMONTAGEM DE FÔRMA PARA BLOCO DE COROAMENTO, EM MADEIRA SERRADA, E=25 MM, 4 UTILIZAÇÕES. AF_01/2024 | F42: m² | G42: 172 | H42: 71.72 | I42: 89.65 | J42: 15419.8 | K42: 0.0058207896
B43: 2.2.3 | C43: ELMT COMP - 1041 | D43: Próprio | E43: LASTRO COM MATERIAL GRANULAR, APLICAÇÃO EM VIGA BALDRAME, ESPESSURA DE *5 CM*. | F43: m³ | G43: 2.9815956 | H43: 221.05 | I43: 276.31 | J43: 823.84 | K43: 0.00031098972
B44: 2.2.4 | C44: 96543 | D44: SINAPI | E44: ARMAÇÃO DE BLOCO UTILIZANDO AÇO CA-60 DE 5 MM - MONTAGEM. AF_01/2024 | F44: KG | G44: 359.6 | H44: 19.52 | I44: 24.4 | J44: 8774.24 | K44: 0.0033121704
...

Sheet 3 - Composições
D3: ='1 - Orçamento Resumido'!E2 -> PREFEITURA MUNICIPAL DE JARDIM | G3: BANCOS:
D4: ='1 - Orçamento Resumido'!E3 -> RUA CORONEL JUVÊNCIO, Nº 547 | F4: ENCARGOS SOCIAIS | G4: ='1 - Orçamento Resumido'!H3 -> SINAP 09/2025 - MS | I4: ='1 - Orçamento Resumido'!I3 -> SBC 10/2025
D5: ='1 - Orçamento Resumido'!E4 -> CNPJ: 03.162.047/0001-40 | F5: ='1 - Orçamento Resumido'!G4 -> SEM DESONERAÇÃO | G5: ='1 - Orçamento Resumido'!H4 -> AGESUL 06/2025 | I5: ='1 - Orçamento Resumido'!I4 -> SEINFRA 028
D6: {='1 - Orçamento Resumido'!E5:F6} -> OBRA: CONSTRUÇÃO DO CENTRO DE ATENÇÃO PSICOSSOCIAL I E II | E6: 0 | G6: ='1 - Orçamento Resumido'!H5 -> ORSE 08/2025 | I6: ='1 - Orçamento Resumido'!I5 -> IOPS 07/2025
D7: 0 | E7: 0 | F7: ='1 - Orçamento Resumido'!G6 -> HORISTA: 107,52% | G7: ='1 - Orçamento Resumido'!H6 -> CPOS 09/2025 | I7: ='1 - Orçamento Resumido'!I6 -> EMOP 09/2025
D8: {='1 - Orçamento Resumido'!E7:F7} -> LOCAL: RUA JOSÉ DE ALENCAR, ESQ. C/ RUA DÁLIA BERNADINO DA SILVA, JARDIM/MS | E8: 0 | F8: ='1 - Orçamento Resumido'!G7 -> MENSALISTA: 64,8% | G8: ='1 - Orçamento Resumido'!H7 -> AGETOP 06/2025 | I8: ='1 - Orçamento Resumido'!I7 -> BDI: 25,00%
B10: COMPOSIÇÕES COM PREÇO UNITÁRIO
B12: ITEM | C12: CÓDIGO | D12: BANCO | E12: DESCRIÇÃO | F12: TIPO | H12: UND | I12: QUANT | J12: VALOR UNIT | K12: TOTAL
B14: 1.1.1 | C14: Código | D14: Banco | E14: Descrição | F14: Tipo | H14: Und | I14: Quant. | J14: Valor Unit | K14: Total
B15: Composição | C15: CPU2526 | D15: Próprio | E15: LOCAÇÃO DE CONTAINER TIPO DEPÓSITO - ÁREA MÍNIMA DE 13,80 M2 | F15: SEDI - SERVIÇOS DIVERSOS | H15: UNXMÊS | I15: 1 | J15: 88.07 | K15: 88.07
B16: Composição Auxiliar | C16: 88247 | D16: SINAPI | E16: AUXILIAR DE ELETRICISTA COM ENCARGOS COMPLEMENTARES | F16: Livro SINAPI: Cálculos e Parâmetros | H16: H | I16: 1.32 | J16: 22.69 | K16: 29.95
B17: Composição Auxiliar | C17: 88264 | D17: SINAPI | E17: ELETRICISTA COM ENCARGOS COMPLEMENTARES | F17: Livro SINAPI: Cálculos e Parâmetros | H17: H | I17: 0.99 | J17: 29.75 | K17: 29.45
B18: Composição Auxiliar | C18: 88316 | D18: SINAPI | E18: SERVENTE COM ENCARGOS COMPLEMENTARES | F18: Livro SINAPI: Cálculos e Parâmetros | H18: H | I18: 1.32 | J18: 21.72 | K18: 28.67
F19: MO sem LS => | G19: 31.57 | H19: LS => | I19: 33.96 | J19: MO com LS => | K19: 65.53
F20: Valor do BDI => | G20: 22.01 | I20: Valor com BDI => | K20: 110.08
B22: 1.1.2 | C22: Código | D22: Banco | E22: Descrição | F22: Tipo | H22: Und | I22: Quant. | J22: Valor Unit | K22: Total
B23: Composição | C23: CPU2527 | D23: Próprio | E23: BARRACÃO ABERTO PARA APOIO À PRODUÇÃO (CARPINTARIA, CENTRAL DE ARMAÇÃO, OFICINA, ETC.) C/ TESOURAS, TELHA 4MM, PISO EM CONCRETO DESEMPOLADO | F23: SEDI - SERVIÇOS DIVERSOS | H23: m² | I23: 1 | J23: 233.28 | K23: 233.28
B24: Composição Auxiliar | C24: 97083 | D24: SINAPI | E24: COMPACTAÇÃO MECÂNICA DE SOLO PARA EXECUÇÃO DE RADIER, PISO DE CONCRETO OU LAJE SOBRE SOLO, COM COMPACTADOR DE SOLOS A PERCUSSÃO. AF_09/2021 | F24: Radier, Piso de Concreto e Laje sobre Solo | H24: m² | I24: 1 | J24: 3.32 | K24: 3.32
B25: Composição Auxiliar | C25: 100382 | D25: SINAPI | E25: FABRICAÇÃO E INSTALAÇÃO DE PONTALETES DE MADEIRA NÃO APARELHADA PARA TELHADOS COM ATÉ 2 ÁGUAS E COM TELHA ONDULADA DE FIBROCIMENTO, ALUMÍNIO OU PLÁSTICA EM EDIFÍCIO RESIDENCIAL TÉRREO, INCLUSO TRANSPORTE VERTICAL. AF_07/2019 | F25: Estrutura e Trama para Cobertura | H25: m² | I25: 1 | J25: 24.25 | K25: 24.25
B26: Composição Auxiliar | C26: 92562 | D26: SINAPI | E26: FABRICAÇÃO E INSTALAÇÃO DE TESOURA INTEIRA EM MADEIRA NÃO APARELHADA, VÃO DE 10 M, PARA TELHA ONDULADA DE FIBROCIMENTO, METÁLICA, PLÁSTICA OU TERMOACÚSTICA, INCLUSO IÇAMENTO. AF_07/2019 | F26: Estrutura e Trama para Cobertura | H26: UN | I26: 0.03 | J26: 2524.62 | K26: 75.73
B27: Composição Auxiliar | C27: 101747 | D27: SINAPI | E27: PISO EM CONCRETO 20 MPA PREPARO MECÂNICO, ESPESSURA 7CM. AF_09/2020 | F27: Pisos | H27: m² | I27: 1 | J27: 83.26 | K27: 83.26
B28: Composição Auxiliar | C28: 94207 | D28: SINAPI | E28: TELHAMENTO COM TELHA ONDULADA DE FIBROCIMENTO E = 6 MM, COM RECOBRIMENTO LATERAL DE 1/4 DE ONDA PARA TELHADO COM INCLINAÇÃO MAIOR QUE 10°, COM ATÉ 2 ÁGUAS, INCLUSO IÇAMENTO. AF_07/2019 | F28: Telhamento para Cobertura | H28: m² | I28: 1 | J28: 46.72 | K28: 46.72
F29: MO sem LS => | G29: 17.42 | H29: LS => | I29: 18.73 | J29: MO com LS => | K29: 36.15
F30: Valor do BDI => | G30: 58.32 | I30: Valor com BDI => | K30: 291.6
B32: 1.1.3 | C32: Código | D32: Banco | E32: Descrição | F32: Tipo | H32: Und | I32: Quant. | J32: Valor Unit | K32: Total
B33: Composição | C33: CPU2528 | D33: Próprio | E33: LOCAÇÃO DE CONTAINER - BANHEIRO COM CHUVEIROS E VASOS - 4,30 X 2,30M | F33: SEDI - SERVIÇOS DIVERSOS | H33: MÊS | I33: 1 | J33: 962.26 | K33: 962.26
B34: Insumo | C34: 00010777 | D34: SINAPI | E34: LOCACAO DE CONTAINER 2,30 X 4,30 M, ALT. 2,50 M, PARA SANITARIO, COM 3 BACIAS, 4 CHUVEIROS, 1 LAVATORIO E 1 MICTORIO (NAO INCLUI MOBILIZACAO/DESMOBILIZACAO) | F34: Equipamento | H34: MES | I34: 1 | J34: 962.26 | K34: 962.26
F35: MO sem LS => | G35: 0 | H35: LS => | I35: 0 | J35: MO com LS => | K35: 0
F36: Valor do BDI => | G36: 240.56 | I36: Valor com BDI => | K36: 1202.82
B38: 1.1.4 | C38: Código | D38: Banco | E38: Descrição | F38: Tipo | H38: Und | I38: Quant. | J38: Valor Unit | K38: Total
B39: Composição | C39: CPU2529 | D39: Próprio | E39: BARRACAO PARA REFEITORIO EM OBRAS EM COMPENSADO | F39: SEDI - SERVIÇOS DIVERSOS | H39: m² | I39: 1 | J39: 1028.55 | K39: 1028.55
B40: Composição Auxiliar | C40: 88316 | D40: SINAPI | E40: SERVENTE COM ENCARGOS COMPLEMENTARES | F40: Livro SINAPI: Cálculos e Parâmetros | H40: H | I40: 13.053 | J40: 21.72 | K40: 283.51
B41: Composição Auxiliar | C41: 88262 | D41: SINAPI | E41: CARPINTEIRO DE FORMAS COM ENCARGOS COMPLEMENTARES | F41: Livro SINAPI: Cálculos e Parâmetros | H41: H | I41: 8.419 | J41: 26.69 | K41: 224.7
B42: Composição Auxiliar | C42: 88239 | D42: SINAPI | E42: AJUDANTE DE CARPINTEIRO COM ENCARGOS COMPLEMENTARES | F42: Livro SINAPI: Cálculos e Parâmetros | H42: H | I42: 12.075 | J42: 22.08 | K42: 266.61
B43: Insumo | C43: 00004491 | D43: SINAPI | E43: PONTALETE *7,5 X 7,5* CM EM PINUS, MISTA OU EQUIVALENTE DA REGIAO - BRUTA | F43: Material | H43: M | I43: 10.12 | J43: 7.04 | K43: 71.24
B44: Insumo | C44: 00020205 | D44: SINAPI | E44: RIPA APARELHADA *1,5 X 5* CM, EM MACARANDUBA/MASSARANDUBA, ANGELIM OU EQUIVALENTE DA REGIAO | F44: Material | H44: M | I44: 4.949 | J44: 3.5 | K44: 17.32
B45: Insumo | C45: 00007213 | D45: SINAPI | E45: TELHA DE FIBROCIMENTO ONDULADA E = 4 MM, DE 2,44 X 0,50 M (SEM AMIANTO) | F45: Material | H45: m² | I45: 0.84 | J45: 19.13 | K45: 16.06
B46: Insumo | C46: 00043614 | D46: SINAPI | E46: TABUA NAO APARELHADA *2,5 X 15* CM, EM MACARANDUBA/MASSARANDUBA, ANGELIM OU EQUIVALENTE DA REGIAO - BRUTA | F46: Material | H46: M | I46: 6.26 | J46: 15.96 | K46: 99.9
B47: Insumo | C47: 00002420 | D47: SINAPI | E47: DOBRADICA EM ACO/FERRO, 3" X 2 1/2", E= 1,9 A 2 MM, SEM ANEL, CROMADO OU ZINCADO, TAMPA BOLA, COM PARAFUSOS | F47: Material | H47: UN | I47: 0.48 | J47: 16.27 | K47: 7.8
B48: Insumo | C48: 00005068 | D48: SINAPI | E48: PREGO DE ACO POLIDO COM CABECA 17 X 21 (2 X 11) | F48: Material | H48: KG | I48: 0.421 | J48: 19.73 | K48: 8.3
...

Sheet 4 -Cronograma Físico Financeiro
C2: ='1 - Orçamento Resumido'!E2 -> PREFEITURA MUNICIPAL DE JARDIM
C3: ='1 - Orçamento Resumido'!E3 -> RUA CORONEL JUVÊNCIO, Nº 547 | H3: ENCARGOS SOCIAIS | L3: BANCOS:
C4: ='1 - Orçamento Resumido'!E4 -> CNPJ: 03.162.047/0001-40 | H4: ='1 - Orçamento Resumido'!G4 -> SEM DESONERAÇÃO | L4: ='1 - Orçamento Resumido'!H3 -> SINAP 09/2025 - MS | N4: ='1 - Orçamento Resumido'!I3 -> SBC 10/2025
C5: {='1 - Orçamento Resumido'!E5:F6} -> OBRA: CONSTRUÇÃO DO CENTRO DE ATENÇÃO PSICOSSOCIAL I E II | D5: 0 | L5: ='1 - Orçamento Resumido'!H4 -> AGESUL 06/2025 | N5: ='1 - Orçamento Resumido'!I4 -> SEINFRA 028
C6: 0 | D6: 0 | H6: ='1 - Orçamento Resumido'!G6 -> HORISTA: 107,52% | L6: ='1 - Orçamento Resumido'!H5 -> ORSE 08/2025 | N6: ='1 - Orçamento Resumido'!I5 -> IOPS 07/2025
L7: ='1 - Orçamento Resumido'!H6 -> CPOS 09/2025 | N7: ='1 - Orçamento Resumido'!I6 -> EMOP 09/2025
C8: LOCAL: AV. MATO GROSSO, 758-848 - VILA ANGELICA, JARDIM - MS | H8: ='1 - Orçamento Resumido'!G7 -> MENSALISTA: 64,8% | L8: ='1 - Orçamento Resumido'!H7 -> AGETOP 06/2025 | N8: ='1 - Orçamento Resumido'!I7 -> BDI: 25,00%
B10: CRONOGRAMA FÍSICO FINANCEIRO
B11: Item | C11: Descrição | F11: Total Por Etapa | G11: 30 DIAS | H11: 60 DIAS | I11: 90 DIAS | J11: 120 DIAS | K11: 150 DIAS | L11: 180 DIAS | M11: 210 DIAS | N11: 240 DIAS | O11: 270 DIAS | P11: 300 DIAS | Q11: 330 DIAS | R11: 360 DIAS | S11: 390 DIAS | T11: 420 DIAS
B12: 1 | C12: SERVIÇOS PRELIMINARES E INDIRETOS | F12: 100,00% 149.455,06 | G12: 61,00% 91.167,59 | H12: 3,00% 4.483,65 | I12: 3,00% 4.483,65 | J12: 3,00% 4.483,65 | K12: 3,00% 4.483,65 | L12: 3,00% 4.483,65 | M12: 3,00% 4.483,65 | N12: 3,00% 4.483,65 | O12: 3,00% 4.483,65 | P12: 3,00% 4.483,65 | Q12: 3,00% 4.483,65 | R12: 3,00% 4.483,65 | S12: 3,00% 4.483,65 | T12: 3,00% 4.483,65
B13: 2 | C13: FUNDAÇÃO | F13: 100,00% 256.655,79 | G13: 20,00% 51.331,16 | H13: 30,00% 76.996,74 | I13: 30,00% 76.996,74 | J13: 20,00% 51.331,16
B14: 3 | C14: ESTRUTURA | F14: 100,00% 261.481,50 | H14: 25,00% 65.370,38 | I14: 25,00% 65.370,38 | J14: 25,00% 65.370,38 | K14: 20,00% 52.296,30 | R14: 5,00% 13.074,08
B15: 4 | C15: ALVENARIA, VEDAÇÕES E DIVISÓRIAS | F15: 100,00% 205.573,09 | J15: 20,00% 41.114,62 | K15: 20,00% 41.114,62 | L15: 20,00% 41.114,62 | M15: 20,00% 41.114,62 | N15: 20,00% 41.114,62
B16: 5 | C16: COBERTURA | F16: 100,00% 98.886,73 | L16: 40,00% 39.554,69 | M16: 15,00% 14.833,01 | N16: 15,00% 14.833,01 | O16: 15,00% 14.833,01 | P16: 15,00% 14.833,01
B17: 6 | C17: IMPERMEABILIZAÇÃO | F17: 100,00% 38.895,46 | L17: 100,00% 38.895,46
B18: 7 | C18: ESQUADRIAS | F18: 100,00% 229.739,92 | M18: 25,00% 57.434,98 | N18: 20,00% 45.947,98 | O18: 20,00% 45.947,98 | P18: 20,00% 45.947,98 | T18: 15,00% 34.460,99
B19: 8 | C19: REVESTIMENTO DE PAREDE | F19: 100,00% 107.041,40 | J19: 20,00% 21.408,28 | K19: 20,00% 21.408,28 | L19: 20,00% 21.408,28 | M19: 20,00% 21.408,28 | Q19: 10,00% 10.704,14 | R19: 10,00% 10.704,14
B20: 9 | C20: REVESTIMENTO DE PISO INTERNO | F20: 100,00% 146.517,41 | N20: 25,00% 36.629,35 | O20: 25,00% 36.629,35 | P20: 25,00% 36.629,35 | Q20: 20,00% 29.303,48 | R20: 5,00% 7.325,87
B21: 10 | C21: REVESTIMENTO DE PISO EXTERNO | F21: 100,00% 39.170,56 | Q21: 80,00% 31.336,45 | R21: 20,00% 7.834,11
B22: 11 | C22: REVESTIMENTO DE TETO | F22: 100,00% 45.136,83 | N22: 40,00% 18.054,73 | O22: 40,00% 18.054,73 | Q22: 20,00% 9.027,37
B23: 12 | C23: PINTURA | F23: 100,00% 88.858,89 | S23: 60,00% 53.315,33 | T23: 40,00% 35.543,56
B24: 13 | C24: MARMORARIA | F24: 100,00% 24.962,46 | S24: 100,00% 24.962,46
B25: 14 | C25: LOUÇAS, METAIS E ACESSÓRIOS | F25: 100,00% 62.575,96 | S25: 50,00% 31.287,98 | T25: 50,00% 31.287,98
B26: 15 | C26: INSTALAÇÕES HIDROSSANITÁRIAS | F26: 100,00% 203.998,97 | K26: 10,00% 20.399,90 | L26: 10,00% 20.399,90 | M26: 10,00% 20.399,90 | N26: 10,00% 20.399,90 | Q26: 20,00% 40.799,79 | R26: 20,00% 40.799,79 | S26: 20,00% 40.799,79
B27: 16 | C27: INSTALAÇÕES ELÉTRICAS | F27: 100,00% 307.910,60 | K27: 10,00% 30.791,06 | L27: 10,00% 30.791,06 | M27: 10,00% 30.791,06 | N27: 10,00% 30.791,06 | Q27: 20,00% 61.582,12 | R27: 20,00% 61.582,12 | S27: 10,00% 30.791,06 | T27: 10,00% 30.791,06
B28: 17 | C28: CLIMATIZAÇÃO | F28: 100,00% 173.612,72 | O28: 20,00% 34.722,54 | P28: 20,00% 34.722,54 | Q28: 20,00% 34.722,54 | R28: 20,00% 34.722,54 | T28: 20,00% 34.722,54
B29: 18 | C29: DADOS E VOZ | F29: 100,00% 21.896,19 | N29: 30,00% 6.568,86 | O29: 30,00% 6.568,86 | P29: 40,00% 8.758,48
B30: 19 | C30: URBANIZAÇÃO | F30: 100,00% 15.344,81 | S30: 20,00% 3.068,96 | T30: 80,00% 12.275,85
B31: 20 | C31: MURO | F31: 100,00% 158.843,22 | P31: 30,00% 47.652,97 | R31: 30,00% 47.652,97 | S31: 30,00% 47.652,97 | T31: 10,00% 15.884,32
B32: 21 | C32: SERVIÇOS COMPLEMENTARES | F32: 100,00% 12.533,22 | T32: 100,00% 12.533,22
B33: Porcentagem | G33: 5,38% | H33: 5,54% | I33: 5,54% | J33: 6,93% | K33: 6,44% | L33: 7,42% | M33: 7,19% | N33: 8,26% | O33: 6,09% | P33: 7,29% | Q33: 8,38% | R33: 8,61% | S33: 8,92% | T33: 8,0%
B34: Custo | G34: 142.498,74 | H34: 146.850,76 | I34: 146.850,76 | J34: 183.708,08 | K34: 170.493,80 | L34: 196.647,65 | M34: 190.465,49 | N34: 218.823,16 | O34: 161.240,13 | P34: 193.027,98 | Q34: 221.959,54 | R34: 228.179,27 | S34: 236.362,20 | T34: 211.983,16
B35: Porcentagem Acumulado | G35: 5,38% | H35: 10,92% | I35: 16,47% | J35: 23,4% | K35: 29,84% | L35: 37,26% | M35: 44,45% | N35: 52,71% | O35: 58,8% | P35: 66,08% | Q35: 74,46% | R35: 83,08% | S35: 92,0% | T35: 100,0%
B36: Custo Acumulado | G36: 142.498,74 | H36: 289.349,50 | I36: 436.200,26 | J36: 619.908,34 | K36: 790.402,14 | L36: 987.049,79 | M36: 1.177.515,28 | N36: 1.396.338,44 | O36: 1.557.578,57 | P36: 1.750.606,55 | Q36: 1.972.566,09 | R36: 2.200.745,36 | S36: 2.437.107,56 | T36: 2.649.090,79

Sheet 5 - Memória de Cálculo
C3: ='1 - Orçamento Resumido'!E2 -> PREFEITURA MUNICIPAL DE JARDIM | F3: BANCOS:
C4: ='1 - Orçamento Resumido'!E3 -> RUA CORONEL JUVÊNCIO, Nº 547 | E4: ENCARGOS SOCIAIS | F4: ='1 - Orçamento Resumido'!H3 -> SINAP 09/2025 - MS | H4: ='1 - Orçamento Resumido'!I3 -> SBC 10/2025
C5: ='1 - Orçamento Resumido'!E4 -> CNPJ: 03.162.047/0001-40 | E5: ='[1]1 - Orçamento Resumido'!G5 -> SEM DESONERAÇÃO | F5: ='1 - Orçamento Resumido'!H4 -> AGESUL 06/2025 | H5: ='1 - Orçamento Resumido'!I4 -> SEINFRA 028
C6: ='1 - Orçamento Resumido'!E5 -> OBRA: CONSTRUÇÃO DO CENTRO DE ATENÇÃO PSICOSSOCIAL I E II | F6: ='1 - Orçamento Resumido'!H5 -> ORSE 08/2025 | H6: ='1 - Orçamento Resumido'!I5 -> IOPS 07/2025
E7: ='1 - Orçamento Resumido'!G6 -> HORISTA: 107,52% | F7: ='1 - Orçamento Resumido'!H6 -> CPOS 09/2025 | H7: ='1 - Orçamento Resumido'!I6 -> EMOP 09/2025
C8: ='1 - Orçamento Resumido'!E7 -> LOCAL: RUA JOSÉ DE ALENCAR, ESQ. C/ RUA DÁLIA BERNADINO DA SILVA, JARDIM/MS | E8: ='1 - Orçamento Resumido'!G7 -> MENSALISTA: 64,8% | F8: ='1 - Orçamento Resumido'!H7 -> AGETOP 06/2025 | H8: ='1 - Orçamento Resumido'!I7 -> BDI: 25,00%
A10: MEMÓRIA DE CÁLCULO
A11: Item | B11: Código | C11: Banco | D11: Descrição | E11: Und | F11: Quant. | G11: Valor Unit | H11: Valor Unit com BDI | I11: Total | J11: Peso (%)
A12: 2 | D12: FUNDAÇÃO | F12: 1 | H12: 256655.79 | I12: 256655.79 | J12: 0.096884482
A13: 2.1 | D13: ESTACAS ESCAVADAS | F13: 1 | H13: 119958.23 | I13: 119958.23 | J13: 0.045282793
A14: 2.1.1 | B14: 99059 | C14: SINAPI | D14: LOCAÇÃO CONVENCIONAL DE OBRA, UTILIZANDO GABARITO DE TÁBUAS CORRIDAS PONTALETADAS A CADA 2,00M - 2 UTILIZAÇÕES. AF_03/2024 | E14: M | F14: 97.5 | G14: 62.08 | H14: 77.6 | I14: 7566 | J14: 0.0028560743
A15: 2.1.2 | B15: 0301000134 | C15: AGESUL | D15: ESTACA ESCAVADA MECANICAMENTE, SEM FLUIDO ESTABILIZANTE, COM 40CM DE DIAMETRO, CONCRETO LANCADO POR CAMINHAO BETONEIRA (EXCLUSIVE FERRAGENS, MOBILIZACAO E DESMOBILIZACAO) | E15: M | F15: 510 | G15: 114.66 | H15: 143.32 | I15: 73093.2 | J15: 0.027591806
A16: Local | D16: Descrição | E16: Fórmula | I16: Quantidade
D17: Conforme Projeto Estrutural atualizado, prancha EST 01/02, tabela estacas | E17: (54*5)+(40*6) | I17: 510
A18: 2.1.3 | B18: 95577 | C18: SINAPI | D18: MONTAGEM DE ARMADURA DE ESTACAS, DIÂMETRO = 10,0 MM. AF_09/2021_PS | E18: KG | F18: 1043.2 | G18: 10.57 | H18: 13.21 | I18: 13780.67 | J18: 0.0052020376
A19: Local | D19: Descrição | E19: Fórmula | I19: Quantidade
D20: Conforme Projeto Estrutural atualizado, prancha EST 01/02, resumo de aço | E20: 1043,2 | I20: 1043.2
A21: 2.1.4 | B21: 95583 | C21: SINAPI | D21: MONTAGEM DE ARMADURA TRANSVERSAL DE ESTACAS DE SEÇÃO CIRCULAR, DIÂMETRO = 5,0 MM. AF_09/2021_PS | E21: KG | F21: 405.7 | G21: 15.67 | H21: 19.58 | I21: 7943.6 | J21: 0.0029986137
A22: Local | D22: Descrição | E22: Fórmula | I22: Quantidade
D23: Conforme Projeto Estrutural atualizado, prancha EST 01/02, resumo de aço | E23: 405,7 | I23: 405.7
A24: 2.1.5 | B24: 95601 | C24: SINAPI | D24: ARRASAMENTO MECANICO DE ESTACA DE CONCRETO ARMADO, DIAMETROS DE ATÉ 40 CM. AF_05/2021 | E24: UN | F24: 94 | G24: 17.78 | H24: 22.22 | I24: 2088.68 | J24: 0.00078845165
A25: Local | D25: Descrição | E25: Fórmula | I25: Quantidade
D26: Conforme Projeto Estrutural atualizado, prancha EST 01/02, tabela estacas | E26: 54+40 | I26: 94
A27: 2.1.6 | B27: 0601003200 | C27: AGESUL | D27: BOMBEAMENTO, ADENSAMENTO E ACABAMENTO DE CONCRETO | E27: m³ | F27: 64 | G27: 90.56 | H27: 113.2 | I27: 7244.8 | J27: 0.0027348251
A28: Local | D28: Descrição | E28: Fórmula | I28: Quantidade
D29: Conforme Projeto Estrutural atualizado, prancha EST 01/02, resumo de aço | E29: 64 | I29: 64
A30: 2.1.7 | B30: CPU2532 | C30: Próprio | D30: CONTROLE TECNOLOGICO DE CONCRETOS | E30: m³ | F30: 64 | G30: 103.02 | H30: 128.77 | I30: 8241.28 | J30: 0.0031109844
A31: Local | D31: Descrição | E31: Fórmula | I31: Quantidade
D32: Conforme Projeto Estrutural atualizado, prancha EST 01/02, resumo de aço | E32: 64 | I32: 64
A33: 2.2 | D33: BLOCOS | F33: 1 | H33: 75994.35 | I33: 75994.35 | J33: 0.028686956
A34: 2.2.1 | B34: 96523 | C34: SINAPI | D34: ESCAVAÇÃO MANUAL PARA BLOCO DE COROAMENTO OU SAPATA (INCLUINDO ESCAVAÇÃO PARA COLOCAÇÃO DE FÔRMAS). AF_01/2024 | E34: m³ | F34: 39.16 | G34: 94.07 | H34: 117.58 | I34: 4604.43 | J34: 0.0017381171
A35: Local | D35: Descrição | E35: Fórmula | I35: Quantidade
D36: Conforme Projeto Estrutural atualizado, prancha EST 02/02, resumo de aço | E36: 39,16 | I36: 39.16
A37: 2.2.2 | B37: 96534 | C37: SINAPI | D37: FABRICAÇÃO, MONTAGEM E DESMONTAGEM DE FÔRMA PARA BLOCO DE COROAMENTO, EM MADEIRA SERRADA, E=25 MM, 4 UTILIZAÇÕES. AF_01/2024 | E37: m² | F37: 172 | G37: 71.72 | H37: 89.65 | I37: 15419.8 | J37: 0.0058207896
A38: Local | D38: Descrição | E38: Fórmula | I38: Quantidade
D39: Conforme Projeto Estrutural atualizado, prancha EST 02/02, resumo de aço | E39: 172 | I39: 172
A40: 2.2.3 | B40: ELMT COMP - 1041 | C40: Próprio | D40: LASTRO COM MATERIAL GRANULAR, APLICAÇÃO EM VIGA BALDRAME, ESPESSURA DE *5 CM*. | E40: m³ | F40: 2.9815956 | G40: 221.05 | H40: 276.31 | I40: 823.84 | J40: 0.00031098972
A41: Local | D41: Descrição | E41: Fórmula | I41: Quantidade
D42: Conforme Projeto Estrutural atualizado, prancha EST 02/02, dimensões blocos | E42: ((0,70*0,70*25)+(0,70*1,90*33)+(2,008*1,739*1))*0,05 | I42: 2.9815956
A43: 2.2.4 | B43: 96543 | C43: SINAPI | D43: ARMAÇÃO DE BLOCO UTILIZANDO AÇO CA-60 DE 5 MM - MONTAGEM. AF_01/2024 | E43: KG | F43: 359.6 | G43: 19.52 | H43: 24.4 | I43: 8774.24 | J43: 0.0033121704
...

Sheet 6 - BDI
B1: VERIFICAÇÃO DO BDI - ACÓRDÃO 2.622/2013
B4: DADOS INICIAIS
B6: TIPO DE OBRA: | C6: Construção de edificios
B8: ENQUADRAMENTO NA DESONERAÇÃO CONFORME LEI N° 12.844/2013:* | F8: NÃO | K8: =IF(F8="","PREENCHER SE A OBRA POSSUI FOLHA DE PAGAMENTO DESONERADA","")
B9: *Uso de encargos sociais desonerados na elaboração do orçamento
B11: ENQUADRAM-SE NO TIPO SELECIONADO:
B12: =VLOOKUP(BU294,BV256:BW261,2,0) -> A construção e reforma de: edifícios, unidades habitacionais, escolas, hospitais, hotéis, restaurantes, armazéns e depósitos, edifícios para uso agropecuário, estações para trens e metropolitanos, estádios esportivos e quadras cobertas, instalações para embarque e desembarque de passageiros (em aeroportos, rodoviárias, portos, etc.), penitenciárias e presídios, a construção de edifícios industriais (fábricas, oficinas, galpões industriais, etc.), conforme classificação 4120-4 do CNAE 2.0. Também enquadram-se pórticos, mirantes e outros edifícios de finalidade turística.
B14: CÁLCULO DOS IMPOSTOS
B16: TIPO DE TRIBUTAÇÃO SOBRE O LUCRO: | E16: LUCRO PRESUMIDO | K16: =IF(E16="LUCRO REAL","PARA CÁLCULO DO IMPOSTO PREENCHER O % ADOTADO DE LUCRO NO CÁLCULO DO BDI - CELULA F40","")
B18: Imposto | C18: Aliquota | D18: Base de cálculo
B19: PIS | C19: =VLOOKUP($E$16,$CE$265:$CH$266,2,0) -> 0.0065 | D19: =VLOOKUP(E16,CE265:CH266,4,0) -> RECEITA BRUTA (VALOR DA NOTA)
B20: COFINS | C20: =VLOOKUP($E$16,$CE$265:$CH$266,3,0) -> 0.03
B22: ISS BRUTO % (LEI MUNICIPAL): | D22: % INCIDÊNCIA (M.OBRA)*
B23: 0.05 | D23: 0.6
D24: ,
B25: ISS LÍQUIDO | C25: =+B23*D23 -> 0.03
D27: TOTAL IMPOSTOS | F27: =VLOOKUP(E16,CE265:CI266,5,0) -> 0.0665
B29: *Incidência do total do contrato que representa mão de obra para compor a base de cálculo conf. legislação municipal.
B33: VERIFICAÇÃO E CÁLCULO DO BDI
B35: ITEM COMPONENTE | C35: 1º QUARTIL | D35: MÉDIO | E35: 3º QUARTIL | F35: Adotado | I35: Cálculo arredondado
B36: Administração Central | C36: =BV295 -> 0.03 | D36: =BW295 -> 0.04 | E36: =BX295 -> 0.055 | F36: 0.0436 | I36: =TRUNC(F36,4) -> 0.0436
B37: Seguro e Garantia | C37: =BV296 -> 0.008 | D37: =BW296 -> 0.008 | E37: =BX296 -> 0.01 | F37: 0.01 | I37: =TRUNC(F37,4) -> 0.01
B38: Risco | C38: =BV297 -> 0.0097 | D38: =BW297 -> 0.0127 | E38: =BX297 -> 0.0127 | F38: 0.0127 | I38: =TRUNC(F38,4) -> 0.0127
B39: Despesas Financeiras | C39: =BV298 -> 0.0059 | D39: =BW298 -> 0.0123 | E39: =BX298 -> 0.0139 | F39: 0.0123 | I39: =TRUNC(F39,4) -> 0.0123
B40: Lucro | C40: =BV299 -> 0.0616 | D40: =BW299 -> 0.074 | E40: =BX299 -> 0.0896 | F40: 0.0811 | I40: =TRUNC(F40,4) -> 0.0811
B42: Impostos | F42: =F27 -> 0.0665 | I42: =TRUNC(F42,5) -> 0.0665
B49: BDI CALCULADO | E49: =TRUNC((((1+I36+I37+I38)*(1+I39)*(1+I40))/(1-I42))-1,4) -> 0.25
B51: =IF(E49<C53,"ERRO - BDI INFERIOR AO 1º QUARTIL",IF(E49>E53,"ERRO - BDI SUPERIOR AO 3º QUARTIL",""))
C52: 1º QUARTIL | D52: MÉDIO | E52: 3º QUARTIL
B53: LIMITES DO BDI | C53: =BV294 -> 0.2034 | D53: =BW294 -> 0.2212 | E53: =BX294 -> 0.25
B55: CORREÇÃO DA DESONERAÇÃO
B57: BDI CALCULADO C/ DESONERAÇÃO (USO DE E.S. DESONERADOS): | E57: =TRUNC((((1+I36+I37+I38)*(1+I39)*(1+I40))/(1-I59))-1,4) -> 0.3134
B59: INSS SOBRE A RECEITA BRUTA: | C59: 0.045 | D59: TOTAL IMPOSTOS | F59: =+F27+C59 -> 0.1115 | I59: =TRUNC(F59,5) -> 0.1115
A64: ____________________________________
A65: Elemento Engenharia e Arquitetura CNPJ: 33.545.436/0001-15
BT254: BANCO DE DADOS
BU255: TIPO DE OBRA | BV255: CÓDIGO | BW255: ENQUARAMENTO
BT256: 100 | BU256: Construção de edificios | BV256: =+BT256 -> 100 | BW256: A construção e reforma de: edifícios, unidades habitacionais, escolas, hospitais, hotéis, restaurantes, armazéns e depósitos, edifícios para uso agropecuário, estações para trens e metropolitanos, estádios esportivos e quadras cobertas, instalações para embarque e desembarque de passageiros (em aeroportos, rodoviárias, portos, etc.), penitenciárias e presídios, a construção de edifícios industriais (fábricas, oficinas, galpões industriais, etc.), conforme classificação 4120-4 do CNAE 2.0. Também enquadram-se pórticos, mirantes e outros edifícios de finalidade turística.
BT257: 200 | BU257: Construção de rodovias e ferrovias | BV257: =+BT257 -> 200 | BW257: A construção e recuperação de: auto-estradas, rodovias e outras vias não-urbanas para passagem de veículos, vias férreas de superfície ou subterrâneas (inclusive para metropolitanos), pistas de aeroportos. Esta classe compreende também: a pavimentação de auto-estradas, rodovias e outras vias não-urbanas; construção de pontes, viadutos e túneis; a instalação de barreiras acústicas; a construção de praças de pedágio; a sinalização com pintura em rodovias e aeroportos; a instalação de placas de sinalização de tráfego e semelhantes, conforme classificação 4211-1 do CNAE 2.0. Também enquadram-se a construção, pavimentação e sinalização de vias urbanas, ruas e locais para estacionamento de veículos; a construção de praças e calçadas para pedestres; elevados, passarelas e ciclovias; metrô e VLT.
BT258: 300 | BU258: Construção de Redes de Abastecimento de Água, Coleta de Esgoto e Construções Correlatas | BV258: =+BT258 -> 300 | BW258: A construção de sistemas para o abastecimento de água tratada: reservatórios de distribuição, estações elevatórias de bombeamento, linhas principais de adução de longa e média distância e redes de distribuição de água; a construção de redes de coleta de esgoto, inclusive de interceptores, estações de tratamento de esgoto (ETE), estações de bombeamento de esgoto (EBE); a construção de galerias pluviais (obras de micro e macro drenagem). Esta classe compreende também: as obras de irrigação (canais); a manutenção de redes de abastecimento de água tratada; a manutenção de redes de coleta e de sistemas de tratamento de esgoto, conforme classificação 4222-7 do CNAE 2.0. Enquadra-se ainda a construção de estações de tratamento de água (ETA).
...
