Workbook

Sheet Planilha
A1: COMPANHIA MUNICIPAL DE TRÂNSITO E URBANIZAÇÃO DE LONDRINA
A2: PLANILHA DE CUSTOS E FORMAÇÃO DE PREÇOS
A4: Mês de Referência | C4: Fevereiro de 2026
A5: Município/UF | C5: Londrina/PR
A6: Acordo, Convenção ou Sentença Normativa em Dissídio Coletivo | C6: CCT SIEMACO 2026/2028 CCT SINTRACOM 2025/2026 CCT SINTRAPAV 2025/2026 CCT SINTTROL 2024/2025
A7: Data base da categoria | C7: SIEMACO 01/02/2025 SINTRACOM 01/06/2025 SINTRAPAV 01/06/2025 SINTTROL 01/08/2024
A8: Nº de meses de execução contratual | C8: 12
A11: COMPOSIÇÃO DE PREÇOS UNITÁRIOS MENSAIS
A13: (A) MÃO DE OBRA
B14: DESCRIÇÃO | C14: UNID. | D14: QTD. | E14: PREÇO UNITÁRIO | F14: SUBTOTAL
A15: A.1 | B15: Coletores | C15: vb/mês | D15: 24 | E15: ='(A.1) Coletores'!C99 -> 5930.4823 | F15: =D15*E15 -> 142331.58
A16: A.2 | B16: Operador Picador /Triturador | C16: vb/mês | D16: 1 | E16: ='(A.2) Op Picador Triturador'!C99 -> 5437.6606 | F16: =D16*E16 -> 5437.6606
A17: A.3 | B17: Operador de Pá carregadeira | C17: vb/mês | D17: 1 | E17: ='(A.3) Operador Pá carregadeira'!C99 -> 6459.63 | F17: =D17*E17 -> 6459.63
A18: A.4 | B18: Pedreiro | C18: vb/mês | D18: 4 | E18: ='(A.4) Pedreiro'!C99 -> 6241.3648 | F18: =D18*E18 -> 24965.459
A19: A.5 | B19: Operador de Motosserra/Motopoda | C19: vb/mês | D19: 2 | E19: ='(A.5) Operador de motosserra'!C99 -> 5437.6606 | F19: =D19*E19 -> 10875.321
A20: A.6 | B20: Motorista Cat C | C20: vb/mês | D20: 8 | E20: ='(A.6) Motorista Cat C'!C99 -> 4482.8298 | F20: =D20*E20 -> 35862.638
A21: A.7 | B21: Motorista Cat D | C21: vb/mês | D21: 2 | E21: ='(A.7) Motorista Cat D'!C99 -> 4844.3411 | F21: =D21*E21 -> 9688.6823
A22: A.8 | B22: Operador de minicarregadeira tipo "Bobcat" | C22: vb/mês | D22: 1 | E22: ='(A.8) Operador de Bobcat'!D99 -> 5562.898 | F22: =D22*E22 -> 5562.898
A23: A.9 | B23: Operador de Roçadeira Costal | C23: vb/mês | D23: 4 | E23: ='(A.9) Operador de roçadeira'!D99 -> 6003.2021 | F23: =E23*D23 -> 24012.808
A24: SOMA | F24: =SUM(F15:F23) -> 265196.67
A26: (B) VEÍCULOS - INCLUSAS TODAS AS DEPESAS DE OPERAÇÃO E MANUTENÇÃO, EXCETO MOTORISTA
B27: DESCRIÇÃO | C27: UNID. | D27: QTD. | E27: PREÇO UNITÁRIO | F27: SUBTOTAL
A28: B.1 | B28: Veículo para Transporte de Passageiros | C28: vb/mês | D28: 2 | E28: ='(B.1) Van'!E70 -> 7341.5741 | F28: =E28*D28 -> 14683.148
A29: B.2 | B29: Caminhão basculante trucado | C29: vb/mês | D29: 7 | E29: ='(B.2) Caminhão Basculante'!E72 -> 21920.375 | F29: =E29*D29 -> 153442.63
A30: B.3 | B30: Caminhão Compactador | C30: vb/mês | D30: 1 | E30: ='(B.3) Compactador 15m³'!E79 -> 26603.583 | F30: =E30*D30 -> 26603.583
A31: Crédito de Pis e Cofins | F31: =-9.25%*(SUM(F28:F29)) -> -15551.634
A32: SOMA | F32: =SUM(F28:F31) -> 179177.72
A34: (C) EQUIPAMENTOS LEVES E ACESSÓRIOS - INCLUSAS TODAS AS DEPESAS DE OPERAÇÃO E MANUTENÇÃO, EXCETO MOTORISTA/OPERADOR
B35: DESCRIÇÃO | C35: UNID. | D35: QTD. | E35: PREÇO UNITÁRIO | F35: SUBTOTAL
A36: C.1 | B36: Carreta Semi Reboque - 3,00 x 1,80 metros aprox | C36: vb/mês | D36: 2 | E36: ='Equipamentos - Custo'!J4 -> 896.9125 | F36: ='Equipamentos - Custo'!J4 -> 896.9125
A37: C.2 | B37: Pneus para carreta semi reboque | C37: vb/mês | D37: 4 | E37: 415.79 | F37: =(E37*D37)/12 -> 138.59667
A38: C.3 | B38: Máquina motosserra | C38: vb/mês | D38: 2 | E38: ='Equipamentos - Custo'!J6 -> 239.67917 | F38: ='Equipamentos - Custo'!J6 -> 239.67917
A39: C.4 | B39: Máquina motopoda | C39: vb/mês | D39: 2 | E39: ='Equipamentos - Custo'!J5 -> 475.17744 | F39: =E39*D39 -> 950.35489
A40: C.5 | B40: Máquina Roçadeira | C40: vb/mês | D40: 4 | E40: ='Equipamentos - Custo'!J7 -> 280.56422 | F40: =E40*D40 -> 1122.2569
A41: C.6 | B41: Gasolina equipamentos | C41: lts/mês | D41: =11347.2/12 -> 945.6 | E41: 6.18 | F41: =E41*D41 -> 5843.808
A42: C.7 | B42: Óleo 2 tempos | C42: lts/mês | D42: =321/12*0.5*2 -> 26.75 | E42: 20.47 | F42: =E42*D42 -> 547.5725
A43: Crédito de Pis e Cofins | F43: =-9.25%*(SUM(F36:F42)) -> -900.87421
A44: SOMA | F44: =SUM(F36:F43) -> 8838.3064
A46: (D) EQUIPAMENTOS PESADOS - INCLUSAS TODAS AS DEPESAS DE OPERAÇÃO E MANUTENÇÃO, EXCETO MOTORISTA/OPERADOR
B47: DESCRIÇÃO | C47: UNID. | D47: QTD. | E47: PREÇO UNITÁRIO | F47: SUBTOTAL
...

Sheet (A.1) Coletores
A1: COMPANHIA MUNICIPAL DE TRÂNSITO E URBANIZAÇÃO DE LONDRINA
A2: PLANILHA DE CUSTOS E FORMAÇÃO DE PREÇOS
A4: Mês de Referência | C4: Fevereiro de 2026
A5: Município/UF | C5: Londrina/PR
A6: Acordo, Convenção ou Sentença Normativa em Dissídio Coletivo | C6: CCT SIEMACO 2026/2028
A7: Data base da categoria | C7: SIEMACO 01/02/2026
A8: Nº de meses de execução contratual | C8: 12
A10: IDENTIFICAÇÃO DO SERVIÇO | C10: CBO
A11: COLETOR | C11: 5142-25
A13: MÓDULO 1 - COMPOSIÇÃO DA REMUNERAÇÃO
A14: 1 | B14: COMPOSIÇÃO DA REMUNERAÇÃO | D14: Valor R$
A15: 1.1 | B15: Salário Base | D15: 2025
A16: 1.2 | B16: Adicional de Assiduidade | D16: 0
A17: 1.3 | B17: Adicional de Risco | D17: 0
A18: 1.4 | B18: Adicional de Periculosidade | D18: =(D15*C18) -> 0
A19: 1.5 | B19: Adicional de Insalubridade | C19: 0.4 | D19: =(1621*C19) -> 648.4
A20: 1.6 | B20: Adicional Noturno | D20: 0
A21: 1.7 | B21: Adicional de Hora Noturna Reduzida | D21: 0
A22: 1.8 | B22: Adicional de Hora Extra | D22: 0
A23: 1.9 | B23: Descanso Semanal Remunerado | D23: 0
A24: 1.10 | B24: Outros | D24: =SUM(D15:D23)*C24 -> 0
A25: TOTAL DA REMUNERAÇÃO | D25: =SUM(D15:D24) -> 2673.4
A27: MÓDULO 2 - ENCARGOS E BENEFÍCIOS ANUAIS, MENSAIS E DIÁRIOS
A28: 2.1 | B28: SUB-MÓDULO 2.1 - 13º SALÁRIO, FÉRIAS E ADICIONAL DE FÉRIAS | C28: % | D28: Valor (R$)
A29: 2.1.1 | B29: 13º salário | C29: 0.0833 | D29: =($D$25*C29) -> 222.69422
A30: 2.1.2 | B30: Férias e terço constitucional de férias | C30: 0.1111 | D30: =($D$25*C30) -> 297.01474
A31: 2.1.3 | B31: Incidência do Sub-módulo 2.2 | C31: =C43*(C29+C30) -> 0.0715392 | D31: =($D$25*C31) -> 191.2529
A32: TOTAL SUB-MÓDULO | D32: =SUM(D29:D31) -> 710.96186
A34: 2.2 | B34: SUB-MÓDULO 2.2 - GPS, FGTS E OUTRAS CONTRIBUIÇÕES | C34: % | D34: Valor (R$)
A35: 2.2.1 | B35: INSS | C35: 0.2 | D35: =(D25*C35) -> 534.68
A36: 2.2.2 | B36: FGTS | C36: 0.08 | D36: =(D25*C36) -> 213.872
A37: 2.2.3 | B37: SESI OU SESC | C37: 0.015 | D37: =(D25*C37) -> 40.101
A38: 2.2.4 | B38: SENAI OU SENAC | C38: 0.01 | D38: =(D25*C38) -> 26.734
A39: 2.2.5 | B39: SEBRAE | C39: 0.006 | D39: =(D25*C39) -> 16.0404
A40: 2.2.6 | B40: INCRA | C40: 0.002 | D40: =(D25*C40) -> 5.3468
A41: 2.2.7 | B41: SALÁRIO EDUCAÇÃO | C41: 0.025 | D41: =(D25*C41) -> 66.835
A42: 2.2.8 | B42: SAT - VER NOTA EXPLICATIVA 1* | C42: 0.03 | D42: =(D25*C42) -> 80.202
A43: TOTAL SUB-MÓDULO | C43: =SUM(C35:C42) -> 0.368 | D43: =SUM(D35:D42) -> 983.8112
A45: 2.3 | B45: SUB-MÓDULO 2.3 - BENEFÍCIOS MENSAIS E DIÁRIOS | D45: Valor R$
A46: 2.3.1 | B46: Transporte | C46: 6.25 | D46: =(C46*50.16)-(6%*D15) -> 192
...

Sheet (A.2) Op Picador Triturador
A1: COMPANHIA MUNICIPAL DE TRÂNSITO E URBANIZAÇÃO DE LONDRINA
A2: PLANILHA DE CUSTOS E FORMAÇÃO DE PREÇOS
A4: Mês de Referência | C4: Fevereiro de 2026
A5: Município/UF | C5: Londrina/PR
A6: Acordo, Convenção ou Sentença Normativa em Dissídio Coletivo | C6: CCT SIEMACO 2026/2028
A7: Data base da categoria | C7: SIEMACO 01/02/2026
A8: Nº de meses de execução contratual | C8: 12
A10: IDENTIFICAÇÃO DO SERVIÇO | C10: CBO
A11: OPERADOR PARA PICADOR/TRITURADOR DE GALHOS | C11: 5142-25
A13: MÓDULO 1 - COMPOSIÇÃO DA REMUNERAÇÃO
A14: 1 | B14: COMPOSIÇÃO DA REMUNERAÇÃO | D14: Valor R$
A15: 1.1 | B15: Salário Base | D15: 2404
A16: 1.2 | B16: Adicional de Assiduidade | D16: 0
A17: 1.3 | B17: Adicional de Risco
A18: 1.4 | B18: Adicional de Periculosidade | D18: =(D15*C18) -> 0
A19: 1.5 | B19: Adicional de Insalubridade | D19: =1412*C19 -> 0
A20: 1.6 | B20: Adicional Noturno | D20: 0
A21: 1.7 | B21: Adicional de Hora Noturna Reduzida | D21: 0
A22: 1.8 | B22: Adicional de Hora Extra | D22: 0
A23: 1.9 | B23: Descanso Semanal Remunerado | D23: 0
A24: 1.10 | B24: Outros | D24: =SUM(D15:D23)*C24 -> 0
A25: TOTAL DA REMUNERAÇÃO | D25: =SUM(D15:D24) -> 2404
A27: MÓDULO 2 - ENCARGOS E BENEFÍCIOS ANUAIS, MENSAIS E DIÁRIOS
A28: 2.1 | B28: SUB-MÓDULO 2.1 - 13º SALÁRIO, FÉRIAS E ADICIONAL DE FÉRIAS | C28: % | D28: Valor (R$)
A29: 2.1.1 | B29: 13º salário | C29: 0.0833 | D29: =($D$25*C29) -> 200.2532
A30: 2.1.2 | B30: Férias e terço constitucional de férias | C30: 0.1111 | D30: =($D$25*C30) -> 267.0844
A31: 2.1.3 | B31: Incidência do Sub-módulo 2.2 | C31: =C43*(C29+C30) -> 0.0715392 | D31: =($D$25*C31) -> 171.98024
A32: TOTAL SUB-MÓDULO | D32: =SUM(D29:D31) -> 639.31784
A34: 2.2 | B34: SUB-MÓDULO 2.2 - GPS, FGTS E OUTRAS CONTRIBUIÇÕES | C34: % | D34: Valor (R$)
A35: 2.2.1 | B35: INSS | C35: 0.2 | D35: =(D25*C35) -> 480.8
A36: 2.2.2 | B36: FGTS | C36: 0.08 | D36: =(D25*C36) -> 192.32
A37: 2.2.3 | B37: SESI OU SESC | C37: 0.015 | D37: =(D25*C37) -> 36.06
A38: 2.2.4 | B38: SENAI OU SENAC | C38: 0.01 | D38: =(D25*C38) -> 24.04
A39: 2.2.5 | B39: SEBRAE | C39: 0.006 | D39: =(D25*C39) -> 14.424
A40: 2.2.6 | B40: INCRA | C40: 0.002 | D40: =(D25*C40) -> 4.808
A41: 2.2.7 | B41: SALÁRIO EDUCAÇÃO | C41: 0.025 | D41: =(D25*C41) -> 60.1
A42: 2.2.8 | B42: SAT - VER NOTA EXPLICATIVA 1* | C42: 0.03 | D42: =(D25*C42) -> 72.12
A43: TOTAL SUB-MÓDULO | C43: =SUM(C35:C42) -> 0.368 | D43: =SUM(D35:D42) -> 884.672
A45: 2.3 | B45: SUB-MÓDULO 2.3 - BENEFÍCIOS MENSAIS E DIÁRIOS | D45: Valor R$
A46: 2.3.1 | B46: Transporte | C46: 6.25 | D46: =(C46*50.16)-(6%*D15) -> 169.26
...

Sheet (A.3) Operador Pá carregadeira
A1: COMPANHIA MUNICIPAL DE TRÂNSITO E URBANIZAÇÃO DE LONDRINA
A2: PLANILHA DE CUSTOS E FORMAÇÃO DE PREÇOS
A4: Mês de Referência | C4: Fevereiro de 2026
A5: Município/UF | C5: Londrina/PR
A6: Acordo, Convenção ou Sentença Normativa em Dissídio Coletivo | C6: CCT SINTRAPAV 2025/2026
A7: Data base da categoria | C7: SINTRAPAV 01/06/2025
A8: Nº de meses de execução contratual | C8: 12
A10: IDENTIFICAÇÃO DO SERVIÇO | C10: CBO
A11: OPERADOR DE PÁ CARREGADEIRA | C11: 7151-35
A13: MÓDULO 1 - COMPOSIÇÃO DA REMUNERAÇÃO
A14: 1 | B14: COMPOSIÇÃO DA REMUNERAÇÃO | D14: Valor R$
A15: 1.1 | B15: Salário Base | D15: =13.76*220 -> 3027.2
A16: 1.2 | B16: Adicional de Assiduidade | D16: 0
A17: 1.3 | B17: Adicional de Risco | D17: 0
A18: 1.4 | B18: Adicional de Periculosidade | D18: =(D15*C18) -> 0
A19: 1.5 | B19: Adicional de Insalubridade | D19: =(D16*C19) -> 0
A20: 1.6 | B20: Adicional Noturno | D20: 0
A21: 1.7 | B21: Adicional de Hora Noturna Reduzida | D21: 0
A22: 1.8 | B22: Adicional de Hora Extra | D22: 0
A23: 1.9 | B23: Descanso Semanal Remunerado | D23: 0
A24: 1.10 | B24: Outros | D24: =SUM(D15:D23)*C24 -> 0
A25: TOTAL DA REMUNERAÇÃO | D25: =SUM(D15:D24) -> 3027.2
A27: MÓDULO 2 - ENCARGOS E BENEFÍCIOS ANUAIS, MENSAIS E DIÁRIOS
A28: 2.1 | B28: SUB-MÓDULO 2.1 - 13º SALÁRIO, FÉRIAS E ADICIONAL DE FÉRIAS | C28: % | D28: Valor (R$)
A29: 2.1.1 | B29: 13º salário | C29: 0.0833 | D29: =($D$25*C29) -> 252.16576
A30: 2.1.2 | B30: Férias e terço constitucional de férias | C30: 0.1111 | D30: =($D$25*C30) -> 336.32192
A31: 2.1.3 | B31: Incidência do Sub-módulo 2.2 | C31: =C43*(C29+C30) -> 0.0715392 | D31: =($D$25*C31) -> 216.56347
A32: TOTAL SUB-MÓDULO | D32: =SUM(D29:D31) -> 805.05115
A34: 2.2 | B34: SUB-MÓDULO 2.2 - GPS, FGTS E OUTRAS CONTRIBUIÇÕES | C34: % | D34: Valor (R$)
A35: 2.2.1 | B35: INSS | C35: 0.2 | D35: =(D25*C35) -> 605.44
A36: 2.2.2 | B36: FGTS | C36: 0.08 | D36: =(D25*C36) -> 242.176
A37: 2.2.3 | B37: SESI OU SESC | C37: 0.015 | D37: =(D25*C37) -> 45.408
A38: 2.2.4 | B38: SENAI OU SENAC | C38: 0.01 | D38: =(D25*C38) -> 30.272
A39: 2.2.5 | B39: SEBRAE | C39: 0.006 | D39: =(D25*C39) -> 18.1632
A40: 2.2.6 | B40: INCRA | C40: 0.002 | D40: =(D25*C40) -> 6.0544
A41: 2.2.7 | B41: SALÁRIO EDUCAÇÃO | C41: 0.025 | D41: =(D25*C41) -> 75.68
A42: 2.2.8 | B42: SAT - VER NOTA EXPLICATIVA 1* | C42: 0.03 | D42: =(D25*C42) -> 90.816
A43: TOTAL SUB-MÓDULO | C43: =SUM(C35:C42) -> 0.368 | D43: =SUM(D35:D42) -> 1114.0096
A45: 2.3 | B45: SUB-MÓDULO 2.3 - BENEFÍCIOS MENSAIS E DIÁRIOS | D45: Valor R$
A46: 2.3.1 | B46: Transporte | C46: 6.25 | D46: =(C46*50.16)-(3%*D15) -> 222.684
...

Sheet (A.4) Pedreiro
A1: COMPANHIA MUNICIPAL DE TRÂNSITO E URBANIZAÇÃO DE LONDRINA
A2: PLANILHA DE CUSTOS E FORMAÇÃO DE PREÇOS
A4: Mês de Referência | C4: Fevereiro de 2026
A5: Município/UF | C5: Londrina/PR
A6: Acordo, Convenção ou Sentença Normativa em Dissídio Coletivo | C6: CCT SINTRACOM 2025/2026
A7: Data base da categoria | C7: SINTRACOM 01/06/2025
A8: Nº de meses de execução contratual | C8: 12
A10: IDENTIFICAÇÃO DO SERVIÇO | C10: CBO
A11: Pedreiro ( Oficial ) | C11: 7152-10
A13: MÓDULO 1 - COMPOSIÇÃO DA REMUNERAÇÃO
A14: 1 | B14: COMPOSIÇÃO DA REMUNERAÇÃO | D14: Valor R$
A15: 1.1 | B15: Salário Base | D15: =12.72*220 -> 2798.4
A16: 1.2 | B16: Adicional de Assiduidade | D16: 0
A17: 1.3 | B17: Adicional de Risco | D17: 0
A18: 1.4 | B18: Adicional de Periculosidade | D18: =(D15*C18) -> 0
A19: 1.5 | B19: Adicional de Insalubridade | D19: =(D16*C19) -> 0
A20: 1.6 | B20: Adicional Noturno | D20: 0
A21: 1.7 | B21: Adicional de Hora Noturna Reduzida | D21: 0
A22: 1.8 | B22: Adicional de Hora Extra | D22: 0
A23: 1.9 | B23: Descanso Semanal Remunerado | D23: 0
A24: 1.10 | B24: Outros | D24: =SUM(D15:D23)*C24 -> 0
A25: TOTAL DA REMUNERAÇÃO | D25: =SUM(D15:D24) -> 2798.4
A27: MÓDULO 2 - ENCARGOS E BENEFÍCIOS ANUAIS, MENSAIS E DIÁRIOS
A28: 2.1 | B28: SUB-MÓDULO 2.1 - 13º SALÁRIO, FÉRIAS E ADICIONAL DE FÉRIAS | C28: % | D28: Valor (R$)
A29: 2.1.1 | B29: 13º salário | C29: 0.0833 | D29: =($D$25*C29) -> 233.10672
A30: 2.1.2 | B30: Férias e terço constitucional de férias | C30: 0.1111 | D30: =($D$25*C30) -> 310.90224
A31: 2.1.3 | B31: Incidência do Sub-módulo 2.2 | C31: =C43*(C29+C30) -> 0.0715392 | D31: =($D$25*C31) -> 200.1953
A32: TOTAL SUB-MÓDULO | D32: =SUM(D29:D31) -> 744.20426
A34: 2.2 | B34: SUB-MÓDULO 2.2 - GPS, FGTS E OUTRAS CONTRIBUIÇÕES | C34: % | D34: Valor (R$)
A35: 2.2.1 | B35: INSS | C35: 0.2 | D35: =(D25*C35) -> 559.68
A36: 2.2.2 | B36: FGTS | C36: 0.08 | D36: =(D25*C36) -> 223.872
A37: 2.2.3 | B37: SESI OU SESC | C37: 0.015 | D37: =(D25*C37) -> 41.976
A38: 2.2.4 | B38: SENAI OU SENAC | C38: 0.01 | D38: =(D25*C38) -> 27.984
A39: 2.2.5 | B39: SEBRAE | C39: 0.006 | D39: =(D25*C39) -> 16.7904
A40: 2.2.6 | B40: INCRA | C40: 0.002 | D40: =(D25*C40) -> 5.5968
A41: 2.2.7 | B41: SALÁRIO EDUCAÇÃO | C41: 0.025 | D41: =(D25*C41) -> 69.96
A42: 2.2.8 | B42: SAT - VER NOTA EXPLICATIVA 1* | C42: 0.03 | D42: =(D25*C42) -> 83.952
A43: TOTAL SUB-MÓDULO | C43: =SUM(C35:C42) -> 0.368 | D43: =SUM(D35:D42) -> 1029.8112
A45: 2.3 | B45: SUB-MÓDULO 2.3 - BENEFÍCIOS MENSAIS E DIÁRIOS | D45: Valor R$
A46: 2.3.1 | B46: Transporte | C46: 6.25 | D46: =(C46*50.16)-(6%*D15) -> 145.596
...

Sheet (A.5) Operador de motosserra
A1: COMPANHIA MUNICIPAL DE TRÂNSITO E URBANIZAÇÃO DE LONDRINA
A2: PLANILHA DE CUSTOS E FORMAÇÃO DE PREÇOS
A4: Mês de Referência | C4: Fevereiro de 2026
A5: Município/UF | C5: Londrina/PR
A6: Acordo, Convenção ou Sentença Normativa em Dissídio Coletivo | C6: CCT SIEMACO 2026/2028
A7: Data base da categoria | C7: SIEMACO 01/02/2026
A8: Nº de meses de execução contratual | C8: 12
A10: IDENTIFICAÇÃO DO SERVIÇO | C10: CBO
A11: OPERADOR DE MOTOSSERRA | C11: 6321-20
A13: MÓDULO 1 - COMPOSIÇÃO DA REMUNERAÇÃO
A14: 1 | B14: COMPOSIÇÃO DA REMUNERAÇÃO | D14: Valor R$
A15: 1.1 | B15: Salário Base | D15: 2404
A16: 1.2 | B16: Adicional de Assiduidade | D16: 0
A17: 1.3 | B17: Adicional de Risco | D17: 0
A18: 1.4 | B18: Adicional de Periculosidade | D18: =(D15*C18) -> 0
A19: 1.5 | B19: Adicional de Insalubridade | D19: =(D16*C19) -> 0
A20: 1.6 | B20: Adicional Noturno | D20: 0
A21: 1.7 | B21: Adicional de Hora Noturna Reduzida | D21: 0
A22: 1.8 | B22: Adicional de Hora Extra | D22: 0
A23: 1.9 | B23: Descanso Semanal Remunerado | D23: 0
A24: 1.10 | B24: Outros | D24: =SUM(D15:D23)*C24 -> 0
A25: TOTAL DA REMUNERAÇÃO | D25: =SUM(D15:D24) -> 2404
A27: MÓDULO 2 - ENCARGOS E BENEFÍCIOS ANUAIS, MENSAIS E DIÁRIOS
A28: 2.1 | B28: SUB-MÓDULO 2.1 - 13º SALÁRIO, FÉRIAS E ADICIONAL DE FÉRIAS | C28: % | D28: Valor (R$)
A29: 2.1.1 | B29: 13º salário | C29: 0.0833 | D29: =($D$25*C29) -> 200.2532
A30: 2.1.2 | B30: Férias e terço constitucional de férias | C30: 0.1111 | D30: =($D$25*C30) -> 267.0844
A31: 2.1.3 | B31: Incidência do Sub-módulo 2.2 | C31: =C43*(C29+C30) -> 0.0715392 | D31: =($D$25*C31) -> 171.98024
A32: TOTAL SUB-MÓDULO | D32: =SUM(D29:D31) -> 639.31784
A34: 2.2 | B34: SUB-MÓDULO 2.2 - GPS, FGTS E OUTRAS CONTRIBUIÇÕES | C34: % | D34: Valor (R$)
A35: 2.2.1 | B35: INSS | C35: 0.2 | D35: =(D25*C35) -> 480.8
A36: 2.2.2 | B36: FGTS | C36: 0.08 | D36: =(D25*C36) -> 192.32
A37: 2.2.3 | B37: SESI OU SESC | C37: 0.015 | D37: =(D25*C37) -> 36.06
A38: 2.2.4 | B38: SENAI OU SENAC | C38: 0.01 | D38: =(D25*C38) -> 24.04
A39: 2.2.5 | B39: SEBRAE | C39: 0.006 | D39: =(D25*C39) -> 14.424
A40: 2.2.6 | B40: INCRA | C40: 0.002 | D40: =(D25*C40) -> 4.808
A41: 2.2.7 | B41: SALÁRIO EDUCAÇÃO | C41: 0.025 | D41: =(D25*C41) -> 60.1
A42: 2.2.8 | B42: SAT - VER NOTA EXPLICATIVA 1* | C42: 0.03 | D42: =(D25*C42) -> 72.12
A43: TOTAL SUB-MÓDULO | C43: =SUM(C35:C42) -> 0.368 | D43: =SUM(D35:D42) -> 884.672
A45: 2.3 | B45: SUB-MÓDULO 2.3 - BENEFÍCIOS MENSAIS E DIÁRIOS | D45: Valor R$
A46: 2.3.1 | B46: Transporte | C46: 6.25 | D46: =(C46*50.16)-(6%*D15) -> 169.26
...

Sheet (A.6) Motorista Cat C
A1: COMPANHIA MUNICIPAL DE TRÂNSITO E URBANIZAÇÃO DE LONDRINA
A2: PLANILHA DE CUSTOS E FORMAÇÃO DE PREÇOS
A4: Mês de Referência | C4: Fevereiro de 2026
A5: Município/UF | C5: Londrina/PR
A6: Acordo, Convenção ou Sentença Normativa em Dissídio Coletivo | C6: CCT SINTTROL 2024/2025
A7: Data base da categoria | C7: SINTTROL 01/08/2024
A8: Nº de meses de execução contratual | C8: 12
A10: IDENTIFICAÇÃO DO SERVIÇO | C10: CBO
A11: MOTORISTA CAT C | C11: 7825-10
A13: MÓDULO 1 - COMPOSIÇÃO DA REMUNERAÇÃO | F13: MÓDULO 1 - COMPOSIÇÃO DA REMUNERAÇÃO
A14: 1 | B14: COMPOSIÇÃO DA REMUNERAÇÃO | D14: Valor R$ | F14: 1 | G14: MEMÓRIA DE CÁLCULO | H14: INFORMAÇÕES ADICIONAIS | I14: FUNDAMENTO
A15: 1.1 | B15: Salário Base | D15: 2468.48 | F15: 1.1 | I15: Convenção Coletiva de Trabalho
A16: 1.2 | B16: Adicional de Assiduidade | D16: 0 | F16: 1.2
A17: 1.3 | B17: Adicional de Risco | D17: 0 | F17: 1.3
A18: 1.4 | B18: Adicional de Periculosidade | D18: =(D15*C18) -> 0 | F18: 1.4
A19: 1.5 | B19: Adicional de Insalubridade | D19: =(D16*C19) -> 0 | F19: 1.5
A20: 1.6 | B20: Adicional Noturno | D20: 0 | F20: 1.6
A21: 1.7 | B21: Adicional de Hora Noturna Reduzida | D21: 0 | F21: 1.7
A22: 1.8 | B22: Adicional de Hora Extra | D22: 0 | F22: 1.8
A23: 1.9 | B23: Descanso Semanal Remunerado | D23: 0 | F23: 1.9
A24: 1.10 | B24: Outros | D24: =SUM(D15:D23)*C24 -> 0 | F24: 1.10
A25: TOTAL DA REMUNERAÇÃO | D25: =SUM(D15:D24) -> 2468.48
A27: MÓDULO 2 - ENCARGOS E BENEFÍCIOS ANUAIS, MENSAIS E DIÁRIOS | F27: MÓDULO 2 - ENCARGOS E BENEFÍCIOS ANUAIS, MENSAIS E DIÁRIOS
A28: 2.1 | B28: SUB-MÓDULO 2.1 - 13º SALÁRIO, FÉRIAS E ADICIONAL DE FÉRIAS | C28: % | D28: Valor (R$) | F28: 2.1 | G28: MEMÓRIA DE CÁLCULO | H28: INFORMAÇÕES ADICIONAIS | I28: FUNDAMENTO
A29: 2.1.1 | B29: 13º salário | C29: 0.0833 | D29: =($D$25*C29) -> 205.62438 | F29: 2.1.1 | G29: [(1/12)x100] = 8,333% | H29: 1 salário dividido por 12 meses de contrato. | I29: Art. 7º, VIII, CF/88 - Cálculo retirado da Planilha MODELO TCU - DIRETORIA DE LICITAÇÕES
A30: 2.1.2 | B30: Férias e terço constitucional de férias | C30: 0.1111 | D30: =($D$25*C30) -> 274.24813 | F30: 2.1.2 | G30: {[(1+1/3)/12]x100} = 11,111% | H30: 1 salário dividido por 12 meses de contrato, acrescido de 1/3 de férias. | I30: Art. 7º, XVII, CF/88 Cálculo retirado da Planilha MODELO TCU - DIRETORIA DE LICITAÇÕES
A31: 2.1.3 | B31: Incidência do Sub-módulo 2.2 | C31: =C43*(C29+C30) -> 0.0715392 | D31: =($D$25*C31) -> 176.59308 | F31: 2.1.3 | G31: (0,0833+0,1111)x0,3680= 0,0715x100=7,15% | H31: incidência do sub-módulo 2, sobre os itens desse módulo
A32: TOTAL SUB-MÓDULO | D32: =SUM(D29:D31) -> 656.4656
A34: 2.2 | B34: SUB-MÓDULO 2.2 - GPS, FGTS E OUTRAS CONTRIBUIÇÕES | C34: % | D34: Valor (R$) | F34: 2.1 | G34: MEMÓRIA DE CÁLCULO | H34: INFORMAÇÕES ADICIONAIS | I34: FUNDAMENTO
A35: 2.2.1 | B35: INSS | C35: 0.2 | D35: =(D25*C35) -> 493.696 | F35: 2.2.1 | I35: Art. 22, Inciso I, da Lei nº 8.212/91.
A36: 2.2.2 | B36: FGTS | C36: 0.08 | D36: =(D25*C36) -> 197.4784 | F36: 2.2.2 | I36: Art. 15, Lei nº 8.030/90 e Art. 7º, III, CF/88
A37: 2.2.3 | B37: SESI OU SESC | C37: 0.015 | D37: =(D25*C37) -> 37.0272 | F37: 2.2.3 | I37: Art. 3º, Lei n.º 8.036/90.
A38: 2.2.4 | B38: SENAI OU SENAC | C38: 0.01 | D38: =(D25*C38) -> 24.6848 | F38: 2.2.4 | I38: Decreto n.º 2.318/86.
A39: 2.2.5 | B39: SEBRAE | C39: 0.006 | D39: =(D25*C39) -> 14.81088 | F39: 2.2.5 | I39: Art. 8º, Lei n.º 8.029/90 e Lei n.º 8.154/90.
A40: 2.2.6 | B40: INCRA | C40: 0.002 | D40: =(D25*C40) -> 4.93696 | F40: 2.2.6 | I40: Lei n.º 7.787/89 e DL n.º 1.146/70.
A41: 2.2.7 | B41: SALÁRIO EDUCAÇÃO | C41: 0.025 | D41: =(D25*C41) -> 61.712 | F41: 2.2.7 | I41: Art. 3º, Inciso I, Decreto n.º 87.043/82.
A42: 2.2.8 | B42: SAT - VER NOTA EXPLICATIVA 1* | C42: 0.03 | D42: =(D25*C42) -> 74.0544 | F42: 2.2.8 | I42: Anexo V do Decreto n.º 3.048/1999 e Decreto n.º 6.957/2009
A43: TOTAL SUB-MÓDULO | C43: =SUM(C35:C42) -> 0.368 | D43: =SUM(D35:D42) -> 908.40064
A45: 2.3 | B45: SUB-MÓDULO 2.3 - BENEFÍCIOS MENSAIS E DIÁRIOS | D45: Valor R$ | F45: 2.3 | G45: MEMÓRIA DE CÁLCULO | H45: INFORMAÇÕES ADICIONAIS | I45: FUNDAMENTO
A46: 2.3.1 | B46: Transporte | C46: 6.25 | D46: =(C46*50.16)-(6%*D15) -> 165.3912 | F46: 2.3.1 | G46: ((50,66x R$ 5,75)-(0,06*R$ 2468,48))= 143,19 | H46: Média de 25,33 dias de trabalho, com a concessão de 2 passes diários. | I46: Art. 4º parágrafo único da Lei 7.418/85 e art. 9º do Decreto 95.247/87.
...

Sheet (A.7) Motorista Cat D
A1: COMPANHIA MUNICIPAL DE TRÂNSITO E URBANIZAÇÃO DE LONDRINA
A2: PLANILHA DE CUSTOS E FORMAÇÃO DE PREÇOS
A4: Mês de Referência | C4: Fevereiro de 2026
A5: Município/UF | C5: Londrina/PR
A6: Acordo, Convenção ou Sentença Normativa em Dissídio Coletivo | C6: CCT SINTTROL 2024/2025
A7: Data base da categoria | C7: SINTTROL 01/08/2024
A8: Nº de meses de execução contratual | C8: 12
A10: IDENTIFICAÇÃO DO SERVIÇO | C10: CBO
A11: MOTORISTA CAT D | C11: 7823-10
A13: MÓDULO 1 - COMPOSIÇÃO DA REMUNERAÇÃO | F13: MÓDULO 1 - COMPOSIÇÃO DA REMUNERAÇÃO
A14: 1 | B14: COMPOSIÇÃO DA REMUNERAÇÃO | D14: Valor R$ | F14: 1 | G14: MEMÓRIA DE CÁLCULO | H14: INFORMAÇÕES ADICIONAIS | I14: FUNDAMENTO
A15: 1.1 | B15: Salário Base | D15: 2692.36 | F15: 1.1 | I15: Convenção Coletiva de Trabalho
A16: 1.2 | B16: Adicional de Assiduidade | D16: 0 | F16: 1.2
A17: 1.3 | B17: Adicional de Risco | D17: 0 | F17: 1.3
A18: 1.4 | B18: Adicional de Periculosidade | D18: =(D15*C18) -> 0 | F18: 1.4
A19: 1.5 | B19: Adicional de Insalubridade | D19: =(D16*C19) -> 0 | F19: 1.5
A20: 1.6 | B20: Adicional Noturno | D20: 0 | F20: 1.6
A21: 1.7 | B21: Adicional de Hora Noturna Reduzida | D21: 0 | F21: 1.7
A22: 1.8 | B22: Adicional de Hora Extra | D22: 0 | F22: 1.8
A23: 1.9 | B23: Descanso Semanal Remunerado | D23: 0 | F23: 1.9
A24: 1.10 | B24: Outros | D24: =SUM(D15:D23)*C24 -> 0 | F24: 1.10
A25: TOTAL DA REMUNERAÇÃO | D25: =SUM(D15:D24) -> 2692.36
A27: MÓDULO 2 - ENCARGOS E BENEFÍCIOS ANUAIS, MENSAIS E DIÁRIOS | F27: MÓDULO 2 - ENCARGOS E BENEFÍCIOS ANUAIS, MENSAIS E DIÁRIOS
A28: 2.1 | B28: SUB-MÓDULO 2.1 - 13º SALÁRIO, FÉRIAS E ADICIONAL DE FÉRIAS | C28: % | D28: Valor (R$) | F28: 2.1 | G28: MEMÓRIA DE CÁLCULO | H28: INFORMAÇÕES ADICIONAIS | I28: FUNDAMENTO
A29: 2.1.1 | B29: 13º salário | C29: 0.0833 | D29: =($D$25*C29) -> 224.27359 | F29: 2.1.1 | G29: [(1/12)x100] = 8,333% | H29: 1 salário dividido por 12 meses de contrato. | I29: Art. 7º, VIII, CF/88 - Cálculo retirado da Planilha MODELO TCU - DIRETORIA DE LICITAÇÕES
A30: 2.1.2 | B30: Férias e terço constitucional de férias | C30: 0.1111 | D30: =($D$25*C30) -> 299.1212 | F30: 2.1.2 | G30: {[(1+1/3)/12]x100} = 11,111% | H30: 1 salário dividido por 12 meses de contrato, acrescido de 1/3 de férias. | I30: Art. 7º, XVII, CF/88 Cálculo retirado da Planilha MODELO TCU - DIRETORIA DE LICITAÇÕES
A31: 2.1.3 | B31: Incidência do Sub-módulo 2.2 | C31: =C43*(C29+C30) -> 0.0715392 | D31: =($D$25*C31) -> 192.60928 | F31: 2.1.3 | G31: (0,0833+0,1111)x0,3680= 0,0715x100=7,15% | H31: incidência do sub-módulo 2, sobre os itens desse módulo
A32: TOTAL SUB-MÓDULO | D32: =SUM(D29:D31) -> 716.00406
A34: 2.2 | B34: SUB-MÓDULO 2.2 - GPS, FGTS E OUTRAS CONTRIBUIÇÕES | C34: % | D34: Valor (R$) | F34: 2.1 | G34: MEMÓRIA DE CÁLCULO | H34: INFORMAÇÕES ADICIONAIS | I34: FUNDAMENTO
A35: 2.2.1 | B35: INSS | C35: 0.2 | D35: =(D25*C35) -> 538.472 | F35: 2.2.1 | I35: Art. 22, Inciso I, da Lei nº 8.212/91.
A36: 2.2.2 | B36: FGTS | C36: 0.08 | D36: =(D25*C36) -> 215.3888 | F36: 2.2.2 | I36: Art. 15, Lei nº 8.030/90 e Art. 7º, III, CF/88
A37: 2.2.3 | B37: SESI OU SESC | C37: 0.015 | D37: =(D25*C37) -> 40.3854 | F37: 2.2.3 | I37: Art. 3º, Lei n.º 8.036/90.
A38: 2.2.4 | B38: SENAI OU SENAC | C38: 0.01 | D38: =(D25*C38) -> 26.9236 | F38: 2.2.4 | I38: Decreto n.º 2.318/86.
A39: 2.2.5 | B39: SEBRAE | C39: 0.006 | D39: =(D25*C39) -> 16.15416 | F39: 2.2.5 | I39: Art. 8º, Lei n.º 8.029/90 e Lei n.º 8.154/90.
A40: 2.2.6 | B40: INCRA | C40: 0.002 | D40: =(D25*C40) -> 5.38472 | F40: 2.2.6 | I40: Lei n.º 7.787/89 e DL n.º 1.146/70.
A41: 2.2.7 | B41: SALÁRIO EDUCAÇÃO | C41: 0.025 | D41: =(D25*C41) -> 67.309 | F41: 2.2.7 | I41: Art. 3º, Inciso I, Decreto n.º 87.043/82.
A42: 2.2.8 | B42: SAT - VER NOTA EXPLICATIVA 1* | C42: 0.03 | D42: =(D25*C42) -> 80.7708 | F42: 2.2.8 | I42: Anexo V do Decreto n.º 3.048/1999 e Decreto n.º 6.957/2009
A43: TOTAL SUB-MÓDULO | C43: =SUM(C35:C42) -> 0.368 | D43: =SUM(D35:D42) -> 990.78848
A45: 2.3 | B45: SUB-MÓDULO 2.3 - BENEFÍCIOS MENSAIS E DIÁRIOS | D45: Valor R$ | F45: 2.3 | G45: MEMÓRIA DE CÁLCULO | H45: INFORMAÇÕES ADICIONAIS | I45: FUNDAMENTO
A46: 2.3.1 | B46: Transporte | C46: 6.25 | D46: =(C46*50.16)-(6%*D15) -> 151.9584 | F46: 2.3.1 | G46: ((50,66x R$ 5,75)-(0,06*R$ 1700,00))= 189,30 | H46: Média de 25,33 dias de trabalho, com a concessão de 2 passes diários. | I46: Art. 4º parágrafo único da Lei 7.418/85 e art. 9º do Decreto 95.247/87.
...

Sheet (A.8) Operador de Bobcat
A1: COMPANHIA MUNICIPAL DE TRÂNSITO E URBANIZAÇÃO DE LONDRINA
A2: PLANILHA DE CUSTOS E FORMAÇÃO DE PREÇOS
A4: Mês de Referência | C4: Fevereiro de 2026
A5: Município/UF | C5: Londrina/PR
A6: Acordo, Convenção ou Sentença Normativa em Dissídio Coletivo | C6: CCT SINTRAPAV 2025/2026
A7: Data base da categoria | C7: SINTRAPAV 01/06/2025
A8: Nº de meses de execução contratual | C8: 12
A10: IDENTIFICAÇÃO DO SERVIÇO | C10: CBO
A11: OPERADOR DE BOB CAT (Nível III) | C11: 7112-10
A13: MÓDULO 1 - COMPOSIÇÃO DA REMUNERAÇÃO
A14: 1 | B14: COMPOSIÇÃO DA REMUNERAÇÃO | D14: Valor R$
A15: 1.1 | B15: Salário Base | D15: =220*11.33 -> 2492.6
A16: 1.2 | B16: Adicional de Assiduidade | D16: 0
A17: 1.3 | B17: Adicional de Risco | D17: 0
A18: 1.4 | B18: Adicional de Periculosidade | D18: =(D15*C18) -> 0
A19: 1.5 | B19: Adicional de Insalubridade | D19: =(D16*C19) -> 0
A20: 1.6 | B20: Adicional Noturno | D20: 0
A21: 1.7 | B21: Adicional de Hora Noturna Reduzida | D21: 0
A22: 1.8 | B22: Adicional de Hora Extra | D22: 0
A23: 1.9 | B23: Descanso Semanal Remunerado | D23: 0
A24: 1.10 | B24: Outros | D24: =SUM(D15:D23)*C24 -> 0
A25: TOTAL DA REMUNERAÇÃO | D25: =SUM(D15:D24) -> 2492.6
A27: MÓDULO 2 - ENCARGOS E BENEFÍCIOS ANUAIS, MENSAIS E DIÁRIOS
A28: 2.1 | B28: SUB-MÓDULO 2.1 - 13º SALÁRIO, FÉRIAS E ADICIONAL DE FÉRIAS | C28: % | D28: Valor (R$)
A29: 2.1.1 | B29: 13º salário | C29: 0.0833 | D29: =($D$25*C29) -> 207.63358
A30: 2.1.2 | B30: Férias e terço constitucional de férias | C30: 0.1111 | D30: =($D$25*C30) -> 276.92786
A31: 2.1.3 | B31: Incidência do Sub-módulo 2.2 | C31: =C43*(C29+C30) -> 0.0715392 | D31: =($D$25*C31) -> 178.31861
A32: TOTAL SUB-MÓDULO | D32: =SUM(D29:D31) -> 662.88005
A34: 2.2 | B34: SUB-MÓDULO 2.2 - GPS, FGTS E OUTRAS CONTRIBUIÇÕES | C34: % | D34: Valor (R$)
A35: 2.2.1 | B35: INSS | C35: 0.2 | D35: =(D25*C35) -> 498.52
A36: 2.2.2 | B36: FGTS | C36: 0.08 | D36: =(D25*C36) -> 199.408
A37: 2.2.3 | B37: SESI OU SESC | C37: 0.015 | D37: =(D25*C37) -> 37.389
A38: 2.2.4 | B38: SENAI OU SENAC | C38: 0.01 | D38: =(D25*C38) -> 24.926
A39: 2.2.5 | B39: SEBRAE | C39: 0.006 | D39: =(D25*C39) -> 14.9556
A40: 2.2.6 | B40: INCRA | C40: 0.002 | D40: =(D25*C40) -> 4.9852
A41: 2.2.7 | B41: SALÁRIO EDUCAÇÃO | C41: 0.025 | D41: =(D25*C41) -> 62.315
A42: 2.2.8 | B42: SAT - VER NOTA EXPLICATIVA 1* | C42: 0.03 | D42: =(D25*C42) -> 74.778
A43: TOTAL SUB-MÓDULO | C43: =SUM(C35:C42) -> 0.368 | D43: =SUM(D35:D42) -> 917.2768
A45: 2.3 | B45: SUB-MÓDULO 2.3 - BENEFÍCIOS MENSAIS E DIÁRIOS | D45: Valor R$
A46: 2.3.1 | B46: Transporte | C46: 6.25 | D46: =(C46*50.16)-(3%*D15) -> 238.722
...

Sheet (A.9) Operador de roçadeira
A1: COMPANHIA MUNICIPAL DE TRÂNSITO E URBANIZAÇÃO DE LONDRINA
A2: PLANILHA DE CUSTOS E FORMAÇÃO DE PREÇOS
A4: Mês de Referência | C4: Fevereiro de 2026
A5: Município/UF | C5: Londrina/PR
A6: Acordo, Convenção ou Sentença Normativa em Dissídio Coletivo | C6: CCT SIEMACO 2026/2028
A7: Data base da categoria | C7: SIEMACO 01/02/2026
A8: Nº de meses de execução contratual | C8: 12
A10: IDENTIFICAÇÃO DO SERVIÇO | C10: CBO
A11: ROÇADOR (Operador de Máquina Costal) | C11: 5142-25
A13: MÓDULO 1 - COMPOSIÇÃO DA REMUNERAÇÃO
A14: 1 | B14: COMPOSIÇÃO DA REMUNERAÇÃO | D14: Valor R$
A15: 1.1 | B15: Salário Base | D15: 2404
A16: 1.2 | B16: Adicional de Assiduidade | D16: 0
A17: 1.3 | B17: Adicional de Risco
A18: 1.4 | B18: Adidional de Periculosidade | D18: =(D15*C18) -> 0
A19: 1.5 | B19: Adicional de Insalubridade | C19: 0.2 | D19: =1621*C19 -> 324.2
A20: 1.6 | B20: Adicional Noturno | D20: 0
A21: 1.7 | B21: Adicional de Hora Noturna Reduzida | D21: 0
A22: 1.8 | B22: Adicional de Hora Extra | D22: 0
A23: 1.9 | B23: Descanso Semanal Remunerado | D23: 0
A24: 1.10 | B24: Outros | D24: =SUM(D15:D23)*C24 -> 0
A25: TOTAL DA REMUNERAÇÃO | D25: =SUM(D15:D24) -> 2728.2
A27: MÓDULO 2 - ENCARGOS E BENEFÍCIOS ANUAIS, MENSAIS E DIÁRIOS
A28: 2.1 | B28: SUB-MÓDULO 2.1 - 13º SALÁRIO, FÉRIAS E ADICIONAL DE FÉRIAS | C28: % | D28: Valor (R$)
A29: 2.1.1 | B29: 13º salário | C29: 0.0833 | D29: =($D$25*C29) -> 227.25906
A30: 2.1.2 | B30: Férias e terço constitucional de férias | C30: 0.1111 | D30: =($D$25*C30) -> 303.10302
A31: 2.1.3 | B31: Incidência do Sub-módulo 2.2 | C31: =C43*(C29+C30) -> 0.0715392 | D31: =($D$25*C31) -> 195.17325
A32: TOTAL SUB-MÓDULO | D32: =SUM(D29:D31) -> 725.53533
A34: 2.2 | B34: SUB-MÓDULO 2.2 - GPS, FGTS E OUTRAS CONTRIBUIÇÕES | C34: % | D34: Valor (R$)
A35: 2.2.1 | B35: INSS | C35: 0.2 | D35: =(D25*C35) -> 545.64
A36: 2.2.2 | B36: FGTS | C36: 0.08 | D36: =(D25*C36) -> 218.256
A37: 2.2.3 | B37: SESI OU SESC | C37: 0.015 | D37: =(D25*C37) -> 40.923
A38: 2.2.4 | B38: SENAI OU SENAC | C38: 0.01 | D38: =(D25*C38) -> 27.282
A39: 2.2.5 | B39: SEBRAE | C39: 0.006 | D39: =(D25*C39) -> 16.3692
A40: 2.2.6 | B40: INCRA | C40: 0.002 | D40: =(D25*C40) -> 5.4564
A41: 2.2.7 | B41: SALÁRIO EDUCAÇÃO | C41: 0.025 | D41: =(D25*C41) -> 68.205
A42: 2.2.8 | B42: SAT - VER NOTA EXPLICATIVA 1* | C42: 0.03 | D42: =(D25*C42) -> 81.846
A43: TOTAL SUB-MÓDULO | C43: =SUM(C35:C42) -> 0.368 | D43: =SUM(D35:D42) -> 1003.9776
A45: 2.3 | B45: SUB-MÓDULO 2.3 - BENEFÍCIOS MENSAIS E DIÁRIOS | D45: Valor R$
A46: 2.3.1 | B46: Transporte | C46: 6.25 | D46: =(C46*50.16)-(6%*D15) -> 169.26
...

Sheet (B.1) Van
A1: FORMAÇÃO DE CUSTO DE VEÍCULO
A3: VAN
A5: HORAS TRABALHADAS POR MÊS: | G5: 220
A6: KM RODADOS POR MÊS: | G6: 1800
A8: 1. VALOR DO CHASSI | F8: REFERÊNCIA
A9: ITEM | B9: DESCRITIVO | D9: % | E9: VALOR R$ | F9: Valor inicial: preço de mercado, veículo novo 0km, deduzido o valor dos pneus.
A10: 1.1 | B10: Valor Inicial | D10: 1 | E10: =(290637.5-E40) -> 289175.98
A11: SUBTOTAL | E11: =SUM(E10:E10) -> 289175.98
A13: 2. CUSTO DE MANUTENÇÃO | F13: REFERÊNCIAS
A14: ITEM | B14: DESCRITIVO | D14: COEFICIENTE | E14: VALOR MENSAL | F14: Planilha GEIPOT: Coeficiente de referência: de 0,0033 a 0,0083. Uso severo do veículo.
A15: 2.1 | B15: Custo de Manutenção | D15: 0.0083 | E15: =(D15*E11) -> 2400.1606
A16: SUBTOTAL | E16: =E15 -> 2400.1606
A18: 3. CUSTO DE COMBUSTÍVEL | F18: REFERÊNCIAS
A19: ITEM | B19: DESCRITIVO | D19: KM/L | E19: CONSUMO MENSAL - LTS | F19: Consumo médio conforme o Estudo Técnico Preliminar. Valor do combustível: preço médio da tabela da ANP, referente ao último levantamento de preços na cidade de Londrina-PR.
A20: 3.1 | B20: Consumo de Combustível | D20: 9 | E20: =G6/D20 -> 200
A21: ITEM | B21: DESCRITIVO | D21: R$/DIESEL | E21: VALOR MENSAL
A22: 3.2 | B22: Custo Unitário | D22: 6.01 | E22: =E20*D22 -> 1202
A23: SUBTOTAL | E23: =E22 -> 1202
A25: 4. CUSTO COM LUBRIFICANTE, FILTROS, GRAXAS E LAVAGENS | F25: REFERÊNCIAS
A26: ITEM | B26: DESCRITIVO | D26: COEFICIENTE | E26: VALOR MENSAL | F26: Planilha GEIPOT: Coeficientes de referência:0,04 a 0,06 , adotado o coeficiente médio.
A27: 4.1 | B27: Custo com lubrificante, filtros, graxas e lavagens | D27: 0.04 | E27: =D27*E23 -> 48.08
A28: SUBTOTAL | E28: =E27 -> 48.08
A30: 5. CUSTO DE IMPOSTOS E SEGUROS | F30: REFERÊNCIAS
A31: ITEM | B31: DESCRITIVO | D31: % ou R$ | E31: VALOR MENSAL | F31: Detran/PR , IPVA sobre valor aproximado do chassi.
A32: 5.1 | B32: IPVA | D32: 0.01 | E32: =(D32*E10)/12 -> 240.97998
A33: 5.2 | B33: Seguro Obrigatório | E33: =D33/12 -> 0
A34: SUBTOTAL | E34: =SUM(E32:E33) -> 240.97998
A36: 6. CUSTO DE RODAGEM | F36: REFERÊNCIAS
A37: ITEM | B37: DESCRITIVO | D37: QTD. TROCAS ANUAL | F37: Ciclo de troca conforme Estudo Técnico Preliminar e informações da Coordenadoria de Controle de Frotas.
A38: 6.1 | B38: Ciclo de Troca | D38: 1
A39: ITEM | B39: DESCRITIVO | D39: VALOR UNITÁRIO | E39: VALOR TOTAL
A40: 6.2 | B40: Custo do Pneu (4 unidades) | D40: 365.38 | E40: =D40*4 -> 1461.52
A41: ITEM | B41: DESCRITIVO | D41: CUSTO ANUAL | E41: CUSTO MENSAL
A42: 6.3 | B42: Custo da Rodagem | D42: =(E40*D38) -> 1461.52 | E42: =D42/12 -> 121.79333
A43: SUBTOTAL | E43: =E42 -> 121.79333
A45: 7. DEPRECIAÇÃO | F45: REFERÊNCIAS
A46: ITEM | B46: DESCRITIVO | D46: % | E46: VIDA ÚTIL EM ANOS | F46: Manual Siafi - Ministério da Fazenda e BEC - Bolsa Eletrônica de Compras de São Paulo: Depreciação: 90% em 15 anos. Valor residual: 10%.
A47: 7.1 | B47: Percentual de Depreciação | D47: 0.9 | E47: 15
A48: ITEM | B48: DESCRITIVO | D48: % | E48: VALOR RESIDUAL
A49: 7.2 | B49: Percentual de Valor Residual | D49: 0.1 | E49: =E10*D49 -> 28917.598
...

Sheet (B.2) Caminhão Basculante
A1: FORMAÇÃO DE CUSTO DE VEÍCULO
A3: VEÍCULO - REFERÊNCIA - CAMINHÃO BASCULANTE
A5: HORAS TRABALHADAS POR MÊS: | G5: 220
A6: KM RODADOS POR MÊS: | G6: 4000
A8: 1. VALOR DO CHASSI | F8: REFERÊNCIA
A9: ITEM | B9: DESCRITIVO | D9: % | E9: VALOR R$ | F9: Valor inicial: preço de mercado, veículos novos 0km, deduzido o valor dos pneus.
A10: 1.1 | B10: Valor Inicial | D10: 1 | E10: =(565980-E42) -> 547620.2
A11: SUBTOTAL | E11: =SUM(E10:E10) -> 547620.2
A13: 2. CUSTO DE MANUTENÇÃO | F13: REFERÊNCIAS
A14: ITEM | B14: DESCRITIVO | D14: COEF. ADOTADO | E14: CUSTO POR KM | F14: Planilha GEIPOT: Coeficiente de referência: de 0,0033 a 0,0083 Uso severo do veículo Guia do Transportador: Percentual de referência, varia de 0,65 a 0,85 a cada 6.000 km sobre o valor do veículo/equipamento, por essa metodologia o valor seria bem semelhante ao obtido com a metodologia da planilha GEIPOT.
A15: 2.1 | B15: Coeficiente | D15: 0.0083 | E15: =(D15/G5)*E11 -> 20.660217
A16: ITEM | B16: DESCRITIVO | D16: VALOR ANUAL | E16: VALOR MENSAL
A17: 2.2 | B17: Custo de Manutenção | D17: =E17*12 -> 54542.972 | E17: =E15*G5 -> 4545.2477
A18: SUBTOTAL | E18: =E17 -> 4545.2477
A20: 3. CUSTO DE COMBUSTÍVEL | F20: REFERÊNCIAS
A21: ITEM | B21: DESCRITIVO | D21: KM/L | E21: CONSUMO MENSAL - LTS | F21: Consumo médio conforme o Estudo Técnico Preliminar. Valor do combustível: preço médio da tabela da ANP, referente ao último levantamento de preços na cidade de Londrina-PR.
A22: 3.1 | B22: Consumo de Combustível | D22: 3.5 | E22: =G6/D22 -> 1142.8571
A23: ITEM | B23: DESCRITIVO | D23: R$/DIESEL | E23: VALOR MENSAL
A24: 3.2 | B24: Custo Unitário | D24: 6.01 | E24: =E22*D24 -> 6868.5714
A25: SUBTOTAL | E25: =E24 -> 6868.5714
A27: 4. CUSTO COM LUBRIFICANTE, FILTROS, GRAXAS E LAVAGENS | F27: REFERÊNCIAS
A28: ITEM | B28: DESCRITIVO | D28: % | E28: VALOR MENSAL | F28: Usual de mercado, percentual já adotado pela CMTU em demais contratos, calculado sobre o consumo de combustível. Planilha GEIPOT: Coeficientes de referência:0,04 a 0,06 l/km, que refletem uma variação de 8% a 15% sobre os coeficientes de consumo de combustível, da mesma planilha.
A29: 4.1 | B29: Custo com lubrificante, filtros, graxas e lavagens | D29: 0.1 | E29: =D29*E25 -> 686.85714
A30: SUBTOTAL | E30: =E29 -> 686.85714
A32: 5. CUSTO DE IMPOSTOS E SEGUROS | F32: REFERÊNCIAS
A33: ITEM | B33: DESCRITIVO | D33: % ou R$ | E33: VALOR MENSAL | F33: Detran/PR , IPVA sobre valor aproximado do chassi.
A34: 5.1 | B34: IPVA | D34: 0.01 | E34: =(D34*E10)/12 -> 456.35017
A35: 5.2 | B35: Seguro Obrigatório | E35: =D35/12 -> 0
A36: SUBTOTAL | E36: =SUM(E34:E35) -> 456.35017
A38: 6. CUSTO DE RODAGEM | F38: REFERÊNCIAS
A39: ITEM | B39: DESCRITIVO | D39: QTD. TROCAS ANUAL | F39: Ciclo de troca conforme Estudo Técnico Preliminar e informações da Coordenadoria de Controle de Frotas.
A40: 6.1 | B40: Ciclo de Troca | D40: 2
A41: ITEM | B41: DESCRITIVO | D41: VALOR UNITÁRIO | E41: VALOR TOTAL
A42: 6.2 | B42: Custo do Pneu (10 unidades) | D42: 1835.98 | E42: =D42*10 -> 18359.8
A43: ITEM | B43: DESCRITIVO | D43: CUSTO ANUAL | E43: CUSTO MENSAL
A44: 6.3 | B44: Custo da Rodagem | D44: =(E42*D40) -> 36719.6 | E44: =D44/12 -> 3059.9667
A45: SUBTOTAL | E45: =E44 -> 3059.9667
A47: 7. DEPRECIAÇÃO | F47: REFERÊNCIAS
A48: ITEM | B48: DESCRITIVO | D48: % | E48: VIDA ÚTIL EM ANOS | F48: Manual Siafi - Ministério da Fazenda e BEC - Bolsa Eletrônica de Compras de São Paulo: Depreciação: 90% em 15 anos. Valor residual: 10%.
A49: 7.1 | B49: Percentual de Depreciação | D49: 0.9 | E49: 15
...

Sheet (B.3) Compactador 15m³
A1: FORMAÇÃO DE CUSTO DE VEÍCULO
A3: CAMINHÃO COMPACTADOR 15m³
A5: HORAS TRABALHADAS POR MÊS: | G5: 220
A6: KM RODADOS POR MÊS: | G6: 4000
A8: 1. VALOR DO CHASSI COM COMPACTADOR | F8: REFERÊNCIAS
A9: ITEM | B9: DESCRITIVO | D9: % | E9: VALOR R$ | F9: Valor médio de mercado, chassi 0km com compactador deduzido o valor dos pneus, compactador novo.
A10: 1.1 | B10: Chassi com Compactador | D10: 1 | E10: =616229.5-E43 -> 605213.62
A12: SUBTOTAL | E12: =SUM(E10:E11) -> 605213.62
A14: 2. CUSTO DE MANUTENÇÃO | F14: REFERÊNCIAS
A15: ITEM | B15: DESCRITIVO | D15: COEF. ADOTADO | E15: CUSTO POR KM | F15: Planilha GEIPOT: Coeficiente de referência: de 0,033 a 0,0083 Foi utilizada a mesma metodologia do contrato anterior, com o coeficiente máximo, em razão da fiscalização informar o uso severo dos caminhões. Guia do Transportador: Percentual de referência, varia de 0,65 a 0,85 a cada 6.000 km sobre o valor do veículo/equipamento, por essa metodologia o valor seria bem semelhante ao obtido com a metodologia da planilha GEiPOT, considerando também o índice máximo.
A16: 2.1 | B16: Coeficiente | D16: 0.0083 | E16: =(D16/G6)*E12 -> 1.2558183
A17: ITEM | B17: DESCRITIVO | D17: VALOR ANUAL | E17: VALOR MENSAL
A18: 2.2 | B18: Custo de Manutenção | D18: =E18*12 -> 60279.277 | E18: =E16*G6 -> 5023.273
A19: SUBTOTAL | E19: =E18 -> 5023.273
A21: 3. CUSTO DE COMBUSTÍVEL | F21: REFERÊNCIAS
A22: ITEM | B22: DESCRITIVO | D22: KM/L | E22: CONSUMO MENSAL - LTS | F22: Consumo médio conforme o Termo de Referência
A23: 3.1 | B23: Consumo de Combustível -Diesel S10 | D23: 3.5 | E23: =G6/D23 -> 1142.8571
A24: ITEM | B24: DESCRITIVO | D24: R$/DIESEL | E24: VALOR MENSAL
A25: 3.2 | B25: Custo Unitário | D25: 6.01 | E25: =E23*D25 -> 6868.5714
A26: SUBTOTAL | E26: =E25 -> 6868.5714
A28: 4. CUSTO COM LUBRIFICANTE, FILTROS, GRAXAS E LAVAGENS | F28: REFERÊNCIAS
A29: ITEM | B29: DESCRITIVO | D29: % | E29: CONSUMO MÊS | F29: Usual de mercado, percentual já adotado pela CMTU em demais contratos. Planilha GEIPOT: Coeficientes de referência:0,04 a 0,06 l/km, que refletem uma variação de 8% a 15% sobre os coeficientes de consumo de combustível, da mesma planilha.
A30: 4.1 | B30: Coeficiente sobre custo do combustível | D30: 0.1 | E30: =E26*D30 -> 686.85714
A31: SUBTOTAL | E31: =E30 -> 686.85714
A33: 5. CUSTO DE IMPOSTOS E SEGUROS | F33: REFERÊNCIAS
A34: ITEM | B34: DESCRITIVO | D34: % ou R$ | E34: VALOR MENSAL | F34: Detran/PR , IPVA sobre valor aproximado do chassi.
A35: 5.1 | B35: IPVA | D35: 0.01 | E35: =(D35*E10)/10 -> 605.21362
A36: 5.2 | B36: Seguro Obrigatório | E36: =D36/12 -> 0
A37: SUBTOTAL | E37: =SUM(E35:E36) -> 605.21362
A39: 6. CUSTO DE RODAGEM | F39: REFERÊNCIAS
A40: ITEM | B40: DESCRITIVO | E40: QTD. TROCAS ANUAL | F40: Ciclo de Troca: conforme Termo de Referência. Valores obtidos conforme pesquisa de mercado.
A41: 6.1 | B41: Ciclo de Troca | E41: 2
A42: ITEM | B42: DESCRITIVO | D42: VALOR UNITÁRIO | E42: VALOR TOTAL
A43: 6.2 | B43: Custo do Pneu (6 unidades) | D43: 1835.98 | E43: =D43*6 -> 11015.88
A45: ITEM | B45: DESCRITIVO | D45: CUSTO ANUAL | E45: CUSTO MENSAL
A46: 6.3 | B46: Custo da Rodagem | D46: =(E43+E44)*E41 -> 22031.76 | E46: =D46/12 -> 1835.98
A47: SUBTOTAL | E47: =E46 -> 1835.98
A48: 7. SISTEMA DE RASTREAMENTO | F48: REFERÊNCIAS
A49: ITEM | B49: DESCRITIVO | D49: VALOR UNITÁRIO | E49: VALOR TOTAL | F49: Valores obtidos conforme pesquisa de mercado.
A50: 7.1 | B50: Sistema de Rastreamento | E50: =D50 -> 0
...

Sheet Equipamentos - Custo
A3: Descrição | B3: Valor | C3: Vida Útil em Meses | D3: % Residual | E3: Valor Residual | F3: Investimento Médio | G3: Depreciação Mensal | H3: Remuneração de Capital | I3: Taxa de Manutenção Mensal | J3: Custo Mensal | K3: Fonte
A4: Carreta Semi Reboque - 3,00 x 1,80 metros | B4: 16307.5 | C4: 180 | D4: 0.1 | E4: =(B4-200)*D4 -> 1610.75 | F4: 0 | G4: =(((B4-(B4*D4))/C4)) -> 81.5375 | H4: 0 | I4: =B4*5% -> 815.375 | J4: =G4+H4+I4 -> 896.9125 | K4: Vida útil: BEC; Manual Siafi.
A5: Máquina Motopoda | B5: 3718.78 | C5: 36 | D5: 0 | E5: =B5*D5 -> 0 | F5: 0 | G5: =(((B5-(B5*D5))/C5)) -> 103.29944 | H5: =(F5*12.79%)/12 -> 0 | I5: =B5*10% -> 371.878 | J5: =G5+H5+I5 -> 475.17744 | K5: Termo de Referência
A6: Máquina Motosserra | B6: 1875.75 | C6: 36 | D6: 0 | E6: =B6*D6 -> 0 | F6: 0 | G6: =(((B6-(B6*D6))/C6)) -> 52.104167 | H6: =(F6*12.79%)/12 -> 0 | I6: =B6*10% -> 187.575 | J6: =G6+H6+I6 -> 239.67917 | K6: Termo de Referência
A7: Máquina Roçadeira | B7: 2195.72 | C7: 36 | D7: 0 | E7: =B7*D7 -> 0 | F7: 0 | G7: =(((B7-(B7*D7))/C7)) -> 60.992222 | H7: =(F7*12.79%)/12 -> 0 | I7: =B7*10% -> 219.572 | J7: =G7+H7+I7 -> 280.56422 | K7: Termo de Referência

Sheet Rem. Capital
A1: Remuneração de Capital sobre Veículos e Equipamentos
A4: DESCRIÇÃO | B4: QTD. | C4: VALOR UNITÁRIO | D4: VALOR TOTAL
A5: Veículo transporte passageiros - Van | B5: 1 | C5: ='(B.1) Van'!E59 -> 1882.6802 | D5: =C5*B5 -> 1882.6802
A6: Caminhão Basculante | B6: 7 | C6: ='(B.2) Caminhão Basculante'!E60 -> 3565.2813 | D6: =C6*B6 -> 24956.969
A7: Caminhão Compactador | B7: 1 | C7: ='(B.3) Compactador 15m³'!E66 -> 5027.2069 | D7: =C7*B7 -> 5027.2069
A8: TOTAL | D8: =SUM(D5:D7) -> 31866.856
