Workbook

Sheet ORÇAMENTO
A1: PLANILHA ORÇAMENTÁRIA
A2: PREFEITURA MUNICIPAL DE RIO LARGO
A3: SECRETARIA MUNICIPAL DE INFRAESTRUTURA
A4: BASE: | B4: SINAPI SETEMBRO 2025 E ORSE SETEMBRO 2025
A5: OBJETO: | B5: REVITALIZAÇÃO DA ORLA FLUVIAL DO RIO MUNDAÚ, NO MUNICÍPIO DE RIO LARGO/AL
H9: Valor Final do Orçamento | J9: =I12 + I16 + I25 + I30 + I37 + I72 + I78 + I88 + I95 + I110 + I116 + I128 + I168 + I176 + I213 + I226 + I279 + I288 + I291 + I310 + I313 + I321 + I353 + I360 + I368 + I371 + I393 + I399 + I410 + I413 + I426 + I429 + I444 + I537 + I616 + I619 + I622 -> 12004843
H10: BDI | J10: 0.2882
A11: Item | B11: Código | C11: Banco | D11: Descrição | E11: Und | F11: Quant. | G11: Valor Unit | H11: Valor Unit com BDI | I11: Total | J11: Peso (%)
A12: 1 | D12: SERVIÇOS PRELIMINARES (ORLA FLUVIAL) | F12: 1 | H12: =I13 + I14 + I15 -> 24463.02 | I12: =ROUND(F12 * H12,2) -> 24463.02 | J12: =I12 / J9 -> 0.0020377625 | M12: 1
A13: 1.1 | B13: 103689 | C13: SINAPI | D13: FORNECIMENTO E INSTALAÇÃO DE PLACA DE OBRA COM CHAPA GALVANIZADA E ESTRUTURA DE MADEIRA. AF_03/2022_PS | E13: m² | F13: =ROUND(M13,2) -> 21 | G13: 461.91 | H13: =ROUND(ROUND(G13 * $J$10, 2) + G13, 2) -> 595.03 | I13: =ROUND(F13 * H13,2) -> 12495.63 | J13: =I13 / J9 -> 0.0010408824 | K13: =TRUNC(M13,2) -> 21 | M13: 21
A14: 1.2 | B14: 99059 | C14: SINAPI | D14: LOCAÇÃO CONVENCIONAL DE OBRA, UTILIZANDO GABARITO DE TÁBUAS CORRIDAS PONTALETADAS A CADA 2,00M - 2 UTILIZAÇÕES. AF_03/2024 | E14: M | F14: =ROUND(M14,2) -> 151.56 | G14: 57.31 | H14: =ROUND(ROUND(G14 * $J$10, 2) + G14, 2) -> 73.83 | I14: =ROUND(F14 * H14,2) -> 11189.67 | J14: =I14 / J9 -> 0.00093209629 | K14: =TRUNC(M14,2) -> 151.56 | M14: 151.56
A15: 1.3 | B15: 98525 | C15: SINAPI | D15: LIMPEZA MECANIZADA DE CAMADA VEGETAL, VEGETAÇÃO E PEQUENAS ÁRVORES (DIÂMETRO DE TRONCO MENOR QUE 0,20 M), COM TRATOR DE ESTEIRAS. AF_03/2024 | E15: m² | F15: =ROUND(M15,2) -> 984.45 | G15: 0.61 | H15: =ROUND(ROUND(G15 * $J$10, 2) + G15, 2) -> 0.79 | I15: =ROUND(F15 * H15,2) -> 777.72 | J15: =I15 / J9 -> 6.4783852e-05 | K15: =TRUNC(M15,2) -> 984.45 | M15: 984.45
A16: 2 | D16: DEMOLIÇÃOS E REMOÇÃO | F16: 1 | H16: =I17 + I18 + I19 + I20 + I21 + I22 + I23 + I24 -> 72524.15 | I16: =ROUND(F16 * H16,2) -> 72524.15 | J16: =I16 / J9 -> 0.0060412408 | K16: =TRUNC(M16,2) -> 1 | M16: 1
A17: 2.1 | B17: 104790 | C17: SINAPI | D17: DEMOLIÇÃO DE PISO DE CONCRETO SIMPLES, DE FORMA MECANIZADA COM MARTELETE, SEM REAPROVEITAMENTO. AF_09/2023 | E17: m³ | F17: =ROUND(M17,2) -> 117.36 | G17: 93.59 | H17: =ROUND(ROUND(G17 * $J$10, 2) + G17, 2) -> 120.56 | I17: =ROUND(F17 * H17,2) -> 14148.92 | J17: =I17 / J9 -> 0.001178601 | K17: =TRUNC(M17,2) -> 117.36 | M17: 117.36052
A18: 2.2 | B18: 97636 | C18: SINAPI | D18: DEMOLIÇÃO PARCIAL DE PAVIMENTO ASFÁLTICO, DE FORMA MECANIZADA, SEM REAPROVEITAMENTO. AF_09/2023 | E18: m² | F18: =ROUND(M18,2) -> 699.22 | G18: 20.68 | H18: =ROUND(ROUND(G18 * $J$10, 2) + G18, 2) -> 26.64 | I18: =ROUND(F18 * H18,2) -> 18627.22 | J18: =I18 / J9 -> 0.0015516421 | K18: =TRUNC(M18,2) -> 699.21 | M18: 699.2194
A19: 2.3 | B19: 104796 | C19: SINAPI | D19: DEMOLIÇÃO DE GUIAS, SARJETAS OU SARJETÕES, DE FORMA MECANIZADA, SEM REAPROVEITAMENTO. AF_09/2023 | E19: M | F19: =ROUND(M19,2) -> 401.89 | G19: 12.21 | H19: =ROUND(ROUND(G19 * $J$10, 2) + G19, 2) -> 15.73 | I19: =ROUND(F19 * H19,2) -> 6321.73 | J19: =I19 / J9 -> 0.00052659829 | K19: =TRUNC(M19,2) -> 401.89 | M19: 401.89
A20: 2.4 | B20: 104800 | C20: SINAPI | D20: REMOÇÃO DE CERCAS E MOURÕES, DE FORMA MANUAL, SEM REAPROVEITAMENTO. AF_09/2023 | E20: M | F20: =ROUND(M20,2) -> 102.15 | G20: 8.45 | H20: =ROUND(ROUND(G20 * $J$10, 2) + G20, 2) -> 10.89 | I20: =ROUND(F20 * H20,2) -> 1112.41 | J20: =I20 / J9 -> 9.2663433e-05 | K20: =TRUNC(M20,2) -> 102.15 | M20: 102.15
A21: 2.5 | B21: 100998 | C21: SINAPI | D21: CARGA, MANOBRA E DESCARGA DE ENTULHO EM CAMINHÃO BASCULANTE 10 M³ - CARGA COM ESCAVADEIRA HIDRÁULICA (CAÇAMBA DE 0,80 M³ / 111 HP) E DESCARGA LIVRE (UNIDADE: T). AF_07/2020 | E21: T | F21: =ROUND(M21,2) -> 263.35 | G21: 5.85 | H21: =ROUND(ROUND(G21 * $J$10, 2) + G21, 2) -> 7.54 | I21: =ROUND(F21 * H21,2) -> 1985.66 | J21: =I21 / J9 -> 0.00016540491 | K21: =TRUNC(M21,2) -> 263.34 | M21: 263.34862
A22: 2.6 | B22: 97912 | C22: SINAPI | D22: TRANSPORTE COM CAMINHÃO BASCULANTE DE 6 M³, EM VIA URBANA EM LEITO NATURAL (UNIDADE: M3XKM). AF_07/2020 | E22: M3XKM | F22: =ROUND(M22,2) -> 3313.96 | G22: 3.66 | H22: =ROUND(ROUND(G22 * $J$10, 2) + G22, 2) -> 4.71 | I22: =ROUND(F22 * H22,2) -> 15608.75 | J22: =I22 / J9 -> 0.0013002044 | K22: =TRUNC(M22,2) -> 3313.95 | M22: 3313.9587
A23: 2.7 | B23: SEINFRA RL 208 | C23: Próprio | D23: DESMONTAGEM DE ESTRUTURA METÁLICA COM RETIRADA DE SOLDA E CORTE DE PEÇAS POR MEIO DE LIXADEIRA | E23: m² | F23: =ROUND(M23,2) -> 121.6 | G23: 24.42 | H23: =ROUND(ROUND(G23 * $J$10, 2) + G23, 2) -> 31.46 | I23: =ROUND(F23 * H23,2) -> 3825.54 | J23: =I23 / J9 -> 0.00031866638 | K23: =TRUNC(M23,2) -> 121.6 | M23: 121.6
A24: 2.8 | B24: SEINFRA RL 746 | C24: Próprio | D24: Remoção de poste de concreto armado seção circular ou duplo T | E24: un | F24: =ROUND(M24,2) -> 16 | G24: 528.54 | H24: =ROUND(ROUND(G24 * $J$10, 2) + G24, 2) -> 680.87 | I24: =ROUND(F24 * H24,2) -> 10893.92 | J24: =I24 / J9 -> 0.0009074604 | K24: =TRUNC(M24,2) -> 16 | M24: 16
A25: 3 | D25: MOVIMENTO DE TERRA PARA FUNDAÇÕES | F25: 1 | H25: =I26 + I27 + I28 + I29 -> 21254.18 | I25: =ROUND(F25 * H25,2) -> 21254.18 | J25: =I25 / J9 -> 0.0017704671 | K25: =TRUNC(M25,2) -> 1 | M25: 1
A26: 3.1 | B26: 100576 | C26: SINAPI | D26: REGULARIZAÇÃO E COMPACTAÇÃO DE SUBLEITO DE SOLO PREDOMINANTEMENTE ARGILOSO, PARA OBRAS DE CONSTRUÇÃO DE PAVIMENTOS. AF_09/2024 | E26: m² | F26: =ROUND(M26,2) -> 3151.14 | G26: 2.67 | H26: =ROUND(ROUND(G26 * $J$10, 2) + G26, 2) -> 3.44 | I26: =ROUND(F26 * H26,2) -> 10839.92 | J26: =I26 / J9 -> 0.00090296221 | K26: =TRUNC(M26,2) -> 3151.14 | M26: 3151.14
A27: 3.2 | B27: 96527 | C27: SINAPI | D27: ESCAVAÇÃO MANUAL PARA VIGA BALDRAME OU SAPATA CORRIDA (INCLUINDO ESCAVAÇÃO PARA COLOCAÇÃO DE FÔRMAS). AF_01/2024 | E27: m³ | F27: 36.5 | G27: 93.81 | H27: =ROUND(ROUND(G27 * $J$10, 2) + G27, 2) -> 120.85 | I27: =ROUND(F27 * H27,2) -> 4411.03 | J27: =I27 / J9 -> 0.00036743753 | K27: =TRUNC(M27,2) -> 36.5 | M27: 36.50725
A28: 3.3 | B28: 94342 | C28: SINAPI | D28: ATERRO MANUAL DE VALAS COM AREIA PARA ATERRO. AF_08/2023 | E28: m³ | F28: =ROUND(M28,2) -> 20.64 | G28: 92.46 | H28: =ROUND(ROUND(G28 * $J$10, 2) + G28, 2) -> 119.11 | I28: =ROUND(F28 * H28,2) -> 2458.43 | J28: =I28 / J9 -> 0.00020478651 | K28: =TRUNC(M28,2) -> 20.64 | M28: 20.641575
A29: 3.4 | B29: 96523 | C29: SINAPI | D29: ESCAVAÇÃO MANUAL PARA BLOCO DE COROAMENTO OU SAPATA (INCLUINDO ESCAVAÇÃO PARA COLOCAÇÃO DE FÔRMAS). AF_01/2024 | E29: m³ | F29: 32.29 | G29: 85.22 | H29: =ROUND(ROUND(G29 * $J$10, 2) + G29, 2) -> 109.78 | I29: =ROUND(F29 * H29,2) -> 3544.8 | J29: =I29 / J9 -> 0.00029528082 | K29: =TRUNC(M29,2) -> 32.29 | M29: 32.298
A30: 4 | D30: FUNDAÇÕES | F30: 1 | H30: =I31 -> 30547.91 | I30: =TRUNC(F30 * H30,2) -> 30547.91 | J30: =I30 / J9 -> 0.0025446321 | K30: =TRUNC(M30,2) -> 1 | M30: 1
A31: 4.1 | D31: CONCRETO ARMADO PARA FUNDAÇÕES | F31: 1 | H31: =I32 + I33 + I34 + I35 + I36 -> 30547.91 | I31: =TRUNC(F31 * H31,2) -> 30547.91 | J31: =I31 / J9 -> 0.0025446321 | K31: =TRUNC(M31,2) -> 1 | M31: 1
A32: 4.1.1 | B32: 96540 | C32: SINAPI | D32: FABRICAÇÃO, MONTAGEM E DESMONTAGEM DE FÔRMA PARA BLOCO DE COROAMENTO, EM CHAPA DE MADEIRA COMPENSADA RESINADA, E=17 MM, 4 UTILIZAÇÕES. AF_01/2024 | E32: m² | F32: 39.32 | G32: 133.6 | H32: =ROUND(ROUND(G32 * $J$10, 2) + G32, 2) -> 172.1 | I32: =ROUND(F32 * H32,2) -> 6766.97 | J32: =I32 / J9 -> 0.00056368665 | K32: =TRUNC(M32,2) -> 39.32 | M32: 39.325
A33: 4.1.2 | B33: 104923 | C33: SINAPI | D33: CONCRETAGEM DE SAPATA CORRIDA, FCK 30 MPA, COM USO DE JERICA - LANÇAMENTO, ADENSAMENTO E ACABAMENTO. AF_01/2024 | E33: m³ | F33: =ROUND(M33,2) -> 8 | G33: 760.3 | H33: =ROUND(ROUND(G33 * $J$10, 2) + G33, 2) -> 979.42 | I33: =ROUND(F33 * H33,2) -> 7835.36 | J33: =I33 / J9 -> 0.00065268323 | K33: =TRUNC(M33,2) -> 8 | M33: 8
A34: 4.1.3 | B34: 104916 | C34: SINAPI | D34: ARMAÇÃO DE SAPATA ISOLADA, VIGA BALDRAME E SAPATA CORRIDA UTILIZANDO AÇO CA-60 DE 5 MM - MONTAGEM. AF_01/2024 | E34: KG | F34: =ROUND(M34,2) -> 61.35 | G34: 17.64 | H34: =ROUND(ROUND(G34 * $J$10, 2) + G34, 2) -> 22.72 | I34: =ROUND(F34 * H34,2) -> 1393.87 | J34: =I34 / J9 -> 0.00011610897 | K34: =TRUNC(M34,2) -> 61.35 | M34: 61.35
A35: 4.1.4 | B35: 104919 | C35: SINAPI | D35: ARMAÇÃO DE SAPATA ISOLADA, VIGA BALDRAME E SAPATA CORRIDA UTILIZANDO AÇO CA-50 DE 10 MM - MONTAGEM. AF_01/2024 | E35: KG | F35: =ROUND(M35,2) -> 340.36 | G35: 14.4 | H35: =ROUND(ROUND(G35 * $J$10, 2) + G35, 2) -> 18.55 | I35: =ROUND(F35 * H35,2) -> 6313.68 | J35: =I35 / J9 -> 0.00052592773 | K35: =TRUNC(M35,2) -> 340.36 | M35: 340.36
A36: 4.1.5 | B36: SEINFRA RL 668 | C36: Próprio | D36: MURO DE CONTENÇAO EM PEDRA RACHÃO | E36: m³ | F36: =ROUND(M36,2) -> 17.4 | G36: 367.53 | H36: =ROUND(ROUND(G36 * $J$10, 2) + G36, 2) -> 473.45 | I36: =ROUND(F36 * H36,2) -> 8238.03 | J36: =I36 / J9 -> 0.00068622553 | K36: =TRUNC(M36,2) -> 17.4 | M36: 17.4
A37: 5 | D37: SUPERESTRUTURA | F37: 1 | H37: =ROUND(I38 + I45 + I52 + I54 + I56 + I64,2) -> 625866.38 | I37: =ROUND(F37 * H37,2) -> 625866.38 | J37: =I37 / J9 -> 0.052134489 | K37: =TRUNC(M37,2) -> 1 | M37: 1
A38: 5.1 | D38: CONCRETO ARMADO - PILARES | F38: 1 | H38: =ROUND(I39 + I40 + I41 + I42 + I43 + I44,2) -> 49736.11 | I38: =ROUND(F38 * H38,2) -> 49736.11 | J38: =I38 / J9 -> 0.0041430036 | K38: =TRUNC(M38,2) -> 1 | M38: 1
A39: 5.1.1 | B39: 92417 | C39: SINAPI | D39: MONTAGEM E DESMONTAGEM DE FÔRMA DE PILARES RETANGULARES E ESTRUTURAS SIMILARES, PÉ-DIREITO DUPLO, EM CHAPA DE MADEIRA COMPENSADA RESINADA, 2 UTILIZAÇÕES. AF_09/2020 | E39: m² | F39: 11.36 | G39: 187.95 | H39: =ROUND(ROUND(G39 * $J$10, 2) + G39, 2) -> 242.12 | I39: =ROUND(F39 * H39,2) -> 2750.48 | J39: =I39 / J9 -> 0.00022911419 | K39: =TRUNC(M39,2) -> 11.36 | M39: 11.365
A40: 5.1.2 | B40: 92759 | C40: SINAPI | D40: ARMAÇÃO DE PILAR OU VIGA DE ESTRUTURA CONVENCIONAL DE CONCRETO ARMADO UTILIZANDO AÇO CA-60 DE 5,0 MM - MONTAGEM. AF_06/2022 | E40: KG | F40: =ROUND(M40,2) -> 175.76 | G40: 15.33 | H40: =ROUND(ROUND(G40 * $J$10, 2) + G40, 2) -> 19.75 | I40: =ROUND(F40 * H40,2) -> 3471.26 | J40: =I40 / J9 -> 0.00028915496 | K40: =TRUNC(M40,2) -> 175.76 | M40: 175.76
A41: 5.1.3 | B41: 92762 | C41: SINAPI | D41: ARMAÇÃO DE PILAR OU VIGA DE ESTRUTURA CONVENCIONAL DE CONCRETO ARMADO UTILIZANDO AÇO CA-50 DE 10,0 MM - MONTAGEM. AF_06/2022 | E41: KG | F41: =ROUND(M41,2) -> 739.72 | G41: 12.9 | H41: =ROUND(ROUND(G41 * $J$10, 2) + G41, 2) -> 16.62 | I41: =ROUND(F41 * H41,2) -> 12294.15 | J41: =I41 / J9 -> 0.0010240992 | K41: =TRUNC(M41,2) -> 739.72 | M41: 739.72
A42: 5.1.4 | B42: 92763 | C42: SINAPI | D42: ARMAÇÃO DE PILAR OU VIGA DE ESTRUTURA CONVENCIONAL DE CONCRETO ARMADO UTILIZANDO AÇO CA-50 DE 12,5 MM - MONTAGEM. AF_06/2022 | E42: KG | F42: =ROUND(M42,2) -> 50 | G42: 10.94 | H42: =ROUND(ROUND(G42 * $J$10, 2) + G42, 2) -> 14.09 | I42: =ROUND(F42 * H42,2) -> 704.5 | J42: =I42 / J9 -> 5.8684647e-05 | K42: =TRUNC(M42,2) -> 50 | M42: 50
A43: 5.1.5 | B43: 104923 | C43: SINAPI | D43: CONCRETAGEM DE SAPATA CORRIDA, FCK 30 MPA, COM USO DE JERICA - LANÇAMENTO, ADENSAMENTO E ACABAMENTO. AF_01/2024 | E43: m³ | F43: =ROUND(M43,2) -> 2.54 | G43: 760.3 | H43: =ROUND(ROUND(G43 * $J$10, 2) + G43, 2) -> 979.42 | I43: =ROUND(F43 * H43,2) -> 2487.73 | J43: =I43 / J9 -> 0.00020722719 | K43: =TRUNC(M43,2) -> 2.54 | M43: 2.54
...

Sheet CRONOGRAMA
A1: SECRETARIA DE INFRAESTRUTURA DE RIO LARGO
A4: PREFEITURA MUNICIPAL DE RIO LARGO
A5: Cronograma Físico-financeiro
A6: ='[1]ORÇAMENTO OBSOLETO'!A6 -> BDI SERVIÇO: | B6: 0.2882
A7: ='[1]ORÇAMENTO OBSOLETO'!A8 -> OBJETO: | B7: REVITALIZAÇÃO DA ORLA FLUVIAL DO RIO MUNDAÚ, NO MUNICÍPIO DE RIO LARGO/AL
A10: ITEM | B10: DESCRIÇÃO DOS SERVIÇOS: | C10: VALOR (R$) | D10: % ITEM | E10: 1 | F10: 2 | G10: 3 | H10: 4 | I10: 5 | J10: 6 | K10: 7 | L10: 8 | M10: 9 | N10: 10 | O10: 11 | P10: 12
A12: 1 | B12: =ORÇAMENTO!D12 -> SERVIÇOS PRELIMINARES (ORLA FLUVIAL) | C12: =ORÇAMENTO!I12 -> 24463.02 | D12: =C12/$C$86 -> 0.0020377625 | E12: 1 | Q12: =SUM(E12:P12) -> 1
A14: =A12+1 -> 2 | B14: =ORÇAMENTO!D16 -> DEMOLIÇÃOS E REMOÇÃO | C14: =ORÇAMENTO!I16 -> 72524.15 | D14: =C14/$C$86 -> 0.0060412408 | E14: 1 | Q14: =SUM(E14:P14) -> 1
A16: =A14+1 -> 3 | B16: =ORÇAMENTO!D25 -> MOVIMENTO DE TERRA PARA FUNDAÇÕES | C16: =ORÇAMENTO!I25 -> 21254.18 | D16: =C16/$C$86 -> 0.0017704671 | E16: 0.4 | F16: 0.4 | G16: 0.2 | Q16: =SUM(E16:P16) -> 1
A18: =A16+1 -> 4 | B18: =ORÇAMENTO!D30 -> FUNDAÇÕES | C18: =ORÇAMENTO!I30 -> 30547.91 | D18: =C18/$C$86 -> 0.0025446321 | E18: 0.2 | F18: 0.4 | G18: 0.4 | Q18: =SUM(E18:P18) -> 1
A20: =A18+1 -> 5 | B20: =ORÇAMENTO!D37 -> SUPERESTRUTURA | C20: =ORÇAMENTO!I37 -> 625866.38 | D20: =C20/$C$86 -> 0.052134489 | G20: 0.3 | H20: 0.4 | I20: 0.3 | Q20: =SUM(E20:P20) -> 1
A22: =A20+1 -> 6 | B22: =ORÇAMENTO!D72 -> SISTEMA DE VEDAÇÃO VERTICAL | C22: =ORÇAMENTO!I72 -> 82317.91 | D22: =C22/$C$86 -> 0.0068570582 | I22: 0.4 | J22: 0.4 | K22: 0.2 | Q22: =SUM(E22:P22) -> 1
A24: =A22+1 -> 7 | B24: =ORÇAMENTO!D78 -> SISTEMA DE PISO E PAVIMENTAÇÃO | C24: =ORÇAMENTO!I78 -> 386611.86 | D24: =C24/$C$86 -> 0.032204657 | J24: 0.4 | K24: 0.3 | L24: 0.1 | M24: 0.1 | N24: 0.1 | Q24: =SUM(E24:P24) -> 1
A26: =A24+1 -> 8 | B26: =ORÇAMENTO!D88 -> REVESTIMENTOS INTERNO E EXTERNO | C26: =ORÇAMENTO!I88 -> 145257.08 | D26: =C26/$C$86 -> 0.012099873 | K26: 0.25 | L26: 0.35 | M26: 0.2 | N26: 0.2 | Q26: =SUM(E26:P26) -> 1
A28: =A26+1 -> 9 | B28: =ORÇAMENTO!D95 -> ESQUADRIAS | C28: =ORÇAMENTO!I95 -> 87314.11 | D28: =C28/$C$86 -> 0.0072732402 | N28: 0.5 | O28: 0.5 | Q28: =SUM(E28:P28) -> 1
A30: =A28+1 -> 10 | B30: =ORÇAMENTO!D110 -> IMPERMEABILIZAÇÃO | C30: =ORÇAMENTO!I110 -> 38257.82 | D30: =C30/$C$86 -> 0.0031868654 | O30: 0.3 | P30: 0.7 | Q30: =SUM(E30:P30) -> 1
A32: =A30+1 -> 11 | B32: =ORÇAMENTO!D116 -> PINTURA E ACABAMENTO | C32: =ORÇAMENTO!I116 -> 23479.62 | D32: =C32/$C$86 -> 0.0019558456 | J32: 0.5 | O32: 0.3 | P32: 0.2 | Q32: =SUM(E32:P32) -> 1
A34: =A32+1 -> 12 | B34: =ORÇAMENTO!D128 -> INSTALAÇÃO HIDRÁULICA | C34: =ORÇAMENTO!I128 -> 14688.99 | D34: =C34/$C$86 -> 0.0012235886 | O34: 0.5 | P34: 0.5 | Q34: =SUM(E34:P34) -> 1
A36: =A34+1 -> 13 | B36: =ORÇAMENTO!D168 -> DRENAGEM DE ÁGUAS PLUVIAIS | C36: =ORÇAMENTO!I168 -> 4903.82 | D36: =C36/$C$86 -> 0.00040848679 | M36: 0.5 | P36: 0.5 | Q36: =SUM(E36:P36) -> 1
A38: =A36+1 -> 14 | B38: =ORÇAMENTO!D176 -> INSTALAÇÃO SANITÁRIA | C38: =ORÇAMENTO!I176 -> 52773.45 | D38: =C38/$C$86 -> 0.0043960132 | P38: 1 | Q38: =SUM(E38:P38) -> 1
A40: =A38+1 -> 15 | B40: =ORÇAMENTO!D213 -> LOUÇAS E METAIS | C40: =ORÇAMENTO!I213 -> 48286.7 | D40: =C40/$C$86 -> 0.0040222682 | P40: 1 | Q40: =SUM(E40:P40) -> 1
A42: =A40+1 -> 16 | B42: =ORÇAMENTO!D226 -> INSTALAÇÃO ELÉTRICA E LÓGICA - 220V | C42: =ORÇAMENTO!I226 -> 200628.39 | D42: =C42/$C$86 -> 0.016712287 | O42: 0.7 | P42: 0.3 | Q42: =SUM(E42:P42) -> 1
A44: =A42+1 -> 17 | B44: =ORÇAMENTO!D279 -> SERVIÇOS COMPLEMENTARES | C44: =ORÇAMENTO!I279 -> 373794.28 | D44: =C44/$C$86 -> 0.031136956 | O44: 0.5 | P44: 0.5 | Q44: =SUM(E44:P44) -> 1
A46: =A44+1 -> 18 | B46: =ORÇAMENTO!D288 -> SERVIÇOS PRELIMINARES E INDIRETOS | C46: =ORÇAMENTO!I288 -> 49128.96 | D46: =C46/$C$86 -> 0.0040924282 | E46: 1 | Q46: =SUM(E46:P46) -> 1
A48: =A46+1 -> 19 | B48: =ORÇAMENTO!D291 -> DEMOLIÇÃO E REMOÇÃO | C48: =ORÇAMENTO!I291 -> 191325.28 | D48: =C48/$C$86 -> 0.015937341 | E48: 0.4 | F48: 0.6 | Q48: =SUM(E48:P48) -> 1
A50: =A48+1 -> 20 | B50: =ORÇAMENTO!D310 -> MOVIMENTAÇÃO DE TERA PARA FUNDAÇÕES | C50: =ORÇAMENTO!I310 -> 28709.63 | D50: =C50/$C$86 -> 0.0023915039 | E50: 0.2 | F50: 0.4 | G50: 0.4 | Q50: =SUM(E50:P50) -> 1
A52: =A50+1 -> 21 | B52: =ORÇAMENTO!D313 -> FUNDAÇÃO | C52: =ORÇAMENTO!I313 -> 72779.95 | D52: =C52/$C$86 -> 0.0060625489 | F52: 0.1 | G52: 0.3 | H52: 0.4 | I52: 0.2 | Q52: =SUM(E52:P52) -> 1
A54: =A52+1 -> 22 | B54: =ORÇAMENTO!D321 -> SUPERESTRUTURA | C54: =ORÇAMENTO!I321 -> 1656335.7 | D54: =C54/$C$86 -> 0.13797229 | I54: 0.4 | J54: 0.4 | K54: 0.2 | Q54: =SUM(E54:P54) -> 1
A56: =A54+1 -> 23 | B56: =ORÇAMENTO!D353 -> ALVENARIA, VEDAÇÃO E DIVISÓRIAS | C56: =ORÇAMENTO!I353 -> 125722.48 | D56: =C56/$C$86 -> 0.010472646 | H56: 0.4 | I56: 0.2 | J56: 0.2 | K56: 0.2 | Q56: =SUM(E56:P56) -> 1
A58: =A56+1 -> 24 | B58: =ORÇAMENTO!D360 -> COBERTURA | C58: =ORÇAMENTO!I360 -> 987260.82 | D58: =C58/$C$86 -> 0.082238542 | K58: 0.25 | L58: 0.35 | M58: 0.2 | N58: 0.2 | Q58: =SUM(E58:P58) -> 1
A60: =A58+1 -> 25 | B60: =ORÇAMENTO!D368 -> IMPERMEABILIZAÇÃO | C60: =ORÇAMENTO!I368 -> 114582.18 | D60: =C60/$C$86 -> 0.0095446626 | L60: 0.5 | M60: 0.5 | Q60: =SUM(E60:P60) -> 1
A62: =A60+1 -> 26 | B62: =ORÇAMENTO!D371 -> ESQUADRIAS | C62: =ORÇAMENTO!I371 -> 851572.06 | D62: =C62/$C$86 -> 0.070935707 | M62: 0.1 | N62: 0.1 | O62: 0.4 | P62: 0.4 | Q62: =SUM(E62:P62) -> 1
A64: =A62+1 -> 27 | B64: =ORÇAMENTO!D393 -> REVESTIMENTO DE PAREDE | C64: =ORÇAMENTO!I393 -> 606150.15 | D64: =C64/$C$86 -> 0.050492133 | K64: 0.1 | L64: 0.1 | M64: 0.3 | N64: 0.3 | O64: 0.2 | Q64: =SUM(E64:P64) -> 1
A66: =A64+1 -> 28 | B66: =ORÇAMENTO!D399 -> REVESTIMENTO DE PISO | C66: =ORÇAMENTO!I399 -> 1641807.4 | D66: =C66/$C$86 -> 0.13676208 | M66: 0.2 | N66: 0.3 | O66: 0.5 | Q66: =SUM(E66:P66) -> 1
A68: =A66+1 -> 29 | B68: =ORÇAMENTO!D410 -> REVESTIMENTO DE TETO | C68: =ORÇAMENTO!I410 -> 83402.86 | D68: =C68/$C$86 -> 0.0069474342 | L68: 0.4 | M68: 0.3 | N68: 0.2 | O68: 0.1 | Q68: =SUM(E68:P68) -> 1
A70: =A68+1 -> 30 | B70: =ORÇAMENTO!D413 -> PINTURA | C70: =ORÇAMENTO!I413 -> 162695.7 | D70: =C70/$C$86 -> 0.013552505 | L70: 0.1 | M70: 0.2 | N70: 0.3 | O70: 0.4 | Q70: =SUM(E70:P70) -> 1
A72: =A70+1 -> 31 | B72: =ORÇAMENTO!D426 -> MARMORARIA E BANCADAS | C72: =ORÇAMENTO!I426 -> 13051.19 | D72: =C72/$C$86 -> 0.0010871604 | N72: 0.1 | O72: 0.5 | P72: 0.4 | Q72: =SUM(E72:P72) -> 1
A74: =A72+1 -> 32 | B74: =ORÇAMENTO!D429 -> LOUÇA, METAIS E ACESSÓRIOS | C74: =ORÇAMENTO!I429 -> 108130.55 | D74: =C74/$C$86 -> 0.0090072437 | O74: 0.7 | P74: 0.3 | Q74: =SUM(E74:P74) -> 1
A76: =A74+1 -> 33 | B76: =ORÇAMENTO!D444 -> INSTALAÇÕES HIDROSSANITÁRIAS | C76: =ORÇAMENTO!I444 -> 517257.7 | D76: =C76/$C$86 -> 0.043087417 | M76: 0.5 | P76: 0.5 | Q76: =SUM(E76:P76) -> 1
A78: =A76+1 -> 34 | B78: =ORÇAMENTO!D537 -> INSTALAÇÕES ELÉTRICAS | C78: =ORÇAMENTO!I537 -> 912739.95 | D78: =C78/$C$86 -> 0.076030975 | E78: 0.1 | F78: 0.2 | G78: 0.3 | H78: 0.3 | P78: 0.1 | Q78: =SUM(E78:P78) -> 1
...

Sheet CURVA ABC
A1: CURVA ABC
A2: PREFEITURA MUNICIPAL DE RIO LARGO
A3: SECRETARIA MUNICIPAL DE INFRAESTRUTURA
A4: BASE: | B4: SINAPI SETEMBRO 2025 E ORSE SETEMBRO 2025
A5: OBJETO: | B5: REVITALIZAÇÃO DA ORLA FLUVIAL DO RIO MUNDAÚ, NO MUNICÍPIO DE RIO LARGO/AL
A8: Bancos | C8: Obra | D8: B.D.I. | G8: Encargos Sociais
A9: SINAPI - 09/2025 - Alagoas ORSE - 09/2025 - Sergipe | C9: ORLA FLUVIAL E FEIRA DA MULAMBEIRA -ajustada com bdi correto | D9: 28,82% | G9: Desonerado: embutido nos preços unitário dos insumos de mão de obra, de acordo com as bases.
A10: Curva ABC de Serviços
A11: Código | B11: Banco | C11: Descrição | D11: Und | E11: Quant. | F11: Valor Unit | G11: Valor Unit com BDI | H11: Total | I11: Peso (%) | J11: Peso Acumulado (%)
A12: SEINFRA RL 780 | B12: Próprio | C12: Estrutura Galpões em Pórticos Pré-Moldados de Concreto Armado, sem Lanternim,c/Montagem, exclusive Telhas, Inclusive Fundações. | D12: m² | E12: 2376.98 | F12: 330 | G12: 425.11 | H12: 1010478 | I12: 0.084172524 | J12: =I12 -> 0.084172524
A13: SEINFRA RL 829 | B13: Próprio | C13: Bancas em Concreto armado, com prateleiras em MDF revestido e puxador inox E Tampo em granito. conforme projeto | D13: un | E13: 212 | F13: 2803.09 | G13: 3610.94 | H13: 765519.28 | I13: 0.063767536 | J13: =I13+J12 -> 0.14794006
A14: 94992 | B14: SINAPI | C14: EXECUÇÃO DE PASSEIO (CALÇADA) OU PISO DE CONCRETO COM CONCRETO MOLDADO IN LOCO, FEITO EM OBRA, ACABAMENTO CONVENCIONAL, ESPESSURA 6 CM, ARMADO. AF_08/2022 | D14: m² | E14: 7331.94 | F14: 79.08 | G14: 101.87 | H14: 746904.73 | I14: 0.062216949 | J14: =I14+J13 -> 0.21015701
A15: 94216 | B15: SINAPI | C15: TELHAMENTO COM TELHA METÁLICA TERMOACÚSTICA E = 30 MM, COM ATÉ 2 ÁGUAS, INCLUSO IÇAMENTO. AF_07/2019 | D15: m² | E15: 3067.92 | F15: 185.93 | G15: 239.52 | H15: 734828.2 | I15: 0.061210977 | J15: =I15+J14 -> 0.27136799
A16: SEINFRA RL 762 | B16: Próprio | C16: REVESTIMENTO EM PORCELANATO, RETIFICADO, LISO, MONOCOLOR, ACETINADO 80x80 | D16: m² | E16: 2024.34 | F16: 198.54 | G16: 255.76 | H16: 517745.2 | I16: 0.043128026 | J16: =I16+J15 -> 0.31449601
A17: SEINFRA RL 677 | B17: Próprio | C17: Brise de alumínio com perfis de 3x15, acabamento em pintura, inclusive instalação | D17: m² | E17: 748.6 | F17: 477.39 | G17: 614.97 | H17: 460366.54 | I17: 0.0383484 | J17: =I17+J16 -> 0.35284441
A18: SEINFRA RL 828 | B18: Próprio | C18: BOX COM DIVISÓRIAS EM ALVENARIA E BANCADA E PRATILEIRA EM GRANITO (UNIDADE PARA 4 BOXS DE 8,26M²). | D18: UN | E18: 14 | F18: 24168.25 | G18: 31133.54 | H18: 435869.56 | I18: 0.036307809 | J18: =I18+J17 -> 0.38915222
A19: SEINFRA RL 779 | B19: Próprio | C19: Estrutura Galpões em Pórticos Pré-Moldados de Concreto Armado, com Lanternim,c/Montagem, excluso telhas, Inclusive Fundações. | D19: m² | E19: 870 | F19: 370 | G19: 476.63 | H19: 414668.1 | I19: 0.034541733 | J19: =I19+J18 -> 0.42369395
A20: 97097 | B20: SINAPI | C20: ACABAMENTO POLIDO PARA PISO DE CONCRETO ARMADO OU LAJE SOBRE SOLO DE ALTA RESISTÊNCIA. AF_09/2021 | D20: m² | E20: 5807.38 | F20: 51.64 | G20: 66.52 | H20: 386306.92 | I20: 0.032179255 | J20: =I20+J19 -> 0.45587321
A21: SEINFRA RL 762 | B21: Próprio | C21: REVESTIMENTO EM PORCELANATO, RETIFICADO, LISO, MONOCOLOR, ACETINADO 80x80 | D21: m² | E21: 1397.79 | F21: 198.54 | G21: 255.76 | H21: 357498.77 | I21: 0.029779545 | J21: =I21+J20 -> 0.48565275
A22: SEINFRA RL 827 | B22: Próprio | C22: PÓRTICO DE ENTRADA EM ESTRUTURA METÁLICA E REVESTIDO COM ACM NA COR CINZA | D22: UN | E22: 1 | F22: 186390.4 | G22: 240108.11 | H22: 240108.11 | I22: 0.020000936 | J22: =I22+J21 -> 0.50565369
A23: 92397 | B23: SINAPI | C23: EXECUÇÃO DE PAVIMENTO EM PISO INTERTRAVADO, COM BLOCO RETANGULAR COR NATURAL DE 20 X 10 CM, ESPESSURA 6 CM. AF_10/2022 | D23: m² | E23: 2319.63 | F23: 72.79 | G23: 93.77 | H23: 217511.71 | I23: 0.018118663 | J23: =I23+J22 -> 0.52377235
A24: SEINFRA RL 665 | B24: Próprio | C24: GUARDA CORPO EM CONCRETO (h = 0,8), COM PILARES A CADA 2M E BASE 0,15 X 0,30.CONFORME PROJETO. 50 CM ENGASTADO | D24: M | E24: 334.99 | F24: 495.98 | G24: 638.92 | H24: 214031.81 | I24: 0.017828788 | J24: =I24+J23 -> 0.54160114
... A523: SEINFRA RL 818 | B523: Próprio | C523: Cap de pvc rígido soldável, marrom, diâm = 25mm | D523: un | E523: 1 | F523: 3.89 | G523: 5.01 | H523: 5.01 | I523: 4.1733156e-07 | J523: =I523+J522 -> 1

Sheet COMPOSIÇOES
A1: COMPOSIÇÕES
A2: PREFEITURA MUNICIPAL DE RIO LARGO
A3: SECRETARIA MUNICIPAL DE INFRAESTRUTURA
A4: BASE: | B4: SINAPI SETEMBRO 2025 E ORSE SETEMBRO 2025
A5: OBJETO: | B5: REVITALIZAÇÃO DA ORLA FLUVIAL DO RIO MUNDAÚ, NO MUNICÍPIO DE RIO LARGO/AL
A6: Encargos Sociais | G6: B.D.I.
A7: Desonerado: embutido nos preços unitário dos insumos de mão de obra, de acordo com as bases. | G7: 28.82
A8: Composições Analíticas com Preço Unitário
A9: Composições Principais
A10: 2.7 | B10: Código | C10: Banco | D10: Descrição | E10: Tipo | G10: Und | H10: Quant. | I10: Valor Unit | J10: Total
A11: Composição | B11: SEINFRA RL 208 | C11: Próprio | D11: DESMONTAGEM DE ESTRUTURA METÁLICA COM RETIRADA DE SOLDA E CORTE DE PEÇAS POR MEIO DE LIXADEIRA | E11: SEDI - SERVIÇOS DIVERSOS | G11: m² | H11: 1 | I11: 24.42 | J11: 24.42
A12: Composição Auxiliar | B12: 88317 | C12: SINAPI | D12: SOLDADOR COM ENCARGOS COMPLEMENTARES | E12: Livro SINAPI: Cálculos e Parâmetros | G12: H | H12: 0.5 | I12: 27.73 | J12: 13.86
A13: Composição Auxiliar | B13: 88316 | C13: SINAPI | D13: SERVENTE COM ENCARGOS COMPLEMENTARES | E13: Livro SINAPI: Cálculos e Parâmetros | G13: H | H13: 0.5 | I13: 19.72 | J13: 9.86
A14: Insumo | B14: 00013192 | C14: SINAPI | D14: LIXADEIRA ELETRICA ANGULAR PARA CONCRETO, POTENCIA 1.400 W, PRATO DIAMANTADO DE 5" | E14: Equipamento para Aquisição Permanente | G14: UN | H14: 0.0001 | I14: 2596.4 | J14: 0.25
A15: Insumo | B15: 00044533 | C15: SINAPI | D15: DISCO DE DESBASTE PARA METAL FERROSO EM GERAL, COM TRES TELAS, 9 X 1/4 X 7/8" (228,6 X 6,4 X 22,2 MM) | E15: Material | G15: UN | H15: 0.02 | I15: 22.61 | J15: 0.45
E16: MO sem LS => | F16: 17.23 | G16: LS => | H16: 0 | I16: MO com LS => | J16: 17.23
E17: Valor do BDI => | F17: 7.03 | H17: Valor com BDI => | J17: 31.45
A19: 2.8 | B19: Código | C19: Banco | D19: Descrição | E19: Tipo | G19: Und | H19: Quant. | I19: Valor Unit | J19: Total
A20: Composição | B20: SEINFRA RL 746 | C20: Próprio | D20: Remoção de poste de concreto armado seção circular ou duplo T | E20: 331 | G20: un | H20: 1 | I20: 528.54 | J20: 528.54
A21: Composição Auxiliar | B21: 93403 | C21: SINAPI | D21: GUINDAUTO HIDRÁULICO, CAPACIDADE MÁXIMA DE CARGA 3300 KG, MOMENTO MÁXIMO DE CARGA 5,8 TM, ALCANCE MÁXIMO HORIZONTAL 7,60 M, INCLUSIVE CAMINHÃO TOCO PBT 16.000 KG, POTÊNCIA DE 189 CV - CHI DIURNO. AF_03/2016 | E21: Custos Horários Produtivo e Improdutivo dos Equipamentos | G21: CHI | H21: 1 | I21: 66.09 | J21: 66.09
A22: Composição Auxiliar | B22: 88316 | C22: SINAPI | D22: SERVENTE COM ENCARGOS COMPLEMENTARES | E22: Livro SINAPI: Cálculos e Parâmetros | G22: H | H22: 4 | I22: 19.72 | J22: 78.88
A23: Composição Auxiliar | B23: 88264 | C23: SINAPI | D23: ELETRICISTA COM ENCARGOS COMPLEMENTARES | E23: Livro SINAPI: Cálculos e Parâmetros | G23: H | H23: 4 | I23: 29.64 | J23: 118.56
A24: Composição Auxiliar | B24: 93402 | C24: SINAPI | D24: GUINDAUTO HIDRÁULICO, CAPACIDADE MÁXIMA DE CARGA 3300 KG, MOMENTO MÁXIMO DE CARGA 5,8 TM, ALCANCE MÁXIMO HORIZONTAL 7,60 M, INCLUSIVE CAMINHÃO TOCO PBT 16.000 KG, POTÊNCIA DE 189 CV - CHP DIURNO. AF_03/2016 | E24: Custos Horários Produtivo e Improdutivo dos Equipamentos | G24: CHP | H24: 1 | I24: 265.01 | J24: 265.01
E25: MO sem LS => | F25: 194.46 | G25: LS => | H25: 0 | I25: MO com LS => | J25: 194.46
E26: Valor do BDI => | F26: 152.32 | H26: Valor com BDI => | J26: 680.86
A28: 4.1.5 | B28: Código | C28: Banco | D28: Descrição | E28: Tipo | G28: Und | H28: Quant. | I28: Valor Unit | J28: Total
A29: Composição | B29: SEINFRA RL 668 | C29: Próprio | D29: MURO DE CONTENÇAO EM PEDRA RACHÃO | E29: ASTU - ASSENTAMENTO DE TUBOS E PECAS | G29: m³ | H29: 1 | I29: 367.53 | J29: 367.53
A30: Composição Auxiliar | B30: 88309 | C30: SINAPI | D30: PEDREIRO COM ENCARGOS COMPLEMENTARES | E30: Livro SINAPI: Cálculos e Parâmetros | G30: H | H30: 1 | I30: 24.41 | J30: 24.41
A31: Composição Auxiliar | B31: 88316 | C31: SINAPI | D31: SERVENTE COM ENCARGOS COMPLEMENTARES | E31: Livro SINAPI: Cálculos e Parâmetros | G31: H | H31: 1 | I31: 19.72 | J31: 19.72
A32: Composição Auxiliar | B32: 88630 | C32: SINAPI | D32: ARGAMASSA TRAÇO 1:4 (CIMENTO E AREIA MÉDIA), PREPARO MECÂNICO COM BETONEIRA 400 L. AF_08/2019 | E32: Argamassas | G32: m³ | H32: 0.5 | I32: 472.91 | J32: 236.45
A33: Insumo | B33: 00004730 | C33: SINAPI | D33: PEDRA DE MAO OU PEDRA RACHAO PARA ARRIMO/FUNDACAO (POSTO PEDREIRA/FORNECEDOR, SEM FRETE) | E33: Material | G33: m³ | H33: 1 | I33: 86.95 | J33: 86.95
E34: MO sem LS => | F34: 52.07 | G34: LS => | H34: 0 | I34: MO com LS => | J34: 52.07
E35: Valor do BDI => | F35: 105.92 | H35: Valor com BDI => | J35: 473.45
A37: 5.5.6 | B37: Código | C37: Banco | D37: Descrição | E37: Tipo | G37: Und | H37: Quant. | I37: Valor Unit | J37: Total
A38: Composição | B38: SEINFRA RL 209 | C38: Próprio | D38: LAJE PRÉ-FABRICADA TRELIÇADA PARA PISO OU COBERTURA, INTEREIXO 38CM, H=16CM, ENCHIMENTO EM EPS H=12CM, INCLUSIVE ESCORAMENTO EM MADEIRA E CAPEAMENTO 4CM | E38: FUES - FUNDAÇÕES E ESTRUTURAS | G38: m² | H38: 1 | I38: 220.62 | J38: 220.62
A39: Composição Auxiliar | B39: 88262 | C39: SINAPI | D39: CARPINTEIRO DE FORMAS COM ENCARGOS COMPLEMENTARES | E39: Livro SINAPI: Cálculos e Parâmetros | G39: H | H39: 0.81 | I39: 24.01 | J39: 19.44
A40: Composição Auxiliar | B40: 88245 | C40: SINAPI | D40: ARMADOR COM ENCARGOS COMPLEMENTARES | E40: Livro SINAPI: Cálculos e Parâmetros | G40: H | H40: 0.15 | I40: 24.23 | J40: 3.63
A41: Composição Auxiliar | B41: 88316 | C41: SINAPI | D41: SERVENTE COM ENCARGOS COMPLEMENTARES | E41: Livro SINAPI: Cálculos e Parâmetros | G41: H | H41: 2.1 | I41: 19.72 | J41: 41.41
A42: Composição Auxiliar | B42: 88309 | C42: SINAPI | D42: PEDREIRO COM ENCARGOS COMPLEMENTARES | E42: Livro SINAPI: Cálculos e Parâmetros | G42: H | H42: 0.47 | I42: 24.41 | J42: 11.47
A43: Insumo | B43: 7534 | C43: ORSE | D43: Laje pré-fabricada treliçada para piso ou cobertura, h=16cm, el. enchimento em bloco EPS, h=12cm | E43: Material | G43: m² | H43: 1 | I43: 70.97 | J43: 70.97
...

Sheet MEMÓRIA DE CALCULO
A1: MEMÓRIA DE CALCULO
A2: PREFEITURA MUNICIPAL DE RIO LARGO
A3: SECRETARIA MUNICIPAL DE INFRAESTRUTURA
A4: BASE: | B4: SINAPI SETEMBRO 2025 E ORSE SETEMBRO 2025
A5: OBJETO: | B5: REVITALIZAÇÃO DA ORLA FLUVIAL DO RIO MUNDAÚ, NO MUNICÍPIO DE RIO LARGO/AL
A7: Encargos Sociais | C7: B.D.I.
A8: Desonerado: embutido nos preços unitário dos insumos de mão de obra, de acordo com as bases. | C8: 28.82
A9: Orçamento Sintético
A10: Item | B10: Código | C10: Banco | D10: Descrição | E10: Und | F10: Quant. | G10: Valor Unit | H10: Valor Unit com BDI | I10: Total | J10: Peso (%)
A11: 1 | D11: SERVIÇOS PRELIMINARES (ORLA FLUVIAL) | F11: 1 | H11: 24451.65 | I11: 24451.65 | J11: 0.0020285469
A12: 1.1 | B12: 103689 | C12: SINAPI | D12: FORNECIMENTO E INSTALAÇÃO DE PLACA DE OBRA COM CHAPA GALVANIZADA E ESTRUTURA DE MADEIRA. AF_03/2022_PS | E12: m² | F12: 21 | G12: 461.91 | H12: 595.03 | I12: 12495.63 | J12: 0.0010366569
A13: Local | D13: Descrição | E13: Fórmula | I13: Quantidade
D14: PLACA | E14: C=6*h=3,5 | I14: 21
A15: 1.2 | B15: 99059 | C15: SINAPI | D15: LOCAÇÃO CONVENCIONAL DE OBRA, UTILIZANDO GABARITO DE TÁBUAS CORRIDAS PONTALETADAS A CADA 2,00M - 2 UTILIZAÇÕES. AF_03/2024 | E15: M | F15: 151.56 | G15: 57.31 | H15: 73.82 | I15: 11188.15 | J15: 0.0009281863
A16: Local | D16: Descrição | E16: Fórmula | I16: Quantidade
D17: POSTO POLICIAL | E17: L=4,3+C=6,3*2 | I17: 16.9
D18: BANHEIROS | E18: L=8,84+C=9,41*2 | I18: 27.66
D19: TERMINAL | E19: L=17+C=45*2 | I19: 107
A20: 1.3 | B20: 98525 | C20: SINAPI | D20: LIMPEZA MECANIZADA DE CAMADA VEGETAL, VEGETAÇÃO E PEQUENAS ÁRVORES (DIÂMETRO DE TRONCO MENOR QUE 0,20 M), COM TRATOR DE ESTEIRAS. AF_03/2024 | E20: m² | F20: 984.45 | G20: 0.61 | H20: 0.78 | I20: 767.87 | J20: 6.3703688e-05
A21: Local | D21: Descrição | E21: Fórmula | I21: Quantidade
D22: AREA CAD | E22: 984,45 | I22: 984.45
A23: 2 | D23: DEMOLIÇÃOS E REMOÇÃO | F23: 1 | H23: 72508.12 | I23: 72508.12 | J23: 0.0060153863
A24: 2.1 | B24: 104790 | C24: SINAPI | D24: DEMOLIÇÃO DE PISO DE CONCRETO SIMPLES, DE FORMA MECANIZADA COM MARTELETE, SEM REAPROVEITAMENTO. AF_09/2023 | E24: m³ | F24: 17.36 | G24: 93.59 | H24: 120.56 | I24: 14148.98 | J24: 0.0011738214
A25: Local | D25: Descrição | E25: Fórmula | I25: Quantidade
D26: CALÇADA | E26: C=278,53*L=3,2*h=0,07 | I26: 62.39072
D27: CALÇADA | E27: C=32,72*L=5,75*0,07 | I27: 13.1698
D28: CALÇADA PONTO DE ONIBUS | E28: C=11*L=3,8 | I28: 41.8
A29: 2.2 | B29: 97636 | C29: SINAPI | D29: DEMOLIÇÃO PARCIAL DE PAVIMENTO ASFÁLTICO, DE FORMA MECANIZADA, SEM REAPROVEITAMENTO. AF_09/2023 | E29: m² | F29: 699.22 | G29: 20.68 | H29: 26.63 | I29: 18620.21 | J29: 0.0015447615
A30: Local | D30: Descrição | E30: Fórmula | I30: Quantidade
D31: ESPAÇO BANHEIRO E POSTO | E31: L=10,99*C=21,56 | I31: 236.9444
D32: PASSEIO | E32: L=1,5*C=66,30 | I32: 99.45
D33: TERMINAL | E33: L=3,3*C=45*2 | I33: 297
D34: FAIXA PEDESTRE | E34: C=6*L=2 | I34: 12
D35: FAIXA PEDESTRE | E35: C=7,3*L=2*2 | I35: 29.2
D36: FAIXA PEDESTRE | E36: C=9,85*L=2,5 | I36: 24.625
A37: 2.3 | B37: 104796 | C37: SINAPI | D37: DEMOLIÇÃO DE GUIAS, SARJETAS OU SARJETÕES, DE FORMA MECANIZADA, SEM REAPROVEITAMENTO. AF_09/2023 | E37: M | F37: 401.89 | G37: 12.21 | H37: 15.72 | I37: 6317.71 | J37: 0.00052412703
A38: Local | D38: Descrição | E38: Fórmula | I38: Quantidade
D39: GUIA/MEIO-FIO | E39: C=44,54 | I39: 44.54
D40: GUIA/MEIO-FIO | E40: C=45,85 | I40: 45.85
D41: GUIA/MEIO-FIO | E41: C=278,53 | I41: 278.53
...

Sheet ENCARGOS SOCIAIS
A1: ALAGOAS VIGÊNCIA APARTIR DE 01/2025
A3: CÕDIGO | B3: DESCRIÇÃO
C4: HORISTA MENSALISTA | E4: HORISTA MENSALISTA
A6: A1 | B6: INSS | C6: 0.05 | D6: 0.05 | E6: 0.2 | F6: 0.2
A7: A2 | B7: SESI | C7: 0.015 | D7: 0.015 | E7: 0.015 | F7: " 1,50%
A8: A3 | B8: SENAI | C8: 0.01 | D8: 0.01 | E8: 0.01 | F8: 0.01
A9: A4 | B9: INCRA | C9: 0.002 | D9: 0.002 | E9: 0.002 | F9: 0.002
A10: A5 | B10: SEBRAE | C10: 0.006 | D10: 0.006 | E10: 0,600/ | F10: 0.006
A11: A6 | B11: Salário Educação | C11: 0.025 | D11: 0.025 | E11: 0.025 | F11: 0.025
A12: A7 | B12: Seguro Contra Acidentes de Trabalho | C12: 0.03 | D12: 0.03 | E12: 3 | F12: 0.03
A13: A8 | B13: FGTS | C13: 0.08 | D13: 0.08 | E13: 0.08 | F13: 0.08
A14: A9 | B14: SECONCI | C14: 0 | D14: 0 | E14: 0 | F14: 0
A15: A | B15: Total | C15: 0.218 | D15: 0.218 | E15: 0.368 | F15: 0.368
A17: B1 | B17: Repouso Semanal Remunerado | C17: 0.1805 | D17: Não incide | E17: 0.1805 | F17: Não incide
A18: B2 | B18: Feriados | C18: 0.0467 | D18: Não incide | E18: 0.0467 | F18: Não incide
A19: B3 | B19: Auxílio - Enfermidade | C19: 0.0086 | D19: 0.0065 | E19: 0,860/ | F19: 0.0065
A20: B4 | B20: 13º Salário | C20: 0.1102 | D20: 0.0833 | E20: 0.1102 | F20: 0.0833
A21: B5 | B21: Licença Paternidade | C21: 0.0007 | D21: 0.0005 | E21: 0.0007 | F21: 0.0005
A22: B6 | B22: Faltas Justificadas | C22: 0.0073 | D22: 0.0056 | E22: 0.0073 | F22: 0.0056
A23: B7 | B23: Dias de Chuvas | C23: 0.0181 | D23: Não incide | E23: 0.0181 | F23: Não incide
A24: B8 | B24: Auxílio Acidente de Trabalho | C24: 0.001 | D24: 0.0007 | E24: 0.001 | F24: 0.0007
A25: B9 | B25: Férias Gozadas | C25: 0.1051 | D25: 0.0795 | E25: 0.1051 | F25: 0.0795
A26: B10 | B26: Salário Maternidade | C26: 0.0003 | D26: 0.0003 | E26: 0.0003 | F26: 0.0003
A27: B | B27: Total | C27: 0.4785 | D27: 0.1764 | E27: 0.4785 | F27: 0.1764
A29: C1 | B29: Aviso Prévio Indenizado | C29: 0.0479 | D29: 0.0362 | E29: 0.0479 | F29: 0.0362
A30: C2 | B30: Aviso Prévio Trabalhado | C30: 0.0011 | D30: 0.0009 | E30: 0.0011 | F30: 0.0009
A31: C3 | B31: Férias Indenizadas | C31: 0.0351 | D31: 0.0265 | E31: 0.0351 | F31: 0.0265
A32: C4 | B32: Depósito Rescisão Sem Justa Causa | C32: 0.0292 | D32: 0.0221 | E32: 0.0292 | F32: 0.0221
A33: C5 | B33: Indenização Adicional | C33: 0.004 | D33: 0.003 | E33: 0,40Ã | F33: 0.003
A34: C | B34: Total | C34: 0.1173 | D34: 0.0887 | E34: 0.1173 | F34: 0.0887
A36: D1 | B36: Reincidência de Grupo A sobre Grupo B (sem considerar INNS sobre 13º, conforme Lei n° 14.973/2024) | C36: 0.0988 | D36: 0.0343 | E36: 0.1761 | F36: 0.0649
A37: D2 | B37: Reincidência de Grupo A sobre Aviso Prévio Trabalhado e Reincidência do FGTS sobre Aviso Prévio Indenizado | C37: 0.0041 | D37: 0.0031 | E37: 0.0042 | F37: 0.0032
B38: Total | C38: 0.1029 | D38: 0.0374 | E38: 0.1803 | F38: 0.0681
