Workbook
Name \0: #N/A
Name \A: #REF!
Name \A: #REF!
Name \A: #REF!
Name \A: #REF!
Name \B: #REF!
Name \B: #REF!
Name \B: #REF!
Name \C: #REF!
Name \C: #REF!
Name \C: #REF!
Name \e: #N/A
Name \I: #REF!
Name \I: #REF!
Name \I: #REF!
Name \J: #REF!
Name \O: #REF!
Name \P: #REF!
Name _\0: #N/A
Name _\b: [1]SID_NI_5!#REF!
Name _\c: [1]SID_NI_5!#REF!
Name _\e: #N/A
Name _\fagf: #REF!
Name _\I: #REF!
Name _\p: [1]SID_NI_5!#REF!
Name _\S: #REF!
Name __\i: #REF!
Name __\l: #REF!
Name __\s: #REF!
Name __\t: #REF!
Name _________________ta105: #REF!
Name _________________ta157: #REF!
Name ________________ta105: #REF!
Name ________________ta157: #REF!
Name _______________Ext2: '[2]P A T O 99 B'!#REF!
Name _______________ta105: #REF!
Name _______________ta157: #REF!
Name ______________Ext2: '[2]P A T O 99 B'!#REF!
Name ______________ta105: #REF!
Name ______________ta157: #REF!
Name _____________Ext2: '[3]P A T O 99 B'!#REF!
Name _____________PL1: #REF!
Name _____________ta105: #REF!
Name _____________ta157: #REF!
Name ____________Ext2: '[4]P A T O 99 B'!#REF!
Name ____________ki5: #REF!
Name ____________PL1: #REF!
Name ____________ta105: #REF!
Name ____________ta157: #REF!
Name ___________Ext2: '[2]P A T O 99 B'!#REF!
Name ___________ki5: #REF!
Name ___________PL1: #REF!
Name ___________ta105: #REF!
Name ___________ta157: #REF!
Name __________Ext2: '[4]P A T O 99 B'!#REF!
Name __________Fev1: #N/A
Name __________Jan1: #N/A
Name __________ki5: #REF!
Name __________Mar1: #N/A
Name __________PL1: #REF!

Sheet PLANILHA ORÇAMENTARIA
A1: PREFEITURA MUNICIPAL DE RIO LARGO/AL
A2: SECRETARIA MUNICIPAL DE INFRAESTRUTURA SEINFRA - RIO LARGO / AL
A3: PLANILHA ORÇAMENTÁRIA
A4: MACRODRENAGEM NO BAIRRO BRASIL NOVO, EM RIO LARGO/AL.
A5: ITEM | B5: CÓDIGO | C5: FONTE | D5: DISCRIMINAÇÃO DOS SERVIÇOS | E5: UND | F5: QUANT. | G5: CUSTO UNITÁRIO (R$) | H5: VALOR BDI (R$) | I5: CUSTO COM BDI (R$) | J5: CUSTO TOTAL (R$)
A7: 1 | D7: SERVIÇOS PRELIMINARES | J7: =SUM(J8:J10) -> 20274.85
A8: 1.1 | B8: CP-01 | C8: PRÓPRIA | D8: MOBILIZAÇÃO DE EQUIPAMENTOS | E8: un | F8: 1 | G8: 4527.95 | H8: =ROUND(G8*0.2684,2) -> 1215.3 | I8: =G8+H8 -> 5743.25 | J8: =F8*I8 -> 5743.25
A9: 1.2 | B9: CP-02 | C9: PRÓPRIA | D9: DESMOBILIZAÇÃO DE EQUIPAMENTOS | E9: un | F9: 1 | G9: 4527.95 | H9: =ROUND(G9*0.2684,2) -> 1215.3 | I9: =G9+H9 -> 5743.25 | J9: =F9*I9 -> 5743.25
A10: 1.3 | B10: 103689 | C10: SINAPI | D10: PLACAS DA OBRA EM CHAPA GALVANIZADA | E10: m² | F10: 15 | G10: 461.91 | H10: =ROUND(G10*0.2684,2) -> 123.98 | I10: =G10+H10 -> 585.89 | J10: =F10*I10 -> 8788.35
A12: 2 | D12: ADMINISTRAÇÃO DA OBRA | J12: =SUM(J13) -> 726095.88
A13: 2.1 | B13: CP-03 | C13: PRÓPRIA | D13: ADMINISTRAÇÃO LOCAL | E13: mês | F13: 4 | G13: 143112.56 | H13: =ROUND(G13*0.2684,2) -> 38411.41 | I13: =ROUND(G13+H13,2) -> 181523.97 | J13: =F13*I13 -> 726095.88
A15: 3 | D15: CANTEIRO DE OBRAS | J15: =SUM(J16:J24) -> 142087.51
A16: 3.1 | B16: 10321 | C16: ORSE | D16: =UPPER("Fossa séptica em alvenaria bloco de cimento e concreto armado, dimensões internas 2,10 x 4,20 x 1,50 m") -> FOSSA SÉPTICA EM ALVENARIA BLOCO DE CIMENTO E CONCRETO ARMADO, DIMENSÕES INTERNAS 2,10 X 4,20 X 1,50 M | E16: und | F16: 1 | G16: 26736.45 | H16: =G16*0.2684 -> 7176.0632 | I16: =G16+H16 -> 33912.513 | J16: =F16*I16 -> 33912.513
A17: 3.2 | B17: 9416 | C17: ORSE | D17: INSTALAÇÃO PROVISÓRIA DE ENERGIA ELÉTRICA AÉREA, EXCLUSIVE FORNECIMENTO DE MEDIDOR | E17: und | F17: 1 | G17: 1749 | H17: =G17*0.2684 -> 469.4316 | I17: =G17+H17 -> 2218.4316 | J17: =F17*I17 -> 2218.4316
A18: 3.3 | B18: 6096 | C18: ORSE | D18: Ligação Predial de Água em Mureta de Concreto, Provisória ou Definitiva, com Fornecimento de Material, inclusive Mureta e Hidrômetro, Rede DN 50mm | E18: und | F18: 1 | G18: 592.82 | H18: =G18*0.2684 -> 159.11289 | I18: =G18+H18 -> 751.93289 | J18: =F18*I18 -> 751.93289
A19: 3.4 | B19: 10184 | C19: ORSE | D19: Barracão para banheiro e vestiário de obra, s=35,10m², capacidade 20 operários com materiais novos | E19: und | F19: 1 | G19: 19042.12 | H19: =G19*0.2684 -> 5110.905 | I19: =G19+H19 -> 24153.025 | J19: =F19*I19 -> 24153.025
A20: 3.5 | B20: 4784 | C20: ORSE | D20: Barracão para escritório de obra porte médio s=43,56m2, c/ 2 salas e 2 banheiros com materiais novos | E20: und | F20: 1 | G20: 22630.85 | H20: =G20*0.2684 -> 6074.1201 | I20: =G20+H20 -> 28704.97 | J20: =F20*I20 -> 28704.97
A21: 3.6 | B21: 4656 | C21: ORSE | D21: Locação de container - Banheiro com chuveiros e vasos - 4,30 x 2,30m | E21: mês | F21: 4 | G21: 962.26 | H21: =G21*0.2684 -> 258.27058 | I21: =G21+H21 -> 1220.5306 | J21: =F21*I21 -> 4882.1223
A22: 3.7 | B22: 62 | C22: ORSE | D22: Barracão fechado porte pequeno para depósito de cimento e almoxarifado (s=38,72 m2) com materiais novos | E22: un | F22: 1 | G22: 12805.45 | H22: =G22*0.2684 -> 3436.9828 | I22: =G22+H22 -> 16242.433 | J22: =F22*I22 -> 16242.433
A23: 3.8 | B23: 4659 | C23: ORSE | D23: Locação de container - Refeitório sem banheiro - 6,00 x 2,40m - Rev 02_x001F__02/2022 | E23: mês | F23: 4 | G23: 1800 | H23: =G23*0.2684 -> 483.12 | I23: =G23+H23 -> 2283.12 | J23: =F23*I23 -> 9132.48
A24: 3.9 | B24: CP-04 | C24: PRÓPRIA | D24: TAPUME DE CHAPA DE MADEIRA COMPENSADA, E= 6MM, COM PINTURA A CAL E REAPROVEITAMENTO DE 2X | E24: m² | F24: 240 | G24: 72.56 | H24: =ROUNDUP(G24*0.2684,2) -> 19.48 | I24: =G24+H24 -> 92.04 | J24: =F24*I24 -> 22089.6
A26: 4 | D26: DRENAGEM DE ÁGUAS PLUVIAIS | J26: =ROUNDUP(J27+J29+J32,2) -> 7783937.5
A27: 4.1 | D27: ISOLAMENTO DE OBRA | J27: =SUM(J28) -> 44949.829
A28: 4.1.1 | B28: CP-05 | C28: PRÓPRIA | D28: ISOLAMENTO DE OBRA COM TELA PLASTICA COM MALHA DE 5MM E ESTRUTURA DE MADEIRA PONTALETEADA COM REAPROVEITAMENTO 2X | E28: m² | F28: 2686.78 | G28: 13.19 | H28: =ROUNDDOWN(G28*0.2684,2) -> 3.54 | I28: =G28+H28 -> 16.73 | J28: =F28*I28 -> 44949.829
A29: 4.2 | D29: DEMOLIÇÃO PAVIMENTAÇÃO ASFÁLTICA | J29: =SUM(J30:J31) -> 7219.3713
A30: 4.2.1 | B30: CP-06 | C30: PRÓPRIA | D30: DEMOLIÇÃO DE PAVIMENTAÇÃO ASFÁLTICA COM UTILIZAÇÃO DE MARTELO PERFURADOR, ESPESSURA ATÉ 15 CM, EXCLUSIVE CARGA E TRANSPORTE | E30: m² | F30: 233.41 | G30: 12.24 | H30: =ROUND(G30*0.2684,2) -> 3.29 | I30: =G30+H30 -> 15.53 | J30: =F30*I30 -> 3624.8573
A31: 4.2.2 | B31: 95875 | C31: SINAPI | D31: TRANSPORTE COM CAMINHÃO BASCULANTE DE 10 M³, EM VIA URBANA PAVIMENTADA, DMT ATÉ 30 KM. AF_12/2016 (BOTA-FORA) | E31: m³.km | F31: 1167.05 | G31: 2.43 | H31: =ROUND(G31*0.2684,2) -> 0.65 | I31: =G31+H31 -> 3.08 | J31: =F31*I31 -> 3594.514
A32: 4.3 | D32: IMPLANTAÇÃO DE REDE DE DRENAGEM | J32: =SUM(J33:J52) -> 7731768.3
A33: 4.3.1 | B33: 93358 | C33: SINAPI | D33: ESCAVAÇÃO MANUAL DE VALA COM PROFUNDIDADE MENOR OU IGUAL A 1,30 M. AF_03/2016 | E33: m³ | F33: 425.4 | G33: 78 | H33: =ROUND(G33*0.2684,2) -> 20.94 | I33: =G33+H33 -> 98.94 | J33: =F33*I33 -> 42089.076
A34: 4.3.2 | B34: 90091 | C34: SINAPI | D34: ESCAVAÇÃO MECANIZADA DE VALA COM PROF. ATÉ 1,5 M(MÉDIA ENTRE MONTANTE E JUSANTE/UMA COMPOSIÇÃO POR TRECHO), COM ESCAVADEIRA HIDRÁULICA (0,8 M3), LARG. DE 1,5M A 2,5 M, EM SOLO DE 1A CATEGORIA, LOCAIS COM BAIXO NÍVEL DE INTERFERÊNCIA. AF_01/2015 | E34: m³ | F34: 5955.63 | G34: 5.71 | H34: =ROUND(G34*0.2684,2) -> 1.53 | I34: =G34+H34 -> 7.24 | J34: =F34*I34 -> 43118.761
A35: 4.3.3 | B35: 90092 | C35: SINAPI | D35: ESCAVAÇÃO MECANIZADA DE VALA COM PROF. MAIOR QUE 1,5 M E ATÉ 3,0 M(MÉDIA ENTRE MONTANTE E JUSANTE/UMA COMPOSIÇÃO POR TRECHO), COM ESCAVADEIRA HIDRÁULICA (0,8 M3/111 HP), LARG. MENOR QUE 1,5 M, EM SOLO DE 1A CATEGORIA, LOCAIS COM BAIXO NÍVEL DE INTERFERÊNCIA. AF_01/2015 | E35: m³ | F35: 5565.03 | G35: 5.53 | H35: 1.480756 | I35: =G35+H35 -> 7.010756 | J35: =F35*I35 -> 39015.067
A36: 4.3.4 | B36: 90094 | C36: SINAPI | D36: ESCAVAÇÃO MECANIZADA DE VALA COM PROF. MAIOR QUE 3,0 M ATÉ 4,5 M (MÉDIA ENTRE MONTANTE E JUSANTE/UMA COMPOSIÇÃO POR TRECHO), COM ESCAVADEIRA HIDRÁULICA (0,8 M3/111 HP), LARG. MENOR QUE 1,5 M, EM SOLO DE 1A CATEGORIA, LOCAIS COM BAIXO NÍVEL DE INTERFERÊNCIA. AF_01/2015 | E36: m³ | F36: 4801.64 | G36: 5.24 | H36: =ROUNDUP(G36*0.2684,2) -> 1.41 | I36: =G36+H36 -> 6.65 | J36: =F36*I36 -> 31930.906
A37: 4.3.5 | B37: 90098 | C37: SINAPI | D37: ESCAVAÇÃO MECANIZADA DE VALA COM PROF. MAIOR QUE 4,5 M ATÉ 6,0 M (MÉDIA MONTANTE E JUSANTE/UMA COMPOSIÇÃO POR TRECHO), ESCAVADEIRA (1,2 M3), LARG. DE 1,5 M A 2,5 M, EM SOLO DE 1A CATEGORIA, LOCAIS COM BAIXO NÍVEL DE INTERFERÊNCIA. AF_02/2021 | E37: m³ | F37: 1737.06 | G37: 5.08 | H37: =ROUND(G37*0.2684,2) -> 1.36 | I37: =G37+H37 -> 6.44 | J37: =F37*I37 -> 11186.666
A38: 4.3.6 | B38: 7134 | C38: ORSE | D38: ESCORAMENTO METÁLICO P/ VALAS, 2,50M<=H<=4.00 M, COM PRANCHAS METÁLICAS DE 4,7 MM X 30 CM E LONGARINAS E TRANSVERSINAS EM PERFIS DE AÇO, REAPROVEITAMENTO : 60 VEZES | E38: m² | F38: 1482.28 | G38: 68.1 | H38: =ROUND(G38*0.2684,2) -> 18.28 | I38: =G38+H38 -> 86.38 | J38: =F38*I38 -> 128039.35
A39: 4.3.7 | B39: 7135 | C39: ORSE | D39: ESCORAMENTO METÁLICO P/ VALAS, 4,00M<=H<=6,00 M, COM PRANCHAS METÁLICAS DE 4,7 MM X 30 CM E LONGARINAS E TRANSVERSINAS EM PERFIS METÁLICOS, REAPROVEITAMENTO : 60 VEZES | E39: m² | F39: 11775.36 | G39: 79.04 | H39: =ROUND(G39*0.2684,2) -> 21.21 | I39: =G39+H39 -> 100.25 | J39: =F39*I39 -> 1180479.8
A40: 4.3.8 | B40: 101617 | C40: SINAPI | D40: PREPARO DE FUNDO DE VALA COM LARGURA MAIOR OU IGUAL A 1,5 M E MENOR QUE 2,5 M, COM CAMADA DE AREIA, LANÇAMENTO MECANIZADO. AF_08/2020 | E40: m² | F40: 4254.01 | G40: 2.79 | H40: =ROUND(G40*0.2684,2) -> 0.75 | I40: =G40+H40 -> 3.54 | J40: =F40*I40 -> 15059.195
A41: 4.3.9 | B41: 10048 | C41: ORSE | D41: Fornecimento e assentamento de tubo corrugado parede dupla PEAD, d= 375mm (15"), p/sistemas drenagem, Tigre-ADS N-12 ou similar | E41: m | F41: 150 | G41: 284.93 | H41: =ROUND(G41*0.2684,2) -> 76.48 | I41: =G41+H41 -> 361.41 | J41: =F41*I41 -> 54211.5
A42: 4.3.10 | B42: 10055 | C42: ORSE | D42: Fornecimento e assentamento de tubo corrugado parede dupla PEAD, d=1500mm (60"), p/sistemas drenagem, Tigre-ADS N-12 ou similar | E42: m | F42: 1343.39 | G42: 2215.65 | H42: =ROUND(G42*0.2684,2) -> 594.68 | I42: =G42+H42 -> 2810.33 | J42: =F42*I42 -> 3775369.2
A43: 4.3.11 | B43: CP-35 | C43: PRÓPRIA | D43: BASE PARA POÇO DE VISITA RETANGULAR PARA DRENAGEM, EM ALVENARIA COM BLOCOS DE CONCRETO, DIMENSÕES INTERNAS = 2,5X2,5 M, PROFUNDIDADE = 2,20 M, EXCLUINDO TAMPÃO. AF_12/2020 | E43: UN | F43: 2 | G43: =COMPOSIÇÕES!I153 -> 6639.2507 | H43: =ROUND(G43*0.2684,2) -> 1781.97 | I43: =G43+H43 -> 8421.2207 | J43: =F43*I43 -> 16842.441
A44: 4.3.12 | B44: CP-36 | C44: PRÓPRIA | D44: BASE PARA POÇO DE VISITA RETANGULAR PARA DRENAGEM, EM ALVENARIA COM BLOCOS DE CONCRETO, DIMENSÕES INTERNAS = 1,5X2,5 M, PROFUNDIDADE = 2,20 M, EXCLUINDO TAMPÃO. AF_12/2020 | E44: UN | F44: 18 | G44: =COMPOSIÇÕES!I173 -> 9347.0988 | H44: =G44*0.2684 -> 2508.7613 | I44: =G44+H44 -> 11855.86 | J44: =F44*I44 -> 213405.48
...

Sheet CRONOGRAMA-FÍSICO-FINANCEIRO
A2: PREFEITURA MUNICIPAL DE RIO LARGO - AL
A3: SECRETARIA MUNICIPAL DE INFRAESTRUTURA
A4: CRONOGRAMA FÍSICO-FINANCEIRO
A5: PROJETO DE MACRODRENAGEM DO COMPLEXO BRASIL NOVO
A6: CONTRATADO | D6: EVOLUÇÃO DO CONTRATO ATÉ 14ª MEDIÇÃO
A7: ITEM | B7: DESCRIÇÃO | C7: PERCENTUAL/VALOR | D7: MÊS 1 | E7: MÊS 2 | F7: MÊS 3 | G7: MÊS 4 | H7: MÊS 5 | I7: MÊS 6 | J7: MÊS 7 | K7: MÊS 8 | L7: MÊS 9 | M7: MÊS 10 | N7: MÊS 11 | O7: MÊS 12
D8: 1ª MEDIÇÃO | E8: 2ª MEDIÇÃO | F8: 3ª MEDIÇÃO | G8: 4ª MEDIÇÃO | H8: 5ª MEDIÇÃO | I8: 6ª MEDIÇÃO | J8: 7ª MEDIÇÃO | K8: 8ª MEDIÇÃO | L8: 9ª MEDIÇÃO | M8: 10ª MEDIÇÃO | N8: 11ª MEDIÇÃO | O8: 12ª MEDIÇÃO
A9: ='PLANILHA ORÇAMENTARIA'!A7 -> 1 | B9: ='PLANILHA ORÇAMENTARIA'!D7 -> SERVIÇOS PRELIMINARES | C9: =C11/C$30 -> 0.0011424158 | D9: =IF(D11/$C$11<>0,D11/$C$11,"") -> 1 | E9: =IF(E11/$C$11<>0,E11/$C$11,"") | F9: =IF(F11/$C$11<>0,F11/$C$11,"") | G9: =IF(G11/$C$11<>0,G11/$C$11,"") | H9: =IF(H11/$C$23<>0,H11/$C$23,"") | I9: =IF(I11/$C$23<>0,I11/$C$23,"") | J9: =IF(J11/$C$23<>0,J11/$C$23,"") | K9: =IF(K11/$C$11<>0,K11/$C$11,"") | L9: =IF(L11/$C$11<>0,L11/$C$11,"") | M9: =IF(M11/$C$11<>0,M11/$C$11,"") | N9: =IF(N11/$C$11<>0,N11/$C$11,"") | O9: =IF(O11/$C$23<>0,O11/$C$23,"")
C10: =IF(C9="","",0) -> 0 | D10: =IF(D9="","",0) -> 0 | E10: =IF(E9="","",0) | F10: =IF(F9="","",0) | G10: =IF(G9="","",0) | H10: =IF(H9="","",0) | I10: =IF(I9="","",0) | J10: =IF(J9="","",0) | ... O10: =IF(O9="","",0)
C11: ='PLANILHA ORÇAMENTARIA'!J7 -> 20274.85 | D11: 20274.85
A12: ='PLANILHA ORÇAMENTARIA'!A12 -> 2 | B12: ='PLANILHA ORÇAMENTARIA'!D12 -> ADMINISTRAÇÃO DA OBRA | C12: =C14/C$30 -> 0.040912923 | D12: =IF(D14/$C$14<>0,D14/$C$14,"") -> 0.083333333 | E12: =IF(E14/$C$14<>0,E14/$C$14,"") -> 0.083333333 | F12: =IF(F14/$C$14<>0,F14/$C$14,"") -> 0.083333333 | G12: =IF(G14/$C$14<>0,G14/$C$14,"") -> 0.083333333 | H12: =IF(H14/$C$14<>0,H14/$C$14,"") -> 0.083333333 | I12: =IF(I14/$C$14<>0,I14/$C$14,"") -> 0.083333333 | J12: =IF(J14/$C$14<>0,J14/$C$14,"") -> 0.083333333 | K12: =IF(K14/$C$14<>0,K14/$C$14,"") -> 0.083333333 | ... O12: =IF(O14/$C$14<>0,O14/$C$14,"") -> 0.083333333
C13: =IF(C12="","",0) -> 0 | D13: =IF(D12="","",0) -> 0 | E13: =IF(E12="","",0) -> 0 | F13: =IF(F12="","",0) -> 0 | G13: =IF(G12="","",0) -> 0 | H13: =IF(H12="","",0) -> 0 | I13: =IF(I12="","",0) -> 0 | J13: =IF(J12="","",0) -> 0 | ... O13: =IF(O12="","",0) -> 0
C14: ='PLANILHA ORÇAMENTARIA'!J12 -> 726095.88 | D14: 60507.99 | E14: 60507.99 | F14: 60507.99 | G14: 60507.99 | H14: 60507.99 | I14: 60507.99 | J14: 60507.99 | K14: 60507.99 | L14: 60507.99 | M14: 60507.99 | N14: 60507.99 | O14: 60507.99
A15: ='PLANILHA ORÇAMENTARIA'!A15 -> 3 | B15: ='PLANILHA ORÇAMENTARIA'!D15 -> CANTEIRO DE OBRAS | C15: =C17/C$30 -> 0.0080061262 | D15: =IF(D17/$C$17<>0,D17/$C$17,"") -> 0.8 | E15: =IF(E17/$C$17<>0,E17/$C$17,"") | F15: =IF(F17/$C$17<>0,F17/$C$17,"") | G15: =IF(G17/$C$17<>0,G17/$C$17,"") | H15: =IF(H17/$C$23<>0,H17/$C$23,"") | I15: =IF(I17/$C$23<>0,I17/$C$23,"") | J15: =IF(J17/$C$23<>0,J17/$C$23,"") | K15: =IF(K17/$C$17<>0,K17/$C$17,"") | L15: =IF(L17/$C$17<>0,L17/$C$17,"") | M15: =IF(M17/$C$17<>0,M17/$C$17,"") | N15: =IF(N17/$C$17<>0,N17/$C$17,"") | O15: =IF(O17/$C$17<>0,O17/$C$17,"") -> 0.2
C16: =IF(C15="","",0) -> 0 | D16: =IF(D15="","",0) -> 0 | E16: =IF(E15="","",0) | F16: =IF(F15="","",0) | G16: =IF(G15="","",0) | H16: =IF(H15="","",0) | I16: =IF(I15="","",0) | J16: =IF(J15="","",0) | ... O16: =IF(O15="","",0) -> 0
C17: ='PLANILHA ORÇAMENTARIA'!J15 -> 142087.51 | D17: =C17*0.8 -> 113670.01 | O17: =C17*0.2 -> 28417.502
A18: ='PLANILHA ORÇAMENTARIA'!A26 -> 4 | B18: ='PLANILHA ORÇAMENTARIA'!D26 -> DRENAGEM DE ÁGUAS PLUVIAIS | C18: =C20/C$30 -> 0.43859722 | D18: =IF(D20/$C$20<>0,D20/$C$20,"") -> 0.05 | E18: =IF(E20/$C$20<>0,E20/$C$20,"") -> 0.05 | F18: =IF(F20/$C$20<>0,F20/$C$20,"") -> 0.05 | G18: =IF(G20/$C$20<>0,G20/$C$20,"") -> 0.05 | H18: =IF(H20/$C$20<>0,H20/$C$20,"") -> 0.1 | I18: =IF(I20/$C$20<>0,I20/$C$20,"") -> 0.1 | J18: =IF(J20/$C$20<>0,J20/$C$20,"") -> 0.1 | K18: =IF(K20/$C$20<>0,K20/$C$20,"") -> 0.1 | ... O18: =IF(O20/$C$20<>0,O20/$C$20,"") -> 0.1
C19: =IF(C18="","",0) -> 0 | D19: =IF(D18="","",0) -> 0 | E19: =IF(E18="","",0) -> 0 | F19: =IF(F18="","",0) -> 0 | G19: =IF(G18="","",0) -> 0 | H19: =IF(H18="","",0) -> 0 | I19: =IF(I18="","",0) -> 0 | J19: =IF(J18="","",0) -> 0 | ... O19: =IF(O18="","",0) -> 0
C20: ='PLANILHA ORÇAMENTARIA'!J26 -> 7783937.5 | D20: 389196.87 | E20: 389196.87 | F20: 389196.87 | G20: 389196.87 | H20: 778393.75 | I20: 778393.75 | J20: 778393.75 | K20: 778393.75 | L20: 778393.75 | M20: 778393.75 | N20: 778393.75 | O20: 778393.75
A21: ='PLANILHA ORÇAMENTARIA'!A54 -> 5 | B21: ='PLANILHA ORÇAMENTARIA'!D54 -> REPOSIÇÃO ASFÁLTICA | C21: =C23/C$30 -> 0.0022643587 | D21: =IF(D23/$C$23<>0,D23/$C$23,"") | E21: =IF(E23/$C$23<>0,E23/$C$23,"") | F21: =IF(F23/$C$23<>0,F23/$C$23,"") -> 0.1 | G21: =IF(G23/$C$23<>0,G23/$C$23,"") -> 0.1 | H21: =IF(H23/$C$23<>0,H23/$C$23,"") -> 0.1 | I21: =IF(I23/$C$23<>0,I23/$C$23,"") -> 0.1 | J21: =IF(J23/$C$23<>0,J23/$C$23,"") -> 0.1 | K21: =IF(K23/$C$23<>0,K23/$C$23,"") -> 0.1 | ... O21: =IF(O23/$C$23<>0,O23/$C$23,"") -> 0.1
C22: =IF(C21="","",0) -> 0 | D22: =IF(D21="","",0) | E22: =IF(E21="","",0) | F22: =IF(F21="","",0) -> 0 | G22: =IF(G21="","",0) -> 0 | H22: =IF(H21="","",0) -> 0 | I22: =IF(I21="","",0) -> 0 | J22: =IF(J21="","",0) -> 0 | ... O22: =IF(O21="","",0) -> 0
C23: ='PLANILHA ORÇAMENTARIA'!J54 -> 40186.361 | F23: 4018.6361 | G23: 4018.6361 | H23: 4018.6361 | I23: 4018.6361 | J23: 4018.6361 | K23: 4018.6361 | L23: 4018.6361 | M23: 4018.6361 | N23: 4018.6361 | O23: 4018.6361
A24: ='PLANILHA ORÇAMENTARIA'!A71 -> 6 | B24: ='[128]PLANILHA ORÇAMENTARIA'!D69 -> LAGOA DE DETENÇÃO | C24: =C26/C$30 -> 0.50907696 | D24: =IF(D26/$C$26<>0,D26/$C$26,"") | E24: =IF(E26/$C$26<>0,E26/$C$26,"") | F24: =IF(F26/$C$26<>0,F26/$C$26,"") -> 0.1 | G24: =IF(G26/$C$26<>0,G26/$C$26,"") -> 0.1 | H24: =IF(H26/$C$26<>0,H26/$C$26,"") -> 0.1 | I24: =IF(I26/$C$26<>0,I26/$C$26,"") -> 0.1 | J24: =IF(J26/$C$26<>0,J26/$C$26,"") -> 0.1 | K24: =IF(K26/$C$26<>0,K26/$C$26,"") -> 0.1 | ... O24: =IF(O26/$C$26<>0,O26/$C$26,"") -> 0.1
C25: =IF(C24="","",0) -> 0 | D25: =IF(D24="","",0) | E25: =IF(E24="","",0) | F25: =IF(F24="","",0) -> 0 | G25: =IF(G24="","",0) -> 0 | H25: =IF(H24="","",0) -> 0 | I25: =IF(I24="","",0) -> 0 | J25: =IF(J24="","",0) -> 0 | ... O25: =IF(O24="","",0) -> 0
C26: ='PLANILHA ORÇAMENTARIA'!J71 -> 9034765.9 | F26: 903476.59 | G26: 903476.59 | H26: 903476.59 | I26: 903476.59 | J26: 903476.59 | K26: 903476.59 | L26: 903476.59 | M26: 903476.59 | N26: 903476.59 | O26: 903476.59
A27: PERCENTUAL MENSAL TOTAL | D27: =D28/$C$30 -> 0.032886588 | E27: =E28/$C$30 -> 0.025339271 | F27: =F28/$C$30 -> 0.076473403 | G27: =G28/$C$30 -> 0.076473403 | H27: =H28/$C$30 -> 0.098403264 | I27: =I28/$C$30 -> 0.098403264 | J27: =J28/$C$30 -> 0.098403264 | K27: =K28/$C$30 -> 0.098403264 | ... O27: =O28/$C$30 -> 0.10000449
A28: VALOR MENSAL TOTAL | D28: =SUM(D11+D14+D17+D20+D23+D26) -> 583649.72 | E28: =SUM(E11+E14+E17+E20+E23+E26) -> 449704.86 | F28: =SUM(F11+F14+F17+F20+F23+F26) -> 1357200.1 | G28: =SUM(G11+G14+G17+G20+G23+G26) -> 1357200.1 | H28: =SUM(H11+H14+H17+H20+H23+H26) -> 1746397 | I28: =SUM(I11+I14+I17+I20+I23+I26) -> 1746397 | J28: =SUM(J11+J14+J17+J20+J23+J26) -> 1746397 | K28: =SUM(K11+K14+K17+K20+K23+K26) -> 1746397 | ... O28: =SUM(O11+O14+O17+O20+O23+O26) -> 1774814.5
A29: PERCENTUAL ACUM. TOTAL | C29: =SUM(C24+C21+C18+C15+C12+C9) -> 1 | D29: =D30/$C$30 -> 0.032886588 | E29: =E30/$C$30 -> 0.058225859 | F29: =F30/$C$30 -> 0.13469926 | G29: =G30/$C$30 -> 0.21117266 | H29: =H30/$C$30 -> 0.30957593 | I29: =I30/$C$30 -> 0.40797919 | J29: =J30/$C$30 -> 0.50638246 | K29: =K30/$C$30 -> 0.60478572 | ... O29: =O30/$C$30 -> 1
A30: VALOR ACUMULADO TOTAL | C30: =ROUNDUP(SUM(C26+C23+C20+C17+C14+C11),2) -> 17747348 | D30: =D28 -> 583649.72 | E30: =D30+E28 -> 1033354.6 | F30: =E30+F28 -> 2390554.7 | G30: =F30+G28 -> 3747754.8 | H30: =G30+H28 -> 5494151.7 | I30: =H30+I28 -> 7240548.7 | J30: =I30+J28 -> 8986945.7 | K30: =J30+K28 -> 10733343 | L30: =K30+L28 -> 12479740 | ... N30: =M30+N28 -> 15972534 | O30: =ROUNDUP(N30+O28,2) -> 17747348

Sheet CURVA ABC
A1: PREFEITURA MUNICIPAL DE RIO LARGO/AL
A2: SECRETARIA MUNICIPAL DE INFRAESTRUTURA SEINFRA - RIO LARGO / AL
A3: CURVA ABC
A4: MACRODRENAGEM NO BAIRRO BRASIL NOVO, EM RIO LARGO/AL.
A5: ITEM | B5: CÓDIGO | C5: FONTE | D5: DISCRIMINAÇÃO DOS SERVIÇOS | E5: UND | F5: QUANT. | G5: CUSTO UNITÁRIO (R$) | H5: VALOR BDI (R$) | I5: CUSTO COM BDI (R$) | J5: CUSTO TOTAL (R$) | K5: PESO (%) | L5: PESO ACUMULADO (%) | M5: CLASSE
A6: 6.2.4 | B6: 95880 | C6: SINAPI | D6: TRANSPORTE COM CAMINHÃO BASCULANTE DE 18 M3, EM VIA URBANA PAVIMENTADA DMT ATÉ 30 KM (UNIDADE: TXKM). | E6: t.km | F6: 3087907.2 | G6: 1.22 | H6: 0.33 | I6: 1.55 | J6: 4786256.2 | K6: =J6/$J$66 -> 0.26968853 | L6: =K6 -> 0.26968853 | M6: A
A7: 4.3.10 | B7: 10055 | C7: ORSE | D7: Fornecimento e assentamento de tubo corrugado parede dupla PEAD, d=1500mm (60"), p/sistemas drenagem, Tigre-ADS N-12 ou similar | E7: m | F7: 1343.39 | G7: 2215.65 | H7: 594.68 | I7: 2810.33 | J7: 3775369.2 | K7: =J7/$J$66 -> 0.21272864 | L7: =K7+L6 -> 0.48241717 | M7: A
A8: 4.3.17 | B8: CP-34 | C8: SINAPI | D8: REATERRO MECANIZADO DE VALA COM ESCAVADEIRA HIDRÁULICA (CAPACIDADE DA CAÇAMBA: 0,8 M³ / POTÊNCIA: 111 HP), LARGURA DE 1,5 A 2,5 M, PROFUNDIDADE DE 3,0 A 4,5 M, COM SOLO (SEM SUBSTITUIÇÃO) DE 1ª CATEGORIA EM LOCAIS COM BAIXO NÍVEL DE INTERFERÊNCIA. AF_04/2016 | E8: m³ | F8: 11040.25 | G8: 123.22 | H8: 33.07 | I8: 156.29 | J8: 1725480.7 | K8: =J8/$J$66 -> 0.097224705 | L8: =K8+L7 -> 0.57964187 | M8: A
A9: 6.2.3 | B9: CP-23 | C9: SINAPI | D9: CARGA E DESCARGA MECANICA DE SOLO UTILIZANDO CAMINHAO BASCULANTE 6,0M3/16T E PA CARREGADEIRA SOBRE PNEUS 128 HP, CAPACIDADE DA CAÇAMBA 1,7 A 2,8 M3 | E9: m³ | F9: 637187.2 | G9: 2.03 | H9: 0.54 | I9: 2.57 | J9: 1637571.1 | K9: =J9/$J$66 -> 0.092271313 | L9: =K9+L8 -> 0.67191319 | M9: A
A10: 6.2.1 | B10: CP-21 | C10: PROPRIA | D10: ESCAVACAO MECANICA DE MATERIAL 1A. CATEGORIA, PROVENIENTE DE CORTE DE SUBLEITO (C/TRATOR ESTEIRAS 160HP) | E10: m³ | F10: 490144 | G10: 2.24 | H10: 0.6 | I10: 2.84 | J10: 1392009 | K10: =J10/$J$66 -> 0.078434759 | L10: =K10+L9 -> 0.75034795 | M10: A
A11: 4.3.7 | B11: 7135 | C11: ORSE | D11: ESCORAMENTO METÁLICO P/ VALAS, 4,00M<=H<=6,00 M, COM PRANCHAS METÁLICAS DE 4,7 MM X 30 CM E LONGARINAS E TRANSVERSINAS EM PERFIS METÁLICOS, REAPROVEITAMENTO : 60 VEZES | E11: m² | F11: 11775.36 | G11: 79.04 | H11: 21.21 | I11: 100.25 | J11: 1180479.8 | K11: =J11/$J$66 -> 0.066515845 | L11: =K11+L10 -> 0.81686379 | M11: A
A12: 2.1 | B12: CP-03 | C12: PRÓPRIA | D12: ADMINISTRAÇÃO LOCAL | E12: mês | F12: 4 | G12: 143112.56 | H12: 38411.41 | I12: 181523.97 | J12: 726095.88 | K12: =J12/$J$66 -> 0.040912923 | L12: =K12+L11 -> 0.85777671 | M12: B
A13: 6.3.2 | B13: 7156 | C13: SINAPI | D13: TELA DE ACO SOLDADA NERVURADA, CA-60, Q-196, (3,11 KG/M2), DIAMETRO DO FIO = 5,0 MM, LARGURA = 2,45 M, ESPACAMENTO DA MALHA = 10 X 10 CM | E13: m² | F13: 11616 | G13: 28.59 | H13: 7.67 | I13: 36.26 | J13: 421196.16 | K13: =J13/$J$66 -> 0.023732907 | L13: =K13+L12 -> 0.88150962 | M13: B
A14: 6.3.1 | B14: 94969 | C14: SINAPI | D14: CONCRETO FCK = 15MPA, TRAÇO 1:3,4:3,5 (CIMENTO/ AREIA MÉDIA/ BRITA 1) - PREPARO MECÂNICO COM BETONEIRA 600 L. AF_07/2016 (TALUDE) | E14: m³ | F14: 696.96 | G14: 425.19 | H14: 114.12 | I14: 539.31 | J14: 375877.5 | K14: =J14/$J$66 -> 0.021179361 | L14: =K14+L13 -> 0.90268898 | M14: B
A15: 4.3.12 | B15: CP-36 | C15: PRÓPRIA | D15: BASE PARA POÇO DE VISITA RETANGULAR PARA DRENAGEM, EM ALVENARIA COM BLOCOS DE CONCRETO, DIMENSÕES INTERNAS = 1,5X2,5 M, PROFUNDIDADE = 2,20 M, EXCLUINDO TAMPÃO. AF_12/2020 | E15: UN | F15: 18 | G15: 9347.0988 | H15: 2508.76 | I15: 11855.859 | J15: 213405.48 | K15: =J15/$J$66 -> 0.012024641 | L15: =K15+L14 -> 0.91471362 | M15: B
A16: 4.3.18 | B16: 95875 | C16: SINAPI | D16: TRANSPORTE COM CAMINHÃO BASCULANTE DE 10 M³, EM VIA URBANA PAVIMENTADA, DMT ATÉ 30 KM. AF_12/2016 | E16: m³.km | F16: 55201.25 | G16: 2.43 | H16: 0.65 | I16: 3.08 | J16: 170019.85 | K16: =J16/$J$66 -> 0.0095800144 | L16: =K16+L15 -> 0.92429364 | M16: B
A17: 6.4.2 | B17: 101199 | C17: SINAPI | D17: CERCA COM MOURÕES DE CONCRETO, SEÇÃO "T" PONTA INCLINADA, 10X10CM, ESPAÇAMENTO DE 2,5M, CRAVADOS 0,5M, COM 11 FIOS DE ARAME MISTO - FORNECIMENTO E INSTALAÇÃO. AF_05/2020 | E17: m | F17: 1040 | G17: 97.51 | H17: 26.17 | I17: 123.68 | J17: 128627.2 | K17: =J17/$J$66 -> 0.0072476857 | L17: =K17+L16 -> 0.93154132 | M17: B
A18: 4.3.6 | B18: 7134 | C18: ORSE | D18: ESCORAMENTO METÁLICO P/ VALAS, 2,50M<=H<=4.00 M, COM PRANCHAS METÁLICAS DE 4,7 MM X 30 CM E LONGARINAS E TRANSVERSINAS EM PERFIS DE AÇO, REAPROVEITAMENTO : 60 VEZES | E18: m² | F18: 1482.28 | G18: 68.1 | H18: 18.28 | I18: 86.38 | J18: 128039.35 | K18: =J18/$J$66 -> 0.0072145622 | L18: =K18+L17 -> 0.93875588 | M18: B
A19: 4.3.15 | B19: 95875 | C19: SINAPI | D19: TRANSPORTE COM CAMINHÃO BASCULANTE DE 10 M³, EM VIA URBANA PAVIMENTADA, DMT ATÉ 30 KM. AF_12/2016 | E19: m³.km | F19: 37222.55 | G19: 2.43 | H19: 0.65 | I19: 3.08 | J19: 114645.45 | K19: =J19/$J$66 -> 0.006459864 | L19: =K19+L18 -> 0.94521575 | M19: B
A20: 6.1.2 | B20: 2548 | C20: ORSE | D20: LOCAÇÃO DE SERVIÇOS DE TERRAPLENAGEM DE OBRAS CIVIS | E20: m² | F20: 61600 | G20: 1.33 | H20: 0.36 | I20: 1.69 | J20: 104104 | K20: =J20/$J$66 -> 0.0058658905 | L20: =K20+L19 -> 0.95108164 | M20: B
A21: 6.4.1 | B21: 98504 | C21: SINAPI | D21: PLANTIO DE GRAMA EM PLACAS. AF_05/2018 (ENTORNO DA LAGOA) | E21: m² | F21: 5100 | G21: 15.43 | H21: 4.14 | I21: 19.57 | J21: 99807 | K21: =J21/$J$66 -> 0.0056237698 | L21: =K21+L20 -> 0.95670541 | M21: B
A22: 4.3.13 | B22: CP-08 | C22: PROPRIA | D22: Chaminé dos poços de visita - CPV 01 - areia e brita comerciais | E22: un | F22: 67.01 | G22: 866.11 | H22: 232.46 | I22: 1098.57 | J22: 73615.176 | K22: =J22/$J$66 -> 0.0041479536 | L22: =K22+L21 -> 0.96085336 | M22: C
A23: 4.3.9 | B23: 10048 | C23: ORSE | D23: Fornecimento e assentamento de tubo corrugado parede dupla PEAD, d= 375mm (15"), p/sistemas drenagem, Tigre-ADS N-12 ou similar | E23: m | F23: 150 | G23: 284.93 | H23: 76.48 | I23: 361.41 | J23: 54211.5 | K23: =J23/$J$66 -> 0.0030546254 | L23: =K23+L22 -> 0.96390799 | M23: C
A24: 6.1.1 | B24: 98525 | C24: SINAPI | D24: LIMPEZA MECANIZADA DE CAMADA VEGETAL, VEGETAÇÃO E PEQUENAS ÁRVORES (DIÂMETRO DE TRONCO MENOR QUE 0,20 M), COM TRATOR DE ESTEIRAS.AF_05/2018 | E24: m² | F24: 61600 | G24: 0.61 | H24: 0.16 | I24: 0.77 | J24: 47432 | K24: =J24/$J$66 -> 0.0026726247 | L24: =K24+L23 -> 0.96658061 | M24: C
A25: 4.1.1 | B25: CP-05 | C25: PRÓPRIA | D25: ISOLAMENTO DE OBRA COM TELA PLASTICA COM MALHA DE 5MM E ESTRUTURA DE MADEIRA PONTALETEADA COM REAPROVEITAMENTO 2X | E25: m² | F25: 2686.78 | G25: 13.19 | H25: 3.54 | I25: 16.73 | J25: 44949.829 | K25: =J25/$J$66 -> 0.0025327632 | L25: =K25+L24 -> 0.96911338 | M25: C
A26: 4.3.15 | B26: CP-10 | C26: PROPRIA | D26: CARGA E DESCARGA MECANIZADAS DE ENTULHO EM CAMINHÃO BASCULANTE 6 M³ (BOTA FORA) | E26: m³ | F26: 7444.51 | G26: 4.63 | H26: 1.24 | I26: 5.87 | J26: 43699.274 | K26: =J26/$J$66 -> 0.0024622988 | L26: =K26+L25 -> 0.97157567 | M26: C
A27: 4.3.2 | B27: 90091 | C27: SINAPI | D27: ESCAVAÇÃO MECANIZADA DE VALA COM PROF. ATÉ 1,5 M(MÉDIA ENTRE MONTANTE E JUSANTE/UMA COMPOSIÇÃO POR TRECHO), COM ESCAVADEIRA HIDRÁULICA (0,8 M3), LARG. DE 1,5M A 2,5 M, EM SOLO DE 1A CATEGORIA, LOCAIS COM BAIXO NÍVEL DE INTERFERÊNCIA. AF_01/2015 | E27: m³ | F27: 5955.63 | G27: 5.71 | H27: 1.53 | I27: 7.24 | J27: 43118.761 | K27: =J27/$J$66 -> 0.002429589 | L27: =K27+L26 -> 0.97400526 | M27: C
A28: 4.3.1 | B28: 93358 | C28: SINAPI | D28: ESCAVAÇÃO MANUAL DE VALA COM PROFUNDIDADE MENOR OU IGUAL A 1,30 M. AF_03/2016 | E28: m³ | F28: 425.4 | G28: 78 | H28: 20.94 | I28: 98.94 | J28: 42089.076 | K28: =J28/$J$66 -> 0.0023715699 | L28: =K28+L27 -> 0.97637683 | M28: C
A29: 4.3.3 | B29: 90092 | C29: SINAPI | D29: ESCAVAÇÃO MECANIZADA DE VALA COM PROF. MAIOR QUE 1,5 M E ATÉ 3,0 M(MÉDIA ENTRE MONTANTE E JUSANTE/UMA COMPOSIÇÃO POR TRECHO), COM ESCAVADEIRA HIDRÁULICA (0,8 M3/111 HP), LARG. MENOR QUE 1,5 M, EM SOLO DE 1A CATEGORIA, LOCAIS COM BAIXO NÍVEL DE INTERFERÊNCIA. AF_01/2015 | E29: m³ | F29: 5565.03 | G29: 5.53 | H29: 1.480756 | I29: 7.010756 | J29: 39015.067 | K29: =J29/$J$66 -> 0.0021983604 | L29: =K29+L28 -> 0.97857519 | M29: C
A30: 6.2.2 | B30: 100575 | C30: SINAPI | D30: REGULARIZACAO DE SUPERFICIES EM TERRA COM MOTONIVELADORA | E30: m² | F30: 53856 | G30: 0.55 | H30: 0.15 | I30: 0.7 | J30: 37699.2 | K30: =J30/$J$66 -> 0.002124216 | L30: =K30+L29 -> 0.98069941 | M30: C
A31: 3.1 | B31: 10321 | C31: ORSE | D31: FOSSA SÉPTICA EM ALVENARIA BLOCO DE CIMENTO E CONCRETO ARMADO, DIMENSÕES INTERNAS 2,10 X 4,20 X 1,50 M | E31: und | F31: 1 | G31: 26736.45 | H31: 7176.0632 | I31: 33912.513 | J31: 33912.513 | K31: =J31/$J$66 -> 0.0019108496 | L31: =K31+L30 -> 0.98261026 | M31: C
A32: 4.3.4 | B32: 90094 | C32: SINAPI | D32: ESCAVAÇÃO MECANIZADA DE VALA COM PROF. MAIOR QUE 3,0 M ATÉ 4,5 M (MÉDIA ENTRE MONTANTE E JUSANTE/UMA COMPOSIÇÃO POR TRECHO), COM ESCAVADEIRA HIDRÁULICA (0,8 M3/111 HP), LARG. MENOR QUE 1,5 M, EM SOLO DE 1A CATEGORIA, LOCAIS COM BAIXO NÍVEL DE INTERFERÊNCIA. AF_01/2015 | E32: m³ | F32: 4801.64 | G32: 5.24 | H32: 1.41 | I32: 6.65 | J32: 31930.906 | K32: =J32/$J$66 -> 0.0017991931 | L32: =K32+L31 -> 0.98440945 | M32: C
A33: 3.5 | B33: 4784 | C33: ORSE | D33: Barracão para escritório de obra porte médio s=43,56m2, c/ 2 salas e 2 banheiros com materiais novos | E33: und | F33: 1 | G33: 22630.85 | H33: 6074.1201 | I33: 28704.97 | J33: 28704.97 | K33: =J33/$J$66 -> 0.0016174231 | L33: =K33+L32 -> 0.98602688 | M33: C
A34: 3.4 | B34: 10184 | C34: ORSE | D34: Barracão para banheiro e vestiário de obra, s=35,10m², capacidade 20 operários com materiais novos | E34: und | F34: 1 | G34: 19042.12 | H34: 5110.905 | I34: 24153.025 | J34: 24153.025 | K34: =J34/$J$66 -> 0.0013609371 | L34: =K34+L33 -> 0.98738781 | M34: C
A35: 3.9 | B35: CP-04 | C35: PRÓPRIA | D35: TAPUME DE CHAPA DE MADEIRA COMPENSADA, E= 6MM, COM PINTURA A CAL E REAPROVEITAMENTO DE 2X | E35: m² | F35: 240 | G35: 72.56 | H35: 19.48 | I35: 92.04 | J35: 22089.6 | K35: =J35/$J$66 -> 0.0012446705 | L35: =K35+L34 -> 0.98863248 | M35: C
A36: 4.3.14 | B36: CP--09 | C36: PROPRIA | D36: Fornecimento e assentamento de tampão de ferro fundido TDA-600mm, 300kg/cm², para poço de visita e caixas de passagem | E36: un | F36: 20 | G36: 839.83 | H36: 225.41 | I36: 1065.24 | J36: 21304.8 | K36: =J36/$J$66 -> 0.0012004498 | L36: =K36+L35 -> 0.98983293 | M36: C
A37: 4.3.19 | B37: 102742 | C37: SINAPI | D37: BOCA PARA BUEIRO SIMPLES TUBULAR D = 150 CM EM CONCRETO, ALAS COM ESCONSIDADE DE 0°, INCLUINDO FÔRMAS E MATERIAIS. AF_07/2021 | E37: un | F37: 1 | G37: 14653.53 | H37: 3933.01 | I37: 18586.54 | J37: 18586.54 | K37: =J37/$J$66 -> 0.0010472855 | L37: =K37+L36 -> 0.99088022 | M37: C
A38: 5.1.2 | B38: CP-12 | C38: PRÓPRIA | D38: CONSTRUÇÃO DE PAVIMENTO COM APLICAÇÃO DE CONCRETO BETUMINOSO USINADO A QUENTE (CBUQ), CAMADA DE ROLAMENTO, COM ESPESSURA DE 3,0 CM - EXCLUSIVE TRANSPORTE. AF_03/2017 | E38: m³ | F38: 9.34 | G38: 1564.57 | H38: 419.93 | I38: 1984.5 | J38: 18535.23 | K38: =J38/$J$66 -> 0.0010443944 | L38: =K38+L37 -> 0.99192461 | M38: C
A39: 4.3.11 | B39: CP-35 | C39: PRÓPRIA | D39: BASE PARA POÇO DE VISITA RETANGULAR PARA DRENAGEM, EM ALVENARIA COM BLOCOS DE CONCRETO, DIMENSÕES INTERNAS = 2,5X2,5 M, PROFUNDIDADE = 2,20 M, EXCLUINDO TAMPÃO. AF_12/2020 | E39: UN | F39: 2 | G39: 6639.2507 | H39: =ROUND(G39*0.2684,2) -> 1781.97 | I39: =G39+H39 -> 8421.2207 | J39: =F39*I39 -> 16842.441 | K39: =J39/$J$66 -> 0.00094901173 | L39: =K39+L38 -> 0.99287362 | M39: C
A40: 3.7 | B40: 62 | C40: ORSE | D40: Barracão fechado porte pequeno para depósito de cimento e almoxarifado (s=38,72 m2) com materiais novos | E40: m² | F40: 1 | G40: 12805.45 | H40: 3436.9828 | I40: 16242.433 | J40: 16242.433 | K40: =J40/$J$66 -> 0.00091520337 | L40: =K40+L39 -> 0.99378883 | M40: C
...

Sheet MC 1-SERV PREL 2-ADM 3-CANTEIRO
A1: PREFEITURA MUNICIPAL DE RIO LARGO - AL
A2: SECRETARIA MUNICIPAL DE INFRAESTRUTURA
A3: MACRODRENAGEM DO COMPLEXO BRASIL NNOVO
A4: MEMÓRIA DE CÁLCULO - SERVIÇOS PRELIMINARES, ADMINSTRAÇÃO E CANTEIRO DE OBRAS
A6: MEMÓRIA DE CÁLCULO - SERVIÇOS PRELIMINARES, ADMINSTRAÇÃO E CANTEIRO DE OBRAS
A7: Item | B7: Descrição dos serviços | C7: Un | D7: Qtd. | E7: Comp. | F7: Larg. | G7: Alt. | H7: Área (m²) | I7: Volume (m³) | J7: Peso ou taxa (t ou kg) | K7: TOTAL
A8: ='PLANILHA ORÇAMENTARIA'!A7 -> 1 | B8: =VLOOKUP(A8,'PLANILHA ORÇAMENTARIA'!$1:$1048576,4,FALSE) -> SERVIÇOS PRELIMINARES
A9: ='PLANILHA ORÇAMENTARIA'!A8 -> 1.1 | B9: =VLOOKUP(A9,'PLANILHA ORÇAMENTARIA'!$1:$1048576,4,FALSE) -> MOBILIZAÇÃO DE EQUIPAMENTOS | C9: =VLOOKUP(A9,'PLANILHA ORÇAMENTARIA'!$1:$1048576,5,FALSE) -> un | K9: =SUM(K10:K10) -> 1
B10: ÍNICIO DO PERÍODO DE EXECUÇÃO DA OBRA | D10: 1 | K10: =D10 -> 1
A12: ='PLANILHA ORÇAMENTARIA'!A9 -> 1.2 | B12: =VLOOKUP(A12,'PLANILHA ORÇAMENTARIA'!$1:$1048576,4,FALSE) -> DESMOBILIZAÇÃO DE EQUIPAMENTOS | C12: =VLOOKUP(A12,'PLANILHA ORÇAMENTARIA'!$1:$1048576,5,FALSE) -> un | K12: =SUM(K13:K13) -> 1
B13: FIM DO PERÍODO DE EXECUÇÃO DA OBRA | D13: 1 | K13: =D13 -> 1
A15: ='PLANILHA ORÇAMENTARIA'!A10 -> 1.3 | B15: =VLOOKUP(A15,'PLANILHA ORÇAMENTARIA'!$1:$1048576,4,FALSE) -> PLACAS DA OBRA EM CHAPA GALVANIZADA | C15: =VLOOKUP(A15,'PLANILHA ORÇAMENTARIA'!$1:$1048576,5,FALSE) -> m² | K15: =SUM(K16:K19) -> 15
B16: PLACA DA OBRA COM RESPONSÁVEIS TÉCNICOS | D16: 1 | E16: 2 | G16: 1.5 | H16: =G16*E16*D16 -> 3 | K16: =H16 -> 3
B17: PLACA DA OBRA COM INFORMAÇÕES DA PREFEITURA DE CONVÊNIO E PRAZOS | D17: 2 | E17: 3 | G17: 1.5 | H17: =G17*E17*D17 -> 9 | K17: =H17 -> 9
B18: LINCENÇA AMBIENTAL | D18: 1 | E18: 1 | G18: 1.5 | H18: =G18*E18*D18 -> 1.5 | K18: =H18 -> 1.5
B19: ALVARÁ DE CONSTRUÇÃO | D19: 1 | E19: 1 | G19: 1.5 | H19: =G19*E19*D19 -> 1.5 | K19: =H19 -> 1.5
A21: ='PLANILHA ORÇAMENTARIA'!A12 -> 2 | B21: =VLOOKUP(A21,'[129]ORÇAMENTO GERAL'!$A$2:$E$21,2,FALSE) -> ADMINISTRAÇÃO DE OBRA
A22: ='PLANILHA ORÇAMENTARIA'!A13 -> 2.1 | B22: =VLOOKUP(A22,'PLANILHA ORÇAMENTARIA'!$1:$1048576,4,FALSE) -> ADMINISTRAÇÃO LOCAL | C22: =VLOOKUP(A22,'PLANILHA ORÇAMENTARIA'!$1:$1048576,5,FALSE) -> mês | K22: =K23 -> 4
B23: PERÍODO DE EXECUÇÃO DA OBRA | D23: 4 | K23: =D23 -> 4
A25: ='PLANILHA ORÇAMENTARIA'!A15 -> 3 | B25: =VLOOKUP(A25,'[129]ORÇAMENTO GERAL'!$A$2:$E$21,2,FALSE) -> CANTEIRO DE OBRA
A26: ='PLANILHA ORÇAMENTARIA'!A16 -> 3.1 | B26: =VLOOKUP(A26,'PLANILHA ORÇAMENTARIA'!$1:$1048576,4,FALSE) -> FOSSA SÉPTICA EM ALVENARIA BLOCO DE CIMENTO E CONCRETO ARMADO, DIMENSÕES INTERNAS 2,10 X 4,20 X 1,50 M | C26: =VLOOKUP(A26,'PLANILHA ORÇAMENTARIA'!$1:$1048576,5,FALSE) -> und | K26: =K27 -> 1
B27: LIGAÇÃO PARA OBRA | D27: 1 | K27: =D27 -> 1
A29: ='PLANILHA ORÇAMENTARIA'!A17 -> 3.2 | B29: =VLOOKUP(A29,'PLANILHA ORÇAMENTARIA'!$1:$1048576,4,FALSE) -> INSTALAÇÃO PROVISÓRIA DE ENERGIA ELÉTRICA AÉREA, EXCLUSIVE FORNECIMENTO DE MEDIDOR | C29: =VLOOKUP(A29,'PLANILHA ORÇAMENTARIA'!$1:$1048576,5,FALSE) -> und | K29: =K30 -> 1
B30: LIGAÇÃO PARA OBRA | D30: 1 | K30: =D30 -> 1
A32: ='PLANILHA ORÇAMENTARIA'!A18 -> 3.3 | B32: =VLOOKUP(A32,'PLANILHA ORÇAMENTARIA'!$1:$1048576,4,FALSE) -> Ligação Predial de Água em Mureta de Concreto, Provisória ou Definitiva, com Fornecimento de Material, inclusive Mureta e Hidrômetro, Rede DN 50mm | C32: =VLOOKUP(A32,'PLANILHA ORÇAMENTARIA'!$1:$1048576,5,FALSE) -> und | K32: =K33 -> 1
B33: LIGAÇÃO PARA OBRA | D33: 1 | K33: =D33 -> 1
A35: ='PLANILHA ORÇAMENTARIA'!A19 -> 3.4 | B35: =VLOOKUP(A35,'PLANILHA ORÇAMENTARIA'!$1:$1048576,4,FALSE) -> Barracão para banheiro e vestiário de obra, s=35,10m², capacidade 20 operários com materiais novos | C35: =VLOOKUP(A35,'PLANILHA ORÇAMENTARIA'!$1:$1048576,5,FALSE) -> und | K35: =K36 -> 8
B36: VESTIÁRIO/BANHEIROS | E36: 4 | F36: 2 | H36: =E36*F36 -> 8 | K36: =H36 -> 8
A38: ='PLANILHA ORÇAMENTARIA'!A20 -> 3.5 | B38: =VLOOKUP(A38,'PLANILHA ORÇAMENTARIA'!$1:$1048576,4,FALSE) -> Barracão para escritório de obra porte médio s=43,56m2, c/ 2 salas e 2 banheiros com materiais novos | C38: =VLOOKUP(A38,'PLANILHA ORÇAMENTARIA'!$1:$1048576,5,FALSE) -> und | K38: =K39 -> 40
B39: ESCRITÓRIO PARA ABRIGAR A EQUIPE TÉCNICA | E39: 8 | F39: 5 | H39: =E39*F39 -> 40 | K39: =H39 -> 40
A41: ='PLANILHA ORÇAMENTARIA'!A21 -> 3.6 | B41: =VLOOKUP(A41,'PLANILHA ORÇAMENTARIA'!$1:$1048576,4,FALSE) -> Locação de container - Banheiro com chuveiros e vasos - 4,30 x 2,30m | C41: =VLOOKUP(A41,'PLANILHA ORÇAMENTARIA'!$1:$1048576,5,FALSE) -> mês | K41: =K42 -> 8
B42: DEPOSITO DE CONTROLE DE MATERIAIS | D42: 2 | J42: =D23 -> 4 | K42: =D42*J42 -> 8
A44: ='PLANILHA ORÇAMENTARIA'!A22 -> 3.7 | B44: =VLOOKUP(A44,'PLANILHA ORÇAMENTARIA'!$1:$1048576,4,FALSE) -> Barracão fechado porte pequeno para depósito de cimento e almoxarifado (s=38,72 m2) com materiais novos | C44: =VLOOKUP(A44,'PLANILHA ORÇAMENTARIA'!$1:$1048576,5,FALSE) -> un | K44: =K45 -> 30
B45: ALMOXARIFADO DE CONTROLE DE MATERIAIS | E45: 6 | F45: 5 | H45: =E45*F45 -> 30 | K45: =H45 -> 30
A47: ='PLANILHA ORÇAMENTARIA'!A23 -> 3.8 | B47: =VLOOKUP(A47,'PLANILHA ORÇAMENTARIA'!$1:$1048576,4,FALSE) -> Locação de container - Refeitório sem banheiro - 6,00 x 2,40m - Rev 02_x001F__02/2022 | C47: =VLOOKUP(A47,'PLANILHA ORÇAMENTARIA'!$1:$1048576,5,FALSE) -> mês | K47: =K48 -> 50
B48: REFEITÓRIO PARA ALIMENTAÇÃO DOS FUNCIONÁRIOS | E48: 10 | F48: 5 | H48: =E48*F48 -> 50 | K48: =H48 -> 50
A50: ='PLANILHA ORÇAMENTARIA'!A24 -> 3.9 | B50: =VLOOKUP(A50,'PLANILHA ORÇAMENTARIA'!$1:$1048576,4,FALSE) -> TAPUME DE CHAPA DE MADEIRA COMPENSADA, E= 6MM, COM PINTURA A CAL E REAPROVEITAMENTO DE 2X | C50: =VLOOKUP(A50,'PLANILHA ORÇAMENTARIA'!$1:$1048576,5,FALSE) -> m² | K50: =K51 -> 240
B51: CONTORNO DO CANTEIRO DE OBRAS | E51: 30 | F51: 30 | G51: 2 | H51: =(E51*2+F51*2)*G51 -> 240 | K51: =H51 -> 240

Sheet MC 4-REDE DRENAGEM
F1: PREFEITURA MUNICIPAL DE RIO LARGO - AL
F2: SECRETARIA MUNICIPAL DE INFRAESTRUTURA
F3: MACRODRENAGEM DO COMPLEO BRASIL NOVO
F4: MEMÓRIA DE CÁLCULO - REDE DE DRENAGEM
A6: TRECHO | B6: EXTENSÃO (m) | C6: ISOLAMENTO DA OBRA (m²) | D6: SEÇÃO (m) | E6: COTAS DE PROJETO - G.I.T. (m) | G6: COTAS DO GREIDE (m) | I6: ALTURA MEDIA - PROJETO (m) | L6: LARGURA VALA (m) | M6: EXCEDENTE FUNÇÃO PROF (m) | N6: ESCAV. MANUAL ATÉ 1,30 | O6: VOLUME DE ESCAVAÇÃO (m³) | S6: VOLUME ESCAVAÇÃO (m³) | T6: BOTA FORA (m³) | U6: REATERRO (m³) | V6: AREIA (m³) | W6: ESCORAMENTO (m²) | AA6: PREPARO FUNDO VALA (m²) | AB6: QUANT BOCA DE LOBO (un) | AC6: TUBOS PEAD CORRUGADO | AG6: CHAMINÉ PARA POÇO DE VISITA (m) | AH6: TIPO DE PAVIMENTO | AI6: QUEBRA E REP PAVIM ASFÁLTICO (m²)
A7: MONT / JUS | E7: MONT. | F7: JUS. | G7: MONT. | H7: JUS. | I7: MONT. | J7: JUS. | K7: MÉDIA + 0,10m (colchão) | O7: < 1,5 | P7: 1,5 - 3,0 | Q7: 3,0 - 4,5 | R7: 4,5 - 6,0 | W7: Até 1,50m | X7: 1,50m a 2,5m | Y7: 2,50m a 4,00m | Z7: Acima de 4,00m | AC7: Ø 375mm | AD7: Ø600mm | AE7: Ø1500mm | AF7: QUANT TOTAL POÇOS DE VISITA
C8: ='PLANILHA ORÇAMENTARIA'!A28 -> 4.1.1 | N8: ='PLANILHA ORÇAMENTARIA'!A33 -> 4.3.1 | O8: ='PLANILHA ORÇAMENTARIA'!A34 -> 4.3.2 | P8: ='PLANILHA ORÇAMENTARIA'!A35 -> 4.3.3 | Q8: ='PLANILHA ORÇAMENTARIA'!A36 -> 4.3.4 | R8: ='PLANILHA ORÇAMENTARIA'!A37 -> 4.3.5 | T8: ='PLANILHA ORÇAMENTARIA'!A47 -> 4.3.15 | U8: ='PLANILHA ORÇAMENTARIA'!A49 -> 4.3.17 | V8: ='[130]Análise- Resumo'!A51 -> 4.1.4.13 | Y8: ='PLANILHA ORÇAMENTARIA'!A38 -> 4.3.6 | Z8: ='PLANILHA ORÇAMENTARIA'!A39 -> 4.3.7 | AA8: ='PLANILHA ORÇAMENTARIA'!A40 -> 4.3.8 | AC8: ='PLANILHA ORÇAMENTARIA'!A41 -> 4.3.9 | AE8: ='PLANILHA ORÇAMENTARIA'!A42 -> 4.3.10 | AF8: ='PLANILHA ORÇAMENTARIA'!A44 -> 4.3.12 | AG8: ='PLANILHA ORÇAMENTARIA'!A45 -> 4.3.13 | AI8: ='PLANILHA ORÇAMENTARIA'!A56 -> 5.1.1 | AK8: Fundo do colchão= | AL8: 0.1
A9: COLETOR 1 | AK9: Colchão Superior a Geratriz do Tubo = | AL9: 0.15
B11: =SUM(B12:B32) -> 1343.39 | C11: =SUM(C12:C32) -> 2686.78 | N11: =SUM(N12:N32) -> 425.4012 | O11: =SUM(O12:O32) -> 5955.6288 | P11: =SUM(P12:P32) -> 5565.03 | Q11: =SUM(Q12:Q32) -> 4801.64 | R11: =SUM(R12:R32) -> 1737.06 | S11: =SUM(S12:S32) -> 18484.76 | T11: =SUM(T12:T32) -> 7444.51 | U11: =SUM(U12:U32) -> 11040.25 | ... AC11: =SUM(AC12:AC32) -> 150 | AE11: =SUM(AE12:AE32) -> 1343.39 | AF11: =SUM(AF12:AF32) -> 20 | AG11: =SUM(AG12:AG32) -> 51.01 | AI11: =SUM(AI12:AI32) -> 233.409
A12: PV01 - PV02 | B12: 72 | C12: =ROUND(B12*2,2) -> 144 | D12: 1.5 | E12: 106.5 | F12: 106.47 | G12: 108.88 | H12: 110.03 | I12: =ROUND(G12-E12,2) -> 2.38 | J12: =ROUND(H12-F12,2) -> 3.56 | K12: =IF(B12<=0,0,ROUND(AVERAGE(I12:J12)+AL$8,2)) -> 3.07 | L12: =IF(D12=0.6,"1,2",IF(D12=0.75,"1,5",IF(D12=0.9,"1,7",IF(D12=1.05,"1,8",IF(D12=1.2,"2,2",IF(D12=1.5,"2,6","VALOR INCORRETO"))))))+M12 -> 3 | M12: =IF(K12<=1.5,0,IF(K12>=6,0.8,IF(K12>=4.5,0.6,IF(K12>=3,0.4,IF(K12>1.5,0.2,""))))) -> 0.4 | N12: =0.1*L12*B12 -> 21.6 | O12: =ROUND(IF(K12<1.5,L12*K12*B12,1.5*L12*B12),2)-N12 -> 302.4 | P12: =ROUND(IF(K12<=1.5,0,IF(K12<=3,B12*L12*(K12-1.5),IF(K12<=4.5,B12*L12*(3-1.5),IF(K12<=6,B12*L12*(3-1.5),0)))),2) -> 324 | Q12: =ROUND(IF(K12<=1.5,0,IF(K12<=3,0,IF(K12<=4.5,B12*L12*(K12-3),IF(K12<=6,B12*L12*(4.5-3),0)))),2) -> 15.12 | R12: =ROUND(IF(K12<=1.5,0,IF(K12<=3,0,IF(K12<=4.5,0,IF(K12<=6,B12*L12*(K12-4.5),0)))),2) -> 0 | S12: =ROUND(SUM(N12:R12),2) -> 663.12 | T12: =ROUND(S12-U12,2) -> 378 | U12: =ROUND(IF(($AL$8+D12+$AL$9)>K12,0,S12-(B12*L12*(AL$8+D12+AL$9))),2) -> 285.12 | V12: =ROUND((B12*L12*(AL$8+D12+AL$9))-(PI()*((D12/2)^2)*B12),2) -> 250.77 | W12: =ROUND(IF(K12<=1.25,0,IF(K12<=1.5,K12*B12*2,0)),2) -> 0 | X12: =ROUND(IF(K12<=1.5,0,IF(K12>2.5,0,B12*K12*2)),2) -> 0 | Y12: =ROUND(IF(K12<=2.5,0,IF(K12<=4,B12*K12*2,0)),2) -> 442.08 | Z12: =ROUND(IF(K12<=4,0,B12*K12*2),2) -> 0 | AA12: =B12*L12 -> 216 | AB12: 2 | AC12: =AB12*5 -> 10 | AE12: =IF($D12=1.5,$B12,0) -> 72 | AF12: =IF(D12=1.5,1,0) -> 1 | AG12: =IF(G12-E12<=2.2,0,IF(G12-E12-2.2<0,0,G12-E12-2.2)) -> 0.18 | AH12: TN | AI12: =IF(AH12="A",B12*(L12+0.1),0) -> 0
A13: PV02 - PV03 | B13: 72 | C13: =ROUND(B13*2,2) -> 144 | D13: 1.5 | E13: 106.47 | F13: 106.44 | G13: 110.03 | H13: 111.21 | I13: =ROUND(G13-E13,2) -> 3.56 | J13: =ROUND(H13-F13,2) -> 4.77 | K13: =IF(B13<=0,0,ROUND(AVERAGE(I13:J13)+AL$8,2)) -> 4.27 | L13: =IF(D13=0.6,"1,2",IF(D13=0.75,"1,5",IF(D13=0.9,"1,7",IF(D13=1.05,"1,8",IF(D13=1.2,"2,2",IF(D13=1.5,"2,6","VALOR INCORRETO"))))))+M13 -> 3 | M13: =IF(K13<=1.5,0,IF(K13>=6,0.8,IF(K13>=4.5,0.6,IF(K13>=3,0.4,IF(K13>1.5,0.2,""))))) -> 0.4 | N13: =0.1*L13*B13 -> 21.6 | O13: =ROUND(IF(K13<1.5,L13*K13*B13,1.5*L13*B13),2)-N13 -> 302.4 | P13: =ROUND(IF(K13<=1.5,0,IF(K13<=3,B13*L13*(K13-1.5),IF(K13<=4.5,B13*L13*(3-1.5),IF(K13<=6,B13*L13*(3-1.5),0)))),2) -> 324 | Q13: =ROUND(IF(K13<=1.5,0,IF(K13<=3,0,IF(K13<=4.5,B13*L13*(K13-3),IF(K13<=6,B13*L13*(4.5-3),0)))),2) -> 274.32 | R13: =ROUND(IF(K13<=1.5,0,IF(K13<=3,0,IF(K13<=4.5,0,IF(K13<=6,B13*L13*(K13-4.5),0)))),2) -> 0 | S13: =ROUND(SUM(N13:R13),2) -> 922.32 | T13: =ROUND(S13-U13,2) -> 378 | U13: =ROUND(IF(($AL$8+D13+$AL$9)>K13,0,S13-(B13*L13*(AL$8+D13+AL$9))),2) -> 544.32 | V13: =ROUND((B13*L13*(AL$8+D13+AL$9))-(PI()*((D13/2)^2)*B13),2) -> 250.77 | W13: =ROUND(IF(K13<=1.25,0,IF(K13<=1.5,K13*B13*2,0)),2) -> 0 | X13: =ROUND(IF(K13<=1.5,0,IF(K13>2.5,0,B13*K13*2)),2) -> 0 | Y13: =ROUND(IF(K13<=2.5,0,IF(K13<=4,B13*K13*2,0)),2) -> 0 | Z13: =ROUND(IF(K13<=4,0,B13*K13*2),2) -> 614.88 | AA13: =B13*L13 -> 216 | AB13: 2 | AC13: =AB13*5 -> 10 | AE13: =IF($D13=1.5,$B13,0) -> 72 | AF13: =IF(D13=1.5,1,0) -> 1 | AG13: =IF(G13-E13<=2.2,0,IF(G13-E13-2.2<0,0,G13-E13-2.2)) -> 1.36 | AH13: TN | AI13: =IF(AH13="A",B13*(L13+0.1),0) -> 0
A14: PV03 - PV04 | B14: 72 | C14: =ROUND(B14*2,2) -> 144 | D14: 1.5 | E14: 106.44 | F14: 106.41 | G14: 111.21 | H14: 111.4 | I14: =ROUND(G14-E14,2) -> 4.77 | J14: =ROUND(H14-F14,2) -> 4.99 | K14: =IF(B14<=0,0,ROUND(AVERAGE(I14:J14)+AL$8,2)) -> 4.98 | L14: =IF(D14=0.6,"1,2",IF(D14=0.75,"1,5",IF(D14=0.9,"1,7",IF(D14=1.05,"1,8",IF(D14=1.2,"2,2",IF(D14=1.5,"2,6","VALOR INCORRETO"))))))+M14 -> 3.2 | M14: =IF(K14<=1.5,0,IF(K14>=6,0.8,IF(K14>=4.5,0.6,IF(K14>=3,0.4,IF(K14>1.5,0.2,""))))) -> 0.6 | N14: =0.1*L14*B14 -> 23.04 | O14: =ROUND(IF(K14<1.5,L14*K14*B14,1.5*L14*B14),2)-N14 -> 322.56 | P14: =ROUND(IF(K14<=1.5,0,IF(K14<=3,B14*L14*(K14-1.5),IF(K14<=4.5,B14*L14*(3-1.5),IF(K14<=6,B14*L14*(3-1.5),0)))),2) -> 345.6 | Q14: =ROUND(IF(K14<=1.5,0,IF(K14<=3,0,IF(K14<=4.5,B14*L14*(K14-3),IF(K14<=6,B14*L14*(4.5-3),0)))),2) -> 345.6 | R14: =ROUND(IF(K14<=1.5,0,IF(K14<=3,0,IF(K14<=4.5,0,IF(K14<=6,B14*L14*(K14-4.5),0)))),2) -> 110.59 | S14: =ROUND(SUM(N14:R14),2) -> 1147.39 | T14: =ROUND(S14-U14,2) -> 403.2 | U14: =ROUND(IF(($AL$8+D14+$AL$9)>K14,0,S14-(B14*L14*(AL$8+D14+AL$9))),2) -> 744.19 | V14: =ROUND((B14*L14*(AL$8+D14+AL$9))-(PI()*((D14/2)^2)*B14),2) -> 275.97 | W14: =ROUND(IF(K14<=1.25,0,IF(K14<=1.5,K14*B14*2,0)),2) -> 0 | X14: =ROUND(IF(K14<=1.5,0,IF(K14>2.5,0,B14*K14*2)),2) -> 0 | Y14: =ROUND(IF(K14<=2.5,0,IF(K14<=4,B14*K14*2,0)),2) -> 0 | Z14: =ROUND(IF(K14<=4,0,B14*K14*2),2) -> 717.12 | AA14: =B14*L14 -> 230.4 | AB14: 2 | AC14: =AB14*5 -> 10 | AE14: =IF($D14=1.5,$B14,0) -> 72 | AF14: =IF(D14=1.5,1,0) -> 1 | AG14: =IF(G14-E14<=2.2,0,IF(G14-E14-2.2<0,0,G14-E14-2.2)) -> 2.57 | AH14: TN | AI14: =IF(AH14="A",B14*(L14+0.1),0) -> 0
A15: PV04 - PV05 | B15: 72.16 | C15: =ROUND(B15*2,2) -> 144.32 | D15: 1.5 | E15: 106.41 | F15: 106.38 | G15: 111.4 | H15: 111.25 | I15: =ROUND(G15-E15,2) -> 4.99 | J15: =ROUND(H15-F15,2) -> 4.87 | K15: =IF(B15<=0,0,ROUND(AVERAGE(I15:J15)+AL$8,2)) -> 5.03 | L15: =IF(D15=0.6,"1,2",IF(D15=0.75,"1,5",IF(D15=0.9,"1,7",IF(D15=1.05,"1,8",IF(D15=1.2,"2,2",IF(D15=1.5,"2,6","VALOR INCORRETO"))))))+M15 -> 3.2 | M15: =IF(K15<=1.5,0,IF(K15>=6,0.8,IF(K15>=4.5,0.6,IF(K15>=3,0.4,IF(K15>1.5,0.2,""))))) -> 0.6 | N15: =0.1*L15*B15 -> 23.0912 | O15: =ROUND(IF(K15<1.5,L15*K15*B15,1.5*L15*B15),2)-N15 -> 323.2788 | P15: =ROUND(IF(K15<=1.5,0,IF(K15<=3,B15*L15*(K15-1.5),IF(K15<=4.5,B15*L15*(3-1.5),IF(K15<=6,B15*L15*(3-1.5),0)))),2) -> 346.37 | Q15: =ROUND(IF(K15<=1.5,0,IF(K15<=3,0,IF(K15<=4.5,B15*L15*(K15-3),IF(K15<=6,B15*L15*(4.5-3),0)))),2) -> 346.37 | R15: =ROUND(IF(K15<=1.5,0,IF(K15<=3,0,IF(K15<=4.5,0,IF(K15<=6,B15*L15*(K15-4.5),0)))),2) -> 122.38 | S15: =ROUND(SUM(N15:R15),2) -> 1161.49 | T15: =ROUND(S15-U15,2) -> 404.1 | U15: =ROUND(IF(($AL$8+D15+$AL$9)>K15,0,S15-(B15*L15*(AL$8+D15+AL$9))),2) -> 757.39 | V15: =ROUND((B15*L15*(AL$8+D15+AL$9))-(PI()*((D15/2)^2)*B15),2) -> 276.58 | W15: =ROUND(IF(K15<=1.25,0,IF(K15<=1.5,K15*B15*2,0)),2) -> 0 | X15: =ROUND(IF(K15<=1.5,0,IF(K15>2.5,0,B15*K15*2)),2) -> 0 | Y15: =ROUND(IF(K15<=2.5,0,IF(K15<=4,B15*K15*2,0)),2) -> 0 | Z15: =ROUND(IF(K15<=4,0,B15*K15*2),2) -> 725.93 | AA15: =B15*L15 -> 230.912 | AB15: 2 | AC15: =AB15*5 -> 10 | AE15: =IF($D15=1.5,$B15,0) -> 72.16 | AF15: =IF(D15=1.5,1,0) -> 1 | AG15: =IF(G15-E15<=2.2,0,IF(G15-E15-2.2<0,0,G15-E15-2.2)) -> 2.79 | AH15: TN | AI15: =IF(AH15="A",B15*(L15+0.1),0) -> 0
A16: PV05 - PV06 | B16: 48.7 | C16: =ROUND(B16*2,2) -> 97.4 | D16: 1.5 | E16: 106.38 | F16: 106.36 | G16: 111.25 | H16: 111.4 | I16: =ROUND(G16-E16,2) -> 4.87 | J16: =ROUND(H16-F16,2) -> 5.04 | K16: =IF(B16<=0,0,ROUND(AVERAGE(I16:J16)+AL$8,2)) -> 5.06 | L16: =IF(D16=0.6,"1,2",IF(D16=0.75,"1,5",IF(D16=0.9,"1,7",IF(D16=1.05,"1,8",IF(D16=1.2,"2,2",IF(D16=1.5,"2,6","VALOR INCORRETO"))))))+M16 -> 3.2 | M16: =IF(K16<=1.5,0,IF(K16>=6,0.8,IF(K16>=4.5,0.6,IF(K16>=3,0.4,IF(K16>1.5,0.2,""))))) -> 0.6 | N16: =0.1*L16*B16 -> 15.584 | O16: =ROUND(IF(K16<1.5,L16*K16*B16,1.5*L16*B16),2)-N16 -> 218.176 | P16: =ROUND(IF(K16<=1.5,0,IF(K16<=3,B16*L16*(K16-1.5),IF(K16<=4.5,B16*L16*(3-1.5),IF(K16<=6,B16*L16*(3-1.5),0)))),2) -> 233.76 | Q16: =ROUND(IF(K16<=1.5,0,IF(K16<=3,0,IF(K16<=4.5,B16*L16*(K16-3),IF(K16<=6,B16*L16*(4.5-3),0)))),2) -> 233.76 | R16: =ROUND(IF(K16<=1.5,0,IF(K16<=3,0,IF(K16<=4.5,0,IF(K16<=6,B16*L16*(K16-4.5),0)))),2) -> 87.27 | S16: =ROUND(SUM(N16:R16),2) -> 788.55 | T16: =ROUND(S16-U16,2) -> 272.72 | U16: =ROUND(IF(($AL$8+D16+$AL$9)>K16,0,S16-(B16*L16*(AL$8+D16+AL$9))),2) -> 515.83 | V16: =ROUND((B16*L16*(AL$8+D16+AL$9))-(PI()*((D16/2)^2)*B16),2) -> 186.66 | W16: =ROUND(IF(K16<=1.25,0,IF(K16<=1.5,K16*B16*2,0)),2) -> 0 | X16: =ROUND(IF(K16<=1.5,0,IF(K16>2.5,0,B16*K16*2)),2) -> 0 | Y16: =ROUND(IF(K16<=2.5,0,IF(K16<=4,B16*K16*2,0)),2) -> 0 | Z16: =ROUND(IF(K16<=4,0,B16*K16*2),2) -> 492.84 | AA16: =B16*L16 -> 155.84 | AB16: 4 | AC16: =AB16*5 -> 20 | AE16: =IF($D16=1.5,$B16,0) -> 48.7 | AF16: =IF(D16=1.5,1,0) -> 1 | AG16: =IF(G16-E16<=2.2,0,IF(G16-E16-2.2<0,0,G16-E16-2.2)) -> 2.67 | AH16: TN | AI16: =IF(AH16="A",B16*(L16+0.1),0) -> 0
A17: PV06 - PV07 | B17: 71.13 | C17: =ROUND(B17*2,2) -> 142.26 | D17: 1.5 | E17: 106.36 | F17: 106.32 | G17: 111.4 | H17: 111.68 | I17: =ROUND(G17-E17,2) -> 5.04 | J17: =ROUND(H17-F17,2) -> 5.36 | K17: =IF(B17<=0,0,ROUND(AVERAGE(I17:J17)+AL$8,2)) -> 5.3 | L17: =IF(D17=0.6,"1,2",IF(D17=0.75,"1,5",IF(D17=0.9,"1,7",IF(D17=1.05,"1,8",IF(D17=1.2,"2,2",IF(D17=1.5,"2,6","VALOR INCORRETO"))))))+M17 -> 3.2 | M17: =IF(K17<=1.5,0,IF(K17>=6,0.8,IF(K17>=4.5,0.6,IF(K17>=3,0.4,IF(K17>1.5,0.2,""))))) -> 0.6 | N17: =0.1*L17*B17 -> 22.7616 | O17: =ROUND(IF(K17<1.5,L17*K17*B17,1.5*L17*B17),2)-N17 -> 318.6584 | P17: =ROUND(IF(K17<=1.5,0,IF(K17<=3,B17*L17*(K17-1.5),IF(K17<=4.5,B17*L17*(3-1.5),IF(K17<=6,B17*L17*(3-1.5),0)))),2) -> 341.42 | Q17: =ROUND(IF(K17<=1.5,0,IF(K17<=3,0,IF(K17<=4.5,B17*L17*(K17-3),IF(K17<=6,B17*L17*(4.5-3),0)))),2) -> 341.42 | R17: =ROUND(IF(K17<=1.5,0,IF(K17<=3,0,IF(K17<=4.5,0,IF(K17<=6,B17*L17*(K17-4.5),0)))),2) -> 182.09 | S17: =ROUND(SUM(N17:R17),2) -> 1206.35 | T17: =ROUND(S17-U17,2) -> 398.33 | U17: =ROUND(IF(($AL$8+D17+$AL$9)>K17,0,S17-(B17*L17*(AL$8+D17+AL$9))),2) -> 808.02 | V17: =ROUND((B17*L17*(AL$8+D17+AL$9))-(PI()*((D17/2)^2)*B17),2) -> 272.63 | W17: =ROUND(IF(K17<=1.25,0,IF(K17<=1.5,K17*B17*2,0)),2) -> 0 | X17: =ROUND(IF(K17<=1.5,0,IF(K17>2.5,0,B17*K17*2)),2) -> 0 | Y17: =ROUND(IF(K17<=2.5,0,IF(K17<=4,B17*K17*2,0)),2) -> 0 | Z17: =ROUND(IF(K17<=4,0,B17*K17*2),2) -> 753.98 | AA17: =B17*L17 -> 227.616 | AB17: 3 | AC17: =AB17*5 -> 15 | AE17: =IF($D17=1.5,$B17,0) -> 71.13 | AF17: =IF(D17=1.5,1,0) -> 1 | AG17: =IF(G17-E17<=2.2,0,IF(G17-E17-2.2<0,0,G17-E17-2.2)) -> 2.84 | AH17: TN | AI17: =IF(AH17="A",B17*(L17+0.1),0) -> 0
A18: PV07 - PV08 | B18: 90.37 | C18: =ROUND(B18*2,2) -> 180.74 | D18: 1.5 | E18: 106.32 | F18: 106.26 | G18: 111.68 | H18: 111.33 | I18: =ROUND(G18-E18,2) -> 5.36 | J18: =ROUND(H18-F18,2) -> 5.07 | K18: =IF(B18<=0,0,ROUND(AVERAGE(I18:J18)+AL$8,2)) -> 5.32 | L18: =IF(D18=0.6,"1,2",IF(D18=0.75,"1,5",IF(D18=0.9,"1,7",IF(D18=1.05,"1,8",IF(D18=1.2,"2,2",IF(D18=1.5,"2,6","VALOR INCORRETO"))))))+M18 -> 3.2 | M18: =IF(K18<=1.5,0,IF(K18>=6,0.8,IF(K18>=4.5,0.6,IF(K18>=3,0.4,IF(K18>1.5,0.2,""))))) -> 0.6 | N18: =0.1*L18*B18 -> 28.9184 | O18: =ROUND(IF(K18<1.5,L18*K18*B18,1.5*L18*B18),2)-N18 -> 404.8616 | P18: =ROUND(IF(K18<=1.5,0,IF(K18<=3,B18*L18*(K18-1.5),IF(K18<=4.5,B18*L18*(3-1.5),IF(K18<=6,B18*L18*(3-1.5),0)))),2) -> 433.78 | Q18: =ROUND(IF(K18<=1.5,0,IF(K18<=3,0,IF(K18<=4.5,B18*L18*(K18-3),IF(K18<=6,B18*L18*(4.5-3),0)))),2) -> 433.78 | R18: =ROUND(IF(K18<=1.5,0,IF(K18<=3,0,IF(K18<=4.5,0,IF(K18<=6,B18*L18*(K18-4.5),0)))),2) -> 237.13 | S18: =ROUND(SUM(N18:R18),2) -> 1538.47 | T18: =ROUND(S18-U18,2) -> 506.07 | U18: =ROUND(IF(($AL$8+D18+$AL$9)>K18,0,S18-(B18*L18*(AL$8+D18+AL$9))),2) -> 1032.4 | V18: =ROUND((B18*L18*(AL$8+D18+AL$9))-(PI()*((D18/2)^2)*B18),2) -> 346.38 | W18: =ROUND(IF(K18<=1.25,0,IF(K18<=1.5,K18*B18*2,0)),2) -> 0 | X18: =ROUND(IF(K18<=1.5,0,IF(K18>2.5,0,B18*K18*2)),2) -> 0 | Y18: =ROUND(IF(K18<=2.5,0,IF(K18<=4,B18*K18*2,0)),2) -> 0 | Z18: =ROUND(IF(K18<=4,0,B18*K18*2),2) -> 961.54 | AA18: =B18*L18 -> 289.184 | AB18: 3 | AC18: =AB18*5 -> 15 | AE18: =IF($D18=1.5,$B18,0) -> 90.37 | AF18: =IF(D18=1.5,1,0) -> 1 | AG18: =IF(G18-E18<=2.2,0,IF(G18-E18-2.2<0,0,G18-E18-2.2)) -> 3.16 | AH18: TN | AI18: =IF(AH18="A",B18*(L18+0.1),0) -> 0
A19: PV08 - PV09 | B19: 23.79 | C19: =ROUND(B19*2,2) -> 47.58 | D19: 1.5 | E19: 106.26 | F19: 106.24 | G19: 111.33 | H19: 111.2 | I19: =ROUND(G19-E19,2) -> 5.07 | J19: =ROUND(H19-F19,2) -> 4.96 | K19: =IF(B19<=0,0,ROUND(AVERAGE(I19:J19)+AL$8,2)) -> 5.12 | L19: =IF(D19=0.6,"1,2",IF(D19=0.75,"1,5",IF(D19=0.9,"1,7",IF(D19=1.05,"1,8",IF(D19=1.2,"2,2",IF(D19=1.5,"2,6","VALOR INCORRETO"))))))+M19 -> 3.2 | M19: =IF(K19<=1.5,0,IF(K19>=6,0.8,IF(K19>=4.5,0.6,IF(K19>=3,0.4,IF(K19>1.5,0.2,""))))) -> 0.6 | N19: =0.1*L19*B19 -> 7.6128 | O19: =ROUND(IF(K19<1.5,L19*K19*B19,1.5*L19*B19),2)-N19 -> 106.5772 | P19: =ROUND(IF(K19<=1.5,0,IF(K19<=3,B19*L19*(K19-1.5),IF(K19<=4.5,B19*L19*(3-1.5),IF(K19<=6,B19*L19*(3-1.5),0)))),2) -> 114.19 | Q19: =ROUND(IF(K19<=1.5,0,IF(K19<=3,0,IF(K19<=4.5,B19*L19*(K19-3),IF(K19<=6,B19*L19*(4.5-3),0)))),2) -> 114.19 | R19: =ROUND(IF(K19<=1.5,0,IF(K19<=3,0,IF(K19<=4.5,0,IF(K19<=6,B19*L19*(K19-4.5),0)))),2) -> 47.2 | S19: =ROUND(SUM(N19:R19),2) -> 389.77 | T19: =ROUND(S19-U19,2) -> 133.22 | U19: =ROUND(IF(($AL$8+D19+$AL$9)>K19,0,S19-(B19*L19*(AL$8+D19+AL$9))),2) -> 256.55 | V19: =ROUND((B19*L19*(AL$8+D19+AL$9))-(PI()*((D19/2)^2)*B19),2) -> 91.18 | W19: =ROUND(IF(K19<=1.25,0,IF(K19<=1.5,K19*B19*2,0)),2) -> 0 | X19: =ROUND(IF(K19<=1.5,0,IF(K19>2.5,0,B19*K19*2)),2) -> 0 | Y19: =ROUND(IF(K19<=2.5,0,IF(K19<=4,B19*K19*2,0)),2) -> 0 | Z19: =ROUND(IF(K19<=4,0,B19*K19*2),2) -> 243.61 | AA19: =B19*L19 -> 76.128 | AB19: 2 | AC19: =AB19*5 -> 10 | AE19: =IF($D19=1.5,$B19,0) -> 23.79 | AF19: =IF(D19=1.5,1,0) -> 1 | AG19: =IF(G19-E19<=2.2,0,IF(G19-E19-2.2<0,0,G19-E19-2.2)) -> 2.87 | AH19: A | AI19: =IF(AH19="A",B19*(L19+0.1),0) -> 78.507
A20: PV09 - PV10 | B20: 46.94 | C20: =ROUND(B20*2,2) -> 93.88 | D20: 1.5 | E20: 106.24 | F20: 106.2 | G20: 111.2 | H20: 110.83 | I20: =ROUND(G20-E20,2) -> 4.96 | J20: =ROUND(H20-F20,2) -> 4.63 | K20: =IF(B20<=0,0,ROUND(AVERAGE(I20:J20)+AL$8,2)) -> 4.9 | L20: =IF(D20=0.6,"1,2",IF(D20=0.75,"1,5",IF(D20=0.9,"1,7",IF(D20=1.05,"1,8",IF(D20=1.2,"2,2",IF(D20=1.5,"2,6","VALOR INCORRETO"))))))+M20 -> 3.2 | M20: =IF(K20<=1.5,0,IF(K20>=6,0.8,IF(K20>=4.5,0.6,IF(K20>=3,0.4,IF(K20>1.5,0.2,""))))) -> 0.6 | N20: =0.1*L20*B20 -> 15.0208 | O20: =ROUND(IF(K20<1.5,L20*K20*B20,1.5*L20*B20),2)-N20 -> 210.2892 | P20: =ROUND(IF(K20<=1.5,0,IF(K20<=3,B20*L20*(K20-1.5),IF(K20<=4.5,B20*L20*(3-1.5),IF(K20<=6,B20*L20*(3-1.5),0)))),2) -> 225.31 | Q20: =ROUND(IF(K20<=1.5,0,IF(K20<=3,0,IF(K20<=4.5,B20*L20*(K20-3),IF(K20<=6,B20*L20*(4.5-3),0)))),2) -> 225.31 | R20: =ROUND(IF(K20<=1.5,0,IF(K20<=3,0,IF(K20<=4.5,0,IF(K20<=6,B20*L20*(K20-4.5),0)))),2) -> 60.08 | S20: =ROUND(SUM(N20:R20),2) -> 736.01 | T20: =ROUND(S20-U20,2) -> 262.86 | U20: =ROUND(IF(($AL$8+D20+$AL$9)>K20,0,S20-(B20*L20*(AL$8+D20+AL$9))),2) -> 473.15 | V20: =ROUND((B20*L20*(AL$8+D20+AL$9))-(PI()*((D20/2)^2)*B20),2) -> 179.91 | W20: =ROUND(IF(K20<=1.25,0,IF(K20<=1.5,K20*B20*2,0)),2) -> 0 | X20: =ROUND(IF(K20<=1.5,0,IF(K20>2.5,0,B20*K20*2)),2) -> 0 | Y20: =ROUND(IF(K20<=2.5,0,IF(K20<=4,B20*K20*2,0)),2) -> 0 | Z20: =ROUND(IF(K20<=4,0,B20*K20*2),2) -> 460.01 | AA20: =B20*L20 -> 150.208 | AB20: 3 | AC20: =AB20*5 -> 15 | AE20: =IF($D20=1.5,$B20,0) -> 46.94 | AF20: =IF(D20=1.5,1,0) -> 1 | AG20: =IF(G20-E20<=2.2,0,IF(G20-E20-2.2<0,0,G20-E20-2.2)) -> 2.76 | AH20: A | AI20: =IF(AH20="A",B20*(L20+0.1),0) -> 154.902
A21: PV10 - PV11 | B21: 50 | C21: =ROUND(B21*2,2) -> 100 | D21: 1.5 | E21: 106.2 | F21: 106.14 | G21: 110.83 | H21: 110.8 | I21: =ROUND(G21-E21,2) -> 4.63 | J21: =ROUND(H21-F21,2) -> 4.66 | K21: =IF(B21<=0,0,ROUND(AVERAGE(I21:J21)+AL$8,2)) -> 4.75 | L21: =IF(D21=0.6,"1,2",IF(D21=0.75,"1,5",IF(D21=0.9,"1,7",IF(D21=1.05,"1,8",IF(D21=1.2,"2,2",IF(D21=1.5,"2,6","VALOR INCORRETO"))))))+M21 -> 3.2 | M21: =IF(K21<=1.5,0,IF(K21>=6,0.8,IF(K21>=4.5,0.6,IF(K21>=3,0.4,IF(K21>1.5,0.2,""))))) -> 0.6 | N21: =0.1*L21*B21 -> 16 | O21: =ROUND(IF(K21<1.5,L21*K21*B21,1.5*L21*B21),2)-N21 -> 224 | P21: =ROUND(IF(K21<=1.5,0,IF(K21<=3,B21*L21*(K21-1.5),IF(K21<=4.5,B21*L21*(3-1.5),IF(K21<=6,B21*L21*(3-1.5),0)))),2) -> 240 | Q21: =ROUND(IF(K21<=1.5,0,IF(K21<=3,0,IF(K21<=4.5,B21*L21*(K21-3),IF(K21<=6,B21*L21*(4.5-3),0)))),2) -> 240 | R21: =ROUND(IF(K21<=1.5,0,IF(K21<=3,0,IF(K21<=4.5,0,IF(K21<=6,B21*L21*(K21-4.5),0)))),2) -> 40 | S21: =ROUND(SUM(N21:R21),2) -> 760 | T21: =ROUND(S21-U21,2) -> 280 | U21: =ROUND(IF(($AL$8+D21+$AL$9)>K21,0,S21-(B21*L21*(AL$8+D21+AL$9))),2) -> 480 | V21: =ROUND((B21*L21*(AL$8+D21+AL$9))-(PI()*((D21/2)^2)*B21),2) -> 191.64 | W21: =ROUND(IF(K21<=1.25,0,IF(K21<=1.5,K21*B21*2,0)),2) -> 0 | X21: =ROUND(IF(K21<=1.5,0,IF(K21>2.5,0,B21*K21*2)),2) -> 0 | Y21: =ROUND(IF(K21<=2.5,0,IF(K21<=4,B21*K21*2,0)),2) -> 0 | Z21: =ROUND(IF(K21<=4,0,B21*K21*2),2) -> 475 | AA21: =B21*L21 -> 160 | AB21: 3 | AC21: =AB21*5 -> 15 | AE21: =IF($D21=1.5,$B21,0) -> 50 | AF21: =IF(D21=1.5,1,0) -> 1 | AG21: =IF(G21-E21<=2.2,0,IF(G21-E21-2.2<0,0,G21-E21-2.2)) -> 2.43 | AH21: TN | AI21: =IF(AH21="A",B21*(L21+0.1),0) -> 0
A22: PV11 - PV12 | B22: 60.47 | C22: =ROUND(B22*2,2) -> 120.94 | D22: 1.5 | E22: 106.14 | F22: 106.07 | G22: 110.8 | H22: 110.6 | I22: =ROUND(G22-E22,2) -> 4.66 | J22: =ROUND(H22-F22,2) -> 4.53 | K22: =IF(B22<=0,0,ROUND(AVERAGE(I22:J22)+AL$8,2)) -> 4.7 | L22: =IF(D22=0.6,"1,2",IF(D22=0.75,"1,5",IF(D22=0.9,"1,7",IF(D22=1.05,"1,8",IF(D22=1.2,"2,2",IF(D22=1.5,"2,6","VALOR INCORRETO"))))))+M22 -> 3.2 | M22: =IF(K22<=1.5,0,IF(K22>=6,0.8,IF(K22>=4.5,0.6,IF(K22>=3,0.4,IF(K22>1.5,0.2,""))))) -> 0.6 | N22: =0.1*L22*B22 -> 19.3504 | O22: =ROUND(IF(K22<1.5,L22*K22*B22,1.5*L22*B22),2)-N22 -> 270.9096 | P22: =ROUND(IF(K22<=1.5,0,IF(K22<=3,B22*L22*(K22-1.5),IF(K22<=4.5,B22*L22*(3-1.5),IF(K22<=6,B22*L22*(3-1.5),0)))),2) -> 290.26 | Q22: =ROUND(IF(K22<=1.5,0,IF(K22<=3,0,IF(K22<=4.5,B22*L22*(K22-3),IF(K22<=6,B22*L22*(4.5-3),0)))),2) -> 290.26 | R22: =ROUND(IF(K22<=1.5,0,IF(K22<=3,0,IF(K22<=4.5,0,IF(K22<=6,B22*L22*(K22-4.5),0)))),2) -> 38.7 | S22: =ROUND(SUM(N22:R22),2) -> 909.48 | T22: =ROUND(S22-U22,2) -> 338.63 | U22: =ROUND(IF(($AL$8+D22+$AL$9)>K22,0,S22-(B22*L22*(AL$8+D22+AL$9))),2) -> 570.85 | V22: =ROUND((B22*L22*(AL$8+D22+AL$9))-(PI()*((D22/2)^2)*B22),2) -> 231.77 | W22: =ROUND(IF(K22<=1.25,0,IF(K22<=1.5,K22*B22*2,0)),2) -> 0 | X22: =ROUND(IF(K22<=1.5,0,IF(K22>2.5,0,B22*K22*2)),2) -> 0 | Y22: =ROUND(IF(K22<=2.5,0,IF(K22<=4,B22*K22*2,0)),2) -> 0 | Z22: =ROUND(IF(K22<=4,0,B22*K22*2),2) -> 568.42 | AA22: =B22*L22 -> 193.504 | AB22: 0 | AC22: =AB22*5 -> 0 | AE22: =IF($D22=1.5,$B22,0) -> 60.47 | AF22: =IF(D22=1.5,1,0) -> 1 | AG22: =IF(G22-E22<=2.2,0,IF(G22-E22-2.2<0,0,G22-E22-2.2)) -> 2.46 | AH22: TN | AI22: =IF(AH22="A",B22*(L22+0.1),0) -> 0
A23: PV12 - PV13 | B23: 100.18 | C23: =ROUND(B23*2,2) -> 200.36 | D23: 1.5 | E23: 106.07 | F23: 105.96 | G23: 110.6 | H23: 109.73 | I23: =ROUND(G23-E23,2) -> 4.53 | J23: =ROUND(H23-F23,2) -> 3.77 | K23: =IF(B23<=0,0,ROUND(AVERAGE(I23:J23)+AL$8,2)) -> 4.25 | L23: =IF(D23=0.6,"1,2",IF(D23=0.75,"1,5",IF(D23=0.9,"1,7",IF(D23=1.05,"1,8",IF(D23=1.2,"2,2",IF(D23=1.5,"2,6","VALOR INCORRETO"))))))+M23 -> 3 | M23: =IF(K23<=1.5,0,IF(K23>=6,0.8,IF(K23>=4.5,0.6,IF(K23>=3,0.4,IF(K23>1.5,0.2,""))))) -> 0.4 | N23: =0.1*L23*B23 -> 30.054 | O23: =ROUND(IF(K23<1.5,L23*K23*B23,1.5*L23*B23),2)-N23 -> 420.756 | P23: =ROUND(IF(K23<=1.5,0,IF(K23<=3,B23*L23*(K23-1.5),IF(K23<=4.5,B23*L23*(3-1.5),IF(K23<=6,B23*L23*(3-1.5),0)))),2) -> 450.81 | Q23: =ROUND(IF(K23<=1.5,0,IF(K23<=3,0,IF(K23<=4.5,B23*L23*(K23-3),IF(K23<=6,B23*L23*(4.5-3),0)))),2) -> 375.68 | R23: =ROUND(IF(K23<=1.5,0,IF(K23<=3,0,IF(K23<=4.5,0,IF(K23<=6,B23*L23*(K23-4.5),0)))),2) -> 0 | S23: =ROUND(SUM(N23:R23),2) -> 1277.3 | T23: =ROUND(S23-U23,2) -> 525.94 | U23: =ROUND(IF(($AL$8+D23+$AL$9)>K23,0,S23-(B23*L23*(AL$8+D23+AL$9))),2) -> 751.36 | V23: =ROUND((B23*L23*(AL$8+D23+AL$9))-(PI()*((D23/2)^2)*B23),2) -> 348.91 | W23: =ROUND(IF(K23<=1.25,0,IF(K23<=1.5,K23*B23*2,0)),2) -> 0 | X23: =ROUND(IF(K23<=1.5,0,IF(K23>2.5,0,B23*K23*2)),2) -> 0 | Y23: =ROUND(IF(K23<=2.5,0,IF(K23<=4,B23*K23*2,0)),2) -> 0 | Z23: =ROUND(IF(K23<=4,0,B23*K23*2),2) -> 851.53 | AA23: =B23*L23 -> 300.54 | AB23: 2 | AC23: =AB23*5 -> 10 | AE23: =IF($D23=1.5,$B23,0) -> 100.18 | AF23: =IF(D23=1.5,1,0) -> 1 | AG23: =IF(G23-E23<=2.2,0,IF(G23-E23-2.2<0,0,G23-E23-2.2)) -> 2.33 | AH23: TN | AI23: =IF(AH23="A",B23*(L23+0.1),0) -> 0
