Workbook

Sheet 01. Memória de cálculo
A7: SECRETARIA MUNICIPAL DA INFRAESTRUTURA DO MUNICÍPIO DE SÃO CRISTÓVÃO-SE
A9: MEMÓRIA DE CÁLCULO - ANTIGA CASA DE CÂMARA E CADEIA DE SÃO CRISTÓVÃO
A11: Objeto: | B11: Restauração dos prédios da Câmara e Cadeia, localizada em São Cristóvão/SE. - revisão 06
A13: RESPONSÁVEL TÉCNICO:
A15: Eng.ª Civil Verônica Nascimento CREA-SE: Nº270847513-4
A17: Bancos de Dados: | D17: Encargos Sociais (NÃO DESONERADO) | E17: B.D.I
A18: SINAPI - 12/2024 - Sergipe | D18: Horista: 112,54% | E18: 0.2354
A19: ORSE - 12/2024 - Sergipe | D19: Mensalista: 70,11% | E19: 0.1402
G20: MEMÓRIA DE CÁLCULO
A21: Item | B21: Código | C21: Banco | D21: Descrição | E21: Und | F21: Quant. | G21: CÁLCULO | H21: REVISÃO/OBSERVAÇÕES
A22: 1 | D22: ADMINISTRAÇÃO DA OBRA | F22: 1
A23: 1.1 | D23: ADMINISTRAÇÃO LOCAL | F23: 1
A24: 1.1.1 | D24: Equipe Dirigente | F24: 1
A25: 1.1.1.1 | B25: 93568 | C25: SINAPI | D25: ENGENHEIRO CIVIL DE OBRA SENIOR COM ENCARGOS COMPLEMENTARES | E25: MES | F25: 0.8 | G25: Referente à permanência do profissional na obra
A26: 1.1.1.2 | B26: 93565 | C26: SINAPI | D26: ENGENHEIRO CIVIL DE OBRA JUNIOR COM ENCARGOS COMPLEMENTARES | E26: MES | F26: 3.2 | G26: Referente à permanência do profissional na obra
A27: 1.1.1.3 | B27: 100534 | C27: SINAPI | D27: TECNICO DE EDIFICACOES COM ENCARGOS COMPLEMENTARES | E27: MES | F27: 4 | G27: Referente à permanência do profissional na obra
A28: 1.1.1.4 | B28: 93572 | C28: SINAPI | D28: ENCARREGADO GERAL DE OBRAS COM ENCARGOS COMPLEMENTARES | E28: MES | F28: 8 | G28: Referente à permanência do profissional na obra
A29: 1.1.1.5 | B29: 93566 | C29: SINAPI | D29: AUXILIAR DE ESCRITORIO COM ENCARGOS COMPLEMENTARES | E29: MES | F29: 8 | G29: Referente à permanência do profissional na obra
A30: 1.1.1.6 | B30: 100289 | C30: SINAPI | D30: VIGIA DIURNO COM ENCARGOS COMPLEMENTARES | E30: H | F30: 3520 | G30: Referente à permanência do profissional na obra. Calculado para 01 diurno e 01 noturno
A31: 1.1.2 | D31: Manutenção do Canteiro | F31: 1
A32: 1.1.2.1 | B32: 1503 | C32: ORSE | D32: Extintor de água pressurizada capacidade 10 litros, instalado | E32: un | F32: 3 | G32: 03 unidades
A33: 1.1.2.2 | B33: 14 | C33: PMSC | D33: ART CREA (VALOR CREA/SE) | E33: un | F33: 1 | G33: Valor de 01 ART de execução de obra no CREA/SE
A34: 1.1.3 | D34: Equipamento de Apoio a Produção | F34: 1
A35: 1.1.3.1 | B35: 97063 | C35: SINAPI | D35: MONTAGEM E DESMONTAGEM DE ANDAIME MODULAR FACHADEIRO, COM PISO METÁLICO, PARA EDIFÍCIOS COM MULTIPLOS PAVIMENTOS (EXCLUSIVE ANDAIME E LIMPEZA). AF_03/2024 | E35: m² | F35: 315.85 | G35: Altura do ponto mais alto x soma das laterais que possuem calçada=(9,42) x (21,01+12,52)=315,85m2
A36: 1.1.3.2 | B36: 00020193 | C36: SINAPI | D36: LOCACAO DE ANDAIME METALICO TIPO FACHADEIRO, PECAS COM APROXIMADAMENTE 1,20 M DE LARGURA E 2,0 M DE ALTURA, INCLUINDO DIAGONAIS EM X, BARRAS DE LIGACAO, SAPATAS E DEMAIS ITENS NECESSARIOS A MONTAGEM (NAO INCLUI INSTALACAO) | E36: M2/MES | F36: 2526.82 | G36: Altura do ponto mais alto x soma das laterais que possuem calçada x número de meses alugados= (9,42) x (21,01+12,52) x 8= 2.526,82m2
A37: 2 | D37: PREDIO ANTIGO | F37: 1
A38: 2.1 | D38: REFORMA DA ANTIGA CASA DE CAMARA E CADEIA DE SÃO CRISTÓVÃO | F38: 1
A39: 2.1.1 | D39: SERVIÇOS PRELIMINARES | F39: 1
A40: 2.1.1.1 | D40: Mobilização de pessoal e Equipamentos | F40: 1
A41: 2.1.1.1.1 | B41: 88241 | C41: SINAPI | D41: AJUDANTE DE OPERAÇÃO EM GERAL COM ENCARGOS COMPLEMENTARES | E41: H | F41: 150 | G41: Referente à permanência do profissional na obra
A42: 2.1.1.1.2 | B42: 88240 | C42: SINAPI | D42: AJUDANTE DE ESTRUTURA METÁLICA COM ENCARGOS COMPLEMENTARES | E42: H | F42: 190 | G42: Referente à permanência do profissional na obra
A43: 2.1.1.1.3 | B43: 88316 | C43: SINAPI | D43: SERVENTE COM ENCARGOS COMPLEMENTARES | E43: H | F43: 190 | G43: Referente à permanência do profissional na obra
A44: 2.1.1.1.4 | B44: 88278 | C44: SINAPI | D44: MONTADOR DE ESTRUTURA METÁLICA COM ENCARGOS COMPLEMENTARES | E44: H | F44: 170 | G44: Referente à permanência do profissional na obra
A45: 2.1.1.1.5 | B45: 8748 | C45: ORSE | D45: Restauro - Mapeamento de danos após a remoção de repintura | E45: m² | F45: 276 | G45: Referente à permanência do profissional na obra
A46: 2.1.1.1.6 | B46: 11867 | C46: ORSE | D46: Arqueólogo Pleno (Nível Superior) | E46: mes | F46: 1.33 | G46: Referente à permanência do profissional na obra
A47: 2.1.1.2 | D47: Instalação do Canteiro e Limpeza Inicial | F47: 1
A48: 2.1.1.2.1 | B48: 6096 | C48: ORSE | D48: Ligação Predial de Água em Mureta de Concreto, Provisória ou Definitiva, com Fornecimento de Material, inclusive Mureta e Hidrômetro, Rede DN 50mm - Rev 03_10/2022 | E48: cj | F48: 1 | G48: 01 unidade conforme necessidade do canteiro de obras
A49: 2.1.1.2.2 | B49: 9416 | C49: ORSE | D49: Instalação provisória de energia elétrica, aerea, trifasica, em poste galvanizado, exclusive fornecimento do medidor | E49: un | F49: 1 | G49: 01 unidade conforme necessidade do canteiro de obras
A50: 2.1.1.2.3 | B50: 56 | C50: ORSE | D50: Barracão para escritório de obra porte pequeno s=25,41m2 com materiais novos | E50: un | F50: 1 | G50: 01 unidade conforme necessidade do canteiro de obras
A51: 2.1.1.2.4 | B51: 62 | C51: ORSE | D51: Barracão fechado porte pequeno para depósito de cimento e almoxarifado (s=38,72 m2) com materiais novos | E51: un | F51: 1 | G51: 01 unidade conforme necessidade do canteiro de obras
...

Sheet 02. Planilha Orçamentária
A7: SECRETARIA MUNICIPAL DA INFRAESTRUTURA DO MUNICÍPIO DE SÃO CRISTÓVÃO-SE
A9: PLANILHA ORÇAMENTÁRIA - ANTIGA CASA DE CÂMARA E CADEIA DE SÃO CRISTÓVÃO
A11: Objeto: | B11: Restauração dos prédios da Câmara e Cadeia, localizada em São Cristóvão/SE. - revisão 06
A13: RESPONSÁVEL TÉCNICO:
A15: Eng.ª Civil Verônica Nascimento CREA-SE: Nº270847513-4
A17: Bancos de Dados: | D17: Encargos Sociais (NÃO DESONERADO) | E17: B.D.I | H17: DATA: 02/05/2025- REVISÃO 06
A18: SINAPI - 12/2024 - Sergipe | D18: Horista: 112,54% | E18: 0.2354
A19: ORSE - 12/2024 - Sergipe | D19: Mensalista: 70,11% | E19: 0.1402
I21: Valor Final do Orçamento | K21: =J25 + J40 + J327 -> 1882253.1
I22: BDI | K22: 0.2354
K23: 0.1402
A24: Item | B24: Código | C24: Banco | D24: Descrição | E24: Und | F24: Quant. | G24: Custo. Unit | I24: Preço Unit. | J24: Preço Total | K24: Peso (%)
A25: 1 | D25: ADMINISTRAÇÃO DA OBRA | F25: 1 | J25: =J26 -> 390269.37 | K25: =J25 / K21 -> 0.2073416 | N25: X
A26: 1.1 | D26: ADMINISTRAÇÃO LOCAL | F26: 1 | J26: =J27+J34+J37 -> 390269.37 | K26: =J26 / K21 -> 0.2073416
A27: 1.1.1 | D27: Equipe Dirigente | F27: 1 | J27: =SUM(J28:J33) -> 298148.59 | K27: =J27 / K21 -> 0.15839984
A28: 1.1.1.1 | B28: 93568 | C28: SINAPI | D28: ENGENHEIRO CIVIL DE OBRA SENIOR COM ENCARGOS COMPLEMENTARES | E28: MES | F28: 0.8 | G28: 26311.95 | I28: =ROUND(G28*($K$22+1),2) -> 32505.78 | J28: =ROUND(I28*F28,2) -> 26004.62 | K28: =J28 / K21 -> 0.013815687
A29: 1.1.1.2 | B29: 93565 | C29: SINAPI | D29: ENGENHEIRO CIVIL DE OBRA JUNIOR COM ENCARGOS COMPLEMENTARES | E29: MES | F29: 3.2 | G29: 21076.28 | I29: =ROUND(G29*($K$22+1),2) -> 26037.64 | J29: =ROUND(I29*F29,2) -> 83320.45 | K29: =J29 / K21 -> 0.044266336
A30: 1.1.1.3 | B30: 100534 | C30: SINAPI | D30: TECNICO DE EDIFICACOES COM ENCARGOS COMPLEMENTARES | E30: MES | F30: 4 | G30: 3117.81 | I30: =ROUND(G30*($K$22+1),2) -> 3851.74 | J30: =ROUND(I30*F30,2) -> 15406.96 | K30: =J30 / K21 -> 0.0081853815
A31: 1.1.1.4 | B31: 93572 | C31: SINAPI | D31: ENCARREGADO GERAL DE OBRAS COM ENCARGOS COMPLEMENTARES | E31: MES | F31: 8 | G31: 5845.52 | I31: =ROUND(G31*($K$22+1),2) -> 7221.56 | J31: =ROUND(I31*F31,2) -> 57772.48 | K31: =J31 / K21 -> 0.030693257
A32: 1.1.1.5 | B32: 93566 | C32: SINAPI | D32: AUXILIAR DE ESCRITORIO COM ENCARGOS COMPLEMENTARES | E32: MES | F32: 8 | G32: 2829.13 | I32: =ROUND(G32*($K$22+1),2) -> 3495.11 | J32: =ROUND(I32*F32,2) -> 27960.88 | K32: =J32 / K21 -> 0.014855005
A33: 1.1.1.6 | B33: 100289 | C33: SINAPI | D33: VIGIA DIURNO COM ENCARGOS COMPLEMENTARES | E33: H | F33: 3520 | G33: 20.16 | I33: =ROUND(G33*($K$22+1),2) -> 24.91 | J33: =ROUND(I33*F33,2) -> 87683.2 | K33: =J33 / K21 -> 0.04658417
A34: 1.1.2 | D34: Manutenção do Canteiro | F34: 1 | J34: =SUM(J35:J36) -> 1126.88 | K34: =J34 / K21 -> 0.00059868674
A35: 1.1.2.1 | B35: 1503 | C35: ORSE | D35: Extintor de água pressurizada capacidade 10 litros, instalado | E35: un | F35: 3 | G35: 216.54 | I35: =ROUND(G35*($K$22+1),2) -> 267.51 | J35: =ROUND(I35*F35,2) -> 802.53 | K35: =J35 / K21 -> 0.00042636667
A36: 1.1.2.2 | B36: 14 | C36: PMSC | D36: ART CREA (Valor do CREA/SE) | E36: un | F36: 1 | G36: 262.55 | I36: =ROUND(G36*($K$22+1),2) -> 324.35 | J36: =ROUND(I36*F36,2) -> 324.35 | K36: =J36 / K21 -> 0.00017232007
A37: 1.1.3 | D37: Equipamento de Apoio a Produção | F37: 1 | J37: =SUM(J38:J39) -> 90993.9 | K37: =J37 / K21 -> 0.048343072
A38: 1.1.3.1 | B38: 97063 | C38: SINAPI | D38: MONTAGEM E DESMONTAGEM DE ANDAIME MODULAR FACHADEIRO, COM PISO METÁLICO, PARA EDIFÍCIOS COM MULTIPLOS PAVIMENTOS (EXCLUSIVE ANDAIME E LIMPEZA). AF_03/2024 | E38: m² | F38: 315.85 | G38: 17.17 | I38: =ROUND(G38*($K$22+1),2) -> 21.21 | J38: =ROUND(I38*F38,2) -> 6699.18 | K38: =J38 / K21 -> 0.0035591281
A39: 1.1.3.2 | B39: 00020193 | C39: SINAPI | D39: LOCACAO DE ANDAIME METALICO TIPO FACHADEIRO, PECAS COM APROXIMADAMENTE 1,20 M DE LARGURA E 2,0 M DE ALTURA, INCLUINDO DIAGONAIS EM X, BARRAS DE LIGACAO, SAPATAS E DEMAIS ITENS NECESSARIOS A MONTAGEM (NAO INCLUI INSTALACAO) | E39: M2/MES | F39: 2526.82 | G39: 27 | I39: =ROUND(G39*($K$22+1),2) -> 33.36 | J39: =ROUND(I39*F39,2) -> 84294.72 | K39: =J39 / K21 -> 0.044783944
A40: 2 | D40: PREDIO ANTIGO | F40: 1 | J40: =J41+J71+J80+J85+J93+J100+J113+J160+J165+J181+J188+J197+J258+J302+J310+J313 -> 1194975.6 | K40: =J40 / K21 -> 0.63486445 | N40: X
A41: 2.1 | D41: REFORMA DA ANTIGA CASA DE CAMARA E CADEIA DE SÃO CRISTÓVÃO | F41: 1 | J41: =J42 -> 184868.87 | K41: =J41 / K21 -> 0.098216795
A42: 2.1.1 | D42: SERVIÇOS PRELIMINARES | F42: 1 | J42: =J43+J50+J61+J65+J67 -> 184868.87 | K42: =J42 / K21 -> 0.098216795
A43: 2.1.1.1 | D43: Mobilização de pessoal e Equipamentos | F43: 1 | J43: =SUM(J44:J49) -> 47030.34 | K43: =J43 / K21 -> 0.024986193
A44: 2.1.1.1.1 | B44: 88241 | C44: SINAPI | D44: AJUDANTE DE OPERAÇÃO EM GERAL COM ENCARGOS COMPLEMENTARES | E44: H | F44: 150 | G44: 20.65 | I44: =ROUND(G44*($K$22+1),2) -> 25.51 | J44: =ROUND(I44*F44,2) -> 3826.5 | K44: =J44 / K21 -> 0.0020329359
A45: 2.1.1.1.2 | B45: 88240 | C45: SINAPI | D45: AJUDANTE DE ESTRUTURA METÁLICA COM ENCARGOS COMPLEMENTARES | E45: H | F45: 190 | G45: 19.41 | I45: =ROUND(G45*($K$22+1),2) -> 23.98 | J45: =ROUND(I45*F45,2) -> 4556.2 | K45: =J45 / K21 -> 0.0024206096
A46: 2.1.1.1.3 | B46: 88316 | C46: SINAPI | D46: SERVENTE COM ENCARGOS COMPLEMENTARES | E46: H | F46: 190 | G46: 20.42 | I46: =ROUND(G46*($K$22+1),2) -> 25.23 | J46: =ROUND(I46*F46,2) -> 4793.7 | K46: =J46 / K21 -> 0.0025467882
A47: 2.1.1.1.4 | B47: 88278 | C47: SINAPI | D47: MONTADOR DE ESTRUTURA METÁLICA COM ENCARGOS COMPLEMENTARES | E47: H | F47: 170 | G47: 23.33 | I47: =ROUND(G47*($K$22+1),2) -> 28.82 | J47: =ROUND(I47*F47,2) -> 4899.4 | K47: =J47 / K21 -> 0.0026029443
A48: 2.1.1.1.5 | B48: 8748 | C48: ORSE | D48: Restauro - Mapeamento de danos após a remoção de repintura | E48: m² | F48: 276 | G48: 8.78 | I48: =ROUND(G48*($K$22+1),2) -> 10.85 | J48: =ROUND(I48*F48,2) -> 2994.6 | K48: =J48 / K21 -> 0.0015909656
A49: 2.1.1.1.6 | B49: 11867 | C49: ORSE | D49: Arqueólogo Pleno (Nível Superior) | E49: MES | F49: 1.33 | G49: 15799.54 | I49: =ROUND(G49*($K$22+1),2) -> 19518.75 | J49: =ROUND(I49*F49,2) -> 25959.94 | K49: =J49 / K21 -> 0.013791949
A50: 2.1.1.2 | D50: Instalação do Canteiro e Limpeza Inicial | F50: 1 | J50: =SUM(J51:J60) -> 91610.01 | K50: =J50 / K21 -> 0.048670398
A51: 2.1.1.2.1 | B51: 6096 | C51: ORSE | D51: Ligação Predial de Água em Mureta de Concreto, Provisória ou Definitiva, com Fornecimento de Material, inclusive Mureta e Hidrômetro, Rede DN 50mm - Rev 03_10/2022 | E51: UN | F51: 1 | G51: 555.95 | I51: =ROUND(G51*($K$22+1),2) -> 686.82 | J51: =ROUND(I51*F51,2) -> 686.82 | K51: =J51 / K21 -> 0.00036489247
A52: 2.1.1.2.2 | B52: 9416 | C52: ORSE | D52: Instalação provisória de energia elétrica, aerea, trifasica, em poste galvanizado, exclusive fornecimento do medidor | E52: un | F52: 1 | G52: 1665.53 | I52: =ROUND(G52*($K$22+1),2) -> 2057.6 | J52: =ROUND(I52*F52,2) -> 2057.6 | K52: =J52 / K21 -> 0.001093158
...

Sheet 03. Orçamento Sintético
A7: SECRETARIA MUNICIPAL DA INFRAESTRUTURA DO MUNICÍPIO DE SÃO CRISTÓVÃO-SE
A9: ORÇAMENTO SINTÉTICO - ANTIGA CASA DE CÂMARA E CADEIA DE SÃO CRISTÓVÃO
A11: Objeto: | B11: Restauração dos prédios da Câmara e Cadeia, localizada em São Cristóvão/SE. - revisão 06
A13: RESPONSÁVEL TÉCNICO:
A15: Eng.ª Civil Verônica Nascimento CREA-SE: Nº270847513-4
A17: Bancos de Dados: | D17: Encargos Sociais (NÃO DESONERADO) | E17: B.D.I | H17: DATA: 02/05/2025- REVISÃO 06
A18: SINAPI - 12/2024 - Sergipe | D18: Horista: 112,54% | E18: 0.2354
A19: ORSE - 12/2024 - Sergipe | D19: Mensalista: 70,11% | E19: 0.1402
A21: Item | D21: Descrição | H21: Quant. | I21: Total | J21: Peso (%)
A22: 1 | D22: ADMINISTRAÇÃO DA OBRA | H22: 1 | I22: ='02. Planilha Orçamentária'!J25 -> 390269.37 | J22: 0.17567823 | K22: X
A24: 1.1 | D24: ADMINISTRAÇÃO LOCAL | H24: 1 | I24: ='02. Planilha Orçamentária'!J26 -> 390269.37 | J24: 0.17567823
A26: 2 | D26: PREDIO ANTIGO | H26: 1 | I26: ='02. Planilha Orçamentária'!J40 -> 1194975.6 | J26: 0.65872611 | K26: X
A28: 2.1 | D28: REFORMA DA ANTIGA CASA DE CAMARA E CADEIA DE SÃO CRISTÓVÃO | H28: 1 | I28: ='02. Planilha Orçamentária'!J41 -> 184868.87 | J28: 0.089540521
A30: 2.2 | D30: DEMOLIÇÕES E REMOÇÕES | H30: 1 | I30: ='02. Planilha Orçamentária'!J71 -> 3597.83 | J30: 0.0020270002
A32: 2.3 | D32: ELEVAÇÕES | H32: 1 | I32: ='02. Planilha Orçamentária'!J80 -> 128133.19 | J32: 0.072202948
A34: 2.4 | D34: LEVANTAMENTO DE ALVENARIA NOVA DENTRO DA CASA DE CAMARA E CADEIA | H34: 1 | I34: ='02. Planilha Orçamentária'!J85 -> 12243.33 | J34: 0.0068988592
A36: 2.5 | D36: PISOS | H36: 1 | I36: ='02. Planilha Orçamentária'!J93 -> 36033.14 | J36: 0.020303108
A38: 2.6 | D38: COBERTURA | H38: 1 | I38: ='02. Planilha Orçamentária'!J100 -> 61934.71 | J38: 0.034899244
A40: 2.7 | D40: COBERTURA PROVISÓRIA | H40: 1 | I40: ='02. Planilha Orçamentária'!J113 -> 144294.38 | J40: 0.081308254
A42: 2.8 | D42: FORROS | H42: 1 | I42: ='02. Planilha Orçamentária'!J160 -> 50144.11 | J42: 0.028252536
A44: 2.9 | D44: ESQUADRIAS | H44: 1 | I44: ='02. Planilha Orçamentária'!J165 -> 67002.37 | J44: 0.037756388
A46: 2.10 | D46: ACESSOS VERTICAIS | H46: 1 | I46: ='02. Planilha Orçamentária'!J181 -> 50483.07 | J46: 0.028447833
A48: 2.11 | D48: PINTURA | H48: 1 | I48: ='02. Planilha Orçamentária'!J188 -> 76829.59 | J48: 0.043291719
A50: 2.12 | D50: INSTALAÇÕES ELÉTRICAS | H50: 1 | I50: ='02. Planilha Orçamentária'!J197 -> 162848.51 | J50: 0.091766617
A52: 2.13 | D52: CABEAMENTO ESTRUTURADO (VOZ E DADOS) | H52: 1 | I52: ='02. Planilha Orçamentária'!J258 -> 157202.38 | J52: 0.088584178
A54: 2.14 | D54: COMBATE A INCENDIO | H54: 1 | I54: ='02. Planilha Orçamentária'!J302 -> 4106.39 | J54: 0.0023139875
A56: 2.15 | D56: INSTALAÇÃO DE GÁS | H56: 1 | I56: ='02. Planilha Orçamentária'!J310 -> 363.93 | J56: 0.00020507467
A58: 2.16 | D58: DIVERSOS | H58: 1 | I58: ='02. Planilha Orçamentária'!J313 -> 54889.81 | J58: 0.030927844
A60: 3 | D60: ANEXO A SER CONSTRUÍDO | H60: 1 | I60: ='02. Planilha Orçamentária'!J327 -> 297008.16 | J60: 0.16559566 | K60: X
A62: 3.1 | D62: SERVIÇOS PRELIMINARES | H62: 1 | I62: ='02. Planilha Orçamentária'!J328 -> 1009.45 | J62: 0.00056831133
A64: 3.2 | D64: MOVIMENTO DE TERRA | H64: 1 | I64: ='02. Planilha Orçamentária'!J330 -> 3468.38 | J64: 0.0019532247
A66: 3.3 | D66: FUNDAÇÃO E ESTRUTURA (ANEXO) | H66: 1 | I66: ='02. Planilha Orçamentária'!J339 -> 52374.97 | J66: 0.029508708
A68: 3.4 | D68: FUNDAÇÃO E ESTRUTURA (COPA) | H68: 1 | I68: ='02. Planilha Orçamentária'!J358 -> 14058.58 | J68: 0.0079217249
A70: 3.5 | D70: FUNDAÇÃO (MURO) | H70: 1 | I70: ='02. Planilha Orçamentária'!J374 -> 2490.88 | J70: 0.0014036277
A72: 3.6 | D72: ELEVAÇÃO DE ALVENARIA, CHAPISCO E REBOCO | H72: 1 | I72: ='02. Planilha Orçamentária'!J377 -> 78768.7 | J72: 0.044381452
A74: 3.7 | D74: PINTURA | H74: 1 | I74: ='02. Planilha Orçamentária'!J394 -> 9302.28 | J74: 0.0052404773
A76: 3.8 | D76: FORRO | H76: 1 | I76: ='02. Planilha Orçamentária'!J403 -> 6860.82 | J76: 0.0038658086
A78: 3.9 | D78: ESQUADRIAS | H78: 1 | I78: ='02. Planilha Orçamentária'!J407 -> 20726.36 | J78: 0.011679603
A80: 3.10 | D80: FACHADA DO ELEVADOR | H80: 1 | I80: ='02. Planilha Orçamentária'!J414 -> 15919.26 | J80: 0.0089707491
A82: 3.11 | D82: LOUÇAS E METAIS SANITÁRIOS | H82: 1 | I82: ='02. Planilha Orçamentária'!J417 -> 14692.16 | J82: 0.0082791292
...

Sheet 04. Cronograma
A7: SECRETARIA MUNICIPAL DA INFRAESTRUTURA DO MUNICÍPIO DE SÃO CRISTÓVÃO-SE
A9: CRONOGRAMA - ANTIGA CASA DE CÂMARA E CADEIA DE SÃO CRISTÓVÃO
A11: Objeto: | B11: Restauração dos prédios da Câmara e Cadeia, localizada em São Cristóvão/SE. - revisão 06
A13: RESPONSÁVEL TÉCNICO:
A15: Eng.ª Civil Verônica Nascimento CREA-SE: Nº270847513-4
A17: Bancos de Dados: | D17: Encargos Sociais (NÃO DESONERADO) | E17: B.D.I | H17: DATA: 02/05/2025- REVISÃO 06
A18: SINAPI - 12/2024 - Sergipe | D18: Horista: 112,54% | E18: 0.2354
A19: ORSE - 12/2024 - Sergipe | D19: Mensalista: 70,11% | E19: 0.1402
A21: Cronograma Físico e Financeiro
D22: 30 DIAS | E22: 60 DIAS | F22: 90 DIAS | G22: 120 DIAS | H22: 150 DIAS | I22: 180 DIAS | J22: 210 DIAS | K22: 240 DIAS
A23: Item | B23: Descrição | C23: Total Por Etapa (MESES) | D23: 1 | E23: =D23+1 -> 2 | F23: =E23+1 -> 3 | G23: =F23+1 -> 4 | H23: =G23+1 -> 5 | I23: =H23+1 -> 6 | J23: =I23+1 -> 7 | K23: =J23+1 -> 8
A24: ='03. Orçamento Sintético'!A22 -> 1 | B24: ='03. Orçamento Sintético'!D22 -> ADMINISTRAÇÃO DA OBRA | C24: ='03. Orçamento Sintético'!I22 -> 390269.37 | D24: =SUM(D26) -> 19396.388 | E24: =SUM(E26) -> 33407.058 | F24: =SUM(F26) -> 56589.059 | G24: =SUM(G26) -> 67516.601 | H24: =SUM(H26) -> 67516.601 | I24: =SUM(I26) -> 59711.214 | J24: =SUM(J26) -> 59711.214 | K24: =SUM(K26) -> 26421.236 | L24: x | M24: =SUM(D24:K24) -> 390269.37 | N24: =IF(M24=C24,,"erro") -> 0
C25: =SUM(D25:K25) -> 1 | D25: =D27 -> 0.0497 | E25: =E27 -> 0.0856 | F25: =F27 -> 0.145 | G25: =G27 -> 0.173 | H25: =H27 -> 0.173 | I25: =I27 -> 0.153 | J25: =J27 -> 0.153 | K25: =K27 -> 0.0677
A26: ='03. Orçamento Sintético'!A24 -> 1.1 | B26: ='03. Orçamento Sintético'!D24 -> ADMINISTRAÇÃO LOCAL | C26: ='03. Orçamento Sintético'!I24 -> 390269.37 | D26: =D27*$C26 -> 19396.388 | E26: =E27*$C26 -> 33407.058 | F26: =F27*$C26 -> 56589.059 | G26: =G27*$C26 -> 67516.601 | H26: =H27*$C26 -> 67516.601 | I26: =I27*$C26 -> 59711.214 | J26: =J27*$C26 -> 59711.214 | K26: =K27*$C26 -> 26421.236 | M26: =SUM(D26:K26) -> 390269.37 | N26: =IF(M26=C26,,"erro") -> 0
C27: =SUM(D27:K27) -> 1 | D27: 0.0497 | E27: 0.0856 | F27: 0.145 | G27: 0.173 | H27: 0.173 | I27: 0.153 | J27: 0.153 | K27: 0.0677
A28: ='03. Orçamento Sintético'!A26 -> 2 | B28: ='03. Orçamento Sintético'!D26 -> PREDIO ANTIGO | C28: ='03. Orçamento Sintético'!I26 -> 1194975.6 | D28: =SUMIF($L$30:$L$61,"a",D30:D61) -> 329195.77 | E28: =SUMIF($L$30:$L$61,"a",E30:E61) -> 68921.582 | F28: =SUMIF($L$30:$L$61,"a",F30:F61) -> 222136.09 | G28: =SUMIF($L$30:$L$61,"a",G30:G61) -> 101518.32 | H28: =SUMIF($L$30:$L$61,"a",H30:H61) -> 154717.29 | I28: =SUMIF($L$30:$L$61,"a",I30:I61) -> 189403.38 | J28: =SUMIF($L$30:$L$61,"a",J30:J61) -> 123594.19 | K28: =SUMIF($L$30:$L$61,"a",K30:K61) -> 5488.981 | L28: x | M28: =SUM(D28:K28) -> 1194975.6 | N28: =IF(M28=C28,,"erro") -> 0
C29: =SUM(D29:K29) -> 1 | D29: =D28/$C$28 -> 0.27548326 | E29: =E28/$C$28 -> 0.057676141 | F29: =F28/$C$28 -> 0.18589174 | G29: =G28/$C$28 -> 0.084954303 | H29: =H28/$C$28 -> 0.12947318 | I29: =I28/$C$28 -> 0.15849979 | J29: =J28/$C$28 -> 0.10342821 | K29: =K28/$C$28 -> 0.0045933833
A30: ='03. Orçamento Sintético'!A28 -> 2.1 | B30: ='03. Orçamento Sintético'!D28 -> REFORMA DA ANTIGA CASA DE CAMARA E CADEIA DE SÃO CRISTÓVÃO | C30: ='03. Orçamento Sintético'!I28 -> 184868.87 | D30: =D31*$C30 -> 143809.49 | E30: =E31*$C30 -> 0 | F30: =F31*$C30 -> 0 | G30: =G31*$C30 -> 0 | H30: =H31*$C30 -> 20538.931 | I30: =I31*$C30 -> 0 | J30: =J31*$C30 -> 20520.445 | K30: =K31*$C30 -> 0 | L30: a | M30: =SUM(D30:K30) -> 184868.87 | N30: =IF(M30=C30,,"erro") -> 0
C31: =SUM(D31:K31) -> 1 | D31: 0.7779 | H31: 0.1111 | J31: 0.111
A32: ='03. Orçamento Sintético'!A30 -> 2.2 | B32: ='03. Orçamento Sintético'!D30 -> DEMOLIÇÕES E REMOÇÕES | C32: ='03. Orçamento Sintético'!I30 -> 3597.83 | D32: =D33*$C32 -> 3597.83 | E32: =E33*$C32 -> 0 | F32: =F33*$C32 -> 0 | G32: =G33*$C32 -> 0 | H32: =H33*$C32 -> 0 | I32: =I33*$C32 -> 0 | J32: =J33*$C32 -> 0 | K32: =K33*$C32 -> 0 | L32: a | M32: =SUM(D32:K32) -> 3597.83 | N32: =IF(M32=C32,,"erro") -> 0
C33: =SUM(D33:K33) -> 1 | D33: 1
A34: ='03. Orçamento Sintético'!A32 -> 2.3 | B34: ='03. Orçamento Sintético'!D32 -> ELEVAÇÕES | C34: ='03. Orçamento Sintético'!I32 -> 128133.19 | D34: =D35*$C34 -> 0 | E34: =E35*$C34 -> 0 | F34: =F35*$C34 -> 128133.19 | G34: =G35*$C34 -> 0 | H34: =H35*$C34 -> 0 | I34: =I35*$C34 -> 0 | J34: =J35*$C34 -> 0 | K34: =K35*$C34 -> 0 | L34: a | M34: =SUM(D34:K34) -> 128133.19 | N34: =IF(M34=C34,,"erro") -> 0
C35: =SUM(D35:K35) -> 1 | F35: 1 | R35: =R36*$C35 -> 0
A36: ='03. Orçamento Sintético'!A34 -> 2.4 | B36: ='03. Orçamento Sintético'!D34 -> LEVANTAMENTO DE ALVENARIA NOVA DENTRO DA CASA DE CAMARA E CADEIA | C36: ='03. Orçamento Sintético'!I34 -> 12243.33 | D36: =D37*$C36 -> 0 | E36: =E37*$C36 -> 4897.332 | F36: =F37*$C36 -> 7345.998 | G36: =G37*$C36 -> 0 | H36: =H37*$C36 -> 0 | I36: =I37*$C36 -> 0 | J36: =J37*$C36 -> 0 | K36: =K37*$C36 -> 0 | L36: a | M36: =SUM(D36:K36) -> 12243.33 | N36: =IF(M36=C36,,"erro") -> 0
C37: =SUM(D37:K37) -> 1 | E37: 0.4 | F37: 0.6
A38: ='03. Orçamento Sintético'!A36 -> 2.5 | B38: ='03. Orçamento Sintético'!D36 -> PISOS | C38: ='03. Orçamento Sintético'!I36 -> 36033.14 | D38: =D39*$C38 -> 0 | E38: =E39*$C38 -> 10809.942 | F38: =F39*$C38 -> 14413.256 | G38: =G39*$C38 -> 10809.942 | H38: =H39*$C38 -> 0 | I38: =I39*$C38 -> 0 | J38: =J39*$C38 -> 0 | K38: =K39*$C38 -> 0 | L38: a | M38: =SUM(D38:K38) -> 36033.14 | N38: =IF(M38=C38,,"erro") -> 0
C39: =SUM(D39:K39) -> 1 | E39: 0.3 | F39: 0.4 | G39: 0.3
A40: ='03. Orçamento Sintético'!A38 -> 2.6 | B40: ='03. Orçamento Sintético'!D38 -> COBERTURA | C40: ='03. Orçamento Sintético'!I38 -> 61934.71 | D40: =D41*$C40 -> 0 | E40: =E41*$C40 -> 0 | F40: =F41*$C40 -> 0 | G40: =G41*$C40 -> 0 | H40: =H41*$C40 -> 61934.71 | I40: =I41*$C40 -> 0 | J40: =J41*$C40 -> 0 | K40: =K41*$C40 -> 0 | L40: a | M40: =SUM(D40:K40) -> 61934.71 | N40: =IF(M40=C40,,"erro") -> 0
C41: =SUM(D41:K41) -> 1 | H41: 1
A42: ='03. Orçamento Sintético'!A40 -> 2.7 | B42: ='03. Orçamento Sintético'!D40 -> COBERTURA PROVISÓRIA | C42: ='03. Orçamento Sintético'!I40 -> 144294.38 | D42: =D43*$C42 -> 144294.38 | E42: =E43*$C42 -> 0 | F42: =F43*$C42 -> 0 | G42: =G43*$C42 -> 0 | H42: =H43*$C42 -> 0 | I42: =I43*$C42 -> 0 | J42: =J43*$C42 -> 0 | K42: =K43*$C42 -> 0 | L42: a | M42: =SUM(D42:K42) -> 144294.38 | N42: =IF(M42=C42,,"erro") -> 0
C43: =SUM(D43:K43) -> 1 | D43: 1
A44: ='03. Orçamento Sintético'!A42 -> 2.8 | B44: ='03. Orçamento Sintético'!D42 -> FORROS | C44: ='03. Orçamento Sintético'!I42 -> 50144.11 | D44: =D45*$C44 -> 0 | E44: =E45*$C44 -> 0 | F44: =F45*$C44 -> 0 | G44: =G45*$C44 -> 0 | H44: =H45*$C44 -> 0 | I44: =I45*$C44 -> 50144.11 | J44: =J45*$C44 -> 0 | K44: =K45*$C44 -> 0 | L44: a | M44: =SUM(D44:K44) -> 50144.11 | N44: =IF(M44=C44,,"erro") -> 0
C45: =SUM(D45:K45) -> 1 | I45: 1
A46: ='03. Orçamento Sintético'!A44 -> 2.9 | B46: ='03. Orçamento Sintético'!D44 -> ESQUADRIAS | C46: ='03. Orçamento Sintético'!I44 -> 67002.37 | D46: =D47*$C46 -> 0 | E46: =E47*$C46 -> 0 | F46: =F47*$C46 -> 0 | G46: =G47*$C46 -> 0 | H46: =H47*$C46 -> 0 | I46: =I47*$C46 -> 67002.37 | J46: =J47*$C46 -> 0 | K46: =K47*$C46 -> 0 | L46: a | M46: =SUM(D46:K46) -> 67002.37 | N46: =IF(M46=C46,,"erro") -> 0
C47: =SUM(D47:K47) -> 1 | I47: 1
A48: ='03. Orçamento Sintético'!A46 -> 2.10 | B48: ='03. Orçamento Sintético'!D46 -> ACESSOS VERTICAIS | C48: ='03. Orçamento Sintético'!I46 -> 50483.07 | D48: =D49*$C48 -> 0 | E48: =E49*$C48 -> 0 | F48: =F49*$C48 -> 0 | G48: =G49*$C48 -> 0 | H48: =H49*$C48 -> 0 | I48: =I49*$C48 -> 50483.07 | J48: =J49*$C48 -> 0 | K48: =K49*$C48 -> 0 | L48: a | M48: =SUM(D48:K48) -> 50483.07 | N48: =IF(M48=C48,,"erro") -> 0
C49: =SUM(D49:K49) -> 1 | I49: 1
A50: ='03. Orçamento Sintético'!A48 -> 2.11 | B50: ='03. Orçamento Sintético'!D48 -> PINTURA | C50: ='03. Orçamento Sintético'!I48 -> 76829.59 | D50: =D51*$C50 -> 0 | E50: =E51*$C50 -> 0 | F50: =F51*$C50 -> 0 | G50: =G51*$C50 -> 0 | H50: =H51*$C50 -> 0 | I50: =I51*$C50 -> 0 | J50: =J51*$C50 -> 76829.59 | K50: =K51*$C50 -> 0 | L50: a
C51: =SUM(D51:K51) -> 1 | J51: 1
A52: ='03. Orçamento Sintético'!A50 -> 2.12 | B52: ='03. Orçamento Sintético'!D50 -> INSTALAÇÕES ELÉTRICAS | C52: ='03. Orçamento Sintético'!I50 -> 162848.51 | D52: =D53*$C52 -> 16284.851 | E52: =E53*$C52 -> 16284.851 | F52: =F53*$C52 -> 32569.702 | G52: =G53*$C52 -> 32569.702 | H52: =H53*$C52 -> 32569.702 | I52: =I53*$C52 -> 16284.851 | J52: =J53*$C52 -> 16284.851 | K52: =K53*$C52 -> 0 | L52: a
...

Sheet 05. Composições
A7: SECRETARIA MUNICIPAL DA INFRAESTRUTURA DO MUNICÍPIO DE SÃO CRISTÓVÃO-SE
A9: COMPOSIÇÕES - ANTIGA CASA DE CÂMARA E CADEIA DE SÃO CRISTÓVÃO
A11: Objeto: | B11: Restauração dos prédios da Câmara e Cadeia, localizada em São Cristóvão/SE. - revisão 06
A13: RESPONSÁVEL TÉCNICO:
A15: Eng.ª Civil Verônica Nascimento CREA-SE: Nº270847513-4
A17: Bancos de Dados: | D17: Encargos Sociais (NÃO DESONERADO) | E17: B.D.I | H17: DATA: 02/05/2025- REVISÃO 06
A18: SINAPI - 12/2024 - Sergipe | D18: Horista: 112,54% | E18: 0.2354
A19: ORSE - 12/2024 - Sergipe | D19: Mensalista: 70,11% | E19: 0.1402
A20: 1.1.1.1 | B20: Código | C20: Banco | D20: Descrição | E20: Tipo | G20: Und | H20: Quant. | I20: Valor Unit | J20: Total
A21: Composição | B21: 93568 | C21: SINAPI | D21: ENGENHEIRO CIVIL DE OBRA SENIOR COM ENCARGOS COMPLEMENTARES | E21: SEDI - SERVIÇOS DIVERSOS | G21: MES | H21: 1 | I21: 26311.95 | J21: 26311.95
A22: Composição Auxiliar | B22: 95418 | C22: SINAPI | D22: CURSO DE CAPACITAÇÃO PARA ENGENHEIRO CIVIL DE OBRA SÊNIOR (ENCARGOS COMPLEMENTARES) - MENSALISTA | E22: SEDI - SERVIÇOS DIVERSOS | G22: MES | H22: 1 | I22: 325.18 | J22: 325.18
A23: Insumo | B23: 00040864 | C23: SINAPI | D23: SEGURO - MENSALISTA (COLETADO CAIXA - ENCARGOS COMPLEMENTARES) | E23: Material | G23: MES | H23: 1 | I23: 7.31 | J23: 7.31
A24: Insumo | B24: 00043498 | C24: SINAPI | D24: EPI - FAMILIA ENGENHEIRO CIVIL - MENSALISTA (ENCARGOS COMPLEMENTARES - COLETADO CAIXA) | E24: Material | G24: MES | H24: 1 | I24: 140.23 | J24: 140.23
A25: Insumo | B25: 00043474 | C25: SINAPI | D25: FERRAMENTAS - FAMILIA ENGENHEIRO CIVIL - MENSALISTA (ENCARGOS COMPLEMENTARES - COLETADO CAIXA) | E25: Material | G25: MES | H25: 1 | I25: 2.29 | J25: 2.29
A26: Insumo | B26: 00040814 | C26: SINAPI | D26: ENGENHEIRO CIVIL DE OBRA SENIOR (MENSALISTA) | E26: Mão de Obra | G26: MES | H26: 1 | I26: 25584.86 | J26: 25584.86
A27: Insumo | B27: 00040863 | C27: SINAPI | D27: EXAMES - MENSALISTA (COLETADO CAIXA - ENCARGOS COMPLEMENTARES) | E27: Material | G27: MES | H27: 1 | I27: 252.08 | J27: 252.08
E28: MO sem LS => | F28: 25910.04 | G28: LS => | H28: 0 | I28: MO com LS => | J28: 25910.04
E29: Valor do BDI => | F29: 6193.83 | H29: Valor com BDI => | J29: 32505.78
A31: 1.1.1.2 | B31: Código | C31: Banco | D31: Descrição | E31: Tipo | G31: Und | H31: Quant. | I31: Valor Unit | J31: Total
A32: Composição | B32: 93565 | C32: SINAPI | D32: ENGENHEIRO CIVIL DE OBRA JUNIOR COM ENCARGOS COMPLEMENTARES | E32: SEDI - SERVIÇOS DIVERSOS | G32: MES | H32: 1 | I32: 21076.28 | J32: 21076.28
A33: Composição Auxiliar | B33: 95415 | C33: SINAPI | D33: CURSO DE CAPACITAÇÃO PARA ENGENHEIRO CIVIL DE OBRA JÚNIOR (ENCARGOS COMPLEMENTARES) - MENSALISTA | E33: SEDI - SERVIÇOS DIVERSOS | G33: MES | H33: 1 | I33: 259.47 | J33: 259.47
A34: Insumo | B34: 00040811 | C34: SINAPI | D34: ENGENHEIRO CIVIL DE OBRA JUNIOR (MENSALISTA) | E34: Mão de Obra | G34: MES | H34: 1 | I34: 20414.9 | J34: 20414.9
A35: Insumo | B35: 00043498 | C35: SINAPI | D35: EPI - FAMILIA ENGENHEIRO CIVIL - MENSALISTA (ENCARGOS COMPLEMENTARES - COLETADO CAIXA) | E35: Material | G35: MES | H35: 1 | I35: 140.23 | J35: 140.23
A36: Insumo | B36: 00040863 | C36: SINAPI | D36: EXAMES - MENSALISTA (COLETADO CAIXA - ENCARGOS COMPLEMENTARES) | E36: Material | G36: MES | H36: 1 | I36: 252.08 | J36: 252.08
A37: Insumo | B37: 00043474 | C37: SINAPI | D37: FERRAMENTAS - FAMILIA ENGENHEIRO CIVIL - MENSALISTA (ENCARGOS COMPLEMENTARES - COLETADO CAIXA) | E37: Material | G37: MES | H37: 1 | I37: 2.29 | J37: 2.29
A38: Insumo | B38: 00040864 | C38: SINAPI | D38: SEGURO - MENSALISTA (COLETADO CAIXA - ENCARGOS COMPLEMENTARES) | E38: Material | G38: MES | H38: 1 | I38: 7.31 | J38: 7.31
E39: MO sem LS => | F39: 20674.37 | G39: LS => | H39: 0 | I39: MO com LS => | J39: 20674.37
E40: Valor do BDI => | F40: 4961.35 | H40: Valor com BDI => | J40: 26037.63
A42: 1.1.1.3 | B42: Código | C42: Banco | D42: Descrição | E42: Tipo | G42: Und | H42: Quant. | I42: Valor Unit | J42: Total
A43: Composição | B43: 100534 | C43: SINAPI | D43: TECNICO DE EDIFICACOES COM ENCARGOS COMPLEMENTARES | E43: SEDI - SERVIÇOS DIVERSOS | G43: MES | H43: 1 | I43: 3117.81 | J43: 3117.81
A44: Composição Auxiliar | B44: 100536 | C44: SINAPI | D44: CURSO DE CAPACITAÇÃO PARA TECNICO DE EDIFICACOES (ENCARGOS COMPLEMENTARES) - MENSALISTA | E44: SEDI - SERVIÇOS DIVERSOS | G44: MES | H44: 1 | I44: 41.17 | J44: 41.17
A45: Insumo | B45: 00040946 | C45: SINAPI | D45: TECNICO DE EDIFICACOES (MENSALISTA) | E45: Mão de Obra | G45: MES | H45: 1 | I45: 2658.32 | J45: 2658.32
A46: Insumo | B46: 00043494 | C46: SINAPI | D46: EPI - FAMILIA ALMOXARIFE - MENSALISTA (ENCARGOS COMPLEMENTARES - COLETADO CAIXA) | E46: Material | G46: MES | H46: 1 | I46: 148.04 | J46: 148.04
A47: Insumo | B47: 00040863 | C47: SINAPI | D47: EXAMES - MENSALISTA (COLETADO CAIXA - ENCARGOS COMPLEMENTARES) | E47: Material | G47: MES | H47: 1 | I47: 252.08 | J47: 252.08
A48: Insumo | B48: 00043470 | C48: SINAPI | D48: FERRAMENTAS - FAMILIA ALMOXARIFE - MENSALISTA (ENCARGOS COMPLEMENTARES - COLETADO CAIXA) | E48: Material | G48: MES | H48: 1 | I48: 10.89 | J48: 10.89
A49: Insumo | B49: 00040864 | C49: SINAPI | D49: SEGURO - MENSALISTA (COLETADO CAIXA - ENCARGOS COMPLEMENTARES) | E49: Material | G49: MES | H49: 1 | I49: 7.31 | J49: 7.31
E50: MO sem LS => | F50: 2699.49 | G50: LS => | H50: 0 | I50: MO com LS => | J50: 2699.49
E51: Valor do BDI => | F51: 733.93 | H51: Valor com BDI => | J51: 3851.74
A53: 1.1.1.4 | B53: Código | C53: Banco | D53: Descrição | E53: Tipo | G53: Und | H53: Quant. | I53: Valor Unit | J53: Total
A54: Composição | B54: 93572 | C54: SINAPI | D54: ENCARREGADO GERAL DE OBRAS COM ENCARGOS COMPLEMENTARES | E54: SEDI - SERVIÇOS DIVERSOS | G54: MES | H54: 1 | I54: 5845.52 | J54: 5845.52
...

Sheet 06. BDI Serviços
A7: SECRETARIA MUNICIPAL DA INFRAESTRUTURA DO MUNICÍPIO DE SÃO CRISTÓVÃO-SE
A9: COMPOSIÇÃO DO B.D.I - Serviços, Bonificação e Despesas Indiretas
A11: Objeto: | B11: Restauração dos prédios da Câmara e Cadeia, localizada em São Cristóvão/SE. - revisão 06
A13: RESPONSÁVEL TÉCNICO:
A15: Eng.ª Civil Verônica Nascimento CREA-SE: Nº270847513-4
A17: Bancos de Dados: | D17: Encargos Sociais (NÃO DESONERADO) | E17: B.D.I | H17: DATA: 02/05/2025- REVISÃO 06
A18: SINAPI - 12/2024 - Sergipe | D18: Horista: 112,54% | E18: 0.2354
A19: ORSE - 12/2024 - Sergipe | D19: Mensalista: 70,11% | E19: 0.1402
D21: ACÓRDÃO TCU - 2622/2013
D22: ITENS RELATIVOS A ADMINISTRAÇÃO DA OBRA
D23: AC - ADMINISTRAÇÃO CENTRAL | F23: 4
D24: D - DESPESAS FINANCEIRAS | F24: 1.23
D25: R - RISCOS | F25: 1.27
D26: S + G - SEGUROS E GARANTIAS | F26: 0.8
D27: SUBTOTAL | F27: 7.3
D29: LUCRO OPERACIONAL
D30: L - LUCRO OPERACIONAL | F30: 7.4
D31: SUBTOTAL | F31: 7.4
D33: TRIBUTOS
D34: I - PIS | F34: 0.65
D35: I - COFINS | F35: 3
D36: I - CPRB
D37: I - ISSQN | F37: 3
D38: SUBTOTAL | F38: 6.65
D40: TOTAL GERAL DO B.D.I. | F40: 0.2354
D42: METODOLOGIA DO CÁLCULO DO BDI

Sheet 07. BDI Equipamentos
A7: SECRETARIA MUNICIPAL DA INFRAESTRUTURA DO MUNICÍPIO DE SÃO CRISTÓVÃO-SE
A9: BDI EQUIPAMENTOS - ANTIGA CASA DE CÂMARA E CADEIA DE SÃO CRISTÓVÃO
A11: Objeto: | B11: Restauração dos prédios da Câmara e Cadeia, localizada em São Cristóvão/SE. - revisão 06
A13: RESPONSÁVEL TÉCNICO:
A15: Eng.ª Civil Verônica Nascimento CREA-SE: Nº270847513-4
A17: Bancos de Dados: | D17: Encargos Sociais (NÃO DESONERADO) | E17: B.D.I | H17: DATA: 02/05/2025- REVISÃO 06
A18: SINAPI - 12/2024 - Sergipe | D18: Horista: 112,54% | E18: 0.2354
A19: ORSE - 12/2024 - Sergipe | D19: Mensalista: 70,11% | F19: 0.1402 | G19: *
A21: DETALHAMENTO BDI - MERO FORNECIMENTO DE MATERIAIS E EQUIPAMENTOS
A22: ITEM | D22: DESCRIÇÃO | H22: PARCIAL | I22: ITEM FÓRMULA | J22: TOTAL
A23: 01 | D23: ADMINISTRAÇÃO CENTRAL | I23: AC | J23: 3.45
A24: 02 | D24: DESPESAS FINANCEIRAS | I24: DF | J24: 0.85
A25: 03 | D25: RISCO, SEGURO E GARANTIA | I25: R | J25: =0.48+0.85 -> 1.33
A26: 03.01 | D26: RISCO | J26: 0.85
A27: 03.02 | D27: SEGURO E GARANTIA | J27: 0.48
A28: 04 | D28: LUCRO | I28: L | J28: 3.96
A29: 05 | D29: IMPOSTOS E TAXAS | I29: I | J29: =SUM(H30:H32) -> 3.65
A30: 05.01 | D30: PIS | H30: 0.65
A31: 05.02 | D31: COFINS | H31: 3
A32: 05.03 | D32: ISS | H32: 0
A35: TOTAL | J35: =((((1+J23/100+J25/100)*(1+J24/100)*(1+J28/100))/(1-J29/100))-1)*100 -> 14.0168

Sheet 08. Encargos
A7: SECRETARIA MUNICIPAL DA INFRAESTRUTURA DO MUNICÍPIO DE SÃO CRISTÓVÃO-SE
A9: ENCARGOS SOCIAIS - ANTIGA CASA DE CÂMARA E CADEIA DE SÃO CRISTÓVÃO
A11: Objeto: | B11: Restauração dos prédios da Câmara e Cadeia, localizada em São Cristóvão/SE. - revisão 06
A13: RESPONSÁVEL TÉCNICO:
A15: Eng.ª Civil Verônica Nascimento CREA-SE: Nº270847513-4
A17: Bancos de Dados: | D17: Encargos Sociais (NÃO DESONERADO) | E17: B.D.I | H17: DATA: 02/05/2025- REVISÃO 06
A18: SINAPI - 12/2024 - Sergipe | D18: Horista: 112,54% | E18: 0.2354
A19: ORSE - 12/2024 - Sergipe | D19: Mensalista: 70,11% | E19: 0.1402
A21: CÓDIGO | B21: DESCRIÇÃO | D21: HORISTA % | E21: MENSALISTA %
A22: GRUPO A
A23: A1 | B23: INSS | D23: 0.2 | E23: 0.2
A24: A2 | B24: SESI | D24: 0.015 | E24: 0.015
A25: A3 | B25: SENAI | D25: 0.01 | E25: 0.01
A26: A4 | B26: INCRA | D26: 0.002 | E26: 0.002
A27: A5 | B27: SEBRAE | D27: 0.006 | E27: 0.006
A28: A6 | B28: Salário Educação | D28: 0.025 | E28: 0.025
A29: A7 | B29: Seguro Contra Acidentes de Trabalho | D29: 0.03 | E29: 0.03
A30: A8 | B30: FGTS | D30: 0.08 | E30: 0.08
A31: A9 | B31: SECONCI | D31: 0 | E31: 0
A32: A | B32: Total | D32: =SUM(D23:D31) -> 0.368 | E32: =SUM(E23:E31) -> 0.368
A33: GRUPO B
A34: B1 | B34: Repouso Semanal Remunerado | D34: 0.1787 | E34: Não incide
A35: B2 | B35: Feriados | D35: 0.0393 | E35: Não incide
A36: B3 | B36: Auxílio - Enfermidade | D36: 0.0085 | E36: 0.0064
A37: B4 | B37: 13º Salário | D37: 0.1098 | E37: 0.0833
A38: B5 | B38: Licença Paternidade | D38: 0.0006 | E38: 0.0004
A39: B6 | B39: Faltas Justificadas | D39: 0.0073 | E39: 0.0056
A40: B7 | B40: Dias de Chuvas | D40: 0.0151 | E40: Não incide
A41: B8 | B41: Auxílio Acidente de Trabalho | D41: 0.001 | E41: 0.0008
A42: B9 | B42: Férias Gozadas | D42: 0.1137 | E42: 0.0864
A43: B10 | B43: Salário Maternidade | D43: 0.0004 | E43: 0.0003
A44: B | B44: Total | D44: =SUM(D34:D43) -> 0.4744 | E44: =SUM(E34:E43) -> 0.1832
A45: GRUPO C
A46: C1 | B46: Aviso Prévio Indenizado | D46: 0.0483 | E46: 0.0367
A47: C2 | B47: Aviso Prévio Trabalhado | D47: 0.0011 | E47: 0.0009
A48: C3 | B48: Férias Indenizadas | D48: 0.0235 | E48: 0.0179
A49: C4 | B49: Depósito Rescisão Sem Justa Causa | D49: 0.0271 | E49: 0.0206
A50: C5 | B50: Indenização Adicional | D50: 0.0041 | E50: 0.0031
A51: C | B51: Total | D51: =SUM(D46:D50) -> 0.1041 | E51: =SUM(E46:E50) -> 0.0792
A52: GRUPO D
...

Sheet 09. Cotações
A7: SECRETARIA MUNICIPAL DA INFRAESTRUTURA DO MUNICÍPIO DE SÃO CRISTÓVÃO-SE
A9: COTAÇÕES - ANTIGA CASA DE CÂMARA E CADEIA DE SÃO CRISTÓVÃO
A11: Objeto: | B11: Restauração dos prédios da Câmara e Cadeia, localizada em São Cristóvão/SE. - revisão 06
A13: RESPONSÁVEL TÉCNICO:
A15: Eng.ª Civil Verônica Nascimento CREA-SE: Nº270847513-4
A17: Bancos de Dados: | D17: Encargos Sociais (NÃO DESONERADO) | E17: B.D.I | H17: DATA: 02/05/2025_ REVISÃO 06
A18: SINAPI - 12/2024 - Sergipe | D18: Horista: 112,54% | E18: 0.2354
A19: ORSE - 12/2024 - Sergipe | D19: Mensalista: 70,11% | E19: 0.1402
A20: MAPA DE COTAÇÃO - Câmara e Cadeia DE SÃO CRISTÓVÃO/SE
A21: PROJETO: Restauração dos prédios da Câmara e Cadeia, localizada em São Cristóvão/SE. | G21: DATA: 13/01/2025
A23: SERVIÇO | B23: CÓDIGO | C23: DISCRIMINAÇÃO | E23: IDENTIFICAÇÃO DOS FORNECEDORES | F23: ENDEREÇO ELETRONICO | G23: DATA DA PESQUISA | H23: CUSTO | I23: CUSTO
A24: REVEST | B24: 134-034 | C24: Porcelanato, 20 x 120 cm, Portobello Ecowood 2.0 Canela 20x120cm Nat. Ret ou similar, | D24: m2 | E24: Ferreira Costa | F24: https://www.ferreiracosta.com/produto/459682/porcelanato-tipo-a-20x120-cm-esmaltado-tavola-castano-externo-1,70m%C2%B2-biancogres | G24: 45671 | H24: 123.9 | I24: =H24 -> 123.9
E25: All Pisos | F25: Proposta Anexo | G25: 45673 | H25: 175 | I25: =H25 -> 175 | J25: similar
E26: Portobello | F26: Portobello | G26: 45673 | H26: =229.99*1.052 -> 241.94948 | I26: =H26 -> 241.94948 | J26: Incluso 5% de frete
A27: PREÇO ADOTADO MEDIANO | I27: =(I24+I25+I26)/3 -> 180.28316
A29: REVEST | B29: 134-033 | C29: porcelanato Concreto Cinza 60x120 Nat Ret ou similar, | D29: m2 | E29: Ferreira Costa | F29: https://www.ferreiracosta.com/produto/426291/porcelanato-60x120-cm-natural-timeless-1,43m%C2%B2-portobello | G29: 45671 | H29: 278.9 | I29: 278.9
E30: All Pisos | F30: Proposta Anexo | G30: 45673 | H30: 148 | I30: =H30 -> 148
E31: Portobello | F31: Portobello | G31: 45673 | H31: =229.99*1.05 -> 241.4895 | I31: =H31 -> 241.4895 | J31: Incluso 5% de frete
A32: PREÇO ADOTADO MEDIANO | I32: =(I29+I30+I31)/3 -> 222.7965
A34: logica | B34: 134-038 | C34: lampad led t15 | D34: und | E34: Akarin loja online | F34: loja online | G34: 45756 | H34: 24.89 | I34: =H34 -> 24.89
E35: Mercado livre | F35: lojaonline | G35: 45756 | H35: 19 | I35: =H35 -> 19
E36: Dimensional | F36: loja online | G36: 45756 | H36: 16 | I36: =H36 -> 16
A37: PREÇO ADOTADO MEDIANO | I37: =(I34+I35+I36)/3 -> 19.963333
A38: REVEST | B38: 134-028 | C38: kit de ventilação com 02 veniladores | D38: und | E38: Magazine luiza | F38: https://www.magazineluiza.com.br/sistema-kit-ventilacao-2-ventiladores-para-rack-19-intelbras | G38: 45756 | H38: =246.9+19.9 -> 266.8 | I38: =H38 -> 266.8
E39: Amazaon | G39: 45756 | H39: 166.99 | I39: =H39 -> 166.99
E40: Unicaserv | G40: 45756 | H40: =228.65+29.45 -> 258.1 | I40: =H40 -> 258.1
A41: PREÇO ADOTADO MEDIANO | I41: =(I38+I39+I40)/3 -> 230.63
