Workbook

Sheet QTD
A1: Município | B1: EI 2Anos | C1: EI 3Anos | D1: EI 4e5Anos | E1: FUND1 | F1: PROF EI | G1: PROF F1 | H1: COORD | J1: Rede dos Municípios Consorciados | K1: Quantidade Atual | L1: Reserva Técnica | M1: Quantidade Total
A2: Altamira do Paraná | B2: 22 | C2: 22 | D2: 81 | E2: 236 | F2: 16 | G2: 25 | H2: =ROUNDUP((F2+G2)*0.2,0) -> 9 | J2: Educação Infantil – Alunos | K2: =B26+C26+D26 -> 13302 | L2: =ROUNDUP(K2*L7,0) -> 1331 | M2: =K2+L2 -> 14633
A3: Araruna | B3: 121 | C3: 121 | D3: 366 | E3: 910 | F3: 54 | G3: 75 | H3: =ROUNDUP((F3+G3)*0.2,0) -> 26 | J3: Educação Infantil – Professores | K3: =F26 -> 1223 | L3: =ROUNDUP(K3*L7,0) -> 123 | M3: =K3+L3 -> 1346
A4: Barbosa Ferraz | B4: 47 | C4: 47 | D4: 175 | E4: 542 | F4: 24 | G4: 37 | H4: =ROUNDUP((F4+G4)*0.2,0) -> 13 | J4: Educação Fundamental Anos Iniciais – Alunos | K4: =E26 -> 19794 | L4: =ROUNDUP(K4*L7,0) -> 1980 | M4: =K4+L4 -> 21774
A5: Boa Esperança | B5: 35 | C5: 35 | D5: 100 | E5: 281 | F5: 12 | G5: 10 | H5: =ROUNDUP((F5+G5)*0.2,0) -> 5 | J5: Educação Fundamental Anos Iniciais – Professores | K5: =G26 -> 1712 | L5: =ROUNDUP(K5*L7,0) -> 172 | M5: =K5+L5 -> 1884
A6: Campina da Lagoa | B6: 140 | C6: 140 | D6: 350 | E6: 1030 | F6: 78 | G6: 74 | H6: =ROUNDUP((F6+G6)*0.2,0) -> 31
A7: Campo Mourão | B7: 714 | C7: 714 | D7: 2054 | E7: 5560 | F7: 364 | G7: 499 | H7: =ROUNDUP((F7+G7)*0.2,0) -> 173 | K7: Reserva | L7: 0.1
A8: Corumbataí do Sul | B8: 39 | C8: 39 | D8: 103 | E8: 232 | F8: 20 | G8: 28 | H8: =ROUNDUP((F8+G8)*0.2,0) -> 10
A9: Engenheiro Beltrão | B9: 135 | C9: 135 | D9: 288 | E9: 665 | F9: 117 | G9: 117 | H9: =ROUNDUP((F9+G9)*0.2,0) -> 47
A10: Farol | B10: 20 | C10: 20 | D10: 71 | E10: 209 | F10: 18 | G10: 25 | H10: =ROUNDUP((F10+G10)*0.2,0) -> 9
A11: Goiere | B11: 316 | C11: 316 | D11: 572 | E11: 1519 | F11: 55 | G11: 120 | H11: =ROUNDUP((F11+G11)*0.2,0) -> 35
A12: Iretama | B12: 75 | C12: 75 | D12: 295 | E12: 763 | F12: 31 | G12: 78 | H12: =ROUNDUP((F12+G12)*0.2,0) -> 22
A13: Janiópolis | B13: 59 | C13: 59 | D13: 89 | E13: 303 | F13: 20 | G13: 36 | H13: =ROUNDUP((F13+G13)*0.2,0) -> 12
A14: Juranda | B14: 66 | C14: 66 | D14: 182 | E14: 407 | F14: 21 | G14: 26 | H14: =ROUNDUP((F14+G14)*0.2,0) -> 10
A15: Luiziana | B15: 42 | C15: 42 | D15: 163 | E15: 433 | F15: 8 | G15: 10 | H15: =ROUNDUP((F15+G15)*0.2,0) -> 4
A16: Mamborê | B16: 120 | C16: 120 | D16: 320 | E16: 805 | F16: 58 | G16: 92 | H16: =ROUNDUP((F16+G16)*0.2,0) -> 30
A17: Moreira Sales | B17: 107 | C17: 107 | D17: 257 | E17: 709 | F17: 60 | G17: 160 | H17: =ROUNDUP((F17+G17)*0.2,0) -> 44
A18: Nova Cantu | B18: 88 | C18: 88 | D18: 223 | E18: 500 | F18: 32 | G18: 41 | H18: =ROUNDUP((F18+G18)*0.2,0) -> 15
A19: Peabiru | B19: 97 | C19: 97 | D19: 302 | E19: 817 | F19: 36 | G19: 33 | H19: =ROUNDUP((F19+G19)*0.2,0) -> 14
... A25: Ubiratã | B25: 228 | C25: 228 | D25: 541 | E25: 1363 | F25: 54 | G25: 67 | H25: =ROUNDUP((F25+G25)*0.2,0) -> 25
A26: TOTAL LEVTO | B26: =SUM(B2:B25) -> 2887 | C26: =SUM(C2:C25) -> 2887 | D26: =SUM(D2:D25) -> 7528 | E26: =SUM(E2:E25) -> 19794 | F26: =SUM(F2:F25) -> 1223 | G26: =SUM(G2:G25) -> 1712 | H26: =SUM(H2:H25) -> 597

Sheet MED
A1: ITEM | B1: DESCRIÇÃO | C1: QTD ALUNOS | D1: UNID | E1: VALOR UNITÁRIO | F1: VALOR TOTAL | I1: LEVTO MERCADO
A2: 1 | B2: Sistema de Ensino Estruturado | I2: ORC1 | J2: PNCP1 | K2: PNCP2
A3: 1.1 | B3: Educação Infantil – 2 a 5 Anos – Kit Aluno | C3: =ROUNDUP((QTD!$B$26+QTD!$C$26+QTD!$D$26)*(1+QTD!$L$7),0) -> 14633 | D3: UN | E3: =AVERAGE(I3:K3) -> 383.20333 | F3: =C3*E3 -> 5607414.4 | I3: 360 | J3: 391 | K3: 398.61
A4: 1.2 | B4: Educ Fundamental Anos Iniciais – Kit Aluno | C4: =ROUNDUP((QTD!$E$26)*(1+QTD!$L$7),0) -> 21774 | D4: UN | E4: =AVERAGE(I4:K4) -> 500.88 | F4: =C4*E4 -> 10906161 | I4: 470 | J4: 516.32 | K4: 516.32
A5: 2 | B5: Projeto Apoio e Reforço SAEB
A6: 2.1 | B6: Educ Fundamental Anos Iniciais – Kit Aluno | C6: =ROUNDUP((QTD!$E$26)*(1+QTD!$L$7),0) -> 21774 | D6: UN | E6: =AVERAGE(I6:K6) -> 344 | F6: =C6*E6 -> 7490256 | I6: =160*2 -> 320 | J6: 320 | K6: 392
A7: 2.2 | B7: Guia Recursos Anos Iniciais – Kit Professor | C7: =ROUNDUP((QTD!$G$26)*(1+QTD!$L$7),0) -> 1884 | D7: UN | E7: =AVERAGE(I7:K7) -> 398 | F7: =C7*E7 -> 749832 | I7: =185*2 -> 370 | J7: 370 | K7: 454
A8: 2.3 | B8: Diário do Professor Anos Iniciais | C8: =ROUNDUP((QTD!$G$26)*(1+QTD!$L$7),0) -> 1884 | D8: UN | E8: =AVERAGE(I8:K8) -> 30 | F8: =C8*E8 -> 56520 | I8: 30 | J8: 30
A9: 2.4 | B9: Livro do Coordenador Anos Iniciais | C9: =ROUNDUP((QTD!$H$26)*(1+QTD!$L$7),0) -> 657 | D9: UN | E9: =AVERAGE(I9:K9) -> 60 | F9: =C9*E9 -> 39420 | I9: 60 | J9: 60
A10: 3 | B10: Projeto Literário
A11: 3.1 | B11: Educação Infantil – 2 a 5 Anos – Kit Aluno | C11: =ROUNDUP((QTD!$B$26+QTD!$C$26+QTD!$D$26)*(1+QTD!$L$7),0) -> 14633 | D11: UN | E11: =AVERAGE(I11:K11) -> 430 | F11: =C11*E11 -> 6292190 | I11: 430 | J11: 430 | K11: 430
A12: 3.2 | B12: Educ Fundamental Anos Iniciais – Kit Aluno | C12: =ROUNDUP((QTD!$E$26)*(1+QTD!$L$7),0) -> 21774 | D12: UN | E12: =AVERAGE(I12:K12) -> 430 | F12: =C12*E12 -> 9362820 | I12: 430 | J12: 430 | K12: 430
A13: 4 | B13: Projeto Fluência Internacional
A14: 4.1 | B14: Educação Infantil – 3 a 5 Anos – Kit Aluno | C14: =ROUNDUP((QTD!$C$26+QTD!$D$26)*(1+QTD!$L$7),0) -> 11457 | D14: UN | E14: =AVERAGE(I14:K14) -> 180.1 | F14: =C14*E14 -> 2063405.7 | I14: 143 | J14: 265 | K14: 132.3
A15: 4.2 | B15: Educação Infantil – 3 a 5 Anos – Kit Professor | C15: =ROUNDUP((QTD!$F$26)*(1+QTD!$L$7),0) -> 1346 | D15: UN | E15: =AVERAGE(I15:K15) -> 270 | F15: =C15*E15 -> 363420 | I15: 270
A16: 4.3 | B16: Educação Infantil – 3 a 5 Anos – Kit Recursos | C16: =ROUNDUP((QTD!$F$26)*(1+QTD!$L$7),0) -> 1346 | D16: UN | E16: =AVERAGE(I16:K16) -> 610 | F16: =C16*E16 -> 821060 | I16: 610
A17: 4.4 | B17: Educ Fundamental Anos Iniciais – Kit Aluno | C17: =ROUNDUP((QTD!$E$26)*(1+QTD!$L$7),0) -> 21774 | D17: UN | E17: =AVERAGE(I17:K17) -> 184.86667 | F17: =C17*E17 -> 4025286.8 | I17: 157.3 | J17: 265 | K17: 132.3
A18: 4.5 | B18: Educ Fundamental Anos Iniciais – Kit Professor | C18: =ROUNDUP((QTD!$G$26)*(1+QTD!$L$7),0) -> 1884 | D18: UN | E18: =AVERAGE(I18:K18) -> 239.2 | F18: =C18*E18 -> 450652.8 | I18: 239.2
A19: 5 | B19: Projeto Educação Financeira
A20: 5.1 | B20: Educação Infantil – 2 a 5 Anos – Kit Aluno | C20: =ROUNDUP((QTD!$B$26+QTD!$C$26+QTD!$D$26)*(1+QTD!$L$7),0) -> 14633 | D20: UN | E20: =AVERAGE(I20:K20) -> 390.96667 | F20: =C20*E20 -> 5721015.2 | I20: 239.9 | J20: 658 | K20: 275
A21: 5.2 | B21: Educ Fundamental Anos Iniciais – Kit Aluno | C21: =ROUNDUP((QTD!$E$26)*(1+QTD!$L$7),0) -> 21774 | D21: UN | E21: =AVERAGE(I21:K21) -> 390.96667 | F21: =C21*E21 -> 8512908.2 | I21: 239.9 | J21: 658 | K21: 275
A22: 6 | B22: Projeto Espiritualidade
A23: 6.1 | B23: Educ Fundamental Anos Iniciais – Kit Aluno | C23: =ROUNDUP((QTD!$E$26)*(1+QTD!$L$7),0) -> 21774 | D23: UN | E23: =AVERAGE(I23:K23) -> 178.5 | F23: =C23*E23 -> 3886659 | I23: 178 | J23: 179
C25: VALOR TOTAL ESTIMADO | F25: =SUM(F2:F24) -> 66349021
