Workbook
Name CONCATENAR: CONCATENATE(#REF!," ",#REF!)
Name Cot.LP.Banco: #REF!
Name Cot.LP.Banco: #REF!
Name Cot.LP.Cot: #REF!
Name Cot.LP.Cot: #REF!
Name Cot.LP.Cotacao: #REF!
Name Cot.LP.Cotacao: #REF!
Name Cot.LP.Empresa: #REF!
Name Cot.LP.Empresa: #REF!
Name Cot.LP.Indice: #REF!
Name Cot.LP.Indice: #REF!
Name DescForms: #REF!
Name DescForms: #REF!
Name EMPRESAS: OFFSET(#REF!,1,0):OFFSET(#REF!,-1,0)
Name EMPRESAS: OFFSET(#REF!,1,0):OFFSET(#REF!,-1,0)
Name FiltroCot: #REF!
Name FiltroCot: #REF!
Name INDICES: OFFSET(#REF!,1,0):OFFSET(#REF!,-1,0)
Name INDICES: OFFSET(#REF!,1,0):OFFSET(#REF!,-1,0)
Name JR_PAGE_ANCHOR_0_1: encargos!$A$1
Name NCOMPOSICOES: 27
Name NCOTACOES: 19
Name NEMPRESAS: 33
Name NINDICES: 3
Name NRELATORIOS: COUNTA(#REF!)-2
Name NumerEmpresa: 33
Name NumerIndice: 3
Name Objeto: "Referência"
Name OQUE: #REF!
Name OQUE: #REF!
Name PLANOS: #REF!
Name PLANOS: #REF!
Name PLANOS.: #REF!
Name PLANOS.: #REF!
Name RelatoriosFontes: OFFSET(#REF!,1,0,NRELATORIOS)
Name RelatoriosFontes: OFFSET(#REF!,1,0,NRELATORIOS)

Sheet DADOS
A1: DADOS INICIAIS
A3: DADOS DO MUNICÍPIO
A4: Proponente/Tomador: | B4: PREFEITURA MUNICIPAL DE PORTO SEGURO | E4: PREENCHER CAMPOS AMARELOS
A5: Município/UF: | B5: PORTO SEGURO/BA
A7: DADOS DO EMPREENDIMENTO E ORÇAMENTO
A8: Nome/Objeto: | B8: Construção de Centro de Atenção Psicossocial Tipo I, no Município de PORTO SEGURO/BA
A9: Data-Base do Orçamento: | B9: SINAPI 02/2026
A10: Valor do BDI de Serviço (%): | B10: 0.2081
A11: BDI: | B11: =TRUNC(B10+1,4) -> 1.2081
A12: Valor do BDI de Insumo (%):
A13: BDI: | B13: =TRUNC(B12+1,4) -> 1
A15: RESPONSÁVEL PELO ORÇAMENTO
A16: Nome: | B16: Andressa Vasconcelos Porto
A17: Título: | B17: Engenheira Civil
A18: CREA/CAU: | B18: CREA/BA 052288016-9
A19: Orçafascio de elaboração:
A20: Data do Preenchimento: | B20: =TODAY()+1 -> 46323
A22: RESPONSÁVEL PELO TOMADOR (PREFEITO)
A23: Nome: | B23: Jânio Natal
A24: Cargo: | B24: Prefeito Municipal
A27: PROCESSO LICITATÓRIO
A29: LICITAÇÃO
A30: Nome da Empresa
A31: CNPJ:
A32: Nº do Contrato:
A35: ACOMPANHAMENTO DO EMPREENDIMENTO
A37: DADOS DA OBRA
A38: Data de Início da Obra:
A39: Data do Fechamento do BM:
A41: RESPONSÁVEL PELA FISCALIZAÇÃO
A42: Nome:
A43: Título:
A44: CREA/CAU:

Sheet ORÇAMENTO SINTÉTICO
D1: Obra | E1: Bancos | H1: B.D.I. Serv. | I1: B.D.I. Insumo
D2: =DADOS!B8 -> Construção de Centro de Atenção Psicossocial Tipo I, no Município de PORTO SEGURO/BA | E2: =DADOS!B9 -> SINAPI 02/2026 | H2: =DADOS!B10 -> 0.2081 | I2: =DADOS!C10 -> 0 | J2: Não Desonerado: embutido nos preços unitário dos insumos de mão de obra, de acordo com as bases. | L2: BDI SERVIÇO | M2: =DADOS!B11 -> 1.2081 | O2: BDI INSUMO | P2: =DADOS!E11 -> 0
A4: PLANILHA ORÇAMENTÁRIA SINTÉTICA
A6: Item | B6: Código | C6: Banco | D6: Descrição | E6: Und | F6: Quant. | G6: Valor Unit | H6: Valor Unit com BDI | I6: Total | J6: BDI Utilizado | L6: % ADM: | M6: =IFERROR(I7/(#REF!-I7),"0") -> 0
A7: 1 | D7: SERVIÇOS PRELIMINARES E INDIRETOS | H7: 277555.37 | I7: =SUM(I8,I19,I21,I23) -> 350200.58
A8: 1.1 | D8: CANTEIRO DE OBRAS | H8: 157390.76 | I8: =SUM(I9:I18) -> 157390.76
A9: 1.1.1 | B9: AV 0051 | C9: Próprio | D9: LOCAÇÃO DE CONTAINER TIPO DEPÓSITO - ÁREA MÍNIMA DE 13,80 M2 | E9: UNXMES | F9: 14 | G9: 1803.48 | H9: 2178.78 | I9: 30502.92 | J9: BDI SERVIÇO
A10: 1.1.2 | B10: AV 0052 | C10: Próprio | D10: BARRACÃO ABERTO PARA APOIO À PRODUÇÃO (CARPINTARIA, CENTRAL DE ARMAÇÃO, OFICINA, ETC.) C/ TESOURAS, TELHA 4MM, PISO EM CONCRETO DESEMPOLADO | E10: m² | F10: 15 | G10: 244.51 | H10: 295.39 | I10: 4430.85 | J10: BDI SERVIÇO
A11: 1.1.3 | B11: AV 0338 | C11: Próprio | D11: LOCAÇÃO DE CONTAINER - BANHEIRO COM CHUVEIROS E VASOS - 4,30 X 2,30M | E11: mês | F11: 14 | G11: 2469.53 | H11: 2983.43 | I11: 41768.02 | J11: BDI SERVIÇO
A12: 1.1.4 | B12: AV 0055 | C12: Próprio | D12: BARRACAO PARA REFEITORIO EM OBRAS EM COMPENSADO | E12: m² | F12: 13 | G12: 1207.21 | H12: 1458.43 | I12: 18959.59 | J12: BDI SERVIÇO
A13: 1.1.5 | B13: 95648 | C13: SINAPI | D13: KIT CAVALETE PARA MEDIÇÃO DE ÁGUA - ENTRADA INDIVIDUALIZADA, EM CPVC DN 28 MM (1"), PARA 1 MEDIDOR - FORNECIMENTO E INSTALAÇÃO (EXCLUSIVE HIDRÔMETRO). AF_03/2024 | E13: UN | F13: 1 | G13: 583.94 | H13: 705.45 | I13: 705.45 | J13: BDI SERVIÇO
A14: 1.1.6 | B14: 95673 | C14: SINAPI | D14: HIDRÔMETRO DN 1/2", 1,5 M3/H - FORNECIMENTO E INSTALAÇÃO. AF_03/2024 | E14: UN | F14: 1 | G14: 191.07 | H14: 230.83 | I14: 230.83 | J14: BDI SERVIÇO
A15: 1.1.7 | B15: 101509 | C15: SINAPI | D15: ENTRADA DE ENERGIA ELÉTRICA, AÉREA, TRIFÁSICA, COM CAIXA DE EMBUTIR, CABO DE 10 MM2 E DISJUNTOR DIN 50A (NÃO INCLUSO O POSTE DE CONCRETO). AF_12/2025 | E15: UN | F15: 1 | G15: 2159.79 | H15: 2609.24 | I15: 2609.24 | J15: BDI SERVIÇO
A16: 1.1.8 | B16: 103689 | C16: SINAPI | D16: FORNECIMENTO E INSTALAÇÃO DE PLACA DE OBRA COM CHAPA GALVANIZADA E ESTRUTURA DE MADEIRA. AF_03/2022_PS | E16: m² | F16: 6 | G16: 449.52 | H16: 543.06 | I16: 3258.36 | J16: BDI SERVIÇO
A17: 1.1.9 | B17: AV 0057 | C17: Próprio | D17: REMOÇÃO DE ENTULHO SEPARADO DE OBRA COM CAÇAMBA METÁLICA - TERRA, ALVENARIA, CONCRETO, ARGAMASSA, MADEIRA, PAPEL, PLÁSTICO OU METAL | E17: m³ | F17: 140 | G17: 103.67 | H17: 125.24 | I17: 17533.6 | J17: BDI SERVIÇO
A18: 1.1.10 | B18: 98459 | C18: SINAPI | D18: TAPUME COM TELHA METÁLICA. AF_03/2024 | E18: m² | F18: 325.6 | G18: 95.06 | H18: 114.84 | I18: 37391.9 | J18: BDI SERVIÇO
A19: 1.2 | D19: ADMINISTRAÇÃO LOCAL DA OBRA | F19: 1 | H19: 119974.98 | I19: =SUM(I20:I20) -> 173516.99
A20: 1.2.1 | B20: 100781 | C20: PROPRIO | D20: ADMINISTRAÇÃO LOCAL | E20: H | F20: 600 | G20: 239.38 | H20: =G20*M2 -> 289.19498 | I20: =H20*F20 -> 173516.99 | J20: BDI SERVIÇO | K20: =I20/J477 -> 0.058030099
A21: 1.3 | D21: MOBILIZAÇÃO E DESMOBILIZAÇÃO | F21: 1 | H21: 9589.87 | I21: 9589.87
A22: 1.3.1 | B22: AV 0058 | C22: Próprio | D22: MOBILIZACAO E DESMOBILIZACAO DE CANTEIRO | E22: UN | F22: 1 | G22: 7937.98 | H22: 9589.87 | I22: 9589.87 | J22: BDI SERVIÇO
A23: 1.4 | D23: EQUIPAMENTOS DE APOIO | F23: 1 | H23: 9702.96 | I23: 9702.96
A24: 1.4.1 | B24: AV 0060 | C24: Próprio | D24: LOCACAO DE ANDAIME METALICO TIPO FACHADEIRO, PECAS COM APROXIMADAMENTE 1,20 M DE LARGURA E 2,0 M DE ALTURA, INCLUINDO DIAGONAIS EM X, BARRAS DE LIGACAO, SAPATAS E DEMAIS ITENS NECESSARIOS A MONTAGEM, INCLUSIVE MONTAGEM E DESMONTAGEM | E24: M2xMÊS | F24: 273.4 | G24: 29.38 | H24: 35.49 | I24: 9702.96 | J24: BDI SERVIÇO
A25: 2 | D25: FUNDAÇÃO | H25: 237449.92 | I25: =SUM(I26:I41) -> 237449.92
A26: 2.1 | B26: 99059 | C26: SINAPI | D26: LOCAÇÃO CONVENCIONAL DE OBRA, UTILIZANDO GABARITO DE TÁBUAS CORRIDAS PONTALETADAS A CADA 2,00M - 2 UTILIZAÇÕES. AF_03/2024 | E26: M | F26: 97.5 | G26: 71.32 | H26: 86.16 | I26: 8400.6 | J26: BDI SERVIÇO
A27: 2.2 | B27: 90100 | C27: SINAPI | D27: ESCAVAÇÃO MECANIZADA DE VALA COM PROF. ATÉ 1,5 M (MÉDIA MONTANTE E JUSANTE/UMA COMPOSIÇÃO POR TRECHO), RETROESCAV. (0,26 M3), LARG. DE 0,8 M A 1,5 M, EM SOLO DE 1A CATEGORIA, EM LOCAIS COM ALTO NÍVEL DE INTERFERÊNCIA. AF_09/2024 | E27: m³ | F27: 208.39 | G27: 15.06 | H27: 18.19 | I27: 3790.61 | J27: BDI SERVIÇO
A28: 2.3 | B28: 93358 | C28: SINAPI | D28: ESCAVAÇÃO MANUAL DE VALA. AF_09/2024 | E28: m³ | F28: 52.1 | G28: 102.09 | H28: 123.33 | I28: 6425.49 | J28: BDI SERVIÇO
A29: 2.4 | B29: 100324 | C29: SINAPI | D29: LASTRO COM MATERIAL GRANULAR (PEDRA BRITADA N.1 E PEDRA BRITADA N.2), APLICADO EM PISOS OU LAJES SOBRE SOLO, ESPESSURA DE *10 CM*. AF_01/2024 | E29: m³ | F29: 60.58 | G29: 209.32 | H29: 252.87 | I29: 15318.86 | J29: BDI SERVIÇO
A30: 2.5 | B30: 96534 | C30: SINAPI | D30: FABRICAÇÃO, MONTAGEM E DESMONTAGEM DE FÔRMA PARA BLOCO DE COROAMENTO, EM MADEIRA SERRADA, E=25 MM, 4 UTILIZAÇÕES. AF_01/2024 | E30: m² | F30: 403.5 | G30: 93.57 | H30: 113.04 | I30: 45611.64 | J30: BDI SERVIÇO
A31: 2.6 | B31: 96543 | C31: SINAPI | D31: ARMAÇÃO DE BLOCO UTILIZANDO AÇO CA-60 DE 5 MM - MONTAGEM. AF_01/2024 | E31: KG | F31: 415.5 | G31: 21.31 | H31: 25.74 | I31: 10694.97 | J31: BDI SERVIÇO
A32: 2.7 | B32: 96544 | C32: SINAPI | D32: ARMAÇÃO DE BLOCO UTILIZANDO AÇO CA-50 DE 6,3 MM - MONTAGEM. AF_01/2024 | E32: KG | F32: 4.4 | G32: 18.56 | H32: 22.42 | I32: 98.64 | J32: BDI SERVIÇO
A33: 2.8 | B33: 96545 | C33: SINAPI | D33: ARMAÇÃO DE BLOCO UTILIZANDO AÇO CA-50 DE 8 MM - MONTAGEM. AF_01/2024 | E33: KG | F33: 1092.4 | G33: 16.23 | H33: 19.6 | I33: 21411.04 | J33: BDI SERVIÇO
A34: 2.9 | B34: 96546 | C34: SINAPI | D34: ARMAÇÃO DE BLOCO UTILIZANDO AÇO CA-50 DE 10 MM - MONTAGEM. AF_01/2024 | E34: KG | F34: 787.4 | G34: 13.92 | H34: 16.81 | I34: 13236.19 | J34: BDI SERVIÇO
A35: 2.10 | B35: 104920 | C35: SINAPI | D35: ARMAÇÃO DE BLOCO, SAPATA ISOLADA, VIGA BALDRAME E SAPATA CORRIDA UTILIZANDO AÇO CA-50 DE 12,5 MM - MONTAGEM. AF_01/2024 | E35: KG | F35: 436.8 | G35: 10.44 | H35: 12.61 | I35: 5508.04 | J35: BDI SERVIÇO
A36: 2.11 | B36: 104921 | C36: SINAPI | D36: ARMAÇÃO DE BLOCO, SAPATA ISOLADA, VIGA BALDRAME E SAPATA CORRIDA UTILIZANDO AÇO CA-50 DE 16 MM - MONTAGEM. AF_01/2024 | E36: KG | F36: 207.1 | G36: 9.65 | H36: 11.65 | I36: 2412.71 | J36: BDI SERVIÇO
A37: 2.12 | B37: 96557 | C37: SINAPI | D37: CONCRETAGEM DE BLOCO DE COROAMENTO OU VIGA BALDRAME, FCK 30 MPA, COM USO DE BOMBA - LANÇAMENTO, ADENSAMENTO E ACABAMENTO. AF_01/2024 | E37: m³ | F37: 54.3 | G37: 836.56 | H37: 1010.64 | I37: 54877.75 | J37: BDI SERVIÇO
... A41: 2.16 | B41: AV 0062 | C41: Próprio | D41: CONTROLE TECNOLOGICO DE CONCRETOS | E41: m³ | F41: 54.3 | G41: 228.19 | H41: 275.67 | I41: 14968.88 | J41: BDI SERVIÇO
A42: 3 | D42: ESTRUTURA | H42: 335676.37 | I42: =SUM(I43,I50,I60,I71) -> 335676.37
A43: 3.1 | D43: PILARES | H43: 53869.96 | I43: =SUM(I44:I49) -> 53869.96
A44: 3.1.1 | B44: 92423 | C44: SINAPI | D44: MONTAGEM E DESMONTAGEM DE FÔRMA DE PILARES RETANGULARES E ESTRUTURAS SIMILARES, PÉ-DIREITO SIMPLES, EM CHAPA DE MADEIRA COMPENSADA RESINADA, 6 UTILIZAÇÕES. AF_09/2020 | E44: m² | F44: 231.1 | G44: 80.21 | H44: 96.9 | I44: 22393.59 | J44: BDI SERVIÇO
A45: 3.1.2 | B45: 92762 | C45: SINAPI | D45: ARMAÇÃO DE PILAR OU VIGA DE ESTRUTURA CONVENCIONAL DE CONCRETO ARMADO UTILIZANDO AÇO CA-50 DE 10,0 MM - MONTAGEM. AF_06/2022 | E45: KG | F45: 584.9 | G45: 10.32 | H45: 12.46 | I45: 7287.85 | J45: BDI SERVIÇO
...

Sheet PLQ
A1: LOGO DO MUNICIPIO | C1: Obra | E1: Bancos | H1: B.D.I. | J1: B.D.I. Insumo | L1: Encargos Sociais
C2: =DADOS!B8 -> Construção de Centro de Atenção Psicossocial Tipo I, no Município de PORTO SEGURO/BA | E2: =DADOS!B9 -> SINAPI 02/2026 | H2: =DADOS!B10 -> 0.2081 | J2: =DADOS!D10 -> 0 | L2: Não Desonerado: embutido nos preços unitário dos insumos de mão de obra, de acordo com as bases.
A4: MEMORIAL DE CÁLCULO
A6: ITEM | B6: CÓDIGO | C6: BANCO | D6: DESCRIÇÃO | E6: UNIDADE | F6: QTDE | G6: DADOS NUMÉRICOS | N6: MEMORIA DE CÁLCULO
A7: 1 | D7: ADMINISTRAÇÃO LOCAL
A8: 1.1 | F8: =ROUND(L12,2) -> 0 | G8: Quantidade | H8: Área | I8: Largura | J8: Comprimento | K8: Altura | L8: Porcentagem | M8: Total
M9: =ROUND(I9*J9*K9,2) -> 0
M10: =ROUND(I10*J10*K10,2) -> 0
M11: =ROUND(I11*J11*K11,2) -> 0
L12: =SUM(M9:M12) -> 0 | M12: =E8 -> 0
A15: =DADOS!B5 -> PORTO SEGURO/BA | K15: =DADOS!B20 -> 46323
A16: Local | K16: Data
A22: Responsável Técnico
A23: Nome: | C23: =DADOS!B16 -> Andressa Vasconcelos Porto
A24: Título: | C24: =DADOS!B17 -> Engenheira Civil
A25: CREA/CAU: | C25: =DADOS!B18 -> CREA/BA 052288016-9

Sheet ORÇAMENTO ANALÍTICO
C1: Obra | E1: Bancos | G1: B.D.I. | I1: Encargos Sociais
C2: =DADOS!B8 -> Construção de Centro de Atenção Psicossocial Tipo I, no Município de PORTO SEGURO/BA | E2: =DADOS!B9 -> SINAPI 02/2026 | G2: =DADOS!B10 -> 0.2081 | I2: ='ORÇAMENTO SINTÉTICO'!J2 -> Não Desonerado: embutido nos preços unitário dos insumos de mão de obra, de acordo com as bases.
A5: PLANILHA ORÇAMENTÁRIA ANALÍTICA
A7: 1 | D7: SERVIÇOS PRELIMINARES E INDIRETOS | J7: 277555.37
A8: 1.1 | D8: CANTEIRO DE OBRAS | J8: 157390.76
A9: 1.1.1 | B9: Código | C9: Banco | D9: Descrição | E9: Tipo | G9: Und | H9: Quant. | I9: Valor Unit | J9: Total
A10: Composição | B10: AV 0051 | C10: Próprio | D10: LOCAÇÃO DE CONTAINER TIPO DEPÓSITO - ÁREA MÍNIMA DE 13,80 M2 | E10: CANT - CANTEIRO DE OBRAS | G10: UNXMES | H10: 1 | I10: 1803.48 | J10: 1803.48
A11: Composição Auxiliar | B11: 88264 | C11: SINAPI | D11: ELETRICISTA COM ENCARGOS COMPLEMENTARES | E11: Livro SINAPI: Cálculos e Parâmetros | G11: H | H11: 0.99 | I11: 34.78 | J11: 34.43
A12: Composição Auxiliar | B12: 88316 | C12: SINAPI | D12: SERVENTE COM ENCARGOS COMPLEMENTARES | E12: Livro SINAPI: Cálculos e Parâmetros | G12: H | H12: 1.32 | I12: 25.81 | J12: 34.06
A13: Composição Auxiliar | B13: 88247 | C13: SINAPI | D13: AUXILIAR DE ELETRICISTA COM ENCARGOS COMPLEMENTARES | E13: Livro SINAPI: Cálculos e Parâmetros | G13: H | H13: 1.32 | I13: 27.11 | J13: 35.78
A14: Insumo | B14: 00010776 | C14: SINAPI | D14: LOCACAO DE CONTAINER 2,30 X 6,00 M, ALT. 2,50 M, PARA ESCRITORIO, SEM DIVISORIAS INTERNAS E SEM SANITARIO (NAO INCLUI MOBILIZACAO/DESMOBILIZACAO) | E14: Equipamento | G14: MES | H14: 1 | I14: 1699.21 | J14: 1699.21
E15: MO sem LS => | F15: 69.67 | G15: LS => | H15: 0 | I15: MO com LS => | J15: 69.67
E16: Valor do BDI => | F16: 375.3 | H16: Valor com BDI => | J16: 2178.78
A19: 1.1.2 | B19: Código | C19: Banco | D19: Descrição | E19: Tipo | G19: Und | H19: Quant. | I19: Valor Unit | J19: Total
A20: Composição | B20: AV 0052 | C20: Próprio | D20: BARRACÃO ABERTO PARA APOIO À PRODUÇÃO (CARPINTARIA, CENTRAL DE ARMAÇÃO, OFICINA, ETC.) C/ TESOURAS, TELHA 4MM, PISO EM CONCRETO DESEMPOLADO | E20: CANT - CANTEIRO DE OBRAS | G20: m² | H20: 1 | I20: 244.51 | J20: 244.51
A21: Composição Auxiliar | B21: 97083 | C21: SINAPI | D21: COMPACTAÇÃO MECÂNICA DE SOLO PARA EXECUÇÃO DE RADIER, PISO DE CONCRETO OU LAJE SOBRE SOLO, COM COMPACTADOR DE SOLOS A PERCUSSÃO. AF_09/2021 | E21: Radier, Piso de Concreto e Laje sobre Solo | G21: m² | H21: 1 | I21: 4.02 | J21: 4.02
A22: Composição Auxiliar | B22: 94207 | C22: SINAPI | D22: TELHAMENTO COM TELHA ONDULADA DE FIBROCIMENTO E = 6 MM, COM RECOBRIMENTO LATERAL DE 1/4 DE ONDA PARA TELHADO COM INCLINAÇÃO MAIOR QUE 10°, COM ATÉ 2 ÁGUAS, INCLUSO IÇAMENTO. AF_07/2019 | E22: Telhamento para Cobertura | G22: m² | H22: 1 | I22: 48.71 | J22: 48.71
A23: Composição Auxiliar | B23: 100382 | C23: SINAPI | D23: FABRICAÇÃO E INSTALAÇÃO DE PONTALETES DE MADEIRA NÃO APARELHADA PARA TELHADOS COM ATÉ 2 ÁGUAS E COM TELHA ONDULADA DE FIBROCIMENTO, ALUMÍNIO OU PLÁSTICA EM EDIFÍCIO RESIDENCIAL TÉRREO/SOBRADO, INCLUSO TRANSPORTE VERTICAL. AF_10/2025 | E23: Estrutura e Trama para Cobertura | G23: m² | H23: 1 | I23: 24.85 | J23: 24.85
A24: Composição Auxiliar | B24: 92562 | C24: SINAPI | D24: FABRICAÇÃO E INSTALAÇÃO DE TESOURA INTEIRA EM MADEIRA NÃO APARELHADA, VÃO DE 10 M, PARA TELHA ONDULADA DE FIBROCIMENTO, METÁLICA, PLÁSTICA OU TERMOACÚSTICA, INCLUSO IÇAMENTO. AF_10/2025 | E24: Estrutura e Trama para Cobertura | G24: UN | H24: 0.03 | I24: 2751.39 | J24: 82.54
A25: Composição Auxiliar | B25: AV490 | C25: Próprio | D25: (Cópia SINAPI 101747) PISO EM CONCRETO 20 MPA PREPARO MECÂNICO, ESPESSURA 7CM. AF_09/2020 | E25: ASTU - ASSENTAMENTO DE TUBOS E PECAS | G25: m² | H25: 1 | I25: 84.39 | J25: 84.39
E26: MO sem LS => | F26: 46.71 | G26: LS => | H26: 0 | I26: MO com LS => | J26: 46.71
E27: Valor do BDI => | F27: 50.88 | H27: Valor com BDI => | J27: 295.39
A30: 1.1.3 | B30: Código | C30: Banco | D30: Descrição | E30: Tipo | G30: Und | H30: Quant. | I30: Valor Unit | J30: Total
A31: Composição | B31: AV 0338 | C31: Próprio | D31: LOCAÇÃO DE CONTAINER - BANHEIRO COM CHUVEIROS E VASOS - 4,30 X 2,30M | E31: CANT - CANTEIRO DE OBRAS | G31: mês | H31: 1 | I31: 2469.53 | J31: 2469.53
A32: Insumo | B32: 00010777 | C32: SINAPI | D32: LOCACAO DE CONTAINER 2,30 X 4,30 M, ALT. 2,50 M, PARA SANITARIO, COM 3 BACIAS, 4 CHUVEIROS, 1 LAVATORIO E 1 MICTORIO (NAO INCLUI MOBILIZACAO/DESMOBILIZACAO) | E32: Equipamento | G32: MES | H32: 1 | I32: 2469.53 | J32: 2469.53
E33: MO sem LS => | F33: 0 | G33: LS => | H33: 0 | I33: MO com LS => | J33: 0
E34: Valor do BDI => | F34: 513.9 | H34: Valor com BDI => | J34: 2983.43
A37: 1.1.4 | B37: Código | C37: Banco | D37: Descrição | E37: Tipo | G37: Und | H37: Quant. | I37: Valor Unit | J37: Total
A38: Composição | B38: AV 0055 | C38: Próprio | D38: BARRACAO PARA REFEITORIO EM OBRAS EM COMPENSADO | E38: CANT - CANTEIRO DE OBRAS | G38: m² | H38: 1 | I38: 1207.21 | J38: 1207.21
A39: Composição Auxiliar | B39: 88239 | C39: SINAPI | D39: AJUDANTE DE CARPINTEIRO COM ENCARGOS COMPLEMENTARES | E39: Livro SINAPI: Cálculos e Parâmetros | G39: H | H39: 12.075 | I39: 26.24 | J39: 316.84
A40: Composição Auxiliar | B40: 88262 | C40: SINAPI | D40: CARPINTEIRO DE FORMAS COM ENCARGOS COMPLEMENTARES | E40: Livro SINAPI: Cálculos e Parâmetros | G40: H | H40: 8.419 | I40: 33.68 | J40: 283.55
A41: Composição Auxiliar | B41: 88316 | C41: SINAPI | D41: SERVENTE COM ENCARGOS COMPLEMENTARES | E41: Livro SINAPI: Cálculos e Parâmetros | G41: H | H41: 13.053 | I41: 25.81 | J41: 336.89
A42: Insumo | B42: 00004491 | C42: SINAPI | D42: PONTALETE *7,5 X 7,5* CM EM PINUS, MISTA OU EQUIVALENTE DA REGIAO - BRUTA | E42: Material | G42: M | H42: 10.12 | I42: 10.28 | J42: 104.0336
A43: Insumo | B43: 00002420 | C43: SINAPI | D43: DOBRADICA EM ACO/FERRO, 3" X 2 1/2", E= 1,9 A 2 MM, SEM ANEL, CROMADO OU ZINCADO, TAMPA BOLA, COM PARAFUSOS | E43: Material | G43: UN | H43: 0.48 | I43: 20.74 | J43: 9.9552
A44: Insumo | B44: 00007213 | C44: SINAPI | D44: TELHA DE FIBROCIMENTO ONDULADA E = 4 MM, DE 2,44 X 0,50 M (SEM AMIANTO) | E44: Material | G44: m² | H44: 0.84 | I44: 18.9 | J44: 15.876
A45: Insumo | B45: 00020205 | C45: SINAPI | D45: RIPA APARELHADA *1,5 X 5* CM, EM MACARANDUBA/MASSARANDUBA, ANGELIM OU EQUIVALENTE DA REGIAO | E45: Material | G45: M | H45: 4.949 | I45: 3.16 | J45: 15.63884
A46: Insumo | B46: 00043614 | C46: SINAPI | D46: TABUA NAO APARELHADA *2,5 X 15* CM, EM MACARANDUBA/MASSARANDUBA, ANGELIM OU EQUIVALENTE DA REGIAO - BRUTA | E46: Material | G46: M | H46: 6.26 | I46: 14.41 | J46: 90.2066
A47: Insumo | B47: 00039027 | C47: SINAPI | D47: PREGO DE ACO POLIDO COM CABECA 19 X 36 (3 1/4 X 9) | E47: Material | G47: KG | H47: 1.68 | I47: 16.3 | J47: 27.384
A48: Insumo | B48: 00005068 | C48: SINAPI | D48: PREGO DE ACO POLIDO COM CABECA 17 X 21 (2 X 11) | E48: Material | G48: KG | H48: 0.421 | I48: 16.32 | J48: 6.87072
E49: MO sem LS => | F49: 627.49 | G49: LS => | H49: 0 | I49: MO com LS => | J49: 627.49
...

Sheet CURVA ABC
C1: Obra | D1: B.D.I. | G1: Encargos Sociais
C2: =DADOS!B8 -> Construção de Centro de Atenção Psicossocial Tipo I, no Município de PORTO SEGURO/BA | D2: =DADOS!B10 -> 0.2081 | G2: ='ORÇAMENTO ANALÍTICO'!I2 -> Não Desonerado: embutido nos preços unitário dos insumos de mão de obra, de acordo com as bases.
A6: CURVA ABC DE SERVIÇOS
A8: Código | B8: Banco | C8: Descrição | D8: Und | E8: Quant. | F8: Valor Unit | G8: Total | H8: Peso (%) | I8: Peso Acum. (%)
A9: 100781 | B9: PROPRIO | C9: ADMINISTRAÇÃO LOCAL | D9: H | E9: ='ORÇAMENTO SINTÉTICO'!F20 -> 600 | F9: ='ORÇAMENTO SINTÉTICO'!H20 -> 289.19498 | G9: =F9*E9 -> 173516.99 | H9: =G9/$G$380 -> 0.058030099 | I9: =H9 -> 0.058030099
A10: ='ORÇAMENTO SINTÉTICO'!B472 -> AV 0401 | B10: PROPRIO | C10: Sistema completo de energia solar fotovoltaica, potência 30,25Kwp, composta por 55 módulos - JA Solar 550W (placas coletoras), área necessária para a instalação do sistema 195,00m2, monitoramento em tempo real via APP, produção esperada de 3.723 Kwh/mês - 44.678Kwh/ano, conforme projeto, instalado (und=módulo) | D10: un | E10: 1 | F10: ='ORÇAMENTO SINTÉTICO'!H472 -> 150031.64 | G10: =F10*E10 -> 150031.64 | H10: =G10/$G$380 -> 0.050175786 | I10: =H10+I9 -> 0.10820589
A11: 103324 | B11: SINAPI | C11: ALVENARIA DE VEDAÇÃO DE BLOCOS CERÂMICOS FURADOS NA VERTICAL DE 14X19X39 CM (ESPESSURA 14 CM) E ARGAMASSA DE ASSENTAMENTO COM PREPARO EM BETONEIRA. AF_12/2021 | D11: m² | E11: 888.77 | F11: 110.25 | G11: 97986.89 | H11: =G11/$G$380 -> 0.032770215 | I11: =H11+I10 -> 0.1409761
A12: AV 0066 | B12: Próprio | C12: Laje pré-fabricada unidirecional em viga treliçada/lajota em EPS LT 16 (12 + 4), exceto capa de concreto | D12: m² | E12: 539.41 | F12: 139.94 | G12: 75485.03 | H12: =G12/$G$380 -> 0.025244812 | I12: =H12+I11 -> 0.16622091
A13: AV 0357 | B13: Próprio | C13: RESERVATÓRIO METÁLICO TIPO TAÇA 25000L H <= 10M DE ALTURA - FORNECIMENTO E INSTALAÇÃO | D13: UN | E13: 1 | F13: 69839.46 | G13: 69839.46 | H13: =G13/$G$380 -> 0.023356738 | I13: =H13+I12 -> 0.18957765
A14: 94995 | B14: SINAPI | C14: EXECUÇÃO DE PASSEIO (CALÇADA) OU PISO DE CONCRETO COM CONCRETO MOLDADO IN LOCO, USINADO, ACABAMENTO CONVENCIONAL, ESPESSURA 8 CM, ARMADO. AF_08/2022 | D14: m² | E14: 568.25 | F14: 117.69 | G14: 66877.34 | H14: =G14/$G$380 -> 0.022366102 | I14: =H14+I13 -> 0.21194375
A15: 104958 | B15: SINAPI | C15: MASSA ÚNICA, EM ARGAMASSA TRAÇO 1:2:8 PREPARO MECÂNICO, APLICADA MANUALMENTE EM PAREDES INTERNAS DE AMBIENTES COM ÁREA MAIOR QUE 10M², E = 10MM, COM TALISCAS. AF_03/2024 | D15: m² | E15: 1591.19 | F15: 36.91 | G15: 58730.82 | H15: =G15/$G$380 -> 0.019641623 | I15: =H15+I14 -> 0.23158538
A16: 96557 | B16: SINAPI | C16: CONCRETAGEM DE BLOCO DE COROAMENTO OU VIGA BALDRAME, FCK 30 MPA, COM USO DE BOMBA - LANÇAMENTO, ADENSAMENTO E ACABAMENTO. AF_01/2024 | D16: m³ | E16: 54.3 | F16: 1010.64 | G16: 54877.75 | H16: =G16/$G$380 -> 0.018353023 | I16: =H16+I15 -> 0.2499384
A17: AV 0006 | B17: Próprio | C17: CONCRETAGEM DE VIGAS E LAJES, FCK=30 MPA, PARA LAJES MACIÇAS OU NERVURADAS COM USO DE BOMBA - LANÇAMENTO, ADENSAMENTO E ACABAMENTO. | D17: m³ | E17: 57.9 | F17: 942 | G17: 54541.8 | H17: =G17/$G$380 -> 0.01824067 | I17: =H17+I16 -> 0.26817907
A18: 96114 | B18: SINAPI | C18: FORRO EM DRYWALL, PARA AMBIENTES COMERCIAIS, INCLUSIVE ESTRUTURA BIRECIONAL DE FIXAÇÃO. AF_08/2023_PS | D18: m² | E18: 502.19 | F18: 106.16 | G18: 53312.49 | H18: =G18/$G$380 -> 0.017829546 | I18: =H18+I17 -> 0.28600862
A19: AV 0347 | B19: Próprio | C19: PORTAO DE CORRER EM ALUMINIO PINTURA ELETROSTATICA BRANCA | D19: m² | E19: 44.5 | F19: 1150.37 | G19: 51191.46 | H19: =G19/$G$380 -> 0.0171202 | I19: =H19+I18 -> 0.30312882
A20: AV 0256 | B20: Próprio | C20: DUTO PARA EXAUSTAO DE AR/VENTILACAO,CHAVETADO EM CHAPA DE AC O GALVANIZADO,NAS DIVERSAS BITOLAS,CONFORME ABNT NBR 16401,I NCLUSIVE SUPORTES PINTADOS,GRELHAS,DIFUSORES EM ALUMINIO EXT RUDADO E DEMAIS ITENS NECESSARIOS.FORNECIMENTO E COLOCACAO | D20: KG | E20: 750 | F20: 64.07 | G20: 48052.5 | H20: =G20/$G$380 -> 0.016070423 | I20: =H20+I19 -> 0.31919924
A21: 101792 | B21: SINAPI | C21: ESCORAMENTO DE FÔRMAS DE LAJE EM MADEIRA NÃO APARELHADA, PÉ-DIREITO SIMPLES, INCLUSO TRAVAMENTO, 4 UTILIZAÇÕES. AF_09/2020 | D21: m³ | E21: 1914.91 | F21: 23.83 | G21: 45632.3 | H21: =G21/$G$380 -> 0.015261024 | I21: =H21+I20 -> 0.33446026
A22: 96534 | B22: SINAPI | C22: FABRICAÇÃO, MONTAGEM E DESMONTAGEM DE FÔRMA PARA BLOCO DE COROAMENTO, EM MADEIRA SERRADA, E=25 MM, 4 UTILIZAÇÕES. AF_01/2024 | D22: m² | E22: 403.5 | F22: 113.04 | G22: 45611.64 | H22: =G22/$G$380 -> 0.015254115 | I22: =H22+I21 -> 0.34971438
A23: AV 0096 | B23: Próprio | C23: PISO ALTA RESISTENCIA, COLORIDO, E=10MM, APLICADO COM JUNTAS, POLIDO ATÉ O ESMERIL 400 E ENCERADO | D23: m² | E23: 457.67 | F23: 96.28 | G23: 44064.46 | H23: =G23/$G$380 -> 0.014736684 | I23: =H23+I22 -> 0.36445106
A24: AV 0338 | B24: Próprio | C24: LOCAÇÃO DE CONTAINER - BANHEIRO COM CHUVEIROS E VASOS - 4,30 X 2,30M | D24: mês | E24: 14 | F24: 2983.43 | G24: 41768.02 | H24: =G24/$G$380 -> 0.013968675 | I24: =H24+I23 -> 0.37841974
A25: 94991 | B25: SINAPI | C25: EXECUÇÃO DE PASSEIO (CALÇADA) OU PISO DE CONCRETO COM CONCRETO MOLDADO IN LOCO, USINADO C20, ACABAMENTO CONVENCIONAL, NÃO ARMADO. AF_08/2022 | D25: m³ | E25: 40.45 | F25: 1020.32 | G25: 41271.94 | H25: =G25/$G$380 -> 0.013802768 | I25: =H25+I24 -> 0.3922225
A26: 98459 | B26: SINAPI | C26: TAPUME COM TELHA METÁLICA. AF_03/2024 | D26: m² | E26: 325.6 | F26: 114.84 | G26: 37391.9 | H26: =G26/$G$380 -> 0.012505148 | I26: =H26+I25 -> 0.40472765
A27: AV 0062 | B27: Próprio | C27: CONTROLE TECNOLOGICO DE CONCRETOS | D27: m³ | E27: 126.4 | F27: 275.67 | G27: 34844.68 | H27: =G27/$G$380 -> 0.01165327 | I27: =H27+I26 -> 0.41638092
A28: 92460 | B28: SINAPI | C28: MONTAGEM E DESMONTAGEM DE FÔRMA DE VIGA, ESCORAMENTO METÁLICO, PÉ-DIREITO SIMPLES, EM CHAPA DE MADEIRA RESINADA, 6 UTILIZAÇÕES. AF_09/2020 | D28: m² | E28: 205.1 | F28: 168.71 | G28: 34602.42 | H28: =G28/$G$380 -> 0.01157225 | I28: =H28+I27 -> 0.42795317
A29: 104611 | B29: SINAPI | C29: REVESTIMENTO CERÂMICO PARA PAREDES INTERNAS COM PLACAS TIPO ESMALTADA DE DIMENSÕES 60X60 CM APLICADAS NA ALTURA INTEIRA DAS PAREDES. AF_02/2023_PE | D29: m² | E29: 300.48 | F29: 107.4 | G29: 32271.55 | H29: =G29/$G$380 -> 0.010792726 | I29: =H29+I28 -> 0.4387459
A30: AV 0051 | B30: Próprio | C30: LOCAÇÃO DE CONTAINER TIPO DEPÓSITO - ÁREA MÍNIMA DE 13,80 M2 | D30: UNXMES | E30: 14 | F30: 2178.78 | G30: 30502.92 | H30: =G30/$G$380 -> 0.010201235 | I30: =H30+I29 -> 0.44894713
A31: 94229 | B31: SINAPI | C31: CALHA EM CHAPA DE AÇO GALVANIZADO NÚMERO 24, DESENVOLVIMENTO DE 100 CM, INCLUSO TRANSPORTE VERTICAL. AF_07/2019 | D31: M | E31: 154.4 | F31: 197.34 | G31: 30469.29 | H31: =G31/$G$380 -> 0.010189987 | I31: =H31+I30 -> 0.45913712
A32: 94207 | B32: SINAPI | C32: TELHAMENTO COM TELHA ONDULADA DE FIBROCIMENTO E = 6 MM, COM RECOBRIMENTO LATERAL DE 1/4 DE ONDA PARA TELHADO COM INCLINAÇÃO MAIOR QUE 10°, COM ATÉ 2 ÁGUAS, INCLUSO IÇAMENTO. AF_07/2019 | D32: m² | E32: 490.12 | F32: 58.84 | G32: 28838.66 | H32: =G32/$G$380 -> 0.0096446483 | I32: =H32+I31 -> 0.46878177
A33: 91835 | B33: SINAPI | C33: ELETRODUTO FLEXÍVEL CORRUGADO REFORÇADO, PVC, DN 25 MM (3/4"), PARA CIRCUITOS TERMINAIS, INSTALADO EM FORRO - FORNECIMENTO E INSTALAÇÃO. AF_03/2023 | D33: M | E33: 1118.7 | F33: 25.47 | G33: 28493.28 | H33: =G33/$G$380 -> 0.0095291412 | I33: =H33+I32 -> 0.47831091
A34: AV 0389 | B34: Próprio | C34: EXAUSTOR CENTRIFUGO SIROCO TRIFASICO MODELO EC4-TN | D34: UN | E34: 3 | F34: 9492.59 | G34: 28477.77 | H34: =G34/$G$380 -> 0.0095239541 | I34: =H34+I33 -> 0.48783486
A35: AV 0095 | B35: Próprio | C35: REGULARIZAÇÃO DE BASE PARA REVEST. DE PISOS COM ARG. TRAÇO T4, ESP. MÉDIA = 2,5CM | D35: m² | E35: 568.25 | F35: 49.32 | G35: 28026.09 | H35: =G35/$G$380 -> 0.0093728967 | I35: =H35+I34 -> 0.49720776
A36: AV 0375 | B36: Próprio | C36: QUADRO GERAL DE DISTRIBUIÇÃO, EMBUTIR, COM BARRAMENTO, EM CHAPA DE AÇO, MEDINDO:1800X1100X250CM, EXCLUSIVE DISJUNTORES | D36: UN | E36: 2 | F36: 12595.34 | G36: 25190.68 | H36: =G36/$G$380 -> 0.0084246372 | I36: =H36+I35 -> 0.5056324
A37: 91926 | B37: SINAPI | C37: CABO DE COBRE FLEXÍVEL ISOLADO, 2,5 MM², ANTI-CHAMA 450/750 V, PARA CIRCUITOS TERMINAIS - FORNECIMENTO E INSTALAÇÃO. AF_03/2023 | D37: M | E37: 4032.9 | F37: 6.23 | G37: 25124.96 | H37: =G37/$G$380 -> 0.0084026582 | I37: =H37+I36 -> 0.51403506
A38: 98557 | B38: SINAPI | C38: IMPERMEABILIZAÇÃO DE SUPERFÍCIE COM EMULSÃO ASFÁLTICA, 2 DEMÃOS. AF_09/2023 | D38: m² | E38: 403.5 | F38: 60.23 | G38: 24302.8 | H38: =G38/$G$380 -> 0.0081276993 | I38: =H38+I37 -> 0.52216275
A39: AV 0133 | B39: Próprio | C39: TUBO DE PVC RÍGIDO PXB COM VIROLA E ANEL DE BORRACHA, LINHA ESGOTO SÉRIE REFORÇADA ´R´, DN= 100 MM, INCLUSIVE CONEXÕES | D39: M | E39: 180.93 | F39: 131.59 | G39: 23808.57 | H39: =G39/$G$380 -> 0.0079624117 | I39: =H39+I38 -> 0.53012517
A40: 88495 | B40: SINAPI | C40: EMASSAMENTO COM MASSA LÁTEX, APLICAÇÃO EM PAREDE, UMA DEMÃO, LIXAMENTO MANUAL. AF_04/2023 | D40: m² | E40: 1442.83 | F40: 15.66 | G40: 22594.71 | H40: =G40/$G$380 -> 0.0075564548 | I40: =H40+I39 -> 0.53768162
A41: AV 0340 | B41: Próprio | C41: COBOGO DE CIMENTO (ELEMENTO VAZADO, CIRCULAR), 30 X 30 X 5CM, ASSENTADO COM ARGAMASSA DE CIMENTO E AREIA | D41: m² | E41: 76.23 | F41: 296.32 | G41: 22588.47 | H41: =G41/$G$380 -> 0.0075543679 | I41: =H41+I40 -> 0.54523599
A42: AV 0012 | B42: Próprio | C42: PAREDE COM SISTEMA EM CHAPAS DE GESSO RU PARA DRYWALL COM ISOLAMENTO ACUSTICO, USO INTERNO, COM DUAS FACES SIMPLES E ESTRUTURA METÁLICA COM GUIAS SIMPLES PARA PAREDES COM ÁREA LÍQUIDA MAIOR OU IGUAL A 6 M2, COM VÃOS. | D42: m² | E42: 91.66 | F42: 244.78 | G42: 22436.53 | H42: =G42/$G$380 -> 0.0075035539 | I42: =H42+I41 -> 0.55273954
A43: 92423 | B43: SINAPI | C43: MONTAGEM E DESMONTAGEM DE FÔRMA DE PILARES RETANGULARES E ESTRUTURAS SIMILARES, PÉ-DIREITO SIMPLES, EM CHAPA DE MADEIRA COMPENSADA RESINADA, 6 UTILIZAÇÕES. AF_09/2020 | D43: m² | E43: 231.1 | F43: 96.9 | G43: 22393.59 | H43: =G43/$G$380 -> 0.0074891933 | I43: =H43+I42 -> 0.56022874
A44: 87905 | B44: SINAPI | C44: CHAPISCO APLICADO EM ALVENARIA (COM PRESENÇA DE VÃOS) E ESTRUTURAS DE CONCRETO DE FACHADA, COM COLHER DE PEDREIRO. ARGAMASSA TRAÇO 1:3 COM PREPARO EM BETONEIRA 400L. AF_10/2022 | D44: m² | E44: 1777.54 | F44: 12.25 | G44: 21774.86 | H44: =G44/$G$380 -> 0.0072822685 | I44: =H44+I43 -> 0.567511
...

Sheet encargos
A3: COD | B3: DESCRIÇÃO | C3: HORISTA % | E3: MENSALISTA %
A5: A | B5: GRUPO A
A6: A1 | B6: INSS | C6: 20 | E6: 20
A7: A2 | B7: SESI | C7: 1.5 | E7: 1.5
A8: A3 | B8: SENAI | C8: 1 | E8: 1
A9: A4 | B9: INCRA | C9: 0.2 | E9: 0.2
A10: A5 | B10: SEBRAE | C10: 0.6 | E10: 0.6
A11: A6 | B11: Salário Educação | C11: 2.5 | E11: 2.5
A12: A7 | B12: Seguro Contra Acidentes de Trabalho | C12: 3 | E12: 3
A13: A8 | B13: FGTS | C13: 8 | E13: 8
A14: A9 | B14: SECONCI | C14: 0 | E14: 0
B15: TOTAL | C15: 36.8 | E15: 36.8
A17: B | B17: GRUPO B
A18: B1 | B18: Repouso Semanal Remunerado | C18: 17.86 | E18: 0
A19: B2 | B19: Feriados | C19: 3.94 | E19: 0
A20: B3 | B20: Auxílio - Enfermidade | C20: 0.89 | E20: 0.67
A21: B4 | B21: 13º Salário | C21: 11.08 | E21: 8.32
A22: B5 | B22: Licença Paternidade | C22: 0.07 | E22: 0.05
A23: B6 | B23: Faltas Justificadas | C23: 0.74 | E23: 0.56
A24: B7 | B24: Dias de Chuvas | C24: 2.28 | E24: 0
A25: B8 | B25: Auxílio Acidente de Trabalho | C25: 0.03 | E25: 0.02
A26: B9 | B26: Férias Gozadas | C26: 12.08 | E26: 9.07
A27: B10 | B27: Salário Maternidade | C27: 0.04 | E27: 0.03
B28: TOTAL | C28: 49.01 | E28: 18.72
A30: C | B30: GRUPO C
A31: C1 | B31: Aviso Prévio Indenizado | C31: 6.7 | E31: 5.04
A32: C2 | B32: Aviso Prévio Trabalhado | C32: 0.17 | E32: 0.13
A33: C3 | B33: Férias Indenizadas | C33: 2.99 | E33: 2.25
A34: C4 | B34: Depósito Rescisão Sem Justa Causa | C34: 2.86 | E34: 2.15
A35: C5 | B35: Indenização Adicional | C35: 0.56 | E35: 0.42
B36: TOTAL | C36: 13.28 | E36: 9.99
A38: D | B38: GRUPO D
A39: D1 | B39: Reincidência de Grupo A sobre 13º, conforme Lei nº 14.973/2024) | C39: 18.04 | E39: 6.89
A40: D2 | B40: Reincidência de Grupo A sobre Aviso Prévio Trabalhado e Reincidência do FGTS sobre Aviso Prévio Indenizado | C40: 0.6 | E40: 0.45
B41: TOTAL | C41: 18.64 | E41: 7.34
B43: A + B + C + D = | C43: 117.73 | E43: 72.85

Sheet BDI SERV.
E1: MIN | F1: MED | G1: MAX | N1: ="Quadro de Composição do BDI "&MID(CELL("nome.arquivo",N1),5+FIND("BDI (",CELL("nome.arquivo",N1)),1) -> #VALUE!
A2: Construção e Reforma de Edifícios | B2: AC | C2: =CONCATENATE(A2,"-",B2) -> Construção e Reforma de Edifícios-AC | E2: 0.03 | F2: 0.04 | G2: 0.055
A3: =A2 -> Construção e Reforma de Edifícios | B3: SG | C3: =CONCATENATE(A3,"-",B3) -> Construção e Reforma de Edifícios-SG | E3: 0.008 | F3: 0.008 | G3: 0.01
A4: =A3 -> Construção e Reforma de Edifícios | B4: R | C4: =CONCATENATE(A4,"-",B4) -> Construção e Reforma de Edifícios-R | E4: 0.0097 | F4: 0.0127 | G4: 0.0127 | I4: Nº TC/CR | K4: PROPONENTE / TOMADOR
A5: =A4 -> Construção e Reforma de Edifícios | B5: DF | C5: =CONCATENATE(A5,"-",B5) -> Construção e Reforma de Edifícios-DF | E5: 0.0059 | F5: 0.0123 | G5: 0.0139 | I5: 1039250-00 | K5: Prefeitura Municipal
I6: QUADRO DE COMPOSIÇÃO DE BDI
A7: =A5 -> Construção e Reforma de Edifícios | B7: L | C7: =CONCATENATE(A7,"-",B7) -> Construção e Reforma de Edifícios-L | E7: 0.0616 | F7: 0.074 | G7: 0.0896
A8: =A7 -> Construção e Reforma de Edifícios | B8: BDI PAD | C8: =CONCATENATE(A8,"-",B8) -> Construção e Reforma de Edifícios-BDI PAD | E8: 0.2034 | F8: 0.2212 | G8: 0.25 | I8: OBJETO
A9: Construção de Praças Urbanas, Rodovias, Ferrovias e recapeamento e pavimentação de vias urbanas | B9: AC | C9: =CONCATENATE(A9,"-",B9) -> Construção de Praças Urbanas, Rodovias, Ferrovias e recapeamento e pavimentação de vias urbanas-AC | E9: 0.038 | F9: 0.0401 | G9: 0.0467 | I9: PROJETO DE SINALIZAÇÃO E ADEQUAÇÃO DO CANTEIRO
A10: Construção de Praças Urbanas, Rodovias, Ferrovias e recapeamento e pavimentação de vias urbanas | B10: SG | C10: =CONCATENATE(A10,"-",B10) -> Construção de Praças Urbanas, Rodovias, Ferrovias e recapeamento e pavimentação de vias urbanas-SG | E10: 0.0032 | F10: 0.004 | G10: 0.0074
K11: Obra
K12: =DADOS!B8 -> Construção de Centro de Atenção Psicossocial Tipo I, no Município de PORTO SEGURO/BA
I14: QUADRO DE COMPOSIÇÃO DE BDI
A16: Construção de Praças Urbanas, Rodovias, Ferrovias e recapeamento e pavimentação de vias urbanas | B16: R | C16: =CONCATENATE(A16,"-",B16) -> Construção de Praças Urbanas, Rodovias, Ferrovias e recapeamento e pavimentação de vias urbanas-R | E16: 0.005 | F16: 0.0056 | G16: 0.0097 | I16: TIPO DE OBRA DO EMPREENDIMENTO | Q16: DESONERAÇÃO
A17: Construção de Praças Urbanas, Rodovias, Ferrovias e recapeamento e pavimentação de vias urbanas | B17: DF | C17: =CONCATENATE(A17,"-",B17) -> Construção de Praças Urbanas, Rodovias, Ferrovias e recapeamento e pavimentação de vias urbanas-DF | E17: 0.0102 | F17: 0.0111 | G17: 0.0121 | I17: Construção e Reforma de Edifícios | Q17: Não
A18: Construção de Praças Urbanas, Rodovias, Ferrovias e recapeamento e pavimentação de vias urbanas | B18: L | C18: =CONCATENATE(A18,"-",B18) -> Construção de Praças Urbanas, Rodovias, Ferrovias e recapeamento e pavimentação de vias urbanas-L | E18: 0.0664 | F18: 0.073 | G18: 0.0869
A19: Construção de Praças Urbanas, Rodovias, Ferrovias e recapeamento e pavimentação de vias urbanas | B19: BDI PAD | C19: =CONCATENATE(A19,"-",B19) -> Construção de Praças Urbanas, Rodovias, Ferrovias e recapeamento e pavimentação de vias urbanas-BDI PAD | E19: 0.196 | F19: 0.2097 | G19: 0.2423 | I19: Conforme legislação tributária municipal, definir estimativa de percentual da base de cálculo para o ISS: | Q19: 0.4
A20: Construção de Redes de Abastecimento de Água, Coleta de Esgoto | B20: AC | C20: =CONCATENATE(A20,"-",B20) -> Construção de Redes de Abastecimento de Água, Coleta de Esgoto-AC | E20: 0.0343 | F20: 0.0493 | G20: 0.0671 | I20: Sobre a base de cálculo, definir a respectiva alíquota do ISS (entre 2% e 5%): | Q20: 0.05
A21: =A20 -> Construção de Redes de Abastecimento de Água, Coleta de Esgoto | B21: SG | C21: =CONCATENATE(A21,"-",B21) -> Construção de Redes de Abastecimento de Água, Coleta de Esgoto-SG | E21: 0.0028 | F21: 0.0049 | G21: 0.0075
I22: Itens | M22: Siglas | N22: % Adotado | O22: Situação | P22: 1º Quartil | Q22: Médio | R22: 3º Quartil | T22: =IF(V33,"Para BDI fora do intervalo estatístico, deve ser apresentado Relatório Técnico Circunstanciado justificando a adoção do percentual de cada parcela do BDI.","")
A23: =A21 -> Construção de Redes de Abastecimento de Água, Coleta de Esgoto | B23: R | C23: =CONCATENATE(A23,"-",B23) -> Construção de Redes de Abastecimento de Água, Coleta de Esgoto-R | E23: 0.01 | F23: 0.0139 | G23: 0.0174
A24: =A23 -> Construção de Redes de Abastecimento de Água, Coleta de Esgoto | B24: DF | C24: =CONCATENATE(A24,"-",B24) -> Construção de Redes de Abastecimento de Água, Coleta de Esgoto-DF | E24: 0.0094 | F24: 0.0099 | G24: 0.0117 | I24: =IF($I$17=$A$70,"Encargos Sociais incidentes sobre a mão de obra","Administração Central") -> Administração Central | M24: =IF($I$17=$A$70,"K1","AC") -> AC | N24: 0.04 | O24: - | P24: =VLOOKUP(CONCATENATE(I$17,"-",M24),$C$2:$G$60,3,FALSE) -> 0.03 | Q24: =VLOOKUP(CONCATENATE(I$17,"-",M24),$C$2:$G$60,4,FALSE) -> 0.04 | R24: =VLOOKUP(CONCATENATE(I$17,"-",M24),$C$2:$G$60,5,FALSE) -> 0.055
A25: =A24 -> Construção de Redes de Abastecimento de Água, Coleta de Esgoto | B25: L | C25: =CONCATENATE(A25,"-",B25) -> Construção de Redes de Abastecimento de Água, Coleta de Esgoto-L | E25: 0.0674 | F25: 0.0804 | G25: 0.094 | I25: =IF($I$17=$A$70,"Administração Central da empresa ou consultoria - overhead","Seguro e Garantia") -> Seguro e Garantia | M25: =IF($I$17=$A$70,"K2","SG") -> SG | N25: 0.008 | O25: - | P25: =VLOOKUP(CONCATENATE(I$17,"-",M25),$C$2:$G$60,3,FALSE) -> 0.008 | Q25: =VLOOKUP(CONCATENATE(I$17,"-",M25),$C$2:$G$60,4,FALSE) -> 0.008 | R25: =VLOOKUP(CONCATENATE(I$17,"-",M25),$C$2:$G$60,5,FALSE) -> 0.01
A26: =A25 -> Construção de Redes de Abastecimento de Água, Coleta de Esgoto | B26: BDI PAD | C26: =CONCATENATE(A26,"-",B26) -> Construção de Redes de Abastecimento de Água, Coleta de Esgoto-BDI PAD | E26: 0.2076 | F26: 0.2418 | G26: 0.2644 | I26: =IF($I$17=$A$70,"","Risco") -> Risco | M26: =IF($I$17=$A$70,"","R") -> R | N26: 0.0127 | O26: - | P26: =VLOOKUP(CONCATENATE(I$17,"-",M26),$C$2:$G$60,3,FALSE) -> 0.0097 | Q26: =VLOOKUP(CONCATENATE(I$17,"-",M26),$C$2:$G$60,4,FALSE) -> 0.0127 | R26: =VLOOKUP(CONCATENATE(I$17,"-",M26),$C$2:$G$60,5,FALSE) -> 0.0127
A27: Construção e Manutenção de Estações e Redes de Distribuição de Energia Elétrica | B27: AC | C27: =CONCATENATE(A27,"-",B27) -> Construção e Manutenção de Estações e Redes de Distribuição de Energia Elétrica-AC | E27: 0.0529 | F27: 0.0592 | G27: 0.0793 | I27: =IF($I$17=$A$70,"","Despesas Financeiras") -> Despesas Financeiras | M27: =IF($I$17=$A$70,"","DF") -> DF | N27: 0.0123 | O27: - | P27: =VLOOKUP(CONCATENATE(I$17,"-",M27),$C$2:$G$60,3,FALSE) -> 0.0059 | Q27: =VLOOKUP(CONCATENATE(I$17,"-",M27),$C$2:$G$60,4,FALSE) -> 0.0123 | R27: =VLOOKUP(CONCATENATE(I$17,"-",M27),$C$2:$G$60,5,FALSE) -> 0.0139
A28: =A27 -> Construção e Manutenção de Estações e Redes de Distribuição de Energia Elétrica | B28: SG | C28: =CONCATENATE(A28,"-",B28) -> Construção e Manutenção de Estações e Redes de Distribuição de Energia Elétrica-SG | E28: 0.0025 | F28: 0.0051 | G28: 0.0056 | I28: =IF($I$17=$A$70,"Margem bruta da empresa de consultoria","Lucro") -> Lucro | M28: =IF($I$17=$A$70,"K3","L") -> L | N28: 0.0616 | O28: - | P28: =VLOOKUP(CONCATENATE(I$17,"-",M28),$C$2:$G$60,3,FALSE) -> 0.0616 | Q28: =VLOOKUP(CONCATENATE(I$17,"-",M28),$C$2:$G$60,4,FALSE) -> 0.074 | R28: =VLOOKUP(CONCATENATE(I$17,"-",M28),$C$2:$G$60,5,FALSE) -> 0.0896
A29: =A28 -> Construção e Manutenção de Estações e Redes de Distribuição de Energia Elétrica | B29: R | C29: =CONCATENATE(A29,"-",B29) -> Construção e Manutenção de Estações e Redes de Distribuição de Energia Elétrica-R | E29: 0.01 | F29: 0.0148 | G29: 0.0197 | I29: Tributos (impostos COFINS 3%, e PIS 0,65%) | M29: CP | N29: 0.0365 | O29: - | P29: 0.0365 | Q29: 0.0365 | R29: 0.0365
A30: =A29 -> Construção e Manutenção de Estações e Redes de Distribuição de Energia Elétrica | B30: DF | C30: =CONCATENATE(A30,"-",B30) -> Construção e Manutenção de Estações e Redes de Distribuição de Energia Elétrica-DF | E30: 0.0101 | F30: 0.0107 | G30: 0.0111 | I30: Tributos (ISS, variável de acordo com o município) | M30: ISS | N30: =IF($I$17<>$A$69,Q20*Q19,0) -> 0.02 | O30: - | P30: 0 | Q30: 0.025 | R30: 0.05
A31: =A30 -> Construção e Manutenção de Estações e Redes de Distribuição de Energia Elétrica | B31: L | C31: =CONCATENATE(A31,"-",B31) -> Construção e Manutenção de Estações e Redes de Distribuição de Energia Elétrica-L | E31: 0.08 | F31: 0.0831 | G31: 0.0951 | I31: Tributos (Contribuição Previdenciária sobre a Receita Bruta - 0% ou 4,5% - Desoneração) | M31: CPRB | N31: =IF(AND($I$17<>$A$69,Q17="Sim"),4.5%,0%) -> 0 | O31: =IF(AND(N31>=P31, N31<=R31), "OK", "Não OK") -> OK | P31: 0 | Q31: 0.045 | R31: 0.045
A32: =A31 -> Construção e Manutenção de Estações e Redes de Distribuição de Energia Elétrica | B32: BDI PAD | C32: =CONCATENATE(A32,"-",B32) -> Construção e Manutenção de Estações e Redes de Distribuição de Energia Elétrica-BDI PAD | E32: 0.24 | F32: 0.2584 | G32: 0.2786 | I32: BDI SEM desoneração (Fórmula Acórdão TCU) | M32: BDI PAD | N32: =IF($I$17=$A$69,0,ROUND((((1+N24+N25+N26)*(1+N27)*(1+N28)/(1-(N29+N30)))-1),4)) -> 0.2081 | O32: =IF(OR($I$17=$A$70,$I$17=$A$69,AND(N32>=P32, N32<=R32)), "OK", "FORA DO INTERVALO") -> OK | P32: =IF($I$17=$A$69,0,VLOOKUP(CONCATENATE($I$17,"-",$M32),$C$2:$G$60,3,FALSE)) -> 0.2034 | Q32: =IF($I$17=$A$69,0,VLOOKUP(CONCATENATE($I$17,"-",$M32),$C$2:$G$60,4,FALSE)) -> 0.2212 | R32: =IF($I$17=$A$69,0,VLOOKUP(CONCATENATE($I$17,"-",$M32),$C$2:$G$60,5,FALSE)) -> 0.25
A33: Obras Portuárias, Marítimas e Fluviais | B33: AC | C33: =CONCATENATE(A33,"-",B33) -> Obras Portuárias, Marítimas e Fluviais-AC | E33: 0.04 | F33: 0.0552 | G33: 0.0785 | I33: BDI COM desoneração | M33: BDI DES | N33: =IF($I$17=$A$69,0,ROUND((((1+N24+N25+N26)*(1+N27)*(1+N28)/(1-(N29+N30+N31)))-1),4)) -> 0.2081 | O33: =IF(Q17<>"Sim","",O32) | V33: =AND(COUNTA(N24:N29)=6,O32<>"ok",NOT(V35)) -> FALSE | W33: pedir anexo
A34: =A33 -> Obras Portuárias, Marítimas e Fluviais | B34: SG | C34: =CONCATENATE(A34,"-",B34) -> Obras Portuárias, Marítimas e Fluviais-SG | E34: 0.0081 | F34: 0.0122 | G34: 0.0199
A35: =A34 -> Obras Portuárias, Marítimas e Fluviais | B35: R | C35: =CONCATENATE(A35,"-",B35) -> Obras Portuárias, Marítimas e Fluviais-R | E35: 0.0146 | F35: 0.0232 | G35: 0.0316 | I35: =IF(V35,"X","") | J35: Anexo: Relatório Técnico Circunstanciado justificando a adoção do percentual de cada parcela do BDI. | V35: FALSE | W35: anexo apresentado
I37: Os valores de BDI foram calculados com o emprego da fórmula:
A38: =A35 -> Obras Portuárias, Marítimas e Fluviais | B38: DF | C38: =CONCATENATE(A38,"-",B38) -> Obras Portuárias, Marítimas e Fluviais-DF | E38: 0.0094 | F38: 0.0102 | G38: 0.0133 | L38: =IF(Q17="Sim","BDI.DES =","BDI.PAD =") -> BDI.PAD = | M38: =IF($I$17=$A$70,"(1+K1+K2)*(1+K3)","(1+AC + S + R + G)*(1 + DF)*(1+L)") -> (1+AC + S + R + G)*(1 + DF)*(1+L) | P38: - 1
A39: =A38 -> Obras Portuárias, Marítimas e Fluviais | B39: L | C39: =CONCATENATE(A39,"-",B39) -> Obras Portuárias, Marítimas e Fluviais-L | E39: 0.0714 | F39: 0.084 | G39: 0.1043 | M39: =IF(Q17="Sim","(1-CP-ISS-CRPB)","(1-CP-ISS)") -> (1-CP-ISS)
A40: =A39 -> Obras Portuárias, Marítimas e Fluviais | B40: BDI PAD | C40: =CONCATENATE(A40,"-",B40) -> Obras Portuárias, Marítimas e Fluviais-BDI PAD | E40: 0.228 | F40: 0.2748 | G40: 0.3095
I41: =CONCATENATE("Declaro para os devidos fins que, conforme legislação tributária municipal, a base de cálculo para ",I17,", é de ",Q19*100,"%, com a respectiva alíquota de ",Q20*100,"%.") -> Declaro para os devidos fins que, conforme legislação tributária municipal, a base de cálculo para Construção e Reforma de Edifícios, é de 40%, com a respectiva alíquota de 5%.
I43: =CONCATENATE("Declaro para os devidos fins que o regime de Contribuição Previdenciária sobre a Receita Bruta adotado para elaboração do orçamento foi ",IF(Q17="Sim","COM","SEM")," Desoneração, e que esta é a alternativa mais adequada para a Administração Pública.") -> Declaro para os devidos fins que o regime de Contribuição Previdenciária sobre a Receita Bruta adotado para elaboração do orçamento foi SEM Desoneração, e que esta é a alternativa mais adequada para a Administração Pública.
A44: Fornecimento de Materiais e Equipamentos (aquisição indireta - em conjunto com licitação de obras) | B44: AC | C44: =CONCATENATE(A44,"-",B44) -> Fornecimento de Materiais e Equipamentos (aquisição indireta - em conjunto com licitação de obras)-AC | E44: 0.015 | F44: 0.0345 | G44: 0.0449
...

Sheet COMPOSIÇÃO PRÓPRIA
C1: Obra | D1: B.D.I. | F1: Encargos Sociais
C2: =DADOS!B8 -> Construção de Centro de Atenção Psicossocial Tipo I, no Município de PORTO SEGURO/BA | D2: =DADOS!B10 -> 0.2081 | F2: ='ORÇAMENTO ANALÍTICO'!I2 -> Não Desonerado: embutido nos preços unitário dos insumos de mão de obra, de acordo com as bases.
A5: COMPOSIÇÕES PRÓRIAS
A7: 3.5 | B7: Código | C7: Banco | D7: Descrição | E7: Tipo | G7: Und | H7: Quant. | I7: Valor Unit | J7: Total
A8: Composição | B8: AV 0048 | C8: Próprio | D8: Cinta de confinamento em meio fio de concreto pre moldado, seção 20X15cm | E8: PAVI - PAVIMENTAÇÃO | G8: M | H8: 1 | I8: 56.78 | J8: 56.78
A9: Composição Auxiliar | B9: 88261 | C9: SINAPI | D9: CARPINTEIRO DE ESQUADRIAS COM ENCARGOS COMPLEMENTARES | E9: Livro SINAPI: Cálculos e Parâmetros | G9: H | H9: 0.0047 | I9: 31.99 | J9: 0.15
A10: Composição Auxiliar | B10: 88309 | C10: SINAPI | D10: PEDREIRO COM ENCARGOS COMPLEMENTARES | E10: Livro SINAPI: Cálculos e Parâmetros | G10: H | H10: 0.1847 | I10: 33.52 | J10: 6.19
A11: Composição Auxiliar | B11: 88316 | C11: SINAPI | D11: SERVENTE COM ENCARGOS COMPLEMENTARES | E11: Livro SINAPI: Cálculos e Parâmetros | G11: H | H11: 0.4671 | I11: 24.37 | J11: 11.38
A12: Composição Auxiliar | B12: 93358 | C12: SINAPI | D12: ESCAVAÇÃO MANUAL DE VALA. AF_09/2024 | E12: Escavação de Valas | G12: m³ | H12: 0.03 | I12: 96.4 | J12: 2.89
A13: Insumo | B13: 00001379 | C13: SINAPI | D13: CIMENTO PORTLAND COMPOSTO CP II-32 | E13: Material | G13: KG | H13: 5.1684 | I13: 0.95 | J13: 4.9
A14: Insumo | B14: 00000370 | C14: SINAPI | D14: AREIA MEDIA - POSTO JAZIDA/FORNECEDOR (RETIRADO NA JAZIDA, SEM TRANSPORTE) | E14: Material | G14: m³ | H14: 0.0022 | I14: 144.05 | J14: 0.31
A15: Insumo | B15: 00041679 | C15: SINAPI | D15: MEIO-FIO OU GUIA DE CONCRETO PRE-MOLDADO, COMP 1 M, *20 X 12/15* CM (H X L1/L2) | E15: Material | G15: UN | H15: 1.25 | I15: 22.93 | J15: 28.66
A16: Insumo | B16: 00004721 | C16: SINAPI | D16: PEDRA BRITADA N. 1 (9,5 A 19 MM) POSTO PEDREIRA/FORNECEDOR, SEM FRETE | E16: Material | G16: m³ | H16: 0.0034 | I16: 116.09 | J16: 0.39
A17: Insumo | B17: 00004718 | C17: SINAPI | D17: PEDRA BRITADA N. 2 (19 A 38 MM) POSTO PEDREIRA/FORNECEDOR, SEM FRETE | E17: Material | G17: m³ | H17: 0.007 | I17: 116.7 | J17: 0.81
A18: Insumo | B18: 00000367 | C18: SINAPI | D18: AREIA GROSSA - POSTO JAZIDA/FORNECEDOR (RETIRADO NA JAZIDA, SEM TRANSPORTE) | E18: Material | G18: m³ | H18: 0.0076 | I18: 145.93 | J18: 1.1
E19: MO sem LS => | F19: 13.69 | G19: LS => | H19: 0 | I19: MO com LS => | J19: 13.69
E20: Valor do BDI => | F20: 13.64 | H20: Valor com BDI => | J20: 70.42
A22: 4.4 | B22: Código | C22: Banco | D22: Descrição | E22: Tipo | G22: Und | H22: Quant. | I22: Valor Unit | J22: Total
A23: Composição | B23: AV 0044 | C23: Próprio | D23: Piso tátil direcional e/ou alerta, de concreto, na cor natural, p/deficientes visuais, dimensões 25x25cm, aplicado com argamassa industrializada ac-ii, rejuntado, exclusive regularização de base | E23: ASTU - ASSENTAMENTO DE TUBOS E PECAS | G23: m² | H23: 1 | I23: 151.7 | J23: 151.7
A24: Composição Auxiliar | B24: 88316 | C24: SINAPI | D24: SERVENTE COM ENCARGOS COMPLEMENTARES | E24: Livro SINAPI: Cálculos e Parâmetros | G24: H | H24: 1.2 | I24: 24.37 | J24: 29.24
A25: Composição Auxiliar | B25: 88309 | C25: SINAPI | D25: PEDREIRO COM ENCARGOS COMPLEMENTARES | E25: Livro SINAPI: Cálculos e Parâmetros | G25: H | H25: 0.5 | I25: 33.52 | J25: 16.76
A26: Insumo | B26: 00034357 | C26: SINAPI | D26: REJUNTE CIMENTICIO, QUALQUER COR | E26: Material | G26: KG | H26: 0.52 | I26: 5.16 | J26: 2.68
A27: Insumo | B27: 00034353 | C27: SINAPI | D27: ARGAMASSA COLANTE AC II | E27: Material | G27: KG | H27: 4 | I27: 1.63 | J27: 6.52
A28: Insumo | B28: 00036178 | C28: SINAPI | D28: PISO TATIL / PODOTATIL, LADRILHO HIDRAULICO/CONCRETO, *40 X 40* CM, E= 2,5* CM, PADRAO TATIL ALERTA OU DIRECIONAL, COR NATURAL | E28: Material | G28: UN | H28: 6.25 | I28: 15.44 | J28: 96.5
E29: MO sem LS => | F29: 30.85 | G29: LS => | H29: 0 | I29: MO com LS => | J29: 30.85
E30: Valor do BDI => | F30: 36.45 | H30: Valor com BDI => | J30: 188.15
A32: 4.5 | B32: Código | C32: Banco | D32: Descrição | E32: Tipo | G32: Und | H32: Quant. | I32: Valor Unit | J32: Total
A33: Composição | B33: AV 0045 | C33: Próprio | D33: PASSAGEM D'ÁGUA A SER IMPLANTADA EM PASSEIOS , CONFORME DETALHE EM PROJETO | E33: PAVI - PAVIMENTAÇÃO | G33: UN | H33: 1 | I33: 1177.82 | J33: 1177.82
A34: Composição Auxiliar | B34: 101963 | C34: SINAPI | D34: LAJE PRÉ-MOLDADA UNIDIRECIONAL, BIAPOIADA, PARA PISO, ENCHIMENTO EM CERÂMICA, VIGOTA CONVENCIONAL, ALTURA TOTAL DA LAJE "LT" = 12 CM (ENCHIMENTO+CAPA) = (8+4). AF_08/2025 | E34: Lajes Pré-Moldadas | G34: m² | H34: 2.1 | I34: 191.42 | J34: 401.98
A35: Composição Auxiliar | B35: 94994 | C35: SINAPI | D35: EXECUÇÃO DE PASSEIO (CALÇADA) OU PISO DE CONCRETO COM CONCRETO MOLDADO IN LOCO, FEITO EM OBRA, ACABAMENTO CONVENCIONAL, ESPESSURA 8 CM, ARMADO. AF_08/2022 | E35: Passeios de Concreto | G35: m² | H35: 6.62 | I35: 106.37 | J35: 704.16
A36: Insumo | B36: 00043386 | C36: SINAPI | D36: MEIO-FIO OU GUIA DE CONCRETO PRE-MOLDADO, TIPO CHAPEU PARA BOCA DE LOBO, DIMENSOES *1,20* X 0,15 X 0,30 M | E36: Material | G36: UN | H36: 2 | I36: 35.84 | J36: 71.68
E37: MO sem LS => | F37: 212.02 | G37: LS => | H37: 0 | I37: MO com LS => | J37: 212.02
E38: Valor do BDI => | F38: 283.03 | H38: Valor com BDI => | J38: 1460.85
A40: 5.1 | B40: Código | C40: Banco | D40: Descrição | E40: Tipo | G40: Und | H40: Quant. | I40: Valor Unit | J40: Total
A41: Composição | B41: AV 0046 | C41: Próprio | D41: SINALIZAÇÃO PERMANENTE, VERTICAL, COM PLACA DE AÇO NUM 16 E PINTURA REFLETIVA (40cm) COMPOSTE DE TUBO GALVANIZADO 3,20m FIXADO EM BASE DE CONCRETO 30x30x50cm -FORNECIMENTO E INSTALAÇÃO, INCLUSIVE ESCAVAÇÃO E REATERRO. | E41: PAVI - PAVIMENTAÇÃO | G41: UN | H41: 1 | I41: 676.13 | J41: 676.13
A42: Composição Auxiliar | B42: 88316 | C42: SINAPI | D42: SERVENTE COM ENCARGOS COMPLEMENTARES | E42: Livro SINAPI: Cálculos e Parâmetros | G42: H | H42: 1 | I42: 24.37 | J42: 24.37
A43: Composição Auxiliar | B43: 93358 | C43: SINAPI | D43: ESCAVAÇÃO MANUAL DE VALA. AF_09/2024 | E43: Escavação de Valas | G43: m³ | H43: 0.045 | I43: 96.4 | J43: 4.33
A44: Composição Auxiliar | B44: 88315 | C44: SINAPI | D44: SERRALHEIRO COM ENCARGOS COMPLEMENTARES | E44: Livro SINAPI: Cálculos e Parâmetros | G44: H | H44: 1.2 | I44: 33.29 | J44: 39.94
A45: Composição Auxiliar | B45: 94975 | C45: SINAPI | D45: CONCRETO FCK = 15MPA, TRAÇO 1:3,4:3,5 (EM MASSA SECA DE CIMENTO/ AREIA MÉDIA/ BRITA 1) - PREPARO MANUAL. AF_05/2021 | E45: Produção de Concreto | G45: m³ | H45: 0.045 | I45: 601.54 | J45: 27.06
A46: Insumo | B46: 00004513 | C46: SINAPI | D46: CAIBRO 5 X 5 CM EM PINUS, MISTA OU EQUIVALENTE DA REGIAO - BRUTA | E46: Material | G46: M | H46: 2 | I46: 7.11 | J46: 14.22
...

Sheet CRONOGRAMA
B1: Obra | E1: Bancos | G1: B.D.I.
B2: =DADOS!B8 -> Construção de Centro de Atenção Psicossocial Tipo I, no Município de PORTO SEGURO/BA | E2: =DADOS!B9 -> SINAPI 02/2026 | G2: =DADOS!B10 -> 0.2081
A4: CRONOGRAMA FÍSICO-FINANCEIRO
A6: Item | B6: Descrição | C6: Peso | D6: =SUM(D7:D18) -> #N/A | E6: MÊS 1 | F6: MÊS 2 | G6: MÊS 3 | H6: MÊS 4 | I6: MÊS 5
A7: 1 | B7: =VLOOKUP(A7,'ORÇAMENTO SINTÉTICO'!$A$7:$I$471,4,0) -> #N/A | C7: =VLOOKUP(A7,'ORÇAMENTO SINTÉTICO'!$A$7:$I$477,10,0) -> #N/A | D7: =VLOOKUP(A7,'ORÇAMENTO SINTÉTICO'!$A$7:$I$471,9,0) -> #N/A | E7: 1 | F7: 0 | G7: 0 | H7: 0 | I7: 0
E8: =E7*$D7 -> #N/A | F8: =F7*$D7 -> #N/A | G8: =G7*$D7 -> #N/A | H8: =H7*$D7 -> #N/A | I8: =I7*$D7 -> #N/A
A9: 2 | B9: =VLOOKUP(A9,'ORÇAMENTO SINTÉTICO'!$A$7:$I$471,4,0) -> #N/A | C9: =VLOOKUP(A9,'ORÇAMENTO SINTÉTICO'!$A$7:$I$477,10,0) -> #N/A | D9: =VLOOKUP(A9,'ORÇAMENTO SINTÉTICO'!$A$7:$I$471,9,0) -> #N/A | E9: 0.2 | F9: 0.2 | G9: 0.2 | H9: 0.2 | I9: 0.2
E10: =E9*$D9 -> #N/A | F10: =F9*$D9 -> #N/A | G10: =G9*$D9 -> #N/A | H10: =H9*$D9 -> #N/A | I10: =I9*$D9 -> #N/A
A11: 3 | B11: =VLOOKUP(A11,'ORÇAMENTO SINTÉTICO'!$A$7:$I$471,4,0) -> #N/A | C11: =VLOOKUP(A11,'ORÇAMENTO SINTÉTICO'!$A$7:$I$477,10,0) -> #N/A | D11: =VLOOKUP(A11,'ORÇAMENTO SINTÉTICO'!$A$7:$I$471,9,0) -> #N/A | E11: 0.2 | F11: 0.2 | G11: 0.2 | H11: 0.2 | I11: 0.2
E12: =E11*$D11 -> #N/A | F12: =F11*$D11 -> #N/A | G12: =G11*$D11 -> #N/A | H12: =H11*$D11 -> #N/A | I12: =I11*$D11 -> #N/A
A13: 4 | B13: =VLOOKUP(A13,'ORÇAMENTO SINTÉTICO'!$A$7:$I$471,4,0) -> ALVENARIA, VEDAÇÕES E DIVISÓRIAS | C13: =VLOOKUP(A13,'ORÇAMENTO SINTÉTICO'!$A$7:$I$477,10,0) -> #REF! | D13: =VLOOKUP(A13,'ORÇAMENTO SINTÉTICO'!$A$7:$I$471,9,0) -> 224273.76 | E13: 0.2 | F13: 0.2 | G13: 0.2 | H13: 0.2 | I13: 0.2
E14: =E13*$D13 -> 44854.752 | F14: =F13*$D13 -> 44854.752 | G14: =G13*$D13 -> 44854.752 | H14: =H13*$D13 -> 44854.752 | I14: =I13*$D13 -> 44854.752
A15: 5 | B15: =VLOOKUP(A15,'ORÇAMENTO SINTÉTICO'!$A$7:$I$471,4,0) -> COBERTURA | C15: =VLOOKUP(A15,'ORÇAMENTO SINTÉTICO'!$A$7:$I$477,10,0) -> #REF! | D15: =VLOOKUP(A15,'ORÇAMENTO SINTÉTICO'!$A$7:$I$471,9,0) -> 102450.27 | E15: 0.2 | F15: 0.2 | G15: 0.2 | H15: 0.2 | I15: 0.2
E16: =E15*$D15 -> 20490.054 | F16: =F15*$D15 -> 20490.054 | G16: =G15*$D15 -> 20490.054 | H16: =H15*$D15 -> 20490.054 | I16: =I15*$D15 -> 20490.054 | K16: =D7/I28 -> #N/A
A17: 6 | B17: =VLOOKUP(A17,'ORÇAMENTO SINTÉTICO'!$A$7:$I$471,4,0) -> IMPERMEABILIZAÇÃO | C17: =VLOOKUP(A17,'ORÇAMENTO SINTÉTICO'!$A$7:$I$477,10,0) -> #REF! | D17: =VLOOKUP(A17,'ORÇAMENTO SINTÉTICO'!$A$7:$I$471,9,0) -> 44083.17 | E17: 0 | F17: 0 | G17: 0 | H17: 0.5 | I17: 0.5
E18: =E17*$D17 -> 0 | F18: =F17*$D17 -> 0 | G18: =G17*$D17 -> 0 | H18: =H17*$D17 -> 22041.585 | I18: =I17*$D17 -> 22041.585
D25: Custo Mensal | E25: =E8+E10+E12+E14+E16+E18 -> #N/A | F25: =F8+F10+F12+F14+F16+F18 -> #N/A | G25: =G8+G10+G12+G14+G16+G18 -> #N/A | H25: =H8+H10+H12+H14+H16+H18 -> #N/A | I25: =I8+I10+I12+I14+I16+I18 -> #N/A | K25: =$K$16*E25 -> #N/A | L25: =$K$16*F25 -> #N/A | M25: =$K$16*G25 -> #N/A | N25: =$K$16*H25 -> #N/A | O25: =$K$16*I25 -> #N/A
D26: % mensal | E26: =E25/$D$6 -> #N/A | F26: =F25/$D$6 -> #N/A | G26: =G25/$D$6 -> #N/A | H26: =H25/$D$6 -> #N/A | I26: =I25/$D$6 -> #N/A | K26: =K25/$D$7 -> #N/A | L26: =L25/$D$7 -> #N/A | M26: =M25/$D$7 -> #N/A | N26: =N25/$D$7 -> #N/A | O26: =O25/$D$7 -> #N/A
D28: Custo Acumulado | E28: =E25 -> #N/A | F28: =F25+E28 -> #N/A | G28: =G25+F28 -> #N/A | H28: =H25+G28 -> #N/A | I28: =I25+H28 -> #N/A
D29: % acumulado | E29: =E28/$D$6 -> #N/A | F29: =F28/$D$6 -> #N/A | G29: =G28/$D$6 -> #N/A | H29: =H28/$D$6 -> #N/A | I29: =I28/$D$6 -> #N/A
A35: =DADOS!B5 -> PORTO SEGURO/BA | E35: =DADOS!B20 -> 46323
A36: Local | E36: Data
A44: Responsável Técnico
A45: Nome: | B45: =DADOS!B16 -> Andressa Vasconcelos Porto
A46: Título: | B46: =DADOS!B17 -> Engenheira Civil
A47: CREA/CAU: | B47: =DADOS!B18 -> CREA/BA 052288016-9

Sheet COTAÇÕES
B1: Obra | D1: B.D.I.
B2: =DADOS!B8 -> Construção de Centro de Atenção Psicossocial Tipo I, no Município de PORTO SEGURO/BA | D2: =DADOS!B10 -> 0.2081
A6: COTAÇÕES DE MERCADO
B8: ITEM 1: PRESSURIZADOR DE ÁGUA MAX PRESS 270 VF MONOFASICO 220V
B9: EMPRESA | C9: VALOR | D9: FRETE | E9: TOTAL
B10: RICARDO BOMBAS | C10: 12615 | D10: 0 | E10: =C10+D10 -> 12615
B11: CNPJ: 57.653.825/0001-22
B12: https://www.ricardobombas.com.br/pressurizadorrowamaxpress270vfmonofsico220v/prod-5423892/
B13: LEROY MERLIN | C13: 12959.8 | D13: 247.1 | E13: =C13+D13 -> 13206.9
B14: CNPJ: 01.438.784/0048-60
B15: https://www.leroymerlin.com.br/pressurizador-rowa-max-press-270-vf-mono-220v_1567096419#caracteristicas-tecnicas
B16: SOLAR NET AQUECEDORES LTDA | C16: 13422.07 | D16: 708.6 | E16: =C16+D16 -> 14130.67
B17: CNPJ: 60.451.117/0001-13
B18: https://www.solarnetaquecedores.com.br/pressurizador-maxpress-270vf-mono-rowa?utm_source=Site&utm_medium=GoogleShopping&utm_campaign=IntegracaoGoogle&
B19: MEDIANA: | E19: =MEDIAN(E10,E13,E16) -> 13206.9
B20: DATA DA COTAÇÃO: 26/04/2026
B21: ITEM 2: PRESSURIZADOR MAX PRESS 20E
B22: EMPRESA | C22: VALOR | D22: FRETE | E22: TOTAL
B23: MÉRITO COMERCIO DE EQUIPAMENTOS LTDA | C23: 2842.6 | D23: 0 | E23: =C23+D23 -> 2842.6
B24: CNPJ: 01.582.892/0001-49
B25: https://www.meritocomercial.com.br/pressurizador-rowa-max-press-20e-1-2cv-monofasico-220v-p27f182m094054-p1090460?tsid=75&gad_source=4&gad_campaignid=
B26: LEROY MERLIN | C26: 4245.2 | D26: 115.7 | E26: =C26+D26 -> 4360.9
B27: CNPJ: 01.438.784/0048-60
B28: https://www.leroymerlin.com.br/pressurizador-para-sistema-hidraulico-220v-max-press-20e-0,5hp-rowa_91076223
B29: RICARDO BOMBAS | C29: 3970 | D29: 117.75 | E29: =C29+D29 -> 4087.75
B30: CNPJ: 57.653.825/0001-22
B31: https://www.ricardobombas.com.br/pressurizadorrowamaxpress20emonofsico220v/prod-1186963/
B32: MEDIANA: | E32: =MEDIAN(E23,E26,E29) -> 4087.75
B33: DATA DA COTAÇÃO: 26/04/2026
B34: ITEM 3: RESERVATÓRIO METÁLICO TIPO TAÇA 25000L H<= 10M DE ALTURA
B35: EMPRESA | C35: VALOR | D35: FRETE | E35: TOTAL
B36: STOCKCAIXAS | C36: 44617 | D36: 13600 | E36: =C36+D36 -> 58217
B37: CNPJ: 34.683.026/0001-01
B38: Anexo Pasta
B39: CAIXA D' AGUA BRASIL LTDA - ME | C39: 35723 | D39: 2470 | E39: =C39+D39 -> 38193
B40: CNPJ: 03.113.840/0001-59
B41: Anexo Pasta
B42: FAZFORTE METALURGICA | C42: 57723 | D42: 0 | E42: =C42+D42 -> 57723
B43: CNPJ: 22.600.664/0001-24
B44: Anexo Pasta
...

Sheet PLANILHA REPROGRAMAÇÃO
A1: 01 – NOME DA PREFEITURA PROPONENTE: | E1: 02 – DESCRIÇÃO:
A2: =DADOS!B4 -> PREFEITURA MUNICIPAL DE PORTO SEGURO | E2: =DADOS!B8 -> Construção de Centro de Atenção Psicossocial Tipo I, no Município de PORTO SEGURO/BA
A3: 03 –LOCALIDADE: | E3: 04 –DATA: | G3: 05 - BANCOS: | I3: 06 - BDI
A4: =DADOS!B5 -> PORTO SEGURO/BA | E4: =J69 -> 0 | G4: =DADOS!B9 -> SINAPI 02/2026 | I4: =DADOS!B10 -> 0.2081
A6: PLANILHA DE REPROGRAMAÇÃO
A8: Item | B8: Código | C8: Banco | D8: Descrição | E8: Und | F8: Quant. Licitada | G8: Valor Unit com BDI | H8: Total Licitado | I8: Quant. Suprimida | J8: Quant. Acrescida | K8: Quant. Reprogramada | L8: Valor Suprimido | M8: Valor Acrescido | N8: Total Reprogramado
A9: 1 | D9: SERVIÇOS PRELIMINARES
H10: =ROUND(G10*F10,2) -> 0 | K10: =F10-I10+J10 -> 0 | L10: =ROUND(I10*G10,2) -> 0 | M10: =ROUND(J10*G10,2) -> 0 | N10: =ROUND(K10*G10,2) -> 0
H11: =ROUND(G11*F11,2) -> 0 | K11: =F11-I11+J11 -> 0 | L11: =ROUND(I11*G11,2) -> 0 | M11: =ROUND(J11*G11,2) -> 0 | N11: =ROUND(K11*G11,2) -> 0
H12: =ROUND(G12*F12,2) -> 0 | K12: =F12-I12+J12 -> 0 | L12: =ROUND(I12*G12,2) -> 0 | M12: =ROUND(J12*G12,2) -> 0 | N12: =ROUND(K12*G12,2) -> 0
H13: =ROUND(G13*F13,2) -> 0 | K13: =F13-I13+J13 -> 0 | L13: =ROUND(I13*G13,2) -> 0 | M13: =ROUND(J13*G13,2) -> 0 | N13: =ROUND(K13*G13,2) -> 0
H14: =ROUND(G14*F14,2) -> 0 | K14: =F14-I14+J14 -> 0 | L14: =ROUND(I14*G14,2) -> 0 | M14: =ROUND(J14*G14,2) -> 0 | N14: =ROUND(K14*G14,2) -> 0
H15: =ROUND(G15*F15,2) -> 0 | K15: =F15-I15+J15 -> 0 | L15: =ROUND(I15*G15,2) -> 0 | M15: =ROUND(J15*G15,2) -> 0 | N15: =ROUND(K15*G15,2) -> 0
H16: =ROUND(G16*F16,2) -> 0 | K16: =F16-I16+J16 -> 0 | L16: =ROUND(I16*G16,2) -> 0 | M16: =ROUND(J16*G16,2) -> 0 | N16: =ROUND(K16*G16,2) -> 0
H17: =ROUND(G17*F17,2) -> 0 | K17: =F17-I17+J17 -> 0 | L17: =ROUND(I17*G17,2) -> 0 | M17: =ROUND(J17*G17,2) -> 0 | N17: =ROUND(K17*G17,2) -> 0
H18: =ROUND(G18*F18,2) -> 0 | K18: =F18-I18+J18 -> 0 | L18: =ROUND(I18*G18,2) -> 0 | M18: =ROUND(J18*G18,2) -> 0 | N18: =ROUND(K18*G18,2) -> 0
H19: =ROUND(G19*F19,2) -> 0 | K19: =F19-I19+J19 -> 0 | L19: =ROUND(I19*G19,2) -> 0 | M19: =ROUND(J19*G19,2) -> 0 | N19: =ROUND(K19*G19,2) -> 0
H20: =ROUND(G20*F20,2) -> 0 | K20: =F20-I20+J20 -> 0 | L20: =ROUND(I20*G20,2) -> 0 | M20: =ROUND(J20*G20,2) -> 0 | N20: =ROUND(K20*G20,2) -> 0
H21: =ROUND(G21*F21,2) -> 0 | K21: =F21-I21+J21 -> 0 | L21: =ROUND(I21*G21,2) -> 0 | M21: =ROUND(J21*G21,2) -> 0 | N21: =ROUND(K21*G21,2) -> 0
... H59: =ROUND(G59*F59,2) -> 0 | K59: =F59-I59+J59 -> 0 | L59: =ROUND(I59*G59,2) -> 0 | M59: =ROUND(J59*G59,2) -> 0 | N59: =ROUND(K59*G59,2) -> 0
L61: TOTAL LICITADO:
L63: Valor Suprimido:
L64: Valor Acrescido:
L66: TOTAL REPROGRAMADO:
L67: TOTAL DO ADITIVO: | N67: =N66-N61 -> 0
A69: =DADOS!B5 -> PORTO SEGURO/BA
A70: Local | J70: Data
A78: Responsável Técnico
A79: Nome: | C79: =DADOS!B42 -> 0
A80: Título: | C80: =DADOS!B43 -> 0
A81: CREA/CAU: | C81: =DADOS!B44 -> 0

Sheet PLANILHA SERVIÇOS EXTRAS
A1: 01 – NOME DA PREFEITURA PROPONENTE: | E1: 02 – DESCRIÇÃO:
A2: =DADOS!B4 -> PREFEITURA MUNICIPAL DE PORTO SEGURO | E2: =DADOS!B8 -> Construção de Centro de Atenção Psicossocial Tipo I, no Município de PORTO SEGURO/BA | M2: BDI | N2: =DADOS!B11 -> 1.2081
A3: 03 –LOCALIDADE: | E3: 04 –DATA: | G3: 05 - BANCOS: | I3: 06 - BDI | M3: Kappa PLANILHA: | N3: 1
