Workbook

Sheet ORÇAMENTO CREAS
B6: Estado de Goiás
B7: PREFEITURA DE MORRINHOS
B8: ASSESSORIA DE PLANEJAMENTO
B10: OBRA: Reforma do CREAS
B11: LOCAL: Rua Castro Alves esq rua Cel. João Lopes Zedes, Qd 80, Lt 4A, Centro
B13: PLANILHA ORÇAMENTÁRIA
B15: ITEM | C15: FONTE | D15: CÓD | E15: SERVIÇO | F15: UND | G15: QTD | H15: VALOR MÃO DE OBRA | I15: VALOR MATERIAL | J15: VALOR UNITÁRIO | K15: VALOR TOTAL
B16: 1 | C16: SERVIÇOS PRELIMINARES
B17: 1.1 | C17: GOINFRA | D17: 21301 | E17: PLACA OBRA PLOTADA EM CHAPA METÁLICA 26 , FIXADA CAVALETES DE MADEIRA DE LEI (VIGOTAS 6X12CM) - PADRÃO GOINFRA | F17: m² | G17: =1.5*2 -> 3 | H17: 4.5 | I17: 389.3 | J17: =H17+I17 -> 393.8 | K17: =G17*J17 -> 1181.4
B18: 1.2 | C18: GOINFRA | D18: 21610 | E18: FERRAMENTAS ELÉTRICAS, EQUIPAMENTOS E MATERIAL DE LIMPEZA PERMANENTE DA OBRA - ÁREAS EDIFICADAS/COBERTAS/FECHADAS | F18: m² | G18: =216.82+60+78.3 -> 355.12 | H18: 0 | I18: 2.51 | J18: =H18+I18 -> 2.51 | K18: =G18*J18 -> 891.3512
B19: 1.3 | C19: GOINFRA | D19: 20701 | E19: LOCAÇÃO DA OBRA, EXECUÇÃO DE GABARITO SEM REAPROVEITAMENTO, INCLUSO PINTURA (FACE INTERNA DO RIPÃO 15CM) E PIQUETE COM TESTEMUNHA | F19: m² | G19: 78.3 | H19: 2.29 | I19: 3.89 | J19: =H19+I19 -> 6.18 | K19: =G19*J19 -> 483.894
B20: 1.4 | C20: GOINFRA | D20: 250103 | E20: ENCARREGADO - (OBRAS CIVIS) | F20: mês | G20: 4 | H20: 7065.22 | I20: 0 | J20: =H20+I20 -> 7065.22 | K20: =G20*J20 -> 28260.88
B21: TOTAL | K21: =SUM(K17:K20) -> 30817.525
B22: 2 | C22: DEMOLIÇÕES E LIMPEZA
B23: 2.1 | C23: GOINFRA | D23: 20118 | E23: DEMOLIÇÃO MANUAL ALVENARIA TIJOLO SEM REAPROVEITAMENTO COM TRANSPORTE ATE CAÇAMBA E CARGA | F23: m³ | G23: 4.27 | H23: 59.43 | I23: 0 | J23: =H23+I23 -> 59.43 | K23: =G23*J23 -> 253.7661
B24: 2.2 | C24: GOINFRA | D24: 20106 | E24: REMOÇÃO MANUAL JANELA OU PORTAL COM TRANSPORTE ATÉ CAÇAMBA E CARGA | F24: m² | G24: =2.53+5.46 -> 7.99 | H24: 9.5 | I24: 0 | J24: =H24+I24 -> 9.5 | K24: =G24*J24 -> 75.905
B25: 2.3 | C25: GOINFRA | D25: 20109 | E25: DEMOLIÇÃO MANUAL DE PISO CIMENTICIO SOBRE LASTRO DE CONCRETO COM TRANSPORTE ATE CAÇAMBA E CARGA | F25: m² | G25: =17.7+41.6 -> 59.3 | H25: 21.63 | I25: 0 | J25: =H25+I25 -> 21.63 | K25: =G25*J25 -> 1282.659
B26: 2.4 | C26: GOINFRA | D26: 20202 | E26: RASPAGEM E LIMPEZA MANUAL DO TERRENO | F26: m² | G26: 41.6 | H26: 4.17 | I26: 0 | J26: =H26+I26 -> 4.17 | K26: =G26*J26 -> 173.472
B27: TOTAL | K27: =SUM(K23:K26) -> 1785.8021
B28: 3 | C28: INFRAESTRUTURA
B29: 3.1 | C29: FUNDAÇÃO
B30: 3.1.1 | C30: GOINFRA | D30: 50303 | E30: ESTACA A TRADO MANUAL (BROCA) Ø 25 CM EM CONCRETO FCK 20MPA, SEM ARMADURA | F30: m | G30: 60 | H30: 38.2 | I30: 28.37 | J30: =H30+I30 -> 66.57 | K30: =G30*J30 -> 3994.2
B31: 3.1.2 | C31: GOINFRA | D31: 52005 | E31: ACO CA-50 - 10,0 MM (3/8") - (OBRAS CIVIS) | F31: kg | G31: 132 | H31: 4.12 | I31: 7.83 | J31: =H31+I31 -> 11.95 | K31: =G31*J31 -> 1577.4
B32: 3.1.3 | C32: GOINFRA | D32: 52014 | E32: ACO CA-60 - 5,0 MM - (OBRAS CIVIS) | F32: kg | G32: 18.7 | H32: 3.6 | I32: 8.53 | J32: =H32+I32 -> 12.13 | K32: =G32*J32 -> 226.831
B33: 3.1.4 | C33: GOINFRA | D33: 60507 | E33: PREPARO COM BETONEIRA E TRANSPORTE MANUAL DE CONCRETO FCK-20 - (O.C.) | F33: m³ | G33: 5.4 | H33: 123.01 | I33: 481.25 | J33: =H33+I33 -> 604.26 | K33: =G33*J33 -> 3263.004
B34: 3.1.5 | C34: GOINFRA | D34: 51026 | E34: LANÇAMENTO/APLICAÇÃO/ADENSAMENTO CONCRETO EM FUNDAÇÃO(O.C.) | F34: m³ | G34: 5.4 | H34: 59.13 | I34: 0.13 | J34: =H34+I34 -> 59.26 | K34: =G34*J34 -> 320.004
B35: 3.2 | C35: VIGA BALDRAME
B36: 3.2.1 | C36: GOINFRA | D36: 40101 | E36: ESCAVACAO MANUAL DE VALAS < 1 MTS. (OBRAS CIVIS) | F36: m³ | G36: 3.09 | H36: 53.52 | I36: 0 | J36: =H36+I36 -> 53.52 | K36: =G36*J36 -> 165.3768
B37: 3.2.2 | C37: GOINFRA | D37: 52004 | E37: ACO CA-50 - 10,0 MM (3/8") - (OBRAS CIVIS) | F37: kg | G37: 187.22 | H37: 4.12 | I37: 8.04 | J37: =H37+I37 -> 12.16 | K37: =G37*J37 -> 2276.5952
B38: 3.2.3 | C38: GOINFRA | D38: 52014 | E38: ACO CA-60 - 4.2 MM - (OBRAS CIVIS) | F38: kg | G38: 42.73 | H38: 3.6 | I38: 8.53 | J38: =H38+I38 -> 12.13 | K38: =G38*J38 -> 518.3149
B39: 3.2.4 | C39: GOINFRA | D39: 51055 | E39: LANÇAMENTO/APLICAÇÃO/ADENSAMENTO MANUAL DE CONCRETO - (O.C.) | F39: m³ | G39: 3.4 | H39: 70.96 | I39: 0 | J39: =H39+I39 -> 70.96 | K39: =G39*J39 -> 241.264
B40: 3.2.5 | C40: GOINFRA | D40: 60507 | E40: PREPARO COM BETONEIRA E TRANSPORTE MANUAL DE CONCRETO FCK-20 | F40: m³ | G40: 3.4 | H40: 123.01 | I40: 481.25 | J40: =H40+I40 -> 604.26 | K40: =G40*J40 -> 2054.484
B41: 3.2.6 | C41: GOINFRA | D41: 60191 | E41: FORMA DE TABUA CINTA BALDRAME U=8 VEZES | F41: m² | G41: 41.18 | H41: 15.71 | I41: 26.16 | J41: =H41+I41 -> 41.87 | K41: =G41*J41 -> 1724.2066
B42: 3.2.7 | C42: GOINFRA | D42: 120903 | E42: IMPERMEAB VIGAS BALDRAMES COM EMULSÃO ASFÁLTICA(2 DEMÃOS) | F42: m² | G42: 50.1 | H42: 9.58 | I42: 6.77 | J42: =H42+I42 -> 16.35 | K42: =G42*J42 -> 819.135
B43: TOTAL | J43: =H43+I43 -> 0 | K43: =SUM(K29:K42) -> 17180.816
B44: 4 | C44: SUPERESTRUTURA
B45: 4.1 | C45: PILAR
B46: 4.1.1 | C46: GOINFRA | D46: 52005 | E46: ACO CA-50 - 10,0 MM (3/8") - (OBRAS CIVIS) | F46: kg | G46: 218.24 | H46: 4.12 | I46: 7.83 | J46: =H46+I46 -> 11.95 | K46: =G46*J46 -> 2607.968
B47: 4.1.2 | C47: GOINFRA | D47: 52014 | E47: ACO CA-60 - 5,0 MM - (OBRAS CIVIS) | F47: kg | G47: 54.88 | H47: 3.6 | I47: 8.53 | J47: =H47+I47 -> 12.13 | K47: =G47*J47 -> 665.6944
B48: 4.1.3 | C48: GOINFRA | D48: 51055 | E48: LANÇAMENTO/APLICAÇÃO/ADENSAMENTO MANUAL DE CONCRETO - (O.C.) | F48: m³ | G48: 3.96 | H48: 70.96 | I48: 0 | J48: =H48+I48 -> 70.96 | K48: =G48*J48 -> 281.0016
...

Sheet CRONOG CREAS
A6: Estado de Goiás
A7: PREFEITURA DE MORRINHOS
A8: ASSESSORIA DE PLANEJAMENTO
A10: OBRA: Reforma do CREAS e construção do CRIAP
A11: LOCAL: Rua Castro Alves esq rua Cel. João Lopes Zedes, Qd 80, Lt 4A, Centro
A13: CRONOGRAMA FÍSICO FINANCEIRO
A14: ITEM | B14: DESCRIÇÃO | C14: Mês 1 | E14: Mês 2 | G14: Mês 3 | I14: Mês 4 | K14: Mês 5 | M14: Somat % | N14: TOTAL
C15: Valor | D15: % | E15: Valor | F15: % | G15: Valor | H15: % | I15: Valor | J15: % | K15: VALOR | L15: % | N15: Valor | O15: %
A16: 1 | B16: SERVIÇOS PRELIMINARES | C16: =D16*N16 -> 11022.566 | D16: 0.28 | E16: =F16*N16 -> 7085.9352 | F16: 0.18 | G16: =H16*N16 -> 7085.9352 | H16: 0.18 | I16: =J16*N16 -> 7085.9352 | J16: 0.18 | K16: =L16*N16 -> 7085.9352 | L16: 0.18 | M16: =IF(P16<=100,D16+F16+H16+J16+L16,"INVALIDO") -> 1 | N16: ='ORÇAMENTO CREAS'!K21*(1+'ORÇAMENTO CREAS'!J230) -> 39366.307 | O16: =N16/$N$28 -> 0.12321407 | P16: =D16+F16+H16+J16+L16 -> 1
A17: 2 | B17: DEMOLIÇÕES E LIMPEZA | C17: =D17*N17 -> 2281.1836 | D17: 1 | E17: =F17*N17 -> 0 | G17: =H17*N17 -> 0 | I17: =J17*N17 -> 0 | K17: =L17*N17 -> 0 | M17: =IF(P17<=100,D17+F17+H17+J17+L17,"INVALIDO") -> 1 | N17: ='ORÇAMENTO CREAS'!K27*(1+'ORÇAMENTO CREAS'!J230) -> 2281.1836 | O17: =N17/$N$28 -> 0.0071399613 | P17: =D17+F17+H17+J17+L17 -> 1
A18: 3 | B18: INFRAESTRUTURA | C18: =D18*N18 -> 21946.774 | D18: 1 | E18: =F18*N18 -> 0 | G18: =H18*N18 -> 0 | I18: =J18*N18 -> 0 | K18: =L18*N18 -> 0 | M18: =IF(P18<=100,D18+F18+H18+J18+L18,"INVALIDO") -> 1 | N18: ='ORÇAMENTO CREAS'!K43*(1+'ORÇAMENTO CREAS'!J230) -> 21946.774 | O18: =N18/$N$28 -> 0.068692022 | P18: =D18+F18+H18+J18+L18 -> 1
A19: 4 | B19: SUPERESTRUTURA | C19: =D19*N19 -> 6879.4638 | D19: 0.4 | E19: =F19*N19 -> 10319.196 | F19: 0.6 | G19: =H19*N19 -> 0 | I19: =J19*N19 -> 0 | K19: =L19*N19 -> 0 | M19: =IF(P19<=100,D19+F19+H19+J19+L19,"INVALIDO") -> 1 | N19: ='ORÇAMENTO CREAS'!K65*(1+'ORÇAMENTO CREAS'!J230) -> 17198.659 | O19: =N19/$N$28 -> 0.053830723 | P19: =D19+F19+H19+J19+L19 -> 1
A20: 5 | B20: ALVENARIA E VEDAÇÕES | C20: =D20*N20 -> 18898.836 | D20: 0.4 | E20: =F20*N20 -> 28348.254 | F20: 0.6 | G20: =H20*N20 -> 0 | I20: =J20*N20 -> 0 | K20: =L20*N20 -> 0 | M20: =IF(P20<=100,D20+F20+H20+J20+L20,"INVALIDO") -> 1 | N20: ='ORÇAMENTO CREAS'!K71*(1+'ORÇAMENTO CREAS'!J230) -> 47247.09 | O20: =N20/$N$28 -> 0.14788042 | P20: =D20+F20+H20+J20+L20 -> 1
A21: 6 | B21: COBERTURA | C21: =D21*N21 -> 0 | E21: =F21*N21 -> 0 | G21: =H21*N21 -> 18284.952 | H21: 0.53 | I21: =J21*N21 -> 10694.972 | J21: 0.31 | K21: =L21*N21 -> 5519.9855 | L21: 0.16 | M21: =IF(P21<=100,D21+F21+H21+J21+L21,"INVALIDO") -> 1 | N21: ='ORÇAMENTO CREAS'!K79*(1+'ORÇAMENTO CREAS'!J230) -> 34499.909 | O21: =N21/$N$28 -> 0.10798255 | P21: =D21+F21+H21+J21+L21 -> 1
A22: 7 | B22: INSTALAÇÕES HIDROSSANIT | C22: =D22*N22 -> 0 | E22: =F22*N22 -> 0 | G22: =H22*N22 -> 3350.9304 | H22: 0.4 | I22: =J22*N22 -> 4188.6631 | J22: 0.5 | K22: =L22*N22 -> 837.73261 | L22: 0.1 | M22: =IF(P22<=100,D22+F22+H22+J22+L22,"INVALIDO") -> 1 | N22: ='ORÇAMENTO CREAS'!K138*(1+'ORÇAMENTO CREAS'!J230) -> 8377.3261 | O22: =N22/$N$28 -> 0.026220504 | P22: =D22+F22+H22+J22+L22 -> 1
A23: 8 | B23: INSTALAÇÕES ELÉTRICAS | C23: =D23*N23 -> 0 | E23: =F23*N23 -> 0 | G23: =H23*N23 -> 10861.477 | H23: 0.4 | I23: =J23*N23 -> 13576.846 | J23: 0.5 | K23: =L23*N23 -> 2715.3692 | L23: 0.1 | M23: =IF(P23<=100,D23+F23+H23+J23+L23,"INVALIDO") -> 1 | N23: ='ORÇAMENTO CREAS'!K176*(1+'ORÇAMENTO CREAS'!J230) -> 27153.692 | O23: =N23/$N$28 -> 0.084989349 | P23: =D23+F23+H23+J23+L23 -> 1
A24: 9 | B24: REVESTIMENTOS ACABAMENTOS | C24: =D24*N24 -> 0 | E24: =F24*N24 -> 0 | G24: =H24*N24 -> 8195.5341 | H24: 0.2 | I24: =J24*N24 -> 16391.068 | J24: 0.4 | K24: =L24*N24 -> 16391.068 | L24: 0.4 | M24: =IF(P24<=100,D24+F24+H24+J24+L24,"INVALIDO") -> 1 | N24: ='ORÇAMENTO CREAS'!K189*(1+'ORÇAMENTO CREAS'!J230) -> 40977.671 | O24: =N24/$N$28 -> 0.12825753 | P24: =D24+F24+H24+J24+L24 -> 1
A25: 10 | B25: ESQUADRIAS | C25: =D25*N25 -> 0 | E25: =F25*N25 -> 0 | G25: =H25*N25 -> 8355.2052 | H25: 0.5 | I25: =J25*N25 -> 8355.2052 | J25: 0.5 | K25: =L25*N25 -> 0 | M25: =IF(P25<=100,D25+F25+H25+J25+L25,"INVALIDO") -> 1 | N25: ='ORÇAMENTO CREAS'!K199*(1+'ORÇAMENTO CREAS'!J230) -> 16710.41 | O25: =N25/$N$28 -> 0.052302534 | P25: =D25+F25+H25+J25+L25 -> 1
A26: 11 | B26: PINTURA GERAL | C26: =D26*N26 -> 0 | E26: =F26*N26 -> 0 | G26: =H26*N26 -> 0 | I26: =J26*N26 -> 28922.156 | J26: 0.5 | K26: =L26*N26 -> 28922.156 | L26: 0.5 | M26: =IF(P26<=100,D26+F26+H26+J26+L26,"INVALIDO") -> 1 | N26: ='ORÇAMENTO CREAS'!K219*(1+'ORÇAMENTO CREAS'!J230) -> 57844.313 | O26: =N26/$N$28 -> 0.18104906 | P26: =D26+F26+H26+J26+L26 -> 1
A27: 12 | B27: SERVIÇOS FINAIS | C27: =D27*N27 -> 0 | E27: =F27*N27 -> 0 | G27: =H27*N27 -> 0 | I27: =J27*N27 -> 0 | K27: =L27*N27 -> 5891.8992 | L27: 1 | M27: =IF(P27<=100,D27+F27+H27+J27+L27,"INVALIDO") -> 1 | N27: ='ORÇAMENTO CREAS'!K227*(1+'ORÇAMENTO CREAS'!J230) -> 5891.8992 | O27: =N27/$N$28 -> 0.018441274 | P27: =D27+F27+H27+J27+L27 -> 1
A28: TOTAL: | C28: =SUM(C16:C27) -> 61028.823 | D28: =C29/N28 -> 0.19101638 | E28: =SUM(E16:E27) -> 45753.385 | F28: =E28/N28 -> 0.14320522 | G28: =SUM(G16:G27) -> 56134.034 | H28: =G28/N28 -> 0.175696 | I28: =SUM(I16:I27) -> 89214.846 | J28: =I28/N28 -> 0.27923686 | K28: =SUM(K16:K27) -> 67364.146 | L28: =K28/N28 -> 0.21084554 | N28: =SUM(N16:N27) -> 319495.23 | O28: =SUM(O16:O27) -> 1
A29: TOTAL ACUMULADO C/ BDI: | C29: =C28 -> 61028.823 | D29: =D28 -> 0.19101638 | E29: =C29+E28 -> 106782.21 | F29: =D29+F28 -> 0.3342216 | G29: =E29+G28 -> 162916.24 | H29: =F29+H28 -> 0.5099176 | I29: =G29+I28 -> 252131.09 | J29: =H29+J28 -> 0.78915446 | K29: =I29+K28 -> 319495.23 | L29: =J29+L28 -> 1
A31: Morrinhos - GO, 11 de junho de 2026.
A35: LEONARDO DE BESSA FREITAS
A36: ENG° CIVIL - CREA: 10221/D-GO

Sheet BDI
A3: OBRA: Reforma do Centro de Referência Especializado de Assistência Social (CREAS) e ampliação destinada ao funcionamento do Centro de Referência da Infância e Adolescência Protegida (CRIAP)
A4: LOCAL: RUA CASTRO ALVES, ESQ. C/ RUA CEL. JOÃO LOPES ZEDES, LOTE N° 04-A, QUADRA 80, CENTRO - MORRINHOS/GO, CEP: 75650-098
A6: DEMONSTRATIVO DE BDI
A8: Para o cálculo do BDI, utilizou-se o ACÓRDÃO 2.622/2013 – TCU – PLENÁRIO / PORTARIA 449/2015 PR-AGETOP
A10: Coeficientes adotados:
A12: Administração central (AC): Valores definidos a partir dos limites no Acórdão nº 2.622/2013 - TCU – Plenário. Valores médios.
A14: Lucro (L): Valores definidos a partir dos limites definidos no Acórdão nº 2.622/2013 - TCU – Plenário.
A15: Valores adotados e praticados no mercado
A17: Despesas financeiras (DF): Valor calculado pela expressão matemática do acórdão 2.369/2011 – TCU – Plenário.
A18: (Foi utilizado para o cálculo a média da Taxa SELIC do ano de 2015)
A20: Seguros + Garantias (S + G): Valores definidos a partir dos limites no Acórdão nº 2.622/2013 - TCU – Plenário.
A21: Valores médios. (Seguros contra erros de execução, incêndio e explosão, danos da natureza (vendaval, destelhamento, alagamento, inundação, desmoronamento, geadas etc.), emprego de material defeituoso ou inadequado, roubo e/ou furto qualificado, quebra de equipamentos, desmoronamento de estrutura, nas modalidades de Obras Civis em Construção (OCC); Instalação e Montagem (IM); e Obras Civis em Construção e Instalação e Montagem (OCC/IM). Bem como coberturas adicionais para ampliação dessas coberturas básicas, como: cobertura de responsabilidade civil geral, cobertura de responsabilidade civil cruzada, cobertura de despesas extraordinárias, cobertura de tumultos, cobertura de desentulho do local, cobertura de riscos do fabricante, dentre outras, incluindo o seguro de vida em grupo regido pela convenção coletiva dos trabalhadores na indústria da construção civil). A partir de 24/02/2015 por intermédio da Portaria 449/2015 a Presidência desta casa, na pessoa do Senhor Jayme Eduardo Rincon, determinou a exclusão dos valores referentes aos Seguros de Risco de Engenharia e Responsabilidade Civil do Profissional na composição do cálculo do B.D.I..
... A36: 1 - BDI PARA OBRAS DE EDIFICAÇÕES
A38: BDI GERAL | C38: Administração central | D38: Lucro | E38: Despesas financeiras | F38: Seguros + Garantias | G38: Riscos | H38: Tributos | I38: Resultado
C39: 0.04 | D39: 0.0225 | E39: 0.01 | F39: 0.0012 | G39: 0.0097 | H39: 0.1104 | I39: 0.28
A41: A fórmula para estipulação da taxa de BDI estimado adotado é a mesma que foi aplicada para a obtenção das tabelas contidas no Acórdão n. 2.622/2013 – TCUPlenário:
A43: BDI = (1+AC+S+R+G)*(1+DF)*(1+L) -1
A44: (1-l)
A46: BDI= (1+0,04+0,0006+0,0097+0,0006).(1+0,01).(1+0,0225) -1 = 22,00%
A47: (1-0,1104)
A48: Morrinhos - GO, 02 de junho de 2026.
A49: ________________________________________________________
A52: LEONARDO DE BESSA FREITAS
A53: ENG° CIVIL - CREA: 10221/D-GO
